{"text_format":"1","workbook":"xlsx","n_sheets":23,"sheets":["Notes","Summary","Population Pyramid","Index","All Districts unrounded","England & Wales","South East","Kent+Med","ASH","CAN","DAR","DOV","F&H","GRA","MAI","MED","SEV","SWA","THA","TON","TUN","Kent","Workbook Methodology"],"not_rendered":{"charts":3,"images":3,"macros":1,"external_links":0,"defined_names":0,"comments":0,"pivot_tables":0},"unopened":[],"bounds":{"document_bytes":16777216,"sheet_cells":100000,"rows_first":2000,"rows_last":500,"rows_between":2000,"halvings":0,"cell_chars":16384,"cell_head_chars":4096},"cells_cut":0,"cells_raw":0,"read":"whole","date_system":"1900"}

{"sheet":"Notes","index":0,"n_rows":20,"n_cols":13,"rows_kept":20,"cut":false,"hidden":false,"merged":[[3,1,3,12],[11,1,11,12],[9,1,9,12],[4,1,4,12],[7,1,7,12],[5,1,5,12],[6,1,6,12]]}
[]
[null,"Interactive census population toolkit",null,null,null,null,null,null,null,null,null,null,"Version date: 2 November 2022"]
[]
[null,"This file presents the population by age and sex from the 2001, 2011 and 2021 Census for Kent and individual Kent districts.  "]
[null,"The summary allows users to:-  "]
[null,"see a chart of male, female and total population by age between 2001,2011, and 2021 for you chosen area"]
[null,"see the number and percentage change in male, female and total population between the years 2001 and 2011, and 2011 and 2021 for a single selected area.  "]
[null,"see change in population for between the years 2001, 2011, and 2021.  "]
[]
[null,"Choose between 2001, 2011, and 2021 to see the full age profile by 5 year age group for your selected area for each Census year.  "]
[]
[null,"The data are taken from the 2001, 2011 and 2021 Census' as published by the Office for National Statistics (ONS)."]
[]
[]
[]
[null,"Enquiries or requests for further information should be directed to:"]
[null,"Kent Analytics"]
[null,"Kent County Council"]
[null,"Tel: 03000 417444"]
[null,"Email: research@kent.gov.uk"]

{"sheet":"Summary","index":1,"n_rows":38,"n_cols":15,"rows_kept":38,"cut":false,"hidden":false,"merged":[]}
[]
["Interactive census population toolkit"]
["Source: 2001, 2011 and 2021 Census: Office for National Statistics "]
["Presented by: Kent Analytics, Kent County Council. Email: research@kent.gov.uk"]
[{"$f":"Notes!M2","v":"Version date: 2 November 2022"}]
[]
[]
["Select District"]
[]
[]
[null,"Start Age",null,"End Age"]
[]
[]
[]
[]
[null,null,null,null,null,null,null,null,null,null,null,{"$f":"Index!E7&\" in \"&Index!C11&\", \"&Index!C16&\" - \"&Index!C19","v":"Change in population aged 0-90+ in Ashford, 2011 - 2021"}]
[]
[null,null,null,null,null,null,null,null,null,null,null,"Start Year",null,"End Year"]
[]
[]
[]
[null,null,null,null,null,null,null,null,null,null,null,"Year","Males","Females","Total"]
[null,null,null,null,null,null,null,null,null,null,null,{"$f":"Index!C16","v":2011},{"$f":"INDEX('All Districts unrounded'!F12:F29,Index!B11)","v":57232},{"$f":"INDEX('All Districts unrounded'!F33:F50,Index!B11)","v":60724},{"$f":"INDEX('All Districts unrounded'!F54:F71,Index!B11)","v":117956}]
[null,null,null,null,null,null,null,null,null,null,null,{"$f":"Index!C19","v":2021},{"$f":"INDEX('All Districts unrounded'!G12:G29,Index!B11)","v":64593},{"$f":"INDEX('All Districts unrounded'!G33:G50,Index!B11)","v":68159},{"$f":"INDEX('All Districts unrounded'!G54:G71,Index!B11)","v":132752}]
[null,null,null,null,null,null,null,null,null,null,null,"Change",{"$f":"M24-M23","v":7361},{"$f":"N24-N23","v":7435},14796]
[null,null,null,null,null,null,null,null,null,null,null,"% change",{"$f":"M25/M23","v":0.12861685770198492},{"$f":"N25/N23","v":0.12243923325209143},0.12543660347926344]
[null,null,null,null,null,null,null,null,null,null,null,"Source: Office for National Statistics.  Kent Analytics, Kent County Council "]
[]
[]
[]
[]
[{"$f":"Index!C11&\" population aged \"&Index!C4&\" - \"&Index!C9","v":"Ashford population aged 0 - 90+"},null,null,null,null,{"$f":"Index!E7&\" in \"&Index!C11","v":"Change in population aged 0-90+ in Ashford"}]
[null,2001,2011,2021,null,null,"2001-2011","2011-2021","2001-2011","2011-2021"]
["Males",{"$f":"INDEX('All Districts unrounded'!B$12:B$29,Index!$B$11)","v":49967},{"$f":"INDEX('All Districts unrounded'!C$12:C$29,Index!$B$11)","v":57232},{"$f":"INDEX('All Districts unrounded'!D$12:D$29,Index!$B$11)","v":64593},null,"Males",{"$f":"C34-B34","v":7265},7361,{"$f":"G34/B34","v":0.14539596133448077},0.12861685770198492]
["Females",{"$f":"INDEX('All Districts unrounded'!B$33:B$50,Index!$B$11)","v":52706},{"$f":"INDEX('All Districts unrounded'!C$33:C$50,Index!$B$11)","v":60724},{"$f":"INDEX('All Districts unrounded'!D$33:D$50,Index!$B$11)","v":68159},null,"Females",8018,7435,0.1521268925739005,0.12243923325209143]
["Total",{"$f":"INDEX('All Districts unrounded'!B$54:B$71,Index!$B$11)","v":102673},{"$f":"INDEX('All Districts unrounded'!C$54:C$71,Index!$B$11)","v":117956},{"$f":"INDEX('All Districts unrounded'!D$54:D$71,Index!$B$11)","v":132752},null,"Total",15283,14796,0.14885120723072279,0.12543660347926344]
["Source: Office for National Statistics.  Presented by: Kent Analytics, Kent County Council "]
["All figures have been individually rounded to the nearest one hundred and therefore may not sum"]

{"sheet":"Population Pyramid","index":2,"n_rows":35,"n_cols":13,"rows_kept":35,"cut":false,"hidden":false,"merged":[]}
[]
[null,null,"Interactive census Population toolkit"]
[null,null,"Source: 2001, 2011 and 2021 Census, The Office for National Statistics (ONS).  "]
[null,null,"Presented by: Kent Analytics, Kent County Council. Email: research@kent.gov.uk",null,null,null,null,null,null,null,null,null,"Click here to return to the population summary page"]
[null,null,{"$f":"Notes!M2","v":"Version date: 2 November 2022"}]
[]
[]
[null,null,null,null,null,"Select district"]
[]
[null,null,null,null,null,"Select year"]
[]
[]
[null,null,{"$f":"'All Districts unrounded'!A123&\", \"&'All Districts unrounded'!A124","v":"Ashford, 2021"}]
[null,null,null,"Total","% of total population","Males","% of total population","Females","% of total population"]
[null,null,"All Ages",{"$f":"'All Districts unrounded'!B125+'All Districts unrounded'!E125-2","v":132750},{"$f":"('All Districts unrounded'!B125+'All Districts unrounded'!E125)/'All Districts unrounded'!$C$123","v":1},{"$f":"'All Districts unrounded'!B125-2","v":64591},{"$f":"'All Districts unrounded'!C125","v":0.48656894058093286},{"$f":"'All Districts unrounded'!E125-2","v":68157},{"$f":"'All Districts unrounded'!F125","v":0.51343105941906708}]
[null,null,"0-4",{"$f":"'All Districts unrounded'!B126+'All Districts unrounded'!E126-2","v":7606},{"$f":"('All Districts unrounded'!B126+'All Districts unrounded'!E126)/'All Districts unrounded'!$C$123","v":5.7309871037724482E-2},{"$f":"'All Districts unrounded'!B126-2","v":3884},{"$f":"'All Districts unrounded'!C126","v":2.9272628660961794E-2},{"$f":"'All Districts unrounded'!E126-2","v":3720},{"$f":"'All Districts unrounded'!F126","v":2.8037242376762684E-2}]
[null,null,"5-9",{"$f":"'All Districts unrounded'!B127+'All Districts unrounded'!E127-2","v":8312},{"$f":"('All Districts unrounded'!B127+'All Districts unrounded'!E127)/'All Districts unrounded'!$C$123","v":6.2628058334337711E-2},{"$f":"'All Districts unrounded'!B127-2","v":4266},{"$f":"'All Districts unrounded'!C127","v":3.2150174761962157E-2},{"$f":"'All Districts unrounded'!E127-2","v":4044},{"$f":"'All Districts unrounded'!F127","v":3.0477883572375557E-2}]
[null,null,"10-14",{"$f":"'All Districts unrounded'!B128+'All Districts unrounded'!E128-2","v":8557},{"$f":"('All Districts unrounded'!B128+'All Districts unrounded'!E128)/'All Districts unrounded'!$C$123","v":6.4473604917440044E-2},{"$f":"'All Districts unrounded'!B128-2","v":4302},{"$f":"'All Districts unrounded'!C128","v":3.2421357117030251E-2},{"$f":"'All Districts unrounded'!E128-2","v":4253},{"$f":"'All Districts unrounded'!F128","v":3.2052247800409786E-2}]
[null,null,"15-19",{"$f":"'All Districts unrounded'!B129+'All Districts unrounded'!E129-2","v":7304},{"$f":"('All Districts unrounded'!B129+'All Districts unrounded'!E129)/'All Districts unrounded'!$C$123","v":5.5034952392431002E-2},{"$f":"'All Districts unrounded'!B129-2","v":3808},{"$f":"'All Districts unrounded'!C129","v":2.8700132578040254E-2},{"$f":"'All Districts unrounded'!E129-2","v":3494},{"$f":"'All Districts unrounded'!F129","v":2.6334819814390745E-2}]
[null,null,"20-24",{"$f":"'All Districts unrounded'!B130+'All Districts unrounded'!E130-2","v":6469},{"$f":"('All Districts unrounded'!B130+'All Districts unrounded'!E130)/'All Districts unrounded'!$C$123","v":4.8745028323490418E-2},{"$f":"'All Districts unrounded'!B130-2","v":3267},{"$f":"'All Districts unrounded'!C130","v":2.4624864408822465E-2},{"$f":"'All Districts unrounded'!E130-2","v":3200},{"$f":"'All Districts unrounded'!F130","v":2.4120163914667953E-2}]
[null,null,"25-29",{"$f":"'All Districts unrounded'!B131+'All Districts unrounded'!E131-2","v":7955},{"$f":"('All Districts unrounded'!B131+'All Districts unrounded'!E131)/'All Districts unrounded'!$C$123","v":5.9938833313245753E-2},{"$f":"'All Districts unrounded'!B131-2","v":3862},{"$f":"'All Districts unrounded'!C131","v":2.91069061106424E-2},{"$f":"'All Districts unrounded'!E131-2","v":4091},{"$f":"'All Districts unrounded'!F131","v":3.0831927202603349E-2}]
[null,null,"30-34",{"$f":"'All Districts unrounded'!B132+'All Districts unrounded'!E132-2","v":8850},{"$f":"('All Districts unrounded'!B132+'All Districts unrounded'!E132)/'All Districts unrounded'!$C$123","v":6.66807279739665E-2},{"$f":"'All Districts unrounded'!B132-2","v":4157},{"$f":"'All Districts unrounded'!C132","v":3.1329094853561529E-2},{"$f":"'All Districts unrounded'!E132-2","v":4691},{"$f":"'All Districts unrounded'!F132","v":3.5351633120404964E-2}]
[null,null,"35-39",{"$f":"'All Districts unrounded'!B133+'All Districts unrounded'!E133-2","v":8338},{"$f":"('All Districts unrounded'!B133+'All Districts unrounded'!E133)/'All Districts unrounded'!$C$123","v":6.2823912257442452E-2},{"$f":"'All Districts unrounded'!B133-2","v":3941},{"$f":"'All Districts unrounded'!C133","v":2.9702000723152946E-2},{"$f":"'All Districts unrounded'!E133-2","v":4395},{"$f":"'All Districts unrounded'!F133","v":3.3121911534289505E-2}]
[null,null,"40-44",{"$f":"'All Districts unrounded'!B134+'All Districts unrounded'!E134-2","v":8165},{"$f":"('All Districts unrounded'!B134+'All Districts unrounded'!E134)/'All Districts unrounded'!$C$123","v":6.1520730384476315E-2},{"$f":"'All Districts unrounded'!B134-2","v":3953},{"$f":"'All Districts unrounded'!C134","v":2.979239484150898E-2},{"$f":"'All Districts unrounded'!E134-2","v":4210},{"$f":"'All Districts unrounded'!F134","v":3.1728335542967334E-2}]
[null,null,"45-49",{"$f":"'All Districts unrounded'!B135+'All Districts unrounded'!E135-2","v":8485},{"$f":"('All Districts unrounded'!B135+'All Districts unrounded'!E135)/'All Districts unrounded'!$C$123","v":6.3931240207303841E-2},{"$f":"'All Districts unrounded'!B135-2","v":4041},{"$f":"'All Districts unrounded'!C135","v":3.0455285042786551E-2},{"$f":"'All Districts unrounded'!E135-2","v":4442},{"$f":"'All Districts unrounded'!F135","v":3.3475955164517297E-2}]
[null,null,"50-54",{"$f":"'All Districts unrounded'!B136+'All Districts unrounded'!E136-2","v":9953},{"$f":"('All Districts unrounded'!B136+'All Districts unrounded'!E136)/'All Districts unrounded'!$C$123","v":7.4989454019525129E-2},{"$f":"'All Districts unrounded'!B136-2","v":4882},{"$f":"'All Districts unrounded'!C136","v":3.6790406170905149E-2},{"$f":"'All Districts unrounded'!E136-2","v":5069},{"$f":"'All Districts unrounded'!F136","v":3.819904784861998E-2}]
[null,null,"55-59",{"$f":"'All Districts unrounded'!B137+'All Districts unrounded'!E137-2","v":9289},{"$f":"('All Districts unrounded'!B137+'All Districts unrounded'!E137)/'All Districts unrounded'!$C$123","v":6.9987646137158008E-2},{"$f":"'All Districts unrounded'!B137-2","v":4600},{"$f":"'All Districts unrounded'!C137","v":3.4666144389538391E-2},{"$f":"'All Districts unrounded'!E137-2","v":4687},{"$f":"'All Districts unrounded'!F137","v":3.5321501747619624E-2}]
[null,null,"60-64",{"$f":"'All Districts unrounded'!B138+'All Districts unrounded'!E138-2","v":7447},{"$f":"('All Districts unrounded'!B138+'All Districts unrounded'!E138)/'All Districts unrounded'!$C$123","v":5.6112148969507052E-2},{"$f":"'All Districts unrounded'!B138-2","v":3659},{"$f":"'All Districts unrounded'!C138","v":2.7577738941786188E-2},{"$f":"'All Districts unrounded'!E138-2","v":3786},{"$f":"'All Districts unrounded'!F138","v":2.8534410027720863E-2}]
[null,null,"65-69",{"$f":"'All Districts unrounded'!B139+'All Districts unrounded'!E139-2","v":6652},{"$f":"('All Districts unrounded'!B139+'All Districts unrounded'!E139)/'All Districts unrounded'!$C$123","v":5.0123538628419909E-2},{"$f":"'All Districts unrounded'!B139-2","v":3196},{"$f":"'All Districts unrounded'!C139","v":2.4090032541882609E-2},{"$f":"'All Districts unrounded'!E139-2","v":3454},{"$f":"'All Districts unrounded'!F139","v":2.6033506086537303E-2}]
[null,null,"70-74",{"$f":"'All Districts unrounded'!B140+'All Districts unrounded'!E140-2","v":7236},{"$f":"('All Districts unrounded'!B140+'All Districts unrounded'!E140)/'All Districts unrounded'!$C$123","v":5.4522719055080146E-2},{"$f":"'All Districts unrounded'!B140-2","v":3385},{"$f":"'All Districts unrounded'!C140","v":2.5513739905990117E-2},{"$f":"'All Districts unrounded'!E140-2","v":3849},{"$f":"'All Districts unrounded'!F140","v":2.9008979149090033E-2}]
[null,null,"75-79",{"$f":"'All Districts unrounded'!B141+'All Districts unrounded'!E141-2","v":5399},{"$f":"('All Districts unrounded'!B141+'All Districts unrounded'!E141)/'All Districts unrounded'!$C$123","v":4.0684886103410874E-2},{"$f":"'All Districts unrounded'!B141-2","v":2526},{"$f":"'All Districts unrounded'!C141","v":1.9043027600337471E-2},{"$f":"'All Districts unrounded'!E141-2","v":2871},{"$f":"'All Districts unrounded'!F141","v":2.1641858503073399E-2}]
[null,null,"80-84",{"$f":"'All Districts unrounded'!B142+'All Districts unrounded'!E142-2","v":3503},{"$f":"('All Districts unrounded'!B142+'All Districts unrounded'!E142)/'All Districts unrounded'!$C$123","v":2.6402615403157768E-2},{"$f":"'All Districts unrounded'!B142-2","v":1599},{"$f":"'All Districts unrounded'!C142","v":1.2060081957333976E-2},{"$f":"'All Districts unrounded'!E142-2","v":1902},{"$f":"'All Districts unrounded'!F142","v":1.4342533445823792E-2}]
[null,null,"85-89",{"$f":"'All Districts unrounded'!B143+'All Districts unrounded'!E143-2","v":2059},{"$f":"('All Districts unrounded'!B143+'All Districts unrounded'!E143)/'All Districts unrounded'!$C$123","v":1.5525189827648547E-2},{"$f":"'All Districts unrounded'!B143-2","v":864},{"$f":"'All Districts unrounded'!C143","v":6.5234422080269975E-3},{"$f":"'All Districts unrounded'!E143-2","v":1193},{"$f":"'All Districts unrounded'!F143","v":9.0017476196215494E-3}]
[null,null,"90+",{"$f":"'All Districts unrounded'!B144+'All Districts unrounded'!E144-2","v":1135},{"$f":"('All Districts unrounded'!B144+'All Districts unrounded'!E144)/'All Districts unrounded'!$C$123","v":8.5648427142340604E-3},{"$f":"'All Districts unrounded'!B144-2","v":363},{"$f":"'All Districts unrounded'!C144","v":2.7494877666626493E-3},{"$f":"'All Districts unrounded'!E144-2","v":770},{"$f":"'All Districts unrounded'!F144","v":5.8153549475714111E-3}]
[null,null,"Source: Office for National Statistics.  Presented by: Kent Analytics, Kent County Council "]

{"sheet":"Index","index":3,"n_rows":120,"n_cols":5,"rows_kept":120,"cut":false,"hidden":true,"merged":[]}
["Index",null,null,null,"Chart Formatting"]
[]
["Start age index",null,"Selected start age",null,"Chart Title"]
["Index 1",1,{"$f":"INDEX($A$30:$A$120,B4)","v":0},null,{"$f":"\"Population aged \"&C4&\"-\"&C9&\", 2001-2021\"&\" - \"&C11","v":"Population aged 0-90+, 2001-2021 - Ashford"}]
[]
["End age index",null,"Selected end age",null,"Table title"]
["Index 2",91,{"$f":"INDEX(A$30:A$120,$B$7)","v":"90+"},null,{"$f":"\"Change in population aged \"&C4&\"-\"&C9","v":"Change in population aged 0-90+"}]
[null,null,{"$f":"(B7-1)-C4","v":90},null,{"$f":"\"Population change aged: \"&C4&\"-\"&C9&\" - \"&C16&\"-\"&C19","v":"Population change aged: 0-90+ - 2011-2021"}]
["District Select",null,{"$f":"IF($B$7=91,\"90+\",INDEX(A$30:A$120,$B$7))","v":"90+"},null,"Chart Labels"]
["Index 3",null,"Selected district",null,{"$f":"C11&\" males\"","v":"Ashford males"}]
["District 1",2,{"$f":"INDEX($B$30:$B$47,$B11)","v":"Ashford"},null,{"$f":"C11&\" females\"","v":"Ashford females"}]
["District 2",1,{"$f":"INDEX($B$30:$B$47,$B12)","v":"-"},null,{"$f":"C11&\" total\"","v":"Ashford total"}]
["District 3",1,{"$f":"INDEX($B$30:$B$47,$B13)","v":"-"},null,{"$f":"C12&\" males\"","v":"- males"}]
[null,null,null,null,{"$f":"C12&\" females\"","v":"- females"}]
["Start year select",null,"Selected start year",null,{"$f":"C12&\" total\"","v":"- total"}]
["Index 4",2,{"$f":"INDEX(C30:C31,B16)","v":2011},null,{"$f":"C13&\" males\"","v":"- males"}]
[null,null,{"$f":"C16-C19","v":-10},null,{"$f":"C13&\" females\"","v":"- females"}]
["End year select",null,"Selected end year",null,{"$f":"C13&\" total\"","v":"- total"}]
["Index 5",2,{"$f":"INDEX(C31:C32,B19)","v":2021}]
[]
["Pop Pyramid year select",null,"Selected pyramid year"]
["Index 6",19,{"$f":"INDEX(C30:C32,Index!$B$23)","v":2021}]
["Index 7",3]
[]
[]
[]
["Drop Downs"]
["Drop down 1","Drop Down 2","Drop Down 3"]
["Age selection","District slection","Year selection"]
[0,"-",2001]
[1,"Ashford",2011]
[2,"Canterbury",2021]
[3,"Dartford"]
[4,"Dover"]
[5,"Gravesham"]
[6,"Maidstone"]
[7,"Medway"]
[8,"Sevenoaks"]
[9,"Folkestone & Hythe"]
[10,"Swale"]
[11,"Thanet"]
[12,"Tonbridge & Malling"]
[13,"Tunbridge Wells"]
[14,"Kent"]
[15,"Kent + Medway"]
[16,"South East Region"]
[17,"England & Wales"]
[18]
[19]
[20]
[21]
[22]
[23]
[24]
[25]
[26]
[27]
[28]
[29]
[30]
[31]
[32]
[33]
[34]
[35]
[36]
[37]
[38]
[39]
[40]
[41]
[42]
[43]
[44]
[45]
[46]
[47]
[48]
[49]
[50]
[51]
[52]
[53]
[54]
[55]
[56]
[57]
[58]
[59]
[60]
[61]
[62]
[63]
[64]
[65]
[66]
[67]
[68]
[69]
[70]
[71]
[72]
[73]
[74]
[75]
[76]
[77]
[78]
[79]
[80]
[81]
[82]
[83]
[84]
[85]
[86]
[87]
[88]
[89]
["90+"]

{"sheet":"All Districts unrounded","index":4,"n_rows":144,"n_cols":31,"rows_kept":144,"cut":false,"hidden":true,"merged":[]}
["All data on this sheet reads directly from each of the district worksheets",null,null,null,null,null,null,null,null,null,null,null,null,null,null,null,null,null,null,null,null,null,null,null,null,null,null,null,null,null,"Insert column here before extending the table"]
["Figures in red are calculations"]
[]
[]
[]
[]
[]
["Selected Ages:",{"$f":"Index!$C$4&\" : \"&Index!$C$7","v":"0 : 90+"}]
[]
["Males",null,null,null,null,"Change"]
[null,2001,2011,2021,null,{"$f":"Index!$C$16","v":2011},{"$f":"Index!$C$19","v":2021},"Number change","% change"]
["-"]
["Ashford",{"$f":"ASH!H$4","v":49967},{"$f":"ASH!I$4","v":57232},{"$f":"ASH!J$4","v":64593},null,{"$f":"INDEX($B13:$E13,Index!$B$16)","v":57232},{"$f":"INDEX($C13:$E13,Index!$B$19)","v":64593},{"$f":"G13-F13","v":7361},{"$f":"IF(F13<0,0,H13/F13)","v":0.12861685770198492}]
["Canterbury",{"$f":"CAN!H$4","v":64125},{"$f":"CAN!I$4","v":72638},{"$f":"CAN!J$4","v":75576},null,{"$f":"INDEX($B14:$E14,Index!$B$16)","v":72638},{"$f":"INDEX($C14:$E14,Index!$B$19)","v":75576},{"$f":"G14-F14","v":2938},{"$f":"IF(F14<0,0,H14/F14)","v":4.0447148875244365E-2}]
["Dartford",{"$f":"DAR!H$4","v":42117},{"$f":"DAR!I$4","v":48061},{"$f":"DAR!J$4","v":57155},null,{"$f":"INDEX($B15:$E15,Index!$B$16)","v":48061},{"$f":"INDEX($C15:$E15,Index!$B$19)","v":57155},9094,0.18921786895819895]
["Dover",{"$f":"DOV!H$4","v":50327},{"$f":"DOV!I$4","v":54765},{"$f":"DOV!J$4","v":56796},null,{"$f":"INDEX($B16:$E16,Index!$B$16)","v":54765},{"$f":"INDEX($C16:$E16,Index!$B$19)","v":56796},2031,3.7085729937003563E-2]
["Gravesham",{"$f":"GRA!H$4","v":46890},{"$f":"GRA!I$4","v":50139},{"$f":"GRA!J$4","v":52229},null,{"$f":"INDEX($B17:$E17,Index!$B$16)","v":50139},{"$f":"INDEX($C17:$E17,Index!$B$19)","v":52229},2090,4.1684118151538725E-2]
["Maidstone",{"$f":"MAI!H$4","v":68350},{"$f":"MAI!I$4","v":76492},{"$f":"MAI!J$4","v":86964},null,{"$f":"INDEX($B18:$E18,Index!$B$16)","v":76492},{"$f":"INDEX($C18:$E18,Index!$B$19)","v":86964},10472,0.13690320556398056]
["Medway",{"$f":"MED!H$4","v":122900},{"$f":"MED!I$4","v":130825},{"$f":"MED!J$4","v":137125},null,{"$f":"INDEX($B19:$E19,Index!$B$16)","v":130825},{"$f":"INDEX($C19:$E19,Index!$B$19)","v":137125},6300,4.8155933498948977E-2]
["Sevenoaks",{"$f":"SEV!H$4","v":52874},{"$f":"SEV!I$4","v":55743},{"$f":"SEV!J$4","v":58212},null,{"$f":"INDEX($B20:$E20,Index!$B$16)","v":55743},{"$f":"INDEX($C20:$E20,Index!$B$19)","v":58212},2469,4.4292556912975622E-2]
["Folkestone & Hythe",{"$f":"'F&H'!H$4","v":46045},{"$f":"'F&H'!I$4","v":53135},{"$f":"'F&H'!J$4","v":53574},null,{"$f":"INDEX($B21:$E21,Index!$B$16)","v":53135},{"$f":"INDEX($C21:$E21,Index!$B$19)","v":53574},439,8.2619742166180482E-3]
["Swale",{"$f":"SWA!H$4","v":60548},{"$f":"SWA!I$4","v":67152},{"$f":"SWA!J$4","v":75311},null,{"$f":"INDEX($B22:$E22,Index!$B$16)","v":67152},{"$f":"INDEX($C22:$E22,Index!$B$19)","v":75311},8159,0.12150047653085537]
["Thanet",{"$f":"THA!H$4","v":59952},{"$f":"THA!I$4","v":64555},{"$f":"THA!J$4","v":67657},null,{"$f":"INDEX($B23:$E23,Index!$B$16)","v":64555},{"$f":"INDEX($C23:$E23,Index!$B$19)","v":67657},3102,4.8052048640693984E-2]
["Tonbridge & Malling",{"$f":"TON!H$4","v":52637},{"$f":"TON!I$4","v":59207},{"$f":"TON!J$4","v":64353},null,{"$f":"INDEX($B24:$E24,Index!$B$16)","v":59207},{"$f":"INDEX($C24:$E24,Index!$B$19)","v":64353},5146,8.6915398517067241E-2]
["Tunbridge Wells",{"$f":"TUN!H$4","v":50040},{"$f":"TUN!I$4","v":56494},{"$f":"TUN!J$4","v":55949},null,{"$f":"INDEX($B25:$E25,Index!$B$16)","v":56494},{"$f":"INDEX($C25:$E25,Index!$B$19)","v":55949},-545,-9.6470421637696036E-3]
["Kent",{"$f":"Kent!H$4","v":643886},{"$f":"Kent!I$4","v":715613},{"$f":"Kent!J$4","v":768391},null,{"$f":"INDEX($B26:$E26,Index!$B$16)","v":715613},{"$f":"INDEX($C26:$E26,Index!$B$19)","v":768391},52778,7.3752153747905641E-2]
["Kent + Medway",{"$f":"'Kent+Med'!H4","v":766786},{"$f":"'Kent+Med'!I4","v":846438},{"$f":"'Kent+Med'!J4","v":905516},null,{"$f":"INDEX($B27:$E27,Index!$B$16)","v":846438},{"$f":"INDEX($C27:$E27,Index!$B$19)","v":905516},59078,6.9796015774339054E-2]
["South East Region",{"$f":"'South East'!H4","v":3905155},{"$f":"'South East'!I4","v":4239298},{"$f":"'South East'!J4","v":4738828},null,{"$f":"INDEX($B28:$E28,Index!$B$16)","v":4239298},{"$f":"INDEX($C28:$E28,Index!$B$19)","v":4738828},{"$f":"G28-F28","v":499530},{"$f":"IF(F28<0,0,H28/F28)","v":0.11783318841940341}]
["England & Wales",{"$f":"'England & Wales'!H4","v":25325926},{"$f":"'England & Wales'!I4","v":27573376},{"$f":"'England & Wales'!J4","v":29177337},null,{"$f":"INDEX($B29:$E29,Index!$B$16)","v":27573376},{"$f":"INDEX($C29:$E29,Index!$B$19)","v":29177337},{"$f":"G29-F29","v":1603961},{"$f":"IF(F29<0,0,H29/F29)","v":5.8170642579276476E-2}]
[]
["Females"]
[null,2001,2011,2021,null,{"$f":"Index!$C$16","v":2011},{"$f":"Index!$C$19","v":2021},"Number change","% change"]
["-"]
["Ashford",{"$f":"ASH!H$5","v":52706},{"$f":"ASH!I$5","v":60724},{"$f":"ASH!J$5","v":68159},null,{"$f":"INDEX($B34:$E34,Index!$B$16)","v":60724},{"$f":"INDEX($C34:$E34,Index!$B$19)","v":68159},{"$f":"G34-F34","v":7435},{"$f":"IF(F34<0,0,H34/F34)","v":0.12243923325209143}]
["Canterbury",{"$f":"CAN!H$5","v":71152},{"$f":"CAN!I$5","v":78507},{"$f":"CAN!J$5","v":81841},null,{"$f":"INDEX($B35:$E35,Index!$B$16)","v":78507},{"$f":"INDEX($C35:$E35,Index!$B$19)","v":81841},{"$f":"G35-F35","v":3334},{"$f":"IF(F35<0,0,H35/F35)","v":4.2467550664271977E-2}]
["Dartford",{"$f":"DAR!H$5","v":43789},{"$f":"DAR!I$5","v":49304},{"$f":"DAR!J$5","v":59593},null,{"$f":"INDEX($B36:$E36,Index!$B$16)","v":49304},{"$f":"INDEX($C36:$E36,Index!$B$19)","v":59593},10289,0.20868489372059063]
["Dover",{"$f":"DOV!H$5","v":54244},{"$f":"DOV!I$5","v":56909},{"$f":"DOV!J$5","v":59604},null,{"$f":"INDEX($B37:$E37,Index!$B$16)","v":56909},{"$f":"INDEX($C37:$E37,Index!$B$19)","v":59604},2695,4.7356305680999487E-2]
["Gravesham",{"$f":"GRA!H$5","v":48822},{"$f":"GRA!I$5","v":51581},{"$f":"GRA!J$5","v":54676},null,{"$f":"INDEX($B38:$E38,Index!$B$16)","v":51581},{"$f":"INDEX($C38:$E38,Index!$B$19)","v":54676},3095,6.0002714177701089E-2]
["Maidstone",{"$f":"MAI!H$5","v":70595},{"$f":"MAI!I$5","v":78651},{"$f":"MAI!J$5","v":88817},null,{"$f":"INDEX($B39:$E39,Index!$B$16)","v":78651},{"$f":"INDEX($C39:$E39,Index!$B$19)","v":88817},10166,0.12925455493255011]
["Medway",{"$f":"MED!H$5","v":126588},{"$f":"MED!I$5","v":133100},{"$f":"MED!J$5","v":142647},null,{"$f":"INDEX($B40:$E40,Index!$B$16)","v":133100},{"$f":"INDEX($C40:$E40,Index!$B$19)","v":142647},9547,7.1728024042073624E-2]
["Sevenoaks",{"$f":"SEV!H$5","v":56435},{"$f":"SEV!I$5","v":59150},{"$f":"SEV!J$5","v":62307},null,{"$f":"INDEX($B41:$E41,Index!$B$16)","v":59150},{"$f":"INDEX($C41:$E41,Index!$B$19)","v":62307},3157,5.3372781065088755E-2]
["Folkestone & Hythe",{"$f":"'F&H'!H$5","v":50193},{"$f":"'F&H'!I$5","v":54834},{"$f":"'F&H'!J$5","v":56183},null,{"$f":"INDEX($B42:$E42,Index!$B$16)","v":54834},{"$f":"INDEX($C42:$E42,Index!$B$19)","v":56183},1349,2.4601524601524601E-2]
["Swale",{"$f":"SWA!H$5","v":62260},{"$f":"SWA!I$5","v":68683},{"$f":"SWA!J$5","v":76368},null,{"$f":"INDEX($B43:$E43,Index!$B$16)","v":68683},{"$f":"INDEX($C43:$E43,Index!$B$19)","v":76368},7685,0.11189086091172488]
["Thanet",{"$f":"THA!H$5","v":66748},{"$f":"THA!I$5","v":69631},{"$f":"THA!J$5","v":72932},null,{"$f":"INDEX($B44:$E44,Index!$B$16)","v":69631},{"$f":"INDEX($C44:$E44,Index!$B$19)","v":72932},3301,4.7407045712398212E-2]
["Tonbridge & Malling",{"$f":"TON!H$5","v":54929},{"$f":"TON!I$5","v":61598},{"$f":"TON!J$5","v":67852},null,{"$f":"INDEX($B45:$E45,Index!$B$16)","v":61598},{"$f":"INDEX($C45:$E45,Index!$B$19)","v":67852},6254,0.10152927043085815]
["Tunbridge Wells",{"$f":"TUN!H$5","v":53998},{"$f":"TUN!I$5","v":58555},{"$f":"TUN!J$5","v":59369},null,{"$f":"INDEX($B46:$E46,Index!$B$16)","v":58555},{"$f":"INDEX($C46:$E46,Index!$B$19)","v":59369},814,1.3901460165656221E-2]
["Kent",{"$f":"Kent!H$5","v":685373},{"$f":"Kent!I$5","v":748127},{"$f":"Kent!J$5","v":807686},null,{"$f":"INDEX($B47:$E47,Index!$B$16)","v":748127},{"$f":"INDEX($C47:$E47,Index!$B$19)","v":807686},59559,7.9610814741347388E-2]
["Kent + Medway",{"$f":"'Kent+Med'!H5","v":812421},{"$f":"'Kent+Med'!I5","v":881227},{"$f":"'Kent+Med'!J5","v":950333},null,{"$f":"INDEX($B48:$E48,Index!$B$16)","v":881227},{"$f":"INDEX($C48:$E48,Index!$B$19)","v":950333},69106,7.8420202740043146E-2]
["South East Region",{"$f":"'South East'!H5","v":4095490},{"$f":"'South East'!I5","v":4395452},{"$f":"'South East'!J5","v":4738828},null,{"$f":"INDEX($B49:$E49,Index!$B$16)","v":4395452},{"$f":"INDEX($C49:$E49,Index!$B$19)","v":4738828},{"$f":"G49-F49","v":343376},{"$f":"IF(F49<0,0,H49/F49)","v":7.8120748446348628E-2}]
["England & Wales",{"$f":"'England & Wales'!H5","v":26715990},{"$f":"'England & Wales'!I5","v":28502536},{"$f":"'England & Wales'!J5","v":30420202},null,{"$f":"INDEX($B50:$E50,Index!$B$16)","v":28502536},{"$f":"INDEX($C50:$E50,Index!$B$19)","v":30420202},{"$f":"G50-F50","v":1917666},{"$f":"IF(F50<0,0,H50/F50)","v":6.7280539528131816E-2}]
[]
["Total"]
[null,2001,2011,2020,null,{"$f":"Index!$C$16","v":2011},{"$f":"Index!$C$19","v":2021},"Number change","% change"]
["-"]
["Ashford",{"$f":"ASH!H$6","v":102673},{"$f":"ASH!I$6","v":117956},{"$f":"ASH!J$6","v":132752},null,{"$f":"INDEX($B55:$E55,Index!$B$16)","v":117956},{"$f":"INDEX($C55:$E55,Index!$B$19)","v":132752},{"$f":"G55-F55","v":14796},{"$f":"IF(F55<0,0,H55/F55)","v":0.12543660347926344}]
["Canterbury",{"$f":"CAN!H$6","v":135277},{"$f":"CAN!I$6","v":151145},{"$f":"CAN!J$6","v":157417},null,{"$f":"INDEX($B56:$E56,Index!$B$16)","v":151145},{"$f":"INDEX($C56:$E56,Index!$B$19)","v":157417},{"$f":"G56-F56","v":6272},{"$f":"IF(F56<0,0,H56/F56)","v":4.1496576135499022E-2}]
["Dartford",{"$f":"DAR!H$6","v":85906},{"$f":"DAR!I$6","v":97365},{"$f":"DAR!J$6","v":116748},null,{"$f":"INDEX($B57:$E57,Index!$B$16)","v":97365},{"$f":"INDEX($C57:$E57,Index!$B$19)","v":116748},19383,0.19907564319827453]
["Dover",{"$f":"DOV!H$6","v":104571},{"$f":"DOV!I$6","v":111674},{"$f":"DOV!J$6","v":116400},null,{"$f":"INDEX($B58:$E58,Index!$B$16)","v":111674},{"$f":"INDEX($C58:$E58,Index!$B$19)","v":116400},4726,4.2319608861507603E-2]
["Gravesham",{"$f":"GRA!H$6","v":95712},{"$f":"GRA!I$6","v":101720},{"$f":"GRA!J$6","v":106905},null,{"$f":"INDEX($B59:$E59,Index!$B$16)","v":101720},{"$f":"INDEX($C59:$E59,Index!$B$19)","v":106905},5185,5.097325992921746E-2]
["Maidstone",{"$f":"MAI!H$6","v":138945},{"$f":"MAI!I$6","v":155143},{"$f":"MAI!J$6","v":175781},null,{"$f":"INDEX($B60:$E60,Index!$B$16)","v":155143},{"$f":"INDEX($C60:$E60,Index!$B$19)","v":175781},20638,0.13302566019736631]
["Medway",{"$f":"MED!H$6","v":249488},{"$f":"MED!I$6","v":263925},{"$f":"MED!J$6","v":279772},null,{"$f":"INDEX($B61:$E61,Index!$B$16)","v":263925},{"$f":"INDEX($C61:$E61,Index!$B$19)","v":279772},15847,6.0043572984749452E-2]
["Sevenoaks",{"$f":"SEV!H$6","v":109309},{"$f":"SEV!I$6","v":114893},{"$f":"SEV!J$6","v":120519},null,{"$f":"INDEX($B62:$E62,Index!$B$16)","v":114893},{"$f":"INDEX($C62:$E62,Index!$B$19)","v":120519},5626,4.8967300009574125E-2]
["Folkestone & Hythe",{"$f":"'F&H'!H$6","v":96238},{"$f":"'F&H'!I$6","v":107969},{"$f":"'F&H'!J$6","v":109757},null,{"$f":"INDEX($B63:$E63,Index!$B$16)","v":107969},{"$f":"INDEX($C63:$E63,Index!$B$19)","v":109757},1788,1.6560308977576897E-2]
["Swale",{"$f":"SWA!H$6","v":122808},{"$f":"SWA!I$6","v":135835},{"$f":"SWA!J$6","v":151679},null,{"$f":"INDEX($B64:$E64,Index!$B$16)","v":135835},{"$f":"INDEX($C64:$E64,Index!$B$19)","v":151679},15844,0.11664151360106011]
["Thanet",{"$f":"THA!H$6","v":126700},{"$f":"THA!I$6","v":134186},{"$f":"THA!J$6","v":140589},null,{"$f":"INDEX($B65:$E65,Index!$B$16)","v":134186},{"$f":"INDEX($C65:$E65,Index!$B$19)","v":140589},6403,4.7717347562338842E-2]
["Tonbridge & Malling",{"$f":"TON!H$6","v":107566},{"$f":"TON!I$6","v":120805},{"$f":"TON!J$6","v":132205},null,{"$f":"INDEX($B66:$E66,Index!$B$16)","v":120805},{"$f":"INDEX($C66:$E66,Index!$B$19)","v":132205},11400,9.4366955010140308E-2]
["Tunbridge Wells",{"$f":"TUN!H$6","v":104038},{"$f":"TUN!I$6","v":115049},{"$f":"TUN!J$6","v":115318},null,{"$f":"INDEX($B67:$E67,Index!$B$16)","v":115049},{"$f":"INDEX($C67:$E67,Index!$B$19)","v":115318},269,2.3381341863032271E-3]
["Kent",{"$f":"Kent!H$6","v":1329259},{"$f":"Kent!I$6","v":1463740},{"$f":"Kent!J$6","v":1576077},null,{"$f":"INDEX($B68:$E68,Index!$B$16)","v":1463740},{"$f":"INDEX($C68:$E68,Index!$B$19)","v":1576077},112337,7.6746553349638591E-2]
["Kent + Medway",{"$f":"'Kent+Med'!H6","v":1579207},{"$f":"'Kent+Med'!I6","v":1727665},{"$f":"'Kent+Med'!J6","v":1855849},null,{"$f":"INDEX($B69:$E69,Index!$B$16)","v":1727665},{"$f":"INDEX($C69:$E69,Index!$B$19)","v":1855849},128184,7.4194939412443969E-2]
["South East Region",{"$f":"'South East'!H6","v":8000645},{"$f":"'South East'!I6","v":8634750},{"$f":"'South East'!J6","v":9477656},null,{"$f":"INDEX($B70:$E70,Index!$B$16)","v":8634750},{"$f":"INDEX($C70:$E70,Index!$B$19)","v":9477656},{"$f":"G70-F70","v":842906},{"$f":"IF(F70<0,0,H70/F70)","v":9.7617881235704571E-2}]
["England & Wales",{"$f":"'England & Wales'!H6","v":52041916},{"$f":"'England & Wales'!I6","v":56075912},{"$f":"'England & Wales'!J6","v":59597539},null,{"$f":"INDEX($B71:$E71,Index!$B$16)","v":56075912},{"$f":"INDEX($C71:$E71,Index!$B$19)","v":59597539},{"$f":"G71-F71","v":3521627},{"$f":"IF(F71<0,0,H71/F71)","v":6.2801065099039322E-2}]
[]
[]
[]
["Population by 5 year"]
[{"$f":"INDEX(Index!C30:C54,Index!B23)","v":2021},null,"-","Ashford","Canterbury","Dartford","Dover","Gravesham","Maidstone","Medway","Sevenoaks","Folketone & Hythe","Swale","Thanet","Tonbridge & Malling","Tunbridge Wells","Kent","Kent + Medway","South East Region","England & Wales"]
["Males","All Ages","-",{"$f":"ASH!S15","v":64593},{"$f":"CAN!$S$15","v":75576},{"$f":"DAR!$S$15","v":57155},{"$f":"DOV!$S$15","v":56796},{"$f":"GRA!$S$15","v":52229},{"$f":"MAI!$S$15","v":86964},{"$f":"MED!$S$15","v":137125},{"$f":"SEV!$S$15","v":58212},{"$f":"'F&H'!$S$15","v":53574},{"$f":"SWA!$S$15","v":75311},{"$f":"THA!$S$15","v":67657},{"$f":"TON!$S$15","v":64353},{"$f":"TUN!$S$15","v":55949},{"$f":"Kent!$S$15","v":768391},{"$f":"'Kent+Med'!$S$15","v":905516},{"$f":"'South East'!$S$15","v":4738828},{"$f":"'England & Wales'!$S$15","v":29177337}]
["Males","0-4","-",{"$f":"ASH!$S$16","v":3886},{"$f":"CAN!$S$16","v":3529},{"$f":"DAR!$S$16","v":4314},{"$f":"DOV!$S$16","v":2926},{"$f":"GRA!$S$16","v":3367},{"$f":"MAI!$S$16","v":5357},{"$f":"MED!$S$16","v":8852},{"$f":"SEV!$S$16","v":3458},{"$f":"'F&H'!$S$16","v":2654},{"$f":"SWA!$S$16","v":4498},{"$f":"THA!$S$16","v":3857},{"$f":"TON!$S$16","v":3935},{"$f":"TUN!$S$16","v":3171},{"$f":"Kent!$S$16","v":44946},{"$f":"'Kent+Med'!$S$16","v":53798},{"$f":"'South East'!$S$16","v":241174},{"$f":"'England & Wales'!$S$16","v":1654694}]
["Males","5-9","-",{"$f":"ASH!$S$17","v":4268},{"$f":"CAN!$S$17","v":4007},{"$f":"DAR!$S$17","v":4208},{"$f":"DOV!$S$17","v":3333},{"$f":"GRA!$S$17","v":3650},{"$f":"MAI!$S$17","v":5681},{"$f":"MED!$S$17","v":9368},{"$f":"SEV!$S$17","v":3834},{"$f":"'F&H'!$S$17","v":2950},{"$f":"SWA!$S$17","v":4874},{"$f":"THA!$S$17","v":4163},{"$f":"TON!$S$17","v":4393},{"$f":"TUN!$S$17","v":3640},{"$f":"Kent!$S$17","v":49006},{"$f":"'Kent+Med'!$S$17","v":58374},{"$f":"'South East'!$S$17","v":268892},{"$f":"'England & Wales'!$S$17","v":1804190}]
["Males","10-14","-",{"$f":"ASH!$S$18","v":4304},{"$f":"CAN!$S$18","v":4358},{"$f":"DAR!$S$18","v":4095},{"$f":"DOV!$S$18","v":3460},{"$f":"GRA!$S$18","v":3591},{"$f":"MAI!$S$18","v":5332},{"$f":"MED!$S$18","v":9204},{"$f":"SEV!$S$18","v":4159},{"$f":"'F&H'!$S$18","v":3152},{"$f":"SWA!$S$18","v":4903},{"$f":"THA!$S$18","v":4274},{"$f":"TON!$S$18","v":4511},{"$f":"TUN!$S$18","v":4175},{"$f":"Kent!$S$18","v":50315},{"$f":"'Kent+Med'!$S$18","v":59519},{"$f":"'South East'!$S$18","v":276998},{"$f":"'England & Wales'!$S$18","v":1842896}]
["Males","15-19","-",{"$f":"ASH!$S$19","v":3810},{"$f":"CAN!$S$19","v":6255},{"$f":"DAR!$S$19","v":3257},{"$f":"DOV!$S$19","v":3127},{"$f":"GRA!$S$19","v":3211},{"$f":"MAI!$S$19","v":4650},{"$f":"MED!$S$19","v":8298},{"$f":"SEV!$S$19","v":3271},{"$f":"'F&H'!$S$19","v":2773},{"$f":"SWA!$S$19","v":4252},{"$f":"THA!$S$19","v":3812},{"$f":"TON!$S$19","v":4004},{"$f":"TUN!$S$19","v":3244},{"$f":"Kent!$S$19","v":45665},{"$f":"'Kent+Med'!$S$19","v":53963},{"$f":"'South East'!$S$19","v":253557},{"$f":"'England & Wales'!$S$19","v":1741438}]
["Males","20-24","-",{"$f":"ASH!$S$20","v":3269},{"$f":"CAN!$S$20","v":7515},{"$f":"DAR!$S$20","v":2781},{"$f":"DOV!$S$20","v":2747},{"$f":"GRA!$S$20","v":2915},{"$f":"MAI!$S$20","v":4532},{"$f":"MED!$S$20","v":8150},{"$f":"SEV!$S$20","v":2546},{"$f":"'F&H'!$S$20","v":2791},{"$f":"SWA!$S$20","v":4101},{"$f":"THA!$S$20","v":3406},{"$f":"TON!$S$20","v":2940},{"$f":"TUN!$S$20","v":2431},{"$f":"Kent!$S$20","v":41977},{"$f":"'Kent+Med'!$S$20","v":51915},{"$f":"'South East'!$S$20","v":254200},{"$f":"'England & Wales'!$S$20","v":1808793}]
["Males","25-29","-",{"$f":"ASH!$S$21","v":3864},{"$f":"CAN!$S$21","v":4313},{"$f":"DAR!$S$21","v":3654},{"$f":"DOV!$S$21","v":3158},{"$f":"GRA!$S$21","v":3145},{"$f":"MAI!$S$21","v":5661},{"$f":"MED!$S$21","v":8806},{"$f":"SEV!$S$21","v":2724},{"$f":"'F&H'!$S$21","v":2899},{"$f":"SWA!$S$21","v":4761},{"$f":"THA!$S$21","v":3630},{"$f":"TON!$S$21","v":3348},{"$f":"TUN!$S$21","v":2923},{"$f":"Kent!$S$21","v":44084},{"$f":"'Kent+Med'!$S$21","v":50601},{"$f":"'South East'!$S$21","v":276988},{"$f":"'England & Wales'!$S$21","v":1909881}]
["Males","30-34","-",{"$f":"ASH!$S$22","v":4159},{"$f":"CAN!$S$22","v":4096},{"$f":"DAR!$S$22","v":4584},{"$f":"DOV!$S$22","v":3335},{"$f":"GRA!$S$22","v":3607},{"$f":"MAI!$S$22","v":5951},{"$f":"MED!$S$22","v":9652},{"$f":"SEV!$S$22","v":3129},{"$f":"'F&H'!$S$22","v":2934},{"$f":"SWA!$S$22","v":5207},{"$f":"THA!$S$22","v":3938},{"$f":"TON!$S$22","v":3779},{"$f":"TUN!$S$22","v":3265},{"$f":"Kent!$S$22","v":47979},{"$f":"'Kent+Med'!$S$22","v":57631},{"$f":"'South East'!$S$22","v":312815},{"$f":"'England & Wales'!$S$22","v":2003621}]
["Males","35-39","-",{"$f":"ASH!$S$23","v":3943},{"$f":"CAN!$S$23","v":3940},{"$f":"DAR!$S$23","v":4536},{"$f":"DOV!$S$23","v":3220},{"$f":"GRA!$S$23","v":3545},{"$f":"MAI!$S$23","v":5935},{"$f":"MED!$S$23","v":9470},{"$f":"SEV!$S$23","v":3425},{"$f":"'F&H'!$S$23","v":2839},{"$f":"SWA!$S$23","v":4943},{"$f":"THA!$S$23","v":3922},{"$f":"TON!$S$23","v":3879},{"$f":"TUN!$S$23","v":3432},{"$f":"Kent!$S$23","v":47559},{"$f":"'Kent+Med'!$S$23","v":57029},{"$f":"'South East'!$S$23","v":313900},{"$f":"'England & Wales'!$S$23","v":1932223}]
["Males","40-44","-",{"$f":"ASH!$S$24","v":3955},{"$f":"CAN!$S$24","v":3939},{"$f":"DAR!$S$24","v":4379},{"$f":"DOV!$S$24","v":3101},{"$f":"GRA!$S$24","v":3396},{"$f":"MAI!$S$24","v":5639},{"$f":"MED!$S$24","v":8967},{"$f":"SEV!$S$24","v":3723},{"$f":"'F&H'!$S$24","v":2960},{"$f":"SWA!$S$24","v":4613},{"$f":"THA!$S$24","v":3918},{"$f":"TON!$S$24","v":4108},{"$f":"TUN!$S$24","v":3760},{"$f":"Kent!$S$24","v":47493},{"$f":"'Kent+Med'!$S$24","v":56460},{"$f":"'South East'!$S$24","v":309476},{"$f":"'England & Wales'!$S$24","v":1839557}]
["Males","45-49","-",{"$f":"ASH!$S$25","v":4043},{"$f":"CAN!$S$25","v":4287},{"$f":"DAR!$S$25","v":3981},{"$f":"DOV!$S$25","v":3210},{"$f":"GRA!$S$25","v":3373},{"$f":"MAI!$S$25","v":5711},{"$f":"MED!$S$25","v":8768},{"$f":"SEV!$S$25","v":4038},{"$f":"'F&H'!$S$25","v":3209},{"$f":"SWA!$S$25","v":4670},{"$f":"THA!$S$25","v":4027},{"$f":"TON!$S$25","v":4628},{"$f":"TUN!$S$25","v":4099},{"$f":"Kent!$S$25","v":49284},{"$f":"'Kent+Med'!$S$25","v":58052},{"$f":"'South East'!$S$25","v":312273},{"$f":"'England & Wales'!$S$25","v":1867977}]
["Males","50-54","-",{"$f":"ASH!$S$26","v":4884},{"$f":"CAN!$S$26","v":4718},{"$f":"DAR!$S$26","v":3778},{"$f":"DOV!$S$26","v":3958},{"$f":"GRA!$S$26","v":3649},{"$f":"MAI!$S$26","v":6360},{"$f":"MED!$S$26","v":9565},{"$f":"SEV!$S$26","v":4250},{"$f":"'F&H'!$S$26","v":3954},{"$f":"SWA!$S$26","v":5236},{"$f":"THA!$S$26","v":4567},{"$f":"TON!$S$26","v":4856},{"$f":"TUN!$S$26","v":4416},{"$f":"Kent!$S$26","v":54627},{"$f":"'Kent+Med'!$S$26","v":64192},{"$f":"'South East'!$S$26","v":334469},{"$f":"'England & Wales'!$S$26","v":2027569}]
["Males","55-59","-",{"$f":"ASH!$S$27","v":4602},{"$f":"CAN!$S$27","v":4928},{"$f":"DAR!$S$27","v":3559},{"$f":"DOV!$S$27","v":4316},{"$f":"GRA!$S$27","v":3577},{"$f":"MAI!$S$27","v":5890},{"$f":"MED!$S$27","v":9267},{"$f":"SEV!$S$27","v":4305},{"$f":"'F&H'!$S$27","v":4125},{"$f":"SWA!$S$27","v":5302},{"$f":"THA!$S$27","v":4881},{"$f":"TON!$S$27","v":4584},{"$f":"TUN!$S$27","v":4010},{"$f":"Kent!$S$27","v":54081},{"$f":"'Kent+Med'!$S$27","v":63348},{"$f":"'South East'!$S$27","v":325214},{"$f":"'England & Wales'!$S$27","v":1978278}]
["Males","60-64","-",{"$f":"ASH!$S$28","v":3661},{"$f":"CAN!$S$28","v":4375},{"$f":"DAR!$S$28","v":2773},{"$f":"DOV!$S$28","v":3954},{"$f":"GRA!$S$28","v":2864},{"$f":"MAI!$S$28","v":4906},{"$f":"MED!$S$28","v":7714},{"$f":"SEV!$S$28","v":3552},{"$f":"'F&H'!$S$28","v":3702},{"$f":"SWA!$S$28","v":4484},{"$f":"THA!$S$28","v":4329},{"$f":"TON!$S$28","v":3826},{"$f":"TUN!$S$28","v":3292},{"$f":"Kent!$S$28","v":45719},{"$f":"'Kent+Med'!$S$28","v":53433},{"$f":"'South East'!$S$28","v":275196},{"$f":"'England & Wales'!$S$28","v":1699585}]
["Males","65-69","-",{"$f":"ASH!$S$29","v":3198},{"$f":"CAN!$S$29","v":4040},{"$f":"DAR!$S$29","v":2131},{"$f":"DOV!$S$29","v":3590},{"$f":"GRA!$S$29","v":2324},{"$f":"MAI!$S$29","v":4058},{"$f":"MED!$S$29","v":6311},{"$f":"SEV!$S$29","v":3129},{"$f":"'F&H'!$S$29","v":3271},{"$f":"SWA!$S$29","v":3773},{"$f":"THA!$S$29","v":3953},{"$f":"TON!$S$29","v":3099},{"$f":"TUN!$S$29","v":2590},{"$f":"Kent!$S$29","v":39161},{"$f":"'Kent+Med'!$S$29","v":45472},{"$f":"'South East'!$S$29","v":239033},{"$f":"'England & Wales'!$S$29","v":1428180}]
["Males","70-74","-",{"$f":"ASH!$S$30","v":3387},{"$f":"CAN!$S$30","v":4403},{"$f":"DAR!$S$30","v":1977},{"$f":"DOV!$S$30","v":3683},{"$f":"GRA!$S$30","v":2291},{"$f":"MAI!$S$30","v":4411},{"$f":"MED!$S$30","v":6156},{"$f":"SEV!$S$30","v":3251},{"$f":"'F&H'!$S$30","v":3790},{"$f":"SWA!$S$30","v":3987},{"$f":"THA!$S$30","v":4386},{"$f":"TON!$S$30","v":3216},{"$f":"TUN!$S$30","v":2790},{"$f":"Kent!$S$30","v":41577},{"$f":"'Kent+Med'!$S$30","v":47733},{"$f":"'South East'!$S$30","v":254120},{"$f":"'England & Wales'!$S$30","v":1419509}]
["Males","75-79","-",{"$f":"ASH!$S$31","v":2528},{"$f":"CAN!$S$31","v":3110},{"$f":"DAR!$S$31","v":1363},{"$f":"DOV!$S$31","v":2697},{"$f":"GRA!$S$31","v":1658},{"$f":"MAI!$S$31","v":3190},{"$f":"MED!$S$31","v":4135},{"$f":"SEV!$S$31","v":2414},{"$f":"'F&H'!$S$31","v":2595},{"$f":"SWA!$S$31","v":2756},{"$f":"THA!$S$31","v":3109},{"$f":"TON!$S$31","v":2321},{"$f":"TUN!$S$31","v":2060},{"$f":"Kent!$S$31","v":29802},{"$f":"'Kent+Med'!$S$31","v":33937},{"$f":"'South East'!$S$31","v":192220},{"$f":"'England & Wales'!$S$31","v":1008903}]
["Males","80-84","-",{"$f":"ASH!$S$32","v":1601},{"$f":"CAN!$S$32","v":2119},{"$f":"DAR!$S$32","v":953},{"$f":"DOV!$S$32","v":1694},{"$f":"GRA!$S$32","v":1116},{"$f":"MAI!$S$32","v":2030},{"$f":"MED!$S$32","v":2633},{"$f":"SEV!$S$32","v":1568},{"$f":"'F&H'!$S$32","v":1674},{"$f":"SWA!$S$32","v":1737},{"$f":"THA!$S$32","v":1958},{"$f":"TON!$S$32","v":1623},{"$f":"TUN!$S$32","v":1389},{"$f":"Kent!$S$32","v":19458},{"$f":"'Kent+Med'!$S$32","v":22091},{"$f":"'South East'!$S$32","v":139590},{"$f":"'England & Wales'!$S$32","v":667037}]
["Males","85-89","-",{"$f":"ASH!$S$33","v":866},{"$f":"CAN!$S$33","v":1099},{"$f":"DAR!$S$33","v":559},{"$f":"DOV!$S$33","v":907},{"$f":"GRA!$S$33","v":673},{"$f":"MAI!$S$33","v":1178},{"$f":"MED!$S$33","v":1297},{"$f":"SEV!$S$33","v":980},{"$f":"'F&H'!$S$33","v":898},{"$f":"SWA!$S$33","v":858},{"$f":"THA!$S$33","v":1023},{"$f":"TON!$S$33","v":926},{"$f":"TUN!$S$33","v":834},{"$f":"Kent!$S$33","v":10800},{"$f":"'Kent+Med'!$S$33","v":12097},{"$f":"'South East'!$S$33","v":93970},{"$f":"'England & Wales'!$S$33","v":372835}]
["Males","90+","-",{"$f":"ASH!$S$34","v":365},{"$f":"CAN!$S$34","v":545},{"$f":"DAR!$S$34","v":273},{"$f":"DOV!$S$34","v":380},{"$f":"GRA!$S$34","v":277},{"$f":"MAI!$S$34","v":492},{"$f":"MED!$S$34","v":512},{"$f":"SEV!$S$34","v":456},{"$f":"'F&H'!$S$34","v":404},{"$f":"SWA!$S$34","v":356},{"$f":"THA!$S$34","v":504},{"$f":"TON!$S$34","v":377},{"$f":"TUN!$S$34","v":428},{"$f":"Kent!$S$34","v":4858},{"$f":"'Kent+Med'!$S$34","v":5370},{"$f":"'South East'!$S$34","v":64743},{"$f":"'England & Wales'!$S$34","v":170171}]
[]
[]
["Females","All Ages","-",{"$f":"ASH!$S$36","v":68159},{"$f":"CAN!$S$36","v":81841},{"$f":"DAR!$S$36","v":59593},{"$f":"DOV!$S$36","v":59604},{"$f":"GRA!$S$36","v":54676},{"$f":"MAI!$S$36","v":88817},{"$f":"MED!$S$36","v":142647},{"$f":"SEV!$S$36","v":62307},{"$f":"'F&H'!$S$36","v":56183},{"$f":"SWA!$S$36","v":76368},{"$f":"THA!$S$36","v":72932},{"$f":"TON!$S$36","v":67852},{"$f":"TUN!$S$36","v":59369},{"$f":"Kent!$S$36","v":807686},{"$f":"'Kent+Med'!$S$36","v":950333},{"$f":"'South East'!$S$36","v":4738828},{"$f":"'England & Wales'!$S$36","v":30420202}]
["Females","0-4","-",{"$f":"ASH!$S$37","v":3722},{"$f":"CAN!$S$37","v":3294},{"$f":"DAR!$S$37","v":3967},{"$f":"DOV!$S$37","v":2743},{"$f":"GRA!$S$37","v":3233},{"$f":"MAI!$S$37","v":5035},{"$f":"MED!$S$37","v":8456},{"$f":"SEV!$S$37","v":3267},{"$f":"'F&H'!$S$37","v":2461},{"$f":"SWA!$S$37","v":4398},{"$f":"THA!$S$37","v":3481},{"$f":"TON!$S$37","v":3748},{"$f":"TUN!$S$37","v":2998},{"$f":"Kent!$S$37","v":42341},{"$f":"'Kent+Med'!$S$37","v":50797},{"$f":"'South East'!$S$37","v":241174},{"$f":"'England & Wales'!$S$37","v":1577342}]
["Females","5-9","-",{"$f":"ASH!$S$38","v":4046},{"$f":"CAN!$S$38","v":3738},{"$f":"DAR!$S$38","v":4060},{"$f":"DOV!$S$38","v":3161},{"$f":"GRA!$S$38","v":3507},{"$f":"MAI!$S$38","v":5193},{"$f":"MED!$S$38","v":8968},{"$f":"SEV!$S$38","v":3753},{"$f":"'F&H'!$S$38","v":2832},{"$f":"SWA!$S$38","v":4565},{"$f":"THA!$S$38","v":3806},{"$f":"TON!$S$38","v":4139},{"$f":"TUN!$S$38","v":3458},{"$f":"Kent!$S$38","v":46254},{"$f":"'Kent+Med'!$S$38","v":55222},{"$f":"'South East'!$S$38","v":268892},{"$f":"'England & Wales'!$S$38","v":1720435}]
["Females","10-14","-",{"$f":"ASH!$S$39","v":4255},{"$f":"CAN!$S$39","v":4000},{"$f":"DAR!$S$39","v":3936},{"$f":"DOV!$S$39","v":3317},{"$f":"GRA!$S$39","v":3549},{"$f":"MAI!$S$39","v":5067},{"$f":"MED!$S$39","v":8816},{"$f":"SEV!$S$39","v":3901},{"$f":"'F&H'!$S$39","v":3018},{"$f":"SWA!$S$39","v":4641},{"$f":"THA!$S$39","v":4027},{"$f":"TON!$S$39","v":4208},{"$f":"TUN!$S$39","v":3961},{"$f":"Kent!$S$39","v":47883},{"$f":"'Kent+Med'!$S$39","v":56699},{"$f":"'South East'!$S$39","v":276998},{"$f":"'England & Wales'!$S$39","v":1753133}]
["Females","15-19","-",{"$f":"ASH!$S$40","v":3496},{"$f":"CAN!$S$40","v":6345},{"$f":"DAR!$S$40","v":2971},{"$f":"DOV!$S$40","v":2841},{"$f":"GRA!$S$40","v":2937},{"$f":"MAI!$S$40","v":4270},{"$f":"MED!$S$40","v":7929},{"$f":"SEV!$S$40","v":3268},{"$f":"'F&H'!$S$40","v":2461},{"$f":"SWA!$S$40","v":3933},{"$f":"THA!$S$40","v":3331},{"$f":"TON!$S$40","v":3543},{"$f":"TUN!$S$40","v":3263},{"$f":"Kent!$S$40","v":42657},{"$f":"'Kent+Med'!$S$40","v":50586},{"$f":"'South East'!$S$40","v":253557},{"$f":"'England & Wales'!$S$40","v":1653226}]
["Females","20-24","-",{"$f":"ASH!$S$41","v":3202},{"$f":"CAN!$S$41","v":8273},{"$f":"DAR!$S$41","v":2849},{"$f":"DOV!$S$41","v":2662},{"$f":"GRA!$S$41","v":2751},{"$f":"MAI!$S$41","v":4326},{"$f":"MED!$S$41","v":7785},{"$f":"SEV!$S$41","v":2414},{"$f":"'F&H'!$S$41","v":2461},{"$f":"SWA!$S$41","v":3861},{"$f":"THA!$S$41","v":3338},{"$f":"TON!$S$41","v":2894},{"$f":"TUN!$S$41","v":2400},{"$f":"Kent!$S$41","v":41431},{"$f":"'Kent+Med'!$S$41","v":49216},{"$f":"'South East'!$S$41","v":254200},{"$f":"'England & Wales'!$S$41","v":1793333}]
["Females","25-29","-",{"$f":"ASH!$S$42","v":4093},{"$f":"CAN!$S$42","v":4352},{"$f":"DAR!$S$42","v":4268},{"$f":"DOV!$S$42","v":3386},{"$f":"GRA!$S$42","v":3383},{"$f":"MAI!$S$42","v":5544},{"$f":"MED!$S$42","v":9535},{"$f":"SEV!$S$42","v":2982},{"$f":"'F&H'!$S$42","v":2938},{"$f":"SWA!$S$42","v":4656},{"$f":"THA!$S$42","v":4116},{"$f":"TON!$S$42","v":3779},{"$f":"TUN!$S$42","v":3085},{"$f":"Kent!$S$42","v":46580},{"$f":"'Kent+Med'!$S$42","v":56115},{"$f":"'South East'!$S$42","v":276988},{"$f":"'England & Wales'!$S$42","v":1991859}]
["Females","30-34","-",{"$f":"ASH!$S$43","v":4693},{"$f":"CAN!$S$43","v":4317},{"$f":"DAR!$S$43","v":5277},{"$f":"DOV!$S$43","v":3541},{"$f":"GRA!$S$43","v":4013},{"$f":"MAI!$S$43","v":6280},{"$f":"MED!$S$43","v":10717},{"$f":"SEV!$S$43","v":3541},{"$f":"'F&H'!$S$43","v":3260},{"$f":"SWA!$S$43","v":5270},{"$f":"THA!$S$43","v":4598},{"$f":"TON!$S$43","v":4285},{"$f":"TUN!$S$43","v":3571},{"$f":"Kent!$S$43","v":52650},{"$f":"'Kent+Med'!$S$43","v":63367},{"$f":"'South East'!$S$43","v":312815},{"$f":"'England & Wales'!$S$43","v":2145179}]
["Females","35-39","-",{"$f":"ASH!$S$44","v":4397},{"$f":"CAN!$S$44","v":4395},{"$f":"DAR!$S$44","v":5093},{"$f":"DOV!$S$44","v":3413},{"$f":"GRA!$S$44","v":3990},{"$f":"MAI!$S$44","v":6076},{"$f":"MED!$S$44","v":10008},{"$f":"SEV!$S$44","v":3910},{"$f":"'F&H'!$S$44","v":3090},{"$f":"SWA!$S$44","v":5014},{"$f":"THA!$S$44","v":4329},{"$f":"TON!$S$44","v":4429},{"$f":"TUN!$S$44","v":3834},{"$f":"Kent!$S$44","v":51968},{"$f":"'Kent+Med'!$S$44","v":61976},{"$f":"'South East'!$S$44","v":313900},{"$f":"'England & Wales'!$S$44","v":2049396}]
["Females","40-44","-",{"$f":"ASH!$S$45","v":4212},{"$f":"CAN!$S$45","v":4297},{"$f":"DAR!$S$45","v":4364},{"$f":"DOV!$S$45","v":3226},{"$f":"GRA!$S$45","v":3535},{"$f":"MAI!$S$45","v":5689},{"$f":"MED!$S$45","v":9497},{"$f":"SEV!$S$45","v":4099},{"$f":"'F&H'!$S$45","v":3244},{"$f":"SWA!$S$45","v":4640},{"$f":"THA!$S$45","v":4166},{"$f":"TON!$S$45","v":4590},{"$f":"TUN!$S$45","v":4025},{"$f":"Kent!$S$45","v":50088},{"$f":"'Kent+Med'!$S$45","v":59585},{"$f":"'South East'!$S$45","v":309476},{"$f":"'England & Wales'!$S$45","v":1916205}]
["Females","45-49","-",{"$f":"ASH!$S$46","v":4444},{"$f":"CAN!$S$46","v":4701},{"$f":"DAR!$S$46","v":3857},{"$f":"DOV!$S$46","v":3523},{"$f":"GRA!$S$46","v":3452},{"$f":"MAI!$S$46","v":5954},{"$f":"MED!$S$46","v":8886},{"$f":"SEV!$S$46","v":4189},{"$f":"'F&H'!$S$46","v":3464},{"$f":"SWA!$S$46","v":4729},{"$f":"THA!$S$46","v":4460},{"$f":"TON!$S$46","v":4817},{"$f":"TUN!$S$46","v":4387},{"$f":"Kent!$S$46","v":51972},{"$f":"'Kent+Med'!$S$46","v":60858},{"$f":"'South East'!$S$46","v":312273},{"$f":"'England & Wales'!$S$46","v":1920744}]
["Females","50-54","-",{"$f":"ASH!$S$47","v":5071},{"$f":"CAN!$S$47","v":5161},{"$f":"DAR!$S$47","v":3877},{"$f":"DOV!$S$47","v":4163},{"$f":"GRA!$S$47","v":3811},{"$f":"MAI!$S$47","v":6217},{"$f":"MED!$S$47","v":9583},{"$f":"SEV!$S$47","v":4596},{"$f":"'F&H'!$S$47","v":4058},{"$f":"SWA!$S$47","v":5353},{"$f":"THA!$S$47","v":5195},{"$f":"TON!$S$47","v":5001},{"$f":"TUN!$S$47","v":4568},{"$f":"Kent!$S$47","v":57074},{"$f":"'Kent+Med'!$S$47","v":66657},{"$f":"'South East'!$S$47","v":334469},{"$f":"'England & Wales'!$S$47","v":2095862}]
["Females","55-59","-",{"$f":"ASH!$S$48","v":4689},{"$f":"CAN!$S$48","v":5288},{"$f":"DAR!$S$48","v":3502},{"$f":"DOV!$S$48","v":4513},{"$f":"GRA!$S$48","v":3561},{"$f":"MAI!$S$48","v":5987},{"$f":"MED!$S$48","v":9507},{"$f":"SEV!$S$48","v":4449},{"$f":"'F&H'!$S$48","v":4248},{"$f":"SWA!$S$48","v":5401},{"$f":"THA!$S$48","v":5094},{"$f":"TON!$S$48","v":4823},{"$f":"TUN!$S$48","v":4084},{"$f":"Kent!$S$48","v":55639},{"$f":"'Kent+Med'!$S$48","v":65146},{"$f":"'South East'!$S$48","v":325214},{"$f":"'England & Wales'!$S$48","v":2050761}]
["Females","60-64","-",{"$f":"ASH!$S$49","v":3788},{"$f":"CAN!$S$49","v":4751},{"$f":"DAR!$S$49","v":2792},{"$f":"DOV!$S$49","v":4168},{"$f":"GRA!$S$49","v":2880},{"$f":"MAI!$S$49","v":5013},{"$f":"MED!$S$49","v":7952},{"$f":"SEV!$S$49","v":3807},{"$f":"'F&H'!$S$49","v":3852},{"$f":"SWA!$S$49","v":4459},{"$f":"THA!$S$49","v":4668},{"$f":"TON!$S$49","v":3847},{"$f":"TUN!$S$49","v":3454},{"$f":"Kent!$S$49","v":47474},{"$f":"'Kent+Med'!$S$49","v":55426},{"$f":"'South East'!$S$49","v":275196},{"$f":"'England & Wales'!$S$49","v":1756019}]
["Females","65-69","-",{"$f":"ASH!$S$50","v":3456},{"$f":"CAN!$S$50","v":4491},{"$f":"DAR!$S$50","v":2217},{"$f":"DOV!$S$50","v":3792},{"$f":"GRA!$S$50","v":2506},{"$f":"MAI!$S$50","v":4477},{"$f":"MED!$S$50","v":6616},{"$f":"SEV!$S$50","v":3281},{"$f":"'F&H'!$S$50","v":3649},{"$f":"SWA!$S$50","v":3871},{"$f":"THA!$S$50","v":4520},{"$f":"TON!$S$50","v":3247},{"$f":"TUN!$S$50","v":2859},{"$f":"Kent!$S$50","v":42368},{"$f":"'Kent+Med'!$S$50","v":48984},{"$f":"'South East'!$S$50","v":239033},{"$f":"'England & Wales'!$S$50","v":1516957}]
["Females","70-74","-",{"$f":"ASH!$S$51","v":3851},{"$f":"CAN!$S$51","v":4979},{"$f":"DAR!$S$51","v":2272},{"$f":"DOV!$S$51","v":3987},{"$f":"GRA!$S$51","v":2588},{"$f":"MAI!$S$51","v":4888},{"$f":"MED!$S$51","v":6852},{"$f":"SEV!$S$51","v":3681},{"$f":"'F&H'!$S$51","v":3980},{"$f":"SWA!$S$51","v":4344},{"$f":"THA!$S$51","v":4895},{"$f":"TON!$S$51","v":3610},{"$f":"TUN!$S$51","v":3092},{"$f":"Kent!$S$51","v":46169},{"$f":"'Kent+Med'!$S$51","v":53021},{"$f":"'South East'!$S$51","v":254120},{"$f":"'England & Wales'!$S$51","v":1558474}]
["Females","75-79","-",{"$f":"ASH!$S$52","v":2873},{"$f":"CAN!$S$52","v":3797},{"$f":"DAR!$S$52","v":1609},{"$f":"DOV!$S$52","v":2976},{"$f":"GRA!$S$52","v":1930},{"$f":"MAI!$S$52","v":3472},{"$f":"MED!$S$52","v":4797},{"$f":"SEV!$S$52","v":2740},{"$f":"'F&H'!$S$52","v":2968},{"$f":"SWA!$S$52","v":3083},{"$f":"THA!$S$52","v":3655},{"$f":"TON!$S$52","v":2807},{"$f":"TUN!$S$52","v":2427},{"$f":"Kent!$S$52","v":34333},{"$f":"'Kent+Med'!$S$52","v":39130},{"$f":"'South East'!$S$52","v":192220},{"$f":"'England & Wales'!$S$52","v":1161368}]
["Females","80-84","-",{"$f":"ASH!$S$53","v":1904},{"$f":"CAN!$S$53","v":2612},{"$f":"DAR!$S$53","v":1300},{"$f":"DOV!$S$53","v":2037},{"$f":"GRA!$S$53","v":1512},{"$f":"MAI!$S$53","v":2599},{"$f":"MED!$S$53","v":3390},{"$f":"SEV!$S$53","v":2038},{"$f":"'F&H'!$S$53","v":2026},{"$f":"SWA!$S$53","v":2103},{"$f":"THA!$S$53","v":2513},{"$f":"TON!$S$53","v":2027},{"$f":"TUN!$S$53","v":1769},{"$f":"Kent!$S$53","v":24436},{"$f":"'Kent+Med'!$S$53","v":27826},{"$f":"'South East'!$S$53","v":139590},{"$f":"'England & Wales'!$S$53","v":848039}]
["Females","85-89","-",{"$f":"ASH!$S$54","v":1195},{"$f":"CAN!$S$54","v":1726},{"$f":"DAR!$S$54","v":868},{"$f":"DOV!$S$54","v":1285},{"$f":"GRA!$S$54","v":987},{"$f":"MAI!$S$54","v":1672},{"$f":"MED!$S$54","v":2089},{"$f":"SEV!$S$54","v":1386},{"$f":"'F&H'!$S$54","v":1256},{"$f":"SWA!$S$54","v":1246},{"$f":"THA!$S$54","v":1608},{"$f":"ASH!$S$54","v":1195},{"$f":"TUN!$S$54","v":1268},{"$f":"Kent!$S$54","v":15763},{"$f":"'Kent+Med'!$S$54","v":17852},{"$f":"'South East'!$S$54","v":93970},{"$f":"'England & Wales'!$S$54","v":552511}]
["Females","90+","-",{"$f":"ASH!$S$55","v":772},{"$f":"CAN!$S$55","v":1324},{"$f":"DAR!$S$55","v":514},{"$f":"DOV!$S$55","v":870},{"$f":"GRA!$S$55","v":551},{"$f":"MAI!$S$55","v":1058},{"$f":"MED!$S$55","v":1264},{"$f":"SEV!$S$55","v":1005},{"$f":"'F&H'!$S$55","v":917},{"$f":"SWA!$S$55","v":801},{"$f":"THA!$S$55","v":1132},{"$f":"ASH!$S$55","v":772},{"$f":"TUN!$S$55","v":866},{"$f":"Kent!$S$55","v":10606},{"$f":"'Kent+Med'!$S$55","v":11870},{"$f":"'South East'!$S$55","v":64743},{"$f":"'England & Wales'!$S$55","v":359359}]
[]
[]
["Population Pyramid data"]
["Selected district",null,null,null,null,null,null,null,"KCC Area"]
[{"$f":"INDEX(C76:T76,Index!B11)","v":"Ashford"},"Total Pop",{"$f":"SUM(B125,E125)","v":132752},null,null,null,null,"KCC","Total Pop",{"$f":"SUM(I125,L125)","v":1576077}]
[{"$f":"Index!C22","v":2021},"Males",null,null,"Females",null,null,null,"Males",null,null,"Females"]
["All Ages",{"$f":"INDEX(C77:T77,Index!$B$11)","v":64593},{"$f":"B125/C123","v":0.48656894058093286},null,{"$f":"INDEX(C99:T99,Index!$B$11)","v":68159},{"$f":"E125/C123","v":0.51343105941906708},null,"All Ages",{"$f":"Kent!S15","v":768391},null,null,{"$f":"Kent!S36","v":807686}]
["0-4",{"$f":"INDEX(C78:T78,Index!$B$11)","v":3886},{"$f":"B126/$C$123","v":2.9272628660961794E-2},{"$f":"C126*-1","v":-2.9272628660961794E-2},{"$f":"INDEX(C100:T100,Index!$B$11)","v":3722},{"$f":"E126/$C$123","v":2.8037242376762684E-2},null,"0-4",{"$f":"Kent!S16","v":44946},{"$f":"I126/$J$123","v":2.8517642221795002E-2},{"$f":"J126*-1","v":-2.8517642221795002E-2},{"$f":"Kent!S37","v":42341},{"$f":"L126/$J$123","v":2.6864804194211323E-2}]
["5-9",{"$f":"INDEX(C79:T79,Index!$B$11)","v":4268},{"$f":"B127/$C$123","v":3.2150174761962157E-2},{"$f":"C127*-1","v":-3.2150174761962157E-2},{"$f":"INDEX(C101:T101,Index!$B$11)","v":4046},{"$f":"E127/$C$123","v":3.0477883572375557E-2},null,"5-9",{"$f":"Kent!S17","v":49006},{"$f":"I127/$J$123","v":3.1093658495111597E-2},{"$f":"J127*-1","v":-3.1093658495111597E-2},{"$f":"Kent!S38","v":46254},{"$f":"L127/$J$123","v":2.9347550912804388E-2}]
["10-14",{"$f":"INDEX(C80:T80,Index!$B$11)","v":4304},3.2421357117030251E-2,-3.2421357117030251E-2,{"$f":"INDEX(C102:T102,Index!$B$11)","v":4255},3.2052247800409786E-2,null,"10-14",{"$f":"Kent!S18","v":50315},3.1924201672887807E-2,-3.1924201672887807E-2,{"$f":"Kent!S39","v":47883},3.038112985596516E-2]
["15-19",{"$f":"INDEX(C81:T81,Index!$B$11)","v":3810},2.8700132578040254E-2,-2.8700132578040254E-2,{"$f":"INDEX(C103:T103,Index!$B$11)","v":3496},2.6334819814390745E-2,null,"15-19",{"$f":"Kent!S19","v":45665},2.8973838207143433E-2,-2.8973838207143433E-2,{"$f":"Kent!S40","v":42657},2.7065302012528575E-2]
["20-24",{"$f":"INDEX(C82:T82,Index!$B$11)","v":3269},2.4624864408822465E-2,-2.4624864408822465E-2,{"$f":"INDEX(C104:T104,Index!$B$11)","v":3202},2.4120163914667953E-2,null,"20-24",{"$f":"Kent!S20","v":41977},2.6633851011086389E-2,-2.6633851011086389E-2,{"$f":"Kent!S41","v":41431},2.6287421236398982E-2]
["25-29",{"$f":"INDEX(C83:T83,Index!$B$11)","v":3864},2.91069061106424E-2,-2.91069061106424E-2,{"$f":"INDEX(C105:T105,Index!$B$11)","v":4093},3.0831927202603349E-2,null,"25-29",{"$f":"Kent!S21","v":44084},2.7970714628790343E-2,-2.7970714628790343E-2,{"$f":"Kent!S42","v":46580},2.9554393598789908E-2]
["30-34",{"$f":"INDEX(C84:T84,Index!$B$11)","v":4159},3.1329094853561529E-2,-3.1329094853561529E-2,{"$f":"INDEX(C106:T106,Index!$B$11)","v":4693},3.5351633120404964E-2,null,"30-34",{"$f":"Kent!S22","v":47979},3.0442040585580525E-2,-3.0442040585580525E-2,{"$f":"Kent!S43","v":52650},3.3405728273428262E-2]
["35-39",{"$f":"INDEX(C85:T85,Index!$B$11)","v":3943},2.9702000723152946E-2,-2.9702000723152946E-2,{"$f":"INDEX(C107:T107,Index!$B$11)","v":4397},3.3121911534289505E-2,null,"35-39",{"$f":"Kent!S23","v":47559},3.0175556143513294E-2,-3.0175556143513294E-2,{"$f":"Kent!S44","v":51968},3.2973008298452421E-2]
["40-44",{"$f":"INDEX(C86:T86,Index!$B$11)","v":3955},2.979239484150898E-2,-2.979239484150898E-2,{"$f":"INDEX(C108:T108,Index!$B$11)","v":4212},3.1728335542967334E-2,null,"40-44",{"$f":"Kent!S24","v":47493},3.0133680016902729E-2,-3.0133680016902729E-2,{"$f":"Kent!S45","v":50088},3.1780173176818138E-2]
["45-49",{"$f":"INDEX(C87:T87,Index!$B$11)","v":4043},3.0455285042786551E-2,-3.0455285042786551E-2,{"$f":"INDEX(C109:T109,Index!$B$11)","v":4444},3.3475955164517297E-2,null,"45-49",{"$f":"Kent!S25","v":49284},3.1270045816289435E-2,-3.1270045816289435E-2,{"$f":"Kent!S46","v":51972},3.2975546245519731E-2]
["50-54",{"$f":"INDEX(C88:T88,Index!$B$11)","v":4884},3.6790406170905149E-2,-3.6790406170905149E-2,{"$f":"INDEX(C110:T110,Index!$B$11)","v":5071},3.819904784861998E-2,null,"50-54",{"$f":"Kent!S26","v":54627},3.4660108611444744E-2,-3.4660108611444744E-2,{"$f":"Kent!S47","v":57074},3.6212697729869799E-2]
["55-59",{"$f":"INDEX(C89:T89,Index!$B$11)","v":4602},3.4666144389538391E-2,-3.4666144389538391E-2,{"$f":"INDEX(C111:T111,Index!$B$11)","v":4689},3.5321501747619624E-2,null,"55-59",{"$f":"Kent!S27","v":54081},3.4313678836757344E-2,-3.4313678836757344E-2,{"$f":"Kent!S48","v":55639},3.5302209219473413E-2]
["60-64",{"$f":"INDEX(C90:T90,Index!$B$11)","v":3661},2.7577738941786188E-2,-2.7577738941786188E-2,{"$f":"INDEX(C112:T112,Index!$B$11)","v":3788},2.8534410027720863E-2,null,"60-64",{"$f":"Kent!S28","v":45719},2.9008100492552077E-2,-2.9008100492552077E-2,{"$f":"Kent!S49","v":47474},3.0121624768333018E-2]
["65-69",{"$f":"INDEX(C91:T91,Index!$B$11)","v":3198},2.4090032541882609E-2,-2.4090032541882609E-2,{"$f":"INDEX(C113:T113,Index!$B$11)","v":3456},2.6033506086537303E-2,null,"65-69",{"$f":"Kent!S29","v":39161},2.4847136275702265E-2,-2.4847136275702265E-2,{"$f":"Kent!S50","v":42368},2.6881935336915647E-2]
["70-74",{"$f":"INDEX(C92:T92,Index!$B$11)","v":3387},2.5513739905990117E-2,-2.5513739905990117E-2,{"$f":"INDEX(C114:T114,Index!$B$11)","v":3851},2.9008979149090033E-2,null,"70-74",{"$f":"Kent!S30","v":41577},2.6380056304355689E-2,-2.6380056304355689E-2,{"$f":"Kent!S51","v":46169},2.9293619537624115E-2]
["75-79",{"$f":"INDEX(C93:T93,Index!$B$11)","v":2528},1.9043027600337471E-2,-1.9043027600337471E-2,{"$f":"INDEX(C115:T115,Index!$B$11)","v":2873},2.1641858503073399E-2,null,"75-79",{"$f":"Kent!S31","v":29802},1.8908974624970733E-2,-1.8908974624970733E-2,{"$f":"Kent!S52","v":34333},2.1783834165462729E-2]
["80-84",{"$f":"INDEX(C94:T94,Index!$B$11)","v":1601},1.2060081957333976E-2,-1.2060081957333976E-2,{"$f":"INDEX(C116:T116,Index!$B$11)","v":1904},1.4342533445823792E-2,null,"80-84",{"$f":"Kent!S32","v":19458},1.2345843508914857E-2,-1.2345843508914857E-2,{"$f":"Kent!S53","v":24436},1.5504318634178406E-2]
["85-89",{"$f":"INDEX(C95:T95,Index!$B$11)","v":866},6.5234422080269975E-3,-6.5234422080269975E-3,{"$f":"INDEX(C117:T117,Index!$B$11)","v":1195},9.0017476196215494E-3,null,"85-89",{"$f":"Kent!S33","v":10800},6.8524570817288747E-3,-6.8524570817288747E-3,{"$f":"Kent!S54","v":15763},1.0001414905490023E-2]
["90+",{"$f":"INDEX(C96:T96,Index!$B$11)","v":365},{"$f":"B144/$C$123","v":2.7494877666626493E-3},{"$f":"C144*-1","v":-2.7494877666626493E-3},{"$f":"INDEX(C118:T118,Index!$B$11)","v":772},{"$f":"E144/$C$123","v":5.8153549475714111E-3},null,"90+",{"$f":"Kent!S34","v":4858},{"$f":"I144/$J$123","v":3.0823367132443401E-3},{"$f":"J144*-1","v":-3.0823367132443401E-3},{"$f":"Kent!S55","v":10606},{"$f":"L144/$J$123","v":6.729366648964486E-3}]

{"sheet":"England & Wales","index":5,"n_rows":200,"n_cols":19,"rows_kept":200,"cut":false,"hidden":true,"merged":[[0,10,21,10]]}
["Mid Year Population Estimates",null,null,null,null,null,null,null,null,null,"Insert column here before extending the table"]
["2001, 2011, and 2021 Census: The Office forNnational Statistics (ONS)",null,null,null,null,null,"Selected Ages:",null,null,null,null,null,null,null,"Start year","End Year","Number change","% Change"]
[null,null,null,null,null,null,null,{"$f":"H13","v":2001},2011,{"$f":"J13","v":2021},null,null,null,null,{"$f":"INDEX($H3:$J3,Index!$B$16)","v":2011},{"$f":"INDEX($H3:$J3,Index!$B$19)","v":2011}]
[null,null,null,null,null,null,"Males",{"$f":"OFFSET(H16,Index!$B$7-1,0)-IF(Index!$B$4-2=1,0,OFFSET(H16,Index!$B$4-2,0))","v":25325926},{"$f":"OFFSET(I16,Index!$B$7-1,0)-IF(Index!$B$4-2=1,0,OFFSET(I16,Index!$B$4-2,0))","v":27573376},{"$f":"OFFSET(J16,Index!$B$7-1,0)-IF(Index!$B$4-2=1,0,OFFSET(J16,Index!$B$4-2,0))","v":29177337},null,null,null,null,{"$f":"INDEX($H4:$I4,Index!$B$16)","v":27573376},{"$f":"INDEX($H4:$J4,Index!$B$19)","v":27573376},{"$f":"P4-O4","v":0},{"$f":"Q4/O4","v":0}]
[null,null,null,null,null,null,"Females",{"$f":"OFFSET(H109,Index!$B$7-1,0)-IF(Index!$B$4-2=1,0,OFFSET(H109,Index!$B$4-2,0))","v":26715990},{"$f":"OFFSET(I109,Index!$B$7-1,0)-IF(Index!$B$4-2=1,0,OFFSET(I109,Index!$B$4-2,0))","v":28502536},{"$f":"OFFSET(J109,Index!$B$7-1,0)-IF(Index!$B$4-2=1,0,OFFSET(J109,Index!$B$4-2,0))","v":30420202},null,null,null,null,{"$f":"INDEX($H5:$I5,Index!$B$16)","v":28502536},{"$f":"INDEX($H5:$J5,Index!$B$19)","v":28502536},{"$f":"P5-O5","v":0},{"$f":"Q5/O5","v":0}]
[null,null,null,null,null,null,"Total",{"$f":"SUM(H4:H5)","v":52041916},56075912,{"$f":"SUM(J4:J5)","v":59597539},null,null,null,null,{"$f":"INDEX($H6:$I6,Index!$B$16)","v":56075912},{"$f":"INDEX($H6:$J6,Index!$B$19)","v":56075912},{"$f":"P6-O6","v":0},{"$f":"Q6/O6","v":0}]
[]
[null,null,null,null,null,null,"Males",{"$f":"IF(H4<0,\"0\",H4)","v":25325926},27573376,{"$f":"IF(J4<0,\"0\",J4)","v":29177337}]
[null,null,null,null,null,null,"Females",26715990,28502536,30420202]
[null,null,null,null,null,null,"Total",{"$f":"SUM(H8:H9)","v":52041916},56075912,{"$f":"SUM(J8:J9)","v":59597539}]
[]
["England & Wales",null,null,null,null,null,null,null,null,null,null,"Population Pyramid Data"]
[null,null,null,null,null,null,null,{"$f":"C14","v":2001},{"$f":"D14","v":2011},{"$f":"E14","v":2021}]
["Sex","Age",2001,2011,2021,null,null,null,null,null,null,null,null,null,2001,2011,2021,null,{"$f":"INDEX(O14:Q14,Index!$B$23)","v":2021}]
[null,"All persons",{"$f":"SUM(C107,C200)","v":52041916},56075912,{"$f":"SUM(E107,E200)","v":59597539},null,"Males",null,null,null,null,"Males","All Ages",null,{"$f":"C107","v":25325926},{"$f":"D107","v":27573376},{"$f":"E107","v":29177337},null,{"$f":"INDEX(O15:Q15,Index!$B$23)","v":29177337}]
["male",0,299417,364563,310633,null,0,{"$f":"C16","v":299417},{"$f":"D16","v":364563},{"$f":"E16","v":310633},null,"Males","0-4",null,{"$f":"SUM(C16:C20)","v":1584115},{"$f":"SUM(D16:D20)","v":1789744},{"$f":"SUM(E16:E20)","v":1654694},null,{"$f":"INDEX(O16:Q16,Index!$B$23)","v":1654694}]
["male",1,310995,360138,325410,null,1,{"$f":"H16+C17","v":610412},{"$f":"I16+D17","v":724701},{"$f":"J16+E17","v":636043},null,"Males","5-9",null,{"$f":"SUM(C21:C25)","v":1694550},{"$f":"SUM(D21:D25)","v":1604914},{"$f":"SUM(E21:E25)","v":1804190},null,{"$f":"INDEX(O17:Q17,Index!$B$23)","v":1804190}]
["male",2,318335,356860,333514,null,2,928747,1081561,969557,null,"Males","10-14",null,{"$f":"SUM(C26:C30)","v":1754009},{"$f":"SUM(D26:D30)","v":1668191},{"$f":"SUM(E26:E30)","v":1842896},null,{"$f":"INDEX(O18:Q18,Index!$B$23)","v":1842896}]
["male",3,323036,358783,336901,null,3,1251783,1440344,1306458,null,"Males","15-19",null,{"$f":"SUM(C31:C35)","v":1643975},{"$f":"SUM(D31:D35)","v":1808009},{"$f":"SUM(E31:E35)","v":1741438},null,{"$f":"INDEX(O19:Q19,Index!$B$23)","v":1741438}]
["male",4,332332,349400,348236,null,4,1584115,1789744,1654694,null,"Males","20-24",null,{"$f":"SUM(C36:C40)","v":1553228},{"$f":"SUM(D36:D40)","v":1919169},{"$f":"SUM(E36:E40)","v":1808793},null,{"$f":"INDEX(O20:Q20,Index!$B$23)","v":1808793}]
["male",5,328020,340396,355132,null,5,1912135,2130140,2009826,null,"Males","25-29",null,{"$f":"SUM(C41:C45)","v":1684729},{"$f":"SUM(D41:D45)","v":1914298},{"$f":"SUM(E41:E45)","v":1909881},null,{"$f":"INDEX(O21:Q21,Index!$B$23)","v":1909881}]
["male",6,330603,324026,350401,null,6,2242738,2454166,2360227,null,"Males","30-34",null,{"$f":"SUM(C46:C50)","v":1952606},{"$f":"SUM(D46:D50)","v":1842456},{"$f":"SUM(E46:E50)","v":2003621},null,{"$f":"INDEX(O22:Q22,Index!$B$23)","v":2003621}]
["male",7,339286,320917,354629,null,7,2582024,2775083,2714856,null,"Males","35-39",null,{"$f":"SUM(C51:C55)","v":2019630},{"$f":"SUM(D51:D55)","v":1855920},{"$f":"SUM(E51:E55)","v":1932223},null,{"$f":"INDEX(O23:Q23,Index!$B$23)","v":1932223}]
["male",8,342356,310141,370286,null,8,2924380,3085224,3085142,null,"Males","40-44",null,{"$f":"SUM(C56:C60)","v":1814937},{"$f":"SUM(D56:D60)","v":2027932},{"$f":"SUM(E56:E60)","v":1839557},null,{"$f":"INDEX(O24:Q24,Index!$B$23)","v":1839557}]
["male",9,354285,309434,373742,null,9,3278665,3394658,3458884,null,"Males","45-49",null,{"$f":"SUM(C61:C65)","v":1632780},{"$f":"SUM(D61:D65)","v":2028286},{"$f":"SUM(E61:E65)","v":1867977},null,{"$f":"INDEX(O25:Q25,Index!$B$23)","v":1867977}]
["male",10,359226,317099,375723,null,10,3637891,3711757,3834607,null,"Males","50-54",null,{"$f":"SUM(C66:C70)","v":1780556},{"$f":"SUM(D66:D70)","v":1786690},{"$f":"SUM(E66:E70)","v":2027569},null,{"$f":"INDEX(O26:Q26,Index!$B$23)","v":2027569}]
["male",11,351317,328276,370889,null,11,3989208,4040033,4205496,null,"Males","55-59",null,{"$f":"SUM(C71:C75)","v":1466976},{"$f":"SUM(D71:D75)","v":1573599},{"$f":"SUM(E71:E75)","v":1978278},null,{"$f":"INDEX(O27:Q27,Index!$B$23)","v":1978278}]
["male",12,348190,335058,369527,null,12,4337398,4375091,4575023,null,"Males","60-64",null,{"$f":"SUM(C76:C80)","v":1249632},{"$f":"SUM(D76:D80)","v":1658007},{"$f":"SUM(E76:E80)","v":1699585},null,{"$f":"INDEX(O28:Q28,Index!$B$23)","v":1699585}]
["male",13,353609,340517,369018,null,13,4691007,4715608,4944041,null,"Males","65-69",null,{"$f":"SUM(C81:C85)","v":1100967},{"$f":"SUM(D81:D85)","v":1299081},{"$f":"SUM(E81:E85)","v":1428180},null,{"$f":"INDEX(O29:Q29,Index!$B$23)","v":1428180}]
["male",14,341667,347241,357739,null,14,5032674,5062849,5301780,null,"Males","70-74",null,{"$f":"SUM(C86:C90)","v":944034},{"$f":"SUM(D86:D90)","v":1032457},{"$f":"SUM(E86:E90)","v":1419509},null,{"$f":"INDEX(O30:Q30,Index!$B$23)","v":1419509}]
["male",15,339467,354513,348218,null,15,5372141,5417362,5649998,null,"Males","75-79",null,{"$f":"SUM(C91:C95)","v":733119},{"$f":"SUM(D91:D95)","v":804697},{"$f":"SUM(E91:E95)","v":1008903},null,{"$f":"INDEX(O31:Q31,Index!$B$23)","v":1008903}]
["male",16,344464,352361,352550,null,16,5716605,5769723,6002548,null,"Males","80-84",null,{"$f":"SUM(C96:C100)","v":435262},{"$f":"SUM(D96:D100)","v":552538},{"$f":"SUM(E96:E100)","v":667037},null,{"$f":"INDEX(O32:Q32,Index!$B$23)","v":667037}]
["male",17,327567,361859,348431,null,17,6044172,6131582,6350979,null,"Males","85-89",null,{"$f":"SUM(C101:C105)","v":205152},{"$f":"SUM(D101:D105)","v":292882},372835,null,{"$f":"INDEX(O33:Q33,Index!$B$23)","v":372835}]
["male",18,319728,364464,342820,null,18,6363900,6496046,6693799,null,"Males","90+",null,{"$f":"C106","v":75669},{"$f":"D106","v":114506},170171,null,{"$f":"INDEX(O34:Q34,Index!$B$23)","v":170171}]
["male",19,312749,374812,349419,null,19,6676649,6870858,7043218,null,null,null,null,null,null,null,null,{"$f":"INDEX(O35:Q35,Index!$B$23)","v":0}]
["male",20,327313,397052,348551,null,20,7003962,7267910,7391769,null,"Females","All Ages",null,{"$f":"C200","v":26715990},{"$f":"D200","v":28502536},{"$f":"E200","v":30420202},null,{"$f":"INDEX(O36:Q36,Index!$B$23)","v":30420202}]
["male",21,324902,385142,357691,null,21,7328864,7653052,7749460,null,"Females","0-4",null,{"$f":"SUM(C109:C113)","v":1510026},{"$f":"SUM(D109:D113)","v":1707006},{"$f":"SUM(E109:E113)","v":1577342},null,{"$f":"INDEX(O37:Q37,Index!$B$23)","v":1577342}]
["male",22,309619,381192,364516,null,22,7638483,8034244,8113976,null,"Females","5-9",null,{"$f":"SUM(C114:C118)","v":1613304},{"$f":"SUM(D114:D118)","v":1530797},{"$f":"SUM(E114:E118)","v":1720435},null,{"$f":"INDEX(O38:Q38,Index!$B$23)","v":1720435}]
["male",23,294038,384397,366654,null,23,7932521,8418641,8480630,null,"Females","10-14",null,{"$f":"SUM(C119:C123)","v":1671014},{"$f":"SUM(D119:D123)","v":1590486},{"$f":"SUM(E119:E123)","v":1753133},null,{"$f":"INDEX(O39:Q39,Index!$B$23)","v":1753133}]
["male",24,297356,371386,371381,null,24,8229877,8790027,8852011,null,"Females","15-19",null,{"$f":"SUM(C124:C128)","v":1573333},{"$f":"SUM(D124:D128)","v":1731376},{"$f":"SUM(E124:E128)","v":1653226},null,{"$f":"INDEX(O40:Q40,Index!$B$23)","v":1653226}]
["male",25,306536,387772,370311,null,25,8536413,9177799,9222322,null,"Females","20-24",null,{"$f":"SUM(C129:C133)","v":1568984},{"$f":"SUM(D129:D133)","v":1888076},{"$f":"SUM(E129:E133)","v":1793333},null,{"$f":"INDEX(O41:Q41,Index!$B$23)","v":1793333}]
["male",26,319687,384330,375456,null,26,8856100,9562129,9597778,null,"Females","25-29",null,{"$f":"SUM(C134:C138)","v":1750279},{"$f":"SUM(D134:D138)","v":1922311},{"$f":"SUM(E134:E138)","v":1991859},null,{"$f":"INDEX(O42:Q42,Index!$B$23)","v":1991859}]
["male",27,330390,379852,381395,null,27,9186490,9941981,9979173,null,"Females","30-34",null,{"$f":"SUM(C139:C143)","v":2031315},{"$f":"SUM(D139:D143)","v":1841459},{"$f":"SUM(E139:E143)","v":2145179},null,{"$f":"INDEX(O43:Q43,Index!$B$23)","v":2145179}]
["male",28,354733,379915,386633,null,28,9541223,10321896,10365806,null,"Females","35-39",null,{"$f":"SUM(C144:C148)","v":2073554},{"$f":"SUM(D144:D148)","v":1876241},{"$f":"SUM(E144:E148)","v":2049396},null,{"$f":"INDEX(O44:Q44,Index!$B$23)","v":2049396}]
["male",29,373383,382429,396086,null,29,9914606,10704325,10761892,null,"Females","40-44",null,{"$f":"SUM(C149:C153)","v":1841431},{"$f":"SUM(D149:D153)","v":2071157},{"$f":"SUM(E149:E153)","v":1916205},null,{"$f":"INDEX(O45:Q45,Index!$B$23)","v":1916205}]
["male",30,382801,391182,407212,null,30,10297407,11095507,11169104,null,"Females","45-49",null,{"$f":"SUM(C154:C158)","v":1663273},{"$f":"SUM(D154:D158)","v":2072240},{"$f":"SUM(E154:E158)","v":1920744},null,{"$f":"INDEX(O46:Q46,Index!$B$23)","v":1920744}]
["male",31,378586,386772,400634,null,31,10675993,11482279,11569738,null,"Females","50-54",null,{"$f":"SUM(C159:C163)","v":1810487},{"$f":"SUM(D159:D163)","v":1815004},{"$f":"SUM(E159:E163)","v":2095862},null,{"$f":"INDEX(O47:Q47,Index!$B$23)","v":2095862}]
["male",32,391524,368686,400341,null,32,11067517,11850965,11970079,null,"Females","55-59",null,{"$f":"SUM(C164:C168)","v":1495297},{"$f":"SUM(D164:D168)","v":1610316},{"$f":"SUM(E164:E168)","v":2050761},null,{"$f":"INDEX(O48:Q48,Index!$B$23)","v":2050761}]
["male",33,393583,346757,404087,null,33,{"$f":"H48+C49","v":11461100},{"$f":"I48+D49","v":12197722},{"$f":"J48+E49","v":12374166},null,"Females","60-64",null,{"$f":"SUM(C169:C173)","v":1295122},{"$f":"SUM(D169:D173)","v":1719155},{"$f":"SUM(E169:E173)","v":1756019},null,{"$f":"INDEX(O49:Q49,Index!$B$23)","v":1756019}]
["male",34,406112,349059,391347,null,34,11867212,12546781,12765513,null,"Females","65-69",null,{"$f":"SUM(C174:C178)","v":1191515},{"$f":"SUM(D174:D178)","v":1375080},{"$f":"SUM(E174:E178)","v":1516957},null,{"$f":"INDEX(O50:Q50,Index!$B$23)","v":1516957}]
["male",35,408224,348664,394842,null,35,12275436,12895445,13160355,null,"Females","70-74",null,{"$f":"SUM(C179:C183)","v":1130516},{"$f":"SUM(D179:D183)","v":1146215},{"$f":"SUM(E179:E183)","v":1558474},null,{"$f":"INDEX(O51:Q51,Index!$B$23)","v":1558474}]
["male",36,411532,358612,389732,null,36,12686968,13254057,13550087,null,"Females","75-79",null,{"$f":"SUM(C184:C188)","v":1021904},{"$f":"SUM(D184:D188)","v":972850},{"$f":"SUM(E184:E188)","v":1161368},null,{"$f":"INDEX(O52:Q52,Index!$B$23)","v":1161368}]
["male",37,407382,365376,383237,null,37,13094350,13619433,13933324,null,"Females","80-84",null,{"$f":"SUM(C189:C193)","v":743052},{"$f":"SUM(D189:D193)","v":785467},{"$f":"SUM(E189:E193)","v":848039},null,{"$f":"INDEX(O53:Q53,Index!$B$23)","v":848039}]
["male",38,401036,383130,381483,null,38,13495386,14002563,14314807,null,"Females","85-89",null,{"$f":"SUM(C194:C198)","v":471526},{"$f":"SUM(D194:D198)","v":532789},552511,null,{"$f":"INDEX(O54:Q54,Index!$B$23)","v":552511}]
["male",39,391456,400138,382929,null,39,13886842,14402701,14697736,null,"Females","90+",null,{"$f":"C199","v":260058},{"$f":"D199","v":314511},359359,null,{"$f":"INDEX(O55:Q55,Index!$B$23)","v":359359}]
["male",40,382095,403868,390970,null,40,14268937,14806569,15088706]
["male",41,367789,397474,386634,null,41,14636726,15204043,15475340]
["male",42,362289,406671,367438,null,42,14999015,15610714,15842778]
["male",43,357831,406085,346686,null,43,15356846,16016799,16189464]
["male",44,344933,413834,347829,null,44,15701779,16430633,16537293]
["male",45,332595,411860,353127,null,45,16034374,16842493,16890420]
["male",46,324918,415341,362600,null,46,16359292,17257834,17253020]
["male",47,329149,408306,368194,null,47,16688441,17666140,17621214]
["male",48,324653,401385,384253,null,48,17013094,18067525,18005467]
["male",49,321465,391394,399803,null,49,17334559,18458919,18405270]
["male",50,324588,380256,406324,null,50,17659147,18839175,18811594]
["male",51,335927,362738,399247,null,51,17995074,19201913,19210841]
["male",52,347417,357370,407988,null,52,18342491,19559283,19618829]
["male",53,376816,350570,404965,null,53,18719307,19909853,20023794]
["male",54,395808,335756,409045,null,54,19115115,20245609,20432839]
["male",55,303622,323041,406631,null,55,19418737,20568650,20839470]
["male",56,314139,315885,407580,null,56,19732876,20884535,21247050]
["male",57,303779,317963,397531,null,57,20036655,21202498,21644581]
["male",58,289098,310495,389382,null,58,20325753,21512993,22033963]
["male",59,256338,306215,377154,null,59,20582091,21819208,22411117]
["male",60,242738,306971,367057,null,60,20824829,22126179,22778174]
["male",61,257174,316402,348392,null,61,21082003,22442581,23126566]
["male",62,254224,325015,340031,null,62,21336227,22767596,23466597]
["male",63,251727,353583,330260,null,63,21587954,23121179,23796857]
["male",64,243769,356036,313845,null,64,21831723,23477215,24110702]
["male",65,234957,272322,299067,null,65,{"$f":"H80+C81","v":22066680},{"$f":"I80+D81","v":23749537},{"$f":"J80+E81","v":24409769}]
["male",66,227054,287673,289582,null,66,22293734,24037210,24699351]
["male",67,214843,268003,289362,null,67,22508577,24305213,24988713]
["male",68,212775,252531,278127,null,68,22721352,24557744,25266840]
["male",69,211338,218552,272042,null,69,22932690,24776296,25538882]
["male",70,207411,209053,270932,null,70,23140101,24985349,25809814]
["male",71,197717,216510,274216,null,71,23337818,25201859,26084030]
["male",72,187679,210735,278582,null,72,23525497,25412594,26362612]
["male",73,177786,203124,300163,null,73,23703283,25615718,26662775]
["male",74,173441,193035,295616,null,74,23876724,25808753,26958391]
["male",75,165399,181249,221123,null,75,24042123,25990002,27179514]
["male",76,154132,171590,229938,null,76,24196255,26161592,27409452]
["male",77,144835,157531,208180,null,77,24341090,26319123,27617632]
["male",78,135975,151237,190481,null,78,24477065,26470360,27808113]
["male",79,132778,143090,159181,null,79,24609843,26613450,27967294]
["male",80,127561,135592,146846,null,80,24737404,26749042,28114140]
["male",81,115528,121635,146401,null,81,24852932,26870677,28260541]
["male",82,72307,109433,136733,null,82,24925239,26980110,28397274]
["male",83,59310,96953,124811,null,83,24984549,27077063,28522085]
["male",84,60556,88925,112246,null,84,25045105,27165988,28634331]
["male",85,54038,78063,97914,null,85,25099143,27244051,28732245]
["male",86,49658,66559,85813,null,86,25148801,27310610,28818058]
["male",87,41018,57282,72740,null,87,25189819,27367892,28890798]
["male",88,33733,48484,63092,null,88,25223552,27416376,28953890]
["male",89,26705,42494,53276,null,89,25250257,27458870,29007166]
["male","90+",75669,114506,170171,null,"90+",25325926,27573376,29177337]
[null,"All Males",{"$f":"SUM(C16:C106)","v":25325926},27573376,{"$f":"SUM(E16:E106)","v":29177337},null,"Females"]
["Sex","Age"]
["female",0,286823,346966,296691,null,0,{"$f":"C109","v":286823},{"$f":"D109","v":346966},{"$f":"E109","v":296691}]
["female",1,295543,344017,310353,null,1,{"$f":"H109+C110","v":582366},{"$f":"I109+D110","v":690983},{"$f":"J109+E110","v":607044}]
["female",2,302794,341917,316678,null,2,885160,1032900,923722]
["female",3,308287,340616,321868,null,3,1193447,1373516,1245590]
["female",4,316579,333490,331752,null,4,1510026,1707006,1577342]
["female",5,312078,325924,338003,null,5,1822104,2032930,1915345]
["female",6,313725,309589,334244,null,6,2135829,2342519,2249589]
["female",7,323105,306187,338613,null,7,2458934,2648706,2588202]
["female",8,326089,294251,352045,null,8,2785023,2942957,2940247]
["female",9,338307,294846,357530,null,9,3123330,3237803,3297777]
["female",10,341638,303349,355845,null,10,3464968,3541152,3653622]
["female",11,334328,311883,353605,null,11,3799296,3853035,4007227]
["female",12,331980,319527,352516,null,12,4131276,4172562,4359743]
["female",13,336750,324707,350382,null,13,4468026,4497269,4710125]
["female",14,326318,331020,340785,null,14,4794344,4828289,5050910]
["female",15,322251,333481,330261,null,15,5116595,5161770,5381171]
["female",16,324060,334360,332162,null,16,5440655,5496130,5713333]
["female",17,310409,342655,327900,null,17,5751064,5838785,6041233]
["female",18,306991,351196,324819,null,18,6058055,6189981,6366052]
["female",19,309622,369684,338084,null,19,6367677,6559665,6704136]
["female",20,325286,376657,337666,null,20,6692963,6936322,7041802]
["female",21,324419,369796,348438,null,21,7017382,7306118,7390240]
["female",22,312418,376483,360865,null,22,7329800,7682601,7751105]
["female",23,300610,384632,369048,null,23,7630410,8067233,8120153]
["female",24,306251,380508,377316,null,24,7936661,8447741,8497469]
["female",25,316391,382049,377637,null,25,8253052,8829790,8875106]
["female",26,331108,384425,388625,null,26,8584160,9214215,9263731]
["female",27,344812,382134,398734,null,27,8928972,9596349,9662465]
["female",28,367980,385018,407374,null,28,9296952,9981367,10069839]
["female",29,389988,388685,419489,null,29,9686940,10370052,10489328]
["female",30,399538,394014,430751,null,30,10086478,10764066,10920079]
["female",31,393130,388387,426801,null,31,10479608,11152453,11346880]
["female",32,408673,366414,429538,null,32,10888281,11518867,11776418]
["female",33,409609,346131,434311,null,33,{"$f":"H141+C142","v":11297890},{"$f":"I141+D142","v":11864998},{"$f":"J141+E142","v":12210729}]
["female",34,420365,346513,423778,null,34,11718255,12211511,12634507]
["female",35,420817,352692,419544,null,35,12139072,12564203,13054051]
["female",36,423120,361657,415402,null,36,12562192,12925860,13469453]
["female",37,418422,369692,407132,null,37,12980614,13295552,13876585]
["female",38,410959,387192,404238,null,38,13391573,13682744,14280823]
["female",39,400236,405008,403080,null,39,13791809,14087752,14683903]
["female",40,389239,413543,412995,null,40,14181048,14501295,15096898]
["female",41,372778,405726,404725,null,41,14553826,14907021,15501623]
["female",42,367248,416966,381526,null,42,14921074,15323987,15883149]
["female",43,362318,414504,358555,null,43,15283392,15738491,16241704]
["female",44,349848,420418,358404,null,44,15633240,16158909,16600108]
["female",45,338110,422792,363398,null,45,15971350,16581701,16963506]
["female",46,331103,425032,372378,null,46,16302453,17006733,17335884]
["female",47,335588,417820,378626,null,47,16638041,17424553,17714510]
["female",48,330293,409522,394780,null,48,16968334,17834075,18109290]
["female",49,328179,397074,411562,null,49,17296513,18231149,18520852]
["female",50,330917,385951,421748,null,50,17627430,18617100,18942600]
["female",51,343105,368440,411751,null,51,17970535,18985540,19354351]
["female",52,352999,363330,421888,null,52,18323534,19348870,19776239]
["female",53,383002,355176,419416,null,53,18706536,19704046,20195655]
["female",54,400464,342107,421059,null,54,19107000,20046153,20616714]
["female",55,309495,328283,422143,null,55,19416495,20374436,21038857]
["female",56,319611,323464,422022,null,56,19736106,20697900,21460879]
["female",57,308026,325505,412768,null,57,20044132,21023405,21873647]
["female",58,294669,318535,403497,null,58,20338801,21341940,22277144]
["female",59,263496,314529,390331,null,59,20602297,21656469,22667475]
["female",60,250737,317659,376349,null,60,20853034,21974128,23043824]
["female",61,265711,328532,358616,null,61,21118745,22302660,23402440]
["female",62,263796,336288,352337,null,62,21382541,22638948,23754777]
["female",63,260666,366643,341391,null,63,21643207,23005591,24096168]
["female",64,254212,370033,327326,null,64,21897419,23375624,24423494]
["female",65,248086,285382,312634,null,65,{"$f":"H173+C174","v":22145505},{"$f":"I173+D174","v":23661006},{"$f":"J173+E174","v":24736128}]
["female",66,240901,301721,306708,null,66,22386406,23962727,25042836]
["female",67,232385,282561,307056,null,67,22618791,24245288,25349892]
["female",68,234234,269186,297970,null,68,22853025,24514474,25647862]
["female",69,235909,236230,292589,null,69,23088934,24750704,25940451]
["female",70,238390,228278,293580,null,70,23327324,24978982,26234031]
["female",71,233001,237886,300618,null,71,23560325,25216868,26534649]
["female",72,225130,234077,305160,null,72,23785455,25450945,26839809]
["female",73,216873,226822,331217,null,73,24002328,25677767,27171026]
["female",74,217122,219152,327899,null,74,24219450,25896919,27498925]
["female",75,213256,210211,248428,null,75,24432706,26107130,27747353]
["female",76,206798,201669,260805,null,76,24639504,26308799,28008158]
["female",77,202411,190307,238570,null,77,24841915,26499106,28246728]
["female",78,197861,187600,222676,null,78,25039776,26686706,28469404]
["female",79,201578,183063,190889,null,79,25241354,26869769,28660293]
["female",80,203070,180365,179782,null,80,25444424,27050134,28840075]
["female",81,188351,168388,182268,null,81,25632775,27218522,29022343]
["female",82,125496,156468,173804,null,82,25758271,27374990,29196147]
["female",83,109220,143694,162241,null,83,25867491,27518684,29358388]
["female",84,116915,136552,149944,null,84,25984406,27655236,29508332]
["female",85,111463,126067,136120,null,85,26095869,27781303,29644452]
["female",86,109524,115499,122305,null,86,26205393,27896802,29766757]
["female",87,96517,106022,108354,null,87,26301910,28002824,29875111]
["female",88,83674,95972,98357,null,88,26385584,28098796,29973468]
["female",89,70348,89229,87375,null,89,26455932,28188025,30060843]
["female","90+",260058,314511,359359,null,"90+",26715990,28502536,30420202]
[null,"All Females",{"$f":"SUM(C109:C199)","v":26715990},28502536,{"$f":"SUM(E109:E199)","v":30420202}]

{"sheet":"South East","index":6,"n_rows":200,"n_cols":19,"rows_kept":200,"cut":false,"hidden":true,"merged":[[0,10,21,10]]}
["Mid Year Population Estimates",null,null,null,null,null,null,null,null,null,"Insert column here before extending the table"]
["2001, 2011, and 2021 Census: The Office forNnational Statistics (ONS)",null,null,null,null,null,"Selected Ages:",null,null,null,null,null,null,null,"Start year","End Year","Number change","% Change"]
[null,null,null,null,null,null,null,{"$f":"H13","v":2001},2011,{"$f":"J13","v":2021},null,null,null,null,{"$f":"INDEX($H3:$I3,Index!$B$16)","v":2011},{"$f":"INDEX($H3:$I3,Index!$B$19)","v":2011}]
[null,null,null,null,null,null,"Males",{"$f":"OFFSET(H16,Index!$B$7-1,0)-IF(Index!$B$4-2=1,0,OFFSET(H16,Index!$B$4-2,0))","v":3905155},{"$f":"OFFSET(I16,Index!$B$7-1,0)-IF(Index!$B$4-2=1,0,OFFSET(I16,Index!$B$4-2,0))","v":4239298},{"$f":"OFFSET(J16,Index!$B$7-1,0)-IF(Index!$B$4-2=1,0,OFFSET(J16,Index!$B$4-2,0))","v":4738828},null,null,null,null,{"$f":"INDEX($H4:$I4,Index!$B$16)","v":4239298},{"$f":"INDEX($H4:$J4,Index!$B$19)","v":4239298},{"$f":"P4-O4","v":0},{"$f":"Q4/O4","v":0}]
[null,null,null,null,null,null,"Females",{"$f":"OFFSET(H109,Index!$B$7-1,0)-IF(Index!$B$4-2=1,0,OFFSET(H109,Index!$B$4-2,0))","v":4095490},{"$f":"OFFSET(I109,Index!$B$7-1,0)-IF(Index!$B$4-2=1,0,OFFSET(I109,Index!$B$4-2,0))","v":4395452},{"$f":"OFFSET(J109,Index!$B$7-1,0)-IF(Index!$B$4-2=1,0,OFFSET(J109,Index!$B$4-2,0))","v":4738828},null,null,null,null,{"$f":"INDEX($H5:$I5,Index!$B$16)","v":4395452},{"$f":"INDEX($H5:$J5,Index!$B$19)","v":4395452},{"$f":"P5-O5","v":0},{"$f":"Q5/O5","v":0}]
[null,null,null,null,null,null,"Total",{"$f":"SUM(H4:H5)","v":8000645},8634750,{"$f":"SUM(J4:J5)","v":9477656},null,null,null,null,{"$f":"INDEX($H6:$I6,Index!$B$16)","v":8634750},{"$f":"INDEX($H6:$J6,Index!$B$19)","v":8634750},{"$f":"P6-O6","v":0},{"$f":"Q6/O6","v":0}]
[]
[null,null,null,null,null,null,"Males",{"$f":"IF(H4<0,\"0\",H4)","v":3905155},4239298,{"$f":"IF(J4<0,\"0\",J4)","v":4738828}]
[null,null,null,null,null,null,"Females",4095490,4395452,4738828]
[null,null,null,null,null,null,"Total",{"$f":"SUM(H8:H9)","v":8000645},8634750,{"$f":"SUM(J8:J9)","v":9477656}]
[]
["South East Region",null,null,null,null,null,null,null,null,null,null,"Population Pyramid Data"]
[null,null,null,null,null,null,null,{"$f":"C14","v":2001},{"$f":"D14","v":2011},{"$f":"E14","v":2021}]
["Sex","Age",2001,2011,2021,null,null,null,null,null,null,null,null,null,2001,2011,2021,null,{"$f":"INDEX(O14:Q14,Index!$B$23)","v":2021}]
[null,"All persons",{"$f":"SUM(C107,C200)","v":8000645},8634750,{"$f":"SUM(E107,E200)","v":9477656},null,"Males",null,null,null,null,"Males","All Ages",null,{"$f":"C107","v":3905155},{"$f":"D107","v":4239298},{"$f":"E107","v":4738828},null,{"$f":"INDEX(O15:Q15,Index!$B$23)","v":4738828}]
["male",0,45544,55124,44565,null,0,{"$f":"C16","v":45544},{"$f":"D16","v":55124},{"$f":"E16","v":44565},null,"Males","0-4",null,{"$f":"SUM(C16:C20)","v":242276},{"$f":"SUM(D16:D20)","v":273825},{"$f":"SUM(E16:E20)","v":241174},null,{"$f":"INDEX(O16:Q16,Index!$B$23)","v":241174}]
["male",1,47887,54737,46971,null,1,{"$f":"H16+C17","v":93431},{"$f":"I16+D17","v":109861},{"$f":"J16+E17","v":91536},null,"Males","5-9",null,{"$f":"SUM(C21:C25)","v":260054},{"$f":"SUM(D21:D25)","v":250195},{"$f":"SUM(E21:E25)","v":268892},null,{"$f":"INDEX(O17:Q17,Index!$B$23)","v":268892}]
["male",2,49079,54632,48703,null,2,142510,164493,140239,null,"Males","10-14",null,{"$f":"SUM(C26:C30)","v":265551},{"$f":"SUM(D26:D30)","v":263517},{"$f":"SUM(E26:E30)","v":276998},null,{"$f":"INDEX(O18:Q18,Index!$B$23)","v":276998}]
["male",3,49349,55064,49622,null,3,191859,219557,189861,null,"Males","15-19",null,{"$f":"SUM(C31:C35)","v":249391},{"$f":"SUM(D31:D35)","v":277823},{"$f":"SUM(E31:E35)","v":253557},null,{"$f":"INDEX(O19:Q19,Index!$B$23)","v":253557}]
["male",4,50417,54268,51313,null,4,242276,273825,241174,null,"Males","20-24",null,{"$f":"SUM(C36:C40)","v":233092},{"$f":"SUM(D36:D40)","v":270841},{"$f":"SUM(E36:E40)","v":254200},null,{"$f":"INDEX(O20:Q20,Index!$B$23)","v":254200}]
["male",5,50370,52745,52914,null,5,292646,326570,294088,null,"Males","25-29",null,{"$f":"SUM(C41:C45)","v":248432},{"$f":"SUM(D41:D45)","v":263534},{"$f":"SUM(E41:E45)","v":276988},null,{"$f":"INDEX(O21:Q21,Index!$B$23)","v":276988}]
["male",6,50850,49990,52107,null,6,343496,376560,346195,null,"Males","30-34",null,{"$f":"SUM(C46:C50)","v":291692},{"$f":"SUM(D46:D50)","v":266024},{"$f":"SUM(E46:E50)","v":312815},null,{"$f":"INDEX(O22:Q22,Index!$B$23)","v":312815}]
["male",7,52564,50530,52580,null,7,396060,427090,398775,null,"Males","35-39",null,{"$f":"SUM(C51:C55)","v":316206},{"$f":"SUM(D51:D55)","v":284695},{"$f":"SUM(E51:E55)","v":313900},null,{"$f":"INDEX(O23:Q23,Index!$B$23)","v":313900}]
["male",8,52169,48549,54996,null,8,448229,475639,453771,null,"Males","40-44",null,{"$f":"SUM(C56:C60)","v":288282},{"$f":"SUM(D56:D60)","v":318221},{"$f":"SUM(E56:E60)","v":309476},null,{"$f":"INDEX(O24:Q24,Index!$B$23)","v":309476}]
["male",9,54101,48381,56295,null,9,502330,524020,510066,null,"Males","45-49",null,{"$f":"SUM(C61:C65)","v":258162},{"$f":"SUM(D61:D65)","v":324463},{"$f":"SUM(E61:E65)","v":312273},null,{"$f":"INDEX(O25:Q25,Index!$B$23)","v":312273}]
["male",10,54332,50141,56215,null,10,556662,574161,566281,null,"Males","50-54",null,{"$f":"SUM(C66:C70)","v":282527},{"$f":"SUM(D66:D70)","v":282878},{"$f":"SUM(E66:E70)","v":334469},null,{"$f":"INDEX(O26:Q26,Index!$B$23)","v":334469}]
["male",11,53205,52278,55872,null,11,609867,626439,622153,null,"Males","55-59",null,{"$f":"SUM(C71:C75)","v":232444},{"$f":"SUM(D71:D75)","v":245086},{"$f":"SUM(E71:E75)","v":325214},null,{"$f":"INDEX(O27:Q27,Index!$B$23)","v":325214}]
["male",12,53197,53400,55362,null,12,663064,679839,677515,null,"Males","60-64",null,{"$f":"SUM(C76:C80)","v":189970},{"$f":"SUM(D76:D80)","v":261924},{"$f":"SUM(E76:E80)","v":275196},null,{"$f":"INDEX(O28:Q28,Index!$B$23)","v":275196}]
["male",13,53500,53720,55477,null,13,716564,733559,732992,null,"Males","65-69",null,{"$f":"SUM(C81:C85)","v":168084},{"$f":"SUM(D81:D85)","v":205415},{"$f":"SUM(E81:E85)","v":239033},null,{"$f":"INDEX(O29:Q29,Index!$B$23)","v":239033}]
["male",14,51317,53978,54072,null,14,767881,787537,787064,null,"Males","70-74",null,{"$f":"SUM(C86:C90)","v":144856},{"$f":"SUM(D86:D90)","v":160646},{"$f":"SUM(E86:E90)","v":254120},null,{"$f":"INDEX(O30:Q30,Index!$B$23)","v":254120}]
["male",15,50958,55295,51850,null,15,818839,842832,838914,null,"Males","75-79",null,{"$f":"SUM(C91:C95)","v":113219},{"$f":"SUM(D91:D95)","v":128445},{"$f":"SUM(E91:E95)","v":192220},null,{"$f":"INDEX(O31:Q31,Index!$B$23)","v":192220}]
["male",16,52407,55394,52328,null,16,871246,898226,891242,null,"Males","80-84",null,{"$f":"SUM(C96:C100)","v":71413},{"$f":"SUM(D96:D100)","v":91069},{"$f":"SUM(E96:E100)","v":139590},null,{"$f":"INDEX(O32:Q32,Index!$B$23)","v":139590}]
["male",17,50191,56309,51527,null,17,921437,954535,942769,null,"Males","85-89",null,{"$f":"SUM(C101:C105)","v":35632},{"$f":"SUM(D101:D105)","v":49636},93970,null,{"$f":"INDEX(O33:Q33,Index!$B$23)","v":93970}]
["male",18,49230,55708,49187,null,18,970667,1010243,991956,null,"Males","90+",null,{"$f":"C106","v":13872},{"$f":"D106","v":21061},64743,null,{"$f":"INDEX(O34:Q34,Index!$B$23)","v":64743}]
["male",19,46605,55117,48665,null,19,1017272,1065360,1040621]
["male",20,48780,56396,47907,null,20,1066052,1121756,1088528,null,"Females","All Ages",null,{"$f":"C200","v":4095490},{"$f":"D200","v":4395452},{"$f":"E200","v":4738828},null,{"$f":"INDEX(O36:Q36,Index!$B$23)","v":4738828}]
["male",21,48814,54850,49719,null,21,1114866,1176606,1138247,null,"Females","0-4",null,{"$f":"SUM(C109:C113)","v":230225},{"$f":"SUM(D109:D113)","v":260410},{"$f":"SUM(E109:E113)","v":241174},null,{"$f":"INDEX(O37:Q37,Index!$B$23)","v":241174}]
["male",22,46497,53704,51943,null,22,1161363,1230310,1190190,null,"Females","5-9",null,{"$f":"SUM(C114:C118)","v":245842},{"$f":"SUM(D114:D118)","v":237863},{"$f":"SUM(E114:E118)","v":268892},null,{"$f":"INDEX(O38:Q38,Index!$B$23)","v":268892}]
["male",23,44368,54369,52529,null,23,1205731,1284679,1242719,null,"Females","10-14",null,{"$f":"SUM(C119:C123)","v":250956},{"$f":"SUM(D119:D123)","v":249358},{"$f":"SUM(E119:E123)","v":276998},null,{"$f":"INDEX(O39:Q39,Index!$B$23)","v":276998}]
["male",24,44633,51522,52102,null,24,1250364,1336201,1294821,null,"Females","15-19",null,{"$f":"SUM(C124:C128)","v":234628},{"$f":"SUM(D124:D128)","v":263861},{"$f":"SUM(E124:E128)","v":253557},null,{"$f":"INDEX(O40:Q40,Index!$B$23)","v":253557}]
["male",25,45211,53278,52245,null,25,1295575,1389479,1347066,null,"Females","20-24",null,{"$f":"SUM(C129:C133)","v":228743},{"$f":"SUM(D129:D133)","v":263446},{"$f":"SUM(E129:E133)","v":254200},null,{"$f":"INDEX(O41:Q41,Index!$B$23)","v":254200}]
["male",26,47022,52598,53562,null,26,1342597,1442077,1400628,null,"Females","25-29",null,{"$f":"SUM(C134:C138)","v":251676},{"$f":"SUM(D134:D138)","v":264523},{"$f":"SUM(E134:E138)","v":276988},null,{"$f":"INDEX(O42:Q42,Index!$B$23)","v":276988}]
["male",27,48898,51976,55175,null,27,1391495,1494053,1455803,null,"Females","30-34",null,{"$f":"SUM(C139:C143)","v":302430},{"$f":"SUM(D139:D143)","v":272447},{"$f":"SUM(E139:E143)","v":312815},null,{"$f":"INDEX(O43:Q43,Index!$B$23)","v":312815}]
["male",28,52204,52539,57085,null,28,1443699,1546592,1512888,null,"Females","35-39",null,{"$f":"SUM(C144:C148)","v":321331},{"$f":"SUM(D144:D148)","v":293316},{"$f":"SUM(E144:E148)","v":313900},null,{"$f":"INDEX(O44:Q44,Index!$B$23)","v":313900}]
["male",29,55097,53143,58921,null,29,1498796,1599735,1571809,null,"Females","40-44",null,{"$f":"SUM(C149:C153)","v":287916},{"$f":"SUM(D149:D153)","v":326575},{"$f":"SUM(E149:E153)","v":309476},null,{"$f":"INDEX(O45:Q45,Index!$B$23)","v":309476}]
["male",30,55726,54858,61653,null,30,1554522,1654593,1633462,null,"Females","45-49",null,{"$f":"SUM(C154:C158)","v":260667},{"$f":"SUM(D154:D158)","v":328795},{"$f":"SUM(E154:E158)","v":312273},null,{"$f":"INDEX(O46:Q46,Index!$B$23)","v":312273}]
["male",31,55604,55065,61705,null,31,1610126,1709658,1695167,null,"Females","50-54",null,{"$f":"SUM(C159:C163)","v":287746},{"$f":"SUM(D159:D163)","v":284956},{"$f":"SUM(E159:E163)","v":334469},null,{"$f":"INDEX(O47:Q47,Index!$B$23)","v":334469}]
["male",32,58212,53178,62830,null,32,1668338,1762836,1757997,null,"Females","55-59",null,{"$f":"SUM(C164:C168)","v":235752},{"$f":"SUM(D164:D168)","v":250679},{"$f":"SUM(E164:E168)","v":325214},null,{"$f":"INDEX(O48:Q48,Index!$B$23)","v":325214}]
["male",33,59596,51020,63576,null,33,{"$f":"H48+C49","v":1727934},{"$f":"I48+D49","v":1813856},{"$f":"J48+E49","v":1821573},null,"Females","60-64",null,{"$f":"SUM(C169:C173)","v":196032},{"$f":"SUM(D169:D173)","v":273475},{"$f":"SUM(E169:E173)","v":275196},null,{"$f":"INDEX(O49:Q49,Index!$B$23)","v":275196}]
["male",34,62554,51903,63051,null,34,1790488,1865759,1884624,null,"Females","65-69",null,{"$f":"SUM(C174:C178)","v":182219},{"$f":"SUM(D174:D178)","v":218875},{"$f":"SUM(E174:E178)","v":239033},null,{"$f":"INDEX(O50:Q50,Index!$B$23)","v":239033}]
["male",35,63458,52447,63022,null,35,1853946,1918206,1947646,null,"Females","70-74",null,{"$f":"SUM(C179:C183)","v":173344},{"$f":"SUM(D179:D183)","v":178759},{"$f":"SUM(E179:E183)","v":254120},null,{"$f":"INDEX(O51:Q51,Index!$B$23)","v":254120}]
["male",36,64360,54695,62601,null,36,1918306,1972901,2010247,null,"Females","75-79",null,{"$f":"SUM(C184:C188)","v":159155},{"$f":"SUM(D184:D188)","v":153946},{"$f":"SUM(E184:E188)","v":192220},null,{"$f":"INDEX(O52:Q52,Index!$B$23)","v":192220}]
["male",37,64388,56309,62413,null,37,1982694,2029210,2072660,null,"Females","80-84",null,{"$f":"SUM(C189:C193)","v":120542},{"$f":"SUM(D189:D193)","v":127658},{"$f":"SUM(E189:E193)","v":139590},null,{"$f":"INDEX(O53:Q53,Index!$B$23)","v":139590}]
["male",38,63067,59549,62591,null,38,2045761,2088759,2135251,null,"Females","85-89",null,{"$f":"SUM(C194:C198)","v":79966},{"$f":"SUM(D194:D198)","v":89940},93970,null,{"$f":"INDEX(O54:Q54,Index!$B$23)","v":93970}]
["male",39,60933,61695,63273,null,39,2106694,2150454,2198524,null,"Females","90+",null,{"$f":"C199","v":46320},{"$f":"D199","v":56570},64743,null,{"$f":"INDEX(O55:Q55,Index!$B$23)","v":64743}]
["male",40,60560,62822,65505,null,40,2167254,2213276,2264029]
["male",41,58298,61984,64736,null,41,2225552,2275260,2328765]
["male",42,57797,63436,61518,null,42,2283349,2338696,2390283]
["male",43,56710,64142,58778,null,43,2340059,2402838,2449061]
["male",44,54917,65837,58939,null,44,2394976,2468675,2508000]
["male",45,52600,65997,59283,null,45,2447576,2534672,2567283]
["male",46,51890,66625,60889,null,46,2499466,2601297,2628172]
["male",47,52094,65675,61840,null,47,2551560,2666972,2690012]
["male",48,51016,63951,64148,null,48,2602576,2730923,2754160]
["male",49,50562,62215,66113,null,49,2653138,2793138,2820273]
["male",50,50670,60429,67375,null,50,2703808,2853567,2887648]
["male",51,52571,57456,64977,null,51,2756379,2911023,2952625]
["male",52,54727,56751,67088,null,52,2811106,2967774,3019713]
["male",53,60576,55309,67273,null,53,2871682,3023083,3086986]
["male",54,63983,52933,67756,null,54,2935665,3076016,3154742]
["male",55,48988,50744,67109,null,55,2984653,3126760,3221851]
["male",56,50121,49634,67273,null,56,3034774,3176394,3289124]
["male",57,48258,49168,65770,null,57,3083032,3225562,3354894]
["male",58,45335,48318,63811,null,58,3128367,3273880,3418705]
["male",59,39742,47222,61251,null,59,3168109,3321102,3479956]
["male",60,36618,47661,59078,null,60,3204727,3368763,3539034]
["male",61,39497,49010,56216,null,61,3244224,3417773,3595250]
["male",62,38662,51163,55678,null,62,3282886,3468936,3650928]
["male",63,38172,56643,53252,null,63,3321058,3525579,3704180]
["male",64,37021,57447,50972,null,64,3358079,3583026,3755152]
["male",65,35756,43415,48871,null,65,{"$f":"H80+C81","v":3393835},{"$f":"I80+D81","v":3626441},{"$f":"J80+E81","v":3804023}]
["male",66,34717,45871,48625,null,66,3428552,3672312,3852648]
["male",67,32680,42351,47917,null,67,3461232,3714663,3900565]
["male",68,32359,39678,46833,null,68,3493591,3754341,3947398]
["male",69,32572,34100,46787,null,69,3526163,3788441,3994185]
["male",70,31863,32455,46630,null,70,3558026,3820896,4040815]
["male",71,30369,33747,48258,null,71,3588395,3854643,4089073]
["male",72,28858,32621,49756,null,72,3617253,3887264,4138829]
["male",73,27274,31631,54410,null,73,3644527,3918895,4193239]
["male",74,26492,30192,55066,null,74,3671019,3949087,4248305]
["male",75,25093,28749,41257,null,75,3696112,3977836,4289562]
["male",76,23773,27054,43197,null,76,3719885,4004890,4332759]
["male",77,22286,25056,39731,null,77,3742171,4029946,4372490]
["male",78,21281,24111,36985,null,78,3763452,4054057,4409475]
["male",79,20786,23475,31050,null,79,3784238,4077532,4440525]
["male",80,20610,22094,29111,null,80,3804848,4099626,4469636]
["male",81,18960,19994,30267,null,81,3823808,4119620,4499903]
["male",82,11582,18025,28710,null,82,3835390,4137645,4528613]
["male",83,9847,16119,26847,null,83,3845237,4153764,4555460]
["male",84,10414,14837,24655,null,84,3855651,4168601,4580115]
["male",85,9399,12897,22575,null,85,3865050,4181498,4602690]
["male",86,8355,11332,20709,null,86,3873405,4192830,4623399]
["male",87,7088,9764,18446,null,87,3880493,4202594,4641845]
["male",88,6058,8242,17039,null,88,3886551,4210836,4658884]
["male",89,4732,7401,15201,null,89,3891283,4218237,4674085]
["male","90+",13872,21061,64743,null,"90+",3905155,4239298,4738828]
[null,"All Males",{"$f":"SUM(C16:C106)","v":3905155},4239298,{"$f":"SUM(E16:E106)","v":4738828},null,"Females"]
["Sex","Age"]
["female",0,43630,52431,44565,null,0,{"$f":"C109","v":43630},{"$f":"D109","v":52431},{"$f":"E109","v":44565}]
["female",1,44711,52176,46971,null,1,{"$f":"H109+C110","v":88341},{"$f":"I109+D110","v":104607},{"$f":"J109+E110","v":91536}]
["female",2,46875,51791,48703,null,2,135216,156398,140239]
["female",3,47257,52482,49622,null,3,182473,208880,189861]
["female",4,47752,51530,51313,null,4,230225,260410,241174]
["female",5,47468,50119,52914,null,5,277693,310529,294088]
["female",6,48128,47851,52107,null,6,325821,358380,346195]
["female",7,49292,48092,52580,null,7,375113,406472,398775]
["female",8,49887,45710,54996,null,8,425000,452182,453771]
["female",9,51067,46091,56295,null,9,476067,498273,510066]
["female",10,51514,47753,56215,null,10,527581,546026,566281]
["female",11,50505,48739,55872,null,11,578086,594765,622153]
["female",12,50280,50398,55362,null,12,628366,645163,677515]
["female",13,50221,51360,55477,null,13,678587,696523,732992]
["female",14,48436,51108,54072,null,14,727023,747631,787064]
["female",15,48357,51621,51850,null,15,775380,799252,838914]
["female",16,48302,52650,52328,null,16,823682,851902,891242]
["female",17,46826,53259,51527,null,17,870508,905161,942769]
["female",18,46149,52970,49187,null,18,916657,958131,991956]
["female",19,44994,53361,48665,null,19,961651,1011492,1040621]
["female",20,47285,53641,47907,null,20,1008936,1065133,1088528]
["female",21,47315,52395,49719,null,21,1056251,1117528,1138247]
["female",22,45666,52515,51943,null,22,1101917,1170043,1190190]
["female",23,43973,52997,52529,null,23,1145890,1223040,1242719]
["female",24,44504,51898,52102,null,24,1190394,1274938,1294821]
["female",25,45150,52168,52245,null,25,1235544,1327106,1347066]
["female",26,47465,52320,53562,null,26,1283009,1379426,1400628]
["female",27,49231,52247,55175,null,27,1332240,1431673,1455803]
["female",28,53514,52922,57085,null,28,1385754,1484595,1512888]
["female",29,56316,54866,58921,null,29,1442070,1539461,1571809]
["female",30,58741,56389,61653,null,30,1500811,1595850,1633462]
["female",31,57290,56337,61705,null,31,1558101,1652187,1695167]
["female",32,60804,53855,62830,null,32,1618905,1706042,1757997]
["female",33,61996,52591,63576,null,33,{"$f":"H141+C142","v":1680901},{"$f":"I141+D142","v":1758633},{"$f":"J141+E142","v":1821573}]
["female",34,63599,53275,63051,null,34,1744500,1811908,1884624]
["female",35,64814,54272,63022,null,35,1809314,1866180,1947646]
["female",36,65441,56298,62601,null,36,1874755,1922478,2010247]
["female",37,64869,58286,62413,null,37,1939624,1980764,2072660]
["female",38,64025,61243,62591,null,38,2003649,2042007,2135251]
["female",39,62182,63217,63273,null,39,2065831,2105224,2198524]
["female",40,60545,64899,65505,null,40,2126376,2170123,2264029]
["female",41,58021,63148,64736,null,41,2184397,2233271,2328765]
["female",42,58124,65473,61518,null,42,2242521,2298744,2390283]
["female",43,56527,65995,58778,null,43,2299048,2364739,2449061]
["female",44,54699,67060,58939,null,44,2353747,2431799,2508000]
["female",45,52560,67206,59283,null,45,2406307,2499005,2567283]
["female",46,52446,67645,60889,null,46,2458753,2566650,2628172]
["female",47,52346,66587,61840,null,47,2511099,2633237,2690012]
["female",48,51790,64883,64148,null,48,2562889,2698120,2754160]
["female",49,51525,62474,66113,null,49,2614414,2760594,2820273]
["female",50,51551,60673,67375,null,50,2665965,2821267,2887648]
["female",51,54178,57837,64977,null,51,2720143,2879104,2952625]
["female",52,55773,57544,67088,null,52,2775916,2936648,3019713]
["female",53,61178,55547,67273,null,53,2837094,2992195,3086986]
["female",54,65066,53355,67756,null,54,2902160,3045550,3154742]
["female",55,49589,51005,67109,null,55,2951749,3096555,3221851]
["female",56,50623,50936,67273,null,56,3002372,3147491,3289124]
["female",57,48502,50176,65770,null,57,3050874,3197667,3354894]
["female",58,46359,49478,63811,null,58,3097233,3247145,3418705]
["female",59,40679,49084,61251,null,59,3137912,3296229,3479956]
["female",60,37602,49410,59078,null,60,3175514,3345639,3539034]
["female",61,40783,51651,56216,null,61,3216297,3397290,3595250]
["female",62,39988,53469,55678,null,62,3256285,3450759,3650928]
["female",63,39465,58685,53252,null,63,3295750,3509444,3704180]
["female",64,38194,60260,50972,null,64,3333944,3569704,3755152]
["female",65,37883,45906,48871,null,65,{"$f":"H173+C174","v":3371827},{"$f":"I173+D174","v":3615610},{"$f":"J173+E174","v":3804023}]
["female",66,36872,48294,48625,null,66,3408699,3663904,3852648]
["female",67,35328,44915,47917,null,67,3444027,3708819,3900565]
["female",68,35810,42912,46833,null,68,3479837,3751731,3947398]
["female",69,36326,36848,46787,null,69,3516163,3788579,3994185]
["female",70,36652,35133,46630,null,70,3552815,3823712,4040815]
["female",71,35548,37326,48258,null,71,3588363,3861038,4089073]
["female",72,34723,36677,49756,null,72,3623086,3897715,4138829]
["female",73,33118,35594,54410,null,73,3656204,3933309,4193239]
["female",74,33303,34029,55066,null,74,3689507,3967338,4248305]
["female",75,32621,32909,41257,null,75,3722128,4000247,4289562]
["female",76,31564,31724,43197,null,76,3753692,4031971,4332759]
["female",77,31505,30030,39731,null,77,3785197,4062001,4372490]
["female",78,31472,29865,36985,null,78,3816669,4091866,4409475]
["female",79,31993,29418,31050,null,79,3848662,4121284,4440525]
["female",80,33099,29114,29111,null,80,3881761,4150398,4469636]
["female",81,30554,27238,30267,null,81,3912315,4177636,4499903]
["female",82,20049,25552,28710,null,82,3932364,4203188,4528613]
["female",83,17457,23415,26847,null,83,3949821,4226603,4555460]
["female",84,19383,22339,24655,null,84,3969204,4248942,4580115]
["female",85,18741,20806,22575,null,85,3987945,4269748,4602690]
["female",86,18510,18986,20709,null,86,4006455,4288734,4623399]
["female",87,16294,18171,18446,null,87,4022749,4306905,4641845]
["female",88,14228,16662,17039,null,88,4036977,4323567,4658884]
["female",89,12193,15315,15201,null,89,4049170,4338882,4674085]
["female","90+",46320,56570,64743,null,"90+",4095490,4395452,4738828]
[null,"All Females",{"$f":"SUM(C109:C199)","v":4095490},4395452,{"$f":"SUM(E109:E199)","v":4738828}]

{"sheet":"Kent+Med","index":7,"n_rows":200,"n_cols":19,"rows_kept":200,"cut":false,"hidden":true,"merged":[[0,10,21,10]]}
["Mid Year Population Estimates",null,null,null,null,null,null,null,null,null,"Insert column here before extending the table"]
["2001, 2011, and 2021 Census: The Office for National Statistics (ONS)",null,null,null,null,null,"Selected Ages:",null,null,null,null,null,null,null,"Start year","End Year","Number change","% Change"]
[null,null,null,null,null,null,null,{"$f":"H13","v":2001},2011,{"$f":"J13","v":2021},null,null,null,null,{"$f":"INDEX($H3:$I3,Index!$B$16)","v":2011},{"$f":"INDEX($H3:$J3,Index!$B$19)","v":2011}]
[null,null,null,null,null,null,"Males",{"$f":"OFFSET(H16,Index!$B$7-1,0)-IF(Index!$B$4-2=1,0,OFFSET(H16,Index!$B$4-2,0))","v":766786},{"$f":"OFFSET(I16,Index!$B$7-1,0)-IF(Index!$B$4-2=1,0,OFFSET(I16,Index!$B$4-2,0))","v":846438},{"$f":"OFFSET(J16,Index!$B$7-1,0)-IF(Index!$B$4-2=1,0,OFFSET(J16,Index!$B$4-2,0))","v":905516},null,null,null,null,{"$f":"INDEX($H4:$I4,Index!$B$16)","v":846438},{"$f":"INDEX($H4:$J4,Index!$B$19)","v":846438},{"$f":"P4-O4","v":0},{"$f":"Q4/O4","v":0}]
[null,null,null,null,null,null,"Females",{"$f":"OFFSET(H109,Index!$B$7-1,0)-IF(Index!$B$4-2=1,0,OFFSET(H109,Index!$B$4-2,0))","v":812421},{"$f":"OFFSET(I109,Index!$B$7-1,0)-IF(Index!$B$4-2=1,0,OFFSET(I109,Index!$B$4-2,0))","v":881227},{"$f":"OFFSET(J109,Index!$B$7-1,0)-IF(Index!$B$4-2=1,0,OFFSET(J109,Index!$B$4-2,0))","v":950333},null,null,null,null,{"$f":"INDEX($H5:$I5,Index!$B$16)","v":881227},{"$f":"INDEX($H5:$J5,Index!$B$19)","v":881227},{"$f":"P5-O5","v":0},{"$f":"Q5/O5","v":0}]
[null,null,null,null,null,null,"Total",{"$f":"SUM(H4:H5)","v":1579207},1727665,{"$f":"SUM(J4:J5)","v":1855849},null,null,null,null,{"$f":"INDEX($H6:$I6,Index!$B$16)","v":1727665},{"$f":"INDEX($H6:$J6,Index!$B$19)","v":1727665},{"$f":"P6-O6","v":0},{"$f":"Q6/O6","v":0}]
[]
[null,null,null,null,null,null,"Males",{"$f":"IF(H4<0,\"0\",H4)","v":766786},846438,{"$f":"IF(J4<0,\"0\",J4)","v":905516}]
[null,null,null,null,null,null,"Females",812421,881227,950333]
[null,null,null,null,null,null,"Total",{"$f":"SUM(H8:H9)","v":1579207},1727665,{"$f":"SUM(J8:J9)","v":1855849}]
[]
["Kent + Medway",null,null,null,null,null,null,null,null,null,null,"Population Pyramid Data"]
[null,null,null,null,null,null,null,{"$f":"C14","v":2001},{"$f":"D14","v":2011},{"$f":"E14","v":2021}]
["Sex","Age",2001,2011,2021,null,null,null,null,null,null,null,null,null,2001,2011,2021,null,{"$f":"INDEX(O14:Q14,Index!$B$23)","v":2021}]
[null,"All persons",{"$f":"SUM(C107,C200)","v":1579207},1727665,{"$f":"SUM(E107,E200)","v":1855849},null,"Males",null,null,null,null,"Males","All Ages",null,{"$f":"C107","v":766786},{"$f":"D107","v":846438},{"$f":"E107","v":905516},null,{"$f":"INDEX(O15:Q15,Index!$B$23)","v":905516}]
["male",0,{"$f":"MED!C16+Kent!C16","v":8680},{"$f":"MED!D16+Kent!D16","v":10935},{"$f":"MED!E16+Kent!E16","v":10009},null,0,{"$f":"C16","v":8680},{"$f":"D16","v":10935},{"$f":"E16","v":10009},null,"Males","0-4",null,{"$f":"SUM(C16:C20)","v":48532},{"$f":"SUM(D16:D20)","v":54490},{"$f":"SUM(E16:E20)","v":53798},null,{"$f":"INDEX(O16:Q16,Index!$B$23)","v":53798}]
["male",1,{"$f":"MED!C17+Kent!C17","v":9603},{"$f":"MED!D17+Kent!D17","v":10816},{"$f":"MED!E17+Kent!E17","v":10439},null,1,{"$f":"H16+C17","v":18283},21751,20448,null,"Males","5-9",null,{"$f":"SUM(C21:C25)","v":53722},{"$f":"SUM(D21:D25)","v":51373},{"$f":"SUM(E21:E25)","v":58374},null,{"$f":"INDEX(O17:Q17,Index!$B$23)","v":58374}]
["male",2,{"$f":"MED!C18+Kent!C18","v":10004},{"$f":"MED!D18+Kent!D18","v":10902},{"$f":"MED!E18+Kent!E18","v":10942},null,2,28287,32653,31390,null,"Males","10-14",null,{"$f":"SUM(C26:C30)","v":55073},{"$f":"SUM(D26:D30)","v":55156},{"$f":"SUM(E26:E30)","v":59519},null,{"$f":"INDEX(O18:Q18,Index!$B$23)","v":59519}]
["male",3,{"$f":"MED!C19+Kent!C19","v":9904},{"$f":"MED!D19+Kent!D19","v":10808},{"$f":"MED!E19+Kent!E19","v":11228},null,3,38191,43461,42618,null,"Males","15-19",null,{"$f":"SUM(C31:C35)","v":49936},{"$f":"SUM(D31:D35)","v":58997},{"$f":"SUM(E31:E35)","v":53963},null,{"$f":"INDEX(O19:Q19,Index!$B$23)","v":53963}]
["male",4,{"$f":"MED!C20+Kent!C20","v":10341},{"$f":"MED!D20+Kent!D20","v":11029},{"$f":"MED!E20+Kent!E20","v":11180},null,4,48532,54490,53798,null,"Males","20-24",null,{"$f":"SUM(C36:C40)","v":42441},{"$f":"SUM(D36:D40)","v":53821},{"$f":"SUM(E32:E36)","v":51915},null,{"$f":"INDEX(O20:Q20,Index!$B$23)","v":51915}]
["male",5,{"$f":"MED!C21+Kent!C21","v":10287},{"$f":"MED!D21+Kent!D21","v":10771},{"$f":"MED!E21+Kent!E21","v":11470},null,5,58819,65261,65268,null,"Males","25-29",null,{"$f":"SUM(C41:C45)","v":45049},{"$f":"SUM(D41:D45)","v":49733},50601,null,{"$f":"INDEX(O21:Q21,Index!$B$23)","v":50601}]
["male",6,{"$f":"MED!C22+Kent!C22","v":10257},{"$f":"MED!D22+Kent!D22","v":10192},{"$f":"MED!E22+Kent!E22","v":11179},null,6,69076,75453,76447,null,"Males","30-34",null,{"$f":"SUM(C46:C50)","v":55301},{"$f":"SUM(D46:D50)","v":48966},{"$f":"SUM(E46:E50)","v":57631},null,{"$f":"INDEX(O22:Q22,Index!$B$23)","v":57631}]
["male",7,{"$f":"MED!C23+Kent!C23","v":10943},{"$f":"MED!D23+Kent!D23","v":10285},{"$f":"MED!E23+Kent!E23","v":11417},null,7,80019,85738,87864,null,"Males","35-39",null,{"$f":"SUM(C51:C55)","v":60565},{"$f":"SUM(D51:D55)","v":53332},{"$f":"SUM(E51:E55)","v":57029},null,{"$f":"INDEX(O23:Q23,Index!$B$23)","v":57029}]
["male",8,{"$f":"MED!C24+Kent!C24","v":10937},{"$f":"MED!D24+Kent!D24","v":9982},{"$f":"MED!E24+Kent!E24","v":12059},null,8,90956,95720,99923,null,"Males","40-44",null,{"$f":"SUM(C56:C60)","v":54834},{"$f":"SUM(D56:D60)","v":63333},{"$f":"SUM(E56:E60)","v":56460},null,{"$f":"INDEX(O24:Q24,Index!$B$23)","v":56460}]
["male",9,{"$f":"MED!C25+Kent!C25","v":11298},{"$f":"MED!D25+Kent!D25","v":10143},{"$f":"MED!E25+Kent!E25","v":12249},null,9,102254,105863,112172,null,"Males","45-49",null,{"$f":"SUM(C61:C65)","v":49533},{"$f":"SUM(D61:D65)","v":64212},{"$f":"SUM(E61:E65)","v":58052},null,{"$f":"INDEX(O25:Q25,Index!$B$23)","v":58052}]
["male",10,{"$f":"MED!C26+Kent!C26","v":11171},{"$f":"MED!D26+Kent!D26","v":10307},{"$f":"MED!E26+Kent!E26","v":12094},null,10,113425,116170,124266,null,"Males","50-54",null,{"$f":"SUM(C66:C70)","v":56876},{"$f":"SUM(D66:D70)","v":55916},{"$f":"SUM(E66:E70)","v":64192},null,{"$f":"INDEX(O26:Q26,Index!$B$23)","v":64192}]
["male",11,{"$f":"MED!C27+Kent!C27","v":10964},{"$f":"MED!D27+Kent!D27","v":10786},{"$f":"MED!E27+Kent!E27","v":12007},null,11,124389,126956,136273,null,"Males","55-59",null,{"$f":"SUM(C71:C75)","v":47163},{"$f":"SUM(D71:D75)","v":49425},{"$f":"SUM(E71:E75)","v":63348},null,{"$f":"INDEX(O27:Q27,Index!$B$23)","v":63348}]
["male",12,{"$f":"MED!C28+Kent!C28","v":11012},{"$f":"MED!D28+Kent!D28","v":11279},{"$f":"MED!E28+Kent!E28","v":12023},null,12,135401,138235,148296,null,"Males","60-64",null,{"$f":"SUM(C76:C80)","v":39250},{"$f":"SUM(D76:D80)","v":54735},{"$f":"SUM(E76:E80)","v":53433},null,{"$f":"INDEX(O28:Q28,Index!$B$23)","v":53433}]
["male",13,{"$f":"MED!C29+Kent!C29","v":11139},{"$f":"MED!D29+Kent!D29","v":11421},{"$f":"MED!E29+Kent!E29","v":11731},null,13,146540,149656,160027,null,"Males","65-69",null,{"$f":"SUM(C81:C85)","v":34306},{"$f":"SUM(D81:D85)","v":42983},{"$f":"SUM(E81:E85)","v":45472},null,{"$f":"INDEX(O29:Q29,Index!$B$23)","v":45472}]
["male",14,{"$f":"MED!C30+Kent!C30","v":10787},{"$f":"MED!D30+Kent!D30","v":11363},{"$f":"MED!E30+Kent!E30","v":11664},null,14,157327,161019,171691,null,"Males","70-74",null,{"$f":"SUM(C86:C90)","v":29017},{"$f":"SUM(D86:D90)","v":33257},{"$f":"SUM(E86:E90)","v":47733},null,{"$f":"INDEX(O30:Q30,Index!$B$23)","v":47733}]
["male",15,{"$f":"MED!C31+Kent!C31","v":10726},{"$f":"MED!D31+Kent!D31","v":11658},{"$f":"MED!E31+Kent!E31","v":11388},null,15,168053,172677,183079,null,"Males","75-79",null,{"$f":"SUM(C91:C95)","v":22096},{"$f":"SUM(D91:D95)","v":25710},{"$f":"SUM(E91:E95)","v":33937},null,{"$f":"INDEX(O31:Q31,Index!$B$23)","v":33937}]
["male",16,{"$f":"MED!C32+Kent!C32","v":10996},{"$f":"MED!D32+Kent!D32","v":11829},{"$f":"MED!E32+Kent!E32","v":11281},null,16,179049,184506,194360,null,"Males","80-84",null,{"$f":"SUM(C96:C100)","v":14242},{"$f":"SUM(D96:D100)","v":17834},{"$f":"SUM(E96:E100)","v":22091},null,{"$f":"INDEX(O32:Q32,Index!$B$23)","v":22091}]
["male",17,{"$f":"MED!C33+Kent!C33","v":10153},{"$f":"MED!D33+Kent!D33","v":12099},{"$f":"MED!E33+Kent!E33","v":11339},null,17,189202,196605,205699,null,"Males","85-89",null,{"$f":"SUM(C101:C105)","v":6488},{"$f":"SUM(D101:D105)","v":9206},12097,null,{"$f":"INDEX(O33:Q33,Index!$B$23)","v":12097}]
["male",18,{"$f":"MED!C34+Kent!C34","v":9456},{"$f":"MED!D34+Kent!D34","v":11874},{"$f":"MED!E34+Kent!E34","v":10387},null,18,198658,208479,216086,null,"Males","90+",null,{"$f":"C106","v":2362},{"$f":"D106","v":3959},5370,null,{"$f":"INDEX(O34:Q34,Index!$B$23)","v":5370}]
["male",19,{"$f":"MED!C35+Kent!C35","v":8605},{"$f":"MED!D35+Kent!D35","v":11537},{"$f":"MED!E35+Kent!E35","v":9568},null,19,207263,220016,225654]
["male",20,{"$f":"MED!C36+Kent!C36","v":9022},{"$f":"MED!D36+Kent!D36","v":11219},{"$f":"MED!E36+Kent!E36","v":9340},null,20,216285,231235,234994,null,"Females","All Ages",null,{"$f":"C200","v":812421},{"$f":"D200","v":881227},{"$f":"E200","v":950333},null,{"$f":"INDEX(O36:Q36,Index!$B$23)","v":950333}]
["male",21,{"$f":"MED!C37+Kent!C37","v":8688},{"$f":"MED!D37+Kent!D37","v":10840},{"$f":"MED!E37+Kent!E37","v":9967},null,21,224973,242075,244961,null,"Females","0-4",null,{"$f":"SUM(C109:C113)","v":45905},{"$f":"SUM(D109:D113)","v":51810},{"$f":"SUM(E109:E113)","v":50797},null,{"$f":"INDEX(O37:Q37,Index!$B$23)","v":50797}]
["male",22,{"$f":"MED!C38+Kent!C38","v":8613},{"$f":"MED!D38+Kent!D38","v":10704},{"$f":"MED!E38+Kent!E38","v":10364},null,22,233586,252779,255325,null,"Females","5-9",null,{"$f":"SUM(C114:C118)","v":51252},{"$f":"SUM(D114:D118)","v":48741},{"$f":"SUM(E114:E118)","v":55222},null,{"$f":"INDEX(O38:Q38,Index!$B$23)","v":55222}]
["male",23,{"$f":"MED!C39+Kent!C39","v":8011},{"$f":"MED!D39+Kent!D39","v":10655},{"$f":"MED!E39+Kent!E39","v":10311},null,23,241597,263434,265636,null,"Females","10-14",null,{"$f":"SUM(C119:C123)","v":52474},{"$f":"SUM(D119:D123)","v":53005},{"$f":"SUM(E119:E123)","v":56699},null,{"$f":"INDEX(O39:Q39,Index!$B$23)","v":56699}]
["male",24,{"$f":"MED!C40+Kent!C40","v":8107},{"$f":"MED!D40+Kent!D40","v":10403},{"$f":"MED!E40+Kent!E40","v":10145},null,24,249704,273837,275781,null,"Females","15-19",null,{"$f":"SUM(C124:C128)","v":48117},{"$f":"SUM(D124:D128)","v":56020},{"$f":"SUM(E124:E128)","v":50586},null,{"$f":"INDEX(O40:Q40,Index!$B$23)","v":50586}]
["male",25,{"$f":"MED!C41+Kent!C41","v":8180},{"$f":"MED!D41+Kent!D41","v":10476},{"$f":"MED!E41+Kent!E41","v":10039},null,25,257884,284313,285820,null,"Females","20-24",null,{"$f":"SUM(C129:C133)","v":42205},{"$f":"SUM(D129:D133)","v":52899},{"$f":"SUM(E129:E133)","v":49216},null,{"$f":"INDEX(O41:Q41,Index!$B$23)","v":49216}]
["male",26,{"$f":"MED!C42+Kent!C42","v":8449},{"$f":"MED!D42+Kent!D42","v":10159},{"$f":"MED!E42+Kent!E42","v":10319},null,26,266333,294472,296139,null,"Females","25-29",null,{"$f":"SUM(C134:C138)","v":47450},{"$f":"SUM(D134:D138)","v":51145},{"$f":"SUM(E134:E138)","v":56115},null,{"$f":"INDEX(O42:Q42,Index!$B$23)","v":56115}]
["male",27,{"$f":"MED!C43+Kent!C43","v":8740},{"$f":"MED!D43+Kent!D43","v":9803},{"$f":"MED!E43+Kent!E43","v":10560},null,27,275073,304275,306699,null,"Females","30-34",null,{"$f":"SUM(C139:C143)","v":58098},{"$f":"SUM(D139:D143)","v":50914},{"$f":"SUM(E139:E143)","v":63367},null,{"$f":"INDEX(O43:Q43,Index!$B$23)","v":63367}]
["male",28,{"$f":"MED!C44+Kent!C44","v":9487},{"$f":"MED!D44+Kent!D44","v":9459},{"$f":"MED!E44+Kent!E44","v":10874},null,28,284560,313734,317573,null,"Females","35-39",null,{"$f":"SUM(C144:C148)","v":62274},{"$f":"SUM(D144:D148)","v":55676},{"$f":"SUM(E144:E148)","v":61976},null,{"$f":"INDEX(O44:Q44,Index!$B$23)","v":61976}]
["male",29,{"$f":"MED!C45+Kent!C45","v":10193},{"$f":"MED!D45+Kent!D45","v":9836},{"$f":"MED!E45+Kent!E45","v":11098},null,29,294753,323570,328671,null,"Females","40-44",null,{"$f":"SUM(C149:C153)","v":55200},{"$f":"SUM(D149:D153)","v":64986},{"$f":"SUM(E149:E153)","v":59585},null,{"$f":"INDEX(O45:Q45,Index!$B$23)","v":59585}]
["male",30,{"$f":"MED!C46+Kent!C46","v":10467},{"$f":"MED!D46+Kent!D46","v":10344},{"$f":"MED!E46+Kent!E46","v":11358},null,30,305220,333914,340029,null,"Females","45-49",null,{"$f":"SUM(C154:C158)","v":51238},{"$f":"SUM(D154:D158)","v":65045},{"$f":"SUM(E154:E158)","v":60858},null,{"$f":"INDEX(O46:Q46,Index!$B$23)","v":60858}]
["male",31,{"$f":"MED!C47+Kent!C47","v":10494},{"$f":"MED!D47+Kent!D47","v":10233},{"$f":"MED!E47+Kent!E47","v":11341},null,31,315714,344147,351370,null,"Females","50-54",null,{"$f":"SUM(C159:C163)","v":58594},{"$f":"SUM(D159:D163)","v":56725},{"$f":"SUM(E159:E163)","v":66657},null,{"$f":"INDEX(O47:Q47,Index!$B$23)","v":66657}]
["male",32,{"$f":"MED!C48+Kent!C48","v":10960},{"$f":"MED!D48+Kent!D48","v":9797},{"$f":"MED!E48+Kent!E48","v":11574},null,32,326674,353944,362944,null,"Females","55-59",null,{"$f":"SUM(C164:C168)","v":47947},{"$f":"SUM(D164:D168)","v":50696},{"$f":"SUM(E164:E168)","v":65146},null,{"$f":"INDEX(O48:Q48,Index!$B$23)","v":65146}]
["male",33,{"$f":"MED!C49+Kent!C49","v":11460},{"$f":"MED!D49+Kent!D49","v":9188},{"$f":"MED!E49+Kent!E49","v":11835},null,33,{"$f":"H48+C49","v":338134},363132,374779,null,"Females","60-64",null,{"$f":"SUM(C169:C173)","v":40584},{"$f":"SUM(D169:D173)","v":57203},{"$f":"SUM(E169:E173)","v":55426},null,{"$f":"INDEX(O49:Q49,Index!$B$23)","v":55426}]
["male",34,{"$f":"MED!C50+Kent!C50","v":11920},{"$f":"MED!D50+Kent!D50","v":9404},{"$f":"MED!E50+Kent!E50","v":11523},null,34,350054,372536,386302,null,"Females","65-69",null,{"$f":"SUM(C174:C178)","v":36868},{"$f":"SUM(D174:D178)","v":45401},{"$f":"SUM(E174:E178)","v":48984},null,{"$f":"INDEX(O50:Q50,Index!$B$23)","v":48984}]
["male",35,{"$f":"MED!C51+Kent!C51","v":12194},{"$f":"MED!D51+Kent!D51","v":9650},{"$f":"MED!E51+Kent!E51","v":11672},null,35,362248,382186,397974,null,"Females","70-74",null,{"$f":"SUM(C179:C183)","v":35010},{"$f":"SUM(D179:D183)","v":36528},{"$f":"SUM(E179:E183)","v":53021},null,{"$f":"INDEX(O51:Q51,Index!$B$23)","v":53021}]
["male",36,{"$f":"MED!C52+Kent!C52","v":12329},{"$f":"MED!D52+Kent!D52","v":10170},{"$f":"MED!E52+Kent!E52","v":11480},null,36,374577,392356,409454,null,"Females","75-79",null,{"$f":"SUM(C184:C188)","v":31981},{"$f":"SUM(D184:D188)","v":30819},{"$f":"SUM(E184:E188)","v":39130},null,{"$f":"INDEX(O52:Q52,Index!$B$23)","v":39130}]
["male",37,{"$f":"MED!C53+Kent!C53","v":12385},{"$f":"MED!D53+Kent!D53","v":10513},{"$f":"MED!E53+Kent!E53","v":11301},null,37,386962,402869,420755,null,"Females","80-84",null,{"$f":"SUM(C189:C193)","v":23584},{"$f":"SUM(D189:D193)","v":25531},{"$f":"SUM(E189:E193)","v":27826},null,{"$f":"INDEX(O53:Q53,Index!$B$23)","v":27826}]
["male",38,{"$f":"MED!C54+Kent!C54","v":11989},{"$f":"MED!D54+Kent!D54","v":11136},{"$f":"MED!E54+Kent!E54","v":11135},null,38,398951,414005,431890,null,"Females","85-89",null,{"$f":"SUM(C194:C198)","v":15052},{"$f":"SUM(D194:D198)","v":17392},17852,null,{"$f":"INDEX(O54:Q54,Index!$B$23)","v":17852}]
["male",39,{"$f":"MED!C55+Kent!C55","v":11668},{"$f":"MED!D55+Kent!D55","v":11863},{"$f":"MED!E55+Kent!E55","v":11441},null,39,410619,425868,443331,null,"Females","90+",null,{"$f":"C199","v":8588},{"$f":"D199","v":10691},11870,null,{"$f":"INDEX(O55:Q55,Index!$B$23)","v":11870}]
["male",40,{"$f":"MED!C56+Kent!C56","v":11303},{"$f":"MED!D56+Kent!D56","v":12356},{"$f":"MED!E56+Kent!E56","v":11933},null,40,421922,438224,455264]
["male",41,{"$f":"MED!C57+Kent!C57","v":11059},{"$f":"MED!D57+Kent!D57","v":12295},{"$f":"MED!E57+Kent!E57","v":11842},null,41,432981,450519,467106]
["male",42,{"$f":"MED!C58+Kent!C58","v":11020},{"$f":"MED!D58+Kent!D58","v":12619},{"$f":"MED!E58+Kent!E58","v":11281},null,42,444001,463138,478387]
["male",43,{"$f":"MED!C59+Kent!C59","v":10901},{"$f":"MED!D59+Kent!D59","v":12780},{"$f":"MED!E59+Kent!E59","v":10734},null,43,454902,475918,489121]
["male",44,{"$f":"MED!C60+Kent!C60","v":10551},{"$f":"MED!D60+Kent!D60","v":13283},{"$f":"MED!E60+Kent!E60","v":10670},null,44,465453,489201,499791]
["male",45,{"$f":"MED!C61+Kent!C61","v":9831},{"$f":"MED!D61+Kent!D61","v":13206},{"$f":"MED!E61+Kent!E61","v":10891},null,45,475284,502407,510682]
["male",46,{"$f":"MED!C62+Kent!C62","v":9988},{"$f":"MED!D62+Kent!D62","v":13139},{"$f":"MED!E62+Kent!E62","v":11457},null,46,485272,515546,522139]
["male",47,{"$f":"MED!C63+Kent!C63","v":10134},{"$f":"MED!D63+Kent!D63","v":12943},{"$f":"MED!E63+Kent!E63","v":11329},null,47,495406,528489,533468]
["male",48,{"$f":"MED!C64+Kent!C64","v":9853},{"$f":"MED!D64+Kent!D64","v":12647},{"$f":"MED!E64+Kent!E64","v":11996},null,48,505259,541136,545464]
["male",49,{"$f":"MED!C65+Kent!C65","v":9727},{"$f":"MED!D65+Kent!D65","v":12277},{"$f":"MED!E65+Kent!E65","v":12379},null,49,514986,553413,557843]
["male",50,{"$f":"MED!C66+Kent!C66","v":10008},{"$f":"MED!D66+Kent!D66","v":11828},{"$f":"MED!E66+Kent!E66","v":12740},null,50,524994,565241,570583]
["male",51,{"$f":"MED!C67+Kent!C67","v":10406},{"$f":"MED!D67+Kent!D67","v":11266},{"$f":"MED!E67+Kent!E67","v":12613},null,51,535400,576507,583196]
["male",52,{"$f":"MED!C68+Kent!C68","v":10969},{"$f":"MED!D68+Kent!D68","v":11280},{"$f":"MED!E68+Kent!E68","v":12833},null,52,546369,587787,596029]
["male",53,{"$f":"MED!C69+Kent!C69","v":12321},{"$f":"MED!D69+Kent!D69","v":10981},{"$f":"MED!E69+Kent!E69","v":12870},null,53,558690,598768,608899]
["male",54,{"$f":"MED!C70+Kent!C70","v":13172},{"$f":"MED!D70+Kent!D70","v":10561},{"$f":"MED!E70+Kent!E70","v":13136},null,54,571862,609329,622035]
["male",55,{"$f":"MED!C71+Kent!C71","v":9996},{"$f":"MED!D71+Kent!D71","v":9990},{"$f":"MED!E71+Kent!E71","v":13257},null,55,581858,619319,635292]
["male",56,{"$f":"MED!C72+Kent!C72","v":10128},{"$f":"MED!D72+Kent!D72","v":9992},{"$f":"MED!E72+Kent!E72","v":13050},null,56,591986,629311,648342]
["male",57,{"$f":"MED!C73+Kent!C73","v":9727},{"$f":"MED!D73+Kent!D73","v":10101},{"$f":"MED!E73+Kent!E73","v":12715},null,57,601713,639412,661057]
["male",58,{"$f":"MED!C74+Kent!C74","v":9131},{"$f":"MED!D74+Kent!D74","v":9835},{"$f":"MED!E74+Kent!E74","v":12448},null,58,610844,649247,673505]
["male",59,{"$f":"MED!C75+Kent!C75","v":8181},{"$f":"MED!D75+Kent!D75","v":9507},{"$f":"MED!E75+Kent!E75","v":11878},null,59,619025,658754,685383]
["male",60,{"$f":"MED!C76+Kent!C76","v":7497},{"$f":"MED!D76+Kent!D76","v":9803},{"$f":"MED!E76+Kent!E76","v":11491},null,60,626522,668557,696874]
["male",61,{"$f":"MED!C77+Kent!C77","v":8171},{"$f":"MED!D77+Kent!D77","v":10064},{"$f":"MED!E77+Kent!E77","v":10909},null,61,634693,678621,707783]
["male",62,{"$f":"MED!C78+Kent!C78","v":8134},{"$f":"MED!D78+Kent!D78","v":10675},{"$f":"MED!E78+Kent!E78","v":10774},null,62,642827,689296,718557]
["male",63,{"$f":"MED!C79+Kent!C79","v":7859},{"$f":"MED!D79+Kent!D79","v":11999},{"$f":"MED!E79+Kent!E79","v":10378},null,63,650686,701295,728935]
["male",64,{"$f":"MED!C80+Kent!C80","v":7589},{"$f":"MED!D80+Kent!D80","v":12194},{"$f":"MED!E80+Kent!E80","v":9881},null,64,658275,713489,738816]
["male",65,{"$f":"MED!C81+Kent!C81","v":7313},{"$f":"MED!D81+Kent!D81","v":9102},{"$f":"MED!E81+Kent!E81","v":9396},null,65,{"$f":"H80+C81","v":665588},722591,748212]
["male",66,{"$f":"MED!C82+Kent!C82","v":7129},{"$f":"MED!D82+Kent!D82","v":9683},{"$f":"MED!E82+Kent!E82","v":9328},null,66,672717,732274,757540]
["male",67,{"$f":"MED!C83+Kent!C83","v":6596},{"$f":"MED!D83+Kent!D83","v":8817},{"$f":"MED!E83+Kent!E83","v":9198},null,67,679313,741091,766738]
["male",68,{"$f":"MED!C84+Kent!C84","v":6582},{"$f":"MED!D84+Kent!D84","v":8178},{"$f":"MED!E84+Kent!E84","v":8928},null,68,685895,749269,775666]
["male",69,{"$f":"MED!C85+Kent!C85","v":6686},{"$f":"MED!D85+Kent!D85","v":7203},{"$f":"MED!E85+Kent!E85","v":8622},null,69,692581,756472,784288]
["male",70,{"$f":"MED!C86+Kent!C86","v":6435},{"$f":"MED!D86+Kent!D86","v":6716},{"$f":"MED!E86+Kent!E86","v":8780},null,70,699016,763188,793068]
["male",71,{"$f":"MED!C87+Kent!C87","v":6139},{"$f":"MED!D87+Kent!D87","v":7027},{"$f":"MED!E87+Kent!E87","v":8986},null,71,705155,770215,802054]
["male",72,{"$f":"MED!C88+Kent!C88","v":5732},{"$f":"MED!D88+Kent!D88","v":6809},{"$f":"MED!E88+Kent!E88","v":9232},null,72,710887,777024,811286]
["male",73,{"$f":"MED!C89+Kent!C89","v":5412},{"$f":"MED!D89+Kent!D89","v":6496},{"$f":"MED!E89+Kent!E89","v":10483},null,73,716299,783520,821769]
["male",74,{"$f":"MED!C90+Kent!C90","v":5299},{"$f":"MED!D90+Kent!D90","v":6209},{"$f":"MED!E90+Kent!E90","v":10252},null,74,721598,789729,832021]
["male",75,{"$f":"MED!C91+Kent!C91","v":4891},{"$f":"MED!D91+Kent!D91","v":5778},{"$f":"MED!E91+Kent!E91","v":7514},null,75,726489,795507,839535]
["male",76,{"$f":"MED!C92+Kent!C92","v":4624},{"$f":"MED!D92+Kent!D92","v":5458},{"$f":"MED!E92+Kent!E92","v":7898},null,76,731113,800965,847433]
["male",77,{"$f":"MED!C93+Kent!C93","v":4272},{"$f":"MED!D93+Kent!D93","v":4988},{"$f":"MED!E93+Kent!E93","v":6917},null,77,735385,805953,854350]
["male",78,{"$f":"MED!C94+Kent!C94","v":4151},{"$f":"MED!D94+Kent!D94","v":4801},{"$f":"MED!E94+Kent!E94","v":6306},null,78,739536,810754,860656]
["male",79,{"$f":"MED!C95+Kent!C95","v":4158},{"$f":"MED!D95+Kent!D95","v":4685},{"$f":"MED!E95+Kent!E95","v":5302},null,79,743694,815439,865958]
["male",80,{"$f":"MED!C96+Kent!C96","v":4095},{"$f":"MED!D96+Kent!D96","v":4347},{"$f":"MED!E96+Kent!E96","v":5006},null,80,747789,819786,870964]
["male",81,{"$f":"MED!C97+Kent!C97","v":3861},{"$f":"MED!D97+Kent!D97","v":3980},{"$f":"MED!E97+Kent!E97","v":4864},null,81,751650,823766,875828]
["male",82,{"$f":"MED!C98+Kent!C98","v":2332},{"$f":"MED!D98+Kent!D98","v":3499},{"$f":"MED!E98+Kent!E98","v":4491},null,82,753982,827265,880319]
["male",83,{"$f":"MED!C99+Kent!C99","v":1896},{"$f":"MED!D99+Kent!D99","v":3144},{"$f":"MED!E99+Kent!E99","v":4071},null,83,755878,830409,884390]
["male",84,{"$f":"MED!C100+Kent!C100","v":2058},{"$f":"MED!D100+Kent!D100","v":2864},{"$f":"MED!E100+Kent!E100","v":3659},null,84,757936,833273,888049]
["male",85,{"$f":"MED!C101+Kent!C101","v":1722},{"$f":"MED!D101+Kent!D101","v":2389},{"$f":"MED!E101+Kent!E101","v":3225},null,85,759658,835662,891274]
["male",86,{"$f":"MED!C102+Kent!C102","v":1492},{"$f":"MED!D102+Kent!D102","v":2170},{"$f":"MED!E102+Kent!E102","v":2796},null,86,761150,837832,894070]
["male",87,{"$f":"MED!C103+Kent!C103","v":1321},{"$f":"MED!D103+Kent!D103","v":1741},{"$f":"MED!E103+Kent!E103","v":2328},null,87,762471,839573,896398]
["male",88,{"$f":"MED!C104+Kent!C104","v":1088},{"$f":"MED!D104+Kent!D104","v":1538},{"$f":"MED!E104+Kent!E104","v":1993},null,88,763559,841111,898391]
["male",89,{"$f":"MED!C105+Kent!C105","v":865},{"$f":"MED!D105+Kent!D105","v":1368},{"$f":"MED!E105+Kent!E105","v":1755},null,89,764424,842479,900146]
["male","90+",{"$f":"MED!C106+Kent!C106","v":2362},{"$f":"MED!D106+Kent!D106","v":3959},{"$f":"MED!E106+Kent!E106","v":5370},null,"90+",766786,846438,905516]
[null,"All Males",{"$f":"SUM(C16:C106)","v":766786},{"$f":"SUM(D16:D106)","v":846438},905516,null,"Females"]
["Sex","Age"]
["female",0,{"$f":"MED!C109+Kent!C109","v":8377},{"$f":"MED!D109+Kent!D109","v":10271},{"$f":"MED!E109+Kent!E109","v":9431},null,0,{"$f":"C109","v":8377},{"$f":"D109","v":10271},{"$f":"E109","v":9431}]
["female",1,{"$f":"MED!C110+Kent!C110","v":8873},{"$f":"MED!D110+Kent!D110","v":10497},{"$f":"MED!E110+Kent!E110","v":9851},null,1,{"$f":"H109+C110","v":17250},{"$f":"I109+D110","v":20768},{"$f":"J109+E110","v":19282}]
["female",2,{"$f":"MED!C111+Kent!C111","v":9257},{"$f":"MED!D111+Kent!D111","v":10330},{"$f":"MED!E111+Kent!E111","v":10241},null,2,26507,31098,29523]
["female",3,{"$f":"MED!C112+Kent!C112","v":9658},{"$f":"MED!D112+Kent!D112","v":10442},{"$f":"MED!E112+Kent!E112","v":10579},null,3,36165,41540,40102]
["female",4,{"$f":"MED!C113+Kent!C113","v":9740},{"$f":"MED!D113+Kent!D113","v":10270},{"$f":"MED!E113+Kent!E113","v":10695},null,4,45905,51810,50797]
["female",5,{"$f":"MED!C114+Kent!C114","v":9831},{"$f":"MED!D114+Kent!D114","v":10273},{"$f":"MED!E114+Kent!E114","v":10992},null,5,55736,62083,61789]
["female",6,{"$f":"MED!C115+Kent!C115","v":10035},{"$f":"MED!D115+Kent!D115","v":9572},{"$f":"MED!E115+Kent!E115","v":10813},null,6,65771,71655,72602]
["female",7,{"$f":"MED!C116+Kent!C116","v":10344},{"$f":"MED!D116+Kent!D116","v":9867},{"$f":"MED!E116+Kent!E116","v":10727},null,7,76115,81522,83329]
["female",8,{"$f":"MED!C117+Kent!C117","v":10411},{"$f":"MED!D117+Kent!D117","v":9440},{"$f":"MED!E117+Kent!E117","v":11278},null,8,86526,90962,94607]
["female",9,{"$f":"MED!C118+Kent!C118","v":10631},{"$f":"MED!D118+Kent!D118","v":9589},{"$f":"MED!E118+Kent!E118","v":11412},null,9,97157,100551,106019]
["female",10,{"$f":"MED!C119+Kent!C119","v":10757},{"$f":"MED!D119+Kent!D119","v":9956},{"$f":"MED!E119+Kent!E119","v":11473},null,10,107914,110507,117492]
["female",11,{"$f":"MED!C120+Kent!C120","v":10605},{"$f":"MED!D120+Kent!D120","v":10197},{"$f":"MED!E120+Kent!E120","v":11461},null,11,118519,120704,128953]
["female",12,{"$f":"MED!C121+Kent!C121","v":10537},{"$f":"MED!D121+Kent!D121","v":10616},{"$f":"MED!E121+Kent!E121","v":11393},null,12,129056,131320,140346]
["female",13,{"$f":"MED!C122+Kent!C122","v":10449},{"$f":"MED!D122+Kent!D122","v":11167},{"$f":"MED!E122+Kent!E122","v":11363},null,13,139505,142487,151709]
["female",14,{"$f":"MED!C123+Kent!C123","v":10126},{"$f":"MED!D123+Kent!D123","v":11069},{"$f":"MED!E123+Kent!E123","v":11009},null,14,149631,153556,162718]
["female",15,{"$f":"MED!C124+Kent!C124","v":9980},{"$f":"MED!D124+Kent!D124","v":10735},{"$f":"MED!E124+Kent!E124","v":10724},null,15,159611,164291,173442]
["female",16,{"$f":"MED!C125+Kent!C125","v":10241},{"$f":"MED!D125+Kent!D125","v":11326},{"$f":"MED!E125+Kent!E125","v":10553},null,16,169852,175617,183995]
["female",17,{"$f":"MED!C126+Kent!C126","v":10004},{"$f":"MED!D126+Kent!D126","v":11468},{"$f":"MED!E126+Kent!E126","v":10452},null,17,179856,187085,194447]
["female",18,{"$f":"MED!C127+Kent!C127","v":9364},{"$f":"MED!D127+Kent!D127","v":11219},{"$f":"MED!E127+Kent!E127","v":9765},null,18,189220,198304,204212]
["female",19,{"$f":"MED!C128+Kent!C128","v":8528},{"$f":"MED!D128+Kent!D128","v":11272},{"$f":"MED!E128+Kent!E128","v":9092},null,19,197748,209576,213304]
["female",20,{"$f":"MED!C129+Kent!C129","v":8712},{"$f":"MED!D129+Kent!D129","v":11066},{"$f":"MED!E129+Kent!E129","v":8874},null,20,206460,220642,222178]
["female",21,{"$f":"MED!C130+Kent!C130","v":8658},{"$f":"MED!D130+Kent!D130","v":10579},{"$f":"MED!E130+Kent!E130","v":9565},null,21,215118,231221,231743]
["female",22,{"$f":"MED!C131+Kent!C131","v":8436},{"$f":"MED!D131+Kent!D131","v":10575},{"$f":"MED!E131+Kent!E131","v":9957},null,22,223554,241796,241700]
["female",23,{"$f":"MED!C132+Kent!C132","v":8119},{"$f":"MED!D132+Kent!D132","v":10444},{"$f":"MED!E132+Kent!E132","v":10512},null,23,231673,252240,252212]
["female",24,{"$f":"MED!C133+Kent!C133","v":8280},{"$f":"MED!D133+Kent!D133","v":10235},{"$f":"MED!E133+Kent!E133","v":10308},null,24,239953,262475,262520]
["female",25,{"$f":"MED!C134+Kent!C134","v":8487},{"$f":"MED!D134+Kent!D134","v":10284},{"$f":"MED!E134+Kent!E134","v":10298},null,25,248440,272759,272818]
["female",26,{"$f":"MED!C135+Kent!C135","v":8857},{"$f":"MED!D135+Kent!D135","v":10221},{"$f":"MED!E135+Kent!E135","v":10877},null,26,257297,282980,283695]
["female",27,{"$f":"MED!C136+Kent!C136","v":9214},{"$f":"MED!D136+Kent!D136","v":10082},{"$f":"MED!E136+Kent!E136","v":11254},null,27,266511,293062,294949]
["female",28,{"$f":"MED!C137+Kent!C137","v":10148},{"$f":"MED!D137+Kent!D137","v":10118},{"$f":"MED!E137+Kent!E137","v":11771},null,28,276659,303180,306720]
["female",29,{"$f":"MED!C138+Kent!C138","v":10744},{"$f":"MED!D138+Kent!D138","v":10440},{"$f":"MED!E138+Kent!E138","v":11915},null,29,287403,313620,318635]
["female",30,{"$f":"MED!C139+Kent!C139","v":11294},{"$f":"MED!D139+Kent!D139","v":10694},{"$f":"MED!E139+Kent!E139","v":12583},null,30,298697,324314,331218]
["female",31,{"$f":"MED!C140+Kent!C140","v":11008},{"$f":"MED!D140+Kent!D140","v":10549},{"$f":"MED!E140+Kent!E140","v":12703},null,31,309705,334863,343921]
["female",32,{"$f":"MED!C141+Kent!C141","v":11726},{"$f":"MED!D141+Kent!D141","v":10124},{"$f":"MED!E141+Kent!E141","v":12825},null,32,321431,344987,356746]
["female",33,{"$f":"MED!C142+Kent!C142","v":11848},{"$f":"MED!D142+Kent!D142","v":9665},{"$f":"MED!E142+Kent!E142","v":12654},null,33,{"$f":"H141+C142","v":333279},{"$f":"I141+D142","v":354652},{"$f":"J141+E142","v":369400}]
["female",34,{"$f":"MED!C143+Kent!C143","v":12222},{"$f":"MED!D143+Kent!D143","v":9882},{"$f":"MED!E143+Kent!E143","v":12602},null,34,345501,364534,382002]
["female",35,{"$f":"MED!C144+Kent!C144","v":12701},{"$f":"MED!D144+Kent!D144","v":10195},{"$f":"MED!E144+Kent!E144","v":12548},null,35,358202,374729,394550]
["female",36,{"$f":"MED!C145+Kent!C145","v":12639},{"$f":"MED!D145+Kent!D145","v":10559},{"$f":"MED!E145+Kent!E145","v":12469},null,36,370841,385288,407019]
["female",37,{"$f":"MED!C146+Kent!C146","v":12347},{"$f":"MED!D146+Kent!D146","v":11100},{"$f":"MED!E146+Kent!E146","v":12226},null,37,383188,396388,419245]
["female",38,{"$f":"MED!C147+Kent!C147","v":12326},{"$f":"MED!D147+Kent!D147","v":11623},{"$f":"MED!E147+Kent!E147","v":12300},null,38,395514,408011,431545]
["female",39,{"$f":"MED!C148+Kent!C148","v":12261},{"$f":"MED!D148+Kent!D148","v":12199},{"$f":"MED!E148+Kent!E148","v":12433},null,39,407775,420210,443978]
["female",40,{"$f":"MED!C149+Kent!C149","v":11510},{"$f":"MED!D149+Kent!D149","v":12738},{"$f":"MED!E149+Kent!E149","v":12634},null,40,419285,432948,456612]
["female",41,{"$f":"MED!C150+Kent!C150","v":11222},{"$f":"MED!D150+Kent!D150","v":12670},{"$f":"MED!E150+Kent!E150","v":12520},null,41,430507,445618,469132]
["female",42,{"$f":"MED!C151+Kent!C151","v":11140},{"$f":"MED!D151+Kent!D151","v":13149},{"$f":"MED!E151+Kent!E151","v":11956},null,42,441647,458767,481088]
["female",43,{"$f":"MED!C152+Kent!C152","v":10819},{"$f":"MED!D152+Kent!D152","v":13009},{"$f":"MED!E152+Kent!E152","v":11144},null,43,452466,471776,492232]
["female",44,{"$f":"MED!C153+Kent!C153","v":10509},{"$f":"MED!D153+Kent!D153","v":13420},{"$f":"MED!E153+Kent!E153","v":11331},null,44,462975,485196,503563]
["female",45,{"$f":"MED!C154+Kent!C154","v":10299},{"$f":"MED!D154+Kent!D154","v":13403},{"$f":"MED!E154+Kent!E154","v":11503},null,45,473274,498599,515066]
["female",46,{"$f":"MED!C155+Kent!C155","v":10186},{"$f":"MED!D155+Kent!D155","v":13415},{"$f":"MED!E155+Kent!E155","v":11767},null,46,483460,512014,526833]
["female",47,{"$f":"MED!C156+Kent!C156","v":10381},{"$f":"MED!D156+Kent!D156","v":12948},{"$f":"MED!E156+Kent!E156","v":12048},null,47,493841,524962,538881]
["female",48,{"$f":"MED!C157+Kent!C157","v":10145},{"$f":"MED!D157+Kent!D157","v":12843},{"$f":"MED!E157+Kent!E157","v":12546},null,48,503986,537805,551427]
["female",49,{"$f":"MED!C158+Kent!C158","v":10227},{"$f":"MED!D158+Kent!D158","v":12436},{"$f":"MED!E158+Kent!E158","v":12994},null,49,514213,550241,564421]
["female",50,{"$f":"MED!C159+Kent!C159","v":10280},{"$f":"MED!D159+Kent!D159","v":11948},{"$f":"MED!E159+Kent!E159","v":13248},null,50,524493,562189,577669]
["female",51,{"$f":"MED!C160+Kent!C160","v":10670},{"$f":"MED!D160+Kent!D160","v":11635},{"$f":"MED!E160+Kent!E160","v":13125},null,51,535163,573824,590794]
["female",52,{"$f":"MED!C161+Kent!C161","v":11315},{"$f":"MED!D161+Kent!D161","v":11413},{"$f":"MED!E161+Kent!E161","v":13431},null,52,546478,585237,604225]
["female",53,{"$f":"MED!C162+Kent!C162","v":12661},{"$f":"MED!D162+Kent!D162","v":11084},{"$f":"MED!E162+Kent!E162","v":13357},null,53,559139,596321,617582]
["female",54,{"$f":"MED!C163+Kent!C163","v":13668},{"$f":"MED!D163+Kent!D163","v":10645},{"$f":"MED!E163+Kent!E163","v":13496},null,54,572807,606966,631078]
["female",55,{"$f":"MED!C164+Kent!C164","v":10249},{"$f":"MED!D164+Kent!D164","v":10281},{"$f":"MED!E164+Kent!E164","v":13555},null,55,583056,617247,644633]
["female",56,{"$f":"MED!C165+Kent!C165","v":10237},{"$f":"MED!D165+Kent!D165","v":10236},{"$f":"MED!E165+Kent!E165","v":13493},null,56,593293,627483,658126]
["female",57,{"$f":"MED!C166+Kent!C166","v":9854},{"$f":"MED!D166+Kent!D166","v":10139},{"$f":"MED!E166+Kent!E166","v":12954},null,57,603147,637622,671080]
["female",58,{"$f":"MED!C167+Kent!C167","v":9428},{"$f":"MED!D167+Kent!D167","v":9998},{"$f":"MED!E167+Kent!E167","v":12834},null,58,612575,647620,683914]
["female",59,{"$f":"MED!C168+Kent!C168","v":8179},{"$f":"MED!D168+Kent!D168","v":10042},{"$f":"MED!E168+Kent!E168","v":12310},null,59,620754,657662,696224]
["female",60,{"$f":"MED!C169+Kent!C169","v":7781},{"$f":"MED!D169+Kent!D169","v":10019},{"$f":"MED!E169+Kent!E169","v":11807},null,60,628535,667681,708031]
["female",61,{"$f":"MED!C170+Kent!C170","v":8395},{"$f":"MED!D170+Kent!D170","v":10585},{"$f":"MED!E170+Kent!E170","v":11357},null,61,636930,678266,719388]
["female",62,{"$f":"MED!C171+Kent!C171","v":8287},{"$f":"MED!D171+Kent!D171","v":11134},{"$f":"MED!E171+Kent!E171","v":11210},null,62,645217,689400,730598]
["female",63,{"$f":"MED!C172+Kent!C172","v":8136},{"$f":"MED!D172+Kent!D172","v":12461},{"$f":"MED!E172+Kent!E172","v":10722},null,63,653353,701861,741320]
["female",64,{"$f":"MED!C173+Kent!C173","v":7985},{"$f":"MED!D173+Kent!D173","v":13004},{"$f":"MED!E173+Kent!E173","v":10330},null,64,661338,714865,751650]
["female",65,{"$f":"MED!C174+Kent!C174","v":7638},{"$f":"MED!D174+Kent!D174","v":9506},{"$f":"MED!E174+Kent!E174","v":9977},null,65,{"$f":"H173+C174","v":668976},{"$f":"I173+D174","v":724371},{"$f":"J173+E174","v":761627}]
["female",66,{"$f":"MED!C175+Kent!C175","v":7493},{"$f":"MED!D175+Kent!D175","v":10067},{"$f":"MED!E175+Kent!E175","v":9976},null,66,676469,734438,771603]
["female",67,{"$f":"MED!C176+Kent!C176","v":7107},{"$f":"MED!D176+Kent!D176","v":9333},{"$f":"MED!E176+Kent!E176","v":9800},null,67,683576,743771,781403]
["female",68,{"$f":"MED!C177+Kent!C177","v":7315},{"$f":"MED!D177+Kent!D177","v":8915},{"$f":"MED!E177+Kent!E177","v":9549},null,68,690891,752686,790952]
["female",69,{"$f":"MED!C178+Kent!C178","v":7315},{"$f":"MED!D178+Kent!D178","v":7580},{"$f":"MED!E178+Kent!E178","v":9682},null,69,698206,760266,800634]
["female",70,{"$f":"MED!C179+Kent!C179","v":7388},{"$f":"MED!D179+Kent!D179","v":7156},{"$f":"MED!E179+Kent!E179","v":9528},null,70,705594,767422,810162]
["female",71,{"$f":"MED!C180+Kent!C180","v":7242},{"$f":"MED!D180+Kent!D180","v":7599},{"$f":"MED!E180+Kent!E180","v":9922},null,71,712836,775021,820084]
["female",72,{"$f":"MED!C181+Kent!C181","v":6898},{"$f":"MED!D181+Kent!D181","v":7533},{"$f":"MED!E181+Kent!E181","v":10357},null,72,719734,782554,830441]
["female",73,{"$f":"MED!C182+Kent!C182","v":6655},{"$f":"MED!D182+Kent!D182","v":7241},{"$f":"MED!E182+Kent!E182","v":11510},null,73,726389,789795,841951]
["female",74,{"$f":"MED!C183+Kent!C183","v":6827},{"$f":"MED!D183+Kent!D183","v":6999},{"$f":"MED!E183+Kent!E183","v":11704},null,74,733216,796794,853655]
["female",75,{"$f":"MED!C184+Kent!C184","v":6632},{"$f":"MED!D184+Kent!D184","v":6595},{"$f":"MED!E184+Kent!E184","v":8443},null,75,739848,803389,862098]
["female",76,{"$f":"MED!C185+Kent!C185","v":6355},{"$f":"MED!D185+Kent!D185","v":6447},{"$f":"MED!E185+Kent!E185","v":8884},null,76,746203,809836,870982]
["female",77,{"$f":"MED!C186+Kent!C186","v":6270},{"$f":"MED!D186+Kent!D186","v":5980},{"$f":"MED!E186+Kent!E186","v":8067},null,77,752473,815816,879049]
["female",78,{"$f":"MED!C187+Kent!C187","v":6291},{"$f":"MED!D187+Kent!D187","v":6047},{"$f":"MED!E187+Kent!E187","v":7394},null,78,758764,821863,886443]
["female",79,{"$f":"MED!C188+Kent!C188","v":6433},{"$f":"MED!D188+Kent!D188","v":5750},{"$f":"MED!E188+Kent!E188","v":6342},null,79,765197,827613,892785]
["female",80,{"$f":"MED!C189+Kent!C189","v":6539},{"$f":"MED!D189+Kent!D189","v":5835},{"$f":"MED!E189+Kent!E189","v":5857},null,80,771736,833448,898642]
["female",81,{"$f":"MED!C190+Kent!C190","v":6021},{"$f":"MED!D190+Kent!D190","v":5527},{"$f":"MED!E190+Kent!E190","v":6016},null,81,777757,838975,904658]
["female",82,{"$f":"MED!C191+Kent!C191","v":3967},{"$f":"MED!D191+Kent!D191","v":5052},{"$f":"MED!E191+Kent!E191","v":5707},null,82,781724,844027,910365]
["female",83,{"$f":"MED!C192+Kent!C192","v":3296},{"$f":"MED!D192+Kent!D192","v":4688},{"$f":"MED!E192+Kent!E192","v":5358},null,83,785020,848715,915723]
["female",84,{"$f":"MED!C193+Kent!C193","v":3761},{"$f":"MED!D193+Kent!D193","v":4429},{"$f":"MED!E193+Kent!E193","v":4888},null,84,788781,853144,920611]
["female",85,{"$f":"MED!C194+Kent!C194","v":3548},{"$f":"MED!D194+Kent!D194","v":4070},{"$f":"MED!E194+Kent!E194","v":4373},null,85,792329,857214,924984]
["female",86,{"$f":"MED!C195+Kent!C195","v":3473},{"$f":"MED!D195+Kent!D195","v":3676},{"$f":"MED!E195+Kent!E195","v":3882},null,86,795802,860890,928866]
["female",87,{"$f":"MED!C196+Kent!C196","v":3012},{"$f":"MED!D196+Kent!D196","v":3531},{"$f":"MED!E196+Kent!E196","v":3537},null,87,798814,864421,932403]
["female",88,{"$f":"MED!C197+Kent!C197","v":2689},{"$f":"MED!D197+Kent!D197","v":3083},{"$f":"MED!E197+Kent!E197","v":3250},null,88,801503,867504,935653]
["female",89,{"$f":"MED!C198+Kent!C198","v":2330},{"$f":"MED!D198+Kent!D198","v":3032},{"$f":"MED!E198+Kent!E198","v":2810},null,89,803833,870536,938463]
["female","90+",{"$f":"MED!C199+Kent!C199","v":8588},{"$f":"MED!D199+Kent!D199","v":10691},{"$f":"MED!E199+Kent!E199","v":11870},null,"90+",812421,881227,950333]
[null,"All Females",{"$f":"SUM(C109:C199)","v":812421},881227,950333]

{"sheet":"ASH","index":8,"n_rows":200,"n_cols":19,"rows_kept":200,"cut":false,"hidden":true,"merged":[[0,10,21,10]]}
["Mid Year Population Estimates",null,null,null,null,null,null,null,null,null,"Insert column here before extending the table"]
["2001, 2011, and 2021 Census: The Office forNnational Statistics (ONS)",null,null,null,null,null,"Selected Ages:",null,null,null,null,null,null,null,"Start year","End Year","Number change","% Change"]
[null,null,null,null,null,null,null,{"$f":"H13","v":2001},2011,{"$f":"J13","v":2021},null,null,null,null,{"$f":"INDEX($H3:$I3,Index!$B$16)","v":2011},{"$f":"INDEX($H3:$J3,Index!$B$19)","v":2011}]
[null,null,null,null,null,null,"Males",{"$f":"OFFSET(H16,Index!$B$7-1,0)-IF(Index!$B$4-2=1,0,OFFSET(H16,Index!$B$4-2,0))","v":49967},{"$f":"OFFSET(I16,Index!$B$7-1,0)-IF(Index!$B$4-2=1,0,OFFSET(I16,Index!$B$4-2,0))","v":57232},{"$f":"OFFSET(J16,Index!$B$7-1,0)-IF(Index!$B$4-2=1,0,OFFSET(J16,Index!$B$4-2,0))","v":64593},null,null,null,null,{"$f":"INDEX($H4:$I4,Index!$B$16)","v":57232},{"$f":"INDEX($H4:$J4,Index!$B$19)","v":57232},{"$f":"P4-O4","v":0},{"$f":"Q4/O4","v":0}]
[null,null,null,null,null,null,"Females",{"$f":"OFFSET(H109,Index!$B$7-1,0)-IF(Index!$B$4-2=1,0,OFFSET(H109,Index!$B$4-2,0))","v":52706},{"$f":"OFFSET(I109,Index!$B$7-1,0)-IF(Index!$B$4-2=1,0,OFFSET(I109,Index!$B$4-2,0))","v":60724},{"$f":"OFFSET(J109,Index!$B$7-1,0)-IF(Index!$B$4-2=1,0,OFFSET(J109,Index!$B$4-2,0))","v":68159},null,null,null,null,{"$f":"INDEX($H5:$I5,Index!$B$16)","v":60724},{"$f":"INDEX($H5:$J5,Index!$B$19)","v":60724},{"$f":"P5-O5","v":0},{"$f":"Q5/O5","v":0}]
[null,null,null,null,null,null,"Total",{"$f":"SUM(H4:H5)","v":102673},117956,{"$f":"SUM(J4:J5)","v":132752},null,null,null,null,{"$f":"INDEX($H6:$I6,Index!$B$16)","v":117956},{"$f":"INDEX($H6:$J6,Index!$B$19)","v":117956},{"$f":"P6-O6","v":0},{"$f":"Q6/O6","v":0}]
[]
[null,null,null,null,null,null,"Males",{"$f":"IF(H4<0,\"0\",H4)","v":49967},57232,{"$f":"IF(J4<0,\"0\",J4)","v":64593}]
[null,null,null,null,null,null,"Females",{"$f":"IF(H5<0,\"0\",H5)","v":52706},60724,68159]
[null,null,null,null,null,null,"Total",{"$f":"SUM(H8:H9)","v":102673},117956,{"$f":"SUM(J8:J9)","v":132752}]
[null,null,10,20,29]
["Ashford",null,null,null,null,null,null,null,null,null,null,"Population Pyramid"]
[null,null,null,null,null,null,null,{"$f":"C14","v":2001},{"$f":"D14","v":2011},{"$f":"E14","v":2021}]
["Sex","Age",2001,2011,2021,null,null,null,null,null,null,null,null,null,2001,2011,2021,null,{"$f":"INDEX(O14:Q14,Index!$B$23)","v":2021}]
[null,"All persons",{"$f":"SUM(C107,C200)","v":102673},117956,{"$f":"SUM(E107,E200)","v":132752},null,"Males",null,null,null,null,"Males","All Ages",null,{"$f":"C107","v":49967},{"$f":"D107","v":57232},{"$f":"E107","v":64593},null,{"$f":"INDEX(O15:Q15,Index!$B$23)","v":64593}]
["male",0,621,761,727,null,0,{"$f":"C16","v":621},{"$f":"D16","v":761},{"$f":"E16","v":727},null,"Males","0-4",null,{"$f":"SUM(C16:C20)","v":3339},{"$f":"SUM(D16:D20)","v":3928},{"$f":"SUM(E16:E20)","v":3886},null,{"$f":"INDEX(O16:Q16,Index!$B$23)","v":3886}]
["male",1,629,757,726,null,1,{"$f":"H16+C17","v":1250},{"$f":"I16+D17","v":1518},{"$f":"J16+E17","v":1453},null,"Males","5-9",null,{"$f":"SUM(C21:C25)","v":3571},{"$f":"SUM(D21:D25)","v":3751},{"$f":"SUM(E21:E25)","v":4268},null,{"$f":"INDEX(O17:Q17,Index!$B$23)","v":4268}]
["male",2,686,783,755,null,2,1936,2301,2208,null,"Males","10-14",null,{"$f":"SUM(C26:C30)","v":3462},{"$f":"SUM(D26:D30)","v":3954},{"$f":"SUM(E26:E30)","v":4304},null,{"$f":"INDEX(O18:Q18,Index!$B$23)","v":4304}]
["male",3,669,808,870,null,3,2605,3109,3078,null,"Males","15-19",null,{"$f":"SUM(C31:C35)","v":3003},{"$f":"SUM(D31:D35)","v":4011},{"$f":"SUM(E31:E35)","v":3810},null,{"$f":"INDEX(O19:Q19,Index!$B$23)","v":3810}]
["male",4,734,819,808,null,4,3339,3928,3886,null,"Males","20-24",null,{"$f":"SUM(C36:C40)","v":2518},{"$f":"SUM(D36:D40)","v":3098},{"$f":"SUM(E36:E40)","v":3269},null,{"$f":"INDEX(O20:Q20,Index!$B$23)","v":3269}]
["male",5,703,719,820,null,5,4042,4647,4706,null,"Males","25-29",null,{"$f":"SUM(C41:C45)","v":2818},{"$f":"SUM(D41:D45)","v":2986},{"$f":"SUM(E41:E45)","v":3864},null,{"$f":"INDEX(O21:Q21,Index!$B$23)","v":3864}]
["male",6,694,734,831,null,6,4736,5381,5537,null,"Males","30-34",null,{"$f":"SUM(C46:C50)","v":3745},{"$f":"SUM(D46:D50)","v":3083},{"$f":"SUM(E46:E50)","v":4159},null,{"$f":"INDEX(O22:Q22,Index!$B$23)","v":4159}]
["male",7,689,770,856,null,7,5425,6151,6393,null,"Males","35-39",null,{"$f":"SUM(C51:C55)","v":3968},{"$f":"SUM(D51:D55)","v":3628},{"$f":"SUM(E51:E55)","v":3943},null,{"$f":"INDEX(O23:Q23,Index!$B$23)","v":3943}]
["male",8,770,751,894,null,8,6195,6902,7287,null,"Males","40-44",null,{"$f":"SUM(C56:C60)","v":3702},{"$f":"SUM(D56:D60)","v":4618},{"$f":"SUM(E56:E60)","v":3955},null,{"$f":"INDEX(O24:Q24,Index!$B$23)","v":3955}]
["male",9,715,777,867,null,9,6910,7679,8154,null,"Males","45-49",null,{"$f":"SUM(C61:C65)","v":3200},{"$f":"SUM(D61:D65)","v":4601},{"$f":"SUM(E61:E65)","v":4043},null,{"$f":"INDEX(O25:Q25,Index!$B$23)","v":4043}]
["male",10,735,781,838,null,10,7645,8460,8992,null,"Males","50-54",null,{"$f":"SUM(C66:C70)","v":3822},{"$f":"SUM(D66:D70)","v":3682},{"$f":"SUM(E66:E70)","v":4884},null,{"$f":"INDEX(O26:Q26,Index!$B$23)","v":4884}]
["male",11,731,785,893,null,11,8376,9245,9885,null,"Males","55-59",null,{"$f":"SUM(C71:C75)","v":3119},{"$f":"SUM(D71:D75)","v":3309},{"$f":"SUM(E71:E75)","v":4602},null,{"$f":"INDEX(O27:Q27,Index!$B$23)","v":4602}]
["male",12,680,826,871,null,12,9056,10071,10756,null,"Males","60-64",null,{"$f":"SUM(C76:C80)","v":2573},{"$f":"SUM(D76:D80)","v":3691},{"$f":"SUM(E76:E80)","v":3661},null,{"$f":"INDEX(O28:Q28,Index!$B$23)","v":3661}]
["male",13,666,768,845,null,13,9722,10839,11601,null,"Males","65-69",null,{"$f":"SUM(C81:C85)","v":2258},{"$f":"SUM(D81:D85)","v":2953},{"$f":"SUM(E81:E85)","v":3198},null,{"$f":"INDEX(O29:Q29,Index!$B$23)","v":3198}]
["male",14,650,794,857,null,14,10372,11633,12458,null,"Males","70-74",null,{"$f":"SUM(C86:C90)","v":1801},{"$f":"SUM(D86:D90)","v":2221},{"$f":"SUM(E86:E90)","v":3387},null,{"$f":"INDEX(O30:Q30,Index!$B$23)","v":3387}]
["male",15,693,837,785,null,15,11065,12470,13243,null,"Males","75-79",null,{"$f":"SUM(C91:C95)","v":1484},{"$f":"SUM(D91:D95)","v":1684},{"$f":"SUM(E91:E95)","v":2528},null,{"$f":"INDEX(O31:Q31,Index!$B$23)","v":2528}]
["male",16,680,848,836,null,16,11745,13318,14079,null,"Males","80-84",null,{"$f":"SUM(C96:C100)","v":982},{"$f":"SUM(D96:D100)","v":1125},{"$f":"SUM(E96:E100)","v":1601},null,{"$f":"INDEX(O32:Q32,Index!$B$23)","v":1601}]
["male",17,641,806,868,null,17,12386,14124,14947,null,"Males","85-89",null,{"$f":"SUM(C101:C105)","v":458},{"$f":"SUM(D101:D105)","v":676},866,null,{"$f":"INDEX(O33:Q33,Index!$B$23)","v":866}]
["male",18,543,829,727,null,18,12929,14953,15674,null,"Males","90+",null,{"$f":"C106","v":144},{"$f":"D106","v":233},365,null,{"$f":"INDEX(O34:Q34,Index!$B$23)","v":365}]
["male",19,446,691,594,null,19,13375,15644,16268]
["male",20,545,610,582,null,20,13920,16254,16850,null,"Males","All Ages",null,{"$f":"C200","v":52706},{"$f":"D200","v":60724},{"$f":"E200","v":68159},null,{"$f":"INDEX(O36:Q36,Index!$B$23)","v":68159}]
["male",21,499,624,588,null,21,14419,16878,17438,null,"Females","0-4",null,{"$f":"SUM(C109:C113)","v":3114},{"$f":"SUM(D109:D113)","v":3843},{"$f":"SUM(E109:E113)","v":3722},null,{"$f":"INDEX(O37:Q37,Index!$B$23)","v":3722}]
["male",22,486,571,688,null,22,14905,17449,18126,null,"Females","5-9",null,{"$f":"SUM(C114:C118)","v":3461},{"$f":"SUM(D114:D118)","v":3607},{"$f":"SUM(E114:E118)","v":4046},null,{"$f":"INDEX(O38:Q38,Index!$B$23)","v":4046}]
["male",23,530,644,683,null,23,15435,18093,18809,null,"Females","10-14",null,{"$f":"SUM(C119:C123)","v":3426},{"$f":"SUM(D119:D123)","v":3884},{"$f":"SUM(E119:E123)","v":4255},null,{"$f":"INDEX(O39:Q39,Index!$B$23)","v":4255}]
["male",24,458,649,728,null,24,15893,18742,19537,null,"Females","15-19",null,{"$f":"SUM(C124:C128)","v":2975},{"$f":"SUM(D124:D128)","v":3610},{"$f":"SUM(E124:E128)","v":3496},null,{"$f":"INDEX(O40:Q40,Index!$B$23)","v":3496}]
["male",25,489,617,755,null,25,16382,19359,20292,null,"Females","20-24",null,{"$f":"SUM(C129:C133)","v":2441},{"$f":"SUM(D129:D133)","v":3147},{"$f":"SUM(E129:E133)","v":3202},null,{"$f":"INDEX(O41:Q41,Index!$B$23)","v":3202}]
["male",26,541,593,768,null,26,16923,19952,21060,null,"Females","25-29",null,{"$f":"SUM(C134:C138)","v":3038},{"$f":"SUM(D134:D138)","v":3484},{"$f":"SUM(E134:E138)","v":4093},null,{"$f":"INDEX(O42:Q42,Index!$B$23)","v":4093}]
["male",27,562,605,728,null,27,17485,20557,21788,null,"Females","30-34",null,{"$f":"SUM(C139:C143)","v":4020},{"$f":"SUM(D139:D143)","v":3465},{"$f":"SUM(E139:E143)","v":4693},null,{"$f":"INDEX(O43:Q43,Index!$B$23)","v":4693}]
["male",28,564,619,791,null,28,18049,21176,22579,null,"Females","35-39",null,{"$f":"SUM(C144:C148)","v":4227},{"$f":"SUM(D144:D148)","v":3931},{"$f":"SUM(E144:E148)","v":4397},null,{"$f":"INDEX(O44:Q44,Index!$B$23)","v":4397}]
["male",29,662,552,822,null,29,18711,21728,23401,null,"Females","40-44",null,{"$f":"SUM(C149:C153)","v":3510},{"$f":"SUM(D149:D153)","v":4865},{"$f":"SUM(E149:E153)","v":4212},null,{"$f":"INDEX(O45:Q45,Index!$B$23)","v":4212}]
["male",30,677,629,834,null,30,19388,22357,24235,null,"Females","45-49",null,{"$f":"SUM(C154:C158)","v":3435},{"$f":"SUM(D154:D158)","v":4595},{"$f":"SUM(E154:E158)","v":4444},null,{"$f":"INDEX(O46:Q46,Index!$B$23)","v":4444}]
["male",31,699,635,831,null,31,20087,22992,25066,null,"Females","50-54",null,{"$f":"SUM(C159:C163)","v":3781},{"$f":"SUM(D159:D163)","v":3789},{"$f":"SUM(E159:E163)","v":5071},null,{"$f":"INDEX(O47:Q47,Index!$B$23)","v":5071}]
["male",32,751,622,801,null,32,20838,23614,25867,null,"Females","55-59",null,{"$f":"SUM(C164:C168)","v":3242},{"$f":"SUM(D164:D168)","v":3440},{"$f":"SUM(E164:E168)","v":4689},null,{"$f":"INDEX(O48:Q48,Index!$B$23)","v":4689}]
["male",33,808,604,863,null,33,{"$f":"H48+C49","v":21646},{"$f":"I48+D49","v":24218},{"$f":"J48+E49","v":26730},null,"Females","60-64",null,{"$f":"SUM(C169:C173)","v":2540},{"$f":"SUM(D169:D173)","v":3988},{"$f":"SUM(E169:E173)","v":3788},null,{"$f":"INDEX(O49:Q49,Index!$B$23)","v":3788}]
["male",34,810,593,830,null,34,22456,24811,27560,null,"Females","65-69",null,{"$f":"SUM(C174:C178)","v":2393},{"$f":"SUM(D174:D178)","v":3242},{"$f":"SUM(E174:E178)","v":3456},null,{"$f":"INDEX(O50:Q50,Index!$B$23)","v":3456}]
["male",35,800,658,805,null,35,23256,25469,28365,null,"Females","70-74",null,{"$f":"SUM(C179:C183)","v":2237},{"$f":"SUM(D179:D183)","v":2393},{"$f":"SUM(E179:E183)","v":3851},null,{"$f":"INDEX(O51:Q51,Index!$B$23)","v":3851}]
["male",36,813,704,783,null,36,24069,26173,29148,null,"Females","75-79",null,{"$f":"SUM(C184:C188)","v":2025},{"$f":"SUM(D184:D188)","v":2013},{"$f":"SUM(E184:E188)","v":2873},null,{"$f":"INDEX(O52:Q52,Index!$B$23)","v":2873}]
["male",37,802,712,830,null,37,24871,26885,29978,null,"Females","80-84",null,{"$f":"SUM(C189:C193)","v":1472},{"$f":"SUM(D189:D193)","v":1604},{"$f":"SUM(E189:E193)","v":1904},null,{"$f":"INDEX(O53:Q53,Index!$B$23)","v":1904}]
["male",38,798,786,791,null,38,25669,27671,30769,null,"Females","85-89",null,{"$f":"SUM(C194:C198)","v":903},{"$f":"SUM(D194:D198)","v":1116},1195,null,{"$f":"INDEX(O54:Q54,Index!$B$23)","v":1195}]
["male",39,755,768,734,null,39,26424,28439,31503,null,"Females","90+",null,{"$f":"C199","v":466},{"$f":"D199","v":708},772,null,{"$f":"INDEX(O55:Q55,Index!$B$23)","v":772}]
["male",40,775,863,801,null,40,27199,29302,32304]
["male",41,771,909,812,null,41,27970,30211,33116]
["male",42,720,954,768,null,42,28690,31165,33884]
["male",43,722,980,772,null,43,29412,32145,34656]
["male",44,714,912,802,null,44,30126,33057,35458]
["male",45,657,969,768,null,45,30783,34026,36226]
["male",46,633,909,804,null,46,31416,34935,37030]
["male",47,635,953,804,null,47,32051,35888,37834]
["male",48,651,881,824,null,48,32702,36769,38658]
["male",49,624,889,843,null,49,33326,37658,39501]
["male",50,662,812,929,null,50,33988,38470,40430]
["male",51,707,751,991,null,51,34695,39221,41421]
["male",52,738,741,1024,null,52,35433,39962,42445]
["male",53,808,696,984,null,53,36241,40658,43429]
["male",54,907,682,956,null,54,37148,41340,44385]
["male",55,642,664,946,null,55,37790,42004,45331]
["male",56,705,659,954,null,56,38495,42663,46285]
["male",57,632,645,954,null,57,39127,43308,47239]
["male",58,611,669,852,null,58,39738,43977,48091]
["male",59,529,672,896,null,59,40267,44649,48987]
["male",60,496,639,839,null,60,40763,45288,49826]
["male",61,554,686,782,null,61,41317,45974,50608]
["male",62,531,710,710,null,62,41848,46684,51318]
["male",63,498,825,677,null,63,42346,47509,51995]
["male",64,494,831,653,null,64,42840,48340,52648]
["male",65,510,611,690,null,65,{"$f":"H80+C81","v":43350},{"$f":"I80+D81","v":48951},{"$f":"J80+E81","v":53338}]
["male",66,437,716,636,null,66,43787,49667,53974]
["male",67,432,599,609,null,67,44219,50266,54583]
["male",68,420,569,629,null,68,44639,50835,55212]
["male",69,459,458,634,null,69,45098,51293,55846]
["male",70,406,447,584,null,70,45504,51740,56430]
["male",71,374,482,670,null,71,45878,52222,57100]
["male",72,368,449,658,null,72,46246,52671,57758]
["male",73,323,414,732,null,73,46569,53085,58490]
["male",74,330,429,743,null,74,46899,53514,59233]
["male",75,322,380,561,null,75,47221,53894,59794]
["male",76,313,326,594,null,76,47534,54220,60388]
["male",77,315,349,526,null,77,47849,54569,60914]
["male",78,274,303,461,null,78,48123,54872,61375]
["male",79,260,326,386,null,79,48383,55198,61761]
["male",80,262,285,362,null,80,48645,55483,62123]
["male",81,293,251,372,null,81,48938,55734,62495]
["male",82,151,233,319,null,82,49089,55967,62814]
["male",83,129,185,292,null,83,49218,56152,63106]
["male",84,147,171,256,null,84,49365,56323,63362]
["male",85,123,166,236,null,85,49488,56489,63598]
["male",86,115,166,213,null,86,49603,56655,63811]
["male",87,73,145,147,null,87,49676,56800,63958]
["male",88,74,99,138,null,88,49750,56899,64096]
["male",89,73,100,132,null,89,49823,56999,64228]
["male","90+",144,233,365,null,"90+",49967,57232,64593]
[null,"All Males",{"$f":"SUM(C16:C106)","v":49967},57232,{"$f":"SUM(E16:E106)","v":64593},null,"Females"]
["Sex","Age"]
["female",0,603,736,681,null,0,{"$f":"C109","v":603},{"$f":"D109","v":736},{"$f":"E109","v":681}]
["female",1,594,764,738,null,1,{"$f":"H109+C110","v":1197},{"$f":"I109+D110","v":1500},{"$f":"J109+E110","v":1419}]
["female",2,618,802,746,null,2,1815,2302,2165]
["female",3,644,761,784,null,3,2459,3063,2949]
["female",4,655,780,773,null,4,3114,3843,3722]
["female",5,686,692,809,null,5,3800,4535,4531]
["female",6,645,715,808,null,6,4445,5250,5339]
["female",7,708,731,741,null,7,5153,5981,6080]
["female",8,716,733,850,null,8,5869,6714,6930]
["female",9,706,736,838,null,9,6575,7450,7768]
["female",10,705,719,845,null,10,7280,8169,8613]
["female",11,715,754,881,null,11,7995,8923,9494]
["female",12,677,781,855,null,12,8672,9704,10349]
["female",13,655,826,840,null,13,9327,10530,11189]
["female",14,674,804,834,null,14,10001,11334,12023]
["female",15,651,741,710,null,15,10652,12075,12733]
["female",16,664,740,753,null,16,11316,12815,13486]
["female",17,624,770,807,null,17,11940,13585,14293]
["female",18,568,738,687,null,18,12508,14323,14980]
["female",19,468,621,539,null,19,12976,14944,15519]
["female",20,533,560,449,null,20,13509,15504,15968]
["female",21,442,600,582,null,21,13951,16104,16550]
["female",22,504,648,659,null,22,14455,16752,17209]
["female",23,481,653,749,null,23,14936,17405,17958]
["female",24,481,686,763,null,24,15417,18091,18721]
["female",25,505,751,688,null,25,15922,18842,19409]
["female",26,572,672,838,null,26,16494,19514,20247]
["female",27,569,666,856,null,27,17063,20180,21103]
["female",28,670,716,855,null,28,17733,20896,21958]
["female",29,722,679,856,null,29,18455,21575,22814]
["female",30,762,695,924,null,30,19217,22270,23738]
["female",31,779,674,940,null,31,19996,22944,24678]
["female",32,807,735,968,null,32,20803,23679,25646]
["female",33,843,665,942,null,33,{"$f":"H141+C142","v":21646},{"$f":"I141+D142","v":24344},{"$f":"J141+E142","v":26588}]
["female",34,829,696,919,null,34,22475,25040,27507]
["female",35,880,694,919,null,35,23355,25734,28426]
["female",36,864,753,885,null,36,24219,26487,29311]
["female",37,825,788,862,null,37,25044,27275,30173]
["female",38,824,804,872,null,38,25868,28079,31045]
["female",39,834,892,859,null,39,26702,28971,31904]
["female",40,728,951,850,null,40,27430,29922,32754]
["female",41,707,970,806,null,41,28137,30892,33560]
["female",42,729,984,887,null,42,28866,31876,34447]
["female",43,696,1005,819,null,43,29562,32881,35266]
["female",44,650,955,850,null,44,30212,33836,36116]
["female",45,751,973,806,null,45,30963,34809,36922]
["female",46,687,949,892,null,46,31650,35758,37814]
["female",47,666,884,851,null,47,32316,36642,38665]
["female",48,658,935,889,null,48,32974,37577,39554]
["female",49,673,854,1006,null,49,33647,38431,40560]
["female",50,644,812,1002,null,50,34291,39243,41562]
["female",51,731,740,1046,null,51,35022,39983,42608]
["female",52,713,759,992,null,52,35735,40742,43600]
["female",53,827,769,1050,null,53,36562,41511,44650]
["female",54,866,709,981,null,54,37428,42220,45631]
["female",55,682,726,975,null,55,38110,42946,46606]
["female",56,709,708,998,null,56,38819,43654,47604]
["female",57,701,659,906,null,57,39520,44313,48510]
["female",58,637,656,949,null,58,40157,44969,49459]
["female",59,513,691,861,null,59,40670,45660,50320]
["female",60,545,687,821,null,60,41215,46347,51141]
["female",61,520,741,752,null,61,41735,47088,51893]
["female",62,516,774,751,null,62,42251,47862,52644]
["female",63,493,888,755,null,63,42744,48750,53399]
["female",64,466,898,709,null,64,43210,49648,54108]
["female",65,482,654,710,null,65,{"$f":"H173+C174","v":43692},{"$f":"I173+D174","v":50302},{"$f":"J173+E174","v":54818}]
["female",66,479,752,739,null,66,44171,51054,55557]
["female",67,461,674,682,null,67,44632,51728,56239]
["female",68,466,643,657,null,68,45098,52371,56896]
["female",69,505,519,668,null,69,45603,52890,57564]
["female",70,479,496,690,null,70,46082,53386,58254]
["female",71,476,476,700,null,71,46558,53862,58954]
["female",72,421,515,765,null,72,46979,54377,59719]
["female",73,404,461,840,null,73,47383,54838,60559]
["female",74,457,445,856,null,74,47840,55283,61415]
["female",75,441,431,614,null,75,48281,55714,62029]
["female",76,402,398,661,null,76,48683,56112,62690]
["female",77,371,394,591,null,77,49054,56506,63281]
["female",78,402,389,549,null,78,49456,56895,63830]
["female",79,409,401,458,null,79,49865,57296,64288]
["female",80,423,377,412,null,80,50288,57673,64700]
["female",81,367,346,415,null,81,50655,58019,65115]
["female",82,244,309,402,null,82,50899,58328,65517]
["female",83,197,283,333,null,83,51096,58611,65850]
["female",84,241,289,342,null,84,51337,58900,66192]
["female",85,205,274,291,null,85,51542,59174,66483]
["female",86,208,226,254,null,86,51750,59400,66737]
["female",87,185,222,232,null,87,51935,59622,66969]
["female",88,168,205,220,null,88,52103,59827,67189]
["female",89,137,189,198,null,89,52240,60016,67387]
["female","90+",466,708,772,null,"90+",52706,60724,68159]
[null,"All Females",{"$f":"SUM(C109:C199)","v":52706},60724,{"$f":"SUM(E109:E199)","v":68159}]

{"sheet":"CAN","index":9,"n_rows":200,"n_cols":19,"rows_kept":200,"cut":false,"hidden":true,"merged":[[0,10,21,10]]}
["Mid Year Population Estimates",null,null,null,null,null,null,null,null,null,"Insert column here before extending the table"]
["2001, 2011, and 2021 Census: The Office forNnational Statistics (ONS)",null,null,null,null,null,"Selected Ages:",null,null,null,null,null,null,null,"Start year","End Year","Number change","% Change"]
[null,null,null,null,null,null,null,{"$f":"H13","v":2001},2011,{"$f":"J13","v":2021},null,null,null,null,{"$f":"INDEX($H3:$I3,Index!$B$16)","v":2011},{"$f":"INDEX($H3:$J3,Index!$B$19)","v":2011}]
[null,null,null,null,null,null,"Males",{"$f":"OFFSET(H16,Index!$B$7-1,0)-IF(Index!$B$4-2=1,0,OFFSET(H16,Index!$B$4-2,0))","v":64125},{"$f":"OFFSET(I16,Index!$B$7-1,0)-IF(Index!$B$4-2=1,0,OFFSET(I16,Index!$B$4-2,0))","v":72638},{"$f":"OFFSET(J16,Index!$B$7-1,0)-IF(Index!$B$4-2=1,0,OFFSET(J16,Index!$B$4-2,0))","v":75576},null,null,null,null,{"$f":"INDEX($H4:$I4,Index!$B$16)","v":72638},{"$f":"INDEX($H4:$J4,Index!$B$19)","v":72638},{"$f":"P4-O4","v":0},{"$f":"Q4/O4","v":0}]
[null,null,null,null,null,null,"Females",{"$f":"OFFSET(H109,Index!$B$7-1,0)-IF(Index!$B$4-2=1,0,OFFSET(H109,Index!$B$4-2,0))","v":71152},{"$f":"OFFSET(I109,Index!$B$7-1,0)-IF(Index!$B$4-2=1,0,OFFSET(I109,Index!$B$4-2,0))","v":78507},{"$f":"OFFSET(J109,Index!$B$7-1,0)-IF(Index!$B$4-2=1,0,OFFSET(J109,Index!$B$4-2,0))","v":81841},null,null,null,null,{"$f":"INDEX($H5:$I5,Index!$B$16)","v":78507},{"$f":"INDEX($H5:$J5,Index!$B$19)","v":78507},{"$f":"P5-O5","v":0},{"$f":"Q5/O5","v":0}]
[null,null,null,null,null,null,"Total",{"$f":"SUM(H4:H5)","v":135277},151145,{"$f":"SUM(J4:J5)","v":157417},null,null,null,null,{"$f":"INDEX($H6:$I6,Index!$B$16)","v":151145},{"$f":"INDEX($H6:$J6,Index!$B$19)","v":151145},{"$f":"P6-O6","v":0},{"$f":"Q6/O6","v":0}]
[]
[null,null,null,null,null,null,"Males",{"$f":"IF(H4<0,\"0\",H4)","v":64125},72638,{"$f":"IF(J4<0,\"0\",J4)","v":75576}]
[null,null,null,null,null,null,"Females",71152,78507,81841]
[null,null,null,null,null,null,"Total",{"$f":"SUM(H8:H9)","v":135277},151145,{"$f":"SUM(J8:J9)","v":157417}]
[]
["Canterbury",null,null,null,null,null,null,null,null,null,null,"Population Pyramid"]
[null,null,null,null,null,null,null,{"$f":"C14","v":2001},{"$f":"D14","v":2011},{"$f":"E14","v":2021}]
["Sex","Age",2001,2011,2021,null,null,null,null,null,null,null,null,null,2001,2011,2021,null,{"$f":"INDEX(O14:Q14,Index!$B$23)","v":2021}]
[null,"All persons",{"$f":"SUM(C107,C200)","v":135277},151145,{"$f":"SUM(E107,E200)","v":157417},null,"Males",null,null,null,null,"Males","All Ages",null,{"$f":"C107","v":64125},{"$f":"D107","v":72638},{"$f":"E107","v":75576},null,{"$f":"INDEX(O15:Q15,Index!$B$23)","v":75576}]
["male",0,637,809,665,null,0,{"$f":"C16","v":637},{"$f":"D16","v":809},{"$f":"E16","v":665},null,"Males","0-4",null,{"$f":"SUM(C16:C20)","v":3511},{"$f":"SUM(D16:D20)","v":3864},{"$f":"SUM(E16:E20)","v":3529},null,{"$f":"INDEX(O16:Q16,Index!$B$23)","v":3529}]
["male",1,704,752,669,null,1,{"$f":"H16+C17","v":1341},{"$f":"I16+D17","v":1561},{"$f":"J16+E17","v":1334},null,"Males","5-9",null,{"$f":"SUM(C21:C25)","v":3965},{"$f":"SUM(D21:D25)","v":3870},{"$f":"SUM(E21:E25)","v":4007},null,{"$f":"INDEX(O17:Q17,Index!$B$23)","v":4007}]
["male",2,725,765,714,null,2,2066,2326,2048,null,"Males","10-14",null,{"$f":"SUM(C26:C30)","v":4391},{"$f":"SUM(D26:D30)","v":4309},{"$f":"SUM(E26:E30)","v":4358},null,{"$f":"INDEX(O18:Q18,Index!$B$23)","v":4358}]
["male",3,698,719,729,null,3,2764,3045,2777,null,"Males","15-19",null,{"$f":"SUM(C31:C35)","v":4888},{"$f":"SUM(D31:D35)","v":6504},{"$f":"SUM(E31:E35)","v":6255},null,{"$f":"INDEX(O19:Q19,Index!$B$23)","v":6255}]
["male",4,747,819,752,null,4,3511,3864,3529,null,"Males","20-24",null,{"$f":"SUM(C36:C40)","v":5343},{"$f":"SUM(D36:D40)","v":7907},{"$f":"SUM(E36:E40)","v":7515},null,{"$f":"INDEX(O20:Q20,Index!$B$23)","v":7515}]
["male",5,754,818,804,null,5,4265,4682,4333,null,"Males","25-29",null,{"$f":"SUM(C41:C45)","v":3602},{"$f":"SUM(D41:D45)","v":4380},{"$f":"SUM(E41:E45)","v":4313},null,{"$f":"INDEX(O21:Q21,Index!$B$23)","v":4313}]
["male",6,773,734,762,null,6,5038,5416,5095,null,"Males","30-34",null,{"$f":"SUM(C46:C50)","v":4157},{"$f":"SUM(D46:D50)","v":3532},{"$f":"SUM(E46:E50)","v":4096},null,{"$f":"INDEX(O22:Q22,Index!$B$23)","v":4096}]
["male",7,804,786,784,null,7,5842,6202,5879,null,"Males","35-39",null,{"$f":"SUM(C51:C55)","v":4282},{"$f":"SUM(D51:D55)","v":3705},{"$f":"SUM(E51:E55)","v":3940},null,{"$f":"INDEX(O23:Q23,Index!$B$23)","v":3940}]
["male",8,820,779,788,null,8,6662,6981,6667,null,"Males","40-44",null,{"$f":"SUM(C56:C60)","v":4047},{"$f":"SUM(D56:D60)","v":4613},{"$f":"SUM(E56:E60)","v":3939},null,{"$f":"INDEX(O24:Q24,Index!$B$23)","v":3939}]
["male",9,814,753,869,null,9,7476,7734,7536,null,"Males","45-49",null,{"$f":"SUM(C61:C65)","v":3804},{"$f":"SUM(D61:D65)","v":4762},{"$f":"SUM(E61:E65)","v":4287},null,{"$f":"INDEX(O25:Q25,Index!$B$23)","v":4287}]
["male",10,861,790,851,null,10,8337,8524,8387,null,"Males","50-54",null,{"$f":"SUM(C66:C70)","v":4394},{"$f":"SUM(D66:D70)","v":4232},{"$f":"SUM(E66:E70)","v":4718},null,{"$f":"INDEX(O26:Q26,Index!$B$23)","v":4718}]
["male",11,841,838,872,null,11,9178,9362,9259,null,"Males","55-59",null,{"$f":"SUM(C71:C75)","v":3807},{"$f":"SUM(D71:D75)","v":4056},{"$f":"SUM(E71:E75)","v":4928},null,{"$f":"INDEX(O27:Q27,Index!$B$23)","v":4928}]
["male",12,898,873,862,null,12,10076,10235,10121,null,"Males","60-64",null,{"$f":"SUM(C76:C80)","v":3355},{"$f":"SUM(D76:D80)","v":4651},{"$f":"SUM(E76:E80)","v":4375},null,{"$f":"INDEX(O28:Q28,Index!$B$23)","v":4375}]
["male",13,894,880,829,null,13,10970,11115,10950,null,"Males","65-69",null,{"$f":"SUM(C81:C85)","v":2950},{"$f":"SUM(D81:D85)","v":3719},{"$f":"SUM(E81:E85)","v":4040},null,{"$f":"INDEX(O29:Q29,Index!$B$23)","v":4040}]
["male",14,897,928,944,null,14,11867,12043,11894,null,"Males","70-74",null,{"$f":"SUM(C86:C90)","v":2708},{"$f":"SUM(D86:D90)","v":3052},{"$f":"SUM(E86:E90)","v":4403},null,{"$f":"INDEX(O30:Q30,Index!$B$23)","v":4403}]
["male",15,908,941,924,null,15,12775,12984,12818,null,"Males","75-79",null,{"$f":"SUM(C91:C95)","v":2315},{"$f":"SUM(D91:D95)","v":2296},{"$f":"SUM(E91:E95)","v":3110},null,{"$f":"INDEX(O31:Q31,Index!$B$23)","v":3110}]
["male",16,890,910,898,null,16,13665,13894,13716,null,"Males","80-84",null,{"$f":"SUM(C96:C100)","v":1566},{"$f":"SUM(D96:D100)","v":1742},{"$f":"SUM(E96:E100)","v":2119},null,{"$f":"INDEX(O32:Q32,Index!$B$23)","v":2119}]
["male",17,829,980,972,null,17,14494,14874,14688,null,"Males","85-89",null,{"$f":"SUM(C101:C105)","v":755},{"$f":"SUM(D101:D105)","v":1010},1099,null,{"$f":"INDEX(O33:Q33,Index!$B$23)","v":1099}]
["male",18,939,1462,1389,null,18,15433,16336,16077,null,"Males","90+",null,{"$f":"C106","v":285},{"$f":"D106","v":434},545,null,{"$f":"INDEX(O34:Q34,Index!$B$23)","v":545}]
["male",19,1322,2211,2072,null,19,16755,18547,18149]
["male",20,1422,2375,1946,null,20,18177,20922,20095,null,"Males","All Ages",null,{"$f":"C200","v":71152},{"$f":"D200","v":78507},{"$f":"E200","v":81841},null,{"$f":"INDEX(O36:Q36,Index!$B$23)","v":81841}]
["male",21,1258,1898,1928,null,21,19435,22820,22023,null,"Females","0-4",null,{"$f":"SUM(C109:C113)","v":3383},{"$f":"SUM(D109:D113)","v":3650},{"$f":"SUM(E109:E113)","v":3294},null,{"$f":"INDEX(O37:Q37,Index!$B$23)","v":3294}]
["male",22,1069,1471,1506,null,22,20504,24291,23529,null,"Females","5-9",null,{"$f":"SUM(C114:C118)","v":3727},{"$f":"SUM(D114:D118)","v":3636},{"$f":"SUM(E114:E118)","v":3738},null,{"$f":"INDEX(O38:Q38,Index!$B$23)","v":3738}]
["male",23,840,1172,1120,null,23,21344,25463,24649,null,"Females","10-14",null,{"$f":"SUM(C119:C123)","v":4199},{"$f":"SUM(D119:D123)","v":4084},{"$f":"SUM(E119:E123)","v":4000},null,{"$f":"INDEX(O39:Q39,Index!$B$23)","v":4000}]
["male",24,754,991,1015,null,24,22098,26454,25664,null,"Females","15-19",null,{"$f":"SUM(C124:C128)","v":5022},{"$f":"SUM(D124:D128)","v":6805},{"$f":"SUM(E124:E128)","v":6345},null,{"$f":"INDEX(O40:Q40,Index!$B$23)","v":6345}]
["male",25,708,977,884,null,25,22806,27431,26548,null,"Females","20-24",null,{"$f":"SUM(C129:C133)","v":5836},{"$f":"SUM(D129:D133)","v":8315},{"$f":"SUM(E129:E133)","v":8273},null,{"$f":"INDEX(O41:Q41,Index!$B$23)","v":8273}]
["male",26,677,981,896,null,26,23483,28412,27444,null,"Females","25-29",null,{"$f":"SUM(C134:C138)","v":3903},{"$f":"SUM(D134:D138)","v":4278},{"$f":"SUM(E134:E138)","v":4352},null,{"$f":"INDEX(O42:Q42,Index!$B$23)","v":4352}]
["male",27,689,841,861,null,27,24172,29253,28305,null,"Females","30-34",null,{"$f":"SUM(C139:C143)","v":4200},{"$f":"SUM(D139:D143)","v":3726},{"$f":"SUM(E139:E143)","v":4317},null,{"$f":"INDEX(O43:Q43,Index!$B$23)","v":4317}]
["male",28,743,804,860,null,28,24915,30057,29165,null,"Females","35-39",null,{"$f":"SUM(C144:C148)","v":4524},{"$f":"SUM(D144:D148)","v":4173},{"$f":"SUM(E144:E148)","v":4395},null,{"$f":"INDEX(O44:Q44,Index!$B$23)","v":4395}]
["male",29,785,777,812,null,29,25700,30834,29977,null,"Females","40-44",null,{"$f":"SUM(C149:C153)","v":4254},{"$f":"SUM(D149:D153)","v":4893},{"$f":"SUM(E149:E153)","v":4297},null,{"$f":"INDEX(O45:Q45,Index!$B$23)","v":4297}]
["male",30,864,802,811,null,30,26564,31636,30788,null,"Females","45-49",null,{"$f":"SUM(C154:C158)","v":4147},{"$f":"SUM(D154:D158)","v":4924},{"$f":"SUM(E154:E158)","v":4701},null,{"$f":"INDEX(O46:Q46,Index!$B$23)","v":4701}]
["male",31,734,726,835,null,31,27298,32362,31623,null,"Females","50-54",null,{"$f":"SUM(C159:C163)","v":4749},{"$f":"SUM(D159:D163)","v":4495},{"$f":"SUM(E159:E163)","v":5161},null,{"$f":"INDEX(O47:Q47,Index!$B$23)","v":5161}]
["male",32,810,666,803,null,32,28108,33028,32426,null,"Females","55-59",null,{"$f":"SUM(C164:C168)","v":4225},{"$f":"SUM(D164:D168)","v":4331},{"$f":"SUM(E164:E168)","v":5288},null,{"$f":"INDEX(O48:Q48,Index!$B$23)","v":5288}]
["male",33,837,684,838,null,33,{"$f":"H48+C49","v":28945},{"$f":"I48+D49","v":33712},{"$f":"J48+E49","v":33264},null,"Females","60-64",null,{"$f":"SUM(C169:C173)","v":3557},{"$f":"SUM(D169:D173)","v":5005},{"$f":"SUM(E169:E173)","v":4751},null,{"$f":"INDEX(O49:Q49,Index!$B$23)","v":4751}]
["male",34,912,654,809,null,34,29857,34366,34073,null,"Females","65-69",null,{"$f":"SUM(C174:C178)","v":3251},{"$f":"SUM(D174:D178)","v":4231},{"$f":"SUM(E174:E178)","v":4491},null,{"$f":"INDEX(O50:Q50,Index!$B$23)","v":4491}]
["male",35,885,698,799,null,35,30742,35064,34872,null,"Females","70-74",null,{"$f":"SUM(C179:C183)","v":3499},{"$f":"SUM(D179:D183)","v":3339},{"$f":"SUM(E179:E183)","v":4979},null,{"$f":"INDEX(O51:Q51,Index!$B$23)","v":4979}]
["male",36,918,706,839,null,36,31660,35770,35711,null,"Females","75-79",null,{"$f":"SUM(C184:C188)","v":3351},{"$f":"SUM(D184:D188)","v":2902},{"$f":"SUM(E184:E188)","v":3797},null,{"$f":"INDEX(O52:Q52,Index!$B$23)","v":3797}]
["male",37,828,693,758,null,37,32488,36463,36469,null,"Females","80-84",null,{"$f":"SUM(C189:C193)","v":2575},{"$f":"SUM(D189:D193)","v":2600},{"$f":"SUM(E189:E193)","v":2612},null,{"$f":"INDEX(O53:Q53,Index!$B$23)","v":2612}]
["male",38,838,756,769,null,38,33326,37219,37238,null,"Females","85-89",null,{"$f":"SUM(C194:C198)","v":1763},{"$f":"SUM(D194:D198)","v":1911},1726,null,{"$f":"INDEX(O54:Q54,Index!$B$23)","v":1726}]
["male",39,813,852,775,null,39,34139,38071,38013,null,"Females","90+",null,{"$f":"C199","v":987},{"$f":"D199","v":1209},1324,null,{"$f":"INDEX(O55:Q55,Index!$B$23)","v":1324}]
["male",40,808,906,869,null,40,34947,38977,38882]
["male",41,809,859,826,null,41,35756,39836,39708]
["male",42,808,916,757,null,42,36564,40752,40465]
["male",43,838,927,751,null,43,37402,41679,41216]
["male",44,784,1005,736,null,44,38186,42684,41952]
["male",45,731,950,780,null,45,38917,43634,42732]
["male",46,781,1010,844,null,46,39698,44644,43576]
["male",47,773,935,830,null,47,40471,45579,44406]
["male",48,765,923,902,null,48,41236,46502,45308]
["male",49,754,944,931,null,49,41990,47446,46239]
["male",50,768,887,936,null,50,42758,48333,47175]
["male",51,806,824,896,null,51,43564,49157,48071]
["male",52,875,837,966,null,52,44439,49994,49037]
["male",53,945,858,919,null,53,45384,50852,49956]
["male",54,1000,826,1001,null,54,46384,51678,50957]
["male",55,820,832,1023,null,55,47204,52510,51980]
["male",56,790,811,1067,null,56,47994,53321,53047]
["male",57,769,776,936,null,57,48763,54097,53983]
["male",58,761,852,957,null,58,49524,54949,54940]
["male",59,667,785,945,null,59,50191,55734,55885]
["male",60,619,814,923,null,60,50810,56548,56808]
["male",61,729,863,862,null,61,51539,57411,57670]
["male",62,694,922,881,null,62,52233,58333,58551]
["male",63,660,989,858,null,63,52893,59322,59409]
["male",64,653,1063,851,null,64,53546,60385,60260]
["male",65,644,826,844,null,65,{"$f":"H80+C81","v":54190},{"$f":"I80+D81","v":61211},{"$f":"J80+E81","v":61104}]
["male",66,611,796,820,null,66,54801,62007,61924]
["male",67,566,729,779,null,67,55367,62736,62703]
["male",68,535,736,835,null,68,55902,63472,63538]
["male",69,594,632,762,null,69,56496,64104,64300]
["male",70,606,602,807,null,70,57102,64706,65107]
["male",71,534,693,853,null,71,57636,65399,65960]
["male",72,543,592,871,null,72,58179,65991,66831]
["male",73,522,607,940,null,73,58701,66598,67771]
["male",74,503,558,932,null,74,59204,67156,68703]
["male",75,518,537,706,null,75,59722,67693,69409]
["male",76,474,483,702,null,76,60196,68176,70111]
["male",77,452,444,588,null,77,60648,68620,70699]
["male",78,441,410,628,null,78,61089,69030,71327]
["male",79,430,422,486,null,79,61519,69452,71813]
["male",80,439,431,452,null,80,61958,69883,72265]
["male",81,419,353,504,null,81,62377,70236,72769]
["male",82,221,360,427,null,82,62598,70596,73196]
["male",83,245,324,391,null,83,62843,70920,73587]
["male",84,242,274,345,null,84,63085,71194,73932]
["male",85,207,270,293,null,85,63292,71464,74225]
["male",86,168,229,269,null,86,63460,71693,74494]
["male",87,152,184,203,null,87,63612,71877,74697]
["male",88,125,173,180,null,88,63737,72050,74877]
["male",89,103,154,154,null,89,63840,72204,75031]
["male","90+",285,434,545,null,"90+",64125,72638,75576]
[null,"All Males",{"$f":"SUM(C16:C106)","v":64125},72638,{"$f":"SUM(E16:E106)","v":75576},null,"Females"]
["Sex","Age"]
["female",0,596,738,572,null,0,{"$f":"C109","v":596},{"$f":"D109","v":738},{"$f":"E109","v":572}]
["female",1,655,740,666,null,1,{"$f":"H109+C110","v":1251},{"$f":"I109+D110","v":1478},{"$f":"J109+E110","v":1238}]
["female",2,667,740,685,null,2,1918,2218,1923]
["female",3,764,725,690,null,3,2682,2943,2613]
["female",4,701,707,681,null,4,3383,3650,3294]
["female",5,695,767,713,null,5,4078,4417,4007]
["female",6,740,728,735,null,6,4818,5145,4742]
["female",7,726,700,706,null,7,5544,5845,5448]
["female",8,772,726,747,null,8,6316,6571,6195]
["female",9,794,715,837,null,9,7110,7286,7032]
["female",10,833,747,797,null,10,7943,8033,7829]
["female",11,786,773,784,null,11,8729,8806,8613]
["female",12,865,793,851,null,12,9594,9599,9464]
["female",13,842,895,813,null,13,10436,10494,10277]
["female",14,873,876,755,null,14,11309,11370,11032]
["female",15,829,820,801,null,15,12138,12190,11833]
["female",16,887,905,852,null,16,13025,13095,12685]
["female",17,838,861,828,null,17,13863,13956,13513]
["female",18,1029,1604,1486,null,18,14892,15560,14999]
["female",19,1439,2615,2378,null,19,16331,18175,17377]
["female",20,1598,2693,2417,null,20,17929,20868,19794]
["female",21,1481,2094,2182,null,21,19410,22962,21976]
["female",22,1111,1484,1520,null,22,20521,24446,23496]
["female",23,878,1108,1158,null,23,21399,25554,24654]
["female",24,768,936,996,null,24,22167,26490,25650]
["female",25,752,898,880,null,25,22919,27388,26530]
["female",26,756,918,914,null,26,23675,28306,27444]
["female",27,795,855,854,null,27,24470,29161,28298]
["female",28,796,844,880,null,28,25266,30005,29178]
["female",29,804,763,824,null,29,26070,30768,30002]
["female",30,862,743,837,null,30,26932,31511,30839]
["female",31,804,800,843,null,31,27736,32311,31682]
["female",32,842,776,911,null,32,28578,33087,32593]
["female",33,864,703,847,null,33,{"$f":"H141+C142","v":29442},{"$f":"I141+D142","v":33790},{"$f":"J141+E142","v":33440}]
["female",34,828,704,879,null,34,30270,34494,34319]
["female",35,931,763,864,null,35,31201,35257,35183]
["female",36,898,788,882,null,36,32099,36045,36065]
["female",37,887,878,879,null,37,32986,36923,36944]
["female",38,930,864,917,null,38,33916,37787,37861]
["female",39,878,880,853,null,39,34794,38667,38714]
["female",40,899,966,872,null,40,35693,39633,39586]
["female",41,891,968,922,null,41,36584,40601,40508]
["female",42,881,1009,875,null,42,37465,41610,41383]
["female",43,786,963,804,null,43,38251,42573,42187]
["female",44,797,987,824,null,44,39048,43560,43011]
["female",45,851,1018,887,null,45,39899,44578,43898]
["female",46,817,996,862,null,46,40716,45574,44760]
["female",47,842,994,967,null,47,41558,46568,45727]
["female",48,788,980,998,null,48,42346,47548,46725]
["female",49,849,936,987,null,49,43195,48484,47712]
["female",50,873,890,989,null,50,44068,49374,48701]
["female",51,828,942,1087,null,51,44896,50316,49788]
["female",52,873,993,1028,null,52,45769,51309,50816]
["female",53,1059,835,1011,null,53,46828,52144,51827]
["female",54,1116,835,1046,null,54,47944,52979,52873]
["female",55,900,903,1077,null,55,48844,53882,53950]
["female",56,902,873,1063,null,56,49746,54755,55013]
["female",57,868,840,1044,null,57,50614,55595,56057]
["female",58,845,855,1091,null,58,51459,56450,57148]
["female",59,710,860,1013,null,59,52169,57310,58161]
["female",60,643,891,973,null,60,52812,58201,59134]
["female",61,737,909,989,null,61,53549,59110,60123]
["female",62,771,965,974,null,62,54320,60075,61097]
["female",63,709,1084,912,null,63,55029,61159,62009]
["female",64,697,1156,903,null,64,55726,62315,62912]
["female",65,655,890,938,null,65,{"$f":"H173+C174","v":56381},{"$f":"I173+D174","v":63205},{"$f":"J173+E174","v":63850}]
["female",66,625,931,918,null,66,57006,64136,64768]
["female",67,669,870,894,null,67,57675,65006,65662]
["female",68,664,834,867,null,68,58339,65840,66529]
["female",69,638,706,874,null,69,58977,66546,67403]
["female",70,700,633,899,null,70,59677,67179,68302]
["female",71,741,702,936,null,71,60418,67881,69238]
["female",72,694,686,966,null,72,61112,68567,70204]
["female",73,655,686,1077,null,73,61767,69253,71281]
["female",74,709,632,1101,null,74,62476,69885,72382]
["female",75,664,615,843,null,75,63140,70500,73225]
["female",76,679,612,866,null,76,63819,71112,74091]
["female",77,665,566,744,null,77,64484,71678,74835]
["female",78,677,578,701,null,78,65161,72256,75536]
["female",79,666,531,643,null,79,65827,72787,76179]
["female",80,728,570,541,null,80,66555,73357,76720]
["female",81,617,583,575,null,81,67172,73940,77295]
["female",82,415,522,539,null,82,67587,74462,77834]
["female",83,374,467,508,null,83,67961,74929,78342]
["female",84,441,458,449,null,84,68402,75387,78791]
["female",85,417,433,427,null,85,68819,75820,79218]
["female",86,412,414,371,null,86,69231,76234,79589]
["female",87,339,406,338,null,87,69570,76640,79927]
["female",88,325,345,315,null,88,69895,76985,80242]
["female",89,270,313,275,null,89,70165,77298,80517]
["female","90+",987,1209,1324,null,"90+",71152,78507,81841]
[null,"All Females",{"$f":"SUM(C109:C199)","v":71152},78507,{"$f":"SUM(E109:E199)","v":81841}]

{"sheet":"DAR","index":10,"n_rows":200,"n_cols":19,"rows_kept":200,"cut":false,"hidden":true,"merged":[[0,10,21,10]]}
["Mid Year Population Estimates",null,null,null,null,null,null,null,null,null,"Insert column here before extending the table"]
["2001, 2011, and 2021 Census: The Office forNnational Statistics (ONS)",null,null,null,null,null,"Selected Ages:",null,null,null,null,null,null,null,"Start year","End Year","Number change","% Change"]
[null,null,null,null,null,null,null,{"$f":"H13","v":2001},2011,{"$f":"J13","v":2021},null,null,null,null,{"$f":"INDEX($H3:$I3,Index!$B$16)","v":2011},{"$f":"INDEX($H3:$J3,Index!$B$19)","v":2011}]
[null,null,null,null,null,null,"Males",{"$f":"OFFSET(H16,Index!$B$7-1,0)-IF(Index!$B$4-2=1,0,OFFSET(H16,Index!$B$4-2,0))","v":42117},{"$f":"OFFSET(I16,Index!$B$7-1,0)-IF(Index!$B$4-2=1,0,OFFSET(I16,Index!$B$4-2,0))","v":48061},{"$f":"OFFSET(J16,Index!$B$7-1,0)-IF(Index!$B$4-2=1,0,OFFSET(J16,Index!$B$4-2,0))","v":57155},null,null,null,null,{"$f":"INDEX($H4:$I4,Index!$B$16)","v":48061},{"$f":"INDEX($H4:$J4,Index!$B$19)","v":48061},{"$f":"P4-O4","v":0},{"$f":"Q4/O4","v":0}]
[null,null,null,null,null,null,"Females",{"$f":"OFFSET(H109,Index!$B$7-1,0)-IF(Index!$B$4-2=1,0,OFFSET(H109,Index!$B$4-2,0))","v":43789},{"$f":"OFFSET(I109,Index!$B$7-1,0)-IF(Index!$B$4-2=1,0,OFFSET(I109,Index!$B$4-2,0))","v":49304},{"$f":"OFFSET(J109,Index!$B$7-1,0)-IF(Index!$B$4-2=1,0,OFFSET(J109,Index!$B$4-2,0))","v":59593},null,null,null,null,{"$f":"INDEX($H5:$I5,Index!$B$16)","v":49304},{"$f":"INDEX($H5:$J5,Index!$B$19)","v":49304},{"$f":"P5-O5","v":0},{"$f":"Q5/O5","v":0}]
[null,null,null,null,null,null,"Total",{"$f":"SUM(H4:H5)","v":85906},97365,{"$f":"SUM(J4:J5)","v":116748},null,null,null,null,{"$f":"INDEX($H6:$I6,Index!$B$16)","v":97365},{"$f":"INDEX($H6:$J6,Index!$B$19)","v":97365},{"$f":"P6-O6","v":0},{"$f":"Q6/O6","v":0}]
[]
[null,null,null,null,null,null,"Males",{"$f":"IF(H4<0,\"0\",H4)","v":42117},48061,{"$f":"IF(J4<0,\"0\",J4)","v":57155}]
[null,null,null,null,null,null,"Females",43789,49304,59593]
[null,null,null,null,null,null,"Total",{"$f":"SUM(H8:H9)","v":85906},97365,{"$f":"SUM(J8:J9)","v":116748}]
[]
["Dartford",null,null,null,null,null,null,null,null,null,null,"Population Pyramid"]
[null,null,null,null,null,null,null,{"$f":"C14","v":2001},{"$f":"D14","v":2011},{"$f":"E14","v":2021}]
["Sex","Age",2001,2011,2021,null,null,null,null,null,null,null,null,null,2001,2011,2021,null,{"$f":"INDEX(O14:Q14,Index!$B$23)","v":2021}]
[null,"All persons",{"$f":"SUM(C107,C200)","v":85906},97365,{"$f":"SUM(E107,E200)","v":116748},null,"Males",null,null,null,null,"Males","All Ages",null,{"$f":"C107","v":42117},{"$f":"D107","v":48061},{"$f":"E107","v":57155},null,{"$f":"INDEX(O15:Q15,Index!$B$23)","v":57155}]
["male",0,541,694,805,null,0,{"$f":"C16","v":541},{"$f":"D16","v":694},{"$f":"E16","v":805},null,"Males","0-4",null,{"$f":"SUM(C16:C20)","v":2866},{"$f":"SUM(D16:D20)","v":3377},{"$f":"SUM(E16:E20)","v":4314},null,{"$f":"INDEX(O16:Q16,Index!$B$23)","v":4314}]
["male",1,569,702,858,null,1,{"$f":"H16+C17","v":1110},{"$f":"I16+D17","v":1396},{"$f":"J16+E17","v":1663},null,"Males","5-9",null,{"$f":"SUM(C21:C25)","v":3077},{"$f":"SUM(D21:D25)","v":3111},{"$f":"SUM(E21:E25)","v":4208},null,{"$f":"INDEX(O17:Q17,Index!$B$23)","v":4208}]
["male",2,647,673,908,null,2,1757,2069,2571,null,"Males","10-14",null,{"$f":"SUM(C26:C30)","v":2905},{"$f":"SUM(D26:D30)","v":3014},{"$f":"SUM(E26:E30)","v":4095},null,{"$f":"INDEX(O18:Q18,Index!$B$23)","v":4095}]
["male",3,551,674,876,null,3,2308,2743,3447,null,"Males","15-19",null,{"$f":"SUM(C31:C35)","v":2488},{"$f":"SUM(D31:D35)","v":3068},{"$f":"SUM(E31:E35)","v":3257},null,{"$f":"INDEX(O19:Q19,Index!$B$23)","v":3257}]
["male",4,558,634,867,null,4,2866,3377,4314,null,"Males","20-24",null,{"$f":"SUM(C36:C40)","v":2491},{"$f":"SUM(D36:D40)","v":3014},{"$f":"SUM(E36:E40)","v":2781},null,{"$f":"INDEX(O20:Q20,Index!$B$23)","v":2781}]
["male",5,626,682,815,null,5,3492,4059,5129,null,"Males","25-29",null,{"$f":"SUM(C41:C45)","v":2985},{"$f":"SUM(D41:D45)","v":3440},{"$f":"SUM(E41:E45)","v":3654},null,{"$f":"INDEX(O21:Q21,Index!$B$23)","v":3654}]
["male",6,604,663,830,null,6,4096,4722,5959,null,"Males","30-34",null,{"$f":"SUM(C46:C50)","v":3629},{"$f":"SUM(D46:D50)","v":3567},{"$f":"SUM(E46:E50)","v":4584},null,{"$f":"INDEX(O22:Q22,Index!$B$23)","v":4584}]
["male",7,606,594,816,null,7,4702,5316,6775,null,"Males","35-39",null,{"$f":"SUM(C51:C55)","v":3714},{"$f":"SUM(D51:D55)","v":3545},{"$f":"SUM(E51:E55)","v":4536},null,{"$f":"INDEX(O23:Q23,Index!$B$23)","v":4536}]
["male",8,611,616,863,null,8,5313,5932,7638,null,"Males","40-44",null,{"$f":"SUM(C56:C60)","v":2998},{"$f":"SUM(D56:D60)","v":3758},{"$f":"SUM(E56:E60)","v":4379},null,{"$f":"INDEX(O24:Q24,Index!$B$23)","v":4379}]
["male",9,630,556,884,null,9,5943,6488,8522,null,"Males","45-49",null,{"$f":"SUM(C61:C65)","v":2641},{"$f":"SUM(D61:D65)","v":3679},{"$f":"SUM(E61:E65)","v":3981},null,{"$f":"INDEX(O25:Q25,Index!$B$23)","v":3981}]
["male",10,579,595,859,null,10,6522,7083,9381,null,"Males","50-54",null,{"$f":"SUM(C66:C70)","v":2805},{"$f":"SUM(D66:D70)","v":3129},{"$f":"SUM(E66:E70)","v":3778},null,{"$f":"INDEX(O26:Q26,Index!$B$23)","v":3778}]
["male",11,574,583,873,null,11,7096,7666,10254,null,"Males","55-59",null,{"$f":"SUM(C71:C75)","v":2280},{"$f":"SUM(D71:D75)","v":2549},{"$f":"SUM(E71:E75)","v":3559},null,{"$f":"INDEX(O27:Q27,Index!$B$23)","v":3559}]
["male",12,587,630,825,null,12,7683,8296,11079,null,"Males","60-64",null,{"$f":"SUM(C76:C80)","v":1980},{"$f":"SUM(D76:D80)","v":2546},{"$f":"SUM(E76:E80)","v":2773},null,{"$f":"INDEX(O28:Q28,Index!$B$23)","v":2773}]
["male",13,584,591,799,null,13,8267,8887,11878,null,"Males","65-69",null,{"$f":"SUM(C81:C85)","v":1707},{"$f":"SUM(D81:D85)","v":1914},{"$f":"SUM(E81:E85)","v":2131},null,{"$f":"INDEX(O29:Q29,Index!$B$23)","v":2131}]
["male",14,581,615,739,null,14,8848,9502,12617,null,"Males","70-74",null,{"$f":"SUM(C86:C90)","v":1523},{"$f":"SUM(D86:D90)","v":1510},{"$f":"SUM(E86:E90)","v":1977},null,{"$f":"INDEX(O30:Q30,Index!$B$23)","v":1977}]
["male",15,554,710,768,null,15,9402,10212,13385,null,"Males","75-79",null,{"$f":"SUM(C91:C95)","v":1057},{"$f":"SUM(D91:D95)","v":1288},{"$f":"SUM(E91:E95)","v":1363},null,{"$f":"INDEX(O31:Q31,Index!$B$23)","v":1363}]
["male",16,636,639,747,null,16,10038,10851,14132,null,"Males","80-84",null,{"$f":"SUM(C96:C100)","v":605},{"$f":"SUM(D96:D100)","v":903},{"$f":"SUM(E96:E100)","v":953},null,{"$f":"INDEX(O32:Q32,Index!$B$23)","v":953}]
["male",17,469,627,660,null,17,10507,11478,14792,null,"Males","85-89",null,{"$f":"SUM(C101:C105)","v":279},{"$f":"SUM(D101:D105)","v":462},559,null,{"$f":"INDEX(O33:Q33,Index!$B$23)","v":559}]
["male",18,416,592,613,null,18,10923,12070,15405,null,"Males","90+",null,{"$f":"C106","v":87},{"$f":"D106","v":187},273,null,{"$f":"INDEX(O34:Q34,Index!$B$23)","v":273}]
["male",19,413,500,469,null,19,11336,12570,15874]
["male",20,445,495,465,null,20,11781,13065,16339,null,"Males","All Ages",null,{"$f":"C200","v":43789},{"$f":"D200","v":49304},{"$f":"E200","v":59593},null,{"$f":"INDEX(O36:Q36,Index!$B$23)","v":59593}]
["male",21,503,596,516,null,21,12284,13661,16855,null,"Females","0-4",null,{"$f":"SUM(C109:C113)","v":2688},{"$f":"SUM(D109:D113)","v":3388},{"$f":"SUM(E109:E113)","v":3967},null,{"$f":"INDEX(O37:Q37,Index!$B$23)","v":3967}]
["male",22,494,566,574,null,22,12778,14227,17429,null,"Females","5-9",null,{"$f":"SUM(C114:C118)","v":2897},{"$f":"SUM(D114:D118)","v":2868},{"$f":"SUM(E114:E118)","v":4060},null,{"$f":"INDEX(O38:Q38,Index!$B$23)","v":4060}]
["male",23,507,668,620,null,23,13285,14895,18049,null,"Females","10-14",null,{"$f":"SUM(C119:C123)","v":2755},{"$f":"SUM(D119:D123)","v":2908},{"$f":"SUM(E119:E123)","v":3936},null,{"$f":"INDEX(O39:Q39,Index!$B$23)","v":3936}]
["male",24,542,689,606,null,24,13827,15584,18655,null,"Females","15-19",null,{"$f":"SUM(C124:C128)","v":2461},{"$f":"SUM(D124:D128)","v":2937},{"$f":"SUM(E124:E128)","v":2971},null,{"$f":"INDEX(O40:Q40,Index!$B$23)","v":2971}]
["male",25,552,701,653,null,25,14379,16285,19308,null,"Females","20-24",null,{"$f":"SUM(C129:C133)","v":2515},{"$f":"SUM(D129:D133)","v":3185},{"$f":"SUM(E129:E133)","v":2849},null,{"$f":"INDEX(O41:Q41,Index!$B$23)","v":2849}]
["male",26,578,703,715,null,26,14957,16988,20023,null,"Females","25-29",null,{"$f":"SUM(C134:C138)","v":3181},{"$f":"SUM(D134:D138)","v":3641},{"$f":"SUM(E134:E138)","v":4268},null,{"$f":"INDEX(O42:Q42,Index!$B$23)","v":4268}]
["male",27,593,627,695,null,27,15550,17615,20718,null,"Females","30-34",null,{"$f":"SUM(C139:C143)","v":3745},{"$f":"SUM(D139:D143)","v":3556},{"$f":"SUM(E139:E143)","v":5277},null,{"$f":"INDEX(O43:Q43,Index!$B$23)","v":5277}]
["male",28,602,703,794,null,28,16152,18318,21512,null,"Females","35-39",null,{"$f":"SUM(C144:C148)","v":3665},{"$f":"SUM(D144:D148)","v":3522},{"$f":"SUM(E144:E148)","v":5093},null,{"$f":"INDEX(O44:Q44,Index!$B$23)","v":5093}]
["male",29,660,706,797,null,29,16812,19024,22309,null,"Females","40-44",null,{"$f":"SUM(C149:C153)","v":2985},{"$f":"SUM(D149:D153)","v":3893},{"$f":"SUM(E149:E153)","v":4364},null,{"$f":"INDEX(O45:Q45,Index!$B$23)","v":4364}]
["male",30,729,741,894,null,30,17541,19765,23203,null,"Females","45-49",null,{"$f":"SUM(C154:C158)","v":2603},{"$f":"SUM(D154:D158)","v":3653},{"$f":"SUM(E154:E158)","v":3857},null,{"$f":"INDEX(O46:Q46,Index!$B$23)","v":3857}]
["male",31,694,753,900,null,31,18235,20518,24103,null,"Females","50-54",null,{"$f":"SUM(C159:C163)","v":2856},{"$f":"SUM(D159:D163)","v":3003},{"$f":"SUM(E159:E163)","v":3877},null,{"$f":"INDEX(O47:Q47,Index!$B$23)","v":3877}]
["male",32,742,724,926,null,32,18977,21242,25029,null,"Females","55-59",null,{"$f":"SUM(C164:C168)","v":2252},{"$f":"SUM(D164:D168)","v":2515},{"$f":"SUM(E164:E168)","v":3502},null,{"$f":"INDEX(O48:Q48,Index!$B$23)","v":3502}]
["male",33,669,677,918,null,33,{"$f":"H48+C49","v":19646},{"$f":"I48+D49","v":21919},{"$f":"J48+E49","v":25947},null,"Females","60-64",null,{"$f":"SUM(C169:C173)","v":2040},{"$f":"SUM(D169:D173)","v":2547},{"$f":"SUM(E169:E173)","v":2792},null,{"$f":"INDEX(O49:Q49,Index!$B$23)","v":2792}]
["male",34,795,672,946,null,34,20441,22591,26893,null,"Females","65-69",null,{"$f":"SUM(C174:C178)","v":1891},{"$f":"SUM(D174:D178)","v":1976},{"$f":"SUM(E174:E178)","v":2217},null,{"$f":"INDEX(O50:Q50,Index!$B$23)","v":2217}]
["male",35,784,675,913,null,35,21225,23266,27806,null,"Females","70-74",null,{"$f":"SUM(C179:C183)","v":1727},{"$f":"SUM(D179:D183)","v":1698},{"$f":"SUM(E179:E183)","v":2272},null,{"$f":"INDEX(O51:Q51,Index!$B$23)","v":2272}]
["male",36,776,694,947,null,36,22001,23960,28753,null,"Females","75-79",null,{"$f":"SUM(C184:C188)","v":1486},{"$f":"SUM(D184:D188)","v":1555},{"$f":"SUM(E184:E188)","v":1609},null,{"$f":"INDEX(O52:Q52,Index!$B$23)","v":1609}]
["male",37,722,717,917,null,37,22723,24677,29670,null,"Females","80-84",null,{"$f":"SUM(C189:C193)","v":1009},{"$f":"SUM(D189:D193)","v":1231},{"$f":"SUM(E189:E193)","v":1300},null,{"$f":"INDEX(O53:Q53,Index!$B$23)","v":1300}]
["male",38,750,683,858,null,38,23473,25360,30528,null,"Females","85-89",null,{"$f":"SUM(C194:C198)","v":637},{"$f":"SUM(D194:D198)","v":778},868,null,{"$f":"INDEX(O54:Q54,Index!$B$23)","v":868}]
["male",39,682,776,901,null,39,24155,26136,31429,null,"Females","90+",null,{"$f":"C199","v":396},{"$f":"D199","v":450},514,null,{"$f":"INDEX(O55:Q55,Index!$B$23)","v":514}]
["male",40,619,762,957,null,40,24774,26898,32386]
["male",41,635,740,911,null,41,25409,27638,33297]
["male",42,616,776,890,null,42,26025,28414,34187]
["male",43,557,734,822,null,43,26582,29148,35009]
["male",44,571,746,799,null,44,27153,29894,35808]
["male",45,549,773,839,null,45,27702,30667,36647]
["male",46,581,747,797,null,46,28283,31414,37444]
["male",47,516,750,813,null,47,28799,32164,38257]
["male",48,492,719,746,null,48,29291,32883,39003]
["male",49,503,690,786,null,49,29794,33573,39789]
["male",50,537,662,761,null,50,30331,34235,40550]
["male",51,528,683,732,null,51,30859,34918,41282]
["male",52,554,617,752,null,52,31413,35535,42034]
["male",53,595,593,781,null,53,32008,36128,42815]
["male",54,591,574,752,null,54,32599,36702,43567]
["male",55,519,566,795,null,55,33118,37268,44362]
["male",56,424,558,758,null,56,33542,37826,45120]
["male",57,484,505,677,null,57,34026,38331,45797]
["male",58,461,470,704,null,58,34487,38801,46501]
["male",59,392,450,625,null,59,34879,39251,47126]
["male",60,381,510,589,null,60,35260,39761,47715]
["male",61,385,479,616,null,61,35645,40240,48331]
["male",62,406,481,538,null,62,36051,40721,48869]
["male",63,397,555,504,null,63,36448,41276,49373]
["male",64,411,521,526,null,64,36859,41797,49899]
["male",65,336,421,455,null,65,{"$f":"H80+C81","v":37195},{"$f":"I80+D81","v":42218},{"$f":"J80+E81","v":50354}]
["male",66,355,393,452,null,66,37550,42611,50806]
["male",67,328,375,450,null,67,37878,42986,51256]
["male",68,339,383,386,null,68,38217,43369,51642]
["male",69,349,342,388,null,69,38566,43711,52030]
["male",70,335,307,412,null,70,38901,44018,52442]
["male",71,315,290,361,null,71,39216,44308,52803]
["male",72,302,307,373,null,72,39518,44615,53176]
["male",73,278,320,437,null,73,39796,44935,53613]
["male",74,293,286,394,null,74,40089,45221,54007]
["male",75,242,263,299,null,75,40331,45484,54306]
["male",76,235,267,313,null,76,40566,45751,54619]
["male",77,184,261,265,null,77,40750,46012,54884]
["male",78,206,248,250,null,78,40956,46260,55134]
["male",79,190,249,236,null,79,41146,46509,55370]
["male",80,173,219,218,null,80,41319,46728,55588]
["male",81,164,208,200,null,81,41483,46936,55788]
["male",82,99,176,174,null,82,41582,47112,55962]
["male",83,89,152,184,null,83,41671,47264,56146]
["male",84,80,148,177,null,84,41751,47412,56323]
["male",85,68,120,146,null,85,41819,47532,56469]
["male",86,73,124,122,null,86,41892,47656,56591]
["male",87,61,82,119,null,87,41953,47738,56710]
["male",88,46,81,94,null,88,41999,47819,56804]
["male",89,31,55,78,null,89,42030,47874,56882]
["male","90+",87,187,273,null,"90+",42117,48061,57155]
[null,"All Males",{"$f":"SUM(C16:C106)","v":42117},48061,{"$f":"SUM(E16:E106)","v":57155},null,"Females"]
["Sex","Age"]
["female",0,521,734,794,null,0,{"$f":"C109","v":521},{"$f":"D109","v":734},{"$f":"E109","v":794}]
["female",1,500,720,789,null,1,{"$f":"H109+C110","v":1021},{"$f":"I109+D110","v":1454},{"$f":"J109+E110","v":1583}]
["female",2,514,644,777,null,2,1535,2098,2360]
["female",3,556,652,827,null,3,2091,2750,3187]
["female",4,597,638,780,null,4,2688,3388,3967]
["female",5,586,605,797,null,5,3274,3993,4764]
["female",6,561,571,830,null,6,3835,4564,5594]
["female",7,550,616,836,null,7,4385,5180,6430]
["female",8,565,543,818,null,8,4950,5723,7248]
["female",9,635,533,779,null,9,5585,6256,8027]
["female",10,577,548,838,null,10,6162,6804,8865]
["female",11,590,590,827,null,11,6752,7394,9692]
["female",12,520,550,778,null,12,7272,7944,10470]
["female",13,579,596,742,null,13,7851,8540,11212]
["female",14,489,624,751,null,14,8340,9164,11963]
["female",15,513,647,706,null,15,8853,9811,12669]
["female",16,497,598,675,null,16,9350,10409,13344]
["female",17,490,597,674,null,17,9840,11006,14018]
["female",18,472,542,529,null,18,10312,11548,14547]
["female",19,489,553,387,null,19,10801,12101,14934]
["female",20,471,500,445,null,20,11272,12601,15379]
["female",21,454,607,474,null,21,11726,13208,15853]
["female",22,527,617,575,null,22,12253,13825,16428]
["female",23,511,739,663,null,23,12764,14564,17091]
["female",24,552,722,692,null,24,13316,15286,17783]
["female",25,552,734,794,null,25,13868,16020,18577]
["female",26,600,701,759,null,26,14468,16721,19336]
["female",27,647,709,817,null,27,15115,17430,20153]
["female",28,689,691,918,null,28,15804,18121,21071]
["female",29,693,806,980,null,29,16497,18927,22051]
["female",30,737,815,1005,null,30,17234,19742,23056]
["female",31,699,716,1070,null,31,17933,20458,24126]
["female",32,789,690,1077,null,32,18722,21148,25203]
["female",33,747,674,1048,null,33,{"$f":"H141+C142","v":19469},{"$f":"I141+D142","v":21822},{"$f":"J141+E142","v":26251}]
["female",34,773,661,1077,null,34,20242,22483,27328]
["female",35,812,649,1095,null,35,21054,23132,28423]
["female",36,781,685,1003,null,36,21835,23817,29426]
["female",37,682,702,984,null,37,22517,24519,30410]
["female",38,663,735,980,null,38,23180,25254,31390]
["female",39,727,751,1031,null,39,23907,26005,32421]
["female",40,636,733,1034,null,40,24543,26738,33455]
["female",41,615,806,885,null,41,25158,27544,34340]
["female",42,578,814,859,null,42,25736,28358,35199]
["female",43,569,755,824,null,43,26305,29113,36023]
["female",44,587,785,762,null,44,26892,29898,36785]
["female",45,544,755,750,null,45,27436,30653,37535]
["female",46,505,796,790,null,46,27941,31449,38325]
["female",47,563,703,779,null,47,28504,32152,39104]
["female",48,477,691,751,null,48,28981,32843,39855]
["female",49,514,708,787,null,49,29495,33551,40642]
["female",50,501,645,719,null,50,29996,34196,41361]
["female",51,532,630,793,null,51,30528,34826,42154]
["female",52,549,579,777,null,52,31077,35405,42931]
["female",53,618,596,818,null,53,31695,36001,43749]
["female",54,656,553,770,null,54,32351,36554,44519]
["female",55,461,517,739,null,55,32812,37071,45258]
["female",56,485,508,793,null,56,33297,37579,46051]
["female",57,467,537,655,null,57,33764,38116,46706]
["female",58,458,466,657,null,58,34222,38582,47363]
["female",59,381,487,658,null,59,34603,39069,48021]
["female",60,366,450,616,null,60,34969,39519,48637]
["female",61,433,472,582,null,61,35402,39991,49219]
["female",62,424,491,566,null,62,35826,40482,49785]
["female",63,438,555,543,null,63,36264,41037,50328]
["female",64,379,579,485,null,64,36643,41616,50813]
["female",65,361,379,460,null,65,{"$f":"H173+C174","v":37004},{"$f":"I173+D174","v":41995},{"$f":"J173+E174","v":51273}]
["female",66,392,451,450,null,66,37396,42446,51723]
["female",67,373,408,456,null,67,37769,42854,52179]
["female",68,382,416,422,null,68,38151,43270,52601]
["female",69,383,322,429,null,69,38534,43592,53030]
["female",70,372,320,408,null,70,38906,43912,53438]
["female",71,357,355,426,null,71,39263,44267,53864]
["female",72,326,351,435,null,72,39589,44618,54299]
["female",73,357,363,508,null,73,39946,44981,54807]
["female",74,315,309,495,null,74,40261,45290,55302]
["female",75,320,313,315,null,75,40581,45603,55617]
["female",76,287,320,383,null,76,40868,45923,56000]
["female",77,281,307,349,null,77,41149,46230,56349]
["female",78,295,295,309,null,78,41444,46525,56658]
["female",79,303,320,253,null,79,41747,46845,56911]
["female",80,257,278,269,null,80,42004,47123,57180]
["female",81,283,268,282,null,81,42287,47391,57462]
["female",82,178,236,266,null,82,42465,47627,57728]
["female",83,123,222,260,null,83,42588,47849,57988]
["female",84,168,227,223,null,84,42756,48076,58211]
["female",85,145,195,207,null,85,42901,48271,58418]
["female",86,147,153,178,null,86,43048,48424,58596]
["female",87,129,148,173,null,87,43177,48572,58769]
["female",88,122,132,161,null,88,43299,48704,58930]
["female",89,94,150,149,null,89,43393,48854,59079]
["female","90+",396,450,514,null,"90+",43789,49304,59593]
[null,"All Females",{"$f":"SUM(C109:C199)","v":43789},49304,{"$f":"SUM(E109:E199)","v":59593}]

{"sheet":"DOV","index":11,"n_rows":200,"n_cols":19,"rows_kept":200,"cut":false,"hidden":true,"merged":[[0,10,21,10]]}
["Mid Year Population Estimates",null,null,null,null,null,null,null,null,null,"Insert column here before extending the table"]
["2001, 2011, and 2021 Census: The Office forNnational Statistics (ONS)",null,null,null,null,null,"Selected Ages:",null,null,null,null,null,null,null,"Start year","End Year","Number change","% Change"]
[null,null,null,null,null,null,null,{"$f":"H13","v":2001},2011,{"$f":"J13","v":2021},null,null,null,null,{"$f":"INDEX($H3:$I3,Index!$B$16)","v":2011},{"$f":"INDEX($H3:$J3,Index!$B$19)","v":2011}]
[null,null,null,null,null,null,"Males",{"$f":"OFFSET(H16,Index!$B$7-1,0)-IF(Index!$B$4-2=1,0,OFFSET(H16,Index!$B$4-2,0))","v":50327},{"$f":"OFFSET(I16,Index!$B$7-1,0)-IF(Index!$B$4-2=1,0,OFFSET(I16,Index!$B$4-2,0))","v":54765},{"$f":"OFFSET(J16,Index!$B$7-1,0)-IF(Index!$B$4-2=1,0,OFFSET(J16,Index!$B$4-2,0))","v":56796},null,null,null,null,{"$f":"INDEX($H4:$I4,Index!$B$16)","v":54765},{"$f":"INDEX($H4:$J4,Index!$B$19)","v":54765},{"$f":"P4-O4","v":0},{"$f":"Q4/O4","v":0}]
[null,null,null,null,null,null,"Females",{"$f":"OFFSET(H109,Index!$B$7-1,0)-IF(Index!$B$4-2=1,0,OFFSET(H109,Index!$B$4-2,0))","v":54244},{"$f":"OFFSET(I109,Index!$B$7-1,0)-IF(Index!$B$4-2=1,0,OFFSET(I109,Index!$B$4-2,0))","v":56909},{"$f":"OFFSET(J109,Index!$B$7-1,0)-IF(Index!$B$4-2=1,0,OFFSET(J109,Index!$B$4-2,0))","v":59604},null,null,null,null,{"$f":"INDEX($H5:$I5,Index!$B$16)","v":56909},{"$f":"INDEX($H5:$J5,Index!$B$19)","v":56909},{"$f":"P5-O5","v":0},{"$f":"Q5/O5","v":0}]
[null,null,null,null,null,null,"Total",{"$f":"SUM(H4:H5)","v":104571},111674,{"$f":"SUM(J4:J5)","v":116400},null,null,null,null,{"$f":"INDEX($H6:$I6,Index!$B$16)","v":111674},{"$f":"INDEX($H6:$J6,Index!$B$19)","v":111674},{"$f":"P6-O6","v":0},{"$f":"Q6/O6","v":0}]
[]
[null,null,null,null,null,null,"Males",{"$f":"IF(H4<0,\"0\",H4)","v":50327},54765,{"$f":"IF(J4<0,\"0\",J4)","v":56796}]
[null,null,null,null,null,null,"Females",54244,56909,59604]
[null,null,null,null,null,null,"Total",{"$f":"SUM(H8:H9)","v":104571},111674,{"$f":"SUM(J8:J9)","v":116400}]
[]
["Dover",null,null,null,null,null,null,null,null,null,null,"Population Pyramid"]
[null,null,null,null,null,null,null,{"$f":"C14","v":2001},{"$f":"D14","v":2011},{"$f":"E14","v":2021}]
["Sex","Age",2001,2011,2021,null,null,null,null,null,null,null,null,null,2001,2011,2021,null,{"$f":"INDEX(O14:Q14,Index!$B$23)","v":2021}]
[null,"All persons",{"$f":"SUM(C107,C200)","v":104571},111674,{"$f":"SUM(E107,E200)","v":116400},null,"Males",null,null,null,null,"Males","All Ages",null,{"$f":"C107","v":50327},{"$f":"D107","v":54765},{"$f":"E107","v":56796},null,{"$f":"INDEX(O15:Q15,Index!$B$23)","v":56796}]
["male",0,488,694,555,null,0,{"$f":"C16","v":488},{"$f":"D16","v":694},{"$f":"E16","v":555},null,"Males","0-4",null,{"$f":"SUM(C16:C20)","v":2975},{"$f":"SUM(D16:D20)","v":3215},{"$f":"SUM(E16:E20)","v":2926},null,{"$f":"INDEX(O16:Q16,Index!$B$23)","v":2926}]
["male",1,566,626,567,null,1,{"$f":"H16+C17","v":1054},{"$f":"I16+D17","v":1320},{"$f":"J16+E17","v":1122},null,"Males","5-9",null,{"$f":"SUM(C21:C25)","v":3414},{"$f":"SUM(D21:D25)","v":2983},{"$f":"SUM(E21:E25)","v":3333},null,{"$f":"INDEX(O17:Q17,Index!$B$23)","v":3333}]
["male",2,629,656,572,null,2,1683,1976,1694,null,"Males","10-14",null,{"$f":"SUM(C26:C30)","v":3658},{"$f":"SUM(D26:D30)","v":3392},{"$f":"SUM(E26:E30)","v":3460},null,{"$f":"INDEX(O18:Q18,Index!$B$23)","v":3460}]
["male",3,641,616,624,null,3,2324,2592,2318,null,"Males","15-19",null,{"$f":"SUM(C31:C35)","v":3382},{"$f":"SUM(D31:D35)","v":3631},{"$f":"SUM(E31:E35)","v":3127},null,{"$f":"INDEX(O19:Q19,Index!$B$23)","v":3127}]
["male",4,651,623,608,null,4,2975,3215,2926,null,"Males","20-24",null,{"$f":"SUM(C36:C40)","v":2639},{"$f":"SUM(D36:D40)","v":3008},{"$f":"SUM(E36:E40)","v":2747},null,{"$f":"INDEX(O20:Q20,Index!$B$23)","v":2747}]
["male",5,622,634,657,null,5,3597,3849,3583,null,"Males","25-29",null,{"$f":"SUM(C41:C45)","v":2517},{"$f":"SUM(D41:D45)","v":2914},{"$f":"SUM(E41:E45)","v":3158},null,{"$f":"INDEX(O21:Q21,Index!$B$23)","v":3158}]
["male",6,629,562,634,null,6,4226,4411,4217,null,"Males","30-34",null,{"$f":"SUM(C46:C50)","v":3156},{"$f":"SUM(D46:D50)","v":2894},{"$f":"SUM(E46:E50)","v":3335},null,{"$f":"INDEX(O22:Q22,Index!$B$23)","v":3335}]
["male",7,710,581,688,null,7,4936,4992,4905,null,"Males","35-39",null,{"$f":"SUM(C51:C55)","v":3740},{"$f":"SUM(D51:D55)","v":3077},{"$f":"SUM(E51:E55)","v":3220},null,{"$f":"INDEX(O23:Q23,Index!$B$23)","v":3220}]
["male",8,692,594,677,null,8,5628,5586,5582,null,"Males","40-44",null,{"$f":"SUM(C56:C60)","v":3578},{"$f":"SUM(D56:D60)","v":3929},{"$f":"SUM(E56:E60)","v":3101},null,{"$f":"INDEX(O24:Q24,Index!$B$23)","v":3101}]
["male",9,761,612,677,null,9,6389,6198,6259,null,"Males","45-49",null,{"$f":"SUM(C61:C65)","v":3283},{"$f":"SUM(D61:D65)","v":4150},{"$f":"SUM(E61:E65)","v":3210},null,{"$f":"INDEX(O25:Q25,Index!$B$23)","v":3210}]
["male",10,687,568,736,null,10,7076,6766,6995,null,"Males","50-54",null,{"$f":"SUM(C66:C70)","v":3769},{"$f":"SUM(D66:D70)","v":3849},{"$f":"SUM(E66:E70)","v":3958},null,{"$f":"INDEX(O26:Q26,Index!$B$23)","v":3958}]
["male",11,687,595,696,null,11,7763,7361,7691,null,"Males","55-59",null,{"$f":"SUM(C71:C75)","v":3332},{"$f":"SUM(D71:D75)","v":3603},{"$f":"SUM(E71:E75)","v":4316},null,{"$f":"INDEX(O27:Q27,Index!$B$23)","v":4316}]
["male",12,768,701,723,null,12,8531,8062,8414,null,"Males","60-64",null,{"$f":"SUM(C76:C80)","v":2787},{"$f":"SUM(D76:D80)","v":3993},{"$f":"SUM(E76:E80)","v":3954},null,{"$f":"INDEX(O28:Q28,Index!$B$23)","v":3954}]
["male",13,765,741,655,null,13,9296,8803,9069,null,"Males","65-69",null,{"$f":"SUM(C81:C85)","v":2447},{"$f":"SUM(D81:D85)","v":3354},{"$f":"SUM(E81:E85)","v":3590},null,{"$f":"INDEX(O29:Q29,Index!$B$23)","v":3590}]
["male",14,751,787,650,null,14,10047,9590,9719,null,"Males","70-74",null,{"$f":"SUM(C86:C90)","v":2106},{"$f":"SUM(D86:D90)","v":2535},{"$f":"SUM(E86:E90)","v":3683},null,{"$f":"INDEX(O30:Q30,Index!$B$23)","v":3683}]
["male",15,742,804,701,null,15,10789,10394,10420,null,"Males","75-79",null,{"$f":"SUM(C91:C95)","v":1674},{"$f":"SUM(D91:D95)","v":1897},{"$f":"SUM(E91:E95)","v":2697},null,{"$f":"INDEX(O31:Q31,Index!$B$23)","v":2697}]
["male",16,725,721,648,null,16,11514,11115,11068,null,"Males","80-84",null,{"$f":"SUM(C96:C100)","v":1146},{"$f":"SUM(D96:D100)","v":1321},{"$f":"SUM(E96:E100)","v":1694},null,{"$f":"INDEX(O32:Q32,Index!$B$23)","v":1694}]
["male",17,684,787,669,null,17,12198,11902,11737,null,"Males","85-89",null,{"$f":"SUM(C101:C105)","v":524},{"$f":"SUM(D101:D105)","v":697},907,null,{"$f":"INDEX(O33:Q33,Index!$B$23)","v":907}]
["male",18,639,699,580,null,18,12837,12601,12317,null,"Males","90+",null,{"$f":"C106","v":200},{"$f":"D106","v":323},380,null,{"$f":"INDEX(O34:Q34,Index!$B$23)","v":380}]
["male",19,592,620,529,null,19,13429,13221,12846]
["male",20,649,556,482,null,20,14078,13777,13328,null,"Males","All Ages",null,{"$f":"C200","v":54244},{"$f":"D200","v":56909},{"$f":"E200","v":59604},null,{"$f":"INDEX(O36:Q36,Index!$B$23)","v":59604}]
["male",21,521,596,517,null,21,14599,14373,13845,null,"Females","0-4",null,{"$f":"SUM(C109:C113)","v":2834},{"$f":"SUM(D109:D113)","v":3044},{"$f":"SUM(E109:E113)","v":2743},null,{"$f":"INDEX(O37:Q37,Index!$B$23)","v":2743}]
["male",22,508,635,564,null,22,15107,15008,14409,null,"Females","5-9",null,{"$f":"SUM(C114:C118)","v":3301},{"$f":"SUM(D114:D118)","v":2896},{"$f":"SUM(E114:E118)","v":3161},null,{"$f":"INDEX(O38:Q38,Index!$B$23)","v":3161}]
["male",23,489,613,583,null,23,15596,15621,14992,null,"Females","10-14",null,{"$f":"SUM(C119:C123)","v":3502},{"$f":"SUM(D119:D123)","v":3265},{"$f":"SUM(E119:E123)","v":3317},null,{"$f":"INDEX(O39:Q39,Index!$B$23)","v":3317}]
["male",24,472,608,601,null,24,16068,16229,15593,null,"Females","15-19",null,{"$f":"SUM(C124:C128)","v":3075},{"$f":"SUM(D124:D128)","v":3374},{"$f":"SUM(E124:E128)","v":2841},null,{"$f":"INDEX(O40:Q40,Index!$B$23)","v":2841}]
["male",25,490,631,585,null,25,16558,16860,16178,null,"Females","20-24",null,{"$f":"SUM(C129:C133)","v":2498},{"$f":"SUM(D129:D133)","v":2836},{"$f":"SUM(E129:E133)","v":2662},null,{"$f":"INDEX(O41:Q41,Index!$B$23)","v":2662}]
["male",26,439,606,620,null,26,16997,17466,16798,null,"Females","25-29",null,{"$f":"SUM(C134:C138)","v":2805},{"$f":"SUM(D134:D138)","v":2977},{"$f":"SUM(E134:E138)","v":3386},null,{"$f":"INDEX(O42:Q42,Index!$B$23)","v":3386}]
["male",27,506,579,609,null,27,17503,18045,17407,null,"Females","30-34",null,{"$f":"SUM(C139:C143)","v":3532},{"$f":"SUM(D139:D143)","v":2835},{"$f":"SUM(E139:E143)","v":3541},null,{"$f":"INDEX(O43:Q43,Index!$B$23)","v":3541}]
["male",28,507,575,655,null,28,18010,18620,18062,null,"Females","35-39",null,{"$f":"SUM(C144:C148)","v":3957},{"$f":"SUM(D144:D148)","v":3251},{"$f":"SUM(E144:E148)","v":3413},null,{"$f":"INDEX(O44:Q44,Index!$B$23)","v":3413}]
["male",29,575,523,689,null,29,18585,19143,18751,null,"Females","40-44",null,{"$f":"SUM(C149:C153)","v":3643},{"$f":"SUM(D149:D153)","v":3949},{"$f":"SUM(E149:E153)","v":3226},null,{"$f":"INDEX(O45:Q45,Index!$B$23)","v":3226}]
["male",30,605,624,636,null,30,19190,19767,19387,null,"Females","45-49",null,{"$f":"SUM(C154:C158)","v":3449},{"$f":"SUM(D154:D158)","v":4272},{"$f":"SUM(E154:E158)","v":3523},null,{"$f":"INDEX(O46:Q46,Index!$B$23)","v":3523}]
["male",31,628,589,613,null,31,19818,20356,20000,null,"Females","50-54",null,{"$f":"SUM(C159:C163)","v":3977},{"$f":"SUM(D159:D163)","v":3902},{"$f":"SUM(E159:E163)","v":4163},null,{"$f":"INDEX(O47:Q47,Index!$B$23)","v":4163}]
["male",32,599,576,722,null,32,20417,20932,20722,null,"Females","55-59",null,{"$f":"SUM(C164:C168)","v":3278},{"$f":"SUM(D164:D168)","v":3687},{"$f":"SUM(E164:E168)","v":4513},null,{"$f":"INDEX(O48:Q48,Index!$B$23)","v":4513}]
["male",33,623,529,677,null,33,{"$f":"H48+C49","v":21040},{"$f":"I48+D49","v":21461},{"$f":"J48+E49","v":21399},null,"Females","60-64",null,{"$f":"SUM(C169:C173)","v":2837},{"$f":"SUM(D169:D173)","v":4231},{"$f":"SUM(E169:E173)","v":4168},null,{"$f":"INDEX(O49:Q49,Index!$B$23)","v":4168}]
["male",34,701,576,687,null,34,21741,22037,22086,null,"Females","65-69",null,{"$f":"SUM(C174:C178)","v":2820},{"$f":"SUM(D174:D178)","v":3371},{"$f":"SUM(E174:E178)","v":3792},null,{"$f":"INDEX(O50:Q50,Index!$B$23)","v":3792}]
["male",35,770,554,689,null,35,22511,22591,22775,null,"Females","70-74",null,{"$f":"SUM(C179:C183)","v":2626},{"$f":"SUM(D179:D183)","v":2661},{"$f":"SUM(E179:E183)","v":3987},null,{"$f":"INDEX(O51:Q51,Index!$B$23)","v":3987}]
["male",36,760,541,647,null,36,23271,23132,23422,null,"Females","75-79",null,{"$f":"SUM(C184:C188)","v":2456},{"$f":"SUM(D184:D188)","v":2252},{"$f":"SUM(E184:E188)","v":2976},null,{"$f":"INDEX(O52:Q52,Index!$B$23)","v":2976}]
["male",37,765,611,655,null,37,24036,23743,24077,null,"Females","80-84",null,{"$f":"SUM(C189:C193)","v":1862},{"$f":"SUM(D189:D193)","v":1933},{"$f":"SUM(E189:E193)","v":2037},null,{"$f":"INDEX(O53:Q53,Index!$B$23)","v":2037}]
["male",38,734,653,615,null,38,24770,24396,24692,null,"Females","85-89",null,{"$f":"SUM(C194:C198)","v":1139},{"$f":"SUM(D194:D198)","v":1325},1285,null,{"$f":"INDEX(O54:Q54,Index!$B$23)","v":1285}]
["male",39,711,718,614,null,39,25481,25114,25306,null,"Females","90+",null,{"$f":"C199","v":653},{"$f":"D199","v":848},870,null,{"$f":"INDEX(O55:Q55,Index!$B$23)","v":870}]
["male",40,746,773,683,null,40,26227,25887,25989]
["male",41,656,794,603,null,41,26883,26681,26592]
["male",42,729,756,622,null,42,27612,27437,27214]
["male",43,725,757,607,null,43,28337,28194,27821]
["male",44,722,849,586,null,44,29059,29043,28407]
["male",45,640,888,603,null,45,29699,29931,29010]
["male",46,638,877,581,null,46,30337,30808,29591]
["male",47,719,794,637,null,47,31056,31602,30228]
["male",48,618,836,690,null,48,31674,32438,30918]
["male",49,668,755,699,null,49,32342,33193,31617]
["male",50,649,786,812,null,50,32991,33979,32429]
["male",51,670,726,739,null,51,33661,34705,33168]
["male",52,769,802,749,null,52,34430,35507,33917]
["male",53,816,766,794,null,53,35246,36273,34711]
["male",54,865,769,864,null,54,36111,37042,35575]
["male",55,722,695,880,null,55,36833,37737,36455]
["male",56,693,723,900,null,56,37526,38460,37355]
["male",57,693,783,864,null,57,38219,39243,38219]
["male",58,624,680,863,null,58,38843,39923,39082]
["male",59,600,722,809,null,59,39443,40645,39891]
["male",60,526,685,819,null,60,39969,41330,40710]
["male",61,569,694,761,null,61,40538,42024,41471]
["male",62,564,823,818,null,62,41102,42847,42289]
["male",63,581,869,786,null,63,41683,43716,43075]
["male",64,547,922,770,null,64,42230,44638,43845]
["male",65,513,703,707,null,65,{"$f":"H80+C81","v":42743},{"$f":"I80+D81","v":45341},{"$f":"J80+E81","v":44552}]
["male",66,499,757,744,null,66,43242,46098,45296]
["male",67,446,686,778,null,67,43688,46784,46074]
["male",68,501,622,677,null,68,44189,47406,46751]
["male",69,488,586,684,null,69,44677,47992,47435]
["male",70,469,495,674,null,70,45146,48487,48109]
["male",71,441,530,638,null,71,45587,49017,48747]
["male",72,429,527,745,null,72,46016,49544,49492]
["male",73,390,512,816,null,73,46406,50056,50308]
["male",74,377,471,810,null,74,46783,50527,51118]
["male",75,347,455,617,null,75,47130,50982,51735]
["male",76,343,408,634,null,76,47473,51390,52369]
["male",77,339,334,529,null,77,47812,51724,52898]
["male",78,323,360,477,null,78,48135,52084,53375]
["male",79,322,340,440,null,79,48457,52424,53815]
["male",80,328,306,388,null,80,48785,52730,54203]
["male",81,323,296,376,null,81,49108,53026,54579]
["male",82,186,281,357,null,82,49294,53307,54936]
["male",83,160,240,304,null,83,49454,53547,55240]
["male",84,149,198,269,null,84,49603,53745,55509]
["male",85,123,174,252,null,85,49726,53919,55761]
["male",86,114,165,204,null,86,49840,54084,55965]
["male",87,117,133,150,null,87,49957,54217,56115]
["male",88,96,115,163,null,88,50053,54332,56278]
["male",89,74,110,138,null,89,50127,54442,56416]
["male","90+",200,323,380,null,"90+",50327,54765,56796]
[null,"All Males",{"$f":"SUM(C16:C106)","v":50327},54765,{"$f":"SUM(E16:E106)","v":56796},null,"Females"]
["Sex","Age"]
["female",0,486,549,505,null,0,{"$f":"C109","v":486},{"$f":"D109","v":549},{"$f":"E109","v":505}]
["female",1,591,606,521,null,1,{"$f":"H109+C110","v":1077},{"$f":"I109+D110","v":1155},{"$f":"J109+E110","v":1026}]
["female",2,572,611,564,null,2,1649,1766,1590]
["female",3,585,657,571,null,3,2234,2423,2161]
["female",4,600,621,582,null,4,2834,3044,2743]
["female",5,617,622,641,null,5,3451,3666,3384]
["female",6,593,572,605,null,6,4044,4238,3989]
["female",7,695,596,589,null,7,4739,4834,4578]
["female",8,694,569,662,null,8,5433,5403,5240]
["female",9,702,537,664,null,9,6135,5940,5904]
["female",10,699,599,652,null,10,6834,6539,6556]
["female",11,692,631,657,null,11,7526,7170,7213]
["female",12,710,691,651,null,12,8236,7861,7864]
["female",13,744,671,724,null,13,8980,8532,8588]
["female",14,657,673,633,null,14,9637,9205,9221]
["female",15,697,693,636,null,15,10334,9898,9857]
["female",16,665,721,652,null,16,10999,10619,10509]
["female",17,644,730,580,null,17,11643,11349,11089]
["female",18,578,675,539,null,18,12221,12024,11628]
["female",19,491,555,434,null,19,12712,12579,12062]
["female",20,512,612,413,null,20,13224,13191,12475]
["female",21,501,539,469,null,21,13725,13730,12944]
["female",22,540,549,595,null,22,14265,14279,13539]
["female",23,463,589,594,null,23,14728,14868,14133]
["female",24,482,547,591,null,24,15210,15415,14724]
["female",25,549,604,602,null,25,15759,16019,15326]
["female",26,469,608,638,null,26,16228,16627,15964]
["female",27,531,603,680,null,27,16759,17230,16644]
["female",28,605,563,710,null,28,17364,17793,17354]
["female",29,651,599,756,null,29,18015,18392,18110]
["female",30,711,615,762,null,30,18726,19007,18872]
["female",31,629,618,691,null,31,19355,19625,19563]
["female",32,706,565,691,null,32,20061,20190,20254]
["female",33,716,492,720,null,33,{"$f":"H141+C142","v":20777},{"$f":"I141+D142","v":20682},{"$f":"J141+E142","v":20974}]
["female",34,770,545,677,null,34,21547,21227,21651]
["female",35,793,616,721,null,35,22340,21843,22372]
["female",36,774,578,680,null,36,23114,22421,23052]
["female",37,805,638,660,null,37,23919,23059,23712]
["female",38,768,701,657,null,38,24687,23760,24369]
["female",39,817,718,695,null,39,25504,24478,25064]
["female",40,729,797,674,null,40,26233,25275,25738]
["female",41,739,721,665,null,41,26972,25996,26403]
["female",42,774,781,660,null,42,27746,26777,27063]
["female",43,696,813,591,null,43,28442,27590,27654]
["female",44,705,837,636,null,44,29147,28427,28290]
["female",45,699,859,653,null,45,29846,29286,28943]
["female",46,703,834,623,null,46,30549,30120,29566]
["female",47,712,866,688,null,47,31261,30986,30254]
["female",48,681,800,769,null,48,31942,31786,31023]
["female",49,654,913,790,null,49,32596,32699,31813]
["female",50,726,805,849,null,50,33322,33504,32662]
["female",51,706,770,747,null,51,34028,34274,33409]
["female",52,754,807,798,null,52,34782,35081,34207]
["female",53,863,786,884,null,53,35645,35867,35091]
["female",54,928,734,885,null,54,36573,36601,35976]
["female",55,686,755,932,null,55,37259,37356,36908]
["female",56,732,773,885,null,56,37991,38129,37793]
["female",57,675,722,927,null,57,38666,38851,38720]
["female",58,612,735,862,null,58,39278,39586,39582]
["female",59,573,702,907,null,59,39851,40288,40489]
["female",60,526,769,901,null,60,40377,41057,41390]
["female",61,602,752,812,null,61,40979,41809,42202]
["female",62,550,832,848,null,62,41529,42641,43050]
["female",63,590,935,824,null,63,42119,43576,43874]
["female",64,569,943,783,null,64,42688,44519,44657]
["female",65,565,706,806,null,65,{"$f":"H173+C174","v":43253},{"$f":"I173+D174","v":45225},{"$f":"J173+E174","v":45463}]
["female",66,579,780,764,null,66,43832,46005,46227]
["female",67,519,709,743,null,67,44351,46714,46970]
["female",68,582,636,752,null,68,44933,47350,47722]
["female",69,575,540,727,null,69,45508,47890,48449]
["female",70,523,508,754,null,70,46031,48398,49203]
["female",71,534,560,726,null,71,46565,48958,49929]
["female",72,515,540,773,null,72,47080,49498,50702]
["female",73,533,546,869,null,73,47613,50044,51571]
["female",74,521,507,865,null,74,48134,50551,52436]
["female",75,475,499,634,null,75,48609,51050,53070]
["female",76,546,461,719,null,76,49155,51511,53789]
["female",77,461,417,626,null,77,49616,51928,54415]
["female",78,486,457,512,null,78,50102,52385,54927]
["female",79,488,418,485,null,79,50590,52803,55412]
["female",80,514,434,436,null,80,51104,53237,55848]
["female",81,484,414,449,null,81,51588,53651,56297]
["female",82,323,371,392,null,82,51911,54022,56689]
["female",83,263,387,415,null,83,52174,54409,57104]
["female",84,278,327,345,null,84,52452,54736,57449]
["female",85,273,290,301,null,85,52725,55026,57750]
["female",86,288,316,267,null,86,53013,55342,58017]
["female",87,227,268,282,null,87,53240,55610,58299]
["female",88,179,240,233,null,88,53419,55850,58532]
["female",89,172,211,202,null,89,53591,56061,58734]
["female","90+",653,848,870,null,"90+",54244,56909,59604]
[null,"All Females",{"$f":"SUM(C109:C199)","v":54244},56909,{"$f":"SUM(E109:E199)","v":59604}]

{"sheet":"F&H","index":12,"n_rows":200,"n_cols":19,"rows_kept":200,"cut":false,"hidden":true,"merged":[[0,10,21,10]]}
["Mid Year Population Estimates",null,null,null,null,null,null,null,null,null,"Insert column here before extending the table"]
["2001, 2011, and 2021 Census: The Office forNnational Statistics (ONS)",null,null,null,null,null,"Selected Ages:",null,null,null,null,null,null,null,"Start year","End Year","Number change","% Change"]
[null,null,null,null,null,null,null,{"$f":"H13","v":2001},2011,{"$f":"J13","v":2021},null,null,null,null,{"$f":"INDEX($H3:$I3,Index!$B$16)","v":2011},{"$f":"INDEX($H3:$J3,Index!$B$19)","v":2011}]
[null,null,null,null,null,null,"Males",{"$f":"OFFSET(H16,Index!$B$7-1,0)-IF(Index!$B$4-2=1,0,OFFSET(H16,Index!$B$4-2,0))","v":46045},{"$f":"OFFSET(I16,Index!$B$7-1,0)-IF(Index!$B$4-2=1,0,OFFSET(I16,Index!$B$4-2,0))","v":53135},{"$f":"OFFSET(J16,Index!$B$7-1,0)-IF(Index!$B$4-2=1,0,OFFSET(J16,Index!$B$4-2,0))","v":53574},null,null,null,null,{"$f":"INDEX($H4:$I4,Index!$B$16)","v":53135},{"$f":"INDEX($H4:$J4,Index!$B$19)","v":53135},{"$f":"P4-O4","v":0},{"$f":"Q4/O4","v":0}]
[null,null,null,null,null,null,"Females",{"$f":"OFFSET(H109,Index!$B$7-1,0)-IF(Index!$B$4-2=1,0,OFFSET(H109,Index!$B$4-2,0))","v":50193},{"$f":"OFFSET(I109,Index!$B$7-1,0)-IF(Index!$B$4-2=1,0,OFFSET(I109,Index!$B$4-2,0))","v":54834},{"$f":"OFFSET(J109,Index!$B$7-1,0)-IF(Index!$B$4-2=1,0,OFFSET(J109,Index!$B$4-2,0))","v":56183},null,null,null,null,{"$f":"INDEX($H5:$I5,Index!$B$16)","v":54834},{"$f":"INDEX($H5:$J5,Index!$B$19)","v":54834},{"$f":"P5-O5","v":0},{"$f":"Q5/O5","v":0}]
[null,null,null,null,null,null,"Total",{"$f":"SUM(H4:H5)","v":96238},107969,{"$f":"SUM(J4:J5)","v":109757},null,null,null,null,{"$f":"INDEX($H6:$I6,Index!$B$16)","v":107969},{"$f":"INDEX($H6:$J6,Index!$B$19)","v":107969},{"$f":"P6-O6","v":0},{"$f":"Q6/O6","v":0}]
[]
[null,null,null,null,null,null,"Males",{"$f":"IF(H4<0,\"0\",H4)","v":46045},53135,{"$f":"IF(J4<0,\"0\",J4)","v":53574}]
[null,null,null,null,null,null,"Females",50193,54834,56183]
[null,null,null,null,null,null,"Total",{"$f":"SUM(H8:H9)","v":96238},107969,{"$f":"SUM(J8:J9)","v":109757}]
[]
["Folkestone & Hythe",null,null,null,null,null,null,null,null,null,null,"Population Pyramid"]
[null,null,null,null,null,null,null,{"$f":"C14","v":2001},{"$f":"D14","v":2011},{"$f":"E14","v":2021}]
["Sex","Age",2001,2011,2021,null,null,null,null,null,null,null,null,null,2001,2011,2021,null,{"$f":"INDEX(O14:Q14,Index!$B$23)","v":2021}]
[null,"All persons",{"$f":"SUM(C107,C200)","v":96238},107969,{"$f":"SUM(E107,E200)","v":109757},null,"Males",null,null,null,null,"Males","All Ages",null,{"$f":"C107","v":46045},{"$f":"D107","v":53135},{"$f":"E107","v":53574},null,{"$f":"INDEX(O15:Q15,Index!$B$23)","v":53574}]
["male",0,428,587,518,null,0,{"$f":"C16","v":428},{"$f":"D16","v":587},{"$f":"E16","v":518},null,"Males","0-4",null,{"$f":"SUM(C16:C20)","v":2701},{"$f":"SUM(D16:D20)","v":3004},{"$f":"SUM(E16:E20)","v":2654},null,{"$f":"INDEX(O16:Q16,Index!$B$23)","v":2654}]
["male",1,568,610,508,null,1,{"$f":"H16+C17","v":996},{"$f":"I16+D17","v":1197},{"$f":"J16+E17","v":1026},null,"Males","5-9",null,{"$f":"SUM(C21:C25)","v":3203},{"$f":"SUM(D21:D25)","v":2930},{"$f":"SUM(E21:E25)","v":2950},null,{"$f":"INDEX(O17:Q17,Index!$B$23)","v":2950}]
["male",2,545,626,541,null,2,1541,1823,1567,null,"Males","10-14",null,{"$f":"SUM(C26:C30)","v":3061},{"$f":"SUM(D26:D30)","v":3243},{"$f":"SUM(E26:E30)","v":3152},null,{"$f":"INDEX(O18:Q18,Index!$B$23)","v":3152}]
["male",3,587,573,523,null,3,2128,2396,2090,null,"Males","15-19",null,{"$f":"SUM(C31:C35)","v":2687},{"$f":"SUM(D31:D35)","v":3436},{"$f":"SUM(E31:E35)","v":2773},null,{"$f":"INDEX(O19:Q19,Index!$B$23)","v":2773}]
["male",4,573,608,564,null,4,2701,3004,2654,null,"Males","20-24",null,{"$f":"SUM(C36:C40)","v":2312},{"$f":"SUM(D36:D40)","v":3194},{"$f":"SUM(E36:E40)","v":2791},null,{"$f":"INDEX(O20:Q20,Index!$B$23)","v":2791}]
["male",5,640,616,575,null,5,3341,3620,3229,null,"Males","25-29",null,{"$f":"SUM(C41:C45)","v":2438},{"$f":"SUM(D41:D45)","v":2840},{"$f":"SUM(E41:E45)","v":2899},null,{"$f":"INDEX(O21:Q21,Index!$B$23)","v":2899}]
["male",6,573,577,557,null,6,3914,4197,3786,null,"Males","30-34",null,{"$f":"SUM(C46:C50)","v":3224},{"$f":"SUM(D46:D50)","v":2822},{"$f":"SUM(E46:E50)","v":2934},null,{"$f":"INDEX(O22:Q22,Index!$B$23)","v":2934}]
["male",7,633,577,548,null,7,4547,4774,4334,null,"Males","35-39",null,{"$f":"SUM(C51:C55)","v":3425},{"$f":"SUM(D51:D55)","v":3093},{"$f":"SUM(E51:E55)","v":2839},null,{"$f":"INDEX(O23:Q23,Index!$B$23)","v":2839}]
["male",8,669,548,645,null,8,5216,5322,4979,null,"Males","40-44",null,{"$f":"SUM(C56:C60)","v":3138},{"$f":"SUM(D56:D60)","v":3897},{"$f":"SUM(E56:E60)","v":2960},null,{"$f":"INDEX(O24:Q24,Index!$B$23)","v":2960}]
["male",9,688,612,625,null,9,5904,5934,5604,null,"Males","45-49",null,{"$f":"SUM(C61:C65)","v":2839},{"$f":"SUM(D61:D65)","v":3915},{"$f":"SUM(E61:E65)","v":3209},null,{"$f":"INDEX(O25:Q25,Index!$B$23)","v":3209}]
["male",10,619,593,638,null,10,6523,6527,6242,null,"Males","50-54",null,{"$f":"SUM(C66:C70)","v":3504},{"$f":"SUM(D66:D70)","v":3536},{"$f":"SUM(E66:E70)","v":3954},null,{"$f":"INDEX(O26:Q26,Index!$B$23)","v":3954}]
["male",11,595,652,666,null,11,7118,7179,6908,null,"Males","55-59",null,{"$f":"SUM(C71:C75)","v":2987},{"$f":"SUM(D71:D75)","v":3182},{"$f":"SUM(E71:E75)","v":4125},null,{"$f":"INDEX(O27:Q27,Index!$B$23)","v":4125}]
["male",12,627,645,639,null,12,7745,7824,7547,null,"Males","60-64",null,{"$f":"SUM(C76:C80)","v":2593},{"$f":"SUM(D76:D80)","v":4028},{"$f":"SUM(E76:E80)","v":3702},null,{"$f":"INDEX(O28:Q28,Index!$B$23)","v":3702}]
["male",13,602,703,603,null,13,8347,8527,8150,null,"Males","65-69",null,{"$f":"SUM(C81:C85)","v":2312},{"$f":"SUM(D81:D85)","v":3122},{"$f":"SUM(E81:E85)","v":3271},null,{"$f":"INDEX(O29:Q29,Index!$B$23)","v":3271}]
["male",14,618,650,606,null,14,8965,9177,8756,null,"Males","70-74",null,{"$f":"SUM(C86:C90)","v":2064},{"$f":"SUM(D86:D90)","v":2525},{"$f":"SUM(E86:E90)","v":3790},null,{"$f":"INDEX(O30:Q30,Index!$B$23)","v":3790}]
["male",15,559,701,577,null,15,9524,9878,9333,null,"Males","75-79",null,{"$f":"SUM(C91:C95)","v":1696},{"$f":"SUM(D91:D95)","v":1931},{"$f":"SUM(E91:E95)","v":2595},null,{"$f":"INDEX(O31:Q31,Index!$B$23)","v":2595}]
["male",16,618,686,583,null,16,10142,10564,9916,null,"Males","80-84",null,{"$f":"SUM(C96:C100)","v":1085},{"$f":"SUM(D96:D100)","v":1349},{"$f":"SUM(E96:E100)","v":1674},null,{"$f":"INDEX(O32:Q32,Index!$B$23)","v":1674}]
["male",17,550,715,574,null,17,10692,11279,10490,null,"Males","85-89",null,{"$f":"SUM(C101:C105)","v":576},{"$f":"SUM(D101:D105)","v":721},898,null,{"$f":"INDEX(O33:Q33,Index!$B$23)","v":898}]
["male",18,500,694,543,null,18,11192,11973,11033,null,"Males","90+",null,{"$f":"C106","v":200},{"$f":"D106","v":367},404,null,{"$f":"INDEX(O34:Q34,Index!$B$23)","v":404}]
["male",19,460,640,496,null,19,11652,12613,11529]
["male",20,468,621,505,null,20,12120,13234,12034,null,"Males","All Ages",null,{"$f":"C200","v":50193},{"$f":"D200","v":54834},{"$f":"E200","v":56183},null,{"$f":"INDEX(O36:Q36,Index!$B$23)","v":56183}]
["male",21,472,605,530,null,21,12592,13839,12564,null,"Females","0-4",null,{"$f":"SUM(C109:C113)","v":2612},{"$f":"SUM(D109:D113)","v":2992},{"$f":"SUM(E109:E113)","v":2461},null,{"$f":"INDEX(O37:Q37,Index!$B$23)","v":2461}]
["male",22,450,705,556,null,22,13042,14544,13120,null,"Females","5-9",null,{"$f":"SUM(C114:C118)","v":2914},{"$f":"SUM(D114:D118)","v":2645},{"$f":"SUM(E114:E118)","v":2832},null,{"$f":"INDEX(O38:Q38,Index!$B$23)","v":2832}]
["male",23,428,618,629,null,23,13470,15162,13749,null,"Females","10-14",null,{"$f":"SUM(C119:C123)","v":3203},{"$f":"SUM(D119:D123)","v":3088},{"$f":"SUM(E119:E123)","v":3018},null,{"$f":"INDEX(O39:Q39,Index!$B$23)","v":3018}]
["male",24,494,645,571,null,24,13964,15807,14320,null,"Females","15-19",null,{"$f":"SUM(C124:C128)","v":2625},{"$f":"SUM(D124:D128)","v":3154},{"$f":"SUM(E124:E128)","v":2461},null,{"$f":"INDEX(O40:Q40,Index!$B$23)","v":2461}]
["male",25,449,597,575,null,25,14413,16404,14895,null,"Females","20-24",null,{"$f":"SUM(C129:C133)","v":2287},{"$f":"SUM(D129:D133)","v":3006},{"$f":"SUM(E129:E133)","v":2461},null,{"$f":"INDEX(O41:Q41,Index!$B$23)","v":2461}]
["male",26,447,553,553,null,26,14860,16957,15448,null,"Females","25-29",null,{"$f":"SUM(C134:C138)","v":2689},{"$f":"SUM(D134:D138)","v":2751},{"$f":"SUM(E134:E138)","v":2938},null,{"$f":"INDEX(O42:Q42,Index!$B$23)","v":2938}]
["male",27,455,579,562,null,27,15315,17536,16010,null,"Females","30-34",null,{"$f":"SUM(C139:C143)","v":3211},{"$f":"SUM(D139:D143)","v":2779},{"$f":"SUM(E139:E143)","v":3260},null,{"$f":"INDEX(O43:Q43,Index!$B$23)","v":3260}]
["male",28,501,556,573,null,28,15816,18092,16583,null,"Females","35-39",null,{"$f":"SUM(C144:C148)","v":3506},{"$f":"SUM(D144:D148)","v":3141},{"$f":"SUM(E144:E148)","v":3090},null,{"$f":"INDEX(O44:Q44,Index!$B$23)","v":3090}]
["male",29,586,555,636,null,29,16402,18647,17219,null,"Females","40-44",null,{"$f":"SUM(C149:C153)","v":3287},{"$f":"SUM(D149:D153)","v":3800},{"$f":"SUM(E149:E153)","v":3244},null,{"$f":"INDEX(O45:Q45,Index!$B$23)","v":3244}]
["male",30,598,617,573,null,30,17000,19264,17792,null,"Females","45-49",null,{"$f":"SUM(C154:C158)","v":3101},{"$f":"SUM(D154:D158)","v":3900},{"$f":"SUM(E154:E158)","v":3464},null,{"$f":"INDEX(O46:Q46,Index!$B$23)","v":3464}]
["male",31,613,609,577,null,31,17613,19873,18369,null,"Females","50-54",null,{"$f":"SUM(C159:C163)","v":3574},{"$f":"SUM(D159:D163)","v":3630},{"$f":"SUM(E159:E163)","v":4058},null,{"$f":"INDEX(O47:Q47,Index!$B$23)","v":4058}]
["male",32,652,541,588,null,32,18265,20414,18957,null,"Females","55-59",null,{"$f":"SUM(C164:C168)","v":3024},{"$f":"SUM(D164:D168)","v":3434},{"$f":"SUM(E164:E168)","v":4248},null,{"$f":"INDEX(O48:Q48,Index!$B$23)","v":4248}]
["male",33,659,532,613,null,33,{"$f":"H48+C49","v":18924},{"$f":"I48+D49","v":20946},{"$f":"J48+E49","v":19570},null,"Females","60-64",null,{"$f":"SUM(C169:C173)","v":2792},{"$f":"SUM(D169:D173)","v":4114},{"$f":"SUM(E169:E173)","v":3852},null,{"$f":"INDEX(O49:Q49,Index!$B$23)","v":3852}]
["male",34,702,523,583,null,34,19626,21469,20153,null,"Females","65-69",null,{"$f":"SUM(C174:C178)","v":2483},{"$f":"SUM(D174:D178)","v":3296},{"$f":"SUM(E174:E178)","v":3649},null,{"$f":"INDEX(O50:Q50,Index!$B$23)","v":3649}]
["male",35,715,573,555,null,35,20341,22042,20708,null,"Females","70-74",null,{"$f":"SUM(C179:C183)","v":2537},{"$f":"SUM(D179:D183)","v":2650},{"$f":"SUM(E179:E183)","v":3980},null,{"$f":"INDEX(O51:Q51,Index!$B$23)","v":3980}]
["male",36,708,579,559,null,36,21049,22621,21267,null,"Females","75-79",null,{"$f":"SUM(C184:C188)","v":2503},{"$f":"SUM(D184:D188)","v":2193},{"$f":"SUM(E184:E188)","v":2968},null,{"$f":"INDEX(O52:Q52,Index!$B$23)","v":2968}]
["male",37,675,604,584,null,37,21724,23225,21851,null,"Females","80-84",null,{"$f":"SUM(C189:C193)","v":1859},{"$f":"SUM(D189:D193)","v":1940},{"$f":"SUM(E189:E193)","v":2026},null,{"$f":"INDEX(O53:Q53,Index!$B$23)","v":2026}]
["male",38,705,622,548,null,38,22429,23847,22399,null,"Females","85-89",null,{"$f":"SUM(C194:C198)","v":1244},{"$f":"SUM(D194:D198)","v":1420},1256,null,{"$f":"INDEX(O54:Q54,Index!$B$23)","v":1256}]
["male",39,622,715,593,null,39,23051,24562,22992,null,"Females","90+",null,{"$f":"C199","v":742},{"$f":"D199","v":901},917,null,{"$f":"INDEX(O55:Q55,Index!$B$23)","v":917}]
["male",40,641,755,632,null,40,23692,25317,23624]
["male",41,663,771,645,null,41,24355,26088,24269]
["male",42,639,776,561,null,42,24994,26864,24830]
["male",43,603,804,596,null,43,25597,27668,25426]
["male",44,592,791,526,null,44,26189,28459,25952]
["male",45,544,802,570,null,45,26733,29261,26522]
["male",46,539,793,622,null,46,27272,30054,27144]
["male",47,538,759,645,null,47,27810,30813,27789]
["male",48,619,809,610,null,48,28429,31622,28399]
["male",49,599,752,762,null,49,29028,32374,29161]
["male",50,613,732,791,null,50,29641,33106,29952]
["male",51,638,735,754,null,51,30279,33841,30706]
["male",52,631,724,828,null,52,30910,34565,31534]
["male",53,786,693,806,null,53,31696,35258,32340]
["male",54,836,652,775,null,54,32532,35910,33115]
["male",55,614,621,883,null,55,33146,36531,33998]
["male",56,655,590,818,null,56,33801,37121,34816]
["male",57,592,628,807,null,57,34393,37749,35623]
["male",58,572,678,870,null,58,34965,38427,36493]
["male",59,554,665,747,null,59,35519,39092,37240]
["male",60,500,701,816,null,60,36019,39793,38056]
["male",61,511,740,775,null,61,36530,40533,38831]
["male",62,530,749,758,null,62,37060,41282,39589]
["male",63,542,897,684,null,63,37602,42179,40273]
["male",64,510,941,669,null,64,38112,43120,40942]
["male",65,460,638,643,null,65,{"$f":"H80+C81","v":38572},{"$f":"I80+D81","v":43758},{"$f":"J80+E81","v":41585}]
["male",66,498,740,651,null,66,39070,44498,42236]
["male",67,443,645,632,null,67,39513,45143,42868]
["male",68,489,577,696,null,68,40002,45720,43564]
["male",69,422,522,649,null,69,40424,46242,44213]
["male",70,448,520,693,null,70,40872,46762,44906]
["male",71,440,562,674,null,71,41312,47324,45580]
["male",72,437,485,701,null,72,41749,47809,46281]
["male",73,378,481,871,null,73,42127,48290,47152]
["male",74,361,477,851,null,74,42488,48767,48003]
["male",75,375,427,555,null,75,42863,49194,48558]
["male",76,349,416,635,null,76,43212,49610,49193]
["male",77,311,363,534,null,77,43523,49973,49727]
["male",78,317,394,484,null,78,43840,50367,50211]
["male",79,344,331,387,null,79,44184,50698,50598]
["male",80,301,323,417,null,80,44485,51021,51015]
["male",81,294,307,353,null,81,44779,51328,51368]
["male",82,193,280,327,null,82,44972,51608,51695]
["male",83,134,209,298,null,83,45106,51817,51993]
["male",84,163,230,279,null,84,45269,52047,52272]
["male",85,144,181,233,null,85,45413,52228,52505]
["male",86,131,165,218,null,86,45544,52393,52723]
["male",87,143,135,176,null,87,45687,52528,52899]
["male",88,97,111,148,null,88,45784,52639,53047]
["male",89,61,129,123,null,89,45845,52768,53170]
["male","90+",200,367,404,null,"90+",46045,53135,53574]
[null,"All Males",{"$f":"SUM(C16:C106)","v":46045},53135,{"$f":"SUM(E16:E106)","v":53574},null,"Females"]
["Sex","Age"]
["female",0,431,607,431,null,0,{"$f":"C109","v":431},{"$f":"D109","v":607},{"$f":"E109","v":431}]
["female",1,505,599,510,null,1,{"$f":"H109+C110","v":936},{"$f":"I109+D110","v":1206},{"$f":"J109+E110","v":941}]
["female",2,568,615,476,null,2,1504,1821,1417]
["female",3,553,569,526,null,3,2057,2390,1943]
["female",4,555,602,518,null,4,2612,2992,2461]
["female",5,515,527,554,null,5,3127,3519,3015]
["female",6,580,508,554,null,6,3707,4027,3569]
["female",7,621,528,568,null,7,4328,4555,4137]
["female",8,578,547,573,null,8,4906,5102,4710]
["female",9,620,535,583,null,9,5526,5637,5293]
["female",10,652,584,618,null,10,6178,6221,5911]
["female",11,674,608,598,null,11,6852,6829,6509]
["female",12,630,616,622,null,12,7482,7445,7131]
["female",13,613,658,575,null,13,8095,8103,7706]
["female",14,634,622,605,null,14,8729,8725,8311]
["female",15,539,606,557,null,15,9268,9331,8868]
["female",16,584,673,522,null,16,9852,10004,9390]
["female",17,546,722,531,null,17,10398,10726,9921]
["female",18,511,611,483,null,18,10909,11337,10404]
["female",19,445,542,368,null,19,11354,11879,10772]
["female",20,481,592,374,null,20,11835,12471,11146]
["female",21,472,633,446,null,21,12307,13104,11592]
["female",22,434,588,522,null,22,12741,13692,12114]
["female",23,440,613,560,null,23,13181,14305,12674]
["female",24,460,580,559,null,24,13641,14885,13233]
["female",25,491,510,540,null,25,14132,15395,13773]
["female",26,502,537,579,null,26,14634,15932,14352]
["female",27,522,543,590,null,27,15156,16475,14942]
["female",28,556,549,603,null,28,15712,17024,15545]
["female",29,618,612,626,null,29,16330,17636,16171]
["female",30,616,594,644,null,30,16946,18230,16815]
["female",31,607,562,673,null,31,17553,18792,17488]
["female",32,644,580,666,null,32,18197,19372,18154]
["female",33,631,522,626,null,33,{"$f":"H141+C142","v":18828},{"$f":"I141+D142","v":19894},{"$f":"J141+E142","v":18780}]
["female",34,713,521,651,null,34,19541,20415,19431]
["female",35,751,569,605,null,35,20292,20984,20036]
["female",36,696,585,614,null,36,20988,21569,20650]
["female",37,694,604,591,null,37,21682,22173,21241]
["female",38,692,669,625,null,38,22374,22842,21866]
["female",39,673,714,655,null,39,23047,23556,22521]
["female",40,669,745,711,null,40,23716,24301,23232]
["female",41,638,726,677,null,41,24354,25027,23909]
["female",42,661,785,671,null,42,25015,25812,24580]
["female",43,660,727,585,null,43,25675,26539,25165]
["female",44,659,817,600,null,44,26334,27356,25765]
["female",45,608,815,642,null,45,26942,28171,26407]
["female",46,592,804,644,null,46,27534,28975,27051]
["female",47,648,770,685,null,47,28182,29745,27736]
["female",48,612,789,728,null,48,28794,30534,28464]
["female",49,641,722,765,null,49,29435,31256,29229]
["female",50,603,769,772,null,50,30038,32025,30001]
["female",51,643,688,790,null,51,30681,32713,30791]
["female",52,701,713,858,null,52,31382,33426,31649]
["female",53,788,746,803,null,53,32170,34172,32452]
["female",54,839,714,835,null,54,33009,34886,33287]
["female",55,651,671,877,null,55,33660,35557,34164]
["female",56,605,641,845,null,56,34265,36198,35009]
["female",57,611,712,820,null,57,34876,36910,35829]
["female",58,612,695,859,null,58,35488,37605,36688]
["female",59,545,715,847,null,59,36033,38320,37535]
["female",60,537,707,822,null,60,36570,39027,38357]
["female",61,574,745,759,null,61,37144,39772,39116]
["female",62,551,801,742,null,62,37695,40573,39858]
["female",63,552,922,778,null,63,38247,41495,40636]
["female",64,578,939,751,null,64,38825,42434,41387]
["female",65,514,703,696,null,65,{"$f":"H173+C174","v":39339},{"$f":"I173+D174","v":43137},{"$f":"J173+E174","v":42083}]
["female",66,474,689,701,null,66,39813,43826,42784]
["female",67,479,686,763,null,67,40292,44512,43547]
["female",68,526,656,729,null,68,40818,45168,44276]
["female",69,490,562,760,null,69,41308,45730,45036]
["female",70,544,514,704,null,70,41852,46244,45740]
["female",71,486,546,714,null,71,42338,46790,46454]
["female",72,507,561,816,null,72,42845,47351,47270]
["female",73,501,516,851,null,73,43346,47867,48121]
["female",74,499,513,895,null,74,43845,48380,49016]
["female",75,543,449,651,null,75,44388,48829,49667]
["female",76,472,460,639,null,76,44860,49289,50306]
["female",77,537,433,616,null,77,45397,49722,50922]
["female",78,474,438,577,null,78,45871,50160,51499]
["female",79,477,413,485,null,79,46348,50573,51984]
["female",80,483,436,408,null,80,46831,51009,52392]
["female",81,494,363,456,null,81,47325,51372,52848]
["female",82,285,423,430,null,82,47610,51795,53278]
["female",83,284,348,370,null,83,47894,52143,53648]
["female",84,313,370,362,null,84,48207,52513,54010]
["female",85,294,320,291,null,85,48501,52833,54301]
["female",86,265,279,283,null,86,48766,53112,54584]
["female",87,226,333,235,null,87,48992,53445,54819]
["female",88,240,253,246,null,88,49232,53698,55065]
["female",89,219,235,201,null,89,49451,53933,55266]
["female","90+",742,901,917,null,"90+",50193,54834,56183]
[null,"All Females",{"$f":"SUM(C109:C199)","v":50193},54834,{"$f":"SUM(E109:E199)","v":56183}]

{"sheet":"GRA","index":13,"n_rows":200,"n_cols":19,"rows_kept":200,"cut":false,"hidden":true,"merged":[[0,10,21,10]]}
["Mid Year Population Estimates",null,null,null,null,null,null,null,null,null,"Insert column here before extending the table"]
["2001, 2011, and 2021 Census: The Office forNnational Statistics (ONS)",null,null,null,null,null,"Selected Ages:",null,null,null,null,null,null,null,"Start year","End Year","Number change","% Change"]
[null,null,null,null,null,null,null,{"$f":"H13","v":2001},2011,{"$f":"J13","v":2021},null,null,null,null,{"$f":"INDEX($H3:$I3,Index!$B$16)","v":2011},{"$f":"INDEX($H3:$J3,Index!$B$19)","v":2011}]
[null,null,null,null,null,null,"Males",{"$f":"OFFSET(H16,Index!$B$7-1,0)-IF(Index!$B$4-2=1,0,OFFSET(H16,Index!$B$4-2,0))","v":46890},{"$f":"OFFSET(I16,Index!$B$7-1,0)-IF(Index!$B$4-2=1,0,OFFSET(I16,Index!$B$4-2,0))","v":50139},{"$f":"OFFSET(J16,Index!$B$7-1,0)-IF(Index!$B$4-2=1,0,OFFSET(J16,Index!$B$4-2,0))","v":52229},null,null,null,null,{"$f":"INDEX($H4:$I4,Index!$B$16)","v":50139},{"$f":"INDEX($H4:$J4,Index!$B$19)","v":50139},{"$f":"P4-O4","v":0},{"$f":"Q4/O4","v":0}]
[null,null,null,null,null,null,"Females",{"$f":"OFFSET(H109,Index!$B$7-1,0)-IF(Index!$B$4-2=1,0,OFFSET(H109,Index!$B$4-2,0))","v":48822},{"$f":"OFFSET(I109,Index!$B$7-1,0)-IF(Index!$B$4-2=1,0,OFFSET(I109,Index!$B$4-2,0))","v":51581},{"$f":"OFFSET(J109,Index!$B$7-1,0)-IF(Index!$B$4-2=1,0,OFFSET(J109,Index!$B$4-2,0))","v":54676},null,null,null,null,{"$f":"INDEX($H5:$I5,Index!$B$16)","v":51581},{"$f":"INDEX($H5:$J5,Index!$B$19)","v":51581},{"$f":"P5-O5","v":0},{"$f":"Q5/O5","v":0}]
[null,null,null,null,null,null,"Total",{"$f":"SUM(H4:H5)","v":95712},101720,{"$f":"SUM(J4:J5)","v":106905},null,null,null,null,{"$f":"INDEX($H6:$I6,Index!$B$16)","v":101720},{"$f":"INDEX($H6:$J6,Index!$B$19)","v":101720},{"$f":"P6-O6","v":0},{"$f":"Q6/O6","v":0}]
[]
[null,null,null,null,null,null,"Males",{"$f":"IF(H4<0,\"0\",H4)","v":46890},50139,{"$f":"IF(J4<0,\"0\",J4)","v":52229}]
[null,null,null,null,null,null,"Females",48822,51581,54676]
[null,null,null,null,null,null,"Total",{"$f":"SUM(H8:H9)","v":95712},101720,{"$f":"SUM(J8:J9)","v":106905}]
[]
["Gravesham",null,null,null,null,null,null,null,null,null,null,"Population Pyramid"]
[null,null,null,null,null,null,null,{"$f":"C14","v":2001},{"$f":"D14","v":2011},{"$f":"E14","v":2021}]
["Sex","Age",2001,2011,2021,null,null,null,null,null,null,null,null,null,2001,2011,2021,null,{"$f":"INDEX(O14:Q14,Index!$B$23)","v":2021}]
[null,"All persons",{"$f":"SUM(C107,C200)","v":95712},101720,{"$f":"SUM(E107,E200)","v":106905},null,"Males",null,null,null,null,"Males","All Ages",null,{"$f":"C107","v":46890},{"$f":"D107","v":50139},{"$f":"E107","v":52229},null,{"$f":"INDEX(O15:Q15,Index!$B$23)","v":52229}]
["male",0,564,692,654,null,0,{"$f":"C16","v":564},{"$f":"D16","v":692},{"$f":"E16","v":654},null,"Males","0-4",null,{"$f":"SUM(C16:C20)","v":3056},{"$f":"SUM(D16:D20)","v":3392},{"$f":"SUM(E16:E20)","v":3367},null,{"$f":"INDEX(O16:Q16,Index!$B$23)","v":3367}]
["male",1,526,673,699,null,1,{"$f":"H16+C17","v":1090},{"$f":"I16+D17","v":1365},{"$f":"J16+E17","v":1353},null,"Males","5-9",null,{"$f":"SUM(C21:C25)","v":3431},{"$f":"SUM(D21:D25)","v":3284},{"$f":"SUM(E21:E25)","v":3650},null,{"$f":"INDEX(O17:Q17,Index!$B$23)","v":3650}]
["male",2,648,664,645,null,2,1738,2029,1998,null,"Males","10-14",null,{"$f":"SUM(C26:C30)","v":3489},{"$f":"SUM(D26:D30)","v":3368},{"$f":"SUM(E26:E30)","v":3591},null,{"$f":"INDEX(O18:Q18,Index!$B$23)","v":3591}]
["male",3,655,690,693,null,3,2393,2719,2691,null,"Males","15-19",null,{"$f":"SUM(C31:C35)","v":2977},{"$f":"SUM(D31:D35)","v":3400},{"$f":"SUM(E31:E35)","v":3211},null,{"$f":"INDEX(O19:Q19,Index!$B$23)","v":3211}]
["male",4,663,673,676,null,4,3056,3392,3367,null,"Males","20-24",null,{"$f":"SUM(C36:C40)","v":2421},{"$f":"SUM(D36:D40)","v":3219},{"$f":"SUM(E36:E40)","v":2915},null,{"$f":"INDEX(O20:Q20,Index!$B$23)","v":2915}]
["male",5,644,726,726,null,5,3700,4118,4093,null,"Males","25-29",null,{"$f":"SUM(C41:C45)","v":2905},{"$f":"SUM(D41:D45)","v":3282},{"$f":"SUM(E41:E45)","v":3145},null,{"$f":"INDEX(O21:Q21,Index!$B$23)","v":3145}]
["male",6,664,617,724,null,6,4364,4735,4817,null,"Males","30-34",null,{"$f":"SUM(C46:C50)","v":3540},{"$f":"SUM(D46:D50)","v":3162},{"$f":"SUM(E46:E50)","v":3607},null,{"$f":"INDEX(O22:Q22,Index!$B$23)","v":3607}]
["male",7,697,700,704,null,7,5061,5435,5521,null,"Males","35-39",null,{"$f":"SUM(C51:C55)","v":3801},{"$f":"SUM(D51:D55)","v":3312},{"$f":"SUM(E51:E55)","v":3545},null,{"$f":"INDEX(O23:Q23,Index!$B$23)","v":3545}]
["male",8,658,612,724,null,8,5719,6047,6245,null,"Males","40-44",null,{"$f":"SUM(C56:C60)","v":3509},{"$f":"SUM(D56:D60)","v":3784},{"$f":"SUM(E56:E60)","v":3396},null,{"$f":"INDEX(O24:Q24,Index!$B$23)","v":3396}]
["male",9,768,629,772,null,9,6487,6676,7017,null,"Males","45-49",null,{"$f":"SUM(C61:C65)","v":3058},{"$f":"SUM(D61:D65)","v":3786},{"$f":"SUM(E61:E65)","v":3373},null,{"$f":"INDEX(O25:Q25,Index!$B$23)","v":3373}]
["male",10,708,649,749,null,10,7195,7325,7766,null,"Males","50-54",null,{"$f":"SUM(C66:C70)","v":3360},{"$f":"SUM(D66:D70)","v":3243},{"$f":"SUM(E66:E70)","v":3649},null,{"$f":"INDEX(O26:Q26,Index!$B$23)","v":3649}]
["male",11,696,637,753,null,11,7891,7962,8519,null,"Males","55-59",null,{"$f":"SUM(C71:C75)","v":2692},{"$f":"SUM(D71:D75)","v":2767},{"$f":"SUM(E71:E75)","v":3577},null,{"$f":"INDEX(O27:Q27,Index!$B$23)","v":3577}]
["male",12,679,675,675,null,12,8570,8637,9194,null,"Males","60-64",null,{"$f":"SUM(C76:C80)","v":2378},{"$f":"SUM(D76:D80)","v":2847},{"$f":"SUM(E76:E80)","v":2864},null,{"$f":"INDEX(O28:Q28,Index!$B$23)","v":2864}]
["male",13,727,731,734,null,13,9297,9368,9928,null,"Males","65-69",null,{"$f":"SUM(C81:C85)","v":2197},{"$f":"SUM(D81:D85)","v":2263},{"$f":"SUM(E81:E85)","v":2324},null,{"$f":"INDEX(O29:Q29,Index!$B$23)","v":2324}]
["male",14,679,676,680,null,14,9976,10044,10608,null,"Males","70-74",null,{"$f":"SUM(C86:C90)","v":1818},{"$f":"SUM(D86:D90)","v":1829},{"$f":"SUM(E86:E90)","v":2291},null,{"$f":"INDEX(O30:Q30,Index!$B$23)","v":2291}]
["male",15,680,678,729,null,15,10656,10722,11337,null,"Males","75-79",null,{"$f":"SUM(C91:C95)","v":1178},{"$f":"SUM(D91:D95)","v":1539},{"$f":"SUM(E91:E95)","v":1658},null,{"$f":"INDEX(O31:Q31,Index!$B$23)","v":1658}]
["male",16,656,706,657,null,16,11312,11428,11994,null,"Males","80-84",null,{"$f":"SUM(C96:C100)","v":666},{"$f":"SUM(D96:D100)","v":990},{"$f":"SUM(E96:E100)","v":1116},null,{"$f":"INDEX(O32:Q32,Index!$B$23)","v":1116}]
["male",17,599,762,705,null,17,11911,12190,12699,null,"Males","85-89",null,{"$f":"SUM(C101:C105)","v":302},{"$f":"SUM(D101:D105)","v":479},673,null,{"$f":"INDEX(O33:Q33,Index!$B$23)","v":673}]
["male",18,554,631,613,null,18,12465,12821,13312,null,"Males","90+",null,{"$f":"C106","v":112},{"$f":"D106","v":193},277,null,{"$f":"INDEX(O34:Q34,Index!$B$23)","v":277}]
["male",19,488,623,507,null,19,12953,13444,13819]
["male",20,493,569,517,null,20,13446,14013,14336,null,"Males","All Ages",null,{"$f":"C200","v":48822},{"$f":"D200","v":51581},{"$f":"E200","v":54676},null,{"$f":"INDEX(O36:Q36,Index!$B$23)","v":54676}]
["male",21,502,620,559,null,21,13948,14633,14895,null,"Females","0-4",null,{"$f":"SUM(C109:C113)","v":2881},{"$f":"SUM(D109:D113)","v":3255},{"$f":"SUM(E109:E113)","v":3233},null,{"$f":"INDEX(O37:Q37,Index!$B$23)","v":3233}]
["male",22,473,637,593,null,22,14421,15270,15488,null,"Females","5-9",null,{"$f":"SUM(C114:C118)","v":3215},{"$f":"SUM(D114:D118)","v":2991},{"$f":"SUM(E114:E118)","v":3507},null,{"$f":"INDEX(O38:Q38,Index!$B$23)","v":3507}]
["male",23,453,711,630,null,23,14874,15981,16118,null,"Females","10-14",null,{"$f":"SUM(C119:C123)","v":3253},{"$f":"SUM(D119:D123)","v":3161},{"$f":"SUM(E119:E123)","v":3549},null,{"$f":"INDEX(O39:Q39,Index!$B$23)","v":3549}]
["male",24,500,682,616,null,24,15374,16663,16734,null,"Females","15-19",null,{"$f":"SUM(C124:C128)","v":3036},{"$f":"SUM(D124:D128)","v":3323},{"$f":"SUM(E124:E128)","v":2937},null,{"$f":"INDEX(O40:Q40,Index!$B$23)","v":2937}]
["male",25,544,709,584,null,25,15918,17372,17318,null,"Females","20-24",null,{"$f":"SUM(C129:C133)","v":2479},{"$f":"SUM(D129:D133)","v":3283},{"$f":"SUM(E129:E133)","v":2751},null,{"$f":"INDEX(O41:Q41,Index!$B$23)","v":2751}]
["male",26,537,662,585,null,26,16455,18034,17903,null,"Females","25-29",null,{"$f":"SUM(C134:C138)","v":3025},{"$f":"SUM(D134:D138)","v":3336},{"$f":"SUM(E134:E138)","v":3383},null,{"$f":"INDEX(O42:Q42,Index!$B$23)","v":3383}]
["male",27,608,647,656,null,27,17063,18681,18559,null,"Females","30-34",null,{"$f":"SUM(C139:C143)","v":3612},{"$f":"SUM(D139:D143)","v":3207},{"$f":"SUM(E139:E143)","v":4013},null,{"$f":"INDEX(O43:Q43,Index!$B$23)","v":4013}]
["male",28,576,624,645,null,28,17639,19305,19204,null,"Females","35-39",null,{"$f":"SUM(C144:C148)","v":3813},{"$f":"SUM(D144:D148)","v":3326},{"$f":"SUM(E144:E148)","v":3990},null,{"$f":"INDEX(O44:Q44,Index!$B$23)","v":3990}]
["male",29,640,640,675,null,29,18279,19945,19879,null,"Females","40-44",null,{"$f":"SUM(C149:C153)","v":3299},{"$f":"SUM(D149:D153)","v":3882},{"$f":"SUM(E149:E153)","v":3535},null,{"$f":"INDEX(O45:Q45,Index!$B$23)","v":3535}]
["male",30,661,707,710,null,30,18940,20652,20589,null,"Females","45-49",null,{"$f":"SUM(C154:C158)","v":2938},{"$f":"SUM(D154:D158)","v":3798},{"$f":"SUM(E154:E158)","v":3452},null,{"$f":"INDEX(O46:Q46,Index!$B$23)","v":3452}]
["male",31,665,605,700,null,31,19605,21257,21289,null,"Females","50-54",null,{"$f":"SUM(C159:C163)","v":3436},{"$f":"SUM(D159:D163)","v":3194},{"$f":"SUM(E159:E163)","v":3811},null,{"$f":"INDEX(O47:Q47,Index!$B$23)","v":3811}]
["male",32,733,622,705,null,32,20338,21879,21994,null,"Females","55-59",null,{"$f":"SUM(C164:C168)","v":2989},{"$f":"SUM(D164:D168)","v":2801},{"$f":"SUM(E164:E168)","v":3561},null,{"$f":"INDEX(O48:Q48,Index!$B$23)","v":3561}]
["male",33,721,564,759,null,33,{"$f":"H48+C49","v":21059},{"$f":"I48+D49","v":22443},{"$f":"J48+E49","v":22753},null,"Females","60-64",null,{"$f":"SUM(C169:C173)","v":2464},{"$f":"SUM(D169:D173)","v":3027},{"$f":"SUM(E169:E173)","v":2880},null,{"$f":"INDEX(O49:Q49,Index!$B$23)","v":2880}]
["male",34,760,664,733,null,34,21819,23107,23486,null,"Females","65-69",null,{"$f":"SUM(C174:C178)","v":2213},{"$f":"SUM(D174:D178)","v":2368},{"$f":"SUM(E174:E178)","v":2506},null,{"$f":"INDEX(O50:Q50,Index!$B$23)","v":2506}]
["male",35,817,639,728,null,35,22636,23746,24214,null,"Females","70-74",null,{"$f":"SUM(C179:C183)","v":2004},{"$f":"SUM(D179:D183)","v":2057},{"$f":"SUM(E179:E183)","v":2588},null,{"$f":"INDEX(O51:Q51,Index!$B$23)","v":2588}]
["male",36,743,621,719,null,36,23379,24367,24933,null,"Females","75-79",null,{"$f":"SUM(C184:C188)","v":1719},{"$f":"SUM(D184:D188)","v":1811},{"$f":"SUM(E184:E188)","v":1930},null,{"$f":"INDEX(O52:Q52,Index!$B$23)","v":1930}]
["male",37,812,618,697,null,37,24191,24985,25630,null,"Females","80-84",null,{"$f":"SUM(C189:C193)","v":1290},{"$f":"SUM(D189:D193)","v":1385},{"$f":"SUM(E189:E193)","v":1512},null,{"$f":"INDEX(O53:Q53,Index!$B$23)","v":1512}]
["male",38,763,695,685,null,38,24954,25680,26315,null,"Females","85-89",null,{"$f":"SUM(C194:C198)","v":763},{"$f":"SUM(D194:D198)","v":869},987,null,{"$f":"INDEX(O54:Q54,Index!$B$23)","v":987}]
["male",39,666,739,716,null,39,25620,26419,27031,null,"Females","90+",null,{"$f":"C199","v":393},{"$f":"D199","v":507},551,null,{"$f":"INDEX(O55:Q55,Index!$B$23)","v":551}]
["male",40,735,747,730,null,40,26355,27166,27761]
["male",41,708,760,695,null,41,27063,27926,28456]
["male",42,721,762,714,null,42,27784,28688,29170]
["male",43,716,710,610,null,43,28500,29398,29780]
["male",44,629,805,647,null,44,29129,30203,30427]
["male",45,616,804,668,null,45,29745,31007,31095]
["male",46,658,723,683,null,46,30403,31730,31778]
["male",47,643,791,634,null,47,31046,32521,32412]
["male",48,564,768,702,null,48,31610,33289,33114]
["male",49,577,700,686,null,49,32187,33989,33800]
["male",50,578,683,758,null,50,32765,34672,34558]
["male",51,588,669,739,null,51,33353,35341,35297]
["male",52,638,658,722,null,52,33991,35999,36019]
["male",53,760,643,709,null,53,34751,36642,36728]
["male",54,796,590,721,null,54,35547,37232,37449]
["male",55,547,583,789,null,55,36094,37815,38238]
["male",56,575,585,683,null,56,36669,38400,38921]
["male",57,586,570,751,null,57,37255,38970,39672]
["male",58,528,514,697,null,58,37783,39484,40369]
["male",59,456,515,657,null,59,38239,39999,41026]
["male",60,461,543,591,null,60,38700,40542,41617]
["male",61,482,497,601,null,61,39182,41039,42218]
["male",62,497,545,603,null,62,39679,41584,42821]
["male",63,473,632,571,null,63,40152,42216,43392]
["male",64,465,630,498,null,64,40617,42846,43890]
["male",65,457,472,530,null,65,{"$f":"H80+C81","v":41074},{"$f":"I80+D81","v":43318},{"$f":"J80+E81","v":44420}]
["male",66,451,503,489,null,66,41525,43821,44909]
["male",67,452,486,461,null,67,41977,44307,45370]
["male",68,401,450,426,null,68,42378,44757,45796]
["male",69,436,352,418,null,69,42814,45109,46214]
["male",70,384,364,451,null,70,43198,45473,46665]
["male",71,393,400,421,null,71,43591,45873,47086]
["male",72,343,382,441,null,72,43934,46255,47527]
["male",73,365,337,503,null,73,44299,46592,48030]
["male",74,333,346,475,null,74,44632,46938,48505]
["male",75,267,331,342,null,75,44899,47269,48847]
["male",76,245,330,372,null,76,45144,47599,49219]
["male",77,223,313,363,null,77,45367,47912,49582]
["male",78,242,278,313,null,78,45609,48190,49895]
["male",79,201,287,268,null,79,45810,48477,50163]
["male",80,211,251,243,null,80,46021,48728,50406]
["male",81,181,217,263,null,81,46202,48945,50669]
["male",82,102,177,229,null,82,46304,49122,50898]
["male",83,84,192,197,null,83,46388,49314,51095]
["male",84,88,153,184,null,84,46476,49467,51279]
["male",85,95,131,166,null,85,46571,49598,51445]
["male",86,67,110,160,null,86,46638,49708,51605]
["male",87,53,72,136,null,87,46691,49780,51741]
["male",88,47,92,107,null,88,46738,49872,51848]
["male",89,40,74,104,null,89,46778,49946,51952]
["male","90+",112,193,277,null,"90+",46890,50139,52229]
[null,"All Males",{"$f":"SUM(C16:C106)","v":46890},50139,{"$f":"SUM(E16:E106)","v":52229},null,"Females"]
["Sex","Age"]
["female",0,496,610,615,null,0,{"$f":"C109","v":496},{"$f":"D109","v":610},{"$f":"E109","v":615}]
["female",1,583,683,648,null,1,{"$f":"H109+C110","v":1079},{"$f":"I109+D110","v":1293},{"$f":"J109+E110","v":1263}]
["female",2,617,649,601,null,2,1696,1942,1864]
["female",3,582,684,672,null,3,2278,2626,2536]
["female",4,603,629,697,null,4,2881,3255,3233]
["female",5,596,691,697,null,5,3477,3946,3930]
["female",6,658,598,684,null,6,4135,4544,4614]
["female",7,671,562,756,null,7,4806,5106,5370]
["female",8,620,530,687,null,8,5426,5636,6057]
["female",9,670,610,683,null,9,6096,6246,6740]
["female",10,684,564,692,null,10,6780,6810,7432]
["female",11,656,632,751,null,11,7436,7442,8183]
["female",12,625,616,693,null,12,8061,8058,8876]
["female",13,663,678,727,null,13,8724,8736,9603]
["female",14,625,671,686,null,14,9349,9407,10289]
["female",15,676,627,721,null,15,10025,10034,11010]
["female",16,633,748,625,null,16,10658,10782,11635]
["female",17,659,726,611,null,17,11317,11508,12246]
["female",18,582,653,506,null,18,11899,12161,12752]
["female",19,486,569,474,null,19,12385,12730,13226]
["female",20,475,588,429,null,20,12860,13318,13655]
["female",21,503,591,495,null,21,13363,13909,14150]
["female",22,494,686,567,null,22,13857,14595,14717]
["female",23,525,701,645,null,23,14382,15296,15362]
["female",24,482,717,615,null,24,14864,16013,15977]
["female",25,562,675,616,null,25,15426,16688,16593]
["female",26,589,645,647,null,26,16015,17333,17240]
["female",27,530,678,692,null,27,16545,18011,17932]
["female",28,667,655,692,null,28,17212,18666,18624]
["female",29,677,683,736,null,29,17889,19349,19360]
["female",30,717,669,818,null,30,18606,20018,20178]
["female",31,668,668,808,null,31,19274,20686,20986]
["female",32,720,640,780,null,32,19994,21326,21766]
["female",33,714,628,769,null,33,{"$f":"H141+C142","v":20708},{"$f":"I141+D142","v":21954},{"$f":"J141+E142","v":22535}]
["female",34,793,602,838,null,34,21501,22556,23373]
["female",35,732,620,797,null,35,22233,23176,24170]
["female",36,725,671,819,null,36,22958,23847,24989]
["female",37,736,634,805,null,37,23694,24481,25794]
["female",38,850,697,780,null,38,24544,25178,26574]
["female",39,770,704,789,null,39,25314,25882,27363]
["female",40,718,767,778,null,40,26032,26649,28141]
["female",41,647,728,748,null,41,26679,27377,28889]
["female",42,674,816,721,null,42,27353,28193,29610]
["female",43,662,751,652,null,43,28015,28944,30262]
["female",44,598,820,636,null,44,28613,29764,30898]
["female",45,585,768,670,null,45,29198,30532,31568]
["female",46,576,721,685,null,46,29774,31253,32253]
["female",47,593,746,660,null,47,30367,31999,32913]
["female",48,593,800,710,null,48,30960,32799,33623]
["female",49,591,763,727,null,49,31551,33562,34350]
["female",50,613,712,789,null,50,32164,34274,35139]
["female",51,580,643,759,null,51,32744,34917,35898]
["female",52,635,642,781,null,52,33379,35559,36679]
["female",53,757,609,713,null,53,34136,36168,37392]
["female",54,851,588,769,null,54,34987,36756,38161]
["female",55,660,568,744,null,55,35647,37324,38905]
["female",56,629,561,683,null,56,36276,37885,39588]
["female",57,563,558,691,null,57,36839,38443,40279]
["female",58,614,562,722,null,58,37453,39005,41001]
["female",59,523,552,721,null,59,37976,39557,41722]
["female",60,466,529,638,null,60,38442,40086,42360]
["female",61,474,522,577,null,61,38916,40608,42937]
["female",62,483,576,593,null,62,39399,41184,43530]
["female",63,522,639,545,null,63,39921,41823,44075]
["female",64,519,761,527,null,64,40440,42584,44602]
["female",65,465,519,508,null,65,{"$f":"H173+C174","v":40905},{"$f":"I173+D174","v":43103},{"$f":"J173+E174","v":45110}]
["female",66,449,483,513,null,66,41354,43586,45623]
["female",67,420,448,509,null,67,41774,44034,46132]
["female",68,457,501,485,null,68,42231,44535,46617]
["female",69,422,417,491,null,69,42653,44952,47108]
["female",70,407,393,454,null,70,43060,45345,47562]
["female",71,429,408,453,null,71,43489,45753,48015]
["female",72,396,419,481,null,72,43885,46172,48496]
["female",73,394,423,575,null,73,44279,46595,49071]
["female",74,378,414,625,null,74,44657,47009,49696]
["female",75,356,387,424,null,75,45013,47396,50120]
["female",76,344,375,405,null,76,45357,47771,50525]
["female",77,356,363,385,null,77,45713,48134,50910]
["female",78,329,383,375,null,78,46042,48517,51285]
["female",79,334,303,341,null,79,46376,48820,51626]
["female",80,354,290,308,null,80,46730,49110,51934]
["female",81,328,317,322,null,81,47058,49427,52256]
["female",82,220,285,307,null,82,47278,49712,52563]
["female",83,183,244,294,null,83,47461,49956,52857]
["female",84,205,249,281,null,84,47666,50205,53138]
["female",85,170,218,237,null,85,47836,50423,53375]
["female",86,198,186,225,null,86,48034,50609,53600]
["female",87,144,186,203,null,87,48178,50795,53803]
["female",88,144,135,191,null,88,48322,50930,53994]
["female",89,107,144,131,null,89,48429,51074,54125]
["female","90+",393,507,551,null,"90+",48822,51581,54676]
[null,"All Females",{"$f":"SUM(C109:C199)","v":48822},51581,{"$f":"SUM(E109:E199)","v":54676}]

{"sheet":"MAI","index":14,"n_rows":200,"n_cols":19,"rows_kept":200,"cut":false,"hidden":true,"merged":[[0,10,21,10]]}
["Mid Year Population Estimates",null,null,null,null,null,null,null,null,null,"Insert column here before extending the table"]
["2001, 2011, and 2021 Census: The Office forNnational Statistics (ONS)",null,null,null,null,null,"Selected Ages:",null,null,null,null,null,null,null,"Start year","End Year","Number change","% Change"]
[null,null,null,null,null,null,null,{"$f":"H13","v":2001},2011,{"$f":"J13","v":2020},null,null,null,null,{"$f":"INDEX($H3:$I3,Index!$B$16)","v":2011},{"$f":"INDEX($H3:$J3,Index!$B$19)","v":2011}]
[null,null,null,null,null,null,"Males",{"$f":"OFFSET(H16,Index!$B$7-1,0)-IF(Index!$B$4-2=1,0,OFFSET(H16,Index!$B$4-2,0))","v":68350},{"$f":"OFFSET(I16,Index!$B$7-1,0)-IF(Index!$B$4-2=1,0,OFFSET(I16,Index!$B$4-2,0))","v":76492},{"$f":"OFFSET(J16,Index!$B$7-1,0)-IF(Index!$B$4-2=1,0,OFFSET(J16,Index!$B$4-2,0))","v":86964},null,null,null,null,{"$f":"INDEX($H4:$I4,Index!$B$16)","v":76492},{"$f":"INDEX($H4:$J4,Index!$B$19)","v":76492},{"$f":"P4-O4","v":0},{"$f":"Q4/O4","v":0}]
[null,null,null,null,null,null,"Females",{"$f":"OFFSET(H109,Index!$B$7-1,0)-IF(Index!$B$4-2=1,0,OFFSET(H109,Index!$B$4-2,0))","v":70595},{"$f":"OFFSET(I109,Index!$B$7-1,0)-IF(Index!$B$4-2=1,0,OFFSET(I109,Index!$B$4-2,0))","v":78651},{"$f":"OFFSET(J109,Index!$B$7-1,0)-IF(Index!$B$4-2=1,0,OFFSET(J109,Index!$B$4-2,0))","v":88817},null,null,null,null,{"$f":"INDEX($H5:$I5,Index!$B$16)","v":78651},{"$f":"INDEX($H5:$J5,Index!$B$19)","v":78651},{"$f":"P5-O5","v":0},{"$f":"Q5/O5","v":0}]
[null,null,null,null,null,null,"Total",{"$f":"SUM(H4:H5)","v":138945},155143,{"$f":"SUM(J4:J5)","v":175781},null,null,null,null,{"$f":"INDEX($H6:$I6,Index!$B$16)","v":155143},{"$f":"INDEX($H6:$J6,Index!$B$19)","v":155143},{"$f":"P6-O6","v":0},{"$f":"Q6/O6","v":0}]
[]
[null,null,null,null,null,null,"Males",{"$f":"IF(H4<0,\"0\",H4)","v":68350},76492,{"$f":"IF(J4<0,\"0\",J4)","v":86964}]
[null,null,null,null,null,null,"Females",70595,78651,88817]
[null,null,null,null,null,null,"Total",{"$f":"SUM(H8:H9)","v":138945},155143,{"$f":"SUM(J8:J9)","v":175781}]
[]
["Maidstone",null,null,null,null,null,null,null,null,null,null,"Population Pyramid"]
[null,null,null,null,null,null,null,{"$f":"C14","v":2001},{"$f":"D14","v":2011},{"$f":"E14","v":2020}]
["Sex","Age",2001,2011,2020,null,null,null,null,null,null,null,null,null,2001,2011,2021,null,{"$f":"INDEX(O14:Q14,Index!$B$23)","v":2021}]
[null,"All persons",{"$f":"SUM(C107,C200)","v":138945},155143,{"$f":"SUM(E107,E200)","v":175781},null,"Males",null,null,null,null,"Males","All Ages",null,{"$f":"C107","v":68350},{"$f":"D107","v":76492},{"$f":"E107","v":86964},null,{"$f":"INDEX(O15:Q15,Index!$B$23)","v":86964}]
["male",0,736,1047,1010,null,0,{"$f":"C16","v":736},{"$f":"D16","v":1047},{"$f":"E16","v":1010},null,"Males","0-4",null,{"$f":"SUM(C16:C20)","v":4078},{"$f":"SUM(D16:D20)","v":4978},{"$f":"SUM(E16:E20)","v":5357},null,{"$f":"INDEX(O16:Q16,Index!$B$23)","v":5357}]
["male",1,849,994,1048,null,1,{"$f":"H16+C17","v":1585},{"$f":"I16+D17","v":2041},{"$f":"J16+E17","v":2058},null,"Males","5-9",null,{"$f":"SUM(C21:C25)","v":4561},{"$f":"SUM(D21:D25)","v":4508},{"$f":"SUM(E21:E25)","v":5681},null,{"$f":"INDEX(O17:Q17,Index!$B$23)","v":5681}]
["male",2,860,942,1086,null,2,2445,2983,3144,null,"Males","10-14",null,{"$f":"SUM(C26:C30)","v":4687},{"$f":"SUM(D26:D30)","v":4855},{"$f":"SUM(E26:E30)","v":5332},null,{"$f":"INDEX(O18:Q18,Index!$B$23)","v":5332}]
["male",3,826,977,1147,null,3,3271,3960,4291,null,"Males","15-19",null,{"$f":"SUM(C31:C35)","v":4268},{"$f":"SUM(D31:D35)","v":4935},{"$f":"SUM(E31:E35)","v":4650},null,{"$f":"INDEX(O19:Q19,Index!$B$23)","v":4650}]
["male",4,807,1018,1066,null,4,4078,4978,5357,null,"Males","20-24",null,{"$f":"SUM(C36:C40)","v":3806},{"$f":"SUM(D36:D40)","v":4467},{"$f":"SUM(E36:E40)","v":4532},null,{"$f":"INDEX(O20:Q20,Index!$B$23)","v":4532}]
["male",5,884,954,1143,null,5,4962,5932,6500,null,"Males","25-29",null,{"$f":"SUM(C41:C45)","v":4240},{"$f":"SUM(D41:D45)","v":4618},{"$f":"SUM(E41:E45)","v":5661},null,{"$f":"INDEX(O21:Q21,Index!$B$23)","v":5661}]
["male",6,854,940,1126,null,6,5816,6872,7626,null,"Males","30-34",null,{"$f":"SUM(C46:C50)","v":5011},{"$f":"SUM(D46:D50)","v":4701},{"$f":"SUM(E46:E50)","v":5951},null,{"$f":"INDEX(O22:Q22,Index!$B$23)","v":5951}]
["male",7,912,893,1073,null,7,6728,7765,8699,null,"Males","35-39",null,{"$f":"SUM(C51:C55)","v":5406},{"$f":"SUM(D51:D55)","v":4971},{"$f":"SUM(E51:E55)","v":5935},null,{"$f":"INDEX(O23:Q23,Index!$B$23)","v":5935}]
["male",8,942,870,1185,null,8,7670,8635,9884,null,"Males","40-44",null,{"$f":"SUM(C56:C60)","v":5020},{"$f":"SUM(D56:D60)","v":5908},{"$f":"SUM(E56:E60)","v":5639},null,{"$f":"INDEX(O24:Q24,Index!$B$23)","v":5639}]
["male",9,969,851,1154,null,9,8639,9486,11038,null,"Males","45-49",null,{"$f":"SUM(C61:C65)","v":4605},{"$f":"SUM(D61:D65)","v":5945},{"$f":"SUM(E61:E65)","v":5711},null,{"$f":"INDEX(O25:Q25,Index!$B$23)","v":5711}]
["male",10,972,915,1104,null,10,9611,10401,12142,null,"Males","50-54",null,{"$f":"SUM(C66:C70)","v":5453},{"$f":"SUM(D66:D70)","v":5218},{"$f":"SUM(E66:E70)","v":6360},null,{"$f":"INDEX(O26:Q26,Index!$B$23)","v":6360}]
["male",11,940,1017,1048,null,11,10551,11418,13190,null,"Males","55-59",null,{"$f":"SUM(C71:C75)","v":4494},{"$f":"SUM(D71:D75)","v":4522},{"$f":"SUM(E71:E75)","v":5890},null,{"$f":"INDEX(O27:Q27,Index!$B$23)","v":5890}]
["male",12,941,1011,1094,null,12,11492,12429,14284,null,"Males","60-64",null,{"$f":"SUM(C76:C80)","v":3559},{"$f":"SUM(D76:D80)","v":5012},{"$f":"SUM(E76:E80)","v":4906},null,{"$f":"INDEX(O28:Q28,Index!$B$23)","v":4906}]
["male",13,920,956,1039,null,13,12412,13385,15323,null,"Males","65-69",null,{"$f":"SUM(C81:C85)","v":2963},{"$f":"SUM(D81:D85)","v":4035},{"$f":"SUM(E81:E85)","v":4058},null,{"$f":"INDEX(O29:Q29,Index!$B$23)","v":4058}]
["male",14,914,956,1047,null,14,13326,14341,16370,null,"Males","70-74",null,{"$f":"SUM(C86:C90)","v":2446},{"$f":"SUM(D86:D90)","v":2920},{"$f":"SUM(E86:E90)","v":4411},null,{"$f":"INDEX(O30:Q30,Index!$B$23)","v":4411}]
["male",15,882,1003,1032,null,15,14208,15344,17402,null,"Males","75-79",null,{"$f":"SUM(C91:C95)","v":1813},{"$f":"SUM(D91:D95)","v":2275},{"$f":"SUM(E91:E95)","v":3190},null,{"$f":"INDEX(O31:Q31,Index!$B$23)","v":3190}]
["male",16,937,1026,1043,null,16,15145,16370,18445,null,"Males","80-84",null,{"$f":"SUM(C96:C100)","v":1195},{"$f":"SUM(D96:D100)","v":1513},{"$f":"SUM(E96:E100)","v":2030},null,{"$f":"INDEX(O32:Q32,Index!$B$23)","v":2030}]
["male",17,882,1073,1033,null,17,16027,17443,19478,null,"Males","85-89",null,{"$f":"SUM(C101:C105)","v":561},{"$f":"SUM(D101:D105)","v":778},1178,null,{"$f":"INDEX(O33:Q33,Index!$B$23)","v":1178}]
["male",18,844,991,830,null,18,16871,18434,20308,null,"Males","90+",null,{"$f":"C106","v":184},{"$f":"D106","v":333},492,null,{"$f":"INDEX(O34:Q34,Index!$B$23)","v":492}]
["male",19,723,842,712,null,19,17594,19276,21020]
["male",20,800,760,710,null,20,18394,20036,21730,null,"Males","All Ages",null,{"$f":"C200","v":70595},{"$f":"D200","v":78651},{"$f":"E200","v":88817},null,{"$f":"INDEX(O36:Q36,Index!$B$23)","v":88817}]
["male",21,762,836,856,null,21,19156,20872,22586,null,"Females","0-4",null,{"$f":"SUM(C109:C113)","v":3916},{"$f":"SUM(D109:D113)","v":4575},{"$f":"SUM(E109:E113)","v":5035},null,{"$f":"INDEX(O37:Q37,Index!$B$23)","v":5035}]
["male",22,782,880,989,null,22,19938,21752,23575,null,"Females","5-9",null,{"$f":"SUM(C114:C118)","v":4177},{"$f":"SUM(D114:D118)","v":4277},{"$f":"SUM(E114:E118)","v":5193},null,{"$f":"INDEX(O38:Q38,Index!$B$23)","v":5193}]
["male",23,701,982,1012,null,23,20639,22734,24587,null,"Females","10-14",null,{"$f":"SUM(C119:C123)","v":4187},{"$f":"SUM(D119:D123)","v":4588},{"$f":"SUM(E119:E123)","v":5067},null,{"$f":"INDEX(O39:Q39,Index!$B$23)","v":5067}]
["male",24,761,1009,965,null,24,21400,23743,25552,null,"Females","15-19",null,{"$f":"SUM(C124:C128)","v":3972},{"$f":"SUM(D124:D128)","v":4336},{"$f":"SUM(E124:E128)","v":4270},null,{"$f":"INDEX(O40:Q40,Index!$B$23)","v":4270}]
["male",25,738,917,1081,null,25,22138,24660,26633,null,"Females","20-24",null,{"$f":"SUM(C129:C133)","v":3535},{"$f":"SUM(D129:D133)","v":4166},{"$f":"SUM(E129:E133)","v":4326},null,{"$f":"INDEX(O41:Q41,Index!$B$23)","v":4326}]
["male",26,785,945,1067,null,26,22923,25605,27700,null,"Females","25-29",null,{"$f":"SUM(C134:C138)","v":4394},{"$f":"SUM(D134:D138)","v":5023},{"$f":"SUM(E134:E138)","v":5544},null,{"$f":"INDEX(O42:Q42,Index!$B$23)","v":5544}]
["male",27,880,902,1171,null,27,23803,26507,28871,null,"Females","30-34",null,{"$f":"SUM(C139:C143)","v":5186},{"$f":"SUM(D139:D143)","v":4881},{"$f":"SUM(E139:E143)","v":6280},null,{"$f":"INDEX(O43:Q43,Index!$B$23)","v":6280}]
["male",28,881,894,1179,null,28,24684,27401,30050,null,"Females","35-39",null,{"$f":"SUM(C144:C148)","v":5555},{"$f":"SUM(D144:D148)","v":5241},{"$f":"SUM(E144:E148)","v":6076},null,{"$f":"INDEX(O44:Q44,Index!$B$23)","v":6076}]
["male",29,956,960,1163,null,29,25640,28361,31213,null,"Females","40-44",null,{"$f":"SUM(C149:C153)","v":4937},{"$f":"SUM(D149:D153)","v":6002},{"$f":"SUM(E149:E153)","v":5689},null,{"$f":"INDEX(O45:Q45,Index!$B$23)","v":5689}]
["male",30,973,1046,1207,null,30,26613,29407,32420,null,"Females","45-49",null,{"$f":"SUM(C154:C158)","v":4842},{"$f":"SUM(D154:D158)","v":5907},{"$f":"SUM(E154:E158)","v":5954},null,{"$f":"INDEX(O46:Q46,Index!$B$23)","v":5954}]
["male",31,947,1004,1165,null,31,27560,30411,33585,null,"Females","50-54",null,{"$f":"SUM(C159:C163)","v":5533},{"$f":"SUM(D159:D163)","v":5082},{"$f":"SUM(E159:E163)","v":6217},null,{"$f":"INDEX(O47:Q47,Index!$B$23)","v":6217}]
["male",32,955,967,1168,null,32,28515,31378,34753,null,"Females","55-59",null,{"$f":"SUM(C164:C168)","v":4320},{"$f":"SUM(D164:D168)","v":4724},{"$f":"SUM(E164:E168)","v":5987},null,{"$f":"INDEX(O48:Q48,Index!$B$23)","v":5987}]
["male",33,1084,828,1264,null,33,{"$f":"H48+C49","v":29599},{"$f":"I48+D49","v":32206},{"$f":"J48+E49","v":36017},null,"Females","60-64",null,{"$f":"SUM(C169:C173)","v":3664},{"$f":"SUM(D169:D173)","v":5189},{"$f":"SUM(E169:E173)","v":5013},null,{"$f":"INDEX(O49:Q49,Index!$B$23)","v":5013}]
["male",34,1052,856,1147,null,34,30651,33062,37164,null,"Females","65-69",null,{"$f":"SUM(C174:C178)","v":3113},{"$f":"SUM(D174:D178)","v":3962},{"$f":"SUM(E174:E178)","v":4477},null,{"$f":"INDEX(O50:Q50,Index!$B$23)","v":4477}]
["male",35,1142,910,1216,null,35,31793,33972,38380,null,"Females","70-74",null,{"$f":"SUM(C179:C183)","v":2838},{"$f":"SUM(D179:D183)","v":3352},{"$f":"SUM(E179:E183)","v":4888},null,{"$f":"INDEX(O51:Q51,Index!$B$23)","v":4888}]
["male",36,1097,973,1211,null,36,32890,34945,39591,null,"Females","75-79",null,{"$f":"SUM(C184:C188)","v":2630},{"$f":"SUM(D184:D188)","v":2718},{"$f":"SUM(E184:E188)","v":3472},null,{"$f":"INDEX(O52:Q52,Index!$B$23)","v":3472}]
["male",37,1101,982,1148,null,37,33991,35927,40739,null,"Females","80-84",null,{"$f":"SUM(C189:C193)","v":1885},{"$f":"SUM(D189:D193)","v":2225},{"$f":"SUM(E189:E193)","v":2599},null,{"$f":"INDEX(O53:Q53,Index!$B$23)","v":2599}]
["male",38,1020,1035,1192,null,38,35011,36962,41931,null,"Females","85-89",null,{"$f":"SUM(C194:C198)","v":1213},{"$f":"SUM(D194:D198)","v":1507},1672,null,{"$f":"INDEX(O54:Q54,Index!$B$23)","v":1672}]
["male",39,1046,1071,1168,null,39,36057,38033,43099,null,"Females","90+",null,{"$f":"C199","v":698},{"$f":"D199","v":896},1058,null,{"$f":"INDEX(O55:Q55,Index!$B$23)","v":1058}]
["male",40,1029,1154,1213,null,40,37086,39187,44312]
["male",41,1046,1196,1185,null,41,38132,40383,45497]
["male",42,1021,1129,1134,null,42,39153,41512,46631]
["male",43,976,1198,1023,null,43,40129,42710,47654]
["male",44,948,1231,1084,null,44,41077,43941,48738]
["male",45,938,1287,1075,null,45,42015,45228,49813]
["male",46,896,1246,1106,null,46,42911,46474,50919]
["male",47,908,1188,1112,null,47,43819,47662,52031]
["male",48,930,1080,1210,null,48,44749,48742,53241]
["male",49,933,1144,1208,null,49,45682,49886,54449]
["male",50,972,1093,1262,null,50,46654,50979,55711]
["male",51,995,1099,1297,null,51,47649,52078,57008]
["male",52,1003,1086,1269,null,52,48652,53164,58277]
["male",53,1173,974,1301,null,53,49825,54138,59578]
["male",54,1310,966,1231,null,54,51135,55104,60809]
["male",55,960,964,1272,null,55,52095,56068,62081]
["male",56,935,898,1205,null,56,53030,56966,63286]
["male",57,986,879,1185,null,57,54016,57845,64471]
["male",58,820,920,1132,null,58,54836,58765,65603]
["male",59,793,861,1096,null,59,55629,59626,66699]
["male",60,660,904,1029,null,60,56289,60530,67728]
["male",61,753,919,1084,null,61,57042,61449,68812]
["male",62,743,938,1005,null,62,57785,62387,69817]
["male",63,700,1108,929,null,63,58485,63495,70746]
["male",64,703,1143,859,null,64,59188,64638,71605]
["male",65,679,884,870,null,65,{"$f":"H80+C81","v":59867},{"$f":"I80+D81","v":65522},{"$f":"J80+E81","v":72475}]
["male",66,581,861,811,null,66,60448,66383,73286]
["male",67,587,864,783,null,67,61035,67247,74069]
["male",68,525,729,825,null,68,61560,67976,74894]
["male",69,591,697,769,null,69,62151,68673,75663]
["male",70,564,554,792,null,70,62715,69227,76455]
["male",71,511,610,822,null,71,63226,69837,77277]
["male",72,485,612,805,null,72,63711,70449,78082]
["male",73,441,573,1000,null,73,64152,71022,79082]
["male",74,445,571,992,null,74,64597,71593,80074]
["male",75,409,533,725,null,75,65006,72126,80799]
["male",76,354,488,737,null,76,65360,72614,81536]
["male",77,368,427,658,null,77,65728,73041,82194]
["male",78,354,377,557,null,78,66082,73418,82751]
["male",79,328,450,513,null,79,66410,73868,83264]
["male",80,337,365,429,null,80,66747,74233,83693]
["male",81,319,350,456,null,81,67066,74583,84149]
["male",82,216,296,415,null,82,67282,74879,84564]
["male",83,151,253,380,null,83,67433,75132,84944]
["male",84,172,249,350,null,84,67605,75381,85294]
["male",85,156,203,338,null,85,67761,75584,85632]
["male",86,125,164,273,null,86,67886,75748,85905]
["male",87,109,154,213,null,87,67995,75902,86118]
["male",88,101,147,172,null,88,68096,76049,86290]
["male",89,70,110,182,null,89,68166,76159,86472]
["male","90+",184,333,492,null,"90+",68350,76492,86964]
[null,"All Males",{"$f":"SUM(C16:C106)","v":68350},76492,{"$f":"SUM(E16:E106)","v":86964},null,"Females"]
["Sex","Age"]
["female",0,741,923,920,null,0,{"$f":"C109","v":741},{"$f":"D109","v":923},{"$f":"E109","v":920}]
["female",1,783,927,940,null,1,{"$f":"H109+C110","v":1524},{"$f":"I109+D110","v":1850},{"$f":"J109+E110","v":1860}]
["female",2,751,906,1081,null,2,2275,2756,2941]
["female",3,786,970,1046,null,3,3061,3726,3987]
["female",4,855,849,1048,null,4,3916,4575,5035]
["female",5,809,921,1030,null,5,4725,5496,6065]
["female",6,844,769,1038,null,6,5569,6265,7103]
["female",7,895,929,1002,null,7,6464,7194,8105]
["female",8,812,824,1074,null,8,7276,8018,9179]
["female",9,817,834,1049,null,9,8093,8852,10228]
["female",10,855,897,1011,null,10,8948,9749,11239]
["female",11,896,893,1042,null,11,9844,10642,12281]
["female",12,847,882,1019,null,12,10691,11524,13300]
["female",13,815,942,1052,null,13,11506,12466,14352]
["female",14,774,974,943,null,14,12280,13440,15295]
["female",15,794,883,951,null,15,13074,14323,16246]
["female",16,864,945,901,null,16,13938,15268,17147]
["female",17,849,973,964,null,17,14787,16241,18111]
["female",18,804,819,803,null,18,15591,17060,18914]
["female",19,661,716,651,null,19,16252,17776,19565]
["female",20,674,677,644,null,20,16926,18453,20209]
["female",21,691,817,738,null,21,17617,19270,20947]
["female",22,720,852,864,null,22,18337,20122,21811]
["female",23,749,895,1021,null,23,19086,21017,22832]
["female",24,701,925,1059,null,24,19787,21942,23891]
["female",25,758,983,1041,null,25,20545,22925,24932]
["female",26,838,1032,1088,null,26,21383,23957,26020]
["female",27,868,953,1138,null,27,22251,24910,27158]
["female",28,916,1081,1144,null,28,23167,25991,28302]
["female",29,1014,974,1133,null,29,24181,26965,29435]
["female",30,982,1014,1208,null,30,25163,27979,30643]
["female",31,1012,995,1297,null,31,26175,28974,31940]
["female",32,1061,949,1299,null,32,27236,29923,33239]
["female",33,1079,948,1286,null,33,{"$f":"H141+C142","v":28315},{"$f":"I141+D142","v":30871},{"$f":"J141+E142","v":34525}]
["female",34,1052,975,1190,null,34,29367,31846,35715]
["female",35,1200,949,1270,null,35,30567,32795,36985]
["female",36,1142,995,1262,null,36,31709,33790,38247]
["female",37,1057,1064,1193,null,37,32766,34854,39440]
["female",38,1087,1096,1199,null,38,33853,35950,40639]
["female",39,1069,1137,1152,null,39,34922,37087,41791]
["female",40,1013,1175,1271,null,40,35935,38262,43062]
["female",41,969,1162,1194,null,41,36904,39424,44256]
["female",42,997,1238,1088,null,42,37901,40662,45344]
["female",43,1013,1200,1055,null,43,38914,41862,46399]
["female",44,945,1227,1081,null,44,39859,43089,47480]
["female",45,985,1258,1146,null,45,40844,44347,48626]
["female",46,988,1221,1119,null,46,41832,45568,49745]
["female",47,940,1182,1186,null,47,42772,46750,50931]
["female",48,934,1175,1264,null,48,43706,47925,52195]
["female",49,995,1071,1239,null,49,44701,48996,53434]
["female",50,941,1069,1257,null,50,45642,50065,54691]
["female",51,996,1041,1266,null,51,46638,51106,55957]
["female",52,1110,1011,1285,null,52,47748,52117,57242]
["female",53,1158,1032,1177,null,53,48906,53149,58419]
["female",54,1328,929,1232,null,54,50234,54078,59651]
["female",55,939,976,1287,null,55,51173,55054,60938]
["female",56,923,966,1251,null,56,52096,56020,62189]
["female",57,881,942,1190,null,57,52977,56962,63379]
["female",58,844,883,1187,null,58,53821,57845,64566]
["female",59,733,957,1072,null,59,54554,58802,65638]
["female",60,735,870,1093,null,60,55289,59672,66731]
["female",61,792,974,985,null,61,56081,60646,67716]
["female",62,733,1030,1046,null,62,56814,61676,68762]
["female",63,722,1116,976,null,63,57536,62792,69738]
["female",64,682,1199,913,null,64,58218,63991,70651]
["female",65,629,827,917,null,65,{"$f":"H173+C174","v":58847},{"$f":"I173+D174","v":64818},{"$f":"J173+E174","v":71568}]
["female",66,660,867,937,null,66,59507,65685,72505]
["female",67,593,836,890,null,67,60100,66521,73395]
["female",68,625,774,859,null,68,60725,67295,74254]
["female",69,606,658,874,null,69,61331,67953,75128]
["female",70,627,671,835,null,70,61958,68624,75963]
["female",71,586,705,920,null,71,62544,69329,76883]
["female",72,560,692,978,null,72,63104,70021,77861]
["female",73,534,651,1044,null,73,63638,70672,78905]
["female",74,531,633,1111,null,74,64169,71305,80016]
["female",75,540,569,753,null,75,64709,71874,80769]
["female",76,525,567,765,null,76,65234,72441,81534]
["female",77,487,530,740,null,77,65721,72971,82274]
["female",78,529,549,666,null,78,66250,73520,82940]
["female",79,549,503,548,null,79,66799,74023,83488]
["female",80,541,533,554,null,80,67340,74556,84042]
["female",81,497,479,570,null,81,67837,75035,84612]
["female",82,309,434,528,null,82,68146,75469,85140]
["female",83,245,410,485,null,83,68391,75879,85625]
["female",84,293,369,462,null,84,68684,76248,86087]
["female",85,268,379,405,null,85,68952,76627,86492]
["female",86,256,288,363,null,86,69208,76915,86855]
["female",87,263,298,341,null,87,69471,77213,87196]
["female",88,230,284,297,null,88,69701,77497,87493]
["female",89,196,258,266,null,89,69897,77755,87759]
["female","90+",698,896,1058,null,"90+",70595,78651,88817]
[null,"All Females",{"$f":"SUM(C109:C199)","v":70595},{"$f":"SUM(D109:D199)","v":78651},{"$f":"SUM(E109:E199)","v":88817}]

{"sheet":"MED","index":15,"n_rows":200,"n_cols":19,"rows_kept":200,"cut":false,"hidden":true,"merged":[[0,10,21,10]]}
["Mid Year Population Estimates",null,null,null,null,null,null,null,null,null,"Insert column here before extending the table"]
["2001, 2011, and 2021 Census: The Office forNnational Statistics (ONS)",null,null,null,null,null,"Selected Ages:",null,null,null,null,null,null,null,"Start year","End Year","Number change","% Change"]
[null,null,null,null,null,null,null,{"$f":"H13","v":2001},2011,{"$f":"J13","v":2021},null,null,null,null,{"$f":"INDEX($H3:$I3,Index!$B$16)","v":2011},{"$f":"INDEX($H3:$J3,Index!$B$19)","v":2011}]
[null,null,null,null,null,null,"Males",{"$f":"OFFSET(H16,Index!$B$7-1,0)-IF(Index!$B$4-2=1,0,OFFSET(H16,Index!$B$4-2,0))","v":122900},{"$f":"OFFSET(I16,Index!$B$7-1,0)-IF(Index!$B$4-2=1,0,OFFSET(I16,Index!$B$4-2,0))","v":130825},{"$f":"OFFSET(J16,Index!$B$7-1,0)-IF(Index!$B$4-2=1,0,OFFSET(J16,Index!$B$4-2,0))","v":137125},null,null,null,null,{"$f":"INDEX($H4:$I4,Index!$B$16)","v":130825},{"$f":"INDEX($H4:$J4,Index!$B$19)","v":130825},{"$f":"P4-O4","v":0},{"$f":"Q4/O4","v":0}]
[null,null,null,null,null,null,"Females",{"$f":"OFFSET(H109,Index!$B$7-1,0)-IF(Index!$B$4-2=1,0,OFFSET(H109,Index!$B$4-2,0))","v":126588},{"$f":"OFFSET(I109,Index!$B$7-1,0)-IF(Index!$B$4-2=1,0,OFFSET(I109,Index!$B$4-2,0))","v":133100},{"$f":"OFFSET(J109,Index!$B$7-1,0)-IF(Index!$B$4-2=1,0,OFFSET(J109,Index!$B$4-2,0))","v":142647},null,null,null,null,{"$f":"INDEX($H5:$I5,Index!$B$16)","v":133100},{"$f":"INDEX($H5:$J5,Index!$B$19)","v":133100},{"$f":"P5-O5","v":0},{"$f":"Q5/O5","v":0}]
[null,null,null,null,null,null,"Total",{"$f":"SUM(H4:H5)","v":249488},263925,{"$f":"SUM(J4:J5)","v":279772},null,null,null,null,{"$f":"INDEX($H6:$I6,Index!$B$16)","v":263925},{"$f":"INDEX($H6:$J6,Index!$B$19)","v":263925},{"$f":"P6-O6","v":0},{"$f":"Q6/O6","v":0}]
[]
[null,null,null,null,null,null,"Males",{"$f":"IF(H4<0,\"0\",H4)","v":122900},130825,{"$f":"IF(J4<0,\"0\",J4)","v":137125}]
[null,null,null,null,null,null,"Females",126588,133100,142647]
[null,null,null,null,null,null,"Total",{"$f":"SUM(H8:H9)","v":249488},263925,{"$f":"SUM(J8:J9)","v":279772}]
[]
["Medway Unitary Authority",null,null,null,null,null,null,null,null,null,null,"Population Pyramid"]
[null,null,null,null,null,null,null,{"$f":"C14","v":2001},{"$f":"D14","v":2011},{"$f":"E14","v":2021}]
["Sex","Age",2001,2011,2021,null,null,null,null,null,null,null,null,null,2001,2011,2021,null,{"$f":"INDEX(O14:Q14,Index!$B$23)","v":2021}]
[null,"All persons",{"$f":"SUM(C107,C200)","v":249488},263925,{"$f":"SUM(E107,E200)","v":279772},null,"Males",null,null,null,null,"Males","All Ages",null,{"$f":"C107","v":122900},{"$f":"D107","v":130825},{"$f":"E107","v":137125},null,{"$f":"INDEX(O15:Q15,Index!$B$23)","v":137125}]
["male",0,1577,1737,1680,null,0,{"$f":"C16","v":1577},{"$f":"D16","v":1737},{"$f":"E16","v":1680},null,"Males","0-4",null,{"$f":"SUM(C16:C20)","v":8499},{"$f":"SUM(D16:D20)","v":8776},{"$f":"SUM(E16:E20)","v":8852},null,{"$f":"INDEX(O16:Q16,Index!$B$23)","v":8852}]
["male",1,1737,1825,1706,null,1,{"$f":"H16+C17","v":3314},{"$f":"I16+D17","v":3562},{"$f":"J16+E17","v":3386},null,"Males","5-9",null,{"$f":"SUM(C21:C25)","v":9144},{"$f":"SUM(D21:D25)","v":8085},{"$f":"SUM(E21:E25)","v":9368},null,{"$f":"INDEX(O17:Q17,Index!$B$23)","v":9368}]
["male",2,1676,1766,1780,null,2,4990,5328,5166,null,"Males","10-14",null,{"$f":"SUM(C26:C30)","v":9486},{"$f":"SUM(D26:D30)","v":8616},{"$f":"SUM(E26:E30)","v":9204},null,{"$f":"INDEX(O18:Q18,Index!$B$23)","v":9204}]
["male",3,1682,1734,1876,null,3,6672,7062,7042,null,"Males","15-19",null,{"$f":"SUM(C31:C35)","v":8541},{"$f":"SUM(D31:D35)","v":9777},{"$f":"SUM(E31:E35)","v":8298},null,{"$f":"INDEX(O19:Q19,Index!$B$23)","v":8298}]
["male",4,1827,1714,1810,null,4,8499,8776,8852,null,"Males","20-24",null,{"$f":"SUM(C36:C40)","v":7502},{"$f":"SUM(D36:D40)","v":9746},{"$f":"SUM(E36:E40)","v":8150},null,{"$f":"INDEX(O20:Q20,Index!$B$23)","v":8150}]
["male",5,1695,1671,1883,null,5,10194,10447,10735,null,"Males","25-29",null,{"$f":"SUM(C41:C45)","v":8134},{"$f":"SUM(D41:D45)","v":8849},{"$f":"SUM(E41:E45)","v":8806},null,{"$f":"INDEX(O21:Q21,Index!$B$23)","v":8806}]
["male",6,1731,1601,1799,null,6,11925,12048,12534,null,"Males","30-34",null,{"$f":"SUM(C46:C50)","v":9736},{"$f":"SUM(D46:D50)","v":8625},{"$f":"SUM(E46:E50)","v":9652},null,{"$f":"INDEX(O22:Q22,Index!$B$23)","v":9652}]
["male",7,1967,1625,1858,null,7,13892,13673,14392,null,"Males","35-39",null,{"$f":"SUM(C51:C55)","v":10474},{"$f":"SUM(D51:D55)","v":8625},{"$f":"SUM(E51:E55)","v":9470},null,{"$f":"INDEX(O23:Q23,Index!$B$23)","v":9470}]
["male",8,1845,1563,1865,null,8,15737,15236,16257,null,"Males","40-44",null,{"$f":"SUM(C56:C60)","v":8975},{"$f":"SUM(D56:D60)","v":9845},{"$f":"SUM(E56:E60)","v":8967},null,{"$f":"INDEX(O24:Q24,Index!$B$23)","v":8967}]
["male",9,1906,1625,1963,null,9,17643,16861,18220,null,"Males","45-49",null,{"$f":"SUM(C61:C65)","v":8076},{"$f":"SUM(D61:D65)","v":9768},{"$f":"SUM(E61:E65)","v":8768},null,{"$f":"INDEX(O25:Q25,Index!$B$23)","v":8768}]
["male",10,1942,1666,1881,null,10,19585,18527,20101,null,"Males","50-54",null,{"$f":"SUM(C66:C70)","v":8609},{"$f":"SUM(D66:D70)","v":8546},{"$f":"SUM(E66:E70)","v":9565},null,{"$f":"INDEX(O26:Q26,Index!$B$23)","v":9565}]
["male",11,1925,1712,1858,null,11,21510,20239,21959,null,"Males","55-59",null,{"$f":"SUM(C71:C75)","v":6881},{"$f":"SUM(D71:D75)","v":7370},{"$f":"SUM(E71:E75)","v":9267},null,{"$f":"INDEX(O27:Q27,Index!$B$23)","v":9267}]
["male",12,1871,1690,1876,null,12,23381,21929,23835,null,"Males","60-64",null,{"$f":"SUM(C76:C80)","v":5575},{"$f":"SUM(D76:D80)","v":7609},{"$f":"SUM(E76:E80)","v":7714},null,{"$f":"INDEX(O28:Q28,Index!$B$23)","v":7714}]
["male",13,1899,1769,1818,null,13,25280,23698,25653,null,"Males","65-69",null,{"$f":"SUM(C81:C85)","v":4623},{"$f":"SUM(D81:D85)","v":5717},{"$f":"SUM(E81:E85)","v":6311},null,{"$f":"INDEX(O29:Q29,Index!$B$23)","v":6311}]
["male",14,1849,1779,1771,null,14,27129,25477,27424,null,"Males","70-74",null,{"$f":"SUM(C86:C90)","v":3648},{"$f":"SUM(D86:D90)","v":4353},{"$f":"SUM(E86:E90)","v":6156},null,{"$f":"INDEX(O30:Q30,Index!$B$23)","v":6156}]
["male",15,1761,1781,1690,null,15,28890,27258,29114,null,"Males","75-79",null,{"$f":"SUM(C91:C95)","v":2560},{"$f":"SUM(D91:D95)","v":3163},{"$f":"SUM(E91:E95)","v":4135},null,{"$f":"INDEX(O31:Q31,Index!$B$23)","v":4135}]
["male",16,1855,1817,1721,null,16,30745,29075,30835,null,"Males","80-84",null,{"$f":"SUM(C96:C100)","v":1600},{"$f":"SUM(D96:D100)","v":2019},{"$f":"SUM(E96:E100)","v":2633},null,{"$f":"INDEX(O32:Q32,Index!$B$23)","v":2633}]
["male",17,1720,2001,1724,null,17,32465,31076,32559,null,"Males","85-89",null,{"$f":"SUM(C101:C105)","v":600},{"$f":"SUM(D101:D105)","v":951},1297,null,{"$f":"INDEX(O33:Q33,Index!$B$23)","v":1297}]
["male",18,1707,2002,1622,null,18,34172,33078,34181,null,"Males","90+",null,{"$f":"C106","v":237},{"$f":"D106","v":385},512,null,{"$f":"INDEX(O34:Q34,Index!$B$23)","v":512}]
["male",19,1498,2176,1541,null,19,35670,35254,35722]
["male",20,1563,2192,1536,null,20,37233,37446,37258,null,"Males","All Ages",null,{"$f":"C200","v":126588},{"$f":"D200","v":133100},{"$f":"E200","v":142647},null,{"$f":"INDEX(O36:Q36,Index!$B$23)","v":142647}]
["male",21,1496,1973,1616,null,21,38729,39419,38874,null,"Females","0-4",null,{"$f":"SUM(C109:C113)","v":7703},{"$f":"SUM(D109:D113)","v":8448},{"$f":"SUM(E109:E113)","v":8456},null,{"$f":"INDEX(O37:Q37,Index!$B$23)","v":8456}]
["male",22,1563,1858,1684,null,22,40292,41277,40558,null,"Females","5-9",null,{"$f":"SUM(C114:C118)","v":8770},{"$f":"SUM(D114:D118)","v":7882},{"$f":"SUM(E114:E118)","v":8968},null,{"$f":"INDEX(O38:Q38,Index!$B$23)","v":8968}]
["male",23,1415,1891,1646,null,23,41707,43168,42204,null,"Females","10-14",null,{"$f":"SUM(C119:C123)","v":8948},{"$f":"SUM(D119:D123)","v":8149},{"$f":"SUM(E119:E123)","v":8816},null,{"$f":"INDEX(O39:Q39,Index!$B$23)","v":8816}]
["male",24,1465,1832,1668,null,24,43172,45000,43872,null,"Females","15-19",null,{"$f":"SUM(C124:C128)","v":8229},{"$f":"SUM(D124:D128)","v":9254},{"$f":"SUM(E124:E128)","v":7929},null,{"$f":"INDEX(O40:Q40,Index!$B$23)","v":7929}]
["male",25,1514,1905,1662,null,25,44686,46905,45534,null,"Females","20-24",null,{"$f":"SUM(C129:C133)","v":7493},{"$f":"SUM(D129:D133)","v":9295},{"$f":"SUM(E129:E133)","v":7785},null,{"$f":"INDEX(O41:Q41,Index!$B$23)","v":7785}]
["male",26,1529,1827,1698,null,26,46215,48732,47232,null,"Females","25-29",null,{"$f":"SUM(C134:C138)","v":8391},{"$f":"SUM(D134:D138)","v":8732},{"$f":"SUM(E134:E138)","v":9535},null,{"$f":"INDEX(O42:Q42,Index!$B$23)","v":9535}]
["male",27,1460,1776,1825,null,27,47675,50508,49057,null,"Females","30-34",null,{"$f":"SUM(C139:C143)","v":10081},{"$f":"SUM(D139:D143)","v":8621},{"$f":"SUM(E139:E143)","v":10717},null,{"$f":"INDEX(O43:Q43,Index!$B$23)","v":10717}]
["male",28,1814,1611,1752,null,28,49489,52119,50809,null,"Females","35-39",null,{"$f":"SUM(C144:C148)","v":10335},{"$f":"SUM(D144:D148)","v":8688},{"$f":"SUM(E144:E148)","v":10008},null,{"$f":"INDEX(O44:Q44,Index!$B$23)","v":10008}]
["male",29,1817,1730,1869,null,29,51306,53849,52678,null,"Females","40-44",null,{"$f":"SUM(C149:C153)","v":9094},{"$f":"SUM(D149:D153)","v":9917},{"$f":"SUM(E149:E153)","v":9497},null,{"$f":"INDEX(O45:Q45,Index!$B$23)","v":9497}]
["male",30,1861,1789,1882,null,30,53167,55638,54560,null,"Females","45-49",null,{"$f":"SUM(C154:C158)","v":7981},{"$f":"SUM(D154:D158)","v":9931},{"$f":"SUM(E154:E158)","v":8886},null,{"$f":"INDEX(O46:Q46,Index!$B$23)","v":8886}]
["male",31,1913,1809,1954,null,31,55080,57447,56514,null,"Females","50-54",null,{"$f":"SUM(C159:C163)","v":8869},{"$f":"SUM(D159:D163)","v":8659},{"$f":"SUM(E159:E163)","v":9583},null,{"$f":"INDEX(O47:Q47,Index!$B$23)","v":9583}]
["male",32,1972,1761,1953,null,32,57052,59208,58467,null,"Females","55-59",null,{"$f":"SUM(C164:C168)","v":6832},{"$f":"SUM(D164:D168)","v":7262},{"$f":"SUM(E164:E168)","v":9507},null,{"$f":"INDEX(O48:Q48,Index!$B$23)","v":9507}]
["male",33,1988,1599,1944,null,33,{"$f":"H48+C49","v":59040},{"$f":"I48+D49","v":60807},{"$f":"J48+E49","v":60411},null,"Females","60-64",null,{"$f":"SUM(C169:C173)","v":5596},{"$f":"SUM(D169:D173)","v":7845},{"$f":"SUM(E169:E173)","v":7952},null,{"$f":"INDEX(O49:Q49,Index!$B$23)","v":7952}]
["male",34,2002,1667,1919,null,34,61042,62474,62330,null,"Females","65-69",null,{"$f":"SUM(C174:C178)","v":4813},{"$f":"SUM(D174:D178)","v":5880},{"$f":"SUM(E174:E178)","v":6616},null,{"$f":"INDEX(O50:Q50,Index!$B$23)","v":6616}]
["male",35,2101,1599,2035,null,35,63143,64073,64365,null,"Females","70-74",null,{"$f":"SUM(C179:C183)","v":4302},{"$f":"SUM(D179:D183)","v":4702},{"$f":"SUM(E179:E183)","v":6852},null,{"$f":"INDEX(O51:Q51,Index!$B$23)","v":6852}]
["male",36,2111,1685,1912,null,36,65254,65758,66277,null,"Females","75-79",null,{"$f":"SUM(C184:C188)","v":3801},{"$f":"SUM(D184:D188)","v":3834},{"$f":"SUM(E184:E188)","v":4797},null,{"$f":"INDEX(O52:Q52,Index!$B$23)","v":4797}]
["male",37,2140,1647,1817,null,37,67394,67405,68094,null,"Females","80-84",null,{"$f":"SUM(C189:C193)","v":2858},{"$f":"SUM(D189:D193)","v":2930},{"$f":"SUM(E189:E193)","v":3390},null,{"$f":"INDEX(O53:Q53,Index!$B$23)","v":3390}]
["male",38,2104,1825,1803,null,38,69498,69230,69897,null,"Females","85-89",null,{"$f":"SUM(C194:C198)","v":1656},{"$f":"SUM(D194:D198)","v":1964},2089,null,{"$f":"INDEX(O54:Q54,Index!$B$23)","v":2089}]
["male",39,2018,1869,1903,null,39,71516,71099,71800,null,"Females","90+",null,{"$f":"C199","v":836},{"$f":"D199","v":1107},1264,null,{"$f":"INDEX(O55:Q55,Index!$B$23)","v":1264}]
["male",40,1890,1975,1939,null,40,73406,73074,73739]
["male",41,1770,1879,1878,null,41,75176,74953,75617]
["male",42,1787,1975,1823,null,42,76963,76928,77440]
["male",43,1814,1966,1642,null,43,78777,78894,79082]
["male",44,1714,2050,1685,null,44,80491,80944,80767]
["male",45,1639,2006,1671,null,45,82130,82950,82438]
["male",46,1625,1982,1779,null,46,83755,84932,84217]
["male",47,1623,1983,1663,null,47,85378,86915,85880]
["male",48,1628,1973,1822,null,48,87006,88888,87702]
["male",49,1561,1824,1833,null,49,88567,90712,89535]
["male",50,1488,1862,1904,null,50,90055,92574,91439]
["male",51,1597,1670,1877,null,51,91652,94244,93316]
["male",52,1655,1691,1954,null,52,93307,95935,95270]
["male",53,1859,1716,1876,null,53,95166,97651,97146]
["male",54,2010,1607,1954,null,54,97176,99258,99100]
["male",55,1439,1481,1985,null,55,98615,100739,101085]
["male",56,1558,1510,1921,null,56,100173,102249,103006]
["male",57,1386,1477,1830,null,57,101559,103726,104836]
["male",58,1306,1505,1830,null,58,102865,105231,106666]
["male",59,1192,1397,1701,null,59,104057,106628,108367]
["male",60,1096,1327,1702,null,60,105153,107955,110069]
["male",61,1177,1496,1539,null,61,106330,109451,111608]
["male",62,1183,1522,1523,null,62,107513,110973,113131]
["male",63,1084,1625,1514,null,63,108597,112598,114645]
["male",64,1035,1639,1436,null,64,109632,114237,116081]
["male",65,983,1242,1288,null,65,{"$f":"H80+C81","v":110615},{"$f":"I80+D81","v":115479},{"$f":"J80+E81","v":117369}]
["male",66,944,1302,1304,null,66,111559,116781,118673]
["male",67,892,1137,1281,null,67,112451,117918,119954]
["male",68,932,1051,1285,null,68,113383,118969,121239]
["male",69,872,985,1153,null,69,114255,119954,122392]
["male",70,803,912,1088,null,70,115058,120866,123480]
["male",71,812,889,1221,null,71,115870,121755,124701]
["male",72,690,920,1225,null,72,116560,122675,125926]
["male",73,655,834,1309,null,73,117215,123509,127235]
["male",74,688,798,1313,null,74,117903,124307,128548]
["male",75,577,717,935,null,75,118480,125024,129483]
["male",76,554,660,954,null,76,119034,125684,130437]
["male",77,512,619,816,null,77,119546,126303,131253]
["male",78,430,600,764,null,78,119976,126903,132017]
["male",79,487,567,666,null,79,120463,127470,132683]
["male",80,476,510,602,null,80,120939,127980,133285]
["male",81,446,457,554,null,81,121385,128437,133839]
["male",82,264,366,552,null,82,121649,128803,134391]
["male",83,193,374,496,null,83,121842,129177,134887]
["male",84,221,312,429,null,84,122063,129489,135316]
["male",85,153,260,356,null,85,122216,129749,135672]
["male",86,150,229,268,null,86,122366,129978,135940]
["male",87,122,183,258,null,87,122488,130161,136198]
["male",88,93,138,221,null,88,122581,130299,136419]
["male",89,82,141,194,null,89,122663,130440,136613]
["male","90+",237,385,512,null,"90+",122900,130825,137125]
[null,"All Males",{"$f":"SUM(C16:C106)","v":122900},130825,{"$f":"SUM(E16:E106)","v":137125},null,"Females"]
["Sex","Age"]
["female",0,1429,1717,1594,null,0,{"$f":"C109","v":1429},{"$f":"D109","v":1717},{"$f":"E109","v":1594}]
["female",1,1465,1735,1639,null,1,{"$f":"H109+C110","v":2894},{"$f":"I109+D110","v":3452},{"$f":"J109+E110","v":3233}]
["female",2,1600,1665,1723,null,2,4494,5117,4956]
["female",3,1577,1663,1690,null,3,6071,6780,6646]
["female",4,1632,1668,1810,null,4,7703,8448,8456]
["female",5,1650,1661,1870,null,5,9353,10109,10326]
["female",6,1782,1559,1732,null,6,11135,11668,12058]
["female",7,1745,1615,1704,null,7,12880,13283,13762]
["female",8,1726,1544,1819,null,8,14606,14827,15581]
["female",9,1867,1503,1843,null,9,16473,16330,17424]
["female",10,1867,1570,1854,null,10,18340,17900,19278]
["female",11,1769,1553,1756,null,11,20109,19453,21034]
["female",12,1842,1657,1761,null,12,21951,21110,22795]
["female",13,1785,1686,1746,null,13,23736,22796,24541]
["female",14,1685,1683,1699,null,14,25421,24479,26240]
["female",15,1709,1677,1662,null,15,27130,26156,27902]
["female",16,1767,1833,1665,null,16,28897,27989,29567]
["female",17,1712,1812,1635,null,17,30609,29801,31202]
["female",18,1621,1845,1547,null,18,32230,31646,32749]
["female",19,1420,2087,1420,null,19,33650,33733,34169]
["female",20,1419,1958,1339,null,20,35069,35691,35508]
["female",21,1510,1805,1491,null,21,36579,37496,36999]
["female",22,1512,1874,1567,null,22,38091,39370,38566]
["female",23,1493,1841,1693,null,23,39584,41211,40259]
["female",24,1559,1817,1695,null,24,41143,43028,41954]
["female",25,1469,1754,1712,null,25,42612,44782,43666]
["female",26,1540,1701,1890,null,26,44152,46483,45556]
["female",27,1650,1758,1884,null,27,45802,48241,47440]
["female",28,1785,1733,1999,null,28,47587,49974,49439]
["female",29,1947,1786,2050,null,29,49534,51760,51489]
["female",30,1960,1828,2201,null,30,51494,53588,53690]
["female",31,1939,1830,2144,null,31,53433,55418,55834]
["female",32,2031,1725,2193,null,32,55464,57143,58027]
["female",33,2062,1561,2092,null,33,{"$f":"H141+C142","v":57526},{"$f":"I141+D142","v":58704},{"$f":"J141+E142","v":60119}]
["female",34,2089,1677,2087,null,34,59615,60381,62206]
["female",35,2060,1656,2072,null,35,61675,62037,64278]
["female",36,2096,1683,1984,null,36,63771,63720,66262]
["female",37,2068,1733,1967,null,37,65839,65453,68229]
["female",38,2080,1700,1973,null,38,67919,67153,70202]
["female",39,2031,1916,2012,null,39,69950,69069,72214]
["female",40,1926,1914,1955,null,40,71876,70983,74169]
["female",41,1939,1997,2053,null,41,73815,72980,76222]
["female",42,1832,1998,1906,null,42,75647,74978,78128]
["female",43,1729,1982,1794,null,43,77376,76960,79922]
["female",44,1668,2026,1789,null,44,79044,78986,81711]
["female",45,1596,1952,1735,null,45,80640,80938,83446]
["female",46,1550,2097,1805,null,46,82190,83035,85251]
["female",47,1680,1964,1737,null,47,83870,84999,86988]
["female",48,1623,1981,1737,null,48,85493,86980,88725]
["female",49,1532,1937,1872,null,49,87025,88917,90597]
["female",50,1591,1832,1894,null,50,88616,90749,92491]
["female",51,1575,1837,1899,null,51,90191,92586,94390]
["female",52,1767,1726,1924,null,52,91958,94312,96314]
["female",53,1886,1638,1939,null,53,93844,95950,98253]
["female",54,2050,1626,1927,null,54,95894,97576,100180]
["female",55,1508,1464,1946,null,55,97402,99040,102126]
["female",56,1448,1464,1971,null,56,98850,100504,104097]
["female",57,1404,1468,1898,null,57,100254,101972,105995]
["female",58,1306,1443,1880,null,58,101560,103415,107875]
["female",59,1166,1423,1812,null,59,102726,104838,109687]
["female",60,1079,1430,1709,null,60,103805,106268,111396]
["female",61,1139,1435,1688,null,61,104944,107703,113084]
["female",62,1169,1546,1585,null,62,106113,109249,114669]
["female",63,1121,1690,1493,null,63,107234,110939,116162]
["female",64,1088,1744,1477,null,64,108322,112683,117639]
["female",65,1080,1248,1376,null,65,{"$f":"H173+C174","v":109402},{"$f":"I173+D174","v":113931},{"$f":"J173+E174","v":119015}]
["female",66,988,1359,1344,null,66,110390,115290,120359]
["female",67,890,1156,1338,null,67,111280,116446,121697]
["female",68,944,1114,1278,null,68,112224,117560,122975]
["female",69,911,1003,1280,null,69,113135,118563,124255]
["female",70,909,887,1263,null,70,114044,119450,125518]
["female",71,907,990,1271,null,71,114951,120440,126789]
["female",72,883,992,1379,null,72,115834,121432,128168]
["female",73,780,948,1466,null,73,116614,122380,129634]
["female",74,823,885,1473,null,74,117437,123265,131107]
["female",75,800,888,1047,null,75,118237,124153,132154]
["female",76,753,832,1114,null,76,118990,124985,133268]
["female",77,729,723,934,null,77,119719,125708,134202]
["female",78,781,734,899,null,78,120500,126442,135101]
["female",79,738,657,803,null,79,121238,127099,135904]
["female",80,796,711,673,null,80,122034,127810,136577]
["female",81,711,651,737,null,81,122745,128461,137314]
["female",82,497,561,726,null,82,123242,129022,138040]
["female",83,424,510,672,null,83,123666,129532,138712]
["female",84,430,497,582,null,84,124096,130029,139294]
["female",85,408,469,553,null,85,124504,130498,139847]
["female",86,407,416,479,null,86,124911,130914,140326]
["female",87,329,377,383,null,87,125240,131291,140709]
["female",88,267,348,360,null,88,125507,131639,141069]
["female",89,245,354,314,null,89,125752,131993,141383]
["female","90+",836,1107,1264,null,"90+",126588,133100,142647]
[null,"All Females",{"$f":"SUM(C109:C199)","v":126588},133100,{"$f":"SUM(E109:E199)","v":142647}]

{"sheet":"SEV","index":16,"n_rows":200,"n_cols":19,"rows_kept":200,"cut":false,"hidden":true,"merged":[[0,10,21,10]]}
["Mid Year Population Estimates",null,null,null,null,null,null,null,null,null,"Insert column here before extending the table"]
["2001, 2011, and 2021 Census: The Office forNnational Statistics (ONS)",null,null,null,null,null,"Selected Ages:",null,null,null,null,null,null,null,"Start year","End Year","Number change","% Change"]
[null,null,null,null,null,null,null,{"$f":"H13","v":2001},2011,{"$f":"J13","v":2021},null,null,null,null,{"$f":"INDEX($H3:$I3,Index!$B$16)","v":2011},{"$f":"INDEX($H3:$J3,Index!$B$19)","v":2011}]
[null,null,null,null,null,null,"Males",{"$f":"OFFSET(H16,Index!$B$7-1,0)-IF(Index!$B$4-2=1,0,OFFSET(H16,Index!$B$4-2,0))","v":52874},{"$f":"OFFSET(I16,Index!$B$7-1,0)-IF(Index!$B$4-2=1,0,OFFSET(I16,Index!$B$4-2,0))","v":55743},{"$f":"OFFSET(J16,Index!$B$7-1,0)-IF(Index!$B$4-2=1,0,OFFSET(J16,Index!$B$4-2,0))","v":58212},null,null,null,null,{"$f":"INDEX($H4:$I4,Index!$B$16)","v":55743},{"$f":"INDEX($H4:$J4,Index!$B$19)","v":55743},{"$f":"P4-O4","v":0},{"$f":"Q4/O4","v":0}]
[null,null,null,null,null,null,"Females",{"$f":"OFFSET(H109,Index!$B$7-1,0)-IF(Index!$B$4-2=1,0,OFFSET(H109,Index!$B$4-2,0))","v":56435},{"$f":"OFFSET(I109,Index!$B$7-1,0)-IF(Index!$B$4-2=1,0,OFFSET(I109,Index!$B$4-2,0))","v":59150},{"$f":"OFFSET(J109,Index!$B$7-1,0)-IF(Index!$B$4-2=1,0,OFFSET(J109,Index!$B$4-2,0))","v":62307},null,null,null,null,{"$f":"INDEX($H5:$I5,Index!$B$16)","v":59150},{"$f":"INDEX($H5:$J5,Index!$B$19)","v":59150},{"$f":"P5-O5","v":0},{"$f":"Q5/O5","v":0}]
[null,null,null,null,null,null,"Total",{"$f":"SUM(H4:H5)","v":109309},114893,{"$f":"SUM(J4:J5)","v":120519},null,null,null,null,{"$f":"INDEX($H6:$I6,Index!$B$16)","v":114893},{"$f":"INDEX($H6:$J6,Index!$B$19)","v":114893},{"$f":"P6-O6","v":0},{"$f":"Q6/O6","v":0}]
[]
[null,null,null,null,null,null,"Males",{"$f":"IF(H4<0,\"0\",H4)","v":52874},55743,{"$f":"IF(J4<0,\"0\",J4)","v":58212}]
[null,null,null,null,null,null,"Females",56435,59150,62307]
[null,null,null,null,null,null,"Total",{"$f":"SUM(H8:H9)","v":109309},114893,{"$f":"SUM(J8:J9)","v":120519}]
[]
["Sevenoaks",null,null,null,null,null,null,null,null,null,null,"Population Pyramid"]
[null,null,null,null,null,null,null,{"$f":"C14","v":2001},{"$f":"D14","v":2011},{"$f":"E14","v":2021}]
["Sex","Age",2001,2011,2021,null,null,null,null,null,null,null,null,null,2001,2011,2021,null,{"$f":"INDEX(O14:Q14,Index!$B$23)","v":2021}]
[null,"All persons",{"$f":"SUM(C107,C200)","v":109309},114893,{"$f":"SUM(E107,E200)","v":120519},null,"Males",null,null,null,null,"Males","All Ages",null,{"$f":"C107","v":52874},{"$f":"D107","v":55743},{"$f":"E107","v":58212},null,{"$f":"INDEX(O15:Q15,Index!$B$23)","v":58212}]
["male",0,585,686,641,null,0,{"$f":"C16","v":585},{"$f":"D16","v":686},{"$f":"E16","v":641},null,"Males","0-4",null,{"$f":"SUM(C16:C20)","v":3275},{"$f":"SUM(D16:D20)","v":3572},{"$f":"SUM(E16:E20)","v":3458},null,{"$f":"INDEX(O16:Q16,Index!$B$23)","v":3458}]
["male",1,688,723,651,null,1,{"$f":"H16+C17","v":1273},{"$f":"I16+D17","v":1409},{"$f":"J16+E17","v":1292},null,"Males","5-9",null,{"$f":"SUM(C21:C25)","v":3584},{"$f":"SUM(D21:D25)","v":3512},{"$f":"SUM(E21:E25)","v":3834},null,{"$f":"INDEX(O17:Q17,Index!$B$23)","v":3834}]
["male",2,664,690,707,null,2,1937,2099,1999,null,"Males","10-14",null,{"$f":"SUM(C26:C30)","v":3750},{"$f":"SUM(D26:D30)","v":3557},{"$f":"SUM(E26:E30)","v":4159},null,{"$f":"INDEX(O18:Q18,Index!$B$23)","v":4159}]
["male",3,654,730,681,null,3,2591,2829,2680,null,"Males","15-19",null,{"$f":"SUM(C31:C35)","v":3216},{"$f":"SUM(D31:D35)","v":3455},{"$f":"SUM(E31:E35)","v":3271},null,{"$f":"INDEX(O19:Q19,Index!$B$23)","v":3271}]
["male",4,684,743,778,null,4,3275,3572,3458,null,"Males","20-24",null,{"$f":"SUM(C36:C40)","v":2343},{"$f":"SUM(D36:D40)","v":2662},{"$f":"SUM(E36:E40)","v":2546},null,{"$f":"INDEX(O20:Q20,Index!$B$23)","v":2546}]
["male",5,677,726,708,null,5,3952,4298,4166,null,"Males","25-29",null,{"$f":"SUM(C41:C45)","v":2684},{"$f":"SUM(D41:D45)","v":2682},{"$f":"SUM(E41:E45)","v":2724},null,{"$f":"INDEX(O21:Q21,Index!$B$23)","v":2724}]
["male",6,748,722,765,null,6,4700,5020,4931,null,"Males","30-34",null,{"$f":"SUM(C46:C50)","v":3348},{"$f":"SUM(D46:D50)","v":2974},{"$f":"SUM(E46:E50)","v":3129},null,{"$f":"INDEX(O22:Q22,Index!$B$23)","v":3129}]
["male",7,740,703,725,null,7,5440,5723,5656,null,"Males","35-39",null,{"$f":"SUM(C51:C55)","v":4193},{"$f":"SUM(D51:D55)","v":3535},{"$f":"SUM(E51:E55)","v":3425},null,{"$f":"INDEX(O23:Q23,Index!$B$23)","v":3425}]
["male",8,709,661,802,null,8,6149,6384,6458,null,"Males","40-44",null,{"$f":"SUM(C56:C60)","v":3992},{"$f":"SUM(D56:D60)","v":4201},{"$f":"SUM(E56:E60)","v":3723},null,{"$f":"INDEX(O24:Q24,Index!$B$23)","v":3723}]
["male",9,710,700,834,null,9,6859,7084,7292,null,"Males","45-49",null,{"$f":"SUM(C61:C65)","v":3711},{"$f":"SUM(D61:D65)","v":4551},{"$f":"SUM(E61:E65)","v":4038},null,{"$f":"INDEX(O25:Q25,Index!$B$23)","v":4038}]
["male",10,745,669,838,null,10,7604,7753,8130,null,"Males","50-54",null,{"$f":"SUM(C66:C70)","v":4384},{"$f":"SUM(D66:D70)","v":3860},{"$f":"SUM(E66:E70)","v":4250},null,{"$f":"INDEX(O26:Q26,Index!$B$23)","v":4250}]
["male",11,780,758,862,null,11,8384,8511,8992,null,"Males","55-59",null,{"$f":"SUM(C71:C75)","v":3544},{"$f":"SUM(D71:D75)","v":3560},{"$f":"SUM(E71:E75)","v":4305},null,{"$f":"INDEX(O27:Q27,Index!$B$23)","v":4305}]
["male",12,746,762,796,null,12,9130,9273,9788,null,"Males","60-64",null,{"$f":"SUM(C76:C80)","v":2862},{"$f":"SUM(D76:D80)","v":3954},{"$f":"SUM(E76:E80)","v":3552},null,{"$f":"INDEX(O28:Q28,Index!$B$23)","v":3552}]
["male",13,748,685,845,null,13,9878,9958,10633,null,"Males","65-69",null,{"$f":"SUM(C81:C85)","v":2592},{"$f":"SUM(D81:D85)","v":3025},{"$f":"SUM(E81:E85)","v":3129},null,{"$f":"INDEX(O29:Q29,Index!$B$23)","v":3129}]
["male",14,731,683,818,null,14,10609,10641,11451,null,"Males","70-74",null,{"$f":"SUM(C86:C90)","v":2148},{"$f":"SUM(D86:D90)","v":2331},{"$f":"SUM(E86:E90)","v":3251},null,{"$f":"INDEX(O30:Q30,Index!$B$23)","v":3251}]
["male",15,687,701,767,null,15,11296,11342,12218,null,"Males","75-79",null,{"$f":"SUM(C91:C95)","v":1584},{"$f":"SUM(D91:D95)","v":1963},{"$f":"SUM(E91:E95)","v":2414},null,{"$f":"INDEX(O31:Q31,Index!$B$23)","v":2414}]
["male",16,713,848,751,null,16,12009,12190,12969,null,"Males","80-84",null,{"$f":"SUM(C96:C100)","v":1042},{"$f":"SUM(D96:D100)","v":1391},{"$f":"SUM(E96:E100)","v":1568},null,{"$f":"INDEX(O32:Q32,Index!$B$23)","v":1568}]
["male",17,725,743,737,null,17,12734,12933,13706,null,"Males","85-89",null,{"$f":"SUM(C101:C105)","v":453},{"$f":"SUM(D101:D105)","v":682},980,null,{"$f":"INDEX(O33:Q33,Index!$B$23)","v":980}]
["male",18,611,691,594,null,18,13345,13624,14300,null,"Males","90+",null,{"$f":"C106","v":169},{"$f":"D106","v":276},456,null,{"$f":"INDEX(O34:Q34,Index!$B$23)","v":456}]
["male",19,480,472,422,null,19,13825,14096,14722]
["male",20,447,444,419,null,20,14272,14540,15141,null,"Males","All Ages",null,{"$f":"C200","v":56435},{"$f":"D200","v":59150},{"$f":"E200","v":62307},null,{"$f":"INDEX(O36:Q36,Index!$B$23)","v":62307}]
["male",21,465,503,499,null,21,14737,15043,15640,null,"Females","0-4",null,{"$f":"SUM(C109:C113)","v":3101},{"$f":"SUM(D109:D113)","v":3404},{"$f":"SUM(E109:E113)","v":3267},null,{"$f":"INDEX(O37:Q37,Index!$B$23)","v":3267}]
["male",22,484,585,558,null,22,15221,15628,16198,null,"Females","5-9",null,{"$f":"SUM(C114:C118)","v":3592},{"$f":"SUM(D114:D118)","v":3421},{"$f":"SUM(E114:E118)","v":3753},null,{"$f":"INDEX(O38:Q38,Index!$B$23)","v":3753}]
["male",23,492,568,537,null,23,15713,16196,16735,null,"Females","10-14",null,{"$f":"SUM(C119:C123)","v":3513},{"$f":"SUM(D119:D123)","v":3536},{"$f":"SUM(E119:E123)","v":3901},null,{"$f":"INDEX(O39:Q39,Index!$B$23)","v":3901}]
["male",24,455,562,533,null,24,16168,16758,17268,null,"Females","15-19",null,{"$f":"SUM(C124:C128)","v":3115},{"$f":"SUM(D124:D128)","v":3422},{"$f":"SUM(E124:E128)","v":3268},null,{"$f":"INDEX(O40:Q40,Index!$B$23)","v":3268}]
["male",25,493,535,526,null,25,16661,17293,17794,null,"Females","20-24",null,{"$f":"SUM(C129:C133)","v":2219},{"$f":"SUM(D129:D133)","v":2570},{"$f":"SUM(E129:E133)","v":2414},null,{"$f":"INDEX(O41:Q41,Index!$B$23)","v":2414}]
["male",26,486,573,541,null,26,17147,17866,18335,null,"Females","25-29",null,{"$f":"SUM(C134:C138)","v":2649},{"$f":"SUM(D134:D138)","v":2552},{"$f":"SUM(E134:E138)","v":2982},null,{"$f":"INDEX(O42:Q42,Index!$B$23)","v":2982}]
["male",27,524,525,547,null,27,17671,18391,18882,null,"Females","30-34",null,{"$f":"SUM(C139:C143)","v":3789},{"$f":"SUM(D139:D143)","v":3289},{"$f":"SUM(E139:E143)","v":3541},null,{"$f":"INDEX(O43:Q43,Index!$B$23)","v":3541}]
["male",28,586,491,561,null,28,18257,18882,19443,null,"Females","35-39",null,{"$f":"SUM(C144:C148)","v":4498},{"$f":"SUM(D144:D148)","v":3839},{"$f":"SUM(E144:E148)","v":3910},null,{"$f":"INDEX(O44:Q44,Index!$B$23)","v":3910}]
["male",29,595,558,549,null,29,18852,19440,19992,null,"Females","40-44",null,{"$f":"SUM(C149:C153)","v":4105},{"$f":"SUM(D149:D153)","v":4539},{"$f":"SUM(E149:E153)","v":4099},null,{"$f":"INDEX(O45:Q45,Index!$B$23)","v":4099}]
["male",30,596,569,593,null,30,19448,20009,20585,null,"Females","45-49",null,{"$f":"SUM(C154:C158)","v":3956},{"$f":"SUM(D154:D158)","v":4533},{"$f":"SUM(E154:E158)","v":4189},null,{"$f":"INDEX(O46:Q46,Index!$B$23)","v":4189}]
["male",31,577,615,593,null,31,20025,20624,21178,null,"Females","50-54",null,{"$f":"SUM(C159:C163)","v":4468},{"$f":"SUM(D159:D163)","v":4170},{"$f":"SUM(E159:E163)","v":4596},null,{"$f":"INDEX(O47:Q47,Index!$B$23)","v":4596}]
["male",32,643,590,623,null,32,20668,21214,21801,null,"Females","55-59",null,{"$f":"SUM(C164:C168)","v":3600},{"$f":"SUM(D164:D168)","v":3642},{"$f":"SUM(E164:E168)","v":4449},null,{"$f":"INDEX(O48:Q48,Index!$B$23)","v":4449}]
["male",33,746,590,666,null,33,{"$f":"H48+C49","v":21414},{"$f":"I48+D49","v":21804},{"$f":"J48+E49","v":22467},null,"Females","60-64",null,{"$f":"SUM(C169:C173)","v":3020},{"$f":"SUM(D169:D173)","v":4234},{"$f":"SUM(E169:E173)","v":3807},null,{"$f":"INDEX(O49:Q49,Index!$B$23)","v":3807}]
["male",34,786,610,654,null,34,22200,22414,23121,null,"Females","65-69",null,{"$f":"SUM(C174:C178)","v":2771},{"$f":"SUM(D174:D178)","v":3293},{"$f":"SUM(E174:E178)","v":3281},null,{"$f":"INDEX(O50:Q50,Index!$B$23)","v":3281}]
["male",35,823,604,638,null,35,23023,23018,23759,null,"Females","70-74",null,{"$f":"SUM(C179:C183)","v":2572},{"$f":"SUM(D179:D183)","v":2635},{"$f":"SUM(E179:E183)","v":3681},null,{"$f":"INDEX(O51:Q51,Index!$B$23)","v":3681}]
["male",36,843,720,696,null,36,23866,23738,24455,null,"Females","75-79",null,{"$f":"SUM(C184:C188)","v":2161},{"$f":"SUM(D184:D188)","v":2231},{"$f":"SUM(E184:E188)","v":2740},null,{"$f":"INDEX(O52:Q52,Index!$B$23)","v":2740}]
["male",37,834,696,654,null,37,24700,24434,25109,null,"Females","80-84",null,{"$f":"SUM(C189:C193)","v":1572},{"$f":"SUM(D189:D193)","v":1861},{"$f":"SUM(E189:E193)","v":2038},null,{"$f":"INDEX(O53:Q53,Index!$B$23)","v":2038}]
["male",38,837,719,713,null,38,25537,25153,25822,null,"Females","85-89",null,{"$f":"SUM(C194:C198)","v":1079},{"$f":"SUM(D194:D198)","v":1226},1386,null,{"$f":"INDEX(O54:Q54,Index!$B$23)","v":1386}]
["male",39,856,796,724,null,39,26393,25949,26546,null,"Females","90+",null,{"$f":"C199","v":655},{"$f":"D199","v":753},1005,null,{"$f":"INDEX(O55:Q55,Index!$B$23)","v":1005}]
["male",40,831,783,723,null,40,27224,26732,27269]
["male",41,829,786,777,null,41,28053,27518,28046]
["male",42,752,820,758,null,42,28805,28338,28804]
["male",43,792,850,750,null,43,29597,29188,29554]
["male",44,788,962,715,null,44,30385,30150,30269]
["male",45,713,929,734,null,45,31098,31079,31003]
["male",46,741,914,839,null,46,31839,31993,31842]
["male",47,793,892,773,null,47,32632,32885,32615]
["male",48,757,914,836,null,48,33389,33799,33451]
["male",49,707,902,856,null,49,34096,34701,34307]
["male",50,766,844,827,null,50,34862,35545,35134]
["male",51,792,739,842,null,51,35654,36284,35976]
["male",52,850,756,783,null,52,36504,37040,36759]
["male",53,942,777,849,null,53,37446,37817,37608]
["male",54,1034,744,949,null,54,38480,38561,38557]
["male",55,751,697,909,null,55,39231,39258,39466]
["male",56,787,678,860,null,56,40018,39936,40326]
["male",57,734,793,826,null,57,40752,40729,41152]
["male",58,706,696,864,null,58,41458,41425,42016]
["male",59,566,696,846,null,59,42024,42121,42862]
["male",60,568,718,788,null,60,42592,42839,43650]
["male",61,607,688,716,null,61,43199,43527,44366]
["male",62,564,768,705,null,62,43763,44295,45071]
["male",63,561,883,688,null,63,44324,45178,45759]
["male",64,562,897,655,null,64,44886,46075,46414]
["male",65,565,638,634,null,65,{"$f":"H80+C81","v":45451},{"$f":"I80+D81","v":46713},{"$f":"J80+E81","v":47048}]
["male",66,542,704,609,null,66,45993,47417,47657]
["male",67,462,615,668,null,67,46455,48032,48325]
["male",68,475,593,622,null,68,46930,48625,48947]
["male",69,548,475,596,null,69,47478,49100,49543]
["male",70,487,503,577,null,70,47965,49603,50120]
["male",71,437,479,586,null,71,48402,50082,50706]
["male",72,401,456,632,null,72,48803,50538,51338]
["male",73,426,445,724,null,73,49229,50983,52062]
["male",74,397,448,732,null,74,49626,51431,52794]
["male",75,376,431,543,null,75,50002,51862,53337]
["male",76,339,400,585,null,76,50341,52262,53922]
["male",77,285,377,480,null,77,50626,52639,54402]
["male",78,281,359,446,null,78,50907,52998,54848]
["male",79,303,396,360,null,79,51210,53394,55208]
["male",80,304,336,350,null,80,51514,53730,55558]
["male",81,263,314,330,null,81,51777,54044,55888]
["male",82,179,253,318,null,82,51956,54297,56206]
["male",83,122,274,297,null,83,52078,54571,56503]
["male",84,174,214,273,null,84,52252,54785,56776]
["male",85,111,196,256,null,85,52363,54981,57032]
["male",86,109,161,212,null,86,52472,55142,57244]
["male",87,85,122,197,null,87,52557,55264,57441]
["male",88,76,108,163,null,88,52633,55372,57604]
["male",89,72,95,152,null,89,52705,55467,57756]
["male","90+",169,276,456,null,"90+",52874,55743,58212]
[null,"All Males",{"$f":"SUM(C16:C106)","v":52874},55743,{"$f":"SUM(E16:E106)","v":58212},null,"Females"]
["Sex","Age"]
["female",0,571,671,602,null,0,{"$f":"C109","v":571},{"$f":"D109","v":671},{"$f":"E109","v":602}]
["female",1,601,671,595,null,1,{"$f":"H109+C110","v":1172},{"$f":"I109+D110","v":1342},{"$f":"J109+E110","v":1197}]
["female",2,645,670,663,null,2,1817,2012,1860]
["female",3,666,694,696,null,3,2483,2706,2556]
["female",4,618,698,711,null,4,3101,3404,3267]
["female",5,726,750,767,null,5,3827,4154,4034]
["female",6,676,678,739,null,6,4503,4832,4773]
["female",7,731,682,704,null,7,5234,5514,5477]
["female",8,742,640,754,null,8,5976,6154,6231]
["female",9,717,671,789,null,9,6693,6825,7020]
["female",10,741,652,802,null,10,7434,7477,7822]
["female",11,689,704,800,null,11,8123,8181,8622]
["female",12,732,731,740,null,12,8855,8912,9362]
["female",13,692,727,759,null,13,9547,9639,10121]
["female",14,659,722,800,null,14,10206,10361,10921]
["female",15,676,709,777,null,15,10882,11070,11698]
["female",16,711,748,775,null,16,11593,11818,12473]
["female",17,705,841,739,null,17,12298,12659,13212]
["female",18,590,619,574,null,18,12888,13278,13786]
["female",19,433,505,403,null,19,13321,13783,14189]
["female",20,414,441,347,null,20,13735,14224,14536]
["female",21,439,466,440,null,21,14174,14690,14976]
["female",22,444,558,487,null,22,14618,15248,15463]
["female",23,439,561,581,null,23,15057,15809,16044]
["female",24,483,544,559,null,24,15540,16353,16603]
["female",25,472,497,560,null,25,16012,16850,17163]
["female",26,504,530,537,null,26,16516,17380,17700]
["female",27,495,480,620,null,27,17011,17860,18320]
["female",28,585,483,597,null,28,17596,18343,18917]
["female",29,593,562,668,null,29,18189,18905,19585]
["female",30,727,656,650,null,30,18916,19561,20235]
["female",31,713,689,671,null,31,19629,20250,20906]
["female",32,756,630,718,null,32,20385,20880,21624]
["female",33,816,656,753,null,33,{"$f":"H141+C142","v":21201},{"$f":"I141+D142","v":21536},{"$f":"J141+E142","v":22377}]
["female",34,777,658,749,null,34,21978,22194,23126]
["female",35,914,694,723,null,35,22892,22888,23849]
["female",36,900,703,798,null,36,23792,23591,24647]
["female",37,945,814,739,null,37,24737,24405,25386]
["female",38,834,805,823,null,38,25571,25210,26209]
["female",39,905,823,827,null,39,26476,26033,27036]
["female",40,844,898,821,null,40,27320,26931,27857]
["female",41,812,875,916,null,41,28132,27806,28773]
["female",42,799,908,796,null,42,28931,28714,29569]
["female",43,824,944,768,null,43,29755,29658,30337]
["female",44,826,914,798,null,44,30581,30572,31135]
["female",45,748,996,806,null,45,31329,31568,31941]
["female",46,799,955,796,null,46,32128,32523,32737]
["female",47,815,931,896,null,47,32943,33454,33633]
["female",48,790,830,827,null,48,33733,34284,34460]
["female",49,804,821,864,null,49,34537,35105,35324]
["female",50,799,890,914,null,50,35336,35995,36238]
["female",51,853,844,909,null,51,36189,36839,37147]
["female",52,849,827,930,null,52,37038,37666,38077]
["female",53,951,814,945,null,53,37989,38480,39022]
["female",54,1016,795,898,null,54,39005,39275,39920]
["female",55,790,702,995,null,55,39795,39977,40915]
["female",56,742,744,926,null,56,40537,40721,41841]
["female",57,760,721,909,null,57,41297,41442,42750]
["female",58,677,729,838,null,58,41974,42171,43588]
["female",59,631,746,781,null,59,42605,42917,44369]
["female",60,577,776,816,null,60,43182,43693,45185]
["female",61,591,826,775,null,61,43773,44519,45960]
["female",62,641,819,777,null,62,44414,45338,46737]
["female",63,601,872,750,null,63,45015,46210,47487]
["female",64,610,941,689,null,64,45625,47151,48176]
["female",65,586,764,651,null,65,{"$f":"H173+C174","v":46211},{"$f":"I173+D174","v":47915},{"$f":"J173+E174","v":48827}]
["female",66,543,658,666,null,66,46754,48573,49493]
["female",67,594,681,647,null,67,47348,49254,50140]
["female",68,522,660,655,null,68,47870,49914,50795]
["female",69,526,530,662,null,69,48396,50444,51457]
["female",70,581,511,679,null,70,48977,50955,52136]
["female",71,565,529,718,null,71,49542,51484,52854]
["female",72,522,554,698,null,72,50064,52038,53552]
["female",73,447,484,774,null,73,50511,52522,54326]
["female",74,457,557,812,null,74,50968,53079,55138]
["female",75,482,459,637,null,75,51450,53538,55775]
["female",76,416,470,584,null,76,51866,54008,56359]
["female",77,409,468,570,null,77,52275,54476,56929]
["female",78,401,417,542,null,78,52676,54893,57471]
["female",79,453,417,407,null,79,53129,55310,57878]
["female",80,445,436,429,null,80,53574,55746,58307]
["female",81,387,432,413,null,81,53961,56178,58720]
["female",82,272,372,416,null,82,54233,56550,59136]
["female",83,218,328,385,null,83,54451,56878,59521]
["female",84,250,293,395,null,84,54701,57171,59916]
["female",85,267,307,337,null,85,54968,57478,60253]
["female",86,257,240,283,null,86,55225,57718,60536]
["female",87,206,236,279,null,87,55431,57954,60815]
["female",88,191,217,264,null,88,55622,58171,61079]
["female",89,158,226,223,null,89,55780,58397,61302]
["female","90+",655,753,1005,null,"90+",56435,59150,62307]
[null,"All Females",{"$f":"SUM(C109:C199)","v":56435},59150,{"$f":"SUM(E109:E199)","v":62307}]

{"sheet":"SWA","index":17,"n_rows":200,"n_cols":19,"rows_kept":200,"cut":false,"hidden":true,"merged":[[0,10,21,10]]}
["Mid Year Population Estimates",null,null,null,null,null,null,null,null,null,"Insert column here before extending the table"]
["2001, 2011, and 2021 Census: The Office forNnational Statistics (ONS)",null,null,null,null,null,"Selected Ages:",null,null,null,null,null,null,null,"Start year","End Year","Number change","% Change"]
[null,null,null,null,null,null,null,{"$f":"H13","v":2001},2011,{"$f":"J13","v":2021},null,null,null,null,{"$f":"INDEX($H3:$I3,Index!$B$16)","v":2011},{"$f":"INDEX($H3:$J3,Index!$B$19)","v":2011}]
[null,null,null,null,null,null,"Males",{"$f":"OFFSET(H16,Index!$B$7-1,0)-IF(Index!$B$4-2=1,0,OFFSET(H16,Index!$B$4-2,0))","v":60548},{"$f":"OFFSET(I16,Index!$B$7-1,0)-IF(Index!$B$4-2=1,0,OFFSET(I16,Index!$B$4-2,0))","v":67152},{"$f":"OFFSET(J16,Index!$B$7-1,0)-IF(Index!$B$4-2=1,0,OFFSET(J16,Index!$B$4-2,0))","v":75311},null,null,null,null,{"$f":"INDEX($H4:$I4,Index!$B$16)","v":67152},{"$f":"INDEX($H4:$J4,Index!$B$19)","v":67152},{"$f":"P4-O4","v":0},{"$f":"Q4/O4","v":0}]
[null,null,null,null,null,null,"Females",{"$f":"OFFSET(H109,Index!$B$7-1,0)-IF(Index!$B$4-2=1,0,OFFSET(H109,Index!$B$4-2,0))","v":62260},{"$f":"OFFSET(I109,Index!$B$7-1,0)-IF(Index!$B$4-2=1,0,OFFSET(I109,Index!$B$4-2,0))","v":68683},{"$f":"OFFSET(J109,Index!$B$7-1,0)-IF(Index!$B$4-2=1,0,OFFSET(J109,Index!$B$4-2,0))","v":76368},null,null,null,null,{"$f":"INDEX($H5:$I5,Index!$B$16)","v":68683},{"$f":"INDEX($H5:$J5,Index!$B$19)","v":68683},{"$f":"P5-O5","v":0},{"$f":"Q5/O5","v":0}]
[null,null,null,null,null,null,"Total",{"$f":"SUM(H4:H5)","v":122808},135835,{"$f":"SUM(J4:J5)","v":151679},null,null,null,null,{"$f":"INDEX($H6:$I6,Index!$B$16)","v":135835},{"$f":"INDEX($H6:$J6,Index!$B$19)","v":135835},{"$f":"P6-O6","v":0},{"$f":"Q6/O6","v":0}]
[]
[null,null,null,null,null,null,"Males",{"$f":"IF(H4<0,\"0\",H4)","v":60548},67152,{"$f":"IF(J4<0,\"0\",J4)","v":75311}]
[null,null,null,null,null,null,"Females",62260,68683,76368]
[null,null,null,null,null,null,"Total",{"$f":"SUM(H8:H9)","v":122808},135835,{"$f":"SUM(J8:J9)","v":151679}]
[]
["Swale",null,null,null,null,null,null,null,null,null,null,"Population Pyramid"]
[null,null,null,null,null,null,null,{"$f":"C14","v":2001},{"$f":"D14","v":2011},{"$f":"E14","v":2021}]
["Sex","Age",2001,2011,2021,null,null,null,null,null,null,null,null,null,2001,2011,2021,null,{"$f":"INDEX(O14:Q14,Index!$B$23)","v":2021}]
[null,"All persons",{"$f":"SUM(C107,C200)","v":122808},135835,{"$f":"SUM(E107,E200)","v":151679},null,"Males",null,null,null,null,"Males","All Ages",null,{"$f":"C107","v":60548},{"$f":"D107","v":67152},{"$f":"E107","v":75311},null,{"$f":"INDEX(O15:Q15,Index!$B$23)","v":75311}]
["male",0,696,907,793,null,0,{"$f":"C16","v":696},{"$f":"D16","v":907},{"$f":"E16","v":793},null,"Males","0-4",null,{"$f":"SUM(C16:C20)","v":3906},{"$f":"SUM(D16:D20)","v":4531},{"$f":"SUM(E16:E20)","v":4498},null,{"$f":"INDEX(O16:Q16,Index!$B$23)","v":4498}]
["male",1,800,890,865,null,1,{"$f":"H16+C17","v":1496},{"$f":"I16+D17","v":1797},{"$f":"J16+E17","v":1658},null,"Males","5-9",null,{"$f":"SUM(C21:C25)","v":4359},{"$f":"SUM(D21:D25)","v":4076},{"$f":"SUM(E21:E25)","v":4874},null,{"$f":"INDEX(O17:Q17,Index!$B$23)","v":4874}]
["male",2,801,933,962,null,2,2297,2730,2620,null,"Males","10-14",null,{"$f":"SUM(C26:C30)","v":4381},{"$f":"SUM(D26:D30)","v":4482},{"$f":"SUM(E26:E30)","v":4903},null,{"$f":"INDEX(O18:Q18,Index!$B$23)","v":4903}]
["male",3,780,889,932,null,3,3077,3619,3552,null,"Males","15-19",null,{"$f":"SUM(C31:C35)","v":3972},{"$f":"SUM(D31:D35)","v":4533},{"$f":"SUM(E31:E35)","v":4252},null,{"$f":"INDEX(O19:Q19,Index!$B$23)","v":4252}]
["male",4,829,912,946,null,4,3906,4531,4498,null,"Males","20-24",null,{"$f":"SUM(C36:C40)","v":3335},{"$f":"SUM(D36:D40)","v":4029},{"$f":"SUM(E36:E40)","v":4101},null,{"$f":"INDEX(O20:Q20,Index!$B$23)","v":4101}]
["male",5,841,905,975,null,5,4747,5436,5473,null,"Males","25-29",null,{"$f":"SUM(C41:C45)","v":3691},{"$f":"SUM(D41:D45)","v":3993},{"$f":"SUM(E41:E45)","v":4761},null,{"$f":"INDEX(O21:Q21,Index!$B$23)","v":4761}]
["male",6,864,776,877,null,6,5611,6212,6350,null,"Males","30-34",null,{"$f":"SUM(C46:C50)","v":4455},{"$f":"SUM(D46:D50)","v":3729},{"$f":"SUM(E46:E50)","v":5207},null,{"$f":"INDEX(O22:Q22,Index!$B$23)","v":5207}]
["male",7,867,782,979,null,7,6478,6994,7329,null,"Males","35-39",null,{"$f":"SUM(C51:C55)","v":4938},{"$f":"SUM(D51:D55)","v":4230},{"$f":"SUM(E51:E55)","v":4943},null,{"$f":"INDEX(O23:Q23,Index!$B$23)","v":4943}]
["male",8,891,797,1045,null,8,7369,7791,8374,null,"Males","40-44",null,{"$f":"SUM(C56:C60)","v":4215},{"$f":"SUM(D56:D60)","v":4942},{"$f":"SUM(E56:E60)","v":4613},null,{"$f":"INDEX(O24:Q24,Index!$B$23)","v":4613}]
["male",9,896,816,998,null,9,8265,8607,9372,null,"Males","45-49",null,{"$f":"SUM(C61:C65)","v":3971},{"$f":"SUM(D61:D65)","v":5267},{"$f":"SUM(E61:E65)","v":4670},null,{"$f":"INDEX(O25:Q25,Index!$B$23)","v":4670}]
["male",10,888,819,1012,null,10,9153,9426,10384,null,"Males","50-54",null,{"$f":"SUM(C66:C70)","v":4585},{"$f":"SUM(D66:D70)","v":4525},{"$f":"SUM(E66:E70)","v":5236},null,{"$f":"INDEX(O26:Q26,Index!$B$23)","v":5236}]
["male",11,942,880,943,null,11,10095,10306,11327,null,"Males","55-59",null,{"$f":"SUM(C71:C75)","v":3780},{"$f":"SUM(D71:D75)","v":4021},{"$f":"SUM(E71:E75)","v":5302},null,{"$f":"INDEX(O27:Q27,Index!$B$23)","v":5302}]
["male",12,830,920,1020,null,12,10925,11226,12347,null,"Males","60-64",null,{"$f":"SUM(C76:C80)","v":3093},{"$f":"SUM(D76:D80)","v":4572},{"$f":"SUM(E76:E80)","v":4484},null,{"$f":"INDEX(O28:Q28,Index!$B$23)","v":4484}]
["male",13,877,947,969,null,13,11802,12173,13316,null,"Males","65-69",null,{"$f":"SUM(C81:C85)","v":2605},{"$f":"SUM(D81:D85)","v":3519},{"$f":"SUM(E81:E85)","v":3773},null,{"$f":"INDEX(O29:Q29,Index!$B$23)","v":3773}]
["male",14,844,916,959,null,14,12646,13089,14275,null,"Males","70-74",null,{"$f":"SUM(C86:C90)","v":2195},{"$f":"SUM(D86:D90)","v":2684},{"$f":"SUM(E86:E90)","v":3987},null,{"$f":"INDEX(O30:Q30,Index!$B$23)","v":3987}]
["male",15,866,913,947,null,15,13512,14002,15222,null,"Males","75-79",null,{"$f":"SUM(C91:C95)","v":1564},{"$f":"SUM(D91:D95)","v":1905},{"$f":"SUM(E91:E95)","v":2756},null,{"$f":"INDEX(O31:Q31,Index!$B$23)","v":2756}]
["male",16,880,974,917,null,16,14392,14976,16139,null,"Males","80-84",null,{"$f":"SUM(C96:C100)","v":935},{"$f":"SUM(D96:D100)","v":1293},{"$f":"SUM(E96:E100)","v":1737},null,{"$f":"INDEX(O32:Q32,Index!$B$23)","v":1737}]
["male",17,812,961,885,null,17,15204,15937,17024,null,"Males","85-89",null,{"$f":"SUM(C101:C105)","v":426},{"$f":"SUM(D101:D105)","v":583},858,null,{"$f":"INDEX(O33:Q33,Index!$B$23)","v":858}]
["male",18,752,883,813,null,18,15956,16820,17837,null,"Males","90+",null,{"$f":"C106","v":142},{"$f":"D106","v":238},356,null,{"$f":"INDEX(O34:Q34,Index!$B$23)","v":356}]
["male",19,662,802,690,null,19,16618,17622,18527]
["male",20,591,749,695,null,20,17209,18371,19222,null,"Males","All Ages",null,{"$f":"C200","v":62260},{"$f":"D200","v":68683},{"$f":"E200","v":76368},null,{"$f":"INDEX(O36:Q36,Index!$B$23)","v":76368}]
["male",21,729,834,801,null,21,17938,19205,20023,null,"Females","0-4",null,{"$f":"SUM(C109:C113)","v":3850},{"$f":"SUM(D109:D113)","v":4216},{"$f":"SUM(E109:E113)","v":4398},null,{"$f":"INDEX(O37:Q37,Index!$B$23)","v":4398}]
["male",22,730,814,817,null,22,18668,20019,20840,null,"Females","5-9",null,{"$f":"SUM(C114:C118)","v":4129},{"$f":"SUM(D114:D118)","v":3896},{"$f":"SUM(E114:E118)","v":4565},null,{"$f":"INDEX(O38:Q38,Index!$B$23)","v":4565}]
["male",23,631,792,899,null,23,19299,20811,21739,null,"Females","10-14",null,{"$f":"SUM(C119:C123)","v":4237},{"$f":"SUM(D119:D123)","v":4298},{"$f":"SUM(E119:E123)","v":4641},null,{"$f":"INDEX(O39:Q39,Index!$B$23)","v":4641}]
["male",24,654,840,889,null,24,19953,21651,22628,null,"Females","15-19",null,{"$f":"SUM(C124:C128)","v":3710},{"$f":"SUM(D124:D128)","v":4177},{"$f":"SUM(E124:E128)","v":3933},null,{"$f":"INDEX(O40:Q40,Index!$B$23)","v":3933}]
["male",25,674,787,882,null,25,20627,22438,23510,null,"Females","20-24",null,{"$f":"SUM(C129:C133)","v":3138},{"$f":"SUM(D129:D133)","v":3761},{"$f":"SUM(E129:E133)","v":3861},null,{"$f":"INDEX(O41:Q41,Index!$B$23)","v":3861}]
["male",26,696,809,912,null,26,21323,23247,24422,null,"Females","25-29",null,{"$f":"SUM(C134:C138)","v":3757},{"$f":"SUM(D134:D138)","v":4187},{"$f":"SUM(E134:E138)","v":4656},null,{"$f":"INDEX(O42:Q42,Index!$B$23)","v":4656}]
["male",27,708,841,977,null,27,22031,24088,25399,null,"Females","30-34",null,{"$f":"SUM(C139:C143)","v":4610},{"$f":"SUM(D139:D143)","v":4046},{"$f":"SUM(E139:E143)","v":5270},null,{"$f":"INDEX(O43:Q43,Index!$B$23)","v":5270}]
["male",28,773,750,1020,null,28,22804,24838,26419,null,"Females","35-39",null,{"$f":"SUM(C144:C148)","v":4832},{"$f":"SUM(D144:D148)","v":4265},{"$f":"SUM(E144:E148)","v":5014},null,{"$f":"INDEX(O44:Q44,Index!$B$23)","v":5014}]
["male",29,840,806,970,null,29,23644,25644,27389,null,"Females","40-44",null,{"$f":"SUM(C149:C153)","v":4132},{"$f":"SUM(D149:D153)","v":5130},{"$f":"SUM(E149:E153)","v":4640},null,{"$f":"INDEX(O45:Q45,Index!$B$23)","v":4640}]
["male",30,825,800,1026,null,30,24469,26444,28415,null,"Females","45-49",null,{"$f":"SUM(C154:C158)","v":3828},{"$f":"SUM(D154:D158)","v":5235},{"$f":"SUM(E154:E158)","v":4729},null,{"$f":"INDEX(O46:Q46,Index!$B$23)","v":4729}]
["male",31,893,812,1071,null,31,25362,27256,29486,null,"Females","50-54",null,{"$f":"SUM(C159:C163)","v":4667},{"$f":"SUM(D159:D163)","v":4454},{"$f":"SUM(E159:E163)","v":5353},null,{"$f":"INDEX(O47:Q47,Index!$B$23)","v":5353}]
["male",32,892,753,1047,null,32,26254,28009,30533,null,"Females","55-59",null,{"$f":"SUM(C164:C168)","v":3763},{"$f":"SUM(D164:D168)","v":3965},{"$f":"SUM(E164:E168)","v":5401},null,{"$f":"INDEX(O48:Q48,Index!$B$23)","v":5401}]
["male",33,921,654,992,null,33,{"$f":"H48+C49","v":27175},{"$f":"I48+D49","v":28663},{"$f":"J48+E49","v":31525},null,"Females","60-64",null,{"$f":"SUM(C169:C173)","v":3085},{"$f":"SUM(D169:D173)","v":4652},{"$f":"SUM(E169:E173)","v":4459},null,{"$f":"INDEX(O49:Q49,Index!$B$23)","v":4459}]
["male",34,924,710,1071,null,34,28099,29373,32596,null,"Females","65-69",null,{"$f":"SUM(C174:C178)","v":2658},{"$f":"SUM(D174:D178)","v":3661},{"$f":"SUM(E174:E178)","v":3871},null,{"$f":"INDEX(O50:Q50,Index!$B$23)","v":3871}]
["male",35,998,772,1004,null,35,29097,30145,33600,null,"Females","70-74",null,{"$f":"SUM(C179:C183)","v":2534},{"$f":"SUM(D179:D183)","v":2827},{"$f":"SUM(E179:E183)","v":4344},null,{"$f":"INDEX(O51:Q51,Index!$B$23)","v":4344}]
["male",36,1007,770,992,null,36,30104,30915,34592,null,"Females","75-79",null,{"$f":"SUM(C184:C188)","v":2222},{"$f":"SUM(D184:D188)","v":2263},{"$f":"SUM(E184:E188)","v":3083},null,{"$f":"INDEX(O52:Q52,Index!$B$23)","v":3083}]
["male",37,1049,839,966,null,37,31153,31754,35558,null,"Females","80-84",null,{"$f":"SUM(C189:C193)","v":1620},{"$f":"SUM(D189:D193)","v":1812},{"$f":"SUM(E189:E193)","v":2103},null,{"$f":"INDEX(O53:Q53,Index!$B$23)","v":2103}]
["male",38,944,885,983,null,38,32097,32639,36541,null,"Females","85-89",null,{"$f":"SUM(C194:C198)","v":966},{"$f":"SUM(D194:D198)","v":1161},1246,null,{"$f":"INDEX(O54:Q54,Index!$B$23)","v":1246}]
["male",39,940,964,998,null,39,33037,33603,37539,null,"Females","90+",null,{"$f":"C199","v":522},{"$f":"D199","v":677},801,null,{"$f":"INDEX(O55:Q55,Index!$B$23)","v":801}]
["male",40,902,930,960,null,40,33939,34533,38499]
["male",41,841,934,1051,null,41,34780,35467,39550]
["male",42,843,1007,935,null,42,35623,36474,40485]
["male",43,816,1049,830,null,43,36439,37523,41315]
["male",44,813,1022,837,null,44,37252,38545,42152]
["male",45,827,1072,862,null,45,38079,39617,43014]
["male",46,798,1094,891,null,46,38877,40711,43905]
["male",47,829,1076,886,null,47,39706,41787,44791]
["male",48,748,1038,998,null,48,40454,42825,45789]
["male",49,769,987,1033,null,49,41223,43812,46822]
["male",50,810,943,1019,null,50,42033,44755,47841]
["male",51,881,928,1044,null,51,42914,45683,48885]
["male",52,910,873,1033,null,52,43824,46556,49918]
["male",53,940,931,1082,null,53,44764,47487,51000]
["male",54,1044,850,1058,null,54,45808,48337,52058]
["male",55,834,870,1085,null,55,46642,49207,53143]
["male",56,839,814,1099,null,56,47481,50021,54242]
["male",57,757,854,1130,null,57,48238,50875,55372]
["male",58,687,764,1008,null,58,48925,51639,56380]
["male",59,663,719,980,null,59,49588,52358,57360]
["male",60,607,836,951,null,60,50195,53194,58311]
["male",61,631,854,897,null,61,50826,54048,59208]
["male",62,640,904,897,null,62,51466,54952,60105]
["male",63,666,971,886,null,63,52132,55923,60991]
["male",64,549,1007,853,null,64,52681,56930,61844]
["male",65,571,753,805,null,65,{"$f":"H80+C81","v":53252},{"$f":"I80+D81","v":57683},{"$f":"J80+E81","v":62649}]
["male",66,571,828,778,null,66,53823,58511,63427]
["male",67,484,724,789,null,67,54307,59235,64216]
["male",68,469,631,699,null,68,54776,59866,64915]
["male",69,510,583,702,null,69,55286,60449,65617]
["male",70,494,543,762,null,70,55780,60992,66379]
["male",71,455,609,775,null,71,56235,61601,67154]
["male",72,411,556,766,null,72,56646,62157,67920]
["male",73,423,526,866,null,73,57069,62683,68786]
["male",74,412,450,818,null,74,57481,63133,69604]
["male",75,362,458,602,null,75,57843,63591,70206]
["male",76,331,427,649,null,76,58174,64018,70855]
["male",77,304,368,581,null,77,58478,64386,71436]
["male",78,302,325,502,null,78,58780,64711,71938]
["male",79,265,327,422,null,79,59045,65038,72360]
["male",80,278,318,403,null,80,59323,65356,72763]
["male",81,242,289,411,null,81,59565,65645,73174]
["male",82,160,259,356,null,82,59725,65904,73530]
["male",83,138,202,308,null,83,59863,66106,73838]
["male",84,117,225,259,null,84,59980,66331,74097]
["male",85,118,149,233,null,85,60098,66480,74330]
["male",86,89,144,217,null,86,60187,66624,74547]
["male",87,85,115,159,null,87,60272,66739,74706]
["male",88,84,100,126,null,88,60356,66839,74832]
["male",89,50,75,123,null,89,60406,66914,74955]
["male","90+",142,238,356,null,"90+",60548,67152,75311]
[null,"All Males",{"$f":"SUM(C16:C106)","v":60548},67152,{"$f":"SUM(E16:E106)","v":75311},null,"Females"]
["Sex","Age"]
["female",0,723,867,794,null,0,{"$f":"C109","v":723},{"$f":"D109","v":867},{"$f":"E109","v":794}]
["female",1,733,868,877,null,1,{"$f":"H109+C110","v":1456},{"$f":"I109+D110","v":1735},{"$f":"J109+E110","v":1671}]
["female",2,779,795,907,null,2,2235,2530,2578]
["female",3,795,862,896,null,3,3030,3392,3474]
["female",4,820,824,924,null,4,3850,4216,4398]
["female",5,779,816,913,null,5,4629,5032,5311]
["female",6,836,764,910,null,6,5465,5796,6221]
["female",7,814,756,875,null,7,6279,6552,7096]
["female",8,893,778,933,null,8,7172,7330,8029]
["female",9,807,782,934,null,9,7979,8112,8963]
["female",10,850,768,962,null,10,8829,8880,9925]
["female",11,860,846,967,null,11,9689,9726,10892]
["female",12,849,872,922,null,12,10538,10598,11814]
["female",13,828,889,921,null,13,11366,11487,12735]
["female",14,850,923,869,null,14,12216,12410,13604]
["female",15,782,884,853,null,15,12998,13294,14457]
["female",16,785,877,843,null,16,13783,14171,15300]
["female",17,757,852,827,null,17,14540,15023,16127]
["female",18,718,855,762,null,18,15258,15878,16889]
["female",19,668,709,648,null,19,15926,16587,17537]
["female",20,625,716,653,null,20,16551,17303,18190]
["female",21,646,701,705,null,21,17197,18004,18895]
["female",22,624,776,801,null,22,17821,18780,19696]
["female",23,575,800,843,null,23,18396,19580,20539]
["female",24,668,768,859,null,24,19064,20348,21398]
["female",25,660,818,867,null,25,19724,21166,22265]
["female",26,719,849,875,null,26,20443,22015,23140]
["female",27,762,824,930,null,27,21205,22839,24070]
["female",28,787,820,1035,null,28,21992,23659,25105]
["female",29,829,876,949,null,29,22821,24535,26054]
["female",30,909,876,1038,null,30,23730,25411,27092]
["female",31,855,872,1118,null,31,24585,26283,28210]
["female",32,940,768,1051,null,32,25525,27051,29261]
["female",33,949,740,1030,null,33,{"$f":"H141+C142","v":26474},{"$f":"I141+D142","v":27791},{"$f":"J141+E142","v":30291}]
["female",34,957,790,1033,null,34,27431,28581,31324]
["female",35,964,771,1037,null,35,28395,29352,32361]
["female",36,1032,807,982,null,36,29427,30159,33343]
["female",37,956,834,999,null,37,30383,30993,34342]
["female",38,937,925,960,null,38,31320,31918,35302]
["female",39,943,928,1036,null,39,32263,32846,36338]
["female",40,835,1023,1001,null,40,33098,33869,37339]
["female",41,886,986,1006,null,41,33984,34855,38345]
["female",42,815,1048,913,null,42,34799,35903,39258]
["female",43,799,1019,826,null,43,35598,36922,40084]
["female",44,797,1054,894,null,44,36395,37976,40978]
["female",45,785,1091,865,null,45,37180,39067,41843]
["female",46,730,1091,897,null,46,37910,40158,42740]
["female",47,777,1070,964,null,47,38687,41228,43704]
["female",48,747,987,1001,null,48,39434,42215,44705]
["female",49,789,996,1002,null,49,40223,43211,45707]
["female",50,783,906,1068,null,50,41006,44117,46775]
["female",51,909,967,1061,null,51,41915,45084,47836]
["female",52,890,919,1075,null,52,42805,46003,48911]
["female",53,999,835,1053,null,53,43804,46838,49964]
["female",54,1086,827,1096,null,54,44890,47665,51060]
["female",55,797,806,1137,null,55,45687,48471,52197]
["female",56,844,786,1094,null,56,46531,49257,53291]
["female",57,791,810,1126,null,57,47322,50067,54417]
["female",58,719,762,1012,null,58,48041,50829,55429]
["female",59,612,801,1032,null,59,48653,51630,56461]
["female",60,608,776,936,null,60,49261,52406,57397]
["female",61,626,920,964,null,61,49887,53326,58361]
["female",62,649,897,909,null,62,50536,54223,59270]
["female",63,606,1024,819,null,63,51142,55247,60089]
["female",64,596,1035,831,null,64,51738,56282,60920]
["female",65,555,767,805,null,65,{"$f":"H173+C174","v":52293},{"$f":"I173+D174","v":57049},{"$f":"J173+E174","v":61725}]
["female",66,530,851,776,null,66,52823,57900,62501]
["female",67,506,778,769,null,67,53329,58678,63270]
["female",68,524,688,746,null,68,53853,59366,64016]
["female",69,543,577,775,null,69,54396,59943,64791]
["female",70,540,589,754,null,70,54936,60532,65545]
["female",71,522,583,881,null,71,55458,61115,66426]
["female",72,495,592,829,null,72,55953,61707,67255]
["female",73,494,545,951,null,73,56447,62252,68206]
["female",74,483,518,929,null,74,56930,62770,69135]
["female",75,449,500,690,null,75,57379,63270,69825]
["female",76,473,473,722,null,76,57852,63743,70547]
["female",77,439,410,651,null,77,58291,64153,71198]
["female",78,421,442,555,null,78,58712,64595,71753]
["female",79,440,438,465,null,79,59152,65033,72218]
["female",80,465,415,487,null,80,59617,65448,72705]
["female",81,431,402,440,null,81,60048,65850,73145]
["female",82,247,341,426,null,82,60295,66191,73571]
["female",83,205,362,402,null,83,60500,66553,73973]
["female",84,272,292,348,null,84,60772,66845,74321]
["female",85,206,255,316,null,85,60978,67100,74637]
["female",86,242,254,262,null,86,61220,67354,74899]
["female",87,205,239,244,null,87,61425,67593,75143]
["female",88,153,185,228,null,88,61578,67778,75371]
["female",89,160,228,196,null,89,61738,68006,75567]
["female","90+",522,677,801,null,"90+",62260,68683,76368]
[null,"All Females",{"$f":"SUM(C109:C199)","v":62260},68683,{"$f":"SUM(E109:E199)","v":76368}]

{"sheet":"THA","index":18,"n_rows":200,"n_cols":19,"rows_kept":200,"cut":false,"hidden":true,"merged":[[0,10,21,10]]}
["Mid Year Population Estimates",null,null,null,null,null,null,null,null,null,"Insert column here before extending the table"]
["2001, 2011, and 2021 Census: The Office forNnational Statistics (ONS)",null,null,null,null,null,"Selected Ages:",null,null,null,null,null,null,null,"Start year","End Year","Number change","% Change"]
[null,null,null,null,null,null,null,{"$f":"H13","v":2001},2011,{"$f":"J13","v":2021},null,null,null,null,{"$f":"INDEX($H3:$I3,Index!$B$16)","v":2011},{"$f":"INDEX($H3:$J3,Index!$B$19)","v":2011}]
[null,null,null,null,null,null,"Males",{"$f":"OFFSET(H16,Index!$B$7-1,0)-IF(Index!$B$4-2=1,0,OFFSET(H16,Index!$B$4-2,0))","v":59952},{"$f":"OFFSET(I16,Index!$B$7-1,0)-IF(Index!$B$4-2=1,0,OFFSET(I16,Index!$B$4-2,0))","v":64555},{"$f":"OFFSET(J16,Index!$B$7-1,0)-IF(Index!$B$4-2=1,0,OFFSET(J16,Index!$B$4-2,0))","v":67657},null,null,null,null,{"$f":"INDEX($H4:$I4,Index!$B$16)","v":64555},{"$f":"INDEX($H4:$J4,Index!$B$19)","v":64555},{"$f":"P4-O4","v":0},{"$f":"Q4/O4","v":0}]
[null,null,null,null,null,null,"Females",{"$f":"OFFSET(H109,Index!$B$7-1,0)-IF(Index!$B$4-2=1,0,OFFSET(H109,Index!$B$4-2,0))","v":66748},{"$f":"OFFSET(I109,Index!$B$7-1,0)-IF(Index!$B$4-2=1,0,OFFSET(I109,Index!$B$4-2,0))","v":69631},{"$f":"OFFSET(J109,Index!$B$7-1,0)-IF(Index!$B$4-2=1,0,OFFSET(J109,Index!$B$4-2,0))","v":72932},null,null,null,null,{"$f":"INDEX($H5:$I5,Index!$B$16)","v":69631},{"$f":"INDEX($H5:$J5,Index!$B$19)","v":69631},{"$f":"P5-O5","v":0},{"$f":"Q5/O5","v":0}]
[null,null,null,null,null,null,"Total",{"$f":"SUM(H4:H5)","v":126700},134186,{"$f":"SUM(J4:J5)","v":140589},null,null,null,null,{"$f":"INDEX($H6:$I6,Index!$B$16)","v":134186},{"$f":"INDEX($H6:$J6,Index!$B$19)","v":134186},{"$f":"P6-O6","v":0},{"$f":"Q6/O6","v":0}]
[]
[null,null,null,null,null,null,"Males",{"$f":"IF(H4<0,\"0\",H4)","v":59952},64555,{"$f":"IF(J4<0,\"0\",J4)","v":67657}]
[null,null,null,null,null,null,"Females",66748,69631,72932]
[null,null,null,null,null,null,"Total",{"$f":"SUM(H8:H9)","v":126700},134186,{"$f":"SUM(J8:J9)","v":140589}]
[]
["Thanet",null,null,null,null,null,null,null,null,null,null,"Population Pyramid"]
[null,null,null,null,null,null,null,{"$f":"C14","v":2001},{"$f":"D14","v":2011},{"$f":"E14","v":2021}]
["Sex","Age",2001,2011,2021,null,null,null,null,null,null,null,null,null,2001,2011,2021,null,{"$f":"INDEX(O14:Q14,Index!$B$23)","v":2021}]
[null,"All persons",{"$f":"SUM(C107,C200)","v":126700},134186,{"$f":"SUM(E107,E200)","v":140589},null,"Males",null,null,null,null,"Males","All Ages",null,{"$f":"C107","v":59952},{"$f":"D107","v":64555},{"$f":"E107","v":67657},null,{"$f":"INDEX(O15:Q15,Index!$B$23)","v":67657}]
["male",0,636,841,721,null,0,{"$f":"C16","v":636},{"$f":"D16","v":841},{"$f":"E16","v":721},null,"Males","0-4",null,{"$f":"SUM(C16:C20)","v":3681},{"$f":"SUM(D16:D20)","v":4172},{"$f":"SUM(E16:E20)","v":3857},null,{"$f":"INDEX(O16:Q16,Index!$B$23)","v":3857}]
["male",1,705,791,777,null,1,{"$f":"H16+C17","v":1341},{"$f":"I16+D17","v":1632},{"$f":"J16+E17","v":1498},null,"Males","5-9",null,{"$f":"SUM(C21:C25)","v":4167},{"$f":"SUM(D21:D25)","v":3784},{"$f":"SUM(E21:E25)","v":4163},null,{"$f":"INDEX(O17:Q17,Index!$B$23)","v":4163}]
["male",2,728,849,768,null,2,2069,2481,2266,null,"Males","10-14",null,{"$f":"SUM(C26:C30)","v":4456},{"$f":"SUM(D26:D30)","v":4507},{"$f":"SUM(E26:E30)","v":4274},null,{"$f":"INDEX(O18:Q18,Index!$B$23)","v":4274}]
["male",3,794,849,795,null,3,2863,3330,3061,null,"Males","15-19",null,{"$f":"SUM(C31:C35)","v":3978},{"$f":"SUM(D31:D35)","v":4515},{"$f":"SUM(E31:E35)","v":3812},null,{"$f":"INDEX(O19:Q19,Index!$B$23)","v":3812}]
["male",4,818,842,796,null,4,3681,4172,3857,null,"Males","20-24",null,{"$f":"SUM(C36:C40)","v":2876},{"$f":"SUM(D36:D40)","v":3685},{"$f":"SUM(E36:E40)","v":3406},null,{"$f":"INDEX(O20:Q20,Index!$B$23)","v":3406}]
["male",5,798,767,812,null,5,4479,4939,4669,null,"Males","25-29",null,{"$f":"SUM(C41:C45)","v":2964},{"$f":"SUM(D41:D45)","v":3425},{"$f":"SUM(E41:E45)","v":3630},null,{"$f":"INDEX(O21:Q21,Index!$B$23)","v":3630}]
["male",6,742,773,781,null,6,5221,5712,5450,null,"Males","30-34",null,{"$f":"SUM(C46:C50)","v":3769},{"$f":"SUM(D46:D50)","v":3212},{"$f":"SUM(E46:E50)","v":3938},null,{"$f":"INDEX(O22:Q22,Index!$B$23)","v":3938}]
["male",7,828,759,784,null,7,6049,6471,6234,null,"Males","35-39",null,{"$f":"SUM(C51:C55)","v":4113},{"$f":"SUM(D51:D55)","v":3485},{"$f":"SUM(E51:E55)","v":3922},null,{"$f":"INDEX(O23:Q23,Index!$B$23)","v":3922}]
["male",8,863,722,860,null,8,6912,7193,7094,null,"Males","40-44",null,{"$f":"SUM(C56:C60)","v":3841},{"$f":"SUM(D56:D60)","v":4292},{"$f":"SUM(E56:E60)","v":3918},null,{"$f":"INDEX(O24:Q24,Index!$B$23)","v":3918}]
["male",9,936,763,926,null,9,7848,7956,8020,null,"Males","45-49",null,{"$f":"SUM(C61:C65)","v":3597},{"$f":"SUM(D61:D65)","v":4542},{"$f":"SUM(E61:E65)","v":4027},null,{"$f":"INDEX(O25:Q25,Index!$B$23)","v":4027}]
["male",10,955,818,845,null,10,8803,8774,8865,null,"Males","50-54",null,{"$f":"SUM(C66:C70)","v":4250},{"$f":"SUM(D66:D70)","v":4169},{"$f":"SUM(E66:E70)","v":4567},null,{"$f":"INDEX(O26:Q26,Index!$B$23)","v":4567}]
["male",11,849,868,836,null,11,9652,9642,9701,null,"Males","55-59",null,{"$f":"SUM(C71:C75)","v":3871},{"$f":"SUM(D71:D75)","v":3861},{"$f":"SUM(E71:E75)","v":4881},null,{"$f":"INDEX(O27:Q27,Index!$B$23)","v":4881}]
["male",12,924,929,894,null,12,10576,10571,10595,null,"Males","60-64",null,{"$f":"SUM(C76:C80)","v":3244},{"$f":"SUM(D76:D80)","v":4698},{"$f":"SUM(E76:E80)","v":4329},null,{"$f":"INDEX(O28:Q28,Index!$B$23)","v":4329}]
["male",13,911,949,889,null,13,11487,11520,11484,null,"Males","65-69",null,{"$f":"SUM(C81:C85)","v":3000},{"$f":"SUM(D81:D85)","v":3760},{"$f":"SUM(E81:E85)","v":3953},null,{"$f":"INDEX(O29:Q29,Index!$B$23)","v":3953}]
["male",14,817,943,810,null,14,12304,12463,12294,null,"Males","70-74",null,{"$f":"SUM(C86:C90)","v":2881},{"$f":"SUM(D86:D90)","v":2968},{"$f":"SUM(E86:E90)","v":4386},null,{"$f":"INDEX(O30:Q30,Index!$B$23)","v":4386}]
["male",15,924,878,804,null,15,13228,13341,13098,null,"Males","75-79",null,{"$f":"SUM(C91:C95)","v":2532},{"$f":"SUM(D91:D95)","v":2334},{"$f":"SUM(E91:E95)","v":3109},null,{"$f":"INDEX(O31:Q31,Index!$B$23)","v":3109}]
["male",16,872,894,864,null,16,14100,14235,13962,null,"Males","80-84",null,{"$f":"SUM(C96:C100)","v":1678},{"$f":"SUM(D96:D100)","v":1721},{"$f":"SUM(E96:E100)","v":1958},null,{"$f":"INDEX(O32:Q32,Index!$B$23)","v":1958}]
["male",17,855,960,835,null,17,14955,15195,14797,null,"Males","85-89",null,{"$f":"SUM(C101:C105)","v":781},{"$f":"SUM(D101:D105)","v":983},1023,null,{"$f":"INDEX(O33:Q33,Index!$B$23)","v":1023}]
["male",18,707,908,703,null,18,15662,16103,15500,null,"Males","90+",null,{"$f":"C106","v":273},{"$f":"D106","v":442},504,null,{"$f":"INDEX(O34:Q34,Index!$B$23)","v":504}]
["male",19,620,875,606,null,19,16282,16978,16106]
["male",20,667,831,622,null,20,16949,17809,16728,null,"Males","All Ages",null,{"$f":"C200","v":66748},{"$f":"D200","v":69631},{"$f":"E200","v":72932},null,{"$f":"INDEX(O36:Q36,Index!$B$23)","v":72932}]
["male",21,552,702,634,null,21,17501,18511,17362,null,"Females","0-4",null,{"$f":"SUM(C109:C113)","v":3404},{"$f":"SUM(D109:D113)","v":3921},{"$f":"SUM(E109:E113)","v":3481},null,{"$f":"INDEX(O37:Q37,Index!$B$23)","v":3481}]
["male",22,570,766,685,null,22,18071,19277,18047,null,"Females","5-9",null,{"$f":"SUM(C114:C118)","v":3910},{"$f":"SUM(D114:D118)","v":3457},{"$f":"SUM(E114:E118)","v":3806},null,{"$f":"INDEX(O38:Q38,Index!$B$23)","v":3806}]
["male",23,569,730,744,null,23,18640,20007,18791,null,"Females","10-14",null,{"$f":"SUM(C119:C123)","v":4206},{"$f":"SUM(D119:D123)","v":4063},{"$f":"SUM(E119:E123)","v":4027},null,{"$f":"INDEX(O39:Q39,Index!$B$23)","v":4027}]
["male",24,518,656,721,null,24,19158,20663,19512,null,"Females","15-19",null,{"$f":"SUM(C124:C128)","v":3731},{"$f":"SUM(D124:D128)","v":4078},{"$f":"SUM(E124:E128)","v":3331},null,{"$f":"INDEX(O40:Q40,Index!$B$23)","v":3331}]
["male",25,530,733,675,null,25,19688,21396,20187,null,"Females","20-24",null,{"$f":"SUM(C129:C133)","v":3114},{"$f":"SUM(D129:D133)","v":3711},{"$f":"SUM(E129:E133)","v":3338},null,{"$f":"INDEX(O41:Q41,Index!$B$23)","v":3338}]
["male",26,561,639,724,null,26,20249,22035,20911,null,"Females","25-29",null,{"$f":"SUM(C134:C138)","v":3388},{"$f":"SUM(D134:D138)","v":3895},{"$f":"SUM(E134:E138)","v":4116},null,{"$f":"INDEX(O42:Q42,Index!$B$23)","v":4116}]
["male",27,579,732,712,null,27,20828,22767,21623,null,"Females","30-34",null,{"$f":"SUM(C139:C143)","v":4074},{"$f":"SUM(D139:D143)","v":3601},{"$f":"SUM(E139:E143)","v":4598},null,{"$f":"INDEX(O43:Q43,Index!$B$23)","v":4598}]
["male",28,602,611,733,null,28,21430,23378,22356,null,"Females","35-39",null,{"$f":"SUM(C144:C148)","v":4387},{"$f":"SUM(D144:D148)","v":3862},{"$f":"SUM(E144:E148)","v":4329},null,{"$f":"INDEX(O44:Q44,Index!$B$23)","v":4329}]
["male",29,692,710,786,null,29,22122,24088,23142,null,"Females","40-44",null,{"$f":"SUM(C149:C153)","v":4075},{"$f":"SUM(D149:D153)","v":4640},{"$f":"SUM(E149:E153)","v":4166},null,{"$f":"INDEX(O45:Q45,Index!$B$23)","v":4166}]
["male",30,708,671,843,null,30,22830,24759,23985,null,"Females","45-49",null,{"$f":"SUM(C154:C158)","v":3894},{"$f":"SUM(D154:D158)","v":4804},{"$f":"SUM(E154:E158)","v":4460},null,{"$f":"INDEX(O46:Q46,Index!$B$23)","v":4460}]
["male",31,674,670,756,null,31,23504,25429,24741,null,"Females","50-54",null,{"$f":"SUM(C159:C163)","v":4644},{"$f":"SUM(D159:D163)","v":4292},{"$f":"SUM(E159:E163)","v":5195},null,{"$f":"INDEX(O47:Q47,Index!$B$23)","v":5195}]
["male",32,762,643,770,null,32,24266,26072,25511,null,"Females","55-59",null,{"$f":"SUM(C164:C168)","v":3924},{"$f":"SUM(D164:D168)","v":4219},{"$f":"SUM(E164:E168)","v":5094},null,{"$f":"INDEX(O48:Q48,Index!$B$23)","v":5094}]
["male",33,803,633,829,null,33,{"$f":"H48+C49","v":25069},{"$f":"I48+D49","v":26705},{"$f":"J48+E49","v":26340},null,"Females","60-64",null,{"$f":"SUM(C169:C173)","v":3575},{"$f":"SUM(D169:D173)","v":4883},{"$f":"SUM(E169:E173)","v":4668},null,{"$f":"INDEX(O49:Q49,Index!$B$23)","v":4668}]
["male",34,822,595,740,null,34,25891,27300,27080,null,"Females","65-69",null,{"$f":"SUM(C174:C178)","v":3488},{"$f":"SUM(D174:D178)","v":4148},{"$f":"SUM(E174:E178)","v":4520},null,{"$f":"INDEX(O50:Q50,Index!$B$23)","v":4520}]
["male",35,751,583,826,null,35,26642,27883,27906,null,"Females","70-74",null,{"$f":"SUM(C179:C183)","v":3716},{"$f":"SUM(D179:D183)","v":3433},{"$f":"SUM(E179:E183)","v":4895},null,{"$f":"INDEX(O51:Q51,Index!$B$23)","v":4895}]
["male",36,851,685,757,null,36,27493,28568,28663,null,"Females","75-79",null,{"$f":"SUM(C184:C188)","v":3711},{"$f":"SUM(D184:D188)","v":2904},{"$f":"SUM(E184:E188)","v":3655},null,{"$f":"INDEX(O52:Q52,Index!$B$23)","v":3655}]
["male",37,867,687,815,null,37,28360,29255,29478,null,"Females","80-84",null,{"$f":"SUM(C189:C193)","v":2695},{"$f":"SUM(D189:D193)","v":2612},{"$f":"SUM(E189:E193)","v":2513},null,{"$f":"INDEX(O53:Q53,Index!$B$23)","v":2513}]
["male",38,813,731,735,null,38,29173,29986,30213,null,"Females","85-89",null,{"$f":"SUM(C194:C198)","v":1744},{"$f":"SUM(D194:D198)","v":1883},1608,null,{"$f":"INDEX(O54:Q54,Index!$B$23)","v":1608}]
["male",39,831,799,789,null,39,30004,30785,31002,null,"Females","90+",null,{"$f":"C199","v":1068},{"$f":"D199","v":1225},1132,null,{"$f":"INDEX(O55:Q55,Index!$B$23)","v":1132}]
["male",40,780,862,830,null,40,30784,31647,31832]
["male",41,740,795,816,null,41,31524,32442,32648]
["male",42,762,869,751,null,42,32286,33311,33399]
["male",43,803,857,781,null,43,33089,34168,34180]
["male",44,756,909,740,null,44,33845,35077,34920]
["male",45,682,871,721,null,45,34527,35948,35641]
["male",46,726,955,789,null,46,35253,36903,36430]
["male",47,740,911,779,null,47,35993,37814,37209]
["male",48,726,896,857,null,48,36719,38710,38066]
["male",49,723,909,881,null,49,37442,39619,38947]
["male",50,779,854,928,null,50,38221,40473,39875]
["male",51,759,822,841,null,51,38980,41295,40716]
["male",52,797,849,927,null,52,39777,42144,41643]
["male",53,956,833,894,null,53,40733,42977,42537]
["male",54,959,811,977,null,54,41692,43788,43514]
["male",55,778,735,939,null,55,42470,44523,44453]
["male",56,836,769,982,null,56,43306,45292,45435]
["male",57,787,803,986,null,57,44093,46095,46421]
["male",58,774,773,991,null,58,44867,46868,47412]
["male",59,696,781,983,null,59,45563,47649,48395]
["male",60,593,891,882,null,60,46156,48540,49277]
["male",61,658,836,825,null,61,46814,49376,50102]
["male",62,678,910,891,null,62,47492,50286,50993]
["male",63,653,1048,912,null,63,48145,51334,51905]
["male",64,662,1013,819,null,64,48807,52347,52724]
["male",65,588,764,789,null,65,{"$f":"H80+C81","v":49395},{"$f":"I80+D81","v":53111},{"$f":"J80+E81","v":53513}]
["male",66,649,849,793,null,66,50044,53960,54306]
["male",67,572,771,810,null,67,50616,54731,55116]
["male",68,602,739,761,null,68,51218,55470,55877]
["male",69,589,637,800,null,69,51807,56107,56677]
["male",70,592,603,845,null,70,52399,56710,57522]
["male",71,629,606,816,null,71,53028,57316,58338]
["male",72,585,597,853,null,72,53613,57913,59191]
["male",73,528,589,958,null,73,54141,58502,60149]
["male",74,547,573,914,null,74,54688,59075,61063]
["male",75,527,500,694,null,75,55215,59575,61757]
["male",76,499,524,733,null,76,55714,60099,62490]
["male",77,484,435,649,null,77,56198,60534,63139]
["male",78,486,477,567,null,78,56684,61011,63706]
["male",79,536,398,466,null,79,57220,61409,64172]
["male",80,476,415,472,null,80,57696,61824,64644]
["male",81,459,358,427,null,81,58155,62182,65071]
["male",82,286,364,369,null,82,58441,62546,65440]
["male",83,215,301,366,null,83,58656,62847,65806]
["male",84,242,283,324,null,84,58898,63130,66130]
["male",85,201,241,258,null,85,59099,63371,66388]
["male",86,177,232,241,null,86,59276,63603,66629]
["male",87,175,196,204,null,87,59451,63799,66833]
["male",88,121,179,174,null,88,59572,63978,67007]
["male",89,107,135,146,null,89,59679,64113,67153]
["male","90+",273,442,504,null,"90+",59952,64555,67657]
[null,"All Males",{"$f":"SUM(C16:C106)","v":59952},64555,{"$f":"SUM(E16:E106)","v":67657},null,"Females"]
["Sex","Age"]
["female",0,606,793,678,null,0,{"$f":"C109","v":606},{"$f":"D109","v":793},{"$f":"E109","v":678}]
["female",1,636,777,653,null,1,{"$f":"H109+C110","v":1242},{"$f":"I109+D110","v":1570},{"$f":"J109+E110","v":1331}]
["female",2,697,780,713,null,2,1939,2350,2044]
["female",3,724,781,734,null,3,2663,3131,2778]
["female",4,741,790,703,null,4,3404,3921,3481]
["female",5,765,769,736,null,5,4169,4690,4217]
["female",6,727,664,744,null,6,4896,5354,4961]
["female",7,758,704,765,null,7,5654,6058,5726]
["female",8,854,630,761,null,8,6508,6688,6487]
["female",9,806,690,800,null,9,7314,7378,7287]
["female",10,874,739,806,null,10,8188,8117,8093]
["female",11,802,730,796,null,11,8990,8847,8889]
["female",12,842,841,831,null,12,9832,9688,9720]
["female",13,837,879,810,null,13,10669,10567,10530]
["female",14,851,874,784,null,14,11520,11441,11314]
["female",15,778,848,763,null,15,12298,12289,12077]
["female",16,811,766,713,null,16,13109,13055,12790]
["female",17,789,853,685,null,17,13898,13908,13475]
["female",18,706,852,612,null,18,14604,14760,14087]
["female",19,647,759,558,null,19,15251,15519,14645]
["female",20,653,721,553,null,20,15904,16240,15198]
["female",21,644,682,594,null,21,16548,16922,15792]
["female",22,634,762,687,null,22,17182,17684,16479]
["female",23,576,745,749,null,23,17758,18429,17228]
["female",24,607,801,755,null,24,18365,19230,17983]
["female",25,643,796,762,null,25,19008,20026,18745]
["female",26,603,798,805,null,26,19611,20824,19550]
["female",27,628,768,787,null,27,20239,21592,20337]
["female",28,734,735,893,null,28,20973,22327,21230]
["female",29,780,798,869,null,29,21753,23125,22099]
["female",30,815,784,951,null,30,22568,23909,23050]
["female",31,793,760,884,null,31,23361,24669,23934]
["female",32,851,719,877,null,32,24212,25388,24811]
["female",33,805,652,936,null,33,{"$f":"H141+C142","v":25017},{"$f":"I141+D142","v":26040},{"$f":"J141+E142","v":25747}]
["female",34,810,686,950,null,34,25827,26726,26697]
["female",35,880,743,872,null,35,26707,27469,27569]
["female",36,890,729,925,null,36,27597,28198,28494]
["female",37,856,712,842,null,37,28453,28910,29336]
["female",38,882,837,836,null,38,29335,29747,30172]
["female",39,879,841,854,null,39,30214,30588,31026]
["female",40,855,922,884,null,40,31069,31510,31910]
["female",41,806,896,862,null,41,31875,32406,32772]
["female",42,794,924,858,null,42,32669,33330,33630]
["female",43,829,937,763,null,43,33498,34267,34393]
["female",44,791,961,799,null,44,34289,35228,35192]
["female",45,783,967,848,null,45,35072,36195,36040]
["female",46,745,958,873,null,46,35817,37153,36913]
["female",47,791,925,829,null,47,36608,38078,37742]
["female",48,795,1017,982,null,48,37403,39095,38724]
["female",49,780,937,928,null,49,38183,40032,39652]
["female",50,772,913,1049,null,50,38955,40945,40701]
["female",51,855,882,980,null,51,39810,41827,41681]
["female",52,865,820,1065,null,52,40675,42647,42746]
["female",53,1045,825,1041,null,53,41720,43472,43787]
["female",54,1107,852,1060,null,54,42827,44324,44847]
["female",55,840,867,981,null,55,43667,45191,45828]
["female",56,840,802,1036,null,56,44507,45993,46864]
["female",57,778,877,1015,null,57,45285,46870,47879]
["female",58,757,858,1071,null,58,46042,47728,48950]
["female",59,709,815,991,null,59,46751,48543,49941]
["female",60,651,844,976,null,60,47402,49387,50917]
["female",61,740,863,950,null,61,48142,50250,51867]
["female",62,709,930,914,null,62,48851,51180,52781]
["female",63,708,1111,921,null,63,49559,52291,53702]
["female",64,767,1135,907,null,64,50326,53426,54609]
["female",65,723,874,891,null,65,{"$f":"H173+C174","v":51049},{"$f":"I173+D174","v":54300},{"$f":"J173+E174","v":55500}]
["female",66,684,919,889,null,66,51733,55219,56389]
["female",67,664,828,946,null,67,52397,56047,57335]
["female",68,684,795,894,null,68,53081,56842,58229]
["female",69,733,732,900,null,69,53814,57574,59129]
["female",70,750,662,897,null,70,54564,58236,60026]
["female",71,744,707,914,null,71,55308,58943,60940]
["female",72,754,704,941,null,72,56062,59647,61881]
["female",73,718,678,1067,null,73,56780,60325,62948]
["female",74,750,682,1076,null,74,57530,61007,64024]
["female",75,752,614,780,null,75,58282,61621,64804]
["female",76,680,592,824,null,76,58962,62213,65628]
["female",77,737,548,737,null,77,59699,62761,66365]
["female",78,740,574,702,null,78,60439,63335,67067]
["female",79,802,576,612,null,79,61241,63911,67679]
["female",80,737,596,510,null,80,61978,64507,68189]
["female",81,659,533,546,null,81,62637,65040,68735]
["female",82,472,543,522,null,82,63109,65583,69257]
["female",83,395,471,484,null,83,63504,66054,69741]
["female",84,432,469,451,null,84,63936,66523,70192]
["female",85,429,434,400,null,85,64365,66957,70592]
["female",86,361,416,344,null,86,64726,67373,70936]
["female",87,340,371,313,null,87,65066,67744,71249]
["female",88,331,333,288,null,88,65397,68077,71537]
["female",89,283,329,263,null,89,65680,68406,71800]
["female","90+",1068,1225,1132,null,"90+",66748,69631,72932]
[null,"All Females",{"$f":"SUM(C109:C199)","v":66748},69631,{"$f":"SUM(E109:E199)","v":72932}]

{"sheet":"TON","index":19,"n_rows":200,"n_cols":19,"rows_kept":200,"cut":false,"hidden":true,"merged":[[0,10,21,10]]}
["Mid Year Population Estimates",null,null,null,null,null,null,null,null,null,"Insert column here before extending the table"]
["2001, 2011, and 2021 Census: The Office forNnational Statistics (ONS)",null,null,null,null,null,"Selected Ages:",null,null,null,null,null,null,null,"Start year","End Year","Number change","% Change"]
[null,null,null,null,null,null,null,{"$f":"H13","v":2001},2011,{"$f":"J13","v":2021},null,null,null,null,{"$f":"INDEX($H3:$I3,Index!$B$16)","v":2011},{"$f":"INDEX($H3:$J3,Index!$B$19)","v":2011}]
[null,null,null,null,null,null,"Males",{"$f":"OFFSET(H16,Index!$B$7-1,0)-IF(Index!$B$4-2=1,0,OFFSET(H16,Index!$B$4-2,0))","v":52637},{"$f":"OFFSET(I16,Index!$B$7-1,0)-IF(Index!$B$4-2=1,0,OFFSET(I16,Index!$B$4-2,0))","v":59207},{"$f":"OFFSET(J16,Index!$B$7-1,0)-IF(Index!$B$4-2=1,0,OFFSET(J16,Index!$B$4-2,0))","v":64353},null,null,null,null,{"$f":"INDEX($H4:$I4,Index!$B$16)","v":59207},{"$f":"INDEX($H4:$J4,Index!$B$19)","v":59207},{"$f":"P4-O4","v":0},{"$f":"Q4/O4","v":0}]
[null,null,null,null,null,null,"Females",{"$f":"OFFSET(H109,Index!$B$7-1,0)-IF(Index!$B$4-2=1,0,OFFSET(H109,Index!$B$4-2,0))","v":54929},{"$f":"OFFSET(I109,Index!$B$7-1,0)-IF(Index!$B$4-2=1,0,OFFSET(I109,Index!$B$4-2,0))","v":61598},{"$f":"OFFSET(J109,Index!$B$7-1,0)-IF(Index!$B$4-2=1,0,OFFSET(J109,Index!$B$4-2,0))","v":67852},null,null,null,null,{"$f":"INDEX($H5:$I5,Index!$B$16)","v":61598},{"$f":"INDEX($H5:$J5,Index!$B$19)","v":61598},{"$f":"P5-O5","v":0},{"$f":"Q5/O5","v":0}]
[null,null,null,null,null,null,"Total",{"$f":"SUM(H4:H5)","v":107566},120805,{"$f":"SUM(J4:J5)","v":132205},null,null,null,null,{"$f":"INDEX($H6:$I6,Index!$B$16)","v":120805},{"$f":"INDEX($H6:$J6,Index!$B$19)","v":120805},{"$f":"P6-O6","v":0},{"$f":"Q6/O6","v":0}]
[]
[null,null,null,null,null,null,"Males",{"$f":"IF(H4<0,\"0\",H4)","v":52637},59207,{"$f":"IF(J4<0,\"0\",J4)","v":64353}]
[null,null,null,null,null,null,"Females",54929,61598,67852]
[null,null,null,null,null,null,"Total",{"$f":"SUM(H8:H9)","v":107566},120805,{"$f":"SUM(J8:J9)","v":132205}]
[]
["Tonbridge & Malling",null,null,null,null,null,null,null,null,null,null,"Population Pyramid"]
[null,null,null,null,null,null,null,{"$f":"C14","v":2001},{"$f":"D14","v":2011},{"$f":"E14","v":2021}]
["Sex","Age",2001,2011,2021,null,null,null,null,null,null,null,null,null,2001,2011,2021,null,{"$f":"INDEX(O14:Q14,Index!$B$23)","v":2021}]
[null,"All persons",{"$f":"SUM(C107,C200)","v":107566},120805,{"$f":"SUM(E107,E200)","v":132205},null,"Males",null,null,null,null,"Males","All Ages",null,{"$f":"C107","v":52637},{"$f":"D107","v":59207},{"$f":"E107","v":64353},null,{"$f":"INDEX(O15:Q15,Index!$B$23)","v":64353}]
["male",0,604,757,657,null,0,{"$f":"C16","v":604},{"$f":"D16","v":757},{"$f":"E16","v":657},null,"Males","0-4",null,{"$f":"SUM(C16:C20)","v":3433},{"$f":"SUM(D16:D20)","v":3941},{"$f":"SUM(E16:E20)","v":3935},null,{"$f":"INDEX(O16:Q16,Index!$B$23)","v":3935}]
["male",1,669,769,773,null,1,{"$f":"H16+C17","v":1273},{"$f":"I16+D17","v":1526},{"$f":"J16+E17","v":1430},null,"Males","5-9",null,{"$f":"SUM(C21:C25)","v":3768},{"$f":"SUM(D21:D25)","v":3906},{"$f":"SUM(E21:E25)","v":4393},null,{"$f":"INDEX(O17:Q17,Index!$B$23)","v":4393}]
["male",2,721,810,858,null,2,1994,2336,2288,null,"Males","10-14",null,{"$f":"SUM(C26:C30)","v":3896},{"$f":"SUM(D26:D30)","v":4114},{"$f":"SUM(E26:E30)","v":4511},null,{"$f":"INDEX(O18:Q18,Index!$B$23)","v":4511}]
["male",3,692,810,795,null,3,2686,3146,3083,null,"Males","15-19",null,{"$f":"SUM(C31:C35)","v":3477},{"$f":"SUM(D31:D35)","v":4204},{"$f":"SUM(E31:E35)","v":4004},null,{"$f":"INDEX(O19:Q19,Index!$B$23)","v":4004}]
["male",4,747,795,852,null,4,3433,3941,3935,null,"Males","20-24",null,{"$f":"SUM(C36:C40)","v":2296},{"$f":"SUM(D36:D40)","v":2962},{"$f":"SUM(E36:E40)","v":2940},null,{"$f":"INDEX(O20:Q20,Index!$B$23)","v":2940}]
["male",5,721,814,837,null,5,4154,4755,4772,null,"Males","25-29",null,{"$f":"SUM(C41:C45)","v":2939},{"$f":"SUM(D41:D45)","v":2814},{"$f":"SUM(E41:E45)","v":3348},null,{"$f":"INDEX(O21:Q21,Index!$B$23)","v":3348}]
["male",6,716,796,828,null,6,4870,5551,5600,null,"Males","30-34",null,{"$f":"SUM(C46:C50)","v":3841},{"$f":"SUM(D46:D50)","v":3086},{"$f":"SUM(E46:E50)","v":3779},null,{"$f":"INDEX(O22:Q22,Index!$B$23)","v":3779}]
["male",7,776,770,883,null,7,5646,6321,6483,null,"Males","35-39",null,{"$f":"SUM(C51:C55)","v":4428},{"$f":"SUM(D51:D55)","v":4046},{"$f":"SUM(E51:E55)","v":3879},null,{"$f":"INDEX(O23:Q23,Index!$B$23)","v":3879}]
["male",8,768,769,955,null,8,6414,7090,7438,null,"Males","40-44",null,{"$f":"SUM(C56:C60)","v":4068},{"$f":"SUM(D56:D60)","v":4851},{"$f":"SUM(E56:E60)","v":4108},null,{"$f":"INDEX(O24:Q24,Index!$B$23)","v":4108}]
["male",9,787,757,890,null,9,7201,7847,8328,null,"Males","45-49",null,{"$f":"SUM(C61:C65)","v":3471},{"$f":"SUM(D61:D65)","v":4740},{"$f":"SUM(E61:E65)","v":4628},null,{"$f":"INDEX(O25:Q25,Index!$B$23)","v":4628}]
["male",10,793,731,922,null,10,7994,8578,9250,null,"Males","50-54",null,{"$f":"SUM(C66:C70)","v":4033},{"$f":"SUM(D66:D70)","v":4184},{"$f":"SUM(E66:E70)","v":4856},null,{"$f":"INDEX(O26:Q26,Index!$B$23)","v":4856}]
["male",11,734,801,889,null,11,8728,9379,10139,null,"Males","55-59",null,{"$f":"SUM(C71:C75)","v":3312},{"$f":"SUM(D71:D75)","v":3496},{"$f":"SUM(E71:E75)","v":4584},null,{"$f":"INDEX(O27:Q27,Index!$B$23)","v":4584}]
["male",12,769,830,895,null,12,9497,10209,11034,null,"Males","60-64",null,{"$f":"SUM(C76:C80)","v":2644},{"$f":"SUM(D76:D80)","v":3717},{"$f":"SUM(E76:E80)","v":3826},null,{"$f":"INDEX(O28:Q28,Index!$B$23)","v":3826}]
["male",13,827,874,902,null,13,10324,11083,11936,null,"Males","65-69",null,{"$f":"SUM(C81:C85)","v":2489},{"$f":"SUM(D81:D85)","v":2893},{"$f":"SUM(E81:E85)","v":3099},null,{"$f":"INDEX(O29:Q29,Index!$B$23)","v":3099}]
["male",14,773,878,903,null,14,11097,11961,12839,null,"Males","70-74",null,{"$f":"SUM(C86:C90)","v":1885},{"$f":"SUM(D86:D90)","v":2322},{"$f":"SUM(E86:E90)","v":3216},null,{"$f":"INDEX(O30:Q30,Index!$B$23)","v":3216}]
["male",15,778,933,918,null,15,11875,12894,13757,null,"Males","75-79",null,{"$f":"SUM(C91:C95)","v":1334},{"$f":"SUM(D91:D95)","v":1872},{"$f":"SUM(E91:E95)","v":2321},null,{"$f":"INDEX(O31:Q31,Index!$B$23)","v":2321}]
["male",16,793,933,887,null,16,12668,13827,14644,null,"Males","80-84",null,{"$f":"SUM(C96:C100)","v":851},{"$f":"SUM(D96:D100)","v":1255},{"$f":"SUM(E96:E100)","v":1623},null,{"$f":"INDEX(O32:Q32,Index!$B$23)","v":1623}]
["male",17,769,932,916,null,17,13437,14759,15560,null,"Males","85-89",null,{"$f":"SUM(C101:C105)","v":351},{"$f":"SUM(D101:D105)","v":564},926,null,{"$f":"INDEX(O33:Q33,Index!$B$23)","v":926}]
["male",18,643,790,761,null,18,14080,15549,16321,null,"Males","90+",null,{"$f":"C106","v":121},{"$f":"D106","v":240},377,null,{"$f":"INDEX(O34:Q34,Index!$B$23)","v":377}]
["male",19,494,616,522,null,19,14574,16165,16843]
["male",20,447,556,491,null,20,15021,16721,17334,null,"Males","All Ages",null,{"$f":"C200","v":54929},{"$f":"D200","v":61598},{"$f":"E200","v":67852},null,{"$f":"INDEX(O36:Q36,Index!$B$23)","v":67852}]
["male",21,469,556,537,null,21,15490,17277,17871,null,"Females","0-4",null,{"$f":"SUM(C109:C113)","v":3287},{"$f":"SUM(D109:D113)","v":3506},{"$f":"SUM(E109:E113)","v":3748},null,{"$f":"INDEX(O37:Q37,Index!$B$23)","v":3748}]
["male",22,473,627,633,null,22,15963,17904,18504,null,"Females","5-9",null,{"$f":"SUM(C114:C118)","v":3791},{"$f":"SUM(D114:D118)","v":3762},{"$f":"SUM(E114:E118)","v":4139},null,{"$f":"INDEX(O38:Q38,Index!$B$23)","v":4139}]
["male",23,448,596,626,null,23,16411,18500,19130,null,"Females","10-14",null,{"$f":"SUM(C119:C123)","v":3560},{"$f":"SUM(D119:D123)","v":4055},{"$f":"SUM(E119:E123)","v":4208},null,{"$f":"INDEX(O39:Q39,Index!$B$23)","v":4208}]
["male",24,459,627,653,null,24,16870,19127,19783,null,"Females","15-19",null,{"$f":"SUM(C124:C128)","v":3016},{"$f":"SUM(D124:D128)","v":3874},{"$f":"SUM(E124:E128)","v":3543},null,{"$f":"INDEX(O40:Q40,Index!$B$23)","v":3543}]
["male",25,522,620,636,null,25,17392,19747,20419,null,"Females","20-24",null,{"$f":"SUM(C129:C133)","v":2275},{"$f":"SUM(D129:D133)","v":2879},{"$f":"SUM(E129:E133)","v":2894},null,{"$f":"INDEX(O41:Q41,Index!$B$23)","v":2894}]
["male",26,536,536,649,null,26,17928,20283,21068,null,"Females","25-29",null,{"$f":"SUM(C134:C138)","v":3051},{"$f":"SUM(D134:D138)","v":2990},{"$f":"SUM(E134:E138)","v":3779},null,{"$f":"INDEX(O42:Q42,Index!$B$23)","v":3779}]
["male",27,569,527,665,null,27,18497,20810,21733,null,"Females","30-34",null,{"$f":"SUM(C139:C143)","v":4170},{"$f":"SUM(D139:D143)","v":3513},{"$f":"SUM(E139:E143)","v":4285},null,{"$f":"INDEX(O43:Q43,Index!$B$23)","v":4285}]
["male",28,636,539,665,null,28,19133,21349,22398,null,"Females","35-39",null,{"$f":"SUM(C144:C148)","v":4747},{"$f":"SUM(D144:D148)","v":4404},{"$f":"SUM(E144:E148)","v":4429},null,{"$f":"INDEX(O44:Q44,Index!$B$23)","v":4429}]
["male",29,676,592,733,null,29,19809,21941,23131,null,"Females","40-44",null,{"$f":"SUM(C149:C153)","v":4012},{"$f":"SUM(D149:D153)","v":4980},{"$f":"SUM(E149:E153)","v":4590},null,{"$f":"INDEX(O45:Q45,Index!$B$23)","v":4590}]
["male",30,687,590,732,null,30,20496,22531,23863,null,"Females","45-49",null,{"$f":"SUM(C154:C158)","v":3557},{"$f":"SUM(D154:D158)","v":4928},{"$f":"SUM(E154:E158)","v":4817},null,{"$f":"INDEX(O46:Q46,Index!$B$23)","v":4817}]
["male",31,755,622,721,null,31,21251,23153,24584,null,"Females","50-54",null,{"$f":"SUM(C159:C163)","v":4043},{"$f":"SUM(D159:D163)","v":4146},{"$f":"SUM(E159:E163)","v":5001},null,{"$f":"INDEX(O47:Q47,Index!$B$23)","v":5001}]
["male",32,735,636,800,null,32,21986,23789,25384,null,"Females","55-59",null,{"$f":"SUM(C164:C168)","v":3390},{"$f":"SUM(D164:D168)","v":3404},{"$f":"SUM(E164:E168)","v":4823},null,{"$f":"INDEX(O48:Q48,Index!$B$23)","v":4823}]
["male",33,822,640,795,null,33,{"$f":"H48+C49","v":22808},{"$f":"I48+D49","v":24429},{"$f":"J48+E49","v":26179},null,"Females","60-64",null,{"$f":"SUM(C169:C173)","v":2846},{"$f":"SUM(D169:D173)","v":3876},{"$f":"SUM(E169:E173)","v":3847},null,{"$f":"INDEX(O49:Q49,Index!$B$23)","v":3847}]
["male",34,842,598,731,null,34,23650,25027,26910,null,"Females","65-69",null,{"$f":"SUM(C174:C178)","v":2558},{"$f":"SUM(D174:D178)","v":3195},{"$f":"SUM(E174:E178)","v":3247},null,{"$f":"INDEX(O50:Q50,Index!$B$23)","v":3247}]
["male",35,820,671,746,null,35,24470,25698,27656,null,"Females","70-74",null,{"$f":"SUM(C179:C183)","v":2182},{"$f":"SUM(D179:D183)","v":2631},{"$f":"SUM(E179:E183)","v":3610},null,{"$f":"INDEX(O51:Q51,Index!$B$23)","v":3610}]
["male",36,868,747,759,null,36,25338,26445,28415,null,"Females","75-79",null,{"$f":"SUM(C184:C188)","v":1837},{"$f":"SUM(D184:D188)","v":2161},{"$f":"SUM(E184:E188)","v":2807},null,{"$f":"INDEX(O52:Q52,Index!$B$23)","v":2807}]
["male",37,942,847,789,null,37,26280,27292,29204,null,"Females","80-84",null,{"$f":"SUM(C189:C193)","v":1293},{"$f":"SUM(D189:D193)","v":1662},{"$f":"SUM(E189:E193)","v":2027},null,{"$f":"INDEX(O53:Q53,Index!$B$23)","v":2027}]
["male",38,859,830,763,null,38,27139,28122,29967,null,"Females","85-89",null,{"$f":"SUM(C194:C198)","v":849},{"$f":"SUM(D194:D198)","v":1016},1262,null,{"$f":"INDEX(O54:Q54,Index!$B$23)","v":1262}]
["male",39,939,951,822,null,39,28078,29073,30789,null,"Females","90+",null,{"$f":"C199","v":465},{"$f":"D199","v":616},796,null,{"$f":"INDEX(O55:Q55,Index!$B$23)","v":796}]
["male",40,815,929,842,null,40,28893,30002,31631]
["male",41,828,1018,854,null,41,29721,31020,32485]
["male",42,845,929,813,null,42,30566,31949,33298]
["male",43,815,996,817,null,43,31381,32945,34115]
["male",44,765,979,782,null,44,32146,33924,34897]
["male",45,651,936,843,null,45,32797,34860,35740]
["male",46,700,973,927,null,46,33497,35833,36667]
["male",47,717,960,921,null,47,34214,36793,37588]
["male",48,735,913,933,null,48,34949,37706,38521]
["male",49,668,958,1004,null,49,35617,38664,39525]
["male",50,706,885,965,null,50,36323,39549,40490]
["male",51,720,862,997,null,51,37043,40411,41487]
["male",52,769,885,942,null,52,37812,41296,42429]
["male",53,896,780,1000,null,53,38708,42076,43429]
["male",54,942,772,952,null,54,39650,42848,44381]
["male",55,699,688,930,null,55,40349,43536,45311]
["male",56,691,724,935,null,56,41040,44260,46246]
["male",57,700,707,938,null,57,41740,44967,47184]
["male",58,673,712,896,null,58,42413,45679,48080]
["male",59,549,665,885,null,59,42962,46344,48965]
["male",60,475,642,854,null,60,43437,46986,49819]
["male",61,561,676,760,null,61,43998,47662,50579]
["male",62,577,716,779,null,62,44575,48378,51358]
["male",63,511,847,736,null,63,45086,49225,52094]
["male",64,520,836,697,null,64,45606,50061,52791]
["male",65,528,570,612,null,65,{"$f":"H80+C81","v":46134},{"$f":"I80+D81","v":50631},{"$f":"J80+E81","v":53403}]
["male",66,558,645,662,null,66,46692,51276,54065]
["male",67,509,623,635,null,67,47201,51899,54700]
["male",68,463,570,619,null,68,47664,52469,55319]
["male",69,431,485,571,null,69,48095,52954,55890]
["male",70,443,462,570,null,70,48538,53416,56460]
["male",71,410,463,619,null,71,48948,53879,57079]
["male",72,372,496,597,null,72,49320,54375,57676]
["male",73,335,454,733,null,73,49655,54829,58409]
["male",74,325,447,697,null,74,49980,55276,59106]
["male",75,309,414,465,null,75,50289,55690,59571]
["male",76,279,422,529,null,76,50568,56112,60100]
["male",77,233,392,504,null,77,50801,56504,60604]
["male",78,242,344,467,null,78,51043,56848,61071]
["male",79,271,300,356,null,79,51314,57148,61427]
["male",80,245,297,350,null,80,51559,57445,61777]
["male",81,222,297,328,null,81,51781,57742,62105]
["male",82,128,218,360,null,82,51909,57960,62465]
["male",83,120,232,287,null,83,52029,58192,62752]
["male",84,136,211,298,null,84,52165,58403,63050]
["male",85,102,156,248,null,85,52267,58559,63298]
["male",86,85,125,219,null,86,52352,58684,63517]
["male",87,58,105,194,null,87,52410,58789,63711]
["male",88,58,86,151,null,88,52468,58875,63862]
["male",89,48,92,114,null,89,52516,58967,63976]
["male","90+",121,240,377,null,"90+",52637,59207,64353]
[null,"All Males",{"$f":"SUM(C16:C106)","v":52637},59207,{"$f":"SUM(E16:E106)","v":64353},null,"Females"]
["Sex","Age"]
["female",0,633,620,699,null,0,{"$f":"C109","v":633},{"$f":"D109","v":620},{"$f":"E109","v":699}]
["female",1,628,682,686,null,1,{"$f":"H109+C110","v":1261},{"$f":"I109+D110","v":1302},{"$f":"J109+E110","v":1385}]
["female",2,630,732,713,null,2,1891,2034,2098]
["female",3,728,727,808,null,3,2619,2761,2906]
["female",4,668,745,842,null,4,3287,3506,3748]
["female",5,721,777,826,null,5,4008,4283,4574]
["female",6,730,750,777,null,6,4738,5033,5351]
["female",7,768,758,804,null,7,5506,5791,6155]
["female",8,774,725,876,null,8,6280,6516,7031]
["female",9,798,752,856,null,9,7078,7268,7887]
["female",10,737,843,845,null,10,7815,8111,8732]
["female",11,741,790,800,null,11,8556,8901,9532]
["female",12,715,777,881,null,12,9271,9678,10413]
["female",13,702,860,859,null,13,9973,10538,11272]
["female",14,665,785,823,null,14,10638,11323,12095]
["female",15,650,767,825,null,15,11288,12090,12920]
["female",16,667,880,801,null,16,11955,12970,13721]
["female",17,652,899,795,null,17,12607,13869,14516]
["female",18,585,758,650,null,18,13192,14627,15166]
["female",19,462,570,472,null,19,13654,15197,15638]
["female",20,434,543,460,null,20,14088,15740,16098]
["female",21,418,520,555,null,21,14506,16260,16653]
["female",22,450,606,602,null,22,14956,16866,17255]
["female",23,488,604,670,null,23,15444,17470,17925]
["female",24,485,606,607,null,24,15929,18076,18532]
["female",25,499,596,671,null,25,16428,18672,19203]
["female",26,552,583,733,null,26,16980,19255,19936]
["female",27,587,595,745,null,27,17567,19850,20681]
["female",28,717,583,824,null,28,18284,20433,21505]
["female",29,696,633,806,null,29,18980,21066,22311]
["female",30,758,698,846,null,30,19738,21764,23157]
["female",31,815,696,860,null,31,20553,22460,24017]
["female",32,785,672,888,null,32,21338,23132,24905]
["female",33,850,750,838,null,33,{"$f":"H141+C142","v":22188},{"$f":"I141+D142","v":23882},{"$f":"J141+E142","v":25743}]
["female",34,962,697,853,null,34,23150,24579,26596]
["female",35,974,778,853,null,35,24124,25357,27449]
["female",36,966,815,906,null,36,25090,26172,28355]
["female",37,980,888,912,null,37,26070,27060,29267]
["female",38,940,957,886,null,38,27010,28017,30153]
["female",39,887,966,872,null,39,27897,28983,31025]
["female",40,852,996,992,null,40,28749,29979,32017]
["female",41,800,950,941,null,41,29549,30929,32958]
["female",42,815,959,876,null,42,30364,31888,33834]
["female",43,782,1000,899,null,43,31146,32888,34733]
["female",44,763,1075,882,null,44,31909,33963,35615]
["female",45,714,1040,896,null,45,32623,35003,36511]
["female",46,735,1001,930,null,46,33358,36004,37441]
["female",47,660,986,939,null,47,34018,36990,38380]
["female",48,751,984,1024,null,48,34769,37974,39404]
["female",49,697,917,1028,null,49,35466,38891,40432]
["female",50,698,861,1017,null,50,36164,39752,41449]
["female",51,724,879,924,null,51,36888,40631,42373]
["female",52,785,812,1012,null,52,37673,41443,43385]
["female",53,859,816,1011,null,53,38532,42259,44396]
["female",54,977,778,1037,null,54,39509,43037,45433]
["female",55,689,708,1039,null,55,40198,43745,46472]
["female",56,713,698,1000,null,56,40911,44443,47472]
["female",57,678,626,960,null,57,41589,45069,48432]
["female",58,739,701,929,null,58,42328,45770,49361]
["female",59,571,671,895,null,59,42899,46441,50256]
["female",60,556,647,804,null,60,43455,47088,51060]
["female",61,612,722,820,null,61,44067,47810,51880]
["female",62,562,731,748,null,62,44629,48541,52628]
["female",63,549,859,749,null,63,45178,49400,53377]
["female",64,567,917,726,null,64,45745,50317,54103]
["female",65,527,615,676,null,65,{"$f":"H173+C174","v":46272},{"$f":"I173+D174","v":50932},{"$f":"J173+E174","v":54779}]
["female",66,570,695,657,null,66,46842,51627,55436]
["female",67,473,675,606,null,67,47315,52302,56042]
["female",68,496,668,655,null,68,47811,52970,56697]
["female",69,492,542,653,null,69,48303,53512,57350]
["female",70,464,542,606,null,70,48767,54054,57956]
["female",71,457,545,685,null,71,49224,54599,58641]
["female",72,425,521,686,null,72,49649,55120,59327]
["female",73,414,521,805,null,73,50063,55641,60132]
["female",74,422,502,828,null,74,50485,56143,60960]
["female",75,363,461,570,null,75,50848,56604,61530]
["female",76,369,468,634,null,76,51217,57072,62164]
["female",77,373,426,607,null,77,51590,57498,62771]
["female",78,381,418,558,null,78,51971,57916,63329]
["female",79,351,388,438,null,79,52322,58304,63767]
["female",80,345,373,444,null,80,52667,58677,64211]
["female",81,341,396,430,null,81,53008,59073,64641]
["female",82,216,314,408,null,82,53224,59387,65049]
["female",83,177,295,399,null,83,53401,59682,65448]
["female",84,214,284,346,null,84,53615,59966,65794]
["female",85,212,229,314,null,85,53827,60195,66108]
["female",86,173,216,292,null,86,54000,60411,66400]
["female",87,196,215,244,null,87,54196,60626,66644]
["female",88,159,189,231,null,88,54355,60815,66875]
["female",89,109,167,181,null,89,54464,60982,67056]
["female","90+",465,616,796,null,"90+",54929,61598,67852]
[null,"All Females",{"$f":"SUM(C109:C199)","v":54929},61598,{"$f":"SUM(E109:E199)","v":67852}]

{"sheet":"TUN","index":20,"n_rows":200,"n_cols":19,"rows_kept":200,"cut":false,"hidden":true,"merged":[[0,10,21,10]]}
["Mid Year Population Estimates",null,null,null,null,null,null,null,null,null,"Insert column here before extending the table"]
["2001, 2011, and 2021 Census: The Office forNnational Statistics (ONS)",null,null,null,null,null,"Selected Ages:",null,null,null,null,null,null,null,"Start year","End Year","Number change","% Change"]
[null,null,null,null,null,null,null,{"$f":"H13","v":2001},2011,{"$f":"J13","v":2021},null,null,null,null,{"$f":"INDEX($H3:$I3,Index!$B$16)","v":2011},{"$f":"INDEX($H3:$J3,Index!$B$19)","v":2011}]
[null,null,null,null,null,null,"Males",{"$f":"OFFSET(H16,Index!$B$7-1,0)-IF(Index!$B$4-2=1,0,OFFSET(H16,Index!$B$4-2,0))","v":50040},{"$f":"OFFSET(I16,Index!$B$7-1,0)-IF(Index!$B$4-2=1,0,OFFSET(I16,Index!$B$4-2,0))","v":56494},{"$f":"OFFSET(J16,Index!$B$7-1,0)-IF(Index!$B$4-2=1,0,OFFSET(J16,Index!$B$4-2,0))","v":55949},null,null,null,null,{"$f":"INDEX($H4:$I4,Index!$B$16)","v":56494},{"$f":"INDEX($H4:$J4,Index!$B$19)","v":56494},{"$f":"P4-O4","v":0},{"$f":"Q4/O4","v":0}]
[null,null,null,null,null,null,"Females",{"$f":"OFFSET(H109,Index!$B$7-1,0)-IF(Index!$B$4-2=1,0,OFFSET(H109,Index!$B$4-2,0))","v":53998},{"$f":"OFFSET(I109,Index!$B$7-1,0)-IF(Index!$B$4-2=1,0,OFFSET(I109,Index!$B$4-2,0))","v":58555},{"$f":"OFFSET(J109,Index!$B$7-1,0)-IF(Index!$B$4-2=1,0,OFFSET(J109,Index!$B$4-2,0))","v":59369},null,null,null,null,{"$f":"INDEX($H5:$I5,Index!$B$16)","v":58555},{"$f":"INDEX($H5:$J5,Index!$B$19)","v":58555},{"$f":"P5-O5","v":0},{"$f":"Q5/O5","v":0}]
[null,null,null,null,null,null,"Total",{"$f":"SUM(H4:H5)","v":104038},115049,{"$f":"SUM(J4:J5)","v":115318},null,null,null,null,{"$f":"INDEX($H6:$I6,Index!$B$16)","v":115049},{"$f":"INDEX($H6:$J6,Index!$B$19)","v":115049},{"$f":"P6-O6","v":0},{"$f":"Q6/O6","v":0}]
[]
[null,null,null,null,null,null,"Males",{"$f":"IF(H4<0,\"0\",H4)","v":50040},56494,{"$f":"IF(J4<0,\"0\",J4)","v":55949}]
[null,null,null,null,null,null,"Females",53998,58555,59369]
[null,null,null,null,null,null,"Total",{"$f":"SUM(H8:H9)","v":104038},115049,{"$f":"SUM(J8:J9)","v":115318}]
[]
["Tunbridge Wells",null,null,null,null,null,null,null,null,null,null,"Population Pyramid"]
[null,null,null,null,null,null,null,{"$f":"C14","v":2001},{"$f":"D14","v":2011},{"$f":"E14","v":2021}]
["Sex","Age",2001,2011,2021,null,null,null,null,null,null,null,null,null,2001,2011,2021,null,{"$f":"INDEX(O14:Q14,Index!$B$23)","v":2021}]
[null,"All persons",{"$f":"SUM(C107,C200)","v":104038},115049,{"$f":"SUM(E107,E200)","v":115318},null,"Males",null,null,null,null,"Males","All Ages",null,{"$f":"C107","v":50040},{"$f":"D107","v":56494},{"$f":"E107","v":55949},null,{"$f":"INDEX(O15:Q15,Index!$B$23)","v":55949}]
["male",0,567,723,582,null,0,{"$f":"C16","v":567},{"$f":"D16","v":723},{"$f":"E16","v":582},null,"Males","0-4",null,{"$f":"SUM(C16:C20)","v":3214},{"$f":"SUM(D16:D20)","v":3740},{"$f":"SUM(E16:E20)","v":3171},null,{"$f":"INDEX(O16:Q16,Index!$B$23)","v":3171}]
["male",1,595,704,592,null,1,{"$f":"H16+C17","v":1162},{"$f":"I16+D17","v":1427},{"$f":"J16+E17","v":1174},null,"Males","5-9",null,{"$f":"SUM(C21:C25)","v":3481},{"$f":"SUM(D21:D25)","v":3573},{"$f":"SUM(E21:E25)","v":3640},null,{"$f":"INDEX(O17:Q17,Index!$B$23)","v":3640}]
["male",2,675,745,647,null,2,1837,2172,1821,null,"Males","10-14",null,{"$f":"SUM(C26:C30)","v":3453},{"$f":"SUM(D26:D30)","v":3745},{"$f":"SUM(E26:E30)","v":4175},null,{"$f":"INDEX(O18:Q18,Index!$B$23)","v":4175}]
["male",3,674,739,687,null,3,2511,2911,2508,null,"Males","15-19",null,{"$f":"SUM(C31:C35)","v":3058},{"$f":"SUM(D31:D35)","v":3528},{"$f":"SUM(E31:E35)","v":3244},null,{"$f":"INDEX(O19:Q19,Index!$B$23)","v":3244}]
["male",4,703,829,663,null,4,3214,3740,3171,null,"Males","20-24",null,{"$f":"SUM(C36:C40)","v":2566},{"$f":"SUM(D36:D40)","v":2830},{"$f":"SUM(E36:E40)","v":2431},null,{"$f":"INDEX(O20:Q20,Index!$B$23)","v":2431}]
["male",5,683,739,712,null,5,3897,4479,3883,null,"Males","25-29",null,{"$f":"SUM(C41:C45)","v":3131},{"$f":"SUM(D41:D45)","v":3510},{"$f":"SUM(E41:E45)","v":2923},null,{"$f":"INDEX(O21:Q21,Index!$B$23)","v":2923}]
["male",6,664,697,667,null,6,4561,5176,4550,null,"Males","30-34",null,{"$f":"SUM(C46:C50)","v":3688},{"$f":"SUM(D46:D50)","v":3579},{"$f":"SUM(E46:E50)","v":3265},null,{"$f":"INDEX(O22:Q22,Index!$B$23)","v":3265}]
["male",7,718,745,718,null,7,5279,5921,5268,null,"Males","35-39",null,{"$f":"SUM(C51:C55)","v":4082},{"$f":"SUM(D51:D55)","v":4080},{"$f":"SUM(E51:E55)","v":3432},null,{"$f":"INDEX(O23:Q23,Index!$B$23)","v":3432}]
["male",8,699,700,753,null,8,5978,6621,6021,null,"Males","40-44",null,{"$f":"SUM(C56:C60)","v":3751},{"$f":"SUM(D56:D60)","v":4695},{"$f":"SUM(E56:E60)","v":3760},null,{"$f":"INDEX(O24:Q24,Index!$B$23)","v":3760}]
["male",9,717,692,790,null,9,6695,7313,6811,null,"Males","45-49",null,{"$f":"SUM(C61:C65)","v":3277},{"$f":"SUM(D61:D65)","v":4506},{"$f":"SUM(E61:E65)","v":4099},null,{"$f":"INDEX(O25:Q25,Index!$B$23)","v":4099}]
["male",10,687,713,821,null,10,7382,8026,7632,null,"Males","50-54",null,{"$f":"SUM(C66:C70)","v":3910},{"$f":"SUM(D66:D70)","v":3743},{"$f":"SUM(E66:E70)","v":4416},null,{"$f":"INDEX(O26:Q26,Index!$B$23)","v":4416}]
["male",11,673,660,817,null,11,8055,8686,8449,null,"Males","55-59",null,{"$f":"SUM(C71:C75)","v":3061},{"$f":"SUM(D71:D75)","v":3129},{"$f":"SUM(E71:E75)","v":4010},null,{"$f":"INDEX(O27:Q27,Index!$B$23)","v":4010}]
["male",12,694,787,853,null,12,8749,9473,9302,null,"Males","60-64",null,{"$f":"SUM(C76:C80)","v":2605},{"$f":"SUM(D76:D80)","v":3417},{"$f":"SUM(E76:E80)","v":3292},null,{"$f":"INDEX(O28:Q28,Index!$B$23)","v":3292}]
["male",13,716,827,804,null,13,9465,10300,10106,null,"Males","65-69",null,{"$f":"SUM(C81:C85)","v":2160},{"$f":"SUM(D81:D85)","v":2709},{"$f":"SUM(E81:E85)","v":2590},null,{"$f":"INDEX(O29:Q29,Index!$B$23)","v":2590}]
["male",14,683,758,880,null,14,10148,11058,10986,null,"Males","70-74",null,{"$f":"SUM(C86:C90)","v":1792},{"$f":"SUM(D86:D90)","v":2007},{"$f":"SUM(E86:E90)","v":2790},null,{"$f":"INDEX(O30:Q30,Index!$B$23)","v":2790}]
["male",15,693,778,748,null,15,10841,11836,11734,null,"Males","75-79",null,{"$f":"SUM(C91:C95)","v":1303},{"$f":"SUM(D91:D95)","v":1563},{"$f":"SUM(E91:E95)","v":2060},null,{"$f":"INDEX(O31:Q31,Index!$B$23)","v":2060}]
["male",16,741,827,728,null,16,11582,12663,12462,null,"Males","80-84",null,{"$f":"SUM(C96:C100)","v":891},{"$f":"SUM(D96:D100)","v":1212},{"$f":"SUM(E96:E100)","v":1389},null,{"$f":"INDEX(O32:Q32,Index!$B$23)","v":1389}]
["male",17,616,752,761,null,17,12198,13415,13223,null,"Males","85-89",null,{"$f":"SUM(C101:C105)","v":423},{"$f":"SUM(D101:D105)","v":620},834,null,{"$f":"INDEX(O33:Q33,Index!$B$23)","v":834}]
["male",18,602,702,599,null,18,12800,14117,13822,null,"Males","90+",null,{"$f":"C106","v":194},{"$f":"D106","v":308},428,null,{"$f":"INDEX(O34:Q34,Index!$B$23)","v":428}]
["male",19,406,469,408,null,19,13206,14586,14230]
["male",20,486,461,370,null,20,13692,15047,14600,null,"Males","All Ages",null,{"$f":"C200","v":53998},{"$f":"D200","v":58555},{"$f":"E200","v":59369},null,{"$f":"INDEX(O36:Q36,Index!$B$23)","v":59369}]
["male",21,462,497,386,null,21,14154,15544,14986,null,"Females","0-4",null,{"$f":"SUM(C109:C113)","v":3133},{"$f":"SUM(D109:D113)","v":3568},{"$f":"SUM(E109:E113)","v":2998},null,{"$f":"INDEX(O37:Q37,Index!$B$23)","v":2998}]
["male",22,533,589,517,null,22,14687,16133,15503,null,"Females","5-9",null,{"$f":"SUM(C114:C118)","v":3369},{"$f":"SUM(D114:D118)","v":3403},{"$f":"SUM(E114:E118)","v":3458},null,{"$f":"INDEX(O38:Q38,Index!$B$23)","v":3458}]
["male",23,510,670,582,null,23,15197,16803,16085,null,"Females","10-14",null,{"$f":"SUM(C119:C123)","v":3476},{"$f":"SUM(D119:D123)","v":3926},{"$f":"SUM(E119:E123)","v":3961},null,{"$f":"INDEX(O39:Q39,Index!$B$23)","v":3961}]
["male",24,575,613,576,null,24,15772,17416,16661,null,"Females","15-19",null,{"$f":"SUM(C124:C128)","v":3155},{"$f":"SUM(D124:D128)","v":3676},{"$f":"SUM(E124:E128)","v":3263},null,{"$f":"INDEX(O40:Q40,Index!$B$23)","v":3263}]
["male",25,477,747,541,null,25,16249,18163,17202,null,"Females","20-24",null,{"$f":"SUM(C129:C133)","v":2376},{"$f":"SUM(D129:D133)","v":2745},{"$f":"SUM(E129:E133)","v":2400},null,{"$f":"INDEX(O41:Q41,Index!$B$23)","v":2400}]
["male",26,637,732,591,null,26,16886,18895,17793,null,"Females","25-29",null,{"$f":"SUM(C134:C138)","v":3178},{"$f":"SUM(D134:D138)","v":3299},{"$f":"SUM(E134:E138)","v":3085},null,{"$f":"INDEX(O42:Q42,Index!$B$23)","v":3085}]
["male",27,609,622,551,null,27,17495,19517,18344,null,"Females","30-34",null,{"$f":"SUM(C139:C143)","v":3874},{"$f":"SUM(D139:D143)","v":3395},{"$f":"SUM(E139:E143)","v":3571},null,{"$f":"INDEX(O43:Q43,Index!$B$23)","v":3571}]
["male",28,698,682,644,null,28,18193,20199,18988,null,"Females","35-39",null,{"$f":"SUM(C144:C148)","v":4226},{"$f":"SUM(D144:D148)","v":4033},{"$f":"SUM(E144:E148)","v":3834},null,{"$f":"INDEX(O44:Q44,Index!$B$23)","v":3834}]
["male",29,710,727,596,null,29,18903,20926,19584,null,"Females","40-44",null,{"$f":"SUM(C149:C153)","v":3876},{"$f":"SUM(D149:D153)","v":4496},{"$f":"SUM(E149:E153)","v":4025},null,{"$f":"INDEX(O45:Q45,Index!$B$23)","v":4025}]
["male",30,682,759,620,null,30,19585,21685,20204,null,"Females","45-49",null,{"$f":"SUM(C154:C158)","v":3523},{"$f":"SUM(D154:D158)","v":4565},{"$f":"SUM(E154:E158)","v":4387},null,{"$f":"INDEX(O46:Q46,Index!$B$23)","v":4387}]
["male",31,701,784,626,null,31,20286,22469,20830,null,"Females","50-54",null,{"$f":"SUM(C159:C163)","v":4003},{"$f":"SUM(D159:D163)","v":3909},{"$f":"SUM(E159:E163)","v":4568},null,{"$f":"INDEX(O47:Q47,Index!$B$23)","v":4568}]
["male",32,715,696,668,null,32,21001,23165,21498,null,"Females","55-59",null,{"$f":"SUM(C164:C168)","v":3111},{"$f":"SUM(D164:D168)","v":3272},{"$f":"SUM(E164:E168)","v":4084},null,{"$f":"INDEX(O48:Q48,Index!$B$23)","v":4084}]
["male",33,777,654,677,null,33,{"$f":"H48+C49","v":21778},{"$f":"I48+D49","v":23819},{"$f":"J48+E49","v":22175},null,"Females","60-64",null,{"$f":"SUM(C169:C173)","v":2553},{"$f":"SUM(D169:D173)","v":3612},{"$f":"SUM(E169:E173)","v":3454},null,{"$f":"INDEX(O49:Q49,Index!$B$23)","v":3454}]
["male",34,813,686,674,null,34,22591,24505,22849,null,"Females","65-69",null,{"$f":"SUM(C174:C178)","v":2427},{"$f":"SUM(D174:D178)","v":2778},{"$f":"SUM(E174:E178)","v":2859},null,{"$f":"INDEX(O50:Q50,Index!$B$23)","v":2859}]
["male",35,788,714,718,null,35,23379,25219,23567,null,"Females","70-74",null,{"$f":"SUM(C179:C183)","v":2237},{"$f":"SUM(D179:D183)","v":2150},{"$f":"SUM(E179:E183)","v":3092},null,{"$f":"INDEX(O51:Q51,Index!$B$23)","v":3092}]
["male",36,833,745,659,null,36,24212,25964,24226,null,"Females","75-79",null,{"$f":"SUM(C184:C188)","v":2079},{"$f":"SUM(D184:D188)","v":1982},{"$f":"SUM(E184:E188)","v":2427},null,{"$f":"INDEX(O52:Q52,Index!$B$23)","v":2427}]
["male",37,849,860,671,null,37,25061,26824,24897,null,"Females","80-84",null,{"$f":"SUM(C189:C193)","v":1594},{"$f":"SUM(D189:D193)","v":1736},{"$f":"SUM(E189:E193)","v":1769},null,{"$f":"INDEX(O53:Q53,Index!$B$23)","v":1769}]
["male",38,823,916,682,null,38,25884,27740,25579,null,"Females","85-89",null,{"$f":"SUM(C194:C198)","v":1096},{"$f":"SUM(D194:D198)","v":1216},1268,null,{"$f":"INDEX(O54:Q54,Index!$B$23)","v":1268}]
["male",39,789,845,702,null,39,26673,28585,26281,null,"Females","90+",null,{"$f":"C199","v":712},{"$f":"D199","v":794},866,null,{"$f":"INDEX(O55:Q55,Index!$B$23)","v":866}]
["male",40,732,917,754,null,40,27405,29502,27035]
["male",41,761,854,791,null,41,28166,30356,27826]
["male",42,778,950,755,null,42,28944,31306,28581]
["male",43,723,952,733,null,43,29667,32258,29314]
["male",44,757,1022,727,null,44,30424,33280,30041]
["male",45,643,919,755,null,45,31067,34199,30796]
["male",46,670,916,795,null,46,31737,35115,31591]
["male",47,699,951,831,null,47,32436,36066,32422]
["male",48,623,897,864,null,48,33059,36963,33286]
["male",49,642,823,854,null,49,33701,37786,34140]
["male",50,682,785,849,null,50,34383,38571,34989]
["male",51,727,758,863,null,51,35110,39329,35852]
["male",52,779,761,883,null,52,35889,40090,36735]
["male",53,843,721,875,null,53,36732,40811,37610]
["male",54,879,718,946,null,54,37611,41529,38556]
["male",55,670,594,821,null,55,38281,42123,39377]
["male",56,642,673,867,null,56,38923,42796,40244]
["male",57,622,681,829,null,57,39545,43477,41073]
["male",58,605,602,785,null,58,40150,44079,41858]
["male",59,522,579,708,null,59,40672,44658,42566]
["male",60,516,593,708,null,60,41188,45251,43274]
["male",61,552,636,687,null,61,41740,45887,43961]
["male",62,527,687,666,null,62,42267,46574,44627]
["male",63,533,750,633,null,63,42800,47324,45260]
["male",64,477,751,598,null,64,43277,48075,45858]
["male",65,480,580,529,null,65,{"$f":"H80+C81","v":43757},{"$f":"I80+D81","v":48655},{"$f":"J80+E81","v":46387}]
["male",66,431,589,576,null,66,44188,49244,46963]
["male",67,423,563,523,null,67,44611,49807,47486]
["male",68,430,528,469,null,68,45041,50335,47955]
["male",69,396,449,493,null,69,45437,50784,48448]
["male",70,403,404,519,null,70,45840,51188,48967]
["male",71,384,414,528,null,71,46224,51602,49495]
["male",72,367,430,561,null,72,46591,52032,50056]
["male",73,349,404,596,null,73,46940,52436,50652]
["male",74,289,355,586,null,74,47229,52791,51238]
["male",75,260,332,470,null,75,47489,53123,51708]
["male",76,307,307,461,null,76,47796,53430,52169]
["male",77,261,306,422,null,77,48057,53736,52591]
["male",78,253,326,391,null,78,48310,54062,52982]
["male",79,222,292,316,null,79,48532,54354,53298]
["male",80,265,291,322,null,80,48797,54645,53620]
["male",81,236,283,293,null,81,49033,54928,53913]
["male",82,148,236,287,null,82,49181,55164,54200]
["male",83,116,206,270,null,83,49297,55370,54470]
["male",84,126,196,217,null,84,49423,55566,54687]
["male",85,121,142,210,null,85,49544,55708,54897]
["male",86,89,156,178,null,86,49633,55864,55075]
["male",87,88,115,175,null,87,49721,55979,55250]
["male",88,70,109,156,null,88,49791,56088,55406]
["male",89,55,98,115,null,89,49846,56186,55521]
["male","90+",194,308,428,null,"90+",50040,56494,55949]
[null,"All Males",{"$f":"SUM(C16:C106)","v":50040},56494,{"$f":"SUM(E16:E106)","v":55949},null,"Females"]
["Sex","Age"]
["female",0,544,706,549,null,0,{"$f":"C109","v":544},{"$f":"D109","v":706},{"$f":"E109","v":549}]
["female",1,597,725,589,null,1,{"$f":"H109+C110","v":1141},{"$f":"I109+D110","v":1431},{"$f":"J109+E110","v":1138}]
["female",2,603,721,592,null,2,1744,2152,1730]
["female",3,694,697,642,null,3,2438,2849,2372]
["female",4,695,719,626,null,4,3133,3568,2998]
["female",5,685,675,643,null,5,3818,4243,3641]
["female",6,665,696,658,null,6,4483,4939,4299]
["female",7,661,690,678,null,7,5144,5629,4977]
["female",8,662,651,723,null,8,5806,6280,5700]
["female",9,696,691,756,null,9,6502,6971,6456]
["female",10,681,726,750,null,10,7183,7697,7206]
["female",11,733,693,802,null,11,7916,8390,8008]
["female",12,679,809,788,null,12,8595,9199,8796]
["female",13,693,860,795,null,13,9288,10059,9591]
["female",14,690,838,826,null,14,9978,10897,10417]
["female",15,687,833,762,null,15,10665,11730,11179]
["female",16,709,892,778,null,16,11374,12622,11957]
["female",17,740,832,776,null,17,12114,13454,12733]
["female",18,601,648,588,null,18,12715,14102,13321]
["female",19,418,471,359,null,19,13133,14573,13680]
["female",20,423,465,351,null,20,13556,15038,14031]
["female",21,456,524,394,null,21,14012,15562,14425]
["female",22,440,575,511,null,22,14452,16137,14936]
["female",23,502,595,586,null,23,14954,16732,15522]
["female",24,555,586,558,null,24,15509,17318,16080]
["female",25,573,668,567,null,25,16082,17986,16647]
["female",26,611,647,574,null,26,16693,18633,17221]
["female",27,632,650,659,null,27,17325,19283,17880]
["female",28,644,665,622,null,28,17969,19948,18502]
["female",29,718,669,663,null,29,18687,20617,19165]
["female",30,743,707,699,null,30,19430,21324,19864]
["female",31,697,669,704,null,31,20127,21993,20568]
["female",32,794,675,706,null,32,20921,22668,21274]
["female",33,773,674,767,null,33,{"$f":"H141+C142","v":21694},{"$f":"I141+D142","v":23342},{"$f":"J141+E142","v":22041}]
["female",34,867,670,695,null,34,22561,24012,22736]
["female",35,806,693,720,null,35,23367,24705,23456]
["female",36,877,767,729,null,36,24244,25472,24185]
["female",37,855,811,794,null,37,25099,26283,24979]
["female",38,840,833,792,null,38,25939,27116,25771]
["female",39,848,929,799,null,39,26787,28045,26570]
["female",40,808,851,792,null,40,27595,28896,27362]
["female",41,774,885,845,null,41,28369,29781,28207]
["female",42,791,885,845,null,42,29160,30666,29052]
["female",43,776,913,764,null,43,29936,31579,29816]
["female",44,727,962,779,null,44,30663,32541,30595]
["female",45,653,911,800,null,45,31316,33452,31395]
["female",46,763,992,851,null,46,32079,34444,32246]
["female",47,694,927,867,null,47,32773,35371,33113]
["female",48,702,874,869,null,48,33475,36245,33982]
["female",49,711,861,1000,null,49,34186,37106,34982]
["female",50,736,844,929,null,50,34922,37950,35911]
["female",51,741,772,863,null,51,35663,38722,36774]
["female",52,824,805,906,null,52,36487,39527,37680]
["female",53,851,783,911,null,53,37338,40310,38591]
["female",54,851,705,959,null,54,38189,41015,39550]
["female",55,649,618,826,null,55,38838,41633,40376]
["female",56,666,712,947,null,56,39504,42345,41323]
["female",57,677,667,813,null,57,40181,43012,42136]
["female",58,606,653,776,null,58,40787,43665,42912]
["female",59,513,622,722,null,59,41300,44287,43634]
["female",60,488,643,705,null,60,41788,44930,44339]
["female",61,553,704,705,null,61,42341,45634,45044]
["female",62,521,742,756,null,62,42862,46376,45800]
["female",63,526,766,657,null,63,43388,47142,46457]
["female",64,465,757,631,null,64,43853,47899,47088]
["female",65,501,560,543,null,65,{"$f":"H173+C174","v":44354},{"$f":"I173+D174","v":48459},{"$f":"J173+E174","v":47631}]
["female",66,524,632,622,null,66,44878,49091,48253]
["female",67,466,584,557,null,67,45344,49675,48810]
["female",68,445,530,550,null,68,45789,50205,49360]
["female",69,491,472,587,null,69,46280,50677,49947]
["female",70,489,430,585,null,70,46769,51107,50532]
["female",71,438,493,575,null,71,47207,51600,51107]
["female",72,404,406,610,null,72,47611,52006,51717]
["female",73,424,419,683,null,73,48035,52425,52400]
["female",74,482,402,639,null,74,48517,52827,53039]
["female",75,447,410,485,null,75,48964,53237,53524]
["female",76,409,419,569,null,76,49373,53656,54093]
["female",77,425,395,517,null,77,49798,54051,54610]
["female",78,375,373,449,null,78,50173,54424,55059]
["female",79,423,385,407,null,79,50596,54809,55466]
["female",80,451,386,386,null,80,51047,55195,55852]
["female",81,422,343,383,null,81,51469,55538,56235]
["female",82,289,341,347,null,82,51758,55879,56582]
["female",83,208,361,351,null,83,51966,56240,56933]
["female",84,224,305,302,null,84,52190,56545,57235]
["female",85,254,267,295,null,85,52444,56812,57530]
["female",86,259,272,280,null,86,52703,57084,57810]
["female",87,223,232,269,null,87,52926,57316,58079]
["female",88,180,217,214,null,88,53106,57533,58293]
["female",89,180,228,210,null,89,53286,57761,58503]
["female","90+",712,794,866,null,"90+",53998,58555,59369]
[null,"All Females",{"$f":"SUM(C109:C199)","v":53998},58555,{"$f":"SUM(E109:E199)","v":59369}]

{"sheet":"Kent","index":21,"n_rows":200,"n_cols":19,"rows_kept":200,"cut":false,"hidden":true,"merged":[[0,10,21,10]]}
["Mid Year Population Estimates",null,null,null,null,null,null,null,null,null,"Insert column here before extending the table"]
["2001, 2011, and 2021 Census: The Office forNnational Statistics (ONS)",null,null,null,null,null,"Selected Ages:",null,null,null,null,null,null,null,"Start year","End Year","Number change","% Change"]
[null,null,null,null,null,null,null,{"$f":"H13","v":2001},2011,{"$f":"J13","v":2021},null,null,null,null,{"$f":"INDEX($H3:$I3,Index!$B$16)","v":2011},{"$f":"INDEX($H3:$J3,Index!$B$19)","v":2011}]
[null,null,null,null,null,null,"Males",{"$f":"OFFSET(H16,Index!$B$7-1,0)-IF(Index!$B$4-2=1,0,OFFSET(H16,Index!$B$4-2,0))","v":643886},{"$f":"OFFSET(I16,Index!$B$7-1,0)-IF(Index!$B$4-2=1,0,OFFSET(I16,Index!$B$4-2,0))","v":715613},{"$f":"OFFSET(J16,Index!$B$7-1,0)-IF(Index!$B$4-2=1,0,OFFSET(J16,Index!$B$4-2,0))","v":768391},null,null,null,null,{"$f":"INDEX($H4:$I4,Index!$B$16)","v":715613},{"$f":"INDEX($H4:$J4,Index!$B$19)","v":715613},{"$f":"P4-O4","v":0},{"$f":"Q4/O4","v":0}]
[null,null,null,null,null,null,"Females",{"$f":"OFFSET(H109,Index!$B$7-1,0)-IF(Index!$B$4-2=1,0,OFFSET(H109,Index!$B$4-2,0))","v":685373},{"$f":"OFFSET(I109,Index!$B$7-1,0)-IF(Index!$B$4-2=1,0,OFFSET(I109,Index!$B$4-2,0))","v":748127},{"$f":"OFFSET(J109,Index!$B$7-1,0)-IF(Index!$B$4-2=1,0,OFFSET(J109,Index!$B$4-2,0))","v":807686},null,null,null,null,{"$f":"INDEX($H5:$I5,Index!$B$16)","v":748127},{"$f":"INDEX($H5:$J5,Index!$B$19)","v":748127},{"$f":"P5-O5","v":0},{"$f":"Q5/O5","v":0}]
[null,null,null,null,null,null,"Total",{"$f":"SUM(H4:H5)","v":1329259},1463740,{"$f":"SUM(J4:J5)","v":1576077},null,null,null,null,{"$f":"INDEX($H6:$I6,Index!$B$16)","v":1463740},{"$f":"INDEX($H6:$J6,Index!$B$19)","v":1463740},{"$f":"P6-O6","v":0},{"$f":"Q6/O6","v":0}]
[]
[null,null,null,null,null,null,"Males",{"$f":"IF(H4<0,\"0\",H4)","v":643886},715613,{"$f":"IF(J4<0,\"0\",J4)","v":768391}]
[null,null,null,null,null,null,"Females",685373,748127,807686]
[null,null,null,null,null,null,"Total",{"$f":"SUM(H8:H9)","v":1329259},1463740,{"$f":"SUM(J8:J9)","v":1576077}]
[]
["Kent",null,null,null,null,null,null,null,null,null,null,"Population Pyramid"]
[null,null,null,null,null,null,null,{"$f":"C14","v":2001},{"$f":"D14","v":2011},{"$f":"E14","v":2021}]
["Sex","Age",2001,2011,2021,null,null,null,null,null,null,null,null,null,2001,2011,2021,null,{"$f":"INDEX(O14:Q14,Index!$B$23)","v":2021}]
[null,"All persons",{"$f":"C107+C200","v":1329719},1463740,{"$f":"E107+E200","v":1576077},null,"Males",null,null,null,null,"Males","All Ages",null,{"$f":"C107","v":643886},{"$f":"D107","v":715613},{"$f":"E107","v":768391},null,{"$f":"INDEX(O15:Q15,Index!$B$23)","v":768391}]
["male",0,7103,9198,8329,null,0,{"$f":"C16","v":7103},{"$f":"D16","v":9198},{"$f":"E16","v":8329},null,"Males","0-4",null,{"$f":"SUM(C16:C20)","v":40033},{"$f":"SUM(D16:D20)","v":45714},{"$f":"SUM(E16:E20)","v":44946},null,{"$f":"INDEX(O16:Q16,Index!$B$23)","v":44946}]
["male",1,7866,8991,8733,null,1,{"$f":"H16+C17","v":14969},{"$f":"I16+D17","v":18189},{"$f":"J16+E17","v":17062},null,"Males","5-9",null,{"$f":"SUM(C21:C25)","v":44578},{"$f":"SUM(D21:D25)","v":43288},{"$f":"SUM(E21:E25)","v":49006},null,{"$f":"INDEX(O17:Q17,Index!$B$23)","v":49006}]
["male",2,8328,9136,9162,null,2,23297,27325,26224,null,"Males","10-14",null,{"$f":"SUM(C26:C30)","v":45587},{"$f":"SUM(D26:D30)","v":46540},{"$f":"SUM(E26:E30)","v":50315},null,{"$f":"INDEX(O18:Q18,Index!$B$23)","v":50315}]
["male",3,8222,9074,9352,null,3,31519,36399,35576,null,"Males","15-19",null,{"$f":"SUM(C31:C35)","v":41395},{"$f":"SUM(D31:D35)","v":49220},{"$f":"SUM(E31:E35)","v":45665},null,{"$f":"INDEX(O19:Q19,Index!$B$23)","v":45665}]
["male",4,8514,9315,9370,null,4,40033,45714,44946,null,"Males","20-24",null,{"$f":"SUM(C36:C40)","v":34939},{"$f":"SUM(D36:D40)","v":44075},{"$f":"SUM(E36:E40)","v":41977},null,{"$f":"INDEX(O20:Q20,Index!$B$23)","v":41977}]
["male",5,8592,9100,9587,null,5,48625,54814,54533,null,"Males","25-29",null,{"$f":"SUM(C41:C45)","v":36915},{"$f":"SUM(D41:D45)","v":40884},{"$f":"SUM(E41:E45)","v":44084},null,{"$f":"INDEX(O21:Q21,Index!$B$23)","v":44084}]
["male",6,8526,8591,9380,null,6,57151,63405,63913,null,"Males","30-34",null,{"$f":"SUM(C46:C50)","v":45565},{"$f":"SUM(D46:D50)","v":40341},{"$f":"SUM(E46:E50)","v":47979},null,{"$f":"INDEX(O22:Q22,Index!$B$23)","v":47979}]
["male",7,8976,8660,9559,null,7,66127,72065,73472,null,"Males","35-39",null,{"$f":"SUM(C51:C55)","v":50091},{"$f":"SUM(D51:D55)","v":44707},{"$f":"SUM(E51:E55)","v":47559},null,{"$f":"INDEX(O23:Q23,Index!$B$23)","v":47559}]
["male",8,9092,8419,10194,null,8,75219,80484,83666,null,"Males","40-44",null,{"$f":"SUM(C56:C60)","v":45859},{"$f":"SUM(D56:D60)","v":53488},{"$f":"SUM(E56:E60)","v":47493},null,{"$f":"INDEX(O24:Q24,Index!$B$23)","v":47493}]
["male",9,9392,8518,10286,null,9,84611,89002,93952,null,"Males","45-49",null,{"$f":"SUM(C61:C65)","v":41457},{"$f":"SUM(D61:D65)","v":54444},{"$f":"SUM(E61:E65)","v":49284},null,{"$f":"INDEX(O25:Q25,Index!$B$23)","v":49284}]
["male",10,9229,8641,10213,null,10,93840,97643,104165,null,"Males","50-54",null,{"$f":"SUM(C66:C70)","v":48267},{"$f":"SUM(D66:D70)","v":47370},{"$f":"SUM(E66:E70)","v":54627},null,{"$f":"INDEX(O26:Q26,Index!$B$23)","v":54627}]
["male",11,9039,9074,10149,null,11,102879,106717,114314,null,"Males","55-59",null,{"$f":"SUM(C71:C75)","v":40282},{"$f":"SUM(D71:D75)","v":42055},{"$f":"SUM(E71:E75)","v":54081},null,{"$f":"INDEX(O27:Q27,Index!$B$23)","v":54081}]
["male",12,9141,9589,10147,null,12,112020,116306,124461,null,"Males","60-64",null,{"$f":"SUM(C76:C80)","v":33675},{"$f":"SUM(D76:D80)","v":47126},{"$f":"SUM(E76:E80)","v":45719},null,{"$f":"INDEX(O28:Q28,Index!$B$23)","v":45719}]
["male",13,9240,9652,9913,null,13,121260,125958,134374,null,"Males","65-69",null,{"$f":"SUM(C81:C85)","v":29683},{"$f":"SUM(D81:D85)","v":37266},{"$f":"SUM(E81:E85)","v":39161},null,{"$f":"INDEX(O29:Q29,Index!$B$23)","v":39161}]
["male",14,8938,9584,9893,null,14,130198,135542,144267,null,"Males","70-74",null,{"$f":"SUM(C86:C90)","v":25369},{"$f":"SUM(D86:D90)","v":28904},{"$f":"SUM(E86:E90)","v":41577},null,{"$f":"INDEX(O30:Q30,Index!$B$23)","v":41577}]
["male",15,8965,9877,9698,null,15,139163,145419,153965,null,"Males","75-79",null,{"$f":"SUM(C91:C95)","v":19536},{"$f":"SUM(D91:D95)","v":22547},{"$f":"SUM(E91:E95)","v":29802},null,{"$f":"INDEX(O31:Q31,Index!$B$23)","v":29802}]
["male",16,9141,10012,9560,null,16,148304,155431,163525,null,"Males","80-84",null,{"$f":"SUM(C96:C100)","v":12642},{"$f":"SUM(D96:D100)","v":15815},{"$f":"SUM(E96:E100)","v":19458},null,{"$f":"INDEX(O32:Q32,Index!$B$23)","v":19458}]
["male",17,8433,10098,9615,null,17,156737,165529,173140,null,"Males","85-89",null,{"$f":"SUM(C101:C105)","v":5888},{"$f":"SUM(D101:D105)","v":8255},10800,null,{"$f":"INDEX(O33:Q33,Index!$B$23)","v":10800}]
["male",18,7749,9872,8765,null,18,164486,175401,181905,null,"Males","90+",null,{"$f":"C106","v":2125},{"$f":"D106","v":3574},4858,null,{"$f":"INDEX(O34:Q34,Index!$B$23)","v":4858}]
["male",19,7107,9361,8027,null,19,171593,184762,189932]
["male",20,7459,9027,7804,null,20,179052,193789,197736,null,"Males","All Ages",null,{"$f":"C200","v":685833},{"$f":"D200","v":748127},{"$f":"E200","v":807686},null,{"$f":"INDEX(O36:Q36,Index!$B$23)","v":807686}]
["male",21,7192,8867,8351,null,21,186244,202656,206087,null,"Females","0-4",null,{"$f":"SUM(C109:C113)","v":38202},{"$f":"SUM(D109:D113)","v":43362},{"$f":"SUM(E109:E113)","v":42341},null,{"$f":"INDEX(O37:Q37,Index!$B$23)","v":42341}]
["male",22,7050,8846,8680,null,22,193294,211502,214767,null,"Females","5-9",null,{"$f":"SUM(C114:C118)","v":42482},{"$f":"SUM(D114:D118)","v":40859},{"$f":"SUM(E114:E118)","v":46254},null,{"$f":"INDEX(O38:Q38,Index!$B$23)","v":46254}]
["male",23,6596,8764,8665,null,23,199890,220266,223432,null,"Females","10-14",null,{"$f":"SUM(C119:C123)","v":43526},{"$f":"SUM(D119:D123)","v":44856},{"$f":"SUM(E119:E123)","v":47883},null,{"$f":"INDEX(O39:Q39,Index!$B$23)","v":47883}]
["male",24,6642,8571,8477,null,24,206532,228837,231909,null,"Females","15-19",null,{"$f":"SUM(C124:C128)","v":39888},{"$f":"SUM(D124:D128)","v":46766},{"$f":"SUM(E124:E128)","v":42657},null,{"$f":"INDEX(O40:Q40,Index!$B$23)","v":42657}]
["male",25,6666,8571,8377,null,25,213198,237408,240286,null,"Females","20-24",null,{"$f":"SUM(C129:C133)","v":34712},{"$f":"SUM(D129:D133)","v":43604},{"$f":"SUM(E129:E133)","v":41431},null,{"$f":"INDEX(O41:Q41,Index!$B$23)","v":41431}]
["male",26,6920,8332,8621,null,26,220118,245740,248907,null,"Females","25-29",null,{"$f":"SUM(C134:C138)","v":39059},{"$f":"SUM(D134:D138)","v":42413},{"$f":"SUM(E134:E138)","v":46580},null,{"$f":"INDEX(O42:Q42,Index!$B$23)","v":46580}]
["male",27,7280,8027,8735,null,27,227398,253767,257642,null,"Females","30-34",null,{"$f":"SUM(C139:C143)","v":48017},{"$f":"SUM(D139:D143)","v":42293},{"$f":"SUM(E139:E143)","v":52650},null,{"$f":"INDEX(O43:Q43,Index!$B$23)","v":52650}]
["male",28,7673,7848,9122,null,28,235071,261615,266764,null,"Females","35-39",null,{"$f":"SUM(C144:C148)","v":51939},{"$f":"SUM(D144:D148)","v":46988},{"$f":"SUM(E144:E148)","v":51968},null,{"$f":"INDEX(O44:Q44,Index!$B$23)","v":51968}]
["male",29,8376,8106,9229,null,29,243447,269721,275993,null,"Females","40-44",null,{"$f":"SUM(C149:C153)","v":46106},{"$f":"SUM(D149:D153)","v":55069},{"$f":"SUM(E149:E153)","v":50088},null,{"$f":"INDEX(O45:Q45,Index!$B$23)","v":50088}]
["male",30,8606,8555,9476,null,30,252053,278276,285469,null,"Females","45-49",null,{"$f":"SUM(C154:C158)","v":43257},{"$f":"SUM(D154:D158)","v":55114},{"$f":"SUM(E154:E158)","v":51972},null,{"$f":"INDEX(O46:Q46,Index!$B$23)","v":51972}]
["male",31,8581,8424,9387,null,31,260634,286700,294856,null,"Females","50-54",null,{"$f":"SUM(C159:C163)","v":49725},{"$f":"SUM(D159:D163)","v":48066},{"$f":"SUM(E159:E163)","v":57074},null,{"$f":"INDEX(O47:Q47,Index!$B$23)","v":57074}]
["male",32,8988,8036,9621,null,32,269622,294736,304477,null,"Females","55-59",null,{"$f":"SUM(C164:C168)","v":41115},{"$f":"SUM(D164:D168)","v":43434},{"$f":"SUM(E164:E168)","v":55639},null,{"$f":"INDEX(O48:Q48,Index!$B$23)","v":55639}]
["male",33,9472,7589,9891,null,33,{"$f":"H48+C49","v":279094},{"$f":"I48+D49","v":302325},{"$f":"J48+E49","v":314368},null,"Females","60-64",null,{"$f":"SUM(C169:C173)","v":34988},{"$f":"SUM(D169:D173)","v":49358},{"$f":"SUM(E169:E173)","v":47474},null,{"$f":"INDEX(O49:Q49,Index!$B$23)","v":47474}]
["male",34,9918,7737,9604,null,34,289012,310062,323972,null,"Females","65-69",null,{"$f":"SUM(C174:C178)","v":32055},{"$f":"SUM(D174:D178)","v":39521},{"$f":"SUM(E174:E178)","v":42368},null,{"$f":"INDEX(O50:Q50,Index!$B$23)","v":42368}]
["male",35,10093,8051,9637,null,35,299105,318113,333609,null,"Females","70-74",null,{"$f":"SUM(C179:C183)","v":30708},{"$f":"SUM(D179:D183)","v":31826},{"$f":"SUM(E179:E183)","v":46169},null,{"$f":"INDEX(O51:Q51,Index!$B$23)","v":46169}]
["male",36,10218,8485,9568,null,36,309323,326598,343177,null,"Females","75-79",null,{"$f":"SUM(C184:C188)","v":28180},{"$f":"SUM(D184:D188)","v":26985},{"$f":"SUM(E184:E188)","v":34333},null,{"$f":"INDEX(O52:Q52,Index!$B$23)","v":34333}]
["male",37,10245,8866,9484,null,37,319568,335464,352661,null,"Females","80-84",null,{"$f":"SUM(C189:C193)","v":20726},{"$f":"SUM(D189:D193)","v":22601},{"$f":"SUM(E189:E193)","v":24436},null,{"$f":"INDEX(O53:Q53,Index!$B$23)","v":24436}]
["male",38,9885,9311,9332,null,38,329453,344775,361993,null,"Females","85-89",null,{"$f":"SUM(C194:C198)","v":13396},{"$f":"SUM(D194:D198)","v":15428},15763,null,{"$f":"INDEX(O54:Q54,Index!$B$23)","v":15763}]
["male",39,9650,9994,9538,null,39,339103,354769,371531,null,"Females","90+",null,{"$f":"C199","v":7752},{"$f":"D199","v":9584},10606,null,{"$f":"INDEX(O55:Q55,Index!$B$23)","v":10606}]
["male",40,9413,10381,9994,null,40,348516,365150,381525]
["male",41,9289,10416,9964,null,41,357805,375566,391489]
["male",42,9233,10644,9458,null,42,367038,386210,400947]
["male",43,9087,10814,9092,null,43,376125,397024,410039]
["male",44,8837,11233,8985,null,44,384962,408257,419024]
["male",45,8192,11200,9220,null,45,393154,419457,428244]
["male",46,8363,11157,9678,null,46,401517,430614,437922]
["male",47,8511,10960,9666,null,47,410028,441574,447588]
["male",48,8225,10674,10174,null,48,418253,452248,457762]
["male",49,8166,10453,10546,null,49,426419,462701,468308]
["male",50,8520,9966,10836,null,50,434939,472667,479144]
["male",51,8809,9596,10736,null,51,443748,482263,489880]
["male",52,9314,9589,10879,null,52,453062,491852,500759]
["male",53,10462,9265,10994,null,53,463524,501117,511753]
["male",54,11162,8954,11182,null,54,474686,510071,522935]
["male",55,8557,8509,11272,null,55,483243,518580,534207]
["male",56,8570,8482,11129,null,56,491813,527062,545336]
["male",57,8341,8624,10885,null,57,500154,535686,556221]
["male",58,7825,8330,10618,null,58,507979,544016,566839]
["male",59,6989,8110,10177,null,59,514968,552126,577016]
["male",60,6401,8476,9789,null,60,521369,560602,586805]
["male",61,6994,8568,9370,null,61,528363,569170,596175]
["male",62,6951,9153,9251,null,62,535314,578323,605426]
["male",63,6775,10374,8864,null,63,542089,588697,614290]
["male",64,6554,10555,8445,null,64,548643,599252,622735]
["male",65,6330,7860,8108,null,65,{"$f":"H80+C81","v":554973},{"$f":"I80+D81","v":607112},{"$f":"J80+E81","v":630843}]
["male",66,6185,8381,8024,null,66,561158,615493,638867]
["male",67,5704,7680,7917,null,67,566862,623173,646784]
["male",68,5650,7127,7643,null,68,572512,630300,654427]
["male",69,5814,6218,7469,null,69,578326,636518,661896]
["male",70,5632,5804,7692,null,70,583958,642322,669588]
["male",71,5327,6138,7765,null,71,589285,648460,677353]
["male",72,5042,5889,8007,null,72,594327,654349,685360]
["male",73,4757,5662,9174,null,73,599084,660011,694534]
["male",74,4611,5411,8939,null,74,603695,665422,703473]
["male",75,4314,5061,6579,null,75,608009,670483,710052]
["male",76,4070,4798,6944,null,76,612079,675281,716996]
["male",77,3760,4369,6101,null,77,615839,679650,723097]
["male",78,3721,4201,5542,null,78,619560,683851,728639]
["male",79,3671,4118,4636,null,79,623231,687969,733275]
["male",80,3619,3837,4404,null,80,626850,691806,737679]
["male",81,3415,3523,4310,null,81,630265,695329,741989]
["male",82,2068,3133,3939,null,82,632333,698462,745928]
["male",83,1703,2770,3575,null,83,634036,701232,749503]
["male",84,1837,2552,3230,null,84,635873,703784,752733]
["male",85,1569,2129,2869,null,85,637442,705913,755602]
["male",86,1342,1941,2528,null,86,638784,707854,758130]
["male",87,1199,1558,2070,null,87,639983,709412,760200]
["male",88,995,1400,1772,null,88,640978,710812,761972]
["male",89,783,1227,1561,null,89,641761,712039,763533]
["male","90+",2125,3574,4858,null,"90+",643886,715613,768391]
[null,"All Males",{"$f":"SUM(C16:C106)","v":643886},715613,{"$f":"SUM(E16:E106)","v":768391},null,"Females"]
["Sex","Age"]
["female",0,6948,8554,7837,null,0,{"$f":"C109","v":6948},{"$f":"D109","v":8554},{"$f":"E109","v":7837}]
["female",1,7408,8762,8212,null,1,{"$f":"H109+C109","v":13896},{"$f":"I109+D110","v":17316},{"$f":"J109+E110","v":16049}]
["female",2,7657,8665,8518,null,2,{"$f":"H110+C111","v":21553},25981,24567]
["female",3,8081,8779,8889,null,3,29634,34760,33456]
["female",4,8108,8602,8885,null,4,37742,43362,42341]
["female",5,8181,8612,9122,null,5,45923,51974,51463]
["female",6,8253,8013,9081,null,6,54176,59987,60544]
["female",7,8599,8252,9023,null,7,62775,68239,69567]
["female",8,8685,7896,9459,null,8,71460,76135,79026]
["female",9,8764,8086,9569,null,9,80224,84221,88595]
["female",10,8890,8386,9619,null,10,89114,92607,98214]
["female",11,8836,8644,9705,null,11,97950,101251,107919]
["female",12,8695,8959,9632,null,12,106645,110210,117551]
["female",13,8664,9481,9617,null,13,115309,119691,127168]
["female",14,8441,9386,9310,null,14,123750,129077,136478]
["female",15,8271,9058,9062,null,15,132021,138135,145540]
["female",16,8474,9493,8888,null,16,140495,147628,154428]
["female",17,8292,9656,8817,null,17,148787,157284,163245]
["female",18,7743,9374,8218,null,18,156530,166658,171463]
["female",19,7108,9185,7672,null,19,163638,175843,179135]
["female",20,7293,9108,7535,null,20,170931,184951,186670]
["female",21,7148,8774,8074,null,21,178079,193725,194744]
["female",22,6924,8701,8390,null,22,185003,202426,203134]
["female",23,6626,8603,8819,null,23,191629,211029,211953]
["female",24,6721,8418,8613,null,24,198350,219447,220566]
["female",25,7018,8530,8586,null,25,205368,227977,229152]
["female",26,7317,8520,8987,null,26,212685,236497,238139]
["female",27,7564,8324,9370,null,27,220249,244821,247509]
["female",28,8363,8385,9772,null,28,228612,253206,257281]
["female",29,8797,8654,9865,null,29,237409,261860,267146]
["female",30,9334,8866,10382,null,30,246743,270726,277528]
["female",31,9069,8719,10559,null,31,255812,279445,288087]
["female",32,9695,8399,10632,null,32,265507,287844,298719]
["female",33,9786,8104,10562,null,33,275293,{"$f":"I141+D142","v":295948},{"$f":"J141+E142","v":309281}]
["female",34,10133,8205,10515,null,34,{"$f":"H142+C143","v":285426},304153,319796]
["female",35,10641,8539,10476,null,35,296067,312692,330272]
["female",36,10543,8876,10485,null,36,306610,321568,340757]
["female",37,10279,9367,10259,null,37,316889,330935,351016]
["female",38,10246,9923,10327,null,38,327135,340858,361343]
["female",39,10230,10283,10421,null,39,337365,351141,371764]
["female",40,9584,10824,10679,null,40,346949,361965,382443]
["female",41,9283,10673,10467,null,41,356232,372638,392910]
["female",42,9308,11151,10050,null,42,365540,383789,402960]
["female",43,9090,11027,9350,null,43,374630,394816,412310]
["female",44,8841,11394,9542,null,44,383471,406210,421852]
["female",45,8703,11451,9768,null,45,392174,417661,431620]
["female",46,8636,11318,9962,null,46,400810,428979,441582]
["female",47,8701,10984,10311,null,47,409511,439963,451893]
["female",48,8522,10862,10809,null,48,418033,450825,462702]
["female",49,8695,10499,11122,null,49,426728,461324,473824]
["female",50,8689,10116,11354,null,50,435417,471440,485178]
["female",51,9095,9798,11226,null,51,444512,481238,496404]
["female",52,9548,9687,11507,null,52,454060,490925,507911]
["female",53,10775,9446,11418,null,53,464835,500371,519329]
["female",54,11618,9019,11569,null,54,476453,509390,530898]
["female",55,8741,8817,11609,null,55,485194,518207,542507]
["female",56,8789,8772,11522,null,56,493983,526979,554029]
["female",57,8450,8671,11056,null,57,502433,535650,565085]
["female",58,8122,8555,10954,null,58,510555,544205,576039]
["female",59,7013,8619,10498,null,59,517568,552824,586537]
["female",60,6702,8589,10098,null,60,524270,561413,596635]
["female",61,7256,9150,9669,null,61,531526,570563,606304]
["female",62,7118,9588,9625,null,62,538644,580151,615929]
["female",63,7015,10771,9229,null,63,545659,590922,625158]
["female",64,6897,11260,8853,null,64,552556,602182,634011]
["female",65,6558,8258,8601,null,65,559114,{"$f":"I173+D174","v":610440},{"$f":"J173+E174","v":642612}]
["female",66,6505,8708,8632,null,66,{"$f":"H174+C175","v":565619},619148,651244]
["female",67,6217,8177,8462,null,67,571836,627325,659706]
["female",68,6371,7801,8271,null,68,578207,635126,667977]
["female",69,6404,6577,8402,null,69,584611,641703,676379]
["female",70,6479,6269,8265,null,70,591090,647972,684644]
["female",71,6335,6609,8651,null,71,597425,654581,693295]
["female",72,6015,6541,8978,null,72,603440,661122,702273]
["female",73,5875,6293,10044,null,73,609315,667415,712317]
["female",74,6004,6114,10231,null,74,615319,673529,722548]
["female",75,5832,5707,7396,null,75,621151,679236,729944]
["female",76,5602,5615,7770,null,76,626753,684851,737714]
["female",77,5541,5257,7133,null,77,632294,690108,744847]
["female",78,5510,5313,6495,null,78,637804,695421,751342]
["female",79,5695,5093,5539,null,79,643499,700514,756881]
["female",80,5743,5124,5184,null,80,649242,705638,762065]
["female",81,5310,4876,5279,null,81,654552,710514,767344]
["female",82,3470,4491,4981,null,82,658022,715005,772325]
["female",83,2872,4178,4686,null,83,660894,719183,777011]
["female",84,3331,3932,4306,null,84,664225,723115,781317]
["female",85,3140,3601,3820,null,85,667365,726716,785137]
["female",86,3066,3260,3403,null,86,670431,729976,788540]
["female",87,2683,3154,3154,null,87,673114,733130,791694]
["female",88,2422,2735,2890,null,88,675536,735865,794584]
["female",89,2085,2678,2496,null,89,677621,738543,797080]
["female","90+",7752,9584,10606,null,"90+",685373,748127,807686]
[null,"All Females",{"$f":"SUM(C109:C199)","v":685833},{"$f":"SUM(D109:D199)","v":748127},{"$f":"SUM(E109:E199)","v":807686}]

{"sheet":"Workbook Methodology","index":22,"n_rows":17,"n_cols":1,"rows_kept":17,"cut":false,"hidden":true,"merged":[]}
["Created by: Jeanette Forster, Strategic Commissioning - Analytics, Kent County Council"]
["29th September 2011"]
[]
["All drop down boxes in this workbook are operated using Index functions"]
[]
["Viewing additional districts using the additional district drop down boxes operates via a macro. "]
["This macro hides and unhides the rows in which the comparitor districts is situated"]
["Additional rows should not be added above row 50 as this will disrupt the macro"]
[]
["New data can be pasted into the yellow sections of each district data worksheet"]
[]
["Columns AG to BJ in each district worksheet contains calculations which adds the single year data to create a cummulative age"]
["This cummulative age data is used to calculate the selectable ages"]
[]
["The All Districts Rounded Data worksheet rounds the selected age group data calculated on each of the district sheets"]
[]
["All Indexes and drop down lists can be found in the Index worksheet"]