{"text_format":"1","workbook":"xlsx","n_sheets":24,"sheets":["Notes","Summary","Population Pyramid","Workbook Methodology","Index","All Districts Rounded Data","All Districts unrounded","England & Wales","South East","Kent+Med","ASH","CAN","DAR","DOV","F&H","GRA","MAI","MED","SEV","SWA","THA","TON","TUN","Kent"],"not_rendered":{"charts":3,"images":2,"macros":1,"external_links":0,"defined_names":0,"comments":0,"pivot_tables":0},"unopened":[],"bounds":{"document_bytes":16777216,"sheet_cells":100000,"rows_first":2000,"rows_last":500,"rows_between":2000,"halvings":0,"cell_chars":16384,"cell_head_chars":4096},"cells_cut":0,"cells_raw":0,"read":"whole","date_system":"1900"}

{"sheet":"Notes","index":0,"n_rows":24,"n_cols":13,"rows_kept":24,"cut":false,"hidden":false,"merged":[[3,1,3,12],[11,1,11,12],[9,1,9,12],[4,1,4,12],[7,1,7,12],[5,1,5,12],[6,1,6,12]]}
[]
[null,"Interactive mid-year population estimate toolkit",null,null,null,null,null,null,null,null,null,null,"Version date: January 2025"]
[]
[null,"This file enables users to see how the population of Kent and individual Kent districts looks according to the Office for National Statistics Mid-Year Population Estimates.  "]
[null,"The summary allows users to:-  "]
[null,"see a chart of male, female and total population by age between 2003 and 2023 for you chosen area"]
[null,"see the number and percentage change in male, female and total population for any timeframe between the years 2003 and 2023 for a single selected area.  "]
[null,"see change in population for any timeframe between the years 2003 and 2023 for up to 3 selected areas.  "]
[null,"Summary"]
[null,"Click on the animated population pyramid to see the full age profile by 5 year age group change each year between 2003 and 2023 for your selected area.  "]
[null,"Population Pyramid"]
[null,"The data are taken from the Mid-Year Population Estimates as published by the Office for National Statistics (ONS)."]
[null,"Estimates for 2003 to 2010 are revised and were released 30 April 2013"]
[null,"Estimates for 2012 to 2021 are revised and were released 23 November 2023"]
[null,"2022 estimates were released 23 November 2023 and revised 15 July 2024"]
[null,"2023 estimates were released 15 July 2024"]
[null,"2024 estimates are due for release in Summer 2025"]
[]
[]
[null,"Enquiries or requests for further information should be directed to:"]
[null,"Kent Analytics"]
[null,"Kent County Council"]
[null,"Tel: 03000 41 74 44"]
[null,"Email: research@kent.gov.uk"]

{"sheet":"Summary","index":1,"n_rows":51,"n_cols":22,"rows_kept":51,"cut":false,"hidden":false,"merged":[]}
[]
["Interactive mid-year population estimate toolkit",null,null,null,null,null,null,"Click here to view a population pyramid"]
["Source: Office for National Statistics Mid Year Estimates.  "]
["Presented by: Kent Analytics, Kent County Council. Email: research@kent.gov.uk"]
[{"$f":"Notes!M2","v":"Version date: January 2025"}]
[]
["Select District",null,null,null,null,null,"Select district 2",null,null,null,null,null,"Select district 3"]
[]
[]
[null,"Start age",null,"End Age"]
[]
[]
[]
[]
[null,null,null,null,null,null,null,null,null,null,null,null,null,null,{"$f":"Index!E7&\" in \"&Index!C11&\", \"&Index!C16&\" - \"&Index!C19","v":"Change in population aged 0-90+ in Ashford, 2003 - 2023"}]
[]
[null,null,null,null,null,null,null,null,null,null,null,null,null,"Start Year",null,"End Year"]
[]
[]
[]
[null,null,null,null,null,null,null,null,null,null,null,null,null,"Year","Males","Females","Total"]
[null,null,null,null,null,null,null,null,null,null,null,null,null,{"$f":"Index!C16","v":2003},{"$f":"INDEX('All Districts Rounded Data'!AI12:AI29,Index!B11)","v":51300},{"$f":"INDEX('All Districts Rounded Data'!AI33:AI50,Index!B11)","v":54300},{"$f":"INDEX('All Districts Rounded Data'!AI54:AI71,Index!B11)","v":105600}]
[null,null,null,null,null,null,null,null,null,null,null,null,null,{"$f":"Index!C19","v":2023},{"$f":"INDEX('All Districts Rounded Data'!AJ12:AJ29,Index!B11)","v":67300},{"$f":"INDEX('All Districts Rounded Data'!AJ33:AJ50,Index!B11)","v":71000},{"$f":"INDEX('All Districts Rounded Data'!AJ54:AJ71,Index!B11)","v":138300}]
[null,null,null,null,null,null,null,null,null,null,null,null,null,"Change",{"$f":"IF(O22=0,0,INDEX('All Districts Rounded Data'!AK12:AK29,Index!B11))","v":16000},{"$f":"IF(P22=0,0,INDEX('All Districts Rounded Data'!AK33:AK50,Index!B11))","v":16700},{"$f":"IF(Q22=0,0,INDEX('All Districts Rounded Data'!AK54:AK71,Index!B11))","v":32600}]
[null,null,null,null,null,null,null,null,null,null,null,null,null,"% change",{"$f":"INDEX('All Districts Rounded Data'!AL12:AL29,Index!B11)","v":0.31177766083922898},{"$f":"INDEX('All Districts Rounded Data'!AL33:AL50,Index!B11)","v":0.30647744215583411},{"$f":"INDEX('All Districts Rounded Data'!AL54:AL71,Index!B11)","v":0.3090518383884282}]
[null,null,null,null,null,null,null,null,null,null,null,null,null,"Source: Office for National Statistics.  Kent Analytics, Kent County Council "]
[null,null,null,null,null,null,null,null,null,null,null,null,null,"All figures have been individually rounded to the nearest one hundred and therefore may not sum"]
[null,null,null,null,null,null,null,null,null,null,null,null,null,"Percentages have been calculated using unrounded numbers"]
[]
[]
[{"$f":"Index!C11&\" estimated population aged \"&Index!C4&\" - \"&Index!C9","v":"Ashford estimated population aged 0 - 90+"}]
[null,2003,2004,2005,2006,2007,2008,2009,2010,2011,2012,2013,2014,2015,2016,2017,2018,2019,2020,2021,2022,2023]
["Males",{"$f":"INDEX('All Districts Rounded Data'!M$12:M$29,Index!$B$11)","v":51300},{"$f":"INDEX('All Districts Rounded Data'!N$12:N$29,Index!$B$11)","v":52000},{"$f":"INDEX('All Districts Rounded Data'!O$12:O$29,Index!$B$11)","v":53000},{"$f":"INDEX('All Districts Rounded Data'!P$12:P$29,Index!$B$11)","v":54000},{"$f":"INDEX('All Districts Rounded Data'!Q$12:Q$29,Index!$B$11)","v":55000},{"$f":"INDEX('All Districts Rounded Data'!R$12:R$29,Index!$B$11)","v":55600},{"$f":"INDEX('All Districts Rounded Data'!S$12:S$29,Index!$B$11)","v":56200},{"$f":"INDEX('All Districts Rounded Data'!T$12:T$29,Index!$B$11)","v":56700},{"$f":"INDEX('All Districts Rounded Data'!U$12:U$29,Index!$B$11)","v":57400},{"$f":"INDEX('All Districts Rounded Data'!V$12:V$29,Index!$B$11)","v":58300},{"$f":"INDEX('All Districts Rounded Data'!W$12:W$29,Index!$B$11)","v":59100},{"$f":"INDEX('All Districts Rounded Data'!X$12:X$29,Index!$B$11)","v":60000},{"$f":"INDEX('All Districts Rounded Data'!Y$12:Y$29,Index!$B$11)","v":60500},{"$f":"INDEX('All Districts Rounded Data'!Z$12:Z$29,Index!$B$11)","v":61300},{"$f":"INDEX('All Districts Rounded Data'!AA$12:AA$29,Index!$B$11)","v":62200},{"$f":"INDEX('All Districts Rounded Data'!AB$12:AB$29,Index!$B$11)","v":63000},{"$f":"INDEX('All Districts Rounded Data'!AC$12:AC$29,Index!$B$11)","v":63400},{"$f":"INDEX('All Districts Rounded Data'!AD$12:AD$29,Index!$B$11)","v":63900},{"$f":"INDEX('All Districts Rounded Data'!AE$12:AE$29,Index!$B$11)","v":64800},{"$f":"INDEX('All Districts Rounded Data'!AF$12:AF$29,Index!$B$11)","v":66100},{"$f":"INDEX('All Districts Rounded Data'!AG$12:AG$29,Index!$B$11)","v":67300}]
["Females",{"$f":"INDEX('All Districts Rounded Data'!M$33:M$50,Index!$B$11)","v":54300},{"$f":"INDEX('All Districts Rounded Data'!N$33:N$50,Index!$B$11)","v":55200},{"$f":"INDEX('All Districts Rounded Data'!O$33:O$50,Index!$B$11)","v":56400},{"$f":"INDEX('All Districts Rounded Data'!P$33:P$50,Index!$B$11)","v":57400},{"$f":"INDEX('All Districts Rounded Data'!Q$33:Q$50,Index!$B$11)","v":58300},{"$f":"INDEX('All Districts Rounded Data'!R$33:R$50,Index!$B$11)","v":59000},{"$f":"INDEX('All Districts Rounded Data'!S$33:S$50,Index!$B$11)","v":59500},{"$f":"INDEX('All Districts Rounded Data'!T$33:T$50,Index!$B$11)","v":60200},{"$f":"INDEX('All Districts Rounded Data'!U$33:U$50,Index!$B$11)","v":61000},{"$f":"INDEX('All Districts Rounded Data'!V$33:V$50,Index!$B$11)","v":61900},{"$f":"INDEX('All Districts Rounded Data'!W$33:W$50,Index!$B$11)","v":62800},{"$f":"INDEX('All Districts Rounded Data'!X$33:X$50,Index!$B$11)","v":63700},{"$f":"INDEX('All Districts Rounded Data'!Y$33:Y$50,Index!$B$11)","v":64100},{"$f":"INDEX('All Districts Rounded Data'!Z$33:Z$50,Index!$B$11)","v":65000},{"$f":"INDEX('All Districts Rounded Data'!AA$33:AA$50,Index!$B$11)","v":65800},{"$f":"INDEX('All Districts Rounded Data'!AB$33:AB$50,Index!$B$11)","v":66700},{"$f":"INDEX('All Districts Rounded Data'!AC$33:AC$50,Index!$B$11)","v":67000},{"$f":"INDEX('All Districts Rounded Data'!AD$33:AD$50,Index!$B$11)","v":67500},{"$f":"INDEX('All Districts Rounded Data'!AE$33:AE$50,Index!$B$11)","v":68400},{"$f":"INDEX('All Districts Rounded Data'!AF$33:AF$50,Index!$B$11)","v":69700},{"$f":"INDEX('All Districts Rounded Data'!AG$33:AG$50,Index!$B$11)","v":71000}]
["Total",{"$f":"INDEX('All Districts Rounded Data'!M$54:M$71,Index!$B$11)","v":105600},{"$f":"INDEX('All Districts Rounded Data'!N$54:N$71,Index!$B$11)","v":107300},{"$f":"INDEX('All Districts Rounded Data'!O$54:O$71,Index!$B$11)","v":109400},{"$f":"INDEX('All Districts Rounded Data'!P$54:P$71,Index!$B$11)","v":111500},{"$f":"INDEX('All Districts Rounded Data'!Q$54:Q$71,Index!$B$11)","v":113300},{"$f":"INDEX('All Districts Rounded Data'!R$54:R$71,Index!$B$11)","v":114600},{"$f":"INDEX('All Districts Rounded Data'!S$54:S$71,Index!$B$11)","v":115700},{"$f":"INDEX('All Districts Rounded Data'!T$54:T$71,Index!$B$11)","v":117000},{"$f":"INDEX('All Districts Rounded Data'!U$54:U$71,Index!$B$11)","v":118400},{"$f":"INDEX('All Districts Rounded Data'!V$54:V$71,Index!$B$11)","v":120200},{"$f":"INDEX('All Districts Rounded Data'!W$54:W$71,Index!$B$11)","v":121900},{"$f":"INDEX('All Districts Rounded Data'!X$54:X$71,Index!$B$11)","v":123700},{"$f":"INDEX('All Districts Rounded Data'!Y$54:Y$71,Index!$B$11)","v":124600},{"$f":"INDEX('All Districts Rounded Data'!Z$54:Z$71,Index!$B$11)","v":126300},{"$f":"INDEX('All Districts Rounded Data'!AA$54:AA$71,Index!$B$11)","v":128000},{"$f":"INDEX('All Districts Rounded Data'!AB$54:AB$71,Index!$B$11)","v":129700},{"$f":"INDEX('All Districts Rounded Data'!AC$54:AC$71,Index!$B$11)","v":130500},{"$f":"INDEX('All Districts Rounded Data'!AD$54:AD$71,Index!$B$11)","v":131400},{"$f":"INDEX('All Districts Rounded Data'!AE$54:AE$71,Index!$B$11)","v":133200},{"$f":"INDEX('All Districts Rounded Data'!AF$54:AF$71,Index!$B$11)","v":135700},{"$f":"INDEX('All Districts Rounded Data'!AG$54:AG$71,Index!$B$11)","v":138300}]
["Source: Office for National Statistics.  Presented by: Kent Analytics, Kent County Council "]
["All figures have been individually rounded to the nearest one hundred and therefore may not sum"]
[{"$f":"Index!C12&\" estimated population aged \"&Index!C4&\" - \"&Index!C9","v":"- estimated population aged 0 - 90+"}]
[null,2003,2004,2005,2006,2007,2008,2009,2010,2011,2012,2013,2014,2015,2016,2017,2018,2019,2020,2021,2022,2023]
["Males",{"$f":"INDEX('All Districts Rounded Data'!L$12:L$29,Index!$B$12)","v":0},{"$f":"INDEX('All Districts Rounded Data'!M$12:M$29,Index!$B$12)","v":0},{"$f":"INDEX('All Districts Rounded Data'!N$12:N$29,Index!$B$12)","v":0},{"$f":"INDEX('All Districts Rounded Data'!O$12:O$29,Index!$B$12)","v":0},{"$f":"INDEX('All Districts Rounded Data'!P$12:P$29,Index!$B$12)","v":0},{"$f":"INDEX('All Districts Rounded Data'!Q$12:Q$29,Index!$B$12)","v":0},{"$f":"INDEX('All Districts Rounded Data'!R$12:R$29,Index!$B$12)","v":0},{"$f":"INDEX('All Districts Rounded Data'!S$12:S$29,Index!$B$12)","v":0},{"$f":"INDEX('All Districts Rounded Data'!T$12:T$29,Index!$B$12)","v":0},{"$f":"INDEX('All Districts Rounded Data'!U$12:U$29,Index!$B$12)","v":0},{"$f":"INDEX('All Districts Rounded Data'!V$12:V$29,Index!$B$12)","v":0},{"$f":"INDEX('All Districts Rounded Data'!W$12:W$29,Index!$B$12)","v":0},{"$f":"INDEX('All Districts Rounded Data'!X$12:X$29,Index!$B$12)","v":0},{"$f":"INDEX('All Districts Rounded Data'!Y$12:Y$29,Index!$B$12)","v":0},{"$f":"INDEX('All Districts Rounded Data'!Z$12:Z$29,Index!$B$12)","v":0},{"$f":"INDEX('All Districts Rounded Data'!AA$12:AA$29,Index!$B$12)","v":0},{"$f":"INDEX('All Districts Rounded Data'!AB$12:AB$29,Index!$B$12)","v":0},{"$f":"INDEX('All Districts Rounded Data'!AC$12:AC$29,Index!$B$12)","v":0},{"$f":"INDEX('All Districts Rounded Data'!AD$12:AD$29,Index!$B$12)","v":0},{"$f":"INDEX('All Districts Rounded Data'!AE$12:AE$29,Index!$B$12)","v":0},{"$f":"INDEX('All Districts Rounded Data'!AF$12:AF$29,Index!$B$12)","v":0}]
["Females",{"$f":"INDEX('All Districts Rounded Data'!L$33:L$50,Index!$B$12)","v":0},{"$f":"INDEX('All Districts Rounded Data'!M$33:M$50,Index!$B$12)","v":0},{"$f":"INDEX('All Districts Rounded Data'!N$33:N$50,Index!$B$12)","v":0},{"$f":"INDEX('All Districts Rounded Data'!O$33:O$50,Index!$B$12)","v":0},{"$f":"INDEX('All Districts Rounded Data'!P$33:P$50,Index!$B$12)","v":0},{"$f":"INDEX('All Districts Rounded Data'!Q$33:Q$50,Index!$B$12)","v":0},{"$f":"INDEX('All Districts Rounded Data'!R$33:R$50,Index!$B$12)","v":0},{"$f":"INDEX('All Districts Rounded Data'!S$33:S$50,Index!$B$12)","v":0},{"$f":"INDEX('All Districts Rounded Data'!T$33:T$50,Index!$B$12)","v":0},{"$f":"INDEX('All Districts Rounded Data'!U$33:U$50,Index!$B$12)","v":0},{"$f":"INDEX('All Districts Rounded Data'!V$33:V$50,Index!$B$12)","v":0},{"$f":"INDEX('All Districts Rounded Data'!W$33:W$50,Index!$B$12)","v":0},{"$f":"INDEX('All Districts Rounded Data'!X$33:X$50,Index!$B$12)","v":0},{"$f":"INDEX('All Districts Rounded Data'!Y$33:Y$50,Index!$B$12)","v":0},{"$f":"INDEX('All Districts Rounded Data'!Z$33:Z$50,Index!$B$12)","v":0},{"$f":"INDEX('All Districts Rounded Data'!AA$33:AA$50,Index!$B$12)","v":0},{"$f":"INDEX('All Districts Rounded Data'!AB$33:AB$50,Index!$B$12)","v":0},{"$f":"INDEX('All Districts Rounded Data'!AC$33:AC$50,Index!$B$12)","v":0},{"$f":"INDEX('All Districts Rounded Data'!AD$33:AD$50,Index!$B$12)","v":0},{"$f":"INDEX('All Districts Rounded Data'!AE$33:AE$50,Index!$B$12)","v":0},{"$f":"INDEX('All Districts Rounded Data'!AF$33:AF$50,Index!$B$12)","v":0}]
["Total",{"$f":"INDEX('All Districts Rounded Data'!L$54:L$71,Index!$B$12)","v":0},{"$f":"INDEX('All Districts Rounded Data'!M$54:M$71,Index!$B$12)","v":0},{"$f":"INDEX('All Districts Rounded Data'!N$54:N$71,Index!$B$12)","v":0},{"$f":"INDEX('All Districts Rounded Data'!O$54:O$71,Index!$B$12)","v":0},{"$f":"INDEX('All Districts Rounded Data'!P$54:P$71,Index!$B$12)","v":0},{"$f":"INDEX('All Districts Rounded Data'!Q$54:Q$71,Index!$B$12)","v":0},{"$f":"INDEX('All Districts Rounded Data'!R$54:R$71,Index!$B$12)","v":0},{"$f":"INDEX('All Districts Rounded Data'!S$54:S$71,Index!$B$12)","v":0},{"$f":"INDEX('All Districts Rounded Data'!T$54:T$71,Index!$B$12)","v":0},{"$f":"INDEX('All Districts Rounded Data'!U$54:U$71,Index!$B$12)","v":0},{"$f":"INDEX('All Districts Rounded Data'!V$54:V$71,Index!$B$12)","v":0},{"$f":"INDEX('All Districts Rounded Data'!W$54:W$71,Index!$B$12)","v":0},{"$f":"INDEX('All Districts Rounded Data'!X$54:X$71,Index!$B$12)","v":0},{"$f":"INDEX('All Districts Rounded Data'!Y$54:Y$71,Index!$B$12)","v":0},{"$f":"INDEX('All Districts Rounded Data'!Z$54:Z$71,Index!$B$12)","v":0},{"$f":"INDEX('All Districts Rounded Data'!AA$54:AA$71,Index!$B$12)","v":0},{"$f":"INDEX('All Districts Rounded Data'!AB$54:AB$71,Index!$B$12)","v":0},{"$f":"INDEX('All Districts Rounded Data'!AC$54:AC$71,Index!$B$12)","v":0},{"$f":"INDEX('All Districts Rounded Data'!AD$54:AD$71,Index!$B$12)","v":0},{"$f":"INDEX('All Districts Rounded Data'!AE$54:AE$71,Index!$B$12)","v":0},{"$f":"INDEX('All Districts Rounded Data'!AF$54:AF$71,Index!$B$12)","v":0}]
["Source: Office for National Statistics.  Presented by Kent Analytics, Kent County Council "]
["All figures have been individually rounded to the nearest one hundred and therefore may not sum"]
[{"$f":"Index!C13&\" estimated population aged \"&Index!C4&\" - \"&Index!C9","v":"- estimated population aged 0 - 90+"}]
[null,2003,2004,2005,2006,2007,2008,2009,2010,2011,2012,2013,2014,2015,2016,2017,2018,2019,2020,2021,2022,2023]
["Males",{"$f":"INDEX('All Districts Rounded Data'!L$12:L$29,Index!$B$13)","v":0},{"$f":"INDEX('All Districts Rounded Data'!M$12:M$29,Index!$B$13)","v":0},{"$f":"INDEX('All Districts Rounded Data'!N$12:N$29,Index!$B$13)","v":0},{"$f":"INDEX('All Districts Rounded Data'!O$12:O$29,Index!$B$13)","v":0},{"$f":"INDEX('All Districts Rounded Data'!P$12:P$29,Index!$B$13)","v":0},{"$f":"INDEX('All Districts Rounded Data'!Q$12:Q$29,Index!$B$13)","v":0},{"$f":"INDEX('All Districts Rounded Data'!R$12:R$29,Index!$B$13)","v":0},{"$f":"INDEX('All Districts Rounded Data'!S$12:S$29,Index!$B$13)","v":0},{"$f":"INDEX('All Districts Rounded Data'!T$12:T$29,Index!$B$13)","v":0},{"$f":"INDEX('All Districts Rounded Data'!U$12:U$29,Index!$B$13)","v":0},{"$f":"INDEX('All Districts Rounded Data'!V$12:V$29,Index!$B$13)","v":0},{"$f":"INDEX('All Districts Rounded Data'!W$12:W$29,Index!$B$13)","v":0},{"$f":"INDEX('All Districts Rounded Data'!X$12:X$29,Index!$B$13)","v":0},{"$f":"INDEX('All Districts Rounded Data'!Y$12:Y$29,Index!$B$13)","v":0},{"$f":"INDEX('All Districts Rounded Data'!Z$12:Z$29,Index!$B$13)","v":0},{"$f":"INDEX('All Districts Rounded Data'!AA$12:AA$29,Index!$B$13)","v":0},{"$f":"INDEX('All Districts Rounded Data'!AB$12:AB$29,Index!$B$13)","v":0},{"$f":"INDEX('All Districts Rounded Data'!AC$12:AC$29,Index!$B$13)","v":0},{"$f":"INDEX('All Districts Rounded Data'!AD$12:AD$29,Index!$B$13)","v":0},{"$f":"INDEX('All Districts Rounded Data'!AE$12:AE$29,Index!$B$13)","v":0},{"$f":"INDEX('All Districts Rounded Data'!AF$12:AF$29,Index!$B$13)","v":0}]
["Females",{"$f":"INDEX('All Districts Rounded Data'!L$33:L$50,Index!$B$13)","v":0},{"$f":"INDEX('All Districts Rounded Data'!M$33:M$50,Index!$B$13)","v":0},{"$f":"INDEX('All Districts Rounded Data'!N$33:N$50,Index!$B$13)","v":0},{"$f":"INDEX('All Districts Rounded Data'!O$33:O$50,Index!$B$13)","v":0},{"$f":"INDEX('All Districts Rounded Data'!P$33:P$50,Index!$B$13)","v":0},{"$f":"INDEX('All Districts Rounded Data'!Q$33:Q$50,Index!$B$13)","v":0},{"$f":"INDEX('All Districts Rounded Data'!R$33:R$50,Index!$B$13)","v":0},{"$f":"INDEX('All Districts Rounded Data'!S$33:S$50,Index!$B$13)","v":0},{"$f":"INDEX('All Districts Rounded Data'!T$33:T$50,Index!$B$13)","v":0},{"$f":"INDEX('All Districts Rounded Data'!U$33:U$50,Index!$B$13)","v":0},{"$f":"INDEX('All Districts Rounded Data'!V$33:V$50,Index!$B$13)","v":0},{"$f":"INDEX('All Districts Rounded Data'!W$33:W$50,Index!$B$13)","v":0},{"$f":"INDEX('All Districts Rounded Data'!X$33:X$50,Index!$B$13)","v":0},{"$f":"INDEX('All Districts Rounded Data'!Y$33:Y$50,Index!$B$13)","v":0},{"$f":"INDEX('All Districts Rounded Data'!Z$33:Z$50,Index!$B$13)","v":0},{"$f":"INDEX('All Districts Rounded Data'!AA$33:AA$50,Index!$B$13)","v":0},{"$f":"INDEX('All Districts Rounded Data'!AB$33:AB$50,Index!$B$13)","v":0},{"$f":"INDEX('All Districts Rounded Data'!AC$33:AC$50,Index!$B$13)","v":0},{"$f":"INDEX('All Districts Rounded Data'!AD$33:AD$50,Index!$B$13)","v":0},{"$f":"INDEX('All Districts Rounded Data'!AE$33:AE$50,Index!$B$13)","v":0},{"$f":"INDEX('All Districts Rounded Data'!AF$33:AF$50,Index!$B$13)","v":0}]
["Total",{"$f":"INDEX('All Districts Rounded Data'!L$54:L$71,Index!$B$13)","v":0},{"$f":"INDEX('All Districts Rounded Data'!M$54:M$71,Index!$B$13)","v":0},{"$f":"INDEX('All Districts Rounded Data'!N$54:N$71,Index!$B$13)","v":0},{"$f":"INDEX('All Districts Rounded Data'!O$54:O$71,Index!$B$13)","v":0},{"$f":"INDEX('All Districts Rounded Data'!P$54:P$71,Index!$B$13)","v":0},{"$f":"INDEX('All Districts Rounded Data'!Q$54:Q$71,Index!$B$13)","v":0},{"$f":"INDEX('All Districts Rounded Data'!R$54:R$71,Index!$B$13)","v":0},{"$f":"INDEX('All Districts Rounded Data'!S$54:S$71,Index!$B$13)","v":0},{"$f":"INDEX('All Districts Rounded Data'!T$54:T$71,Index!$B$13)","v":0},{"$f":"INDEX('All Districts Rounded Data'!U$54:U$71,Index!$B$13)","v":0},{"$f":"INDEX('All Districts Rounded Data'!V$54:V$71,Index!$B$13)","v":0},{"$f":"INDEX('All Districts Rounded Data'!W$54:W$71,Index!$B$13)","v":0},{"$f":"INDEX('All Districts Rounded Data'!X$54:X$71,Index!$B$13)","v":0},{"$f":"INDEX('All Districts Rounded Data'!Y$54:Y$71,Index!$B$13)","v":0},{"$f":"INDEX('All Districts Rounded Data'!Z$54:Z$71,Index!$B$13)","v":0},{"$f":"INDEX('All Districts Rounded Data'!AA$54:AA$71,Index!$B$13)","v":0},{"$f":"INDEX('All Districts Rounded Data'!AB$54:AB$71,Index!$B$13)","v":0},{"$f":"INDEX('All Districts Rounded Data'!AC$54:AC$71,Index!$B$13)","v":0},{"$f":"INDEX('All Districts Rounded Data'!AD$54:AD$71,Index!$B$13)","v":0},{"$f":"INDEX('All Districts Rounded Data'!AE$54:AE$71,Index!$B$13)","v":0},{"$f":"INDEX('All Districts Rounded Data'!AF$54:AF$71,Index!$B$13)","v":0}]
["Source: Office for National Statistics.  Presented by Kent Analytics, Kent County Council "]
["All figures have been individually rounded to the nearest one hundred and therefore may not sum"]

{"sheet":"Population Pyramid","index":2,"n_rows":35,"n_cols":12,"rows_kept":35,"cut":false,"hidden":false,"merged":[]}
[null,null,null,null,null,null,null,null,null,null,null,21]
[]
[null,null,"Interactive mid-year population estimate toolkit",null,null,null,null,null,"Click here to return to the population summary page"]
[null,null,"Source: Office for National Statistics Mid Year Estimates.  "]
[null,null,"Presented by: Kent Analytics, Kent County Council. Email: research@kent.gov.uk"]
[null,null,{"$f":"Notes!M2","v":"Version date: January 2025"}]
[null,null,null,null,null,"Select district"]
[]
[null,null,null,null,null,"Select year"]
[]
[]
[null,null,{"$f":"'All Districts unrounded'!A120&\", \"&'All Districts unrounded'!A121","v":"Ashford, 2023"}]
[null,null,null,"Total","% of total population","Males","% of total population","Females","% of total population"]
[null,null,"All Ages",{"$f":"ROUND('All Districts unrounded'!B122+'All Districts unrounded'!E122,-2)","v":131400},{"$f":"('All Districts unrounded'!B122+'All Districts unrounded'!E122)/'All Districts unrounded'!$C$120","v":1},{"$f":"ROUND('All Districts unrounded'!B122,-2)","v":63900},{"$f":"'All Districts unrounded'!C122","v":0.48628557950559609},{"$f":"ROUND('All Districts unrounded'!E122,-2)","v":67500},{"$f":"'All Districts unrounded'!F122","v":0.51371442049440386}]
[null,null,"0-4",{"$f":"ROUND('All Districts unrounded'!B123+'All Districts unrounded'!E123,-2)","v":7600},{"$f":"('All Districts unrounded'!B123+'All Districts unrounded'!E123)/'All Districts unrounded'!$C$120","v":5.786306122604256E-2},{"$f":"ROUND('All Districts unrounded'!B123,-2)","v":3900},{"$f":"'All Districts unrounded'!C123","v":2.9574453515532863E-2},{"$f":"ROUND('All Districts unrounded'!E123,-2)","v":3700},{"$f":"'All Districts unrounded'!F123","v":2.8288607710509697E-2}]
[null,null,"5-9",{"$f":"ROUND('All Districts unrounded'!B124+'All Districts unrounded'!E124,-2)","v":8300},{"$f":"('All Districts unrounded'!B124+'All Districts unrounded'!E124)/'All Districts unrounded'!$C$120","v":6.322709254285519E-2},{"$f":"ROUND('All Districts unrounded'!B124,-2)","v":4200},{"$f":"'All Districts unrounded'!C124","v":3.2290707671706068E-2},{"$f":"ROUND('All Districts unrounded'!E124,-2)","v":4100},{"$f":"'All Districts unrounded'!F124","v":3.0936384871149119E-2}]
[null,null,"10-14",{"$f":"ROUND('All Districts unrounded'!B125+'All Districts unrounded'!E125,-2)","v":8300},{"$f":"('All Districts unrounded'!B125+'All Districts unrounded'!E125)/'All Districts unrounded'!$C$120","v":6.3440132084515835E-2},{"$f":"ROUND('All Districts unrounded'!B125,-2)","v":4200},{"$f":"'All Districts unrounded'!C125","v":3.2138536570519891E-2},{"$f":"ROUND('All Districts unrounded'!E125,-2)","v":4100},{"$f":"'All Districts unrounded'!F125","v":3.1301595513995938E-2}]
[null,null,"15-19",{"$f":"ROUND('All Districts unrounded'!B126+'All Districts unrounded'!E126,-2)","v":7500},{"$f":"('All Districts unrounded'!B126+'All Districts unrounded'!E126)/'All Districts unrounded'!$C$120","v":5.6904383288569671E-2},{"$f":"ROUND('All Districts unrounded'!B126,-2)","v":3900},{"$f":"'All Districts unrounded'!C126","v":2.9475542299761851E-2},{"$f":"ROUND('All Districts unrounded'!E126,-2)","v":3600},{"$f":"'All Districts unrounded'!F126","v":2.7428840988807816E-2}]
[null,null,"20-24",{"$f":"ROUND('All Districts unrounded'!B127+'All Districts unrounded'!E127,-2)","v":6400},{"$f":"('All Districts unrounded'!B127+'All Districts unrounded'!E127)/'All Districts unrounded'!$C$120","v":4.8930617586414163E-2},{"$f":"ROUND('All Districts unrounded'!B127,-2)","v":3200},{"$f":"'All Districts unrounded'!C127","v":2.4438678850499503E-2},{"$f":"ROUND('All Districts unrounded'!E127,-2)","v":3200},{"$f":"'All Districts unrounded'!F127","v":2.4491938735914664E-2}]
[null,null,"25-29",{"$f":"ROUND('All Districts unrounded'!B128+'All Districts unrounded'!E128,-2)","v":7900},{"$f":"('All Districts unrounded'!B128+'All Districts unrounded'!E128)/'All Districts unrounded'!$C$120","v":6.0381492950673736E-2},{"$f":"ROUND('All Districts unrounded'!B128,-2)","v":3800},{"$f":"'All Districts unrounded'!C128","v":2.8920117780432318E-2},{"$f":"ROUND('All Districts unrounded'!E128,-2)","v":4100},{"$f":"'All Districts unrounded'!F128","v":3.1461375170241418E-2}]
[null,null,"30-34",{"$f":"ROUND('All Districts unrounded'!B129+'All Districts unrounded'!E129,-2)","v":8600},{"$f":"('All Districts unrounded'!B129+'All Districts unrounded'!E129)/'All Districts unrounded'!$C$120","v":6.5243359633571987E-2},{"$f":"ROUND('All Districts unrounded'!B129,-2)","v":4000},{"$f":"'All Districts unrounded'!C129","v":3.0403786016997513E-2},{"$f":"ROUND('All Districts unrounded'!E129,-2)","v":4600},{"$f":"'All Districts unrounded'!F129","v":3.4839573616574478E-2}]
[null,null,"35-39",{"$f":"ROUND('All Districts unrounded'!B130+'All Districts unrounded'!E130,-2)","v":8000},{"$f":"('All Districts unrounded'!B130+'All Districts unrounded'!E130)/'All Districts unrounded'!$C$120","v":6.1180391231901152E-2},{"$f":"ROUND('All Districts unrounded'!B130,-2)","v":3800},{"$f":"'All Districts unrounded'!C130","v":2.9011420441144024E-2},{"$f":"ROUND('All Districts unrounded'!E130,-2)","v":4200},{"$f":"'All Districts unrounded'!F130","v":3.2168970790757125E-2}]
[null,null,"40-44",{"$f":"ROUND('All Districts unrounded'!B131+'All Districts unrounded'!E131,-2)","v":8100},{"$f":"('All Districts unrounded'!B131+'All Districts unrounded'!E131)/'All Districts unrounded'!$C$120","v":6.1340170888146632E-2},{"$f":"ROUND('All Districts unrounded'!B131,-2)","v":3900},{"$f":"'All Districts unrounded'!C131","v":2.971140750660042E-2},{"$f":"ROUND('All Districts unrounded'!E131,-2)","v":4200},{"$f":"'All Districts unrounded'!F131","v":3.1628763381546209E-2}]
[null,null,"45-49",{"$f":"ROUND('All Districts unrounded'!B132+'All Districts unrounded'!E132,-2)","v":8700},{"$f":"('All Districts unrounded'!B132+'All Districts unrounded'!E132)/'All Districts unrounded'!$C$120","v":6.6437902777883445E-2},{"$f":"ROUND('All Districts unrounded'!B132,-2)","v":4200},{"$f":"'All Districts unrounded'!C132","v":3.1598329161308975E-2},{"$f":"ROUND('All Districts unrounded'!E132,-2)","v":4600},{"$f":"'All Districts unrounded'!F132","v":3.4839573616574478E-2}]
[null,null,"50-54",{"$f":"ROUND('All Districts unrounded'!B133+'All Districts unrounded'!E133,-2)","v":9900},{"$f":"('All Districts unrounded'!B133+'All Districts unrounded'!E133)/'All Districts unrounded'!$C$120","v":7.5301869421978071E-2},{"$f":"ROUND('All Districts unrounded'!B133,-2)","v":4900},{"$f":"'All Districts unrounded'!C133","v":3.7099314469189154E-2},{"$f":"ROUND('All Districts unrounded'!E133,-2)","v":5000},{"$f":"'All Districts unrounded'!F133","v":3.8202554952788917E-2}]
[null,null,"55-59",{"$f":"ROUND('All Districts unrounded'!B134+'All Districts unrounded'!E134,-2)","v":9100},{"$f":"('All Districts unrounded'!B134+'All Districts unrounded'!E134)/'All Districts unrounded'!$C$120","v":6.915415693405666E-2},{"$f":"ROUND('All Districts unrounded'!B134,-2)","v":4500},{"$f":"'All Districts unrounded'!C134","v":3.4596099854676599E-2},{"$f":"ROUND('All Districts unrounded'!E134,-2)","v":4500},{"$f":"'All Districts unrounded'!F134","v":3.4558057079380054E-2}]
[null,null,"60-64",{"$f":"ROUND('All Districts unrounded'!B135+'All Districts unrounded'!E135,-2)","v":7300},{"$f":"('All Districts unrounded'!B135+'All Districts unrounded'!E135)/'All Districts unrounded'!$C$120","v":5.5451149272241707E-2},{"$f":"ROUND('All Districts unrounded'!B135,-2)","v":3600},{"$f":"'All Districts unrounded'!C135","v":2.716254156173201E-2},{"$f":"ROUND('All Districts unrounded'!E135,-2)","v":3700},{"$f":"'All Districts unrounded'!F135","v":2.8288607710509697E-2}]
[null,null,"65-69",{"$f":"ROUND('All Districts unrounded'!B136+'All Districts unrounded'!E136,-2)","v":6600},{"$f":"('All Districts unrounded'!B136+'All Districts unrounded'!E136)/'All Districts unrounded'!$C$120","v":4.9942555409302217E-2},{"$f":"ROUND('All Districts unrounded'!B136,-2)","v":3200},{"$f":"'All Districts unrounded'!C136","v":2.3997382657059599E-2},{"$f":"ROUND('All Districts unrounded'!E136,-2)","v":3400},{"$f":"'All Districts unrounded'!F136","v":2.5945172752242621E-2}]
[null,null,"70-74",{"$f":"ROUND('All Districts unrounded'!B137+'All Districts unrounded'!E137,-2)","v":7200},{"$f":"('All Districts unrounded'!B137+'All Districts unrounded'!E137)/'All Districts unrounded'!$C$120","v":5.5055504409157657E-2},{"$f":"ROUND('All Districts unrounded'!B137,-2)","v":3400},{"$f":"'All Districts unrounded'!C137","v":2.589191286682746E-2},{"$f":"ROUND('All Districts unrounded'!E137,-2)","v":3800},{"$f":"'All Districts unrounded'!F137","v":2.9163591542330197E-2}]
[null,null,"75-79",{"$f":"ROUND('All Districts unrounded'!B138+'All Districts unrounded'!E138,-2)","v":5200},{"$f":"('All Districts unrounded'!B138+'All Districts unrounded'!E138)/'All Districts unrounded'!$C$120","v":3.9846002845599589E-2},{"$f":"ROUND('All Districts unrounded'!B138,-2)","v":2500},{"$f":"'All Districts unrounded'!C138","v":1.8724654000958678E-2},{"$f":"ROUND('All Districts unrounded'!E138,-2)","v":2800},{"$f":"'All Districts unrounded'!F138","v":2.1121348844640914E-2}]
[null,null,"80-84",{"$f":"ROUND('All Districts unrounded'!B139+'All Districts unrounded'!E139,-2)","v":3500},{"$f":"('All Districts unrounded'!B139+'All Districts unrounded'!E139)/'All Districts unrounded'!$C$120","v":2.6371251835563908E-2},{"$f":"ROUND('All Districts unrounded'!B139,-2)","v":1600},{"$f":"'All Districts unrounded'!C139","v":1.2089993989241503E-2},{"$f":"ROUND('All Districts unrounded'!E139,-2)","v":1900},{"$f":"'All Districts unrounded'!F139","v":1.4281257846322405E-2}]
[null,null,"85+",{"$f":"ROUND('All Districts unrounded'!B140+'All Districts unrounded'!E140,-2)","v":3100},{"$f":"('All Districts unrounded'!B140+'All Districts unrounded'!E140)/'All Districts unrounded'!$C$120","v":2.3928905661525821E-2},{"$f":"ROUND('All Districts unrounded'!B140,-2)","v":1200},{"$f":"'All Districts unrounded'!C140","v":9.1607002914076592E-3},{"$f":"ROUND('All Districts unrounded'!E140,-2)","v":1900},{"$f":"'All Districts unrounded'!F140","v":1.4768205370118161E-2}]
[null,null,"Source: Office for National Statistics.  Presented by: Kent Analytics, Kent County Council "]
[null,null,"All figures have been individually rounded to the nearest one hundred and therefore may not sum"]
[null,null,"Percentages have been calculated using unrounded numbers"]

{"sheet":"Workbook Methodology","index":3,"n_rows":17,"n_cols":1,"rows_kept":17,"cut":false,"hidden":true,"merged":[]}
["Created by: Jeanette Forster, Strategic Commissioning - Analytics, Kent County Council"]
["29th September 2011"]
[]
["All drop down boxes in this workbook are operated using Index functions"]
[]
["Viewing additional districts using the additional district drop down boxes operates via a macro. "]
["This macro hides and unhides the rows in which the comparitor districts is situated"]
["Additional rows should not be added above row 50 as this will disrupt the macro"]
[]
["New data can be pasted into the yellow sections of each district data worksheet"]
[]
["Columns AG to BJ in each district worksheet contains calculations which adds the single year data to create a cummulative age"]
["This cummulative age data is used to calculate the selectable ages"]
[]
["The All Districts Rounded Data worksheet rounds the selected age group data calculated on each of the district sheets"]
[]
["All Indexes and drop down lists can be found in the Index worksheet"]

{"sheet":"Index","index":4,"n_rows":120,"n_cols":5,"rows_kept":120,"cut":false,"hidden":true,"merged":[]}
["Index",null,null,null,"Chart Formatting"]
[]
["Start age index",null,"Selected start age",null,"Chart Title"]
["Index 1",1,{"$f":"INDEX($B$30:$B$120,B4)","v":0},null,{"$f":"\"Population aged \"&C5&\"-\"&C9&\", 2003-2023\"","v":"Population aged 0-90+, 2003-2023"}]
[null,null,{"$f":"IF($B$4=91,\"90+\",INDEX(A$30:A$120,$B$4))","v":0}]
["End age index",null,"Selected end age",null,"Table title"]
["Index 2",91,{"$f":"INDEX(B$30:B$120,$B$7)","v":90},null,{"$f":"\"Change in population aged \"&C5&\"-\"&C9","v":"Change in population aged 0-90+"}]
[null,null,{"$f":"(B7-1)-C4","v":90},null,{"$f":"\"Population change aged: \"&C5&\"-\"&C9&\" - \"&C16&\"-\"&C19","v":"Population change aged: 0-90+ - 2003-2023"}]
["District Select",null,{"$f":"IF($B$7=91,\"90+\",INDEX(A$30:A$120,$B$7))","v":"90+"},null,"Chart Labels"]
["Index 3",null,"Selected district",null,{"$f":"C11&\" males\"","v":"Ashford males"}]
["District 1",2,{"$f":"INDEX($C$30:$C$47,$B11)","v":"Ashford"},null,{"$f":"C11&\" females\"","v":"Ashford females"}]
["District 2",1,{"$f":"INDEX($C$30:$C$47,$B12)","v":"-"},null,{"$f":"C11&\" total\"","v":"Ashford total"}]
["District 3",1,{"$f":"INDEX($C$30:$C$47,$B13)","v":"-"},null,{"$f":"C12&\" males\"","v":"- males"}]
[null,null,null,null,{"$f":"C12&\" females\"","v":"- females"}]
["Start year select",null,"Selected start year",null,{"$f":"C12&\" total\"","v":"- total"}]
["Index 4",1,{"$f":"INDEX(D41:D61,B16)","v":2003},null,{"$f":"C13&\" males\"","v":"- males"}]
[null,null,{"$f":"C16-C19","v":-20},null,{"$f":"C13&\" females\"","v":"- females"}]
["End year select",null,"Selected end year",null,{"$f":"C13&\" total\"","v":"- total"}]
["Index 5",21,{"$f":"INDEX(D41:D61,B19)","v":2023}]
[]
["Pop Pyramid year select",null,"Selected pyramid year"]
["Index 6",19,{"$f":"INDEX(D41:D61,'Population Pyramid'!$L$1)","v":2023}]
[]
[]
[]
[]
["Drop Downs"]
["Drop down 1",null,"Drop Down 2","Drop Down 3"]
["Age selection","age for calculation","District slection","Year selection"]
[0,0,"-",1992]
[1,1,"Ashford",1993]
[2,2,"Canterbury",1994]
[3,3,"Dartford",1995]
[4,4,"Dover",1996]
[5,5,"Gravesham",1997]
[6,6,"Maidstone",1998]
[7,7,"Medway",1999]
[8,8,"Sevenoaks",2000]
[9,9,"Folkestone & Hythe",2001]
[10,10,"Swale",2002]
[11,11,"Thanet",2003]
[12,12,"Tonbridge & Malling",2004]
[13,13,"Tunbridge Wells",2005]
[14,14,"Kent",2006]
[15,15,"Kent + Medway",2007]
[16,16,"South East Region",2008]
[17,17,"England & Wales",2009]
[18,18,null,2010]
[19,19,null,2011]
[20,20,null,2012]
[21,21,null,2013]
[22,22,null,2014]
[23,23,null,2015]
[24,24,null,2016]
[25,25,null,2017]
[26,26,null,2018]
[27,27,null,2019]
[28,28,null,2020]
[29,29,null,2021]
[30,30,null,2022]
[31,31,null,2023]
[32,32]
[33,33]
[34,34]
[35,35]
[36,36]
[37,37]
[38,38]
[39,39]
[40,40]
[41,41]
[42,42]
[43,43]
[44,44]
[45,45]
[46,46]
[47,47]
[48,48]
[49,49]
[50,50]
[51,51]
[52,52]
[53,53]
[54,54]
[55,55]
[56,56]
[57,57]
[58,58]
[59,59]
[60,60]
[61,61]
[62,62]
[63,63]
[64,64]
[65,65]
[66,66]
[67,67]
[68,68]
[69,69]
[70,70]
[71,71]
[72,72]
[73,73]
[74,74]
[75,75]
[76,76]
[77,77]
[78,78]
[79,79]
[80,80]
[81,81]
[82,82]
[83,83]
[84,84]
[85,85]
[86,86]
[87,87]
[88,88]
[89,89]
["90+",90]

{"sheet":"All Districts Rounded Data","index":5,"n_rows":71,"n_cols":38,"rows_kept":71,"cut":false,"hidden":true,"merged":[[0,33,21,33]]}
["All data on this sheet is rounded from each of the district worksheets",null,null,null,null,null,null,null,null,null,null,null,null,null,null,null,null,null,null,null,null,null,null,null,null,null,null,null,null,null,null,null,null,"Insert column here before extending the table"]
[]
[]
[]
[]
[]
[]
["Selected Ages:",null,{"$f":"Index!$C$4&\" : \"&Index!$C$7","v":"0 : 90"}]
[]
["Males",null,null,null,null,null,null,null,null,null,null,null,null,null,null,null,null,null,null,null,null,null,null,null,null,null,null,null,null,null,null,null,null,null,"Change"]
[null,{"$f":"'All Districts unrounded'!B11","v":1992},{"$f":"'All Districts unrounded'!C11","v":1993},{"$f":"'All Districts unrounded'!D11","v":1994},{"$f":"'All Districts unrounded'!E11","v":1995},{"$f":"'All Districts unrounded'!F11","v":1996},{"$f":"'All Districts unrounded'!G11","v":1997},{"$f":"'All Districts unrounded'!H11","v":1998},{"$f":"'All Districts unrounded'!I11","v":1999},{"$f":"'All Districts unrounded'!J11","v":2000},{"$f":"'All Districts unrounded'!K11","v":2001},{"$f":"'All Districts unrounded'!L11","v":2002},{"$f":"'All Districts unrounded'!M11","v":2003},{"$f":"'All Districts unrounded'!N11","v":2004},{"$f":"'All Districts unrounded'!O11","v":2005},{"$f":"'All Districts unrounded'!P11","v":2006},{"$f":"'All Districts unrounded'!Q11","v":2007},{"$f":"'All Districts unrounded'!R11","v":2008},{"$f":"'All Districts unrounded'!S11","v":2009},{"$f":"'All Districts unrounded'!T11","v":2010},{"$f":"'All Districts unrounded'!U11","v":2011},{"$f":"'All Districts unrounded'!V11","v":2012},{"$f":"'All Districts unrounded'!W11","v":2013},{"$f":"'All Districts unrounded'!X11","v":2014},{"$f":"'All Districts unrounded'!Y11","v":2015},{"$f":"'All Districts unrounded'!Z11","v":2016},{"$f":"'All Districts unrounded'!AA11","v":2017},{"$f":"'All Districts unrounded'!AB11","v":2018},{"$f":"'All Districts unrounded'!AC11","v":2019},{"$f":"'All Districts unrounded'!AD11","v":2020},{"$f":"'All Districts unrounded'!AE11","v":2021},{"$f":"'All Districts unrounded'!AF11","v":2022},{"$f":"'All Districts unrounded'!AG11","v":2023},null,{"$f":"Index!$C$16","v":2003},{"$f":"Index!$C$19","v":2023},"Number change","% change"]
["-"]
["Ashford",{"$f":"ROUND(ASH!AK$8,-2)","v":45200},{"$f":"ROUND(ASH!AL$8,-2)","v":45200},{"$f":"ROUND(ASH!AM$8,-2)","v":45600},{"$f":"ROUND(ASH!AN$8,-2)","v":46300},{"$f":"ROUND(ASH!AO$8,-2)","v":47100},{"$f":"ROUND(ASH!AP$8,-2)","v":47600},{"$f":"ROUND(ASH!AQ$8,-2)","v":47800},{"$f":"ROUND(ASH!AR$8,-2)","v":48700},{"$f":"ROUND(ASH!AS$8,-2)","v":49300},{"$f":"ROUND(ASH!AT$8,-2)","v":50100},{"$f":"ROUND(ASH!AU$8,-2)","v":50800},{"$f":"ROUND(ASH!AV$8,-2)","v":51300},{"$f":"ROUND(ASH!AW$8,-2)","v":52000},{"$f":"ROUND(ASH!AX$8,-2)","v":53000},{"$f":"ROUND(ASH!AY$8,-2)","v":54000},{"$f":"ROUND(ASH!AZ$8,-2)","v":55000},{"$f":"ROUND(ASH!BA$8,-2)","v":55600},{"$f":"ROUND(ASH!BB$8,-2)","v":56200},{"$f":"ROUND(ASH!BC$8,-2)","v":56700},{"$f":"ROUND(ASH!BD$8,-2)","v":57400},{"$f":"ROUND(ASH!BE$8,-2)","v":58300},{"$f":"ROUND(ASH!BF$8,-2)","v":59100},{"$f":"ROUND(ASH!BG$8,-2)","v":60000},{"$f":"ROUND(ASH!BH$8,-2)","v":60500},{"$f":"ROUND(ASH!BI$8,-2)","v":61300},{"$f":"ROUND(ASH!BJ$8,-2)","v":62200},{"$f":"ROUND(ASH!BK$8,-2)","v":63000},{"$f":"ROUND(ASH!BL$8,-2)","v":63400},{"$f":"ROUND(ASH!BM$8,-2)","v":63900},{"$f":"ROUND(ASH!BN$8,-2)","v":64800},{"$f":"ROUND(ASH!BO$8,-2)","v":66100},{"$f":"ROUND(ASH!BP$8,-2)","v":67300},null,{"$f":"INDEX($M13:$AH13,Index!$B$16)","v":51300},{"$f":"INDEX($M13:$AH13,Index!$B$19)","v":67300},{"$f":"ROUND('All Districts unrounded'!AK13,-2)","v":16000},{"$f":"'All Districts unrounded'!AL13","v":0.31177766083922898}]
["Canterbury",{"$f":"ROUND(CAN!AK$8,-2)","v":60900},{"$f":"ROUND(CAN!AL$8,-2)","v":61800},{"$f":"ROUND(CAN!AM$8,-2)","v":62200},{"$f":"ROUND(CAN!AN$8,-2)","v":62300},{"$f":"ROUND(CAN!AO$8,-2)","v":62600},{"$f":"ROUND(CAN!AP$8,-2)","v":63300},{"$f":"ROUND(CAN!AQ$8,-2)","v":63400},{"$f":"ROUND(CAN!AR$8,-2)","v":63600},{"$f":"ROUND(CAN!AS$8,-2)","v":64000},{"$f":"ROUND(CAN!AT$8,-2)","v":64200},{"$f":"ROUND(CAN!AU$8,-2)","v":64700},{"$f":"ROUND(CAN!AV$8,-2)","v":66000},{"$f":"ROUND(CAN!AW$8,-2)","v":67100},{"$f":"ROUND(CAN!AX$8,-2)","v":67500},{"$f":"ROUND(CAN!AY$8,-2)","v":68300},{"$f":"ROUND(CAN!AZ$8,-2)","v":69300},{"$f":"ROUND(CAN!BA$8,-2)","v":69800},{"$f":"ROUND(CAN!BB$8,-2)","v":70100},{"$f":"ROUND(CAN!BC$8,-2)","v":71300},{"$f":"ROUND(CAN!BD$8,-2)","v":72600},{"$f":"ROUND(CAN!BE$8,-2)","v":73100},{"$f":"ROUND(CAN!BF$8,-2)","v":74000},{"$f":"ROUND(CAN!BG$8,-2)","v":74700},{"$f":"ROUND(CAN!BH$8,-2)","v":75300},{"$f":"ROUND(CAN!BI$8,-2)","v":76000},{"$f":"ROUND(CAN!BJ$8,-2)","v":76300},{"$f":"ROUND(CAN!BK$8,-2)","v":75700},{"$f":"ROUND(CAN!BL$8,-2)","v":75500},{"$f":"ROUND(CAN!BM$8,-2)","v":75500},{"$f":"ROUND(CAN!BN$8,-2)","v":75200},{"$f":"ROUND(CAN!BO$8,-2)","v":76200},{"$f":"ROUND(CAN!BP$8,-2)","v":77100},null,{"$f":"INDEX($M14:$AH14,Index!$B$16)","v":66000},{"$f":"INDEX($M14:$AH14,Index!$B$19)","v":77100},{"$f":"ROUND('All Districts unrounded'!AK14,-2)","v":11000},{"$f":"'All Districts unrounded'!AL14","v":0.16708565543978676}]
["Dartford",{"$f":"ROUND(DAR!AK$8,-2)","v":39600},{"$f":"ROUND(DAR!AL$8,-2)","v":40000},{"$f":"ROUND(DAR!AM$8,-2)","v":40300},{"$f":"ROUND(DAR!AN$8,-2)","v":40500},{"$f":"ROUND(DAR!AO$8,-2)","v":40700},{"$f":"ROUND(DAR!AP$8,-2)","v":41000},{"$f":"ROUND(DAR!AQ$8,-2)","v":41500},{"$f":"ROUND(DAR!AR$8,-2)","v":41700},{"$f":"ROUND(DAR!AS$8,-2)","v":41900},{"$f":"ROUND(DAR!AT$8,-2)","v":42200},{"$f":"ROUND(DAR!AU$8,-2)","v":42500},{"$f":"ROUND(DAR!AV$8,-2)","v":42900},{"$f":"ROUND(DAR!AW$8,-2)","v":43400},{"$f":"ROUND(DAR!AX$8,-2)","v":44200},{"$f":"ROUND(DAR!AY$8,-2)","v":44800},{"$f":"ROUND(DAR!AZ$8,-2)","v":45400},{"$f":"ROUND(DAR!BA$8,-2)","v":46200},{"$f":"ROUND(DAR!BB$8,-2)","v":46900},{"$f":"ROUND(DAR!BC$8,-2)","v":47500},{"$f":"ROUND(DAR!BD$8,-2)","v":48200},{"$f":"ROUND(DAR!BE$8,-2)","v":48900},{"$f":"ROUND(DAR!BF$8,-2)","v":49700},{"$f":"ROUND(DAR!BG$8,-2)","v":50500},{"$f":"ROUND(DAR!BH$8,-2)","v":51200},{"$f":"ROUND(DAR!BI$8,-2)","v":51800},{"$f":"ROUND(DAR!BJ$8,-2)","v":53100},{"$f":"ROUND(DAR!BK$8,-2)","v":54200},{"$f":"ROUND(DAR!BL$8,-2)","v":55700},{"$f":"ROUND(DAR!BM$8,-2)","v":56600},{"$f":"ROUND(DAR!BN$8,-2)","v":57100},{"$f":"ROUND(DAR!BO$8,-2)","v":58100},{"$f":"ROUND(DAR!BP$8,-2)","v":58900},null,{"$f":"INDEX($M15:$AH15,Index!$B$16)","v":42900},{"$f":"INDEX($M15:$AH15,Index!$B$19)","v":58900},{"$f":"ROUND('All Districts unrounded'!AK15,-2)","v":16000},{"$f":"'All Districts unrounded'!AL15","v":0.37329134592955449}]
["Dover",{"$f":"ROUND(DOV!AK$8,-2)","v":50800},{"$f":"ROUND(DOV!AL$8,-2)","v":50500},{"$f":"ROUND(DOV!AM$8,-2)","v":50600},{"$f":"ROUND(DOV!AN$8,-2)","v":50300},{"$f":"ROUND(DOV!AO$8,-2)","v":49900},{"$f":"ROUND(DOV!AP$8,-2)","v":49600},{"$f":"ROUND(DOV!AQ$8,-2)","v":50000},{"$f":"ROUND(DOV!AR$8,-2)","v":49900},{"$f":"ROUND(DOV!AS$8,-2)","v":50300},{"$f":"ROUND(DOV!AT$8,-2)","v":50400},{"$f":"ROUND(DOV!AU$8,-2)","v":50500},{"$f":"ROUND(DOV!AV$8,-2)","v":51000},{"$f":"ROUND(DOV!AW$8,-2)","v":51600},{"$f":"ROUND(DOV!AX$8,-2)","v":51900},{"$f":"ROUND(DOV!AY$8,-2)","v":52300},{"$f":"ROUND(DOV!AZ$8,-2)","v":53000},{"$f":"ROUND(DOV!BA$8,-2)","v":53500},{"$f":"ROUND(DOV!BB$8,-2)","v":53700},{"$f":"ROUND(DOV!BC$8,-2)","v":54300},{"$f":"ROUND(DOV!BD$8,-2)","v":54800},{"$f":"ROUND(DOV!BE$8,-2)","v":54700},{"$f":"ROUND(DOV!BF$8,-2)","v":54800},{"$f":"ROUND(DOV!BG$8,-2)","v":55200},{"$f":"ROUND(DOV!BH$8,-2)","v":55000},{"$f":"ROUND(DOV!BI$8,-2)","v":55500},{"$f":"ROUND(DOV!BJ$8,-2)","v":55900},{"$f":"ROUND(DOV!BK$8,-2)","v":56500},{"$f":"ROUND(DOV!BL$8,-2)","v":56700},{"$f":"ROUND(DOV!BM$8,-2)","v":56700},{"$f":"ROUND(DOV!BN$8,-2)","v":56900},{"$f":"ROUND(DOV!BO$8,-2)","v":57200},{"$f":"ROUND(DOV!BP$8,-2)","v":57700},null,{"$f":"INDEX($M16:$AH16,Index!$B$16)","v":51000},{"$f":"INDEX($M16:$AH16,Index!$B$19)","v":57700},{"$f":"ROUND('All Districts unrounded'!AK16,-2)","v":6700},{"$f":"'All Districts unrounded'!AL16","v":0.1309460810254601}]
["Gravesham",{"$f":"ROUND(GRA!AK$8,-2)","v":45600},{"$f":"ROUND(GRA!AL$8,-2)","v":45600},{"$f":"ROUND(GRA!AM$8,-2)","v":45700},{"$f":"ROUND(GRA!AN$8,-2)","v":45600},{"$f":"ROUND(GRA!AO$8,-2)","v":45400},{"$f":"ROUND(GRA!AP$8,-2)","v":45500},{"$f":"ROUND(GRA!AQ$8,-2)","v":45900},{"$f":"ROUND(GRA!AR$8,-2)","v":46200},{"$f":"ROUND(GRA!AS$8,-2)","v":46500},{"$f":"ROUND(GRA!AT$8,-2)","v":46900},{"$f":"ROUND(GRA!AU$8,-2)","v":46900},{"$f":"ROUND(GRA!AV$8,-2)","v":47000},{"$f":"ROUND(GRA!AW$8,-2)","v":47200},{"$f":"ROUND(GRA!AX$8,-2)","v":47600},{"$f":"ROUND(GRA!AY$8,-2)","v":48000},{"$f":"ROUND(GRA!AZ$8,-2)","v":48500},{"$f":"ROUND(GRA!BA$8,-2)","v":48900},{"$f":"ROUND(GRA!BB$8,-2)","v":49300},{"$f":"ROUND(GRA!BC$8,-2)","v":49800},{"$f":"ROUND(GRA!BD$8,-2)","v":50200},{"$f":"ROUND(GRA!BE$8,-2)","v":50900},{"$f":"ROUND(GRA!BF$8,-2)","v":51200},{"$f":"ROUND(GRA!BG$8,-2)","v":52000},{"$f":"ROUND(GRA!BH$8,-2)","v":52500},{"$f":"ROUND(GRA!BI$8,-2)","v":52600},{"$f":"ROUND(GRA!BJ$8,-2)","v":52300},{"$f":"ROUND(GRA!BK$8,-2)","v":52300},{"$f":"ROUND(GRA!BL$8,-2)","v":52600},{"$f":"ROUND(GRA!BM$8,-2)","v":52400},{"$f":"ROUND(GRA!BN$8,-2)","v":52200},{"$f":"ROUND(GRA!BO$8,-2)","v":52100},{"$f":"ROUND(GRA!BP$8,-2)","v":52500},null,{"$f":"INDEX($M17:$AH17,Index!$B$16)","v":47000},{"$f":"INDEX($M17:$AH17,Index!$B$19)","v":52500},{"$f":"ROUND('All Districts unrounded'!AK17,-2)","v":5400},{"$f":"'All Districts unrounded'!AL17","v":0.11533964069310088}]
["Maidstone",{"$f":"ROUND(MAI!AK$8,-2)","v":67200},{"$f":"ROUND(MAI!AL$8,-2)","v":67300},{"$f":"ROUND(MAI!AM$8,-2)","v":67100},{"$f":"ROUND(MAI!AN$8,-2)","v":67400},{"$f":"ROUND(MAI!AO$8,-2)","v":68000},{"$f":"ROUND(MAI!AP$8,-2)","v":68000},{"$f":"ROUND(MAI!AQ$8,-2)","v":67700},{"$f":"ROUND(MAI!AR$8,-2)","v":67700},{"$f":"ROUND(MAI!AS$8,-2)","v":68200},{"$f":"ROUND(MAI!AT$8,-2)","v":68500},{"$f":"ROUND(MAI!AU$8,-2)","v":69000},{"$f":"ROUND(MAI!AV$8,-2)","v":69500},{"$f":"ROUND(MAI!AW$8,-2)","v":69900},{"$f":"ROUND(MAI!AX$8,-2)","v":70500},{"$f":"ROUND(MAI!AY$8,-2)","v":71500},{"$f":"ROUND(MAI!AZ$8,-2)","v":72800},{"$f":"ROUND(MAI!BA$8,-2)","v":73900},{"$f":"ROUND(MAI!BB$8,-2)","v":74800},{"$f":"ROUND(MAI!BC$8,-2)","v":75900},{"$f":"ROUND(MAI!BD$8,-2)","v":76900},{"$f":"ROUND(MAI!BE$8,-2)","v":77600},{"$f":"ROUND(MAI!BF$8,-2)","v":78600},{"$f":"ROUND(MAI!BG$8,-2)","v":79900},{"$f":"ROUND(MAI!BH$8,-2)","v":81300},{"$f":"ROUND(MAI!BI$8,-2)","v":82300},{"$f":"ROUND(MAI!BJ$8,-2)","v":83400},{"$f":"ROUND(MAI!BK$8,-2)","v":84300},{"$f":"ROUND(MAI!BL$8,-2)","v":85000},{"$f":"ROUND(MAI!BM$8,-2)","v":85700},{"$f":"ROUND(MAI!BN$8,-2)","v":87300},{"$f":"ROUND(MAI!BO$8,-2)","v":89100},{"$f":"ROUND(MAI!BP$8,-2)","v":90800},null,{"$f":"INDEX($M18:$AH18,Index!$B$16)","v":69500},{"$f":"INDEX($M18:$AH18,Index!$B$19)","v":90800},{"$f":"ROUND('All Districts unrounded'!AK18,-2)","v":21300},{"$f":"'All Districts unrounded'!AL18","v":0.30673496108081666}]
["Medway",{"$f":"ROUND(MED!AK$8,-2)","v":120600},{"$f":"ROUND(MED!AL$8,-2)","v":119900},{"$f":"ROUND(MED!AM$8,-2)","v":119700},{"$f":"ROUND(MED!AN$8,-2)","v":118800},{"$f":"ROUND(MED!AO$8,-2)","v":118800},{"$f":"ROUND(MED!AP$8,-2)","v":119300},{"$f":"ROUND(MED!AQ$8,-2)","v":120800},{"$f":"ROUND(MED!AR$8,-2)","v":121400},{"$f":"ROUND(MED!AS$8,-2)","v":122500},{"$f":"ROUND(MED!AT$8,-2)","v":123000},{"$f":"ROUND(MED!AU$8,-2)","v":123400},{"$f":"ROUND(MED!AV$8,-2)","v":123800},{"$f":"ROUND(MED!AW$8,-2)","v":123900},{"$f":"ROUND(MED!AX$8,-2)","v":124200},{"$f":"ROUND(MED!AY$8,-2)","v":124900},{"$f":"ROUND(MED!AZ$8,-2)","v":126300},{"$f":"ROUND(MED!BA$8,-2)","v":127600},{"$f":"ROUND(MED!BB$8,-2)","v":128800},{"$f":"ROUND(MED!BC$8,-2)","v":130300},{"$f":"ROUND(MED!BD$8,-2)","v":131400},{"$f":"ROUND(MED!BE$8,-2)","v":132700},{"$f":"ROUND(MED!BF$8,-2)","v":134100},{"$f":"ROUND(MED!BG$8,-2)","v":135400},{"$f":"ROUND(MED!BH$8,-2)","v":136400},{"$f":"ROUND(MED!BI$8,-2)","v":136900},{"$f":"ROUND(MED!BJ$8,-2)","v":137400},{"$f":"ROUND(MED!BK$8,-2)","v":137100},{"$f":"ROUND(MED!BL$8,-2)","v":137500},{"$f":"ROUND(MED!BM$8,-2)","v":137800},{"$f":"ROUND(MED!BN$8,-2)","v":137200},{"$f":"ROUND(MED!BO$8,-2)","v":138500},{"$f":"ROUND(MED!BP$8,-2)","v":140300},null,{"$f":"INDEX($M19:$AH19,Index!$B$16)","v":123800},{"$f":"INDEX($M19:$AH19,Index!$B$19)","v":140300},{"$f":"ROUND('All Districts unrounded'!AK19,-2)","v":16500},{"$f":"'All Districts unrounded'!AL19","v":0.1331147858665461}]
["Sevenoaks",{"$f":"ROUND(SEV!AK$8,-2)","v":53000},{"$f":"ROUND(SEV!AL$8,-2)","v":52900},{"$f":"ROUND(SEV!AM$8,-2)","v":52800},{"$f":"ROUND(SEV!AN$8,-2)","v":52600},{"$f":"ROUND(SEV!AO$8,-2)","v":52700},{"$f":"ROUND(SEV!AP$8,-2)","v":53100},{"$f":"ROUND(SEV!AQ$8,-2)","v":52900},{"$f":"ROUND(SEV!AR$8,-2)","v":53100},{"$f":"ROUND(SEV!AS$8,-2)","v":53000},{"$f":"ROUND(SEV!AT$8,-2)","v":52900},{"$f":"ROUND(SEV!AU$8,-2)","v":52800},{"$f":"ROUND(SEV!AV$8,-2)","v":52900},{"$f":"ROUND(SEV!AW$8,-2)","v":53200},{"$f":"ROUND(SEV!AX$8,-2)","v":53700},{"$f":"ROUND(SEV!AY$8,-2)","v":54300},{"$f":"ROUND(SEV!AZ$8,-2)","v":54700},{"$f":"ROUND(SEV!BA$8,-2)","v":54800},{"$f":"ROUND(SEV!BB$8,-2)","v":55100},{"$f":"ROUND(SEV!BC$8,-2)","v":55500},{"$f":"ROUND(SEV!BD$8,-2)","v":56000},{"$f":"ROUND(SEV!BE$8,-2)","v":56300},{"$f":"ROUND(SEV!BF$8,-2)","v":56600},{"$f":"ROUND(SEV!BG$8,-2)","v":56800},{"$f":"ROUND(SEV!BH$8,-2)","v":57000},{"$f":"ROUND(SEV!BI$8,-2)","v":57200},{"$f":"ROUND(SEV!BJ$8,-2)","v":57400},{"$f":"ROUND(SEV!BK$8,-2)","v":57700},{"$f":"ROUND(SEV!BL$8,-2)","v":57800},{"$f":"ROUND(SEV!BM$8,-2)","v":58000},{"$f":"ROUND(SEV!BN$8,-2)","v":58400},{"$f":"ROUND(SEV!BO$8,-2)","v":58400},{"$f":"ROUND(SEV!BP$8,-2)","v":58300},null,{"$f":"INDEX($M20:$AH20,Index!$B$16)","v":52900},{"$f":"INDEX($M20:$AH20,Index!$B$19)","v":58300},{"$f":"ROUND('All Districts unrounded'!AK20,-2)","v":5400},{"$f":"'All Districts unrounded'!AL20","v":0.10221020589514285}]
["Folkestone & Hythe",{"$f":"ROUND('F&H'!AK$8,-2)","v":44400},{"$f":"ROUND('F&H'!AL$8,-2)","v":44200},{"$f":"ROUND('F&H'!AM$8,-2)","v":44900},{"$f":"ROUND('F&H'!AN$8,-2)","v":44500},{"$f":"ROUND('F&H'!AO$8,-2)","v":45100},{"$f":"ROUND('F&H'!AP$8,-2)","v":45100},{"$f":"ROUND('F&H'!AQ$8,-2)","v":45100},{"$f":"ROUND('F&H'!AR$8,-2)","v":45600},{"$f":"ROUND('F&H'!AS$8,-2)","v":46100},{"$f":"ROUND('F&H'!AT$8,-2)","v":46100},{"$f":"ROUND('F&H'!AU$8,-2)","v":46700},{"$f":"ROUND('F&H'!AV$8,-2)","v":47500},{"$f":"ROUND('F&H'!AW$8,-2)","v":48300},{"$f":"ROUND('F&H'!AX$8,-2)","v":49100},{"$f":"ROUND('F&H'!AY$8,-2)","v":49900},{"$f":"ROUND('F&H'!AZ$8,-2)","v":50700},{"$f":"ROUND('F&H'!BA$8,-2)","v":51300},{"$f":"ROUND('F&H'!BB$8,-2)","v":51900},{"$f":"ROUND('F&H'!BC$8,-2)","v":52600},{"$f":"ROUND('F&H'!BD$8,-2)","v":53300},{"$f":"ROUND('F&H'!BE$8,-2)","v":53200},{"$f":"ROUND('F&H'!BF$8,-2)","v":53100},{"$f":"ROUND('F&H'!BG$8,-2)","v":53100},{"$f":"ROUND('F&H'!BH$8,-2)","v":53000},{"$f":"ROUND('F&H'!BI$8,-2)","v":53400},{"$f":"ROUND('F&H'!BJ$8,-2)","v":53400},{"$f":"ROUND('F&H'!BK$8,-2)","v":53700},{"$f":"ROUND('F&H'!BL$8,-2)","v":53600},{"$f":"ROUND('F&H'!BM$8,-2)","v":53500},{"$f":"ROUND('F&H'!BN$8,-2)","v":53700},{"$f":"ROUND('F&H'!BO$8,-2)","v":53800},{"$f":"ROUND('F&H'!BP$8,-2)","v":54100},null,{"$f":"INDEX($M21:$AH21,Index!$B$16)","v":47500},{"$f":"INDEX($M21:$AH21,Index!$B$19)","v":54100},{"$f":"ROUND('All Districts unrounded'!AK21,-2)","v":6600},{"$f":"'All Districts unrounded'!AL21","v":0.13923517520215634}]
["Swale",{"$f":"ROUND(SWA!AK$8,-2)","v":57300},{"$f":"ROUND(SWA!AL$8,-2)","v":57500},{"$f":"ROUND(SWA!AM$8,-2)","v":57700},{"$f":"ROUND(SWA!AN$8,-2)","v":58100},{"$f":"ROUND(SWA!AO$8,-2)","v":57900},{"$f":"ROUND(SWA!AP$8,-2)","v":58400},{"$f":"ROUND(SWA!AQ$8,-2)","v":58800},{"$f":"ROUND(SWA!AR$8,-2)","v":59200},{"$f":"ROUND(SWA!AS$8,-2)","v":60000},{"$f":"ROUND(SWA!AT$8,-2)","v":60700},{"$f":"ROUND(SWA!AU$8,-2)","v":61200},{"$f":"ROUND(SWA!AV$8,-2)","v":61700},{"$f":"ROUND(SWA!AW$8,-2)","v":61900},{"$f":"ROUND(SWA!AX$8,-2)","v":62100},{"$f":"ROUND(SWA!AY$8,-2)","v":62800},{"$f":"ROUND(SWA!AZ$8,-2)","v":63900},{"$f":"ROUND(SWA!BA$8,-2)","v":65000},{"$f":"ROUND(SWA!BB$8,-2)","v":65600},{"$f":"ROUND(SWA!BC$8,-2)","v":66700},{"$f":"ROUND(SWA!BD$8,-2)","v":67400},{"$f":"ROUND(SWA!BE$8,-2)","v":68300},{"$f":"ROUND(SWA!BF$8,-2)","v":69000},{"$f":"ROUND(SWA!BG$8,-2)","v":70000},{"$f":"ROUND(SWA!BH$8,-2)","v":70900},{"$f":"ROUND(SWA!BI$8,-2)","v":72300},{"$f":"ROUND(SWA!BJ$8,-2)","v":73200},{"$f":"ROUND(SWA!BK$8,-2)","v":73900},{"$f":"ROUND(SWA!BL$8,-2)","v":74700},{"$f":"ROUND(SWA!BM$8,-2)","v":74900},{"$f":"ROUND(SWA!BN$8,-2)","v":75500},{"$f":"ROUND(SWA!BO$8,-2)","v":76700},{"$f":"ROUND(SWA!BP$8,-2)","v":77200},null,{"$f":"INDEX($M22:$AH22,Index!$B$16)","v":61700},{"$f":"INDEX($M22:$AH22,Index!$B$19)","v":77200},{"$f":"ROUND('All Districts unrounded'!AK22,-2)","v":15500},{"$f":"'All Districts unrounded'!AL22","v":0.25114221833381939}]
["Thanet",{"$f":"ROUND(THA!AK$8,-2)","v":59000},{"$f":"ROUND(THA!AL$8,-2)","v":58700},{"$f":"ROUND(THA!AM$8,-2)","v":58500},{"$f":"ROUND(THA!AN$8,-2)","v":58600},{"$f":"ROUND(THA!AO$8,-2)","v":58700},{"$f":"ROUND(THA!AP$8,-2)","v":59300},{"$f":"ROUND(THA!AQ$8,-2)","v":59400},{"$f":"ROUND(THA!AR$8,-2)","v":59900},{"$f":"ROUND(THA!AS$8,-2)","v":59900},{"$f":"ROUND(THA!AT$8,-2)","v":60000},{"$f":"ROUND(THA!AU$8,-2)","v":60600},{"$f":"ROUND(THA!AV$8,-2)","v":61000},{"$f":"ROUND(THA!AW$8,-2)","v":61400},{"$f":"ROUND(THA!AX$8,-2)","v":61700},{"$f":"ROUND(THA!AY$8,-2)","v":62000},{"$f":"ROUND(THA!AZ$8,-2)","v":62600},{"$f":"ROUND(THA!BA$8,-2)","v":63200},{"$f":"ROUND(THA!BB$8,-2)","v":63500},{"$f":"ROUND(THA!BC$8,-2)","v":64100},{"$f":"ROUND(THA!BD$8,-2)","v":64700},{"$f":"ROUND(THA!BE$8,-2)","v":65200},{"$f":"ROUND(THA!BF$8,-2)","v":65800},{"$f":"ROUND(THA!BG$8,-2)","v":66600},{"$f":"ROUND(THA!BH$8,-2)","v":67200},{"$f":"ROUND(THA!BI$8,-2)","v":67500},{"$f":"ROUND(THA!BJ$8,-2)","v":67800},{"$f":"ROUND(THA!BK$8,-2)","v":67800},{"$f":"ROUND(THA!BL$8,-2)","v":67600},{"$f":"ROUND(THA!BM$8,-2)","v":67300},{"$f":"ROUND(THA!BN$8,-2)","v":67700},{"$f":"ROUND(THA!BO$8,-2)","v":67700},{"$f":"ROUND(THA!BP$8,-2)","v":67600},null,{"$f":"INDEX($M23:$AH23,Index!$B$16)","v":61000},{"$f":"INDEX($M23:$AH23,Index!$B$19)","v":67600},{"$f":"ROUND('All Districts unrounded'!AK23,-2)","v":6600},{"$f":"'All Districts unrounded'!AL23","v":0.10820387473547795}]
["Tonbridge & Malling",{"$f":"ROUND(TON!AK$8,-2)","v":50100},{"$f":"ROUND(TON!AL$8,-2)","v":50100},{"$f":"ROUND(TON!AM$8,-2)","v":50300},{"$f":"ROUND(TON!AN$8,-2)","v":50900},{"$f":"ROUND(TON!AO$8,-2)","v":51300},{"$f":"ROUND(TON!AP$8,-2)","v":51500},{"$f":"ROUND(TON!AQ$8,-2)","v":51700},{"$f":"ROUND(TON!AR$8,-2)","v":52200},{"$f":"ROUND(TON!AS$8,-2)","v":52300},{"$f":"ROUND(TON!AT$8,-2)","v":52800},{"$f":"ROUND(TON!AU$8,-2)","v":53100},{"$f":"ROUND(TON!AV$8,-2)","v":53600},{"$f":"ROUND(TON!AW$8,-2)","v":54100},{"$f":"ROUND(TON!AX$8,-2)","v":54800},{"$f":"ROUND(TON!AY$8,-2)","v":55700},{"$f":"ROUND(TON!AZ$8,-2)","v":56500},{"$f":"ROUND(TON!BA$8,-2)","v":57200},{"$f":"ROUND(TON!BB$8,-2)","v":58000},{"$f":"ROUND(TON!BC$8,-2)","v":58800},{"$f":"ROUND(TON!BD$8,-2)","v":59300},{"$f":"ROUND(TON!BE$8,-2)","v":59900},{"$f":"ROUND(TON!BF$8,-2)","v":60300},{"$f":"ROUND(TON!BG$8,-2)","v":61000},{"$f":"ROUND(TON!BH$8,-2)","v":61500},{"$f":"ROUND(TON!BI$8,-2)","v":62100},{"$f":"ROUND(TON!BJ$8,-2)","v":62800},{"$f":"ROUND(TON!BK$8,-2)","v":63500},{"$f":"ROUND(TON!BL$8,-2)","v":64100},{"$f":"ROUND(TON!BM$8,-2)","v":64200},{"$f":"ROUND(TON!BN$8,-2)","v":64400},{"$f":"ROUND(TON!BO$8,-2)","v":64900},{"$f":"ROUND(TON!BP$8,-2)","v":65600},null,{"$f":"INDEX($M24:$AH24,Index!$B$16)","v":53600},{"$f":"INDEX($M24:$AH24,Index!$B$19)","v":65600},{"$f":"ROUND('All Districts unrounded'!AK24,-2)","v":12100},{"$f":"'All Districts unrounded'!AL24","v":0.2254631012847326}]
["Tunbridge Wells",{"$f":"ROUND(TUN!AK$8,-2)","v":48200},{"$f":"ROUND(TUN!AL$8,-2)","v":48300},{"$f":"ROUND(TUN!AM$8,-2)","v":48800},{"$f":"ROUND(TUN!AN$8,-2)","v":49200},{"$f":"ROUND(TUN!AO$8,-2)","v":49000},{"$f":"ROUND(TUN!AP$8,-2)","v":48800},{"$f":"ROUND(TUN!AQ$8,-2)","v":49200},{"$f":"ROUND(TUN!AR$8,-2)","v":49500},{"$f":"ROUND(TUN!AS$8,-2)","v":49900},{"$f":"ROUND(TUN!AT$8,-2)","v":50100},{"$f":"ROUND(TUN!AU$8,-2)","v":50300},{"$f":"ROUND(TUN!AV$8,-2)","v":50500},{"$f":"ROUND(TUN!AW$8,-2)","v":50900},{"$f":"ROUND(TUN!AX$8,-2)","v":51300},{"$f":"ROUND(TUN!AY$8,-2)","v":51900},{"$f":"ROUND(TUN!AZ$8,-2)","v":53000},{"$f":"ROUND(TUN!BA$8,-2)","v":54300},{"$f":"ROUND(TUN!BB$8,-2)","v":55200},{"$f":"ROUND(TUN!BC$8,-2)","v":56000},{"$f":"ROUND(TUN!BD$8,-2)","v":56600},{"$f":"ROUND(TUN!BE$8,-2)","v":56500},{"$f":"ROUND(TUN!BF$8,-2)","v":56400},{"$f":"ROUND(TUN!BG$8,-2)","v":56500},{"$f":"ROUND(TUN!BH$8,-2)","v":56200},{"$f":"ROUND(TUN!BI$8,-2)","v":56400},{"$f":"ROUND(TUN!BJ$8,-2)","v":56500},{"$f":"ROUND(TUN!BK$8,-2)","v":56000},{"$f":"ROUND(TUN!BL$8,-2)","v":56000},{"$f":"ROUND(TUN!BM$8,-2)","v":56000},{"$f":"ROUND(TUN!BN$8,-2)","v":56100},{"$f":"ROUND(TUN!BO$8,-2)","v":56500},{"$f":"ROUND(TUN!BP$8,-2)","v":57000},null,{"$f":"INDEX($M25:$AH25,Index!$B$16)","v":50500},{"$f":"INDEX($M25:$AH25,Index!$B$19)","v":57000},{"$f":"ROUND('All Districts unrounded'!AK25,-2)","v":6600},{"$f":"'All Districts unrounded'!AL25","v":0.1297620698535967}]
["Kent",{"$f":"ROUND(Kent!AK$8,-2)","v":621500},{"$f":"ROUND(Kent!AL$8,-2)","v":622000},{"$f":"ROUND(Kent!AM$8,-2)","v":624400},{"$f":"ROUND(Kent!AN$8,-2)","v":626200},{"$f":"ROUND(Kent!AO$8,-2)","v":628500},{"$f":"ROUND(Kent!AP$8,-2)","v":631000},{"$f":"ROUND(Kent!AQ$8,-2)","v":633200},{"$f":"ROUND(Kent!AR$8,-2)","v":637400},{"$f":"ROUND(Kent!AS$8,-2)","v":641400},{"$f":"ROUND(Kent!AT$8,-2)","v":644800},{"$f":"ROUND(Kent!AU$8,-2)","v":649100},{"$f":"ROUND(Kent!AV$8,-2)","v":654900},{"$f":"ROUND(Kent!AW$8,-2)","v":661100},{"$f":"ROUND(Kent!AX$8,-2)","v":667700},{"$f":"ROUND(Kent!AY$8,-2)","v":675600},{"$f":"ROUND(Kent!AZ$8,-2)","v":685400},{"$f":"ROUND(Kent!BA$8,-2)","v":693700},{"$f":"ROUND(Kent!BB$8,-2)","v":700200},{"$f":"ROUND(Kent!BC$8,-2)","v":709200},{"$f":"ROUND(Kent!BD$8,-2)","v":717200},{"$f":"ROUND(Kent!BE$8,-2)","v":722800},{"$f":"ROUND(Kent!BF$8,-2)","v":728500},{"$f":"ROUND(Kent!BG$8,-2)","v":736300},{"$f":"ROUND(Kent!BH$8,-2)","v":741600},{"$f":"ROUND(Kent!BI$8,-2)","v":748500},{"$f":"ROUND(Kent!BJ$8,-2)","v":754300},{"$f":"ROUND(Kent!BK$8,-2)","v":758600},{"$f":"ROUND(Kent!BL$8,-2)","v":762800},{"$f":"ROUND(Kent!BM$8,-2)","v":764700},{"$f":"ROUND(Kent!BN$8,-2)","v":769400},{"$f":"ROUND(Kent!BO$8,-2)","v":776900},{"$f":"ROUND(Kent!BP$8,-2)","v":784100},null,{"$f":"INDEX($M26:$AH26,Index!$B$16)","v":654900},{"$f":"INDEX($M26:$AH26,Index!$B$19)","v":784100},{"$f":"ROUND('All Districts unrounded'!AK26,-2)","v":129200},{"$f":"'All Districts unrounded'!AL26","v":0.19728979826191592}]
["Kent + Medway",{"$f":"ROUND('Kent+Med'!AK$8,-2)","v":742100},{"$f":"ROUND('Kent+Med'!AL$8,-2)","v":741900},{"$f":"ROUND('Kent+Med'!AM$8,-2)","v":744200},{"$f":"ROUND('Kent+Med'!AN$8,-2)","v":745000},{"$f":"ROUND('Kent+Med'!AO$8,-2)","v":747300},{"$f":"ROUND('Kent+Med'!AP$8,-2)","v":750300},{"$f":"ROUND('Kent+Med'!AQ$8,-2)","v":753900},{"$f":"ROUND('Kent+Med'!AR$8,-2)","v":758800},{"$f":"ROUND('Kent+Med'!AS$8,-2)","v":764000},{"$f":"ROUND('Kent+Med'!AT$8,-2)","v":767800},{"$f":"ROUND('Kent+Med'!AU$8,-2)","v":772500},{"$f":"ROUND('Kent+Med'!AV$8,-2)","v":778700},{"$f":"ROUND('Kent+Med'!AW$8,-2)","v":785100},{"$f":"ROUND('Kent+Med'!AX$8,-2)","v":791800},{"$f":"ROUND('Kent+Med'!AY$8,-2)","v":800500},{"$f":"ROUND('Kent+Med'!AZ$8,-2)","v":811700},{"$f":"ROUND('Kent+Med'!BA$8,-2)","v":821300},{"$f":"ROUND('Kent+Med'!BB$8,-2)","v":829000},{"$f":"ROUND('Kent+Med'!BC$8,-2)","v":839600},{"$f":"ROUND('Kent+Med'!BD$8,-2)","v":848600},{"$f":"ROUND('Kent+Med'!BE$8,-2)","v":855500},{"$f":"ROUND('Kent+Med'!BF$8,-2)","v":862600},{"$f":"ROUND('Kent+Med'!BG$8,-2)","v":871700},{"$f":"ROUND('Kent+Med'!BH$8,-2)","v":878000},{"$f":"ROUND('Kent+Med'!BI$8,-2)","v":885400},{"$f":"ROUND('Kent+Med'!BJ$8,-2)","v":891700},{"$f":"ROUND('Kent+Med'!BK$8,-2)","v":895700},{"$f":"ROUND('Kent+Med'!BL$8,-2)","v":900400},{"$f":"ROUND('Kent+Med'!BM$8,-2)","v":902500},{"$f":"ROUND('Kent+Med'!BN$8,-2)","v":906500},{"$f":"ROUND('Kent+Med'!BO$8,-2)","v":915400},{"$f":"ROUND('Kent+Med'!BP$8,-2)","v":924400},null,{"$f":"INDEX($M27:$AH27,Index!$B$16)","v":778700},{"$f":"INDEX($M27:$AH27,Index!$B$19)","v":924400},{"$f":"ROUND('All Districts unrounded'!AK27,-2)","v":145700},{"$f":"'All Districts unrounded'!AL27","v":0.1870832033101025}]
["South East Region",{"$f":"ROUND('South East'!AK$8,-2)","v":3728500},{"$f":"ROUND('South East'!AL$8,-2)","v":3735400},{"$f":"ROUND('South East'!AM$8,-2)","v":3754000},{"$f":"ROUND('South East'!AN$8,-2)","v":3780800},{"$f":"ROUND('South East'!AO$8,-2)","v":3801800},{"$f":"ROUND('South East'!AP$8,-2)","v":3828900},{"$f":"ROUND('South East'!AQ$8,-2)","v":3848400},{"$f":"ROUND('South East'!AR$8,-2)","v":3884000},{"$f":"ROUND('South East'!AS$8,-2)","v":3902900},{"$f":"ROUND('South East'!AT$8,-2)","v":3924000},{"$f":"ROUND('South East'!AU$8,-2)","v":3935300},{"$f":"ROUND('South East'!AV$8,-2)","v":3959600},{"$f":"ROUND('South East'!AW$8,-2)","v":3980300},{"$f":"ROUND('South East'!AX$8,-2)","v":4011600},{"$f":"ROUND('South East'!AY$8,-2)","v":4047800},{"$f":"ROUND('South East'!AZ$8,-2)","v":4090100},{"$f":"ROUND('South East'!BA$8,-2)","v":4130500},{"$f":"ROUND('South East'!BB$8,-2)","v":4164000},{"$f":"ROUND('South East'!BC$8,-2)","v":4210700},{"$f":"ROUND('South East'!BD$8,-2)","v":4251400},{"$f":"ROUND('South East'!BE$8,-2)","v":4289800},{"$f":"ROUND('South East'!BF$8,-2)","v":4327100},{"$f":"ROUND('South East'!BG$8,-2)","v":4366200},{"$f":"ROUND('South East'!BH$8,-2)","v":4404600},{"$f":"ROUND('South East'!BI$8,-2)","v":4445000},{"$f":"ROUND('South East'!BJ$8,-2)","v":4467900},{"$f":"ROUND('South East'!BK$8,-2)","v":4486200},{"$f":"ROUND('South East'!BL$8,-2)","v":4504200},{"$f":"ROUND('South East'!BM$8,-2)","v":4517000},{"$f":"ROUND('South East'!BN$8,-2)","v":4548200},{"$f":"ROUND('South East'!BO$8,-2)","v":4593500},{"$f":"ROUND('South East'!BP$8,-2)","v":4638800},null,{"$f":"INDEX($M28:$AH28,Index!$B$16)","v":3959600},{"$f":"INDEX($M28:$AH28,Index!$B$19)","v":4638800},{"$f":"ROUND('All Districts unrounded'!AK28,-2)","v":679200},{"$f":"'All Districts unrounded'!AL28","v":0.17154084814015538}]
["England & Wales",{"$f":"ROUND('England & Wales'!AK$8,-2)","v":24739500},{"$f":"ROUND('England & Wales'!AL$8,-2)","v":24792600},{"$f":"ROUND('England & Wales'!AM$8,-2)","v":24853000},{"$f":"ROUND('England & Wales'!AN$8,-2)","v":24946300},{"$f":"ROUND('England & Wales'!AO$8,-2)","v":25029800},{"$f":"ROUND('England & Wales'!AP$8,-2)","v":25113200},{"$f":"ROUND('England & Wales'!AQ$8,-2)","v":25200700},{"$f":"ROUND('England & Wales'!AR$8,-2)","v":25323400},{"$f":"ROUND('England & Wales'!AS$8,-2)","v":25438000},{"$f":"ROUND('England & Wales'!AT$8,-2)","v":25574300},{"$f":"ROUND('England & Wales'!AU$8,-2)","v":25708100},{"$f":"ROUND('England & Wales'!AV$8,-2)","v":25854100},{"$f":"ROUND('England & Wales'!AW$8,-2)","v":26012100},{"$f":"ROUND('England & Wales'!AX$8,-2)","v":26234400},{"$f":"ROUND('England & Wales'!AY$8,-2)","v":26433400},{"$f":"ROUND('England & Wales'!AZ$8,-2)","v":26669100},{"$f":"ROUND('England & Wales'!BA$8,-2)","v":26914300},{"$f":"ROUND('England & Wales'!BB$8,-2)","v":27121700},{"$f":"ROUND('England & Wales'!BC$8,-2)","v":27372700},{"$f":"ROUND('England & Wales'!BD$8,-2)","v":27637600},{"$f":"ROUND('England & Wales'!BE$8,-2)","v":27825600},{"$f":"ROUND('England & Wales'!BF$8,-2)","v":28016400},{"$f":"ROUND('England & Wales'!BG$8,-2)","v":28232500},{"$f":"ROUND('England & Wales'!BH$8,-2)","v":28451200},{"$f":"ROUND('England & Wales'!BI$8,-2)","v":28676100},{"$f":"ROUND('England & Wales'!BJ$8,-2)","v":28823900},{"$f":"ROUND('England & Wales'!BK$8,-2)","v":28952800},{"$f":"ROUND('England & Wales'!BL$8,-2)","v":29086000},{"$f":"ROUND('England & Wales'!BM$8,-2)","v":29118200},{"$f":"ROUND('England & Wales'!BN$8,-2)","v":29203400},{"$f":"ROUND('England & Wales'!BO$8,-2)","v":29521500},{"$f":"ROUND('England & Wales'!BP$8,-2)","v":29836000},null,{"$f":"INDEX($M29:$AH29,Index!$B$16)","v":25854100},{"$f":"INDEX($M29:$AH29,Index!$B$19)","v":29836000},{"$f":"ROUND('All Districts unrounded'!AK29,-2)","v":3981900},{"$f":"'All Districts unrounded'!AL29","v":0.15401354577719154}]
[]
["Females"]
[null,{"$f":"'All Districts unrounded'!B32","v":1992},{"$f":"'All Districts unrounded'!C32","v":1993},{"$f":"'All Districts unrounded'!D32","v":1994},{"$f":"'All Districts unrounded'!E32","v":1995},{"$f":"'All Districts unrounded'!F32","v":1996},{"$f":"'All Districts unrounded'!G32","v":1997},{"$f":"'All Districts unrounded'!H32","v":1998},{"$f":"'All Districts unrounded'!I32","v":1999},{"$f":"'All Districts unrounded'!J32","v":2000},{"$f":"'All Districts unrounded'!K32","v":2001},{"$f":"'All Districts unrounded'!L32","v":2002},{"$f":"'All Districts unrounded'!M32","v":2003},{"$f":"'All Districts unrounded'!N32","v":2004},{"$f":"'All Districts unrounded'!O32","v":2005},{"$f":"'All Districts unrounded'!P32","v":2006},{"$f":"'All Districts unrounded'!Q32","v":2007},{"$f":"'All Districts unrounded'!R32","v":2008},{"$f":"'All Districts unrounded'!S32","v":2009},{"$f":"'All Districts unrounded'!T32","v":2010},{"$f":"'All Districts unrounded'!U32","v":2011},{"$f":"'All Districts unrounded'!V32","v":2012},{"$f":"'All Districts unrounded'!W32","v":2013},{"$f":"'All Districts unrounded'!X32","v":2014},{"$f":"'All Districts unrounded'!Y32","v":2015},{"$f":"'All Districts unrounded'!Z32","v":2016},{"$f":"'All Districts unrounded'!AA32","v":2017},{"$f":"'All Districts unrounded'!AB32","v":2018},{"$f":"'All Districts unrounded'!AC32","v":2019},{"$f":"'All Districts unrounded'!AD32","v":2020},{"$f":"'All Districts unrounded'!AE32","v":2021},{"$f":"'All Districts unrounded'!AF32","v":2022},{"$f":"'All Districts unrounded'!AG32","v":2023},null,{"$f":"Index!$C$16","v":2003},{"$f":"Index!$C$19","v":2023},"Number change","% change"]
["-"]
["Ashford",{"$f":"ROUND(ASH!AK$9,-2)","v":47900},{"$f":"ROUND(ASH!AL$9,-2)","v":47900},{"$f":"ROUND(ASH!AM$9,-2)","v":48200},{"$f":"ROUND(ASH!AN$9,-2)","v":48700},{"$f":"ROUND(ASH!AO$9,-2)","v":49400},{"$f":"ROUND(ASH!AP$9,-2)","v":50000},{"$f":"ROUND(ASH!AQ$9,-2)","v":50200},{"$f":"ROUND(ASH!AR$9,-2)","v":51300},{"$f":"ROUND(ASH!AS$9,-2)","v":52000},{"$f":"ROUND(ASH!AT$9,-2)","v":52900},{"$f":"ROUND(ASH!AU$9,-2)","v":53600},{"$f":"ROUND(ASH!AV$9,-2)","v":54300},{"$f":"ROUND(ASH!AW$9,-2)","v":55200},{"$f":"ROUND(ASH!AX$9,-2)","v":56400},{"$f":"ROUND(ASH!AY$9,-2)","v":57400},{"$f":"ROUND(ASH!AZ$9,-2)","v":58300},{"$f":"ROUND(ASH!BA$9,-2)","v":59000},{"$f":"ROUND(ASH!BB$9,-2)","v":59500},{"$f":"ROUND(ASH!BC$9,-2)","v":60200},{"$f":"ROUND(ASH!BD$9,-2)","v":61000},{"$f":"ROUND(ASH!BE$9,-2)","v":61900},{"$f":"ROUND(ASH!BF$9,-2)","v":62800},{"$f":"ROUND(ASH!BG$9,-2)","v":63700},{"$f":"ROUND(ASH!BH$9,-2)","v":64100},{"$f":"ROUND(ASH!BI$9,-2)","v":65000},{"$f":"ROUND(ASH!BJ$9,-2)","v":65800},{"$f":"ROUND(ASH!BK$9,-2)","v":66700},{"$f":"ROUND(ASH!BL$9,-2)","v":67000},{"$f":"ROUND(ASH!BM$9,-2)","v":67500},{"$f":"ROUND(ASH!BN$9,-2)","v":68400},{"$f":"ROUND(ASH!BO$9,-2)","v":69700},{"$f":"ROUND(ASH!BP$9,-2)","v":71000},null,{"$f":"INDEX($M34:$AH34,Index!$B$16)","v":54300},{"$f":"INDEX($M34:$AH34,Index!$B$19)","v":71000},{"$f":"ROUND('All Districts unrounded'!AK34,-2)","v":16700},{"$f":"'All Districts unrounded'!AL34","v":0.30647744215583411}]
["Canterbury",{"$f":"ROUND(CAN!AK$9,-2)","v":67900},{"$f":"ROUND(CAN!AL$9,-2)","v":68000},{"$f":"ROUND(CAN!AM$9,-2)","v":68200},{"$f":"ROUND(CAN!AN$9,-2)","v":68400},{"$f":"ROUND(CAN!AO$9,-2)","v":68700},{"$f":"ROUND(CAN!AP$9,-2)","v":69300},{"$f":"ROUND(CAN!AQ$9,-2)","v":69200},{"$f":"ROUND(CAN!AR$9,-2)","v":70100},{"$f":"ROUND(CAN!AS$9,-2)","v":70900},{"$f":"ROUND(CAN!AT$9,-2)","v":71200},{"$f":"ROUND(CAN!AU$9,-2)","v":71800},{"$f":"ROUND(CAN!AV$9,-2)","v":72600},{"$f":"ROUND(CAN!AW$9,-2)","v":73500},{"$f":"ROUND(CAN!AX$9,-2)","v":74400},{"$f":"ROUND(CAN!AY$9,-2)","v":75200},{"$f":"ROUND(CAN!AZ$9,-2)","v":75900},{"$f":"ROUND(CAN!BA$9,-2)","v":76300},{"$f":"ROUND(CAN!BB$9,-2)","v":76300},{"$f":"ROUND(CAN!BC$9,-2)","v":77300},{"$f":"ROUND(CAN!BD$9,-2)","v":78000},{"$f":"ROUND(CAN!BE$9,-2)","v":78600},{"$f":"ROUND(CAN!BF$9,-2)","v":79500},{"$f":"ROUND(CAN!BG$9,-2)","v":80400},{"$f":"ROUND(CAN!BH$9,-2)","v":80800},{"$f":"ROUND(CAN!BI$9,-2)","v":81300},{"$f":"ROUND(CAN!BJ$9,-2)","v":81600},{"$f":"ROUND(CAN!BK$9,-2)","v":81600},{"$f":"ROUND(CAN!BL$9,-2)","v":81600},{"$f":"ROUND(CAN!BM$9,-2)","v":81700},{"$f":"ROUND(CAN!BN$9,-2)","v":81400},{"$f":"ROUND(CAN!BO$9,-2)","v":82100},{"$f":"ROUND(CAN!BP$9,-2)","v":82900},null,{"$f":"INDEX($M35:$AH35,Index!$B$16)","v":72600},{"$f":"INDEX($M35:$AH35,Index!$B$19)","v":82900},{"$f":"ROUND('All Districts unrounded'!AK35,-2)","v":10300},{"$f":"'All Districts unrounded'!AL35","v":0.14189263668430335}]
["Dartford",{"$f":"ROUND(DAR!AK$9,-2)","v":41400},{"$f":"ROUND(DAR!AL$9,-2)","v":41700},{"$f":"ROUND(DAR!AM$9,-2)","v":42100},{"$f":"ROUND(DAR!AN$9,-2)","v":42200},{"$f":"ROUND(DAR!AO$9,-2)","v":42300},{"$f":"ROUND(DAR!AP$9,-2)","v":42700},{"$f":"ROUND(DAR!AQ$9,-2)","v":43200},{"$f":"ROUND(DAR!AR$9,-2)","v":43400},{"$f":"ROUND(DAR!AS$9,-2)","v":43600},{"$f":"ROUND(DAR!AT$9,-2)","v":43800},{"$f":"ROUND(DAR!AU$9,-2)","v":43900},{"$f":"ROUND(DAR!AV$9,-2)","v":44100},{"$f":"ROUND(DAR!AW$9,-2)","v":44900},{"$f":"ROUND(DAR!AX$9,-2)","v":45800},{"$f":"ROUND(DAR!AY$9,-2)","v":46400},{"$f":"ROUND(DAR!AZ$9,-2)","v":46900},{"$f":"ROUND(DAR!BA$9,-2)","v":47700},{"$f":"ROUND(DAR!BB$9,-2)","v":48400},{"$f":"ROUND(DAR!BC$9,-2)","v":48800},{"$f":"ROUND(DAR!BD$9,-2)","v":49400},{"$f":"ROUND(DAR!BE$9,-2)","v":50200},{"$f":"ROUND(DAR!BF$9,-2)","v":51100},{"$f":"ROUND(DAR!BG$9,-2)","v":52300},{"$f":"ROUND(DAR!BH$9,-2)","v":53200},{"$f":"ROUND(DAR!BI$9,-2)","v":54100},{"$f":"ROUND(DAR!BJ$9,-2)","v":55300},{"$f":"ROUND(DAR!BK$9,-2)","v":56600},{"$f":"ROUND(DAR!BL$9,-2)","v":58200},{"$f":"ROUND(DAR!BM$9,-2)","v":58900},{"$f":"ROUND(DAR!BN$9,-2)","v":59700},{"$f":"ROUND(DAR!BO$9,-2)","v":60700},{"$f":"ROUND(DAR!BP$9,-2)","v":61800},null,{"$f":"INDEX($M36:$AH36,Index!$B$16)","v":44100},{"$f":"INDEX($M36:$AH36,Index!$B$19)","v":61800},{"$f":"ROUND('All Districts unrounded'!AK36,-2)","v":17700},{"$f":"'All Districts unrounded'!AL36","v":0.40064792369905528}]
["Dover",{"$f":"ROUND(DOV!AK$9,-2)","v":53800},{"$f":"ROUND(DOV!AL$9,-2)","v":53500},{"$f":"ROUND(DOV!AM$9,-2)","v":53800},{"$f":"ROUND(DOV!AN$9,-2)","v":53800},{"$f":"ROUND(DOV!AO$9,-2)","v":53700},{"$f":"ROUND(DOV!AP$9,-2)","v":53800},{"$f":"ROUND(DOV!AQ$9,-2)","v":53700},{"$f":"ROUND(DOV!AR$9,-2)","v":54100},{"$f":"ROUND(DOV!AS$9,-2)","v":54200},{"$f":"ROUND(DOV!AT$9,-2)","v":54300},{"$f":"ROUND(DOV!AU$9,-2)","v":54300},{"$f":"ROUND(DOV!AV$9,-2)","v":54800},{"$f":"ROUND(DOV!AW$9,-2)","v":55300},{"$f":"ROUND(DOV!AX$9,-2)","v":55500},{"$f":"ROUND(DOV!AY$9,-2)","v":55600},{"$f":"ROUND(DOV!AZ$9,-2)","v":56100},{"$f":"ROUND(DOV!BA$9,-2)","v":56300},{"$f":"ROUND(DOV!BB$9,-2)","v":56400},{"$f":"ROUND(DOV!BC$9,-2)","v":56700},{"$f":"ROUND(DOV!BD$9,-2)","v":56900},{"$f":"ROUND(DOV!BE$9,-2)","v":56900},{"$f":"ROUND(DOV!BF$9,-2)","v":57200},{"$f":"ROUND(DOV!BG$9,-2)","v":57400},{"$f":"ROUND(DOV!BH$9,-2)","v":57500},{"$f":"ROUND(DOV!BI$9,-2)","v":57900},{"$f":"ROUND(DOV!BJ$9,-2)","v":58400},{"$f":"ROUND(DOV!BK$9,-2)","v":58700},{"$f":"ROUND(DOV!BL$9,-2)","v":59200},{"$f":"ROUND(DOV!BM$9,-2)","v":59500},{"$f":"ROUND(DOV!BN$9,-2)","v":59700},{"$f":"ROUND(DOV!BO$9,-2)","v":60300},{"$f":"ROUND(DOV!BP$9,-2)","v":60900},null,{"$f":"INDEX($M37:$AH37,Index!$B$16)","v":54800},{"$f":"INDEX($M37:$AH37,Index!$B$19)","v":60900},{"$f":"ROUND('All Districts unrounded'!AK37,-2)","v":6100},{"$f":"'All Districts unrounded'!AL37","v":0.11186384967952814}]
["Gravesham",{"$f":"ROUND(GRA!AK$9,-2)","v":47900},{"$f":"ROUND(GRA!AL$9,-2)","v":47800},{"$f":"ROUND(GRA!AM$9,-2)","v":47900},{"$f":"ROUND(GRA!AN$9,-2)","v":47800},{"$f":"ROUND(GRA!AO$9,-2)","v":47600},{"$f":"ROUND(GRA!AP$9,-2)","v":47700},{"$f":"ROUND(GRA!AQ$9,-2)","v":48100},{"$f":"ROUND(GRA!AR$9,-2)","v":48400},{"$f":"ROUND(GRA!AS$9,-2)","v":48600},{"$f":"ROUND(GRA!AT$9,-2)","v":48900},{"$f":"ROUND(GRA!AU$9,-2)","v":48500},{"$f":"ROUND(GRA!AV$9,-2)","v":48500},{"$f":"ROUND(GRA!AW$9,-2)","v":48700},{"$f":"ROUND(GRA!AX$9,-2)","v":49200},{"$f":"ROUND(GRA!AY$9,-2)","v":49500},{"$f":"ROUND(GRA!AZ$9,-2)","v":50000},{"$f":"ROUND(GRA!BA$9,-2)","v":50500},{"$f":"ROUND(GRA!BB$9,-2)","v":50900},{"$f":"ROUND(GRA!BC$9,-2)","v":51300},{"$f":"ROUND(GRA!BD$9,-2)","v":51600},{"$f":"ROUND(GRA!BE$9,-2)","v":52100},{"$f":"ROUND(GRA!BF$9,-2)","v":52700},{"$f":"ROUND(GRA!BG$9,-2)","v":53400},{"$f":"ROUND(GRA!BH$9,-2)","v":53900},{"$f":"ROUND(GRA!BI$9,-2)","v":54200},{"$f":"ROUND(GRA!BJ$9,-2)","v":54200},{"$f":"ROUND(GRA!BK$9,-2)","v":54400},{"$f":"ROUND(GRA!BL$9,-2)","v":54800},{"$f":"ROUND(GRA!BM$9,-2)","v":54700},{"$f":"ROUND(GRA!BN$9,-2)","v":54700},{"$f":"ROUND(GRA!BO$9,-2)","v":54800},{"$f":"ROUND(GRA!BP$9,-2)","v":55300},null,{"$f":"INDEX($M38:$AH38,Index!$B$16)","v":48500},{"$f":"INDEX($M38:$AH38,Index!$B$19)","v":55300},{"$f":"ROUND('All Districts unrounded'!AK38,-2)","v":6700},{"$f":"'All Districts unrounded'!AL38","v":0.13893353113281412}]
["Maidstone",{"$f":"ROUND(MAI!AK$9,-2)","v":70000},{"$f":"ROUND(MAI!AL$9,-2)","v":70100},{"$f":"ROUND(MAI!AM$9,-2)","v":69900},{"$f":"ROUND(MAI!AN$9,-2)","v":70000},{"$f":"ROUND(MAI!AO$9,-2)","v":70400},{"$f":"ROUND(MAI!AP$9,-2)","v":70500},{"$f":"ROUND(MAI!AQ$9,-2)","v":70300},{"$f":"ROUND(MAI!AR$9,-2)","v":70200},{"$f":"ROUND(MAI!AS$9,-2)","v":70400},{"$f":"ROUND(MAI!AT$9,-2)","v":70700},{"$f":"ROUND(MAI!AU$9,-2)","v":71300},{"$f":"ROUND(MAI!AV$9,-2)","v":71700},{"$f":"ROUND(MAI!AW$9,-2)","v":72300},{"$f":"ROUND(MAI!AX$9,-2)","v":72800},{"$f":"ROUND(MAI!AY$9,-2)","v":73800},{"$f":"ROUND(MAI!AZ$9,-2)","v":74900},{"$f":"ROUND(MAI!BA$9,-2)","v":75800},{"$f":"ROUND(MAI!BB$9,-2)","v":76800},{"$f":"ROUND(MAI!BC$9,-2)","v":77900},{"$f":"ROUND(MAI!BD$9,-2)","v":78900},{"$f":"ROUND(MAI!BE$9,-2)","v":79800},{"$f":"ROUND(MAI!BF$9,-2)","v":80700},{"$f":"ROUND(MAI!BG$9,-2)","v":81700},{"$f":"ROUND(MAI!BH$9,-2)","v":82800},{"$f":"ROUND(MAI!BI$9,-2)","v":83600},{"$f":"ROUND(MAI!BJ$9,-2)","v":84700},{"$f":"ROUND(MAI!BK$9,-2)","v":85600},{"$f":"ROUND(MAI!BL$9,-2)","v":86800},{"$f":"ROUND(MAI!BM$9,-2)","v":87500},{"$f":"ROUND(MAI!BN$9,-2)","v":89400},{"$f":"ROUND(MAI!BO$9,-2)","v":91500},{"$f":"ROUND(MAI!BP$9,-2)","v":93400},null,{"$f":"INDEX($M39:$AH39,Index!$B$16)","v":71700},{"$f":"INDEX($M39:$AH39,Index!$B$19)","v":93400},{"$f":"ROUND('All Districts unrounded'!AK39,-2)","v":21600},{"$f":"'All Districts unrounded'!AL39","v":0.30138131943186097}]
["Medway",{"$f":"ROUND(MED!AK$9,-2)","v":123100},{"$f":"ROUND(MED!AL$9,-2)","v":122700},{"$f":"ROUND(MED!AM$9,-2)","v":122800},{"$f":"ROUND(MED!AN$9,-2)","v":122700},{"$f":"ROUND(MED!AO$9,-2)","v":122500},{"$f":"ROUND(MED!AP$9,-2)","v":123000},{"$f":"ROUND(MED!AQ$9,-2)","v":124600},{"$f":"ROUND(MED!AR$9,-2)","v":125000},{"$f":"ROUND(MED!AS$9,-2)","v":125900},{"$f":"ROUND(MED!AT$9,-2)","v":126700},{"$f":"ROUND(MED!AU$9,-2)","v":126900},{"$f":"ROUND(MED!AV$9,-2)","v":127300},{"$f":"ROUND(MED!AW$9,-2)","v":127500},{"$f":"ROUND(MED!AX$9,-2)","v":127900},{"$f":"ROUND(MED!AY$9,-2)","v":128600},{"$f":"ROUND(MED!AZ$9,-2)","v":129600},{"$f":"ROUND(MED!BA$9,-2)","v":130600},{"$f":"ROUND(MED!BB$9,-2)","v":131400},{"$f":"ROUND(MED!BC$9,-2)","v":132400},{"$f":"ROUND(MED!BD$9,-2)","v":133500},{"$f":"ROUND(MED!BE$9,-2)","v":135500},{"$f":"ROUND(MED!BF$9,-2)","v":137000},{"$f":"ROUND(MED!BG$9,-2)","v":138600},{"$f":"ROUND(MED!BH$9,-2)","v":139700},{"$f":"ROUND(MED!BI$9,-2)","v":140600},{"$f":"ROUND(MED!BJ$9,-2)","v":141300},{"$f":"ROUND(MED!BK$9,-2)","v":141700},{"$f":"ROUND(MED!BL$9,-2)","v":142300},{"$f":"ROUND(MED!BM$9,-2)","v":142600},{"$f":"ROUND(MED!BN$9,-2)","v":142700},{"$f":"ROUND(MED!BO$9,-2)","v":144200},{"$f":"ROUND(MED!BP$9,-2)","v":146500},null,{"$f":"INDEX($M40:$AH40,Index!$B$16)","v":127300},{"$f":"INDEX($M40:$AH40,Index!$B$19)","v":146500},{"$f":"ROUND('All Districts unrounded'!AK40,-2)","v":19200},{"$f":"'All Districts unrounded'!AL40","v":0.15045832646040011}]
["Sevenoaks",{"$f":"ROUND(SEV!AK$9,-2)","v":55800},{"$f":"ROUND(SEV!AL$9,-2)","v":55900},{"$f":"ROUND(SEV!AM$9,-2)","v":56100},{"$f":"ROUND(SEV!AN$9,-2)","v":55800},{"$f":"ROUND(SEV!AO$9,-2)","v":56000},{"$f":"ROUND(SEV!AP$9,-2)","v":56400},{"$f":"ROUND(SEV!AQ$9,-2)","v":56200},{"$f":"ROUND(SEV!AR$9,-2)","v":56500},{"$f":"ROUND(SEV!AS$9,-2)","v":56500},{"$f":"ROUND(SEV!AT$9,-2)","v":56400},{"$f":"ROUND(SEV!AU$9,-2)","v":56400},{"$f":"ROUND(SEV!AV$9,-2)","v":56400},{"$f":"ROUND(SEV!AW$9,-2)","v":56900},{"$f":"ROUND(SEV!AX$9,-2)","v":57500},{"$f":"ROUND(SEV!AY$9,-2)","v":58200},{"$f":"ROUND(SEV!AZ$9,-2)","v":58500},{"$f":"ROUND(SEV!BA$9,-2)","v":58500},{"$f":"ROUND(SEV!BB$9,-2)","v":58700},{"$f":"ROUND(SEV!BC$9,-2)","v":59000},{"$f":"ROUND(SEV!BD$9,-2)","v":59400},{"$f":"ROUND(SEV!BE$9,-2)","v":59900},{"$f":"ROUND(SEV!BF$9,-2)","v":60100},{"$f":"ROUND(SEV!BG$9,-2)","v":60600},{"$f":"ROUND(SEV!BH$9,-2)","v":60800},{"$f":"ROUND(SEV!BI$9,-2)","v":61100},{"$f":"ROUND(SEV!BJ$9,-2)","v":61100},{"$f":"ROUND(SEV!BK$9,-2)","v":61500},{"$f":"ROUND(SEV!BL$9,-2)","v":61800},{"$f":"ROUND(SEV!BM$9,-2)","v":62100},{"$f":"ROUND(SEV!BN$9,-2)","v":62400},{"$f":"ROUND(SEV!BO$9,-2)","v":62800},{"$f":"ROUND(SEV!BP$9,-2)","v":63000},null,{"$f":"INDEX($M41:$AH41,Index!$B$16)","v":56400},{"$f":"INDEX($M41:$AH41,Index!$B$19)","v":63000},{"$f":"ROUND('All Districts unrounded'!AK41,-2)","v":6600},{"$f":"'All Districts unrounded'!AL41","v":0.11661848942169573}]
["Folkestone & Hythe",{"$f":"ROUND('F&H'!AK$9,-2)","v":49100},{"$f":"ROUND('F&H'!AL$9,-2)","v":49200},{"$f":"ROUND('F&H'!AM$9,-2)","v":49200},{"$f":"ROUND('F&H'!AN$9,-2)","v":49400},{"$f":"ROUND('F&H'!AO$9,-2)","v":49900},{"$f":"ROUND('F&H'!AP$9,-2)","v":49800},{"$f":"ROUND('F&H'!AQ$9,-2)","v":49700},{"$f":"ROUND('F&H'!AR$9,-2)","v":50200},{"$f":"ROUND('F&H'!AS$9,-2)","v":50300},{"$f":"ROUND('F&H'!AT$9,-2)","v":50200},{"$f":"ROUND('F&H'!AU$9,-2)","v":50500},{"$f":"ROUND('F&H'!AV$9,-2)","v":51100},{"$f":"ROUND('F&H'!AW$9,-2)","v":51700},{"$f":"ROUND('F&H'!AX$9,-2)","v":52400},{"$f":"ROUND('F&H'!AY$9,-2)","v":52600},{"$f":"ROUND('F&H'!AZ$9,-2)","v":53200},{"$f":"ROUND('F&H'!BA$9,-2)","v":53500},{"$f":"ROUND('F&H'!BB$9,-2)","v":53800},{"$f":"ROUND('F&H'!BC$9,-2)","v":54400},{"$f":"ROUND('F&H'!BD$9,-2)","v":54900},{"$f":"ROUND('F&H'!BE$9,-2)","v":54900},{"$f":"ROUND('F&H'!BF$9,-2)","v":54800},{"$f":"ROUND('F&H'!BG$9,-2)","v":55100},{"$f":"ROUND('F&H'!BH$9,-2)","v":55300},{"$f":"ROUND('F&H'!BI$9,-2)","v":55800},{"$f":"ROUND('F&H'!BJ$9,-2)","v":55700},{"$f":"ROUND('F&H'!BK$9,-2)","v":56000},{"$f":"ROUND('F&H'!BL$9,-2)","v":56000},{"$f":"ROUND('F&H'!BM$9,-2)","v":56000},{"$f":"ROUND('F&H'!BN$9,-2)","v":56300},{"$f":"ROUND('F&H'!BO$9,-2)","v":56600},{"$f":"ROUND('F&H'!BP$9,-2)","v":56900},null,{"$f":"INDEX($M42:$AH42,Index!$B$16)","v":51100},{"$f":"INDEX($M42:$AH42,Index!$B$19)","v":56900},{"$f":"ROUND('All Districts unrounded'!AK42,-2)","v":5800},{"$f":"'All Districts unrounded'!AL42","v":0.11445193136409935}]
["Swale",{"$f":"ROUND(SWA!AK$9,-2)","v":58900},{"$f":"ROUND(SWA!AL$9,-2)","v":59200},{"$f":"ROUND(SWA!AM$9,-2)","v":59100},{"$f":"ROUND(SWA!AN$9,-2)","v":59500},{"$f":"ROUND(SWA!AO$9,-2)","v":59400},{"$f":"ROUND(SWA!AP$9,-2)","v":59800},{"$f":"ROUND(SWA!AQ$9,-2)","v":59900},{"$f":"ROUND(SWA!AR$9,-2)","v":60800},{"$f":"ROUND(SWA!AS$9,-2)","v":61700},{"$f":"ROUND(SWA!AT$9,-2)","v":62400},{"$f":"ROUND(SWA!AU$9,-2)","v":63000},{"$f":"ROUND(SWA!AV$9,-2)","v":63600},{"$f":"ROUND(SWA!AW$9,-2)","v":63900},{"$f":"ROUND(SWA!AX$9,-2)","v":64400},{"$f":"ROUND(SWA!AY$9,-2)","v":64700},{"$f":"ROUND(SWA!AZ$9,-2)","v":65800},{"$f":"ROUND(SWA!BA$9,-2)","v":66800},{"$f":"ROUND(SWA!BB$9,-2)","v":67400},{"$f":"ROUND(SWA!BC$9,-2)","v":68200},{"$f":"ROUND(SWA!BD$9,-2)","v":68900},{"$f":"ROUND(SWA!BE$9,-2)","v":69400},{"$f":"ROUND(SWA!BF$9,-2)","v":70200},{"$f":"ROUND(SWA!BG$9,-2)","v":71000},{"$f":"ROUND(SWA!BH$9,-2)","v":71800},{"$f":"ROUND(SWA!BI$9,-2)","v":72900},{"$f":"ROUND(SWA!BJ$9,-2)","v":73700},{"$f":"ROUND(SWA!BK$9,-2)","v":74500},{"$f":"ROUND(SWA!BL$9,-2)","v":75100},{"$f":"ROUND(SWA!BM$9,-2)","v":75700},{"$f":"ROUND(SWA!BN$9,-2)","v":76700},{"$f":"ROUND(SWA!BO$9,-2)","v":77900},{"$f":"ROUND(SWA!BP$9,-2)","v":78700},null,{"$f":"INDEX($M43:$AH43,Index!$B$16)","v":63600},{"$f":"INDEX($M43:$AH43,Index!$B$19)","v":78700},{"$f":"ROUND('All Districts unrounded'!AK43,-2)","v":15000},{"$f":"'All Districts unrounded'!AL43","v":0.23644422091597775}]
["Thanet",{"$f":"ROUND(THA!AK$9,-2)","v":66400},{"$f":"ROUND(THA!AL$9,-2)","v":65900},{"$f":"ROUND(THA!AM$9,-2)","v":65900},{"$f":"ROUND(THA!AN$9,-2)","v":65700},{"$f":"ROUND(THA!AO$9,-2)","v":65700},{"$f":"ROUND(THA!AP$9,-2)","v":66100},{"$f":"ROUND(THA!AQ$9,-2)","v":66100},{"$f":"ROUND(THA!AR$9,-2)","v":66600},{"$f":"ROUND(THA!AS$9,-2)","v":66600},{"$f":"ROUND(THA!AT$9,-2)","v":66700},{"$f":"ROUND(THA!AU$9,-2)","v":67100},{"$f":"ROUND(THA!AV$9,-2)","v":67200},{"$f":"ROUND(THA!AW$9,-2)","v":67400},{"$f":"ROUND(THA!AX$9,-2)","v":67600},{"$f":"ROUND(THA!AY$9,-2)","v":67600},{"$f":"ROUND(THA!AZ$9,-2)","v":68100},{"$f":"ROUND(THA!BA$9,-2)","v":68600},{"$f":"ROUND(THA!BB$9,-2)","v":68800},{"$f":"ROUND(THA!BC$9,-2)","v":69400},{"$f":"ROUND(THA!BD$9,-2)","v":69800},{"$f":"ROUND(THA!BE$9,-2)","v":70500},{"$f":"ROUND(THA!BF$9,-2)","v":71100},{"$f":"ROUND(THA!BG$9,-2)","v":72100},{"$f":"ROUND(THA!BH$9,-2)","v":72500},{"$f":"ROUND(THA!BI$9,-2)","v":72800},{"$f":"ROUND(THA!BJ$9,-2)","v":72900},{"$f":"ROUND(THA!BK$9,-2)","v":73100},{"$f":"ROUND(THA!BL$9,-2)","v":73000},{"$f":"ROUND(THA!BM$9,-2)","v":72600},{"$f":"ROUND(THA!BN$9,-2)","v":73000},{"$f":"ROUND(THA!BO$9,-2)","v":73000},{"$f":"ROUND(THA!BP$9,-2)","v":72900},null,{"$f":"INDEX($M44:$AH44,Index!$B$16)","v":67200},{"$f":"INDEX($M44:$AH44,Index!$B$19)","v":72900},{"$f":"ROUND('All Districts unrounded'!AK44,-2)","v":5700},{"$f":"'All Districts unrounded'!AL44","v":8.4890073086140425E-2}]
["Tonbridge & Malling",{"$f":"ROUND(TON!AK$9,-2)","v":51600},{"$f":"ROUND(TON!AL$9,-2)","v":51600},{"$f":"ROUND(TON!AM$9,-2)","v":51900},{"$f":"ROUND(TON!AN$9,-2)","v":52600},{"$f":"ROUND(TON!AO$9,-2)","v":53000},{"$f":"ROUND(TON!AP$9,-2)","v":53200},{"$f":"ROUND(TON!AQ$9,-2)","v":53500},{"$f":"ROUND(TON!AR$9,-2)","v":54200},{"$f":"ROUND(TON!AS$9,-2)","v":54500},{"$f":"ROUND(TON!AT$9,-2)","v":55000},{"$f":"ROUND(TON!AU$9,-2)","v":55600},{"$f":"ROUND(TON!AV$9,-2)","v":55900},{"$f":"ROUND(TON!AW$9,-2)","v":56300},{"$f":"ROUND(TON!AX$9,-2)","v":56900},{"$f":"ROUND(TON!AY$9,-2)","v":57800},{"$f":"ROUND(TON!AZ$9,-2)","v":58900},{"$f":"ROUND(TON!BA$9,-2)","v":59700},{"$f":"ROUND(TON!BB$9,-2)","v":60500},{"$f":"ROUND(TON!BC$9,-2)","v":61300},{"$f":"ROUND(TON!BD$9,-2)","v":61800},{"$f":"ROUND(TON!BE$9,-2)","v":62200},{"$f":"ROUND(TON!BF$9,-2)","v":62700},{"$f":"ROUND(TON!BG$9,-2)","v":63600},{"$f":"ROUND(TON!BH$9,-2)","v":64200},{"$f":"ROUND(TON!BI$9,-2)","v":65000},{"$f":"ROUND(TON!BJ$9,-2)","v":65900},{"$f":"ROUND(TON!BK$9,-2)","v":66600},{"$f":"ROUND(TON!BL$9,-2)","v":67400},{"$f":"ROUND(TON!BM$9,-2)","v":67600},{"$f":"ROUND(TON!BN$9,-2)","v":68000},{"$f":"ROUND(TON!BO$9,-2)","v":68700},{"$f":"ROUND(TON!BP$9,-2)","v":69600},null,{"$f":"INDEX($M45:$AH45,Index!$B$16)","v":55900},{"$f":"INDEX($M45:$AH45,Index!$B$19)","v":69600},{"$f":"ROUND('All Districts unrounded'!AK45,-2)","v":13600},{"$f":"'All Districts unrounded'!AL45","v":0.2437882092166887}]
["Tunbridge Wells",{"$f":"ROUND(TUN!AK$9,-2)","v":53100},{"$f":"ROUND(TUN!AL$9,-2)","v":53000},{"$f":"ROUND(TUN!AM$9,-2)","v":53400},{"$f":"ROUND(TUN!AN$9,-2)","v":53600},{"$f":"ROUND(TUN!AO$9,-2)","v":53200},{"$f":"ROUND(TUN!AP$9,-2)","v":52800},{"$f":"ROUND(TUN!AQ$9,-2)","v":53300},{"$f":"ROUND(TUN!AR$9,-2)","v":53600},{"$f":"ROUND(TUN!AS$9,-2)","v":53800},{"$f":"ROUND(TUN!AT$9,-2)","v":54000},{"$f":"ROUND(TUN!AU$9,-2)","v":54000},{"$f":"ROUND(TUN!AV$9,-2)","v":53900},{"$f":"ROUND(TUN!AW$9,-2)","v":54200},{"$f":"ROUND(TUN!AX$9,-2)","v":54600},{"$f":"ROUND(TUN!AY$9,-2)","v":55100},{"$f":"ROUND(TUN!AZ$9,-2)","v":55900},{"$f":"ROUND(TUN!BA$9,-2)","v":57000},{"$f":"ROUND(TUN!BB$9,-2)","v":57600},{"$f":"ROUND(TUN!BC$9,-2)","v":58100},{"$f":"ROUND(TUN!BD$9,-2)","v":58700},{"$f":"ROUND(TUN!BE$9,-2)","v":58900},{"$f":"ROUND(TUN!BF$9,-2)","v":58800},{"$f":"ROUND(TUN!BG$9,-2)","v":58700},{"$f":"ROUND(TUN!BH$9,-2)","v":58500},{"$f":"ROUND(TUN!BI$9,-2)","v":58800},{"$f":"ROUND(TUN!BJ$9,-2)","v":59000},{"$f":"ROUND(TUN!BK$9,-2)","v":59000},{"$f":"ROUND(TUN!BL$9,-2)","v":59100},{"$f":"ROUND(TUN!BM$9,-2)","v":59300},{"$f":"ROUND(TUN!BN$9,-2)","v":59500},{"$f":"ROUND(TUN!BO$9,-2)","v":59600},{"$f":"ROUND(TUN!BP$9,-2)","v":60000},null,{"$f":"INDEX($M46:$AH46,Index!$B$16)","v":53900},{"$f":"INDEX($M46:$AH46,Index!$B$19)","v":60000},{"$f":"ROUND('All Districts unrounded'!AK46,-2)","v":6100},{"$f":"'All Districts unrounded'!AL46","v":0.11277428449539072}]
["Kent",{"$f":"ROUND(Kent!AK$9,-2)","v":663700},{"$f":"ROUND(Kent!AL$9,-2)","v":663800},{"$f":"ROUND(Kent!AM$9,-2)","v":665700},{"$f":"ROUND(Kent!AN$9,-2)","v":667500},{"$f":"ROUND(Kent!AO$9,-2)","v":669200},{"$f":"ROUND(Kent!AP$9,-2)","v":672100},{"$f":"ROUND(Kent!AQ$9,-2)","v":673600},{"$f":"ROUND(Kent!AR$9,-2)","v":679300},{"$f":"ROUND(Kent!AS$9,-2)","v":683300},{"$f":"ROUND(Kent!AT$9,-2)","v":686400},{"$f":"ROUND(Kent!AU$9,-2)","v":689900},{"$f":"ROUND(Kent!AV$9,-2)","v":694200},{"$f":"ROUND(Kent!AW$9,-2)","v":700300},{"$f":"ROUND(Kent!AX$9,-2)","v":707500},{"$f":"ROUND(Kent!AY$9,-2)","v":714000},{"$f":"ROUND(Kent!AZ$9,-2)","v":722400},{"$f":"ROUND(Kent!BA$9,-2)","v":729700},{"$f":"ROUND(Kent!BB$9,-2)","v":735100},{"$f":"ROUND(Kent!BC$9,-2)","v":742700},{"$f":"ROUND(Kent!BD$9,-2)","v":749200},{"$f":"ROUND(Kent!BE$9,-2)","v":755400},{"$f":"ROUND(Kent!BF$9,-2)","v":761500},{"$f":"ROUND(Kent!BG$9,-2)","v":769900},{"$f":"ROUND(Kent!BH$9,-2)","v":775400},{"$f":"ROUND(Kent!BI$9,-2)","v":782600},{"$f":"ROUND(Kent!BJ$9,-2)","v":788400},{"$f":"ROUND(Kent!BK$9,-2)","v":794300},{"$f":"ROUND(Kent!BL$9,-2)","v":800000},{"$f":"ROUND(Kent!BM$9,-2)","v":803200},{"$f":"ROUND(Kent!BN$9,-2)","v":809200},{"$f":"ROUND(Kent!BO$9,-2)","v":817600},{"$f":"ROUND(Kent!BP$9,-2)","v":826200},null,{"$f":"INDEX($M47:$AH47,Index!$B$16)","v":694200},{"$f":"INDEX($M47:$AH47,Index!$B$19)","v":826200},{"$f":"ROUND('All Districts unrounded'!AK47,-2)","v":132000},{"$f":"'All Districts unrounded'!AL47","v":0.19016201686289141}]
["Kent + Medway",{"$f":"ROUND('Kent+Med'!AK$9,-2)","v":786800},{"$f":"ROUND('Kent+Med'!AL$9,-2)","v":786600},{"$f":"ROUND('Kent+Med'!AM$9,-2)","v":788500},{"$f":"ROUND('Kent+Med'!AN$9,-2)","v":790200},{"$f":"ROUND('Kent+Med'!AO$9,-2)","v":791700},{"$f":"ROUND('Kent+Med'!AP$9,-2)","v":795100},{"$f":"ROUND('Kent+Med'!AQ$9,-2)","v":798100},{"$f":"ROUND('Kent+Med'!AR$9,-2)","v":804300},{"$f":"ROUND('Kent+Med'!AS$9,-2)","v":809200},{"$f":"ROUND('Kent+Med'!AT$9,-2)","v":813100},{"$f":"ROUND('Kent+Med'!AU$9,-2)","v":816700},{"$f":"ROUND('Kent+Med'!AV$9,-2)","v":821500},{"$f":"ROUND('Kent+Med'!AW$9,-2)","v":827800},{"$f":"ROUND('Kent+Med'!AX$9,-2)","v":835500},{"$f":"ROUND('Kent+Med'!AY$9,-2)","v":842600},{"$f":"ROUND('Kent+Med'!AZ$9,-2)","v":852000},{"$f":"ROUND('Kent+Med'!BA$9,-2)","v":860200},{"$f":"ROUND('Kent+Med'!BB$9,-2)","v":866500},{"$f":"ROUND('Kent+Med'!BC$9,-2)","v":875100},{"$f":"ROUND('Kent+Med'!BD$9,-2)","v":882700},{"$f":"ROUND('Kent+Med'!BE$9,-2)","v":890900},{"$f":"ROUND('Kent+Med'!BF$9,-2)","v":898500},{"$f":"ROUND('Kent+Med'!BG$9,-2)","v":908400},{"$f":"ROUND('Kent+Med'!BH$9,-2)","v":915100},{"$f":"ROUND('Kent+Med'!BI$9,-2)","v":923100},{"$f":"ROUND('Kent+Med'!BJ$9,-2)","v":929600},{"$f":"ROUND('Kent+Med'!BK$9,-2)","v":935900},{"$f":"ROUND('Kent+Med'!BL$9,-2)","v":942300},{"$f":"ROUND('Kent+Med'!BM$9,-2)","v":945800},{"$f":"ROUND('Kent+Med'!BN$9,-2)","v":951900},{"$f":"ROUND('Kent+Med'!BO$9,-2)","v":961800},{"$f":"ROUND('Kent+Med'!BP$9,-2)","v":972700},null,{"$f":"INDEX($M48:$AH48,Index!$B$16)","v":821500},{"$f":"INDEX($M48:$AH48,Index!$B$19)","v":972700},{"$f":"ROUND('All Districts unrounded'!AK48,-2)","v":151200},{"$f":"'All Districts unrounded'!AL48","v":0.18400896898105656}]
["South East Region",{"$f":"ROUND('South East'!AK$9,-2)","v":3928100},{"$f":"ROUND('South East'!AL$9,-2)","v":3937800},{"$f":"ROUND('South East'!AM$9,-2)","v":3957600},{"$f":"ROUND('South East'!AN$9,-2)","v":3982200},{"$f":"ROUND('South East'!AO$9,-2)","v":3998600},{"$f":"ROUND('South East'!AP$9,-2)","v":4024200},{"$f":"ROUND('South East'!AQ$9,-2)","v":4040500},{"$f":"ROUND('South East'!AR$9,-2)","v":4071100},{"$f":"ROUND('South East'!AS$9,-2)","v":4087700},{"$f":"ROUND('South East'!AT$9,-2)","v":4099500},{"$f":"ROUND('South East'!AU$9,-2)","v":4109900},{"$f":"ROUND('South East'!AV$9,-2)","v":4128300},{"$f":"ROUND('South East'!AW$9,-2)","v":4152800},{"$f":"ROUND('South East'!AX$9,-2)","v":4191300},{"$f":"ROUND('South East'!AY$9,-2)","v":4223000},{"$f":"ROUND('South East'!AZ$9,-2)","v":4261300},{"$f":"ROUND('South East'!BA$9,-2)","v":4295900},{"$f":"ROUND('South East'!BB$9,-2)","v":4326900},{"$f":"ROUND('South East'!BC$9,-2)","v":4367100},{"$f":"ROUND('South East'!BD$9,-2)","v":4401400},{"$f":"ROUND('South East'!BE$9,-2)","v":4442000},{"$f":"ROUND('South East'!BF$9,-2)","v":4482200},{"$f":"ROUND('South East'!BG$9,-2)","v":4527700},{"$f":"ROUND('South East'!BH$9,-2)","v":4565000},{"$f":"ROUND('South East'!BI$9,-2)","v":4608100},{"$f":"ROUND('South East'!BJ$9,-2)","v":4637100},{"$f":"ROUND('South East'!BK$9,-2)","v":4664100},{"$f":"ROUND('South East'!BL$9,-2)","v":4689600},{"$f":"ROUND('South East'!BM$9,-2)","v":4708300},{"$f":"ROUND('South East'!BN$9,-2)","v":4747600},{"$f":"ROUND('South East'!BO$9,-2)","v":4793800},{"$f":"ROUND('South East'!BP$9,-2)","v":4843700},null,{"$f":"INDEX($M49:$AH49,Index!$B$16)","v":4128300},{"$f":"INDEX($M49:$AH49,Index!$B$19)","v":4843700},{"$f":"ROUND('All Districts unrounded'!AK49,-2)","v":715300},{"$f":"'All Districts unrounded'!AL49","v":0.17327851844782344}]
["England & Wales",{"$f":"ROUND('England & Wales'!AK$9,-2)","v":26136200},{"$f":"ROUND('England & Wales'!AL$9,-2)","v":26193200},{"$f":"ROUND('England & Wales'!AM$9,-2)","v":26263200},{"$f":"ROUND('England & Wales'!AN$9,-2)","v":26325600},{"$f":"ROUND('England & Wales'!AO$9,-2)","v":26380700},{"$f":"ROUND('England & Wales'!AP$9,-2)","v":26446500},{"$f":"ROUND('England & Wales'!AQ$9,-2)","v":26519400},{"$f":"ROUND('England & Wales'!AR$9,-2)","v":26610000},{"$f":"ROUND('England & Wales'!AS$9,-2)","v":26702100},{"$f":"ROUND('England & Wales'!AT$9,-2)","v":26785700},{"$f":"ROUND('England & Wales'!AU$9,-2)","v":26894000},{"$f":"ROUND('England & Wales'!AV$9,-2)","v":27009100},{"$f":"ROUND('England & Wales'!AW$9,-2)","v":27139900},{"$f":"ROUND('England & Wales'!AX$9,-2)","v":27340900},{"$f":"ROUND('England & Wales'!AY$9,-2)","v":27517500},{"$f":"ROUND('England & Wales'!AZ$9,-2)","v":27718300},{"$f":"ROUND('England & Wales'!BA$9,-2)","v":27927400},{"$f":"ROUND('England & Wales'!BB$9,-2)","v":28113600},{"$f":"ROUND('England & Wales'!BC$9,-2)","v":28319700},{"$f":"ROUND('England & Wales'!BD$9,-2)","v":28533300},{"$f":"ROUND('England & Wales'!BE$9,-2)","v":28752100},{"$f":"ROUND('England & Wales'!BF$9,-2)","v":28973400},{"$f":"ROUND('England & Wales'!BG$9,-2)","v":29211600},{"$f":"ROUND('England & Wales'!BH$9,-2)","v":29430200},{"$f":"ROUND('England & Wales'!BI$9,-2)","v":29690100},{"$f":"ROUND('England & Wales'!BJ$9,-2)","v":29877100},{"$f":"ROUND('England & Wales'!BK$9,-2)","v":30055600},{"$f":"ROUND('England & Wales'!BL$9,-2)","v":30231800},{"$f":"ROUND('England & Wales'!BM$9,-2)","v":30312300},{"$f":"ROUND('England & Wales'!BN$9,-2)","v":30457200},{"$f":"ROUND('England & Wales'!BO$9,-2)","v":30723700},{"$f":"ROUND('England & Wales'!BP$9,-2)","v":31018700},null,{"$f":"INDEX($M50:$AH50,Index!$B$16)","v":27009100},{"$f":"INDEX($M50:$AH50,Index!$B$19)","v":31018700},{"$f":"ROUND('All Districts unrounded'!AK50,-2)","v":4009600},{"$f":"'All Districts unrounded'!AL50","v":0.14845373206962728}]
[]
["Total"]
[null,{"$f":"'All Districts unrounded'!B53","v":1992},{"$f":"'All Districts unrounded'!C53","v":1993},{"$f":"'All Districts unrounded'!D53","v":1994},{"$f":"'All Districts unrounded'!E53","v":1995},{"$f":"'All Districts unrounded'!F53","v":1996},{"$f":"'All Districts unrounded'!G53","v":1997},{"$f":"'All Districts unrounded'!H53","v":1998},{"$f":"'All Districts unrounded'!I53","v":1999},{"$f":"'All Districts unrounded'!J53","v":2000},{"$f":"'All Districts unrounded'!K53","v":2001},{"$f":"'All Districts unrounded'!L53","v":2002},{"$f":"'All Districts unrounded'!M53","v":2003},{"$f":"'All Districts unrounded'!N53","v":2004},{"$f":"'All Districts unrounded'!O53","v":2005},{"$f":"'All Districts unrounded'!P53","v":2006},{"$f":"'All Districts unrounded'!Q53","v":2007},{"$f":"'All Districts unrounded'!R53","v":2008},{"$f":"'All Districts unrounded'!S53","v":2009},{"$f":"'All Districts unrounded'!T53","v":2010},{"$f":"'All Districts unrounded'!U53","v":2011},{"$f":"'All Districts unrounded'!V53","v":2012},{"$f":"'All Districts unrounded'!W53","v":2013},{"$f":"'All Districts unrounded'!X53","v":2014},{"$f":"'All Districts unrounded'!Y53","v":2015},{"$f":"'All Districts unrounded'!Z53","v":2016},{"$f":"'All Districts unrounded'!AA53","v":2017},{"$f":"'All Districts unrounded'!AB53","v":2018},{"$f":"'All Districts unrounded'!AC53","v":2019},{"$f":"'All Districts unrounded'!AD53","v":2020},{"$f":"'All Districts unrounded'!AE53","v":2021},{"$f":"'All Districts unrounded'!AF53","v":2022},{"$f":"'All Districts unrounded'!AG53","v":2023},null,{"$f":"Index!$C$16","v":2003},{"$f":"Index!$C$19","v":2023},"Number change","% change"]
["-"]
["Ashford",{"$f":"ROUND(ASH!AK$10,-2)","v":93100},{"$f":"ROUND(ASH!AL$10,-2)","v":93100},{"$f":"ROUND(ASH!AM$10,-2)","v":93800},{"$f":"ROUND(ASH!AN$10,-2)","v":95100},{"$f":"ROUND(ASH!AO$10,-2)","v":96400},{"$f":"ROUND(ASH!AP$10,-2)","v":97500},{"$f":"ROUND(ASH!AQ$10,-2)","v":98000},{"$f":"ROUND(ASH!AR$10,-2)","v":100100},{"$f":"ROUND(ASH!AS$10,-2)","v":101400},{"$f":"ROUND(ASH!AT$10,-2)","v":103000},{"$f":"ROUND(ASH!AU$10,-2)","v":104400},{"$f":"ROUND(ASH!AV$10,-2)","v":105600},{"$f":"ROUND(ASH!AW$10,-2)","v":107300},{"$f":"ROUND(ASH!AX$10,-2)","v":109400},{"$f":"ROUND(ASH!AY$10,-2)","v":111500},{"$f":"ROUND(ASH!AZ$10,-2)","v":113300},{"$f":"ROUND(ASH!BA$10,-2)","v":114600},{"$f":"ROUND(ASH!BB$10,-2)","v":115700},{"$f":"ROUND(ASH!BC$10,-2)","v":117000},{"$f":"ROUND(ASH!BD$10,-2)","v":118400},{"$f":"ROUND(ASH!BE$10,-2)","v":120200},{"$f":"ROUND(ASH!BF$10,-2)","v":121900},{"$f":"ROUND(ASH!BG$10,-2)","v":123700},{"$f":"ROUND(ASH!BH$10,-2)","v":124600},{"$f":"ROUND(ASH!BI$10,-2)","v":126300},{"$f":"ROUND(ASH!BJ$10,-2)","v":128000},{"$f":"ROUND(ASH!BK$10,-2)","v":129700},{"$f":"ROUND(ASH!BL$10,-2)","v":130500},{"$f":"ROUND(ASH!BM$10,-2)","v":131400},{"$f":"ROUND(ASH!BN$10,-2)","v":133200},{"$f":"ROUND(ASH!BO$10,-2)","v":135700},{"$f":"ROUND(ASH!BP$10,-2)","v":138300},null,{"$f":"INDEX($M55:$AH55,Index!$B$16)","v":105600},{"$f":"INDEX($M55:$AH55,Index!$B$19)","v":138300},{"$f":"ROUND('All Districts unrounded'!AK55,-2)","v":32600},{"$f":"'All Districts unrounded'!AL55","v":0.3090518383884282}]
["Canterbury",{"$f":"ROUND(CAN!AK$10,-2)","v":128800},{"$f":"ROUND(CAN!AL$10,-2)","v":129800},{"$f":"ROUND(CAN!AM$10,-2)","v":130400},{"$f":"ROUND(CAN!AN$10,-2)","v":130700},{"$f":"ROUND(CAN!AO$10,-2)","v":131300},{"$f":"ROUND(CAN!AP$10,-2)","v":132600},{"$f":"ROUND(CAN!AQ$10,-2)","v":132600},{"$f":"ROUND(CAN!AR$10,-2)","v":133700},{"$f":"ROUND(CAN!AS$10,-2)","v":134900},{"$f":"ROUND(CAN!AT$10,-2)","v":135400},{"$f":"ROUND(CAN!AU$10,-2)","v":136500},{"$f":"ROUND(CAN!AV$10,-2)","v":138600},{"$f":"ROUND(CAN!AW$10,-2)","v":140600},{"$f":"ROUND(CAN!AX$10,-2)","v":141900},{"$f":"ROUND(CAN!AY$10,-2)","v":143500},{"$f":"ROUND(CAN!AZ$10,-2)","v":145200},{"$f":"ROUND(CAN!BA$10,-2)","v":146100},{"$f":"ROUND(CAN!BB$10,-2)","v":146400},{"$f":"ROUND(CAN!BC$10,-2)","v":148700},{"$f":"ROUND(CAN!BD$10,-2)","v":150600},{"$f":"ROUND(CAN!BE$10,-2)","v":151700},{"$f":"ROUND(CAN!BF$10,-2)","v":153500},{"$f":"ROUND(CAN!BG$10,-2)","v":155200},{"$f":"ROUND(CAN!BH$10,-2)","v":156100},{"$f":"ROUND(CAN!BI$10,-2)","v":157300},{"$f":"ROUND(CAN!BJ$10,-2)","v":157900},{"$f":"ROUND(CAN!BK$10,-2)","v":157300},{"$f":"ROUND(CAN!BL$10,-2)","v":157100},{"$f":"ROUND(CAN!BM$10,-2)","v":157200},{"$f":"ROUND(CAN!BN$10,-2)","v":156600},{"$f":"ROUND(CAN!BO$10,-2)","v":158300},{"$f":"ROUND(CAN!BP$10,-2)","v":159900},null,{"$f":"INDEX($M56:$AH56,Index!$B$16)","v":138600},{"$f":"INDEX($M56:$AH56,Index!$B$19)","v":159900},{"$f":"ROUND('All Districts unrounded'!AK56,-2)","v":21300},{"$f":"'All Districts unrounded'!AL56","v":0.15389443610758397}]
["Dartford",{"$f":"ROUND(DAR!AK$10,-2)","v":81000},{"$f":"ROUND(DAR!AL$10,-2)","v":81700},{"$f":"ROUND(DAR!AM$10,-2)","v":82400},{"$f":"ROUND(DAR!AN$10,-2)","v":82600},{"$f":"ROUND(DAR!AO$10,-2)","v":83000},{"$f":"ROUND(DAR!AP$10,-2)","v":83700},{"$f":"ROUND(DAR!AQ$10,-2)","v":84600},{"$f":"ROUND(DAR!AR$10,-2)","v":85000},{"$f":"ROUND(DAR!AS$10,-2)","v":85500},{"$f":"ROUND(DAR!AT$10,-2)","v":86000},{"$f":"ROUND(DAR!AU$10,-2)","v":86400},{"$f":"ROUND(DAR!AV$10,-2)","v":87000},{"$f":"ROUND(DAR!AW$10,-2)","v":88300},{"$f":"ROUND(DAR!AX$10,-2)","v":90000},{"$f":"ROUND(DAR!AY$10,-2)","v":91200},{"$f":"ROUND(DAR!AZ$10,-2)","v":92200},{"$f":"ROUND(DAR!BA$10,-2)","v":93900},{"$f":"ROUND(DAR!BB$10,-2)","v":95300},{"$f":"ROUND(DAR!BC$10,-2)","v":96300},{"$f":"ROUND(DAR!BD$10,-2)","v":97600},{"$f":"ROUND(DAR!BE$10,-2)","v":99100},{"$f":"ROUND(DAR!BF$10,-2)","v":100800},{"$f":"ROUND(DAR!BG$10,-2)","v":102800},{"$f":"ROUND(DAR!BH$10,-2)","v":104400},{"$f":"ROUND(DAR!BI$10,-2)","v":105900},{"$f":"ROUND(DAR!BJ$10,-2)","v":108400},{"$f":"ROUND(DAR!BK$10,-2)","v":110800},{"$f":"ROUND(DAR!BL$10,-2)","v":113900},{"$f":"ROUND(DAR!BM$10,-2)","v":115600},{"$f":"ROUND(DAR!BN$10,-2)","v":116800},{"$f":"ROUND(DAR!BO$10,-2)","v":118800},{"$f":"ROUND(DAR!BP$10,-2)","v":120700},null,{"$f":"INDEX($M57:$AH57,Index!$B$16)","v":87000},{"$f":"INDEX($M57:$AH57,Index!$B$19)","v":120700},{"$f":"ROUND('All Districts unrounded'!AK57,-2)","v":33700},{"$f":"'All Districts unrounded'!AL57","v":0.38716943834687567}]
["Dover",{"$f":"ROUND(DOV!AK$10,-2)","v":104600},{"$f":"ROUND(DOV!AL$10,-2)","v":104100},{"$f":"ROUND(DOV!AM$10,-2)","v":104400},{"$f":"ROUND(DOV!AN$10,-2)","v":104100},{"$f":"ROUND(DOV!AO$10,-2)","v":103600},{"$f":"ROUND(DOV!AP$10,-2)","v":103400},{"$f":"ROUND(DOV!AQ$10,-2)","v":103700},{"$f":"ROUND(DOV!AR$10,-2)","v":104000},{"$f":"ROUND(DOV!AS$10,-2)","v":104500},{"$f":"ROUND(DOV!AT$10,-2)","v":104600},{"$f":"ROUND(DOV!AU$10,-2)","v":104900},{"$f":"ROUND(DOV!AV$10,-2)","v":105800},{"$f":"ROUND(DOV!AW$10,-2)","v":106900},{"$f":"ROUND(DOV!AX$10,-2)","v":107500},{"$f":"ROUND(DOV!AY$10,-2)","v":107900},{"$f":"ROUND(DOV!AZ$10,-2)","v":109000},{"$f":"ROUND(DOV!BA$10,-2)","v":109800},{"$f":"ROUND(DOV!BB$10,-2)","v":110100},{"$f":"ROUND(DOV!BC$10,-2)","v":111100},{"$f":"ROUND(DOV!BD$10,-2)","v":111700},{"$f":"ROUND(DOV!BE$10,-2)","v":111500},{"$f":"ROUND(DOV!BF$10,-2)","v":112000},{"$f":"ROUND(DOV!BG$10,-2)","v":112500},{"$f":"ROUND(DOV!BH$10,-2)","v":112500},{"$f":"ROUND(DOV!BI$10,-2)","v":113400},{"$f":"ROUND(DOV!BJ$10,-2)","v":114300},{"$f":"ROUND(DOV!BK$10,-2)","v":115100},{"$f":"ROUND(DOV!BL$10,-2)","v":115900},{"$f":"ROUND(DOV!BM$10,-2)","v":116100},{"$f":"ROUND(DOV!BN$10,-2)","v":116500},{"$f":"ROUND(DOV!BO$10,-2)","v":117500},{"$f":"ROUND(DOV!BP$10,-2)","v":118600},null,{"$f":"INDEX($M58:$AH58,Index!$B$16)","v":105800},{"$f":"INDEX($M58:$AH58,Index!$B$19)","v":118600},{"$f":"ROUND('All Districts unrounded'!AK58,-2)","v":12800},{"$f":"'All Districts unrounded'!AL58","v":0.12106745821674356}]
["Gravesham",{"$f":"ROUND(GRA!AK$10,-2)","v":93500},{"$f":"ROUND(GRA!AL$10,-2)","v":93400},{"$f":"ROUND(GRA!AM$10,-2)","v":93600},{"$f":"ROUND(GRA!AN$10,-2)","v":93400},{"$f":"ROUND(GRA!AO$10,-2)","v":93000},{"$f":"ROUND(GRA!AP$10,-2)","v":93300},{"$f":"ROUND(GRA!AQ$10,-2)","v":93900},{"$f":"ROUND(GRA!AR$10,-2)","v":94600},{"$f":"ROUND(GRA!AS$10,-2)","v":95200},{"$f":"ROUND(GRA!AT$10,-2)","v":95800},{"$f":"ROUND(GRA!AU$10,-2)","v":95400},{"$f":"ROUND(GRA!AV$10,-2)","v":95600},{"$f":"ROUND(GRA!AW$10,-2)","v":95900},{"$f":"ROUND(GRA!AX$10,-2)","v":96900},{"$f":"ROUND(GRA!AY$10,-2)","v":97600},{"$f":"ROUND(GRA!AZ$10,-2)","v":98500},{"$f":"ROUND(GRA!BA$10,-2)","v":99400},{"$f":"ROUND(GRA!BB$10,-2)","v":100200},{"$f":"ROUND(GRA!BC$10,-2)","v":101100},{"$f":"ROUND(GRA!BD$10,-2)","v":101800},{"$f":"ROUND(GRA!BE$10,-2)","v":103000},{"$f":"ROUND(GRA!BF$10,-2)","v":103800},{"$f":"ROUND(GRA!BG$10,-2)","v":105400},{"$f":"ROUND(GRA!BH$10,-2)","v":106400},{"$f":"ROUND(GRA!BI$10,-2)","v":106800},{"$f":"ROUND(GRA!BJ$10,-2)","v":106500},{"$f":"ROUND(GRA!BK$10,-2)","v":106700},{"$f":"ROUND(GRA!BL$10,-2)","v":107300},{"$f":"ROUND(GRA!BM$10,-2)","v":107100},{"$f":"ROUND(GRA!BN$10,-2)","v":106900},{"$f":"ROUND(GRA!BO$10,-2)","v":106900},{"$f":"ROUND(GRA!BP$10,-2)","v":107700},null,{"$f":"INDEX($M59:$AH59,Index!$B$16)","v":95600},{"$f":"INDEX($M59:$AH59,Index!$B$19)","v":107700},{"$f":"ROUND('All Districts unrounded'!AK59,-2)","v":12200},{"$f":"'All Districts unrounded'!AL59","v":0.12732162102773911}]
["Maidstone",{"$f":"ROUND(MAI!AK$10,-2)","v":137200},{"$f":"ROUND(MAI!AL$10,-2)","v":137400},{"$f":"ROUND(MAI!AM$10,-2)","v":137000},{"$f":"ROUND(MAI!AN$10,-2)","v":137400},{"$f":"ROUND(MAI!AO$10,-2)","v":138400},{"$f":"ROUND(MAI!AP$10,-2)","v":138400},{"$f":"ROUND(MAI!AQ$10,-2)","v":138100},{"$f":"ROUND(MAI!AR$10,-2)","v":137900},{"$f":"ROUND(MAI!AS$10,-2)","v":138600},{"$f":"ROUND(MAI!AT$10,-2)","v":139100},{"$f":"ROUND(MAI!AU$10,-2)","v":140300},{"$f":"ROUND(MAI!AV$10,-2)","v":141200},{"$f":"ROUND(MAI!AW$10,-2)","v":142200},{"$f":"ROUND(MAI!AX$10,-2)","v":143400},{"$f":"ROUND(MAI!AY$10,-2)","v":145300},{"$f":"ROUND(MAI!AZ$10,-2)","v":147700},{"$f":"ROUND(MAI!BA$10,-2)","v":149700},{"$f":"ROUND(MAI!BB$10,-2)","v":151600},{"$f":"ROUND(MAI!BC$10,-2)","v":153700},{"$f":"ROUND(MAI!BD$10,-2)","v":155800},{"$f":"ROUND(MAI!BE$10,-2)","v":157500},{"$f":"ROUND(MAI!BF$10,-2)","v":159300},{"$f":"ROUND(MAI!BG$10,-2)","v":161600},{"$f":"ROUND(MAI!BH$10,-2)","v":164100},{"$f":"ROUND(MAI!BI$10,-2)","v":166000},{"$f":"ROUND(MAI!BJ$10,-2)","v":168100},{"$f":"ROUND(MAI!BK$10,-2)","v":170000},{"$f":"ROUND(MAI!BL$10,-2)","v":171800},{"$f":"ROUND(MAI!BM$10,-2)","v":173300},{"$f":"ROUND(MAI!BN$10,-2)","v":176700},{"$f":"ROUND(MAI!BO$10,-2)","v":180600},{"$f":"ROUND(MAI!BP$10,-2)","v":184200},null,{"$f":"INDEX($M60:$AH60,Index!$B$16)","v":141200},{"$f":"INDEX($M60:$AH60,Index!$B$19)","v":184200},{"$f":"ROUND('All Districts unrounded'!AK60,-2)","v":42900},{"$f":"'All Districts unrounded'!AL60","v":0.3040156889398638}]
["Medway",{"$f":"ROUND(MED!AK$10,-2)","v":243700},{"$f":"ROUND(MED!AL$10,-2)","v":242600},{"$f":"ROUND(MED!AM$10,-2)","v":242600},{"$f":"ROUND(MED!AN$10,-2)","v":241400},{"$f":"ROUND(MED!AO$10,-2)","v":241300},{"$f":"ROUND(MED!AP$10,-2)","v":242300},{"$f":"ROUND(MED!AQ$10,-2)","v":245300},{"$f":"ROUND(MED!AR$10,-2)","v":246400},{"$f":"ROUND(MED!AS$10,-2)","v":248500},{"$f":"ROUND(MED!AT$10,-2)","v":249700},{"$f":"ROUND(MED!AU$10,-2)","v":250300},{"$f":"ROUND(MED!AV$10,-2)","v":251200},{"$f":"ROUND(MED!AW$10,-2)","v":251500},{"$f":"ROUND(MED!AX$10,-2)","v":252100},{"$f":"ROUND(MED!AY$10,-2)","v":253500},{"$f":"ROUND(MED!AZ$10,-2)","v":255800},{"$f":"ROUND(MED!BA$10,-2)","v":258200},{"$f":"ROUND(MED!BB$10,-2)","v":260200},{"$f":"ROUND(MED!BC$10,-2)","v":262700},{"$f":"ROUND(MED!BD$10,-2)","v":264900},{"$f":"ROUND(MED!BE$10,-2)","v":268100},{"$f":"ROUND(MED!BF$10,-2)","v":271100},{"$f":"ROUND(MED!BG$10,-2)","v":274000},{"$f":"ROUND(MED!BH$10,-2)","v":276000},{"$f":"ROUND(MED!BI$10,-2)","v":277500},{"$f":"ROUND(MED!BJ$10,-2)","v":278700},{"$f":"ROUND(MED!BK$10,-2)","v":278800},{"$f":"ROUND(MED!BL$10,-2)","v":279900},{"$f":"ROUND(MED!BM$10,-2)","v":280400},{"$f":"ROUND(MED!BN$10,-2)","v":279900},{"$f":"ROUND(MED!BO$10,-2)","v":282600},{"$f":"ROUND(MED!BP$10,-2)","v":286800},null,{"$f":"INDEX($M61:$AH61,Index!$B$16)","v":251200},{"$f":"INDEX($M61:$AH61,Index!$B$19)","v":286800},{"$f":"ROUND('All Districts unrounded'!AK61,-2)","v":35600},{"$f":"'All Districts unrounded'!AL61","v":0.14190612321278553}]
["Sevenoaks",{"$f":"ROUND(SEV!AK$10,-2)","v":108800},{"$f":"ROUND(SEV!AL$10,-2)","v":108800},{"$f":"ROUND(SEV!AM$10,-2)","v":108900},{"$f":"ROUND(SEV!AN$10,-2)","v":108400},{"$f":"ROUND(SEV!AO$10,-2)","v":108700},{"$f":"ROUND(SEV!AP$10,-2)","v":109400},{"$f":"ROUND(SEV!AQ$10,-2)","v":109100},{"$f":"ROUND(SEV!AR$10,-2)","v":109600},{"$f":"ROUND(SEV!AS$10,-2)","v":109500},{"$f":"ROUND(SEV!AT$10,-2)","v":109200},{"$f":"ROUND(SEV!AU$10,-2)","v":109100},{"$f":"ROUND(SEV!AV$10,-2)","v":109300},{"$f":"ROUND(SEV!AW$10,-2)","v":110000},{"$f":"ROUND(SEV!AX$10,-2)","v":111300},{"$f":"ROUND(SEV!AY$10,-2)","v":112500},{"$f":"ROUND(SEV!AZ$10,-2)","v":113100},{"$f":"ROUND(SEV!BA$10,-2)","v":113300},{"$f":"ROUND(SEV!BB$10,-2)","v":113800},{"$f":"ROUND(SEV!BC$10,-2)","v":114500},{"$f":"ROUND(SEV!BD$10,-2)","v":115400},{"$f":"ROUND(SEV!BE$10,-2)","v":116300},{"$f":"ROUND(SEV!BF$10,-2)","v":116700},{"$f":"ROUND(SEV!BG$10,-2)","v":117400},{"$f":"ROUND(SEV!BH$10,-2)","v":117700},{"$f":"ROUND(SEV!BI$10,-2)","v":118300},{"$f":"ROUND(SEV!BJ$10,-2)","v":118500},{"$f":"ROUND(SEV!BK$10,-2)","v":119200},{"$f":"ROUND(SEV!BL$10,-2)","v":119600},{"$f":"ROUND(SEV!BM$10,-2)","v":120100},{"$f":"ROUND(SEV!BN$10,-2)","v":120800},{"$f":"ROUND(SEV!BO$10,-2)","v":121200},{"$f":"ROUND(SEV!BP$10,-2)","v":121300},null,{"$f":"INDEX($M62:$AH62,Index!$B$16)","v":109300},{"$f":"INDEX($M62:$AH62,Index!$B$19)","v":121300},{"$f":"ROUND('All Districts unrounded'!AK62,-2)","v":12000},{"$f":"'All Districts unrounded'!AL62","v":0.10964494875549048}]
["Folkestone & Hythe",{"$f":"ROUND('F&H'!AK$10,-2)","v":93500},{"$f":"ROUND('F&H'!AL$10,-2)","v":93400},{"$f":"ROUND('F&H'!AM$10,-2)","v":94100},{"$f":"ROUND('F&H'!AN$10,-2)","v":94000},{"$f":"ROUND('F&H'!AO$10,-2)","v":95000},{"$f":"ROUND('F&H'!AP$10,-2)","v":94900},{"$f":"ROUND('F&H'!AQ$10,-2)","v":94800},{"$f":"ROUND('F&H'!AR$10,-2)","v":95800},{"$f":"ROUND('F&H'!AS$10,-2)","v":96400},{"$f":"ROUND('F&H'!AT$10,-2)","v":96300},{"$f":"ROUND('F&H'!AU$10,-2)","v":97200},{"$f":"ROUND('F&H'!AV$10,-2)","v":98500},{"$f":"ROUND('F&H'!AW$10,-2)","v":99900},{"$f":"ROUND('F&H'!AX$10,-2)","v":101500},{"$f":"ROUND('F&H'!AY$10,-2)","v":102500},{"$f":"ROUND('F&H'!AZ$10,-2)","v":103900},{"$f":"ROUND('F&H'!BA$10,-2)","v":104800},{"$f":"ROUND('F&H'!BB$10,-2)","v":105700},{"$f":"ROUND('F&H'!BC$10,-2)","v":107000},{"$f":"ROUND('F&H'!BD$10,-2)","v":108200},{"$f":"ROUND('F&H'!BE$10,-2)","v":108200},{"$f":"ROUND('F&H'!BF$10,-2)","v":107900},{"$f":"ROUND('F&H'!BG$10,-2)","v":108200},{"$f":"ROUND('F&H'!BH$10,-2)","v":108300},{"$f":"ROUND('F&H'!BI$10,-2)","v":109200},{"$f":"ROUND('F&H'!BJ$10,-2)","v":109100},{"$f":"ROUND('F&H'!BK$10,-2)","v":109700},{"$f":"ROUND('F&H'!BL$10,-2)","v":109700},{"$f":"ROUND('F&H'!BM$10,-2)","v":109600},{"$f":"ROUND('F&H'!BN$10,-2)","v":110000},{"$f":"ROUND('F&H'!BO$10,-2)","v":110400},{"$f":"ROUND('F&H'!BP$10,-2)","v":111000},null,{"$f":"INDEX($M63:$AH63,Index!$B$16)","v":98500},{"$f":"INDEX($M63:$AH63,Index!$B$19)","v":111000},{"$f":"ROUND('All Districts unrounded'!AK63,-2)","v":12500},{"$f":"'All Districts unrounded'!AL63","v":0.1263953724375888}]
["Swale",{"$f":"ROUND(SWA!AK$10,-2)","v":116200},{"$f":"ROUND(SWA!AL$10,-2)","v":116700},{"$f":"ROUND(SWA!AM$10,-2)","v":116800},{"$f":"ROUND(SWA!AN$10,-2)","v":117600},{"$f":"ROUND(SWA!AO$10,-2)","v":117300},{"$f":"ROUND(SWA!AP$10,-2)","v":118300},{"$f":"ROUND(SWA!AQ$10,-2)","v":118700},{"$f":"ROUND(SWA!AR$10,-2)","v":120100},{"$f":"ROUND(SWA!AS$10,-2)","v":121600},{"$f":"ROUND(SWA!AT$10,-2)","v":123100},{"$f":"ROUND(SWA!AU$10,-2)","v":124200},{"$f":"ROUND(SWA!AV$10,-2)","v":125300},{"$f":"ROUND(SWA!AW$10,-2)","v":125900},{"$f":"ROUND(SWA!AX$10,-2)","v":126500},{"$f":"ROUND(SWA!AY$10,-2)","v":127600},{"$f":"ROUND(SWA!AZ$10,-2)","v":129700},{"$f":"ROUND(SWA!BA$10,-2)","v":131700},{"$f":"ROUND(SWA!BB$10,-2)","v":133000},{"$f":"ROUND(SWA!BC$10,-2)","v":135000},{"$f":"ROUND(SWA!BD$10,-2)","v":136300},{"$f":"ROUND(SWA!BE$10,-2)","v":137700},{"$f":"ROUND(SWA!BF$10,-2)","v":139100},{"$f":"ROUND(SWA!BG$10,-2)","v":141000},{"$f":"ROUND(SWA!BH$10,-2)","v":142700},{"$f":"ROUND(SWA!BI$10,-2)","v":145200},{"$f":"ROUND(SWA!BJ$10,-2)","v":146800},{"$f":"ROUND(SWA!BK$10,-2)","v":148400},{"$f":"ROUND(SWA!BL$10,-2)","v":149800},{"$f":"ROUND(SWA!BM$10,-2)","v":150600},{"$f":"ROUND(SWA!BN$10,-2)","v":152200},{"$f":"ROUND(SWA!BO$10,-2)","v":154600},{"$f":"ROUND(SWA!BP$10,-2)","v":155900},null,{"$f":"INDEX($M64:$AH64,Index!$B$16)","v":125300},{"$f":"INDEX($M64:$AH64,Index!$B$19)","v":155900},{"$f":"ROUND('All Districts unrounded'!AK64,-2)","v":30500},{"$f":"'All Districts unrounded'!AL64","v":0.24368159045218113}]
["Thanet",{"$f":"ROUND(THA!AK$10,-2)","v":125400},{"$f":"ROUND(THA!AL$10,-2)","v":124700},{"$f":"ROUND(THA!AM$10,-2)","v":124400},{"$f":"ROUND(THA!AN$10,-2)","v":124300},{"$f":"ROUND(THA!AO$10,-2)","v":124400},{"$f":"ROUND(THA!AP$10,-2)","v":125400},{"$f":"ROUND(THA!AQ$10,-2)","v":125500},{"$f":"ROUND(THA!AR$10,-2)","v":126500},{"$f":"ROUND(THA!AS$10,-2)","v":126500},{"$f":"ROUND(THA!AT$10,-2)","v":126800},{"$f":"ROUND(THA!AU$10,-2)","v":127700},{"$f":"ROUND(THA!AV$10,-2)","v":128100},{"$f":"ROUND(THA!AW$10,-2)","v":128800},{"$f":"ROUND(THA!AX$10,-2)","v":129300},{"$f":"ROUND(THA!AY$10,-2)","v":129600},{"$f":"ROUND(THA!AZ$10,-2)","v":130600},{"$f":"ROUND(THA!BA$10,-2)","v":131800},{"$f":"ROUND(THA!BB$10,-2)","v":132300},{"$f":"ROUND(THA!BC$10,-2)","v":133500},{"$f":"ROUND(THA!BD$10,-2)","v":134400},{"$f":"ROUND(THA!BE$10,-2)","v":135700},{"$f":"ROUND(THA!BF$10,-2)","v":136900},{"$f":"ROUND(THA!BG$10,-2)","v":138700},{"$f":"ROUND(THA!BH$10,-2)","v":139700},{"$f":"ROUND(THA!BI$10,-2)","v":140400},{"$f":"ROUND(THA!BJ$10,-2)","v":140700},{"$f":"ROUND(THA!BK$10,-2)","v":140800},{"$f":"ROUND(THA!BL$10,-2)","v":140600},{"$f":"ROUND(THA!BM$10,-2)","v":139900},{"$f":"ROUND(THA!BN$10,-2)","v":140700},{"$f":"ROUND(THA!BO$10,-2)","v":140700},{"$f":"ROUND(THA!BP$10,-2)","v":140400},null,{"$f":"INDEX($M65:$AH65,Index!$B$16)","v":128100},{"$f":"INDEX($M65:$AH65,Index!$B$19)","v":140400},{"$f":"ROUND('All Districts unrounded'!AK65,-2)","v":12300},{"$f":"'All Districts unrounded'!AL65","v":9.5980958326830026E-2}]
["Tonbridge & Malling",{"$f":"ROUND(TON!AK$10,-2)","v":101700},{"$f":"ROUND(TON!AL$10,-2)","v":101700},{"$f":"ROUND(TON!AM$10,-2)","v":102300},{"$f":"ROUND(TON!AN$10,-2)","v":103500},{"$f":"ROUND(TON!AO$10,-2)","v":104300},{"$f":"ROUND(TON!AP$10,-2)","v":104700},{"$f":"ROUND(TON!AQ$10,-2)","v":105200},{"$f":"ROUND(TON!AR$10,-2)","v":106400},{"$f":"ROUND(TON!AS$10,-2)","v":106900},{"$f":"ROUND(TON!AT$10,-2)","v":107800},{"$f":"ROUND(TON!AU$10,-2)","v":108700},{"$f":"ROUND(TON!AV$10,-2)","v":109500},{"$f":"ROUND(TON!AW$10,-2)","v":110400},{"$f":"ROUND(TON!AX$10,-2)","v":111700},{"$f":"ROUND(TON!AY$10,-2)","v":113500},{"$f":"ROUND(TON!AZ$10,-2)","v":115500},{"$f":"ROUND(TON!BA$10,-2)","v":117000},{"$f":"ROUND(TON!BB$10,-2)","v":118500},{"$f":"ROUND(TON!BC$10,-2)","v":120100},{"$f":"ROUND(TON!BD$10,-2)","v":121100},{"$f":"ROUND(TON!BE$10,-2)","v":122000},{"$f":"ROUND(TON!BF$10,-2)","v":123000},{"$f":"ROUND(TON!BG$10,-2)","v":124600},{"$f":"ROUND(TON!BH$10,-2)","v":125700},{"$f":"ROUND(TON!BI$10,-2)","v":127100},{"$f":"ROUND(TON!BJ$10,-2)","v":128700},{"$f":"ROUND(TON!BK$10,-2)","v":130100},{"$f":"ROUND(TON!BL$10,-2)","v":131500},{"$f":"ROUND(TON!BM$10,-2)","v":131800},{"$f":"ROUND(TON!BN$10,-2)","v":132400},{"$f":"ROUND(TON!BO$10,-2)","v":133700},{"$f":"ROUND(TON!BP$10,-2)","v":135200},null,{"$f":"INDEX($M66:$AH66,Index!$B$16)","v":109500},{"$f":"INDEX($M66:$AH66,Index!$B$19)","v":135200},{"$f":"ROUND('All Districts unrounded'!AK66,-2)","v":25700},{"$f":"'All Districts unrounded'!AL66","v":0.23482565254717153}]
["Tunbridge Wells",{"$f":"ROUND(TUN!AK$10,-2)","v":101400},{"$f":"ROUND(TUN!AL$10,-2)","v":101200},{"$f":"ROUND(TUN!AM$10,-2)","v":102200},{"$f":"ROUND(TUN!AN$10,-2)","v":102800},{"$f":"ROUND(TUN!AO$10,-2)","v":102200},{"$f":"ROUND(TUN!AP$10,-2)","v":101600},{"$f":"ROUND(TUN!AQ$10,-2)","v":102500},{"$f":"ROUND(TUN!AR$10,-2)","v":103000},{"$f":"ROUND(TUN!AS$10,-2)","v":103700},{"$f":"ROUND(TUN!AT$10,-2)","v":104000},{"$f":"ROUND(TUN!AU$10,-2)","v":104200},{"$f":"ROUND(TUN!AV$10,-2)","v":104400},{"$f":"ROUND(TUN!AW$10,-2)","v":105100},{"$f":"ROUND(TUN!AX$10,-2)","v":105900},{"$f":"ROUND(TUN!AY$10,-2)","v":107100},{"$f":"ROUND(TUN!AZ$10,-2)","v":108900},{"$f":"ROUND(TUN!BA$10,-2)","v":111300},{"$f":"ROUND(TUN!BB$10,-2)","v":112800},{"$f":"ROUND(TUN!BC$10,-2)","v":114000},{"$f":"ROUND(TUN!BD$10,-2)","v":115200},{"$f":"ROUND(TUN!BE$10,-2)","v":115400},{"$f":"ROUND(TUN!BF$10,-2)","v":115200},{"$f":"ROUND(TUN!BG$10,-2)","v":115200},{"$f":"ROUND(TUN!BH$10,-2)","v":114800},{"$f":"ROUND(TUN!BI$10,-2)","v":115200},{"$f":"ROUND(TUN!BJ$10,-2)","v":115600},{"$f":"ROUND(TUN!BK$10,-2)","v":114900},{"$f":"ROUND(TUN!BL$10,-2)","v":115200},{"$f":"ROUND(TUN!BM$10,-2)","v":115300},{"$f":"ROUND(TUN!BN$10,-2)","v":115700},{"$f":"ROUND(TUN!BO$10,-2)","v":116200},{"$f":"ROUND(TUN!BP$10,-2)","v":117000},null,{"$f":"INDEX($M67:$AH67,Index!$B$16)","v":104400},{"$f":"INDEX($M67:$AH67,Index!$B$19)","v":117000},{"$f":"ROUND('All Districts unrounded'!AK67,-2)","v":12600},{"$f":"'All Districts unrounded'!AL67","v":0.12098860044065524}]
["Kent",{"$f":"ROUND(Kent!AK$10,-2)","v":1285200},{"$f":"ROUND(Kent!AL$10,-2)","v":1285800},{"$f":"ROUND(Kent!AM$10,-2)","v":1290100},{"$f":"ROUND(Kent!AN$10,-2)","v":1293700},{"$f":"ROUND(Kent!AO$10,-2)","v":1297700},{"$f":"ROUND(Kent!AP$10,-2)","v":1303100},{"$f":"ROUND(Kent!AQ$10,-2)","v":1306700},{"$f":"ROUND(Kent!AR$10,-2)","v":1316700},{"$f":"ROUND(Kent!AS$10,-2)","v":1324700},{"$f":"ROUND(Kent!AT$10,-2)","v":1331200},{"$f":"ROUND(Kent!AU$10,-2)","v":1339000},{"$f":"ROUND(Kent!AV$10,-2)","v":1349000},{"$f":"ROUND(Kent!AW$10,-2)","v":1361400},{"$f":"ROUND(Kent!AX$10,-2)","v":1375200},{"$f":"ROUND(Kent!AY$10,-2)","v":1389600},{"$f":"ROUND(Kent!AZ$10,-2)","v":1407800},{"$f":"ROUND(Kent!BA$10,-2)","v":1423300},{"$f":"ROUND(Kent!BB$10,-2)","v":1435300},{"$f":"ROUND(Kent!BC$10,-2)","v":1451900},{"$f":"ROUND(Kent!BD$10,-2)","v":1466500},{"$f":"ROUND(Kent!BE$10,-2)","v":1478300},{"$f":"ROUND(Kent!BF$10,-2)","v":1490000},{"$f":"ROUND(Kent!BG$10,-2)","v":1506200},{"$f":"ROUND(Kent!BH$10,-2)","v":1517000},{"$f":"ROUND(Kent!BI$10,-2)","v":1531000},{"$f":"ROUND(Kent!BJ$10,-2)","v":1542700},{"$f":"ROUND(Kent!BK$10,-2)","v":1552900},{"$f":"ROUND(Kent!BL$10,-2)","v":1562800},{"$f":"ROUND(Kent!BM$10,-2)","v":1568000},{"$f":"ROUND(Kent!BN$10,-2)","v":1578600},{"$f":"ROUND(Kent!BO$10,-2)","v":1594500},{"$f":"ROUND(Kent!BP$10,-2)","v":1610300},null,{"$f":"INDEX($M68:$AH68,Index!$B$16)","v":1349000},{"$f":"INDEX($M68:$AH68,Index!$B$19)","v":1610300},{"$f":"ROUND('All Districts unrounded'!AK68,-2)","v":261200},{"$f":"'All Districts unrounded'!AL68","v":0.19362201140657917}]
["Kent + Medway",{"$f":"ROUND('Kent+Med'!AK$10,-2)","v":1528900},{"$f":"ROUND('Kent+Med'!AL$10,-2)","v":1528400},{"$f":"ROUND('Kent+Med'!AM$10,-2)","v":1532700},{"$f":"ROUND('Kent+Med'!AN$10,-2)","v":1535200},{"$f":"ROUND('Kent+Med'!AO$10,-2)","v":1539000},{"$f":"ROUND('Kent+Med'!AP$10,-2)","v":1545400},{"$f":"ROUND('Kent+Med'!AQ$10,-2)","v":1552100},{"$f":"ROUND('Kent+Med'!AR$10,-2)","v":1563100},{"$f":"ROUND('Kent+Med'!AS$10,-2)","v":1573200},{"$f":"ROUND('Kent+Med'!AT$10,-2)","v":1580900},{"$f":"ROUND('Kent+Med'!AU$10,-2)","v":1589200},{"$f":"ROUND('Kent+Med'!AV$10,-2)","v":1600200},{"$f":"ROUND('Kent+Med'!AW$10,-2)","v":1612800},{"$f":"ROUND('Kent+Med'!AX$10,-2)","v":1627300},{"$f":"ROUND('Kent+Med'!AY$10,-2)","v":1643100},{"$f":"ROUND('Kent+Med'!AZ$10,-2)","v":1663600},{"$f":"ROUND('Kent+Med'!BA$10,-2)","v":1681500},{"$f":"ROUND('Kent+Med'!BB$10,-2)","v":1695500},{"$f":"ROUND('Kent+Med'!BC$10,-2)","v":1714600},{"$f":"ROUND('Kent+Med'!BD$10,-2)","v":1731400},{"$f":"ROUND('Kent+Med'!BE$10,-2)","v":1746400},{"$f":"ROUND('Kent+Med'!BF$10,-2)","v":1761100},{"$f":"ROUND('Kent+Med'!BG$10,-2)","v":1780200},{"$f":"ROUND('Kent+Med'!BH$10,-2)","v":1793100},{"$f":"ROUND('Kent+Med'!BI$10,-2)","v":1808500},{"$f":"ROUND('Kent+Med'!BJ$10,-2)","v":1821400},{"$f":"ROUND('Kent+Med'!BK$10,-2)","v":1831700},{"$f":"ROUND('Kent+Med'!BL$10,-2)","v":1842700},{"$f":"ROUND('Kent+Med'!BM$10,-2)","v":1848300},{"$f":"ROUND('Kent+Med'!BN$10,-2)","v":1858500},{"$f":"ROUND('Kent+Med'!BO$10,-2)","v":1877100},{"$f":"ROUND('Kent+Med'!BP$10,-2)","v":1897100},null,{"$f":"INDEX($M69:$AH69,Index!$B$16)","v":1600200},{"$f":"INDEX($M69:$AH69,Index!$B$19)","v":1897100},{"$f":"ROUND('All Districts unrounded'!AK69,-2)","v":296800},{"$f":"'All Districts unrounded'!AL69","v":0.18550498217415892}]
["South East Region",{"$f":"ROUND('South East'!AK$10,-2)","v":7656600},{"$f":"ROUND('South East'!AL$10,-2)","v":7673200},{"$f":"ROUND('South East'!AM$10,-2)","v":7711600},{"$f":"ROUND('South East'!AN$10,-2)","v":7763000},{"$f":"ROUND('South East'!AO$10,-2)","v":7800400},{"$f":"ROUND('South East'!AP$10,-2)","v":7853100},{"$f":"ROUND('South East'!AQ$10,-2)","v":7888800},{"$f":"ROUND('South East'!AR$10,-2)","v":7955100},{"$f":"ROUND('South East'!AS$10,-2)","v":7990600},{"$f":"ROUND('South East'!AT$10,-2)","v":8023400},{"$f":"ROUND('South East'!AU$10,-2)","v":8045200},{"$f":"ROUND('South East'!AV$10,-2)","v":8087900},{"$f":"ROUND('South East'!AW$10,-2)","v":8133100},{"$f":"ROUND('South East'!AX$10,-2)","v":8202900},{"$f":"ROUND('South East'!AY$10,-2)","v":8270900},{"$f":"ROUND('South East'!AZ$10,-2)","v":8351400},{"$f":"ROUND('South East'!BA$10,-2)","v":8426400},{"$f":"ROUND('South East'!BB$10,-2)","v":8490900},{"$f":"ROUND('South East'!BC$10,-2)","v":8577800},{"$f":"ROUND('South East'!BD$10,-2)","v":8652800},{"$f":"ROUND('South East'!BE$10,-2)","v":8731800},{"$f":"ROUND('South East'!BF$10,-2)","v":8809400},{"$f":"ROUND('South East'!BG$10,-2)","v":8893900},{"$f":"ROUND('South East'!BH$10,-2)","v":8969600},{"$f":"ROUND('South East'!BI$10,-2)","v":9053000},{"$f":"ROUND('South East'!BJ$10,-2)","v":9105100},{"$f":"ROUND('South East'!BK$10,-2)","v":9150200},{"$f":"ROUND('South East'!BL$10,-2)","v":9193800},{"$f":"ROUND('South East'!BM$10,-2)","v":9225300},{"$f":"ROUND('South East'!BN$10,-2)","v":9295800},{"$f":"ROUND('South East'!BO$10,-2)","v":9387300},{"$f":"ROUND('South East'!BP$10,-2)","v":9482500},null,{"$f":"INDEX($M70:$AH70,Index!$B$16)","v":8087900},{"$f":"INDEX($M70:$AH70,Index!$B$19)","v":9482500},{"$f":"ROUND('All Districts unrounded'!AK70,-2)","v":1394600},{"$f":"'All Districts unrounded'!AL70","v":0.17242780718513182}]
["England & Wales",{"$f":"ROUND('England & Wales'!AK$10,-2)","v":50875600},{"$f":"ROUND('England & Wales'!AL$10,-2)","v":50985900},{"$f":"ROUND('England & Wales'!AM$10,-2)","v":51116200},{"$f":"ROUND('England & Wales'!AN$10,-2)","v":51272000},{"$f":"ROUND('England & Wales'!AO$10,-2)","v":51410400},{"$f":"ROUND('England & Wales'!AP$10,-2)","v":51559600},{"$f":"ROUND('England & Wales'!AQ$10,-2)","v":51720100},{"$f":"ROUND('England & Wales'!AR$10,-2)","v":51933500},{"$f":"ROUND('England & Wales'!AS$10,-2)","v":52140200},{"$f":"ROUND('England & Wales'!AT$10,-2)","v":52360000},{"$f":"ROUND('England & Wales'!AU$10,-2)","v":52602100},{"$f":"ROUND('England & Wales'!AV$10,-2)","v":52863200},{"$f":"ROUND('England & Wales'!AW$10,-2)","v":53152000},{"$f":"ROUND('England & Wales'!AX$10,-2)","v":53575300},{"$f":"ROUND('England & Wales'!AY$10,-2)","v":53950900},{"$f":"ROUND('England & Wales'!AZ$10,-2)","v":54387400},{"$f":"ROUND('England & Wales'!BA$10,-2)","v":54841700},{"$f":"ROUND('England & Wales'!BB$10,-2)","v":55235300},{"$f":"ROUND('England & Wales'!BC$10,-2)","v":55692400},{"$f":"ROUND('England & Wales'!BD$10,-2)","v":56170900},{"$f":"ROUND('England & Wales'!BE$10,-2)","v":56577700},{"$f":"ROUND('England & Wales'!BF$10,-2)","v":56989700},{"$f":"ROUND('England & Wales'!BG$10,-2)","v":57444100},{"$f":"ROUND('England & Wales'!BH$10,-2)","v":57881400},{"$f":"ROUND('England & Wales'!BI$10,-2)","v":58366200},{"$f":"ROUND('England & Wales'!BJ$10,-2)","v":58700900},{"$f":"ROUND('England & Wales'!BK$10,-2)","v":59008400},{"$f":"ROUND('England & Wales'!BL$10,-2)","v":59317800},{"$f":"ROUND('England & Wales'!BM$10,-2)","v":59430400},{"$f":"ROUND('England & Wales'!BN$10,-2)","v":59660500},{"$f":"ROUND('England & Wales'!BO$10,-2)","v":60245200},{"$f":"ROUND('England & Wales'!BP$10,-2)","v":60854700},null,{"$f":"INDEX($M71:$AH71,Index!$B$16)","v":52863200},{"$f":"INDEX($M71:$AH71,Index!$B$19)","v":60854700},{"$f":"ROUND('All Districts unrounded'!AK71,-2)","v":7991500},{"$f":"'All Districts unrounded'!AL71","v":0.15117290015416762}]

{"sheet":"All Districts unrounded","index":6,"n_rows":140,"n_cols":38,"rows_kept":140,"cut":false,"hidden":true,"merged":[[0,33,21,33]]}
["All data on this sheet is rounded from each of the district worksheets",null,null,null,null,null,null,null,null,null,null,null,null,null,null,null,null,null,null,null,null,null,null,null,null,null,null,null,null,null,null,null,null,"Insert column here before extending the table"]
[]
[]
[]
[]
[]
[]
["Selected Ages:",null,{"$f":"Index!$C$4&\" : \"&Index!$C$7","v":"0 : 90"}]
[]
["Males",null,null,null,null,null,null,null,null,null,null,null,null,null,null,null,null,null,null,null,null,null,null,null,null,null,null,null,null,null,null,null,null,null,"Change"]
[null,1992,1993,1994,1995,1996,1997,1998,1999,2000,2001,2002,2003,2004,2005,2006,2007,2008,2009,2010,2011,2012,2013,2014,2015,2016,2017,2018,2019,2020,2021,2022,2023,null,{"$f":"Index!$C$16","v":2003},{"$f":"Index!$C$19","v":2023},"Number change","% change"]
["-"]
["Ashford",{"$f":"ASH!AK$4","v":45156},{"$f":"ASH!AL$4","v":45194},{"$f":"ASH!AM$4","v":45562},{"$f":"ASH!AN$4","v":46317},{"$f":"ASH!AO$4","v":47052},{"$f":"ASH!AP$4","v":47580},{"$f":"ASH!AQ$4","v":47785},{"$f":"ASH!AR$4","v":48734},{"$f":"ASH!AS$4","v":49335},{"$f":"ASH!AT$4","v":50142},{"$f":"ASH!AU$4","v":50755},{"$f":"ASH!AV$4","v":51309},{"$f":"ASH!AW$4","v":52041},{"$f":"ASH!AX$4","v":53017},{"$f":"ASH!AY$4","v":54010},{"$f":"ASH!AZ$4","v":54954},{"$f":"ASH!BA$4","v":55603},{"$f":"ASH!BB$4","v":56188},{"$f":"ASH!BC$4","v":56737},{"$f":"ASH!BD$4","v":57441},{"$f":"ASH!BE$4","v":58265},{"$f":"ASH!BF$4","v":59100},{"$f":"ASH!BG$4","v":60015},{"$f":"ASH!BH$4","v":60503},{"$f":"ASH!BI$4","v":61339},{"$f":"ASH!BJ$4","v":62218},{"$f":"ASH!BK$4","v":63044},{"$f":"ASH!BL$4","v":63439},{"$f":"ASH!BM$4","v":63913},{"$f":"ASH!BN$4","v":64793},{"$f":"ASH!BO$4","v":66086},{"$f":"ASH!BP$4","v":67306},null,{"$f":"INDEX($M13:$AH13,Index!$B$16)","v":51309},{"$f":"INDEX($M13:$AH13,Index!$B$19)","v":67306},{"$f":"AJ13-AI13","v":15997},{"$f":"IF(AI13<0,0,AK13/AI13)","v":0.31177766083922898}]
["Canterbury",{"$f":"CAN!AK$4","v":60902},{"$f":"CAN!AL$4","v":61768},{"$f":"CAN!AM$4","v":62185},{"$f":"CAN!AN$4","v":62281},{"$f":"CAN!AO$4","v":62638},{"$f":"CAN!AP$4","v":63292},{"$f":"CAN!AQ$4","v":63369},{"$f":"CAN!AR$4","v":63583},{"$f":"CAN!AS$4","v":63992},{"$f":"CAN!AT$4","v":64206},{"$f":"CAN!AU$4","v":64723},{"$f":"CAN!AV$4","v":66032},{"$f":"CAN!AW$4","v":67067},{"$f":"CAN!AX$4","v":67544},{"$f":"CAN!AY$4","v":68324},{"$f":"CAN!AZ$4","v":69323},{"$f":"CAN!BA$4","v":69802},{"$f":"CAN!BB$4","v":70065},{"$f":"CAN!BC$4","v":71332},{"$f":"CAN!BD$4","v":72565},{"$f":"CAN!BE$4","v":73089},{"$f":"CAN!BF$4","v":74007},{"$f":"CAN!BG$4","v":74705},{"$f":"CAN!BH$4","v":75299},{"$f":"CAN!BI$4","v":75971},{"$f":"CAN!BJ$4","v":76329},{"$f":"CAN!BK$4","v":75670},{"$f":"CAN!BL$4","v":75520},{"$f":"CAN!BM$4","v":75471},{"$f":"CAN!BN$4","v":75205},{"$f":"CAN!BO$4","v":76230},{"$f":"CAN!BP$4","v":77065},null,{"$f":"INDEX($M14:$AH14,Index!$B$16)","v":66032},{"$f":"INDEX($M14:$AH14,Index!$B$19)","v":77065},{"$f":"AJ14-AI14","v":11033},{"$f":"IF(AI14<0,0,AK14/AI14)","v":0.16708565543978676}]
["Dartford",{"$f":"DAR!AK$4","v":39641},{"$f":"DAR!AL$4","v":39966},{"$f":"DAR!AM$4","v":40342},{"$f":"DAR!AN$4","v":40478},{"$f":"DAR!AO$4","v":40653},{"$f":"DAR!AP$4","v":40977},{"$f":"DAR!AQ$4","v":41459},{"$f":"DAR!AR$4","v":41650},{"$f":"DAR!AS$4","v":41869},{"$f":"DAR!AT$4","v":42161},{"$f":"DAR!AU$4","v":42493},{"$f":"DAR!AV$4","v":42870},{"$f":"DAR!AW$4","v":43417},{"$f":"DAR!AX$4","v":44224},{"$f":"DAR!AY$4","v":44802},{"$f":"DAR!AZ$4","v":45375},{"$f":"DAR!BA$4","v":46200},{"$f":"DAR!BB$4","v":46885},{"$f":"DAR!BC$4","v":47544},{"$f":"DAR!BD$4","v":48187},{"$f":"DAR!BE$4","v":48866},{"$f":"DAR!BF$4","v":49696},{"$f":"DAR!BG$4","v":50495},{"$f":"DAR!BH$4","v":51188},{"$f":"DAR!BI$4","v":51815},{"$f":"DAR!BJ$4","v":53105},{"$f":"DAR!BK$4","v":54241},{"$f":"DAR!BL$4","v":55728},{"$f":"DAR!BM$4","v":56635},{"$f":"DAR!BN$4","v":57141},{"$f":"DAR!BO$4","v":58107},{"$f":"DAR!BP$4","v":58873},null,{"$f":"INDEX($M15:$AH15,Index!$B$16)","v":42870},{"$f":"INDEX($M15:$AH15,Index!$B$19)","v":58873},16003,0.37329134592955449]
["Dover",{"$f":"DOV!AK$4","v":50846},{"$f":"DOV!AL$4","v":50520},{"$f":"DOV!AM$4","v":50589},{"$f":"DOV!AN$4","v":50326},{"$f":"DOV!AO$4","v":49902},{"$f":"DOV!AP$4","v":49551},{"$f":"DOV!AQ$4","v":49956},{"$f":"DOV!AR$4","v":49911},{"$f":"DOV!AS$4","v":50287},{"$f":"DOV!AT$4","v":50367},{"$f":"DOV!AU$4","v":50544},{"$f":"DOV!AV$4","v":51021},{"$f":"DOV!AW$4","v":51628},{"$f":"DOV!AX$4","v":51936},{"$f":"DOV!AY$4","v":52336},{"$f":"DOV!AZ$4","v":52976},{"$f":"DOV!BA$4","v":53517},{"$f":"DOV!BB$4","v":53704},{"$f":"DOV!BC$4","v":54347},{"$f":"DOV!BD$4","v":54780},{"$f":"DOV!BE$4","v":54671},{"$f":"DOV!BF$4","v":54818},{"$f":"DOV!BG$4","v":55159},{"$f":"DOV!BH$4","v":54968},{"$f":"DOV!BI$4","v":55464},{"$f":"DOV!BJ$4","v":55906},{"$f":"DOV!BK$4","v":56451},{"$f":"DOV!BL$4","v":56677},{"$f":"DOV!BM$4","v":56678},{"$f":"DOV!BN$4","v":56857},{"$f":"DOV!BO$4","v":57248},{"$f":"DOV!BP$4","v":57702},null,{"$f":"INDEX($M16:$AH16,Index!$B$16)","v":51021},{"$f":"INDEX($M16:$AH16,Index!$B$19)","v":57702},6681,0.1309460810254601]
["Gravesham",{"$f":"GRA!AK$4","v":45642},{"$f":"GRA!AL$4","v":45573},{"$f":"GRA!AM$4","v":45679},{"$f":"GRA!AN$4","v":45597},{"$f":"GRA!AO$4","v":45413},{"$f":"GRA!AP$4","v":45548},{"$f":"GRA!AQ$4","v":45861},{"$f":"GRA!AR$4","v":46222},{"$f":"GRA!AS$4","v":46545},{"$f":"GRA!AT$4","v":46928},{"$f":"GRA!AU$4","v":46902},{"$f":"GRA!AV$4","v":47035},{"$f":"GRA!AW$4","v":47209},{"$f":"GRA!AX$4","v":47642},{"$f":"GRA!AY$4","v":48034},{"$f":"GRA!AZ$4","v":48478},{"$f":"GRA!BA$4","v":48882},{"$f":"GRA!BB$4","v":49256},{"$f":"GRA!BC$4","v":49777},{"$f":"GRA!BD$4","v":50180},{"$f":"GRA!BE$4","v":50857},{"$f":"GRA!BF$4","v":51164},{"$f":"GRA!BG$4","v":52012},{"$f":"GRA!BH$4","v":52481},{"$f":"GRA!BI$4","v":52606},{"$f":"GRA!BJ$4","v":52342},{"$f":"GRA!BK$4","v":52301},{"$f":"GRA!BL$4","v":52568},{"$f":"GRA!BM$4","v":52415},{"$f":"GRA!BN$4","v":52227},{"$f":"GRA!BO$4","v":52092},{"$f":"GRA!BP$4","v":52460},null,{"$f":"INDEX($M17:$AH17,Index!$B$16)","v":47035},{"$f":"INDEX($M17:$AH17,Index!$B$19)","v":52460},5425,0.11533964069310088]
["Maidstone",{"$f":"MAI!AK$4","v":67197},{"$f":"MAI!AL$4","v":67311},{"$f":"MAI!AM$4","v":67124},{"$f":"MAI!AN$4","v":67381},{"$f":"MAI!AO$4","v":68023},{"$f":"MAI!AP$4","v":67952},{"$f":"MAI!AQ$4","v":67736},{"$f":"MAI!AR$4","v":67746},{"$f":"MAI!AS$4","v":68190},{"$f":"MAI!AT$4","v":68453},{"$f":"MAI!AU$4","v":68997},{"$f":"MAI!AV$4","v":69503},{"$f":"MAI!AW$4","v":69928},{"$f":"MAI!AX$4","v":70506},{"$f":"MAI!AY$4","v":71538},{"$f":"MAI!AZ$4","v":72812},{"$f":"MAI!BA$4","v":73935},{"$f":"MAI!BB$4","v":74791},{"$f":"MAI!BC$4","v":75863},{"$f":"MAI!BD$4","v":76868},{"$f":"MAI!BE$4","v":77637},{"$f":"MAI!BF$4","v":78645},{"$f":"MAI!BG$4","v":79890},{"$f":"MAI!BH$4","v":81332},{"$f":"MAI!BI$4","v":82310},{"$f":"MAI!BJ$4","v":83374},{"$f":"MAI!BK$4","v":84325},{"$f":"MAI!BL$4","v":85015},{"$f":"MAI!BM$4","v":85724},{"$f":"MAI!BN$4","v":87294},{"$f":"MAI!BO$4","v":89057},{"$f":"MAI!BP$4","v":90822},null,{"$f":"INDEX($M18:$AH18,Index!$B$16)","v":69503},{"$f":"INDEX($M18:$AH18,Index!$B$19)","v":90822},21319,0.30673496108081666]
["Medway",{"$f":"MED!AK$4","v":120622},{"$f":"MED!AL$4","v":119884},{"$f":"MED!AM$4","v":119748},{"$f":"MED!AN$4","v":118766},{"$f":"MED!AO$4","v":118782},{"$f":"MED!AP$4","v":119298},{"$f":"MED!AQ$4","v":120750},{"$f":"MED!AR$4","v":121354},{"$f":"MED!AS$4","v":122544},{"$f":"MED!AT$4","v":122993},{"$f":"MED!AU$4","v":123401},{"$f":"MED!AV$4","v":123848},{"$f":"MED!AW$4","v":123925},{"$f":"MED!AX$4","v":124173},{"$f":"MED!AY$4","v":124859},{"$f":"MED!AZ$4","v":126260},{"$f":"MED!BA$4","v":127647},{"$f":"MED!BB$4","v":128802},{"$f":"MED!BC$4","v":130339},{"$f":"MED!BD$4","v":131368},{"$f":"MED!BE$4","v":132668},{"$f":"MED!BF$4","v":134078},{"$f":"MED!BG$4","v":135403},{"$f":"MED!BH$4","v":136380},{"$f":"MED!BI$4","v":136943},{"$f":"MED!BJ$4","v":137397},{"$f":"MED!BK$4","v":137142},{"$f":"MED!BL$4","v":137522},{"$f":"MED!BM$4","v":137769},{"$f":"MED!BN$4","v":137187},{"$f":"MED!BO$4","v":138487},{"$f":"MED!BP$4","v":140334},null,{"$f":"INDEX($M19:$AH19,Index!$B$16)","v":123848},{"$f":"INDEX($M19:$AH19,Index!$B$19)","v":140334},16486,0.1331147858665461]
["Sevenoaks",{"$f":"SEV!AK$4","v":53002},{"$f":"SEV!AL$4","v":52903},{"$f":"SEV!AM$4","v":52832},{"$f":"SEV!AN$4","v":52592},{"$f":"SEV!AO$4","v":52747},{"$f":"SEV!AP$4","v":53056},{"$f":"SEV!AQ$4","v":52896},{"$f":"SEV!AR$4","v":53138},{"$f":"SEV!AS$4","v":53020},{"$f":"SEV!AT$4","v":52868},{"$f":"SEV!AU$4","v":52751},{"$f":"SEV!AV$4","v":52891},{"$f":"SEV!AW$4","v":53155},{"$f":"SEV!AX$4","v":53718},{"$f":"SEV!AY$4","v":54290},{"$f":"SEV!AZ$4","v":54676},{"$f":"SEV!BA$4","v":54792},{"$f":"SEV!BB$4","v":55086},{"$f":"SEV!BC$4","v":55478},{"$f":"SEV!BD$4","v":55975},{"$f":"SEV!BE$4","v":56343},{"$f":"SEV!BF$4","v":56568},{"$f":"SEV!BG$4","v":56750},{"$f":"SEV!BH$4","v":56961},{"$f":"SEV!BI$4","v":57230},{"$f":"SEV!BJ$4","v":57389},{"$f":"SEV!BK$4","v":57682},{"$f":"SEV!BL$4","v":57824},{"$f":"SEV!BM$4","v":57957},{"$f":"SEV!BN$4","v":58378},{"$f":"SEV!BO$4","v":58385},{"$f":"SEV!BP$4","v":58297},null,{"$f":"INDEX($M20:$AH20,Index!$B$16)","v":52891},{"$f":"INDEX($M20:$AH20,Index!$B$19)","v":58297},5406,0.10221020589514285]
["Folkestone & Hythe",{"$f":"'F&H'!AK$4","v":44410},{"$f":"'F&H'!AL$4","v":44203},{"$f":"'F&H'!AM$4","v":44867},{"$f":"'F&H'!AN$4","v":44540},{"$f":"'F&H'!AO$4","v":45121},{"$f":"'F&H'!AP$4","v":45102},{"$f":"'F&H'!AQ$4","v":45093},{"$f":"'F&H'!AR$4","v":45643},{"$f":"'F&H'!AS$4","v":46121},{"$f":"'F&H'!AT$4","v":46123},{"$f":"'F&H'!AU$4","v":46736},{"$f":"'F&H'!AV$4","v":47488},{"$f":"'F&H'!AW$4","v":48299},{"$f":"'F&H'!AX$4","v":49123},{"$f":"'F&H'!AY$4","v":49903},{"$f":"'F&H'!AZ$4","v":50723},{"$f":"'F&H'!BA$4","v":51297},{"$f":"'F&H'!BB$4","v":51867},{"$f":"'F&H'!BC$4","v":52557},{"$f":"'F&H'!BD$4","v":53287},{"$f":"'F&H'!BE$4","v":53244},{"$f":"'F&H'!BF$4","v":53061},{"$f":"'F&H'!BG$4","v":53101},{"$f":"'F&H'!BH$4","v":53045},{"$f":"'F&H'!BI$4","v":53449},{"$f":"'F&H'!BJ$4","v":53424},{"$f":"'F&H'!BK$4","v":53723},{"$f":"'F&H'!BL$4","v":53623},{"$f":"'F&H'!BM$4","v":53548},{"$f":"'F&H'!BN$4","v":53719},{"$f":"'F&H'!BO$4","v":53781},{"$f":"'F&H'!BP$4","v":54100},null,{"$f":"INDEX($M21:$AH21,Index!$B$16)","v":47488},{"$f":"INDEX($M21:$AH21,Index!$B$19)","v":54100},6612,0.13923517520215634]
["Swale",{"$f":"SWA!AK$4","v":57291},{"$f":"SWA!AL$4","v":57488},{"$f":"SWA!AM$4","v":57655},{"$f":"SWA!AN$4","v":58050},{"$f":"SWA!AO$4","v":57943},{"$f":"SWA!AP$4","v":58445},{"$f":"SWA!AQ$4","v":58763},{"$f":"SWA!AR$4","v":59236},{"$f":"SWA!AS$4","v":59966},{"$f":"SWA!AT$4","v":60737},{"$f":"SWA!AU$4","v":61199},{"$f":"SWA!AV$4","v":61722},{"$f":"SWA!AW$4","v":61945},{"$f":"SWA!AX$4","v":62142},{"$f":"SWA!AY$4","v":62828},{"$f":"SWA!AZ$4","v":63946},{"$f":"SWA!BA$4","v":64953},{"$f":"SWA!BB$4","v":65616},{"$f":"SWA!BC$4","v":66742},{"$f":"SWA!BD$4","v":67418},{"$f":"SWA!BE$4","v":68253},{"$f":"SWA!BF$4","v":68983},{"$f":"SWA!BG$4","v":70034},{"$f":"SWA!BH$4","v":70948},{"$f":"SWA!BI$4","v":72256},{"$f":"SWA!BJ$4","v":73152},{"$f":"SWA!BK$4","v":73928},{"$f":"SWA!BL$4","v":74682},{"$f":"SWA!BM$4","v":74911},{"$f":"SWA!BN$4","v":75544},{"$f":"SWA!BO$4","v":76727},{"$f":"SWA!BP$4","v":77223},null,{"$f":"INDEX($M22:$AH22,Index!$B$16)","v":61722},{"$f":"INDEX($M22:$AH22,Index!$B$19)","v":77223},15501,0.25114221833381939]
["Thanet",{"$f":"THA!AK$4","v":59043},{"$f":"THA!AL$4","v":58721},{"$f":"THA!AM$4","v":58525},{"$f":"THA!AN$4","v":58553},{"$f":"THA!AO$4","v":58740},{"$f":"THA!AP$4","v":59280},{"$f":"THA!AQ$4","v":59376},{"$f":"THA!AR$4","v":59863},{"$f":"THA!AS$4","v":59870},{"$f":"THA!AT$4","v":60002},{"$f":"THA!AU$4","v":60617},{"$f":"THA!AV$4","v":60959},{"$f":"THA!AW$4","v":61396},{"$f":"THA!AX$4","v":61736},{"$f":"THA!AY$4","v":61965},{"$f":"THA!AZ$4","v":62557},{"$f":"THA!BA$4","v":63171},{"$f":"THA!BB$4","v":63544},{"$f":"THA!BC$4","v":64105},{"$f":"THA!BD$4","v":64652},{"$f":"THA!BE$4","v":65206},{"$f":"THA!BF$4","v":65794},{"$f":"THA!BG$4","v":66635},{"$f":"THA!BH$4","v":67159},{"$f":"THA!BI$4","v":67541},{"$f":"THA!BJ$4","v":67765},{"$f":"THA!BK$4","v":67754},{"$f":"THA!BL$4","v":67626},{"$f":"THA!BM$4","v":67298},{"$f":"THA!BN$4","v":67687},{"$f":"THA!BO$4","v":67692},{"$f":"THA!BP$4","v":67555},null,{"$f":"INDEX($M23:$AH23,Index!$B$16)","v":60959},{"$f":"INDEX($M23:$AH23,Index!$B$19)","v":67555},6596,0.10820387473547795]
["Tonbridge & Malling",{"$f":"TON!AK$4","v":50143},{"$f":"TON!AL$4","v":50078},{"$f":"TON!AM$4","v":50315},{"$f":"TON!AN$4","v":50926},{"$f":"TON!AO$4","v":51289},{"$f":"TON!AP$4","v":51482},{"$f":"TON!AQ$4","v":51668},{"$f":"TON!AR$4","v":52219},{"$f":"TON!AS$4","v":52341},{"$f":"TON!AT$4","v":52751},{"$f":"TON!AU$4","v":53122},{"$f":"TON!AV$4","v":53552},{"$f":"TON!AW$4","v":54116},{"$f":"TON!AX$4","v":54778},{"$f":"TON!AY$4","v":55687},{"$f":"TON!AZ$4","v":56548},{"$f":"TON!BA$4","v":57227},{"$f":"TON!BB$4","v":57999},{"$f":"TON!BC$4","v":58779},{"$f":"TON!BD$4","v":59318},{"$f":"TON!BE$4","v":59895},{"$f":"TON!BF$4","v":60274},{"$f":"TON!BG$4","v":60995},{"$f":"TON!BH$4","v":61466},{"$f":"TON!BI$4","v":62090},{"$f":"TON!BJ$4","v":62806},{"$f":"TON!BK$4","v":63500},{"$f":"TON!BL$4","v":64113},{"$f":"TON!BM$4","v":64185},{"$f":"TON!BN$4","v":64406},{"$f":"TON!BO$4","v":64926},{"$f":"TON!BP$4","v":65626},null,{"$f":"INDEX($M24:$AH24,Index!$B$16)","v":53552},{"$f":"INDEX($M24:$AH24,Index!$B$19)","v":65626},12074,0.2254631012847326]
["Tunbridge Wells",{"$f":"TUN!AK$4","v":48213},{"$f":"TUN!AL$4","v":48252},{"$f":"TUN!AM$4","v":48762},{"$f":"TUN!AN$4","v":49175},{"$f":"TUN!AO$4","v":48984},{"$f":"TUN!AP$4","v":48764},{"$f":"TUN!AQ$4","v":49207},{"$f":"TUN!AR$4","v":49473},{"$f":"TUN!AS$4","v":49876},{"$f":"TUN!AT$4","v":50050},{"$f":"TUN!AU$4","v":50254},{"$f":"TUN!AV$4","v":50477},{"$f":"TUN!AW$4","v":50929},{"$f":"TUN!AX$4","v":51304},{"$f":"TUN!AY$4","v":51924},{"$f":"TUN!AZ$4","v":53035},{"$f":"TUN!BA$4","v":54278},{"$f":"TUN!BB$4","v":55205},{"$f":"TUN!BC$4","v":55953},{"$f":"TUN!BD$4","v":56563},{"$f":"TUN!BE$4","v":56515},{"$f":"TUN!BF$4","v":56413},{"$f":"TUN!BG$4","v":56533},{"$f":"TUN!BH$4","v":56235},{"$f":"TUN!BI$4","v":56385},{"$f":"TUN!BJ$4","v":56521},{"$f":"TUN!BK$4","v":55980},{"$f":"TUN!BL$4","v":56022},{"$f":"TUN!BM$4","v":56010},{"$f":"TUN!BN$4","v":56111},{"$f":"TUN!BO$4","v":56534},{"$f":"TUN!BP$4","v":57027},null,{"$f":"INDEX($M25:$AH25,Index!$B$16)","v":50477},{"$f":"INDEX($M25:$AH25,Index!$B$19)","v":57027},6550,0.1297620698535967]
["Kent",{"$f":"Kent!AK$4","v":621486},{"$f":"Kent!AL$4","v":621977},{"$f":"Kent!AM$4","v":624437},{"$f":"Kent!AN$4","v":626216},{"$f":"Kent!AO$4","v":628505},{"$f":"Kent!AP$4","v":631029},{"$f":"Kent!AQ$4","v":633169},{"$f":"Kent!AR$4","v":637418},{"$f":"Kent!AS$4","v":641412},{"$f":"Kent!AT$4","v":644788},{"$f":"Kent!AU$4","v":649093},{"$f":"Kent!AV$4","v":654859},{"$f":"Kent!AW$4","v":661130},{"$f":"Kent!AX$4","v":667670},{"$f":"Kent!AY$4","v":675641},{"$f":"Kent!AZ$4","v":685403},{"$f":"Kent!BA$4","v":693657},{"$f":"Kent!BB$4","v":700206},{"$f":"Kent!BC$4","v":709214},{"$f":"Kent!BD$4","v":717234},{"$f":"Kent!BE$4","v":722841},{"$f":"Kent!BF$4","v":728523},{"$f":"Kent!BG$4","v":736324},{"$f":"Kent!BH$4","v":741585},{"$f":"Kent!BI$4","v":748456},{"$f":"Kent!BJ$4","v":754331},{"$f":"Kent!BK$4","v":758599},{"$f":"Kent!BL$4","v":762837},{"$f":"Kent!BM$4","v":764745},{"$f":"Kent!BN$4","v":769362},{"$f":"Kent!BO$4","v":776865},{"$f":"Kent!BP$4","v":784056},null,{"$f":"INDEX($M26:$AH26,Index!$B$16)","v":654859},{"$f":"INDEX($M26:$AH26,Index!$B$19)","v":784056},129197,0.19728979826191592]
["Kent + Medway",{"$f":"'Kent+Med'!AK4","v":742108},{"$f":"'Kent+Med'!AL4","v":741861},{"$f":"'Kent+Med'!AM4","v":744185},{"$f":"'Kent+Med'!AN4","v":744982},{"$f":"'Kent+Med'!AO4","v":747287},{"$f":"'Kent+Med'!AP4","v":750327},{"$f":"'Kent+Med'!AQ4","v":753919},{"$f":"'Kent+Med'!AR4","v":758772},{"$f":"'Kent+Med'!AS4","v":763956},{"$f":"'Kent+Med'!AT4","v":767781},{"$f":"'Kent+Med'!AU4","v":772494},{"$f":"'Kent+Med'!AV4","v":778707},{"$f":"'Kent+Med'!AW4","v":785055},{"$f":"'Kent+Med'!AX4","v":791843},{"$f":"'Kent+Med'!AY4","v":800500},{"$f":"'Kent+Med'!AZ4","v":811663},{"$f":"'Kent+Med'!BA4","v":821304},{"$f":"'Kent+Med'!BB4","v":829008},{"$f":"'Kent+Med'!BC4","v":839553},{"$f":"'Kent+Med'!BD4","v":848602},{"$f":"'Kent+Med'!BE4","v":855509},{"$f":"'Kent+Med'!BF4","v":862601},{"$f":"'Kent+Med'!BG4","v":871727},{"$f":"'Kent+Med'!BH4","v":877965},{"$f":"'Kent+Med'!BI4","v":885399},{"$f":"'Kent+Med'!BJ4","v":891728},{"$f":"'Kent+Med'!BK4","v":895741},{"$f":"'Kent+Med'!BL4","v":900359},{"$f":"'Kent+Med'!BM4","v":902514},{"$f":"'Kent+Med'!BN4","v":906549},{"$f":"'Kent+Med'!BO4","v":915352},{"$f":"'Kent+Med'!BP4","v":924390},null,{"$f":"INDEX($M27:$AH27,Index!$B$16)","v":778707},{"$f":"INDEX($M27:$AH27,Index!$B$19)","v":924390},145683,0.1870832033101025]
["South East Region",{"$f":"'South East'!AK4","v":3728474},{"$f":"'South East'!AL4","v":3735419},{"$f":"'South East'!AM4","v":3754015},{"$f":"'South East'!AN4","v":3780782},{"$f":"'South East'!AO4","v":3801825},{"$f":"'South East'!AP4","v":3828869},{"$f":"'South East'!AQ4","v":3848358},{"$f":"'South East'!AR4","v":3883985},{"$f":"'South East'!AS4","v":3902882},{"$f":"'South East'!AT4","v":3923985},{"$f":"'South East'!AU4","v":3935274},{"$f":"'South East'!AV4","v":3959605},{"$f":"'South East'!AW4","v":3980267},{"$f":"'South East'!AX4","v":4011554},{"$f":"'South East'!AY4","v":4047844},{"$f":"'South East'!AZ4","v":4090120},{"$f":"'South East'!BA4","v":4130547},{"$f":"'South East'!BB4","v":4163976},{"$f":"'South East'!BC4","v":4210659},{"$f":"'South East'!BD4","v":4251422},{"$f":"'South East'!BE4","v":4289814},{"$f":"'South East'!BF4","v":4327136},{"$f":"'South East'!BG4","v":4366190},{"$f":"'South East'!BH4","v":4404632},{"$f":"'South East'!BI4","v":4444960},{"$f":"'South East'!BJ4","v":4467929},{"$f":"'South East'!BK4","v":4486173},{"$f":"'South East'!BL4","v":4504155},{"$f":"'South East'!BM4","v":4516989},{"$f":"'South East'!BN4","v":4548243},{"$f":"'South East'!BO4","v":4593507},{"$f":"'South East'!BP4","v":4638839},null,{"$f":"INDEX($M28:$AH28,Index!$B$16)","v":3959605},{"$f":"INDEX($M28:$AH28,Index!$B$19)","v":4638839},{"$f":"AJ28-AI28","v":679234},{"$f":"IF(AI28<0,0,AK28/AI28)","v":0.17154084814015538}]
["England & Wales",{"$f":"'England & Wales'!AK4","v":24739461},{"$f":"'England & Wales'!AL4","v":24792642},{"$f":"'England & Wales'!AM4","v":24853043},{"$f":"'England & Wales'!AN4","v":24946334},{"$f":"'England & Wales'!AO4","v":25029777},{"$f":"'England & Wales'!AP4","v":25113194},{"$f":"'England & Wales'!AQ4","v":25200700},{"$f":"'England & Wales'!AR4","v":25323441},{"$f":"'England & Wales'!AS4","v":25438046},{"$f":"'England & Wales'!AT4","v":25574258},{"$f":"'England & Wales'!AU4","v":25708118},{"$f":"'England & Wales'!AV4","v":25854109},{"$f":"'England & Wales'!AW4","v":26012115},{"$f":"'England & Wales'!AX4","v":26234398},{"$f":"'England & Wales'!AY4","v":26433350},{"$f":"'England & Wales'!AZ4","v":26669068},{"$f":"'England & Wales'!BA4","v":26914321},{"$f":"'England & Wales'!BB4","v":27121680},{"$f":"'England & Wales'!BC4","v":27372737},{"$f":"'England & Wales'!BD4","v":27637637},{"$f":"'England & Wales'!BE4","v":27825600},{"$f":"'England & Wales'!BF4","v":28016359},{"$f":"'England & Wales'!BG4","v":28232465},{"$f":"'England & Wales'!BH4","v":28451237},{"$f":"'England & Wales'!BI4","v":28676053},{"$f":"'England & Wales'!BJ4","v":28823855},{"$f":"'England & Wales'!BK4","v":28952751},{"$f":"'England & Wales'!BL4","v":29085955},{"$f":"'England & Wales'!BM4","v":29118166},{"$f":"'England & Wales'!BN4","v":29203353},{"$f":"'England & Wales'!BO4","v":29521521},{"$f":"'England & Wales'!BP4","v":29835992},null,{"$f":"INDEX($M29:$AH29,Index!$B$16)","v":25854109},{"$f":"INDEX($M29:$AH29,Index!$B$19)","v":29835992},{"$f":"AJ29-AI29","v":3981883},{"$f":"IF(AI29<0,0,AK29/AI29)","v":0.15401354577719154}]
[]
["Females"]
[null,1992,1993,1994,1995,1996,1997,1998,1999,2000,2001,2002,2003,2004,2005,2006,2007,2008,2009,2010,2011,2012,2013,2014,2015,2016,2017,2018,2019,2020,2021,2022,2023,null,{"$f":"Index!$C$16","v":2003},{"$f":"Index!$C$19","v":2023},"Number change","% change"]
["-"]
["Ashford",{"$f":"ASH!AK$5","v":47936},{"$f":"ASH!AL$5","v":47898},{"$f":"ASH!AM$5","v":48201},{"$f":"ASH!AN$5","v":48749},{"$f":"ASH!AO$5","v":49390},{"$f":"ASH!AP$5","v":49956},{"$f":"ASH!AQ$5","v":50190},{"$f":"ASH!AR$5","v":51338},{"$f":"ASH!AS$5","v":52042},{"$f":"ASH!AT$5","v":52882},{"$f":"ASH!AU$5","v":53622},{"$f":"ASH!AV$5","v":54327},{"$f":"ASH!AW$5","v":55223},{"$f":"ASH!AX$5","v":56392},{"$f":"ASH!AY$5","v":57449},{"$f":"ASH!AZ$5","v":58332},{"$f":"ASH!BA$5","v":58953},{"$f":"ASH!BB$5","v":59506},{"$f":"ASH!BC$5","v":60238},{"$f":"ASH!BD$5","v":60964},{"$f":"ASH!BE$5","v":61926},{"$f":"ASH!BF$5","v":62750},{"$f":"ASH!BG$5","v":63667},{"$f":"ASH!BH$5","v":64077},{"$f":"ASH!BI$5","v":64988},{"$f":"ASH!BJ$5","v":65831},{"$f":"ASH!BK$5","v":66657},{"$f":"ASH!BL$5","v":67027},{"$f":"ASH!BM$5","v":67518},{"$f":"ASH!BN$5","v":68428},{"$f":"ASH!BO$5","v":69655},{"$f":"ASH!BP$5","v":70977},null,{"$f":"INDEX($M34:$AH34,Index!$B$16)","v":54327},{"$f":"INDEX($M34:$AH34,Index!$B$19)","v":70977},{"$f":"AJ34-AI34","v":16650},{"$f":"IF(AI34<0,0,AK34/AI34)","v":0.30647744215583411}]
["Canterbury",{"$f":"CAN!AK$5","v":67941},{"$f":"CAN!AL$5","v":68009},{"$f":"CAN!AM$5","v":68195},{"$f":"CAN!AN$5","v":68408},{"$f":"CAN!AO$5","v":68680},{"$f":"CAN!AP$5","v":69311},{"$f":"CAN!AQ$5","v":69240},{"$f":"CAN!AR$5","v":70079},{"$f":"CAN!AS$5","v":70913},{"$f":"CAN!AT$5","v":71175},{"$f":"CAN!AU$5","v":71760},{"$f":"CAN!AV$5","v":72576},{"$f":"CAN!AW$5","v":73511},{"$f":"CAN!AX$5","v":74374},{"$f":"CAN!AY$5","v":75166},{"$f":"CAN!AZ$5","v":75874},{"$f":"CAN!BA$5","v":76271},{"$f":"CAN!BB$5","v":76331},{"$f":"CAN!BC$5","v":77321},{"$f":"CAN!BD$5","v":78035},{"$f":"CAN!BE$5","v":78621},{"$f":"CAN!BF$5","v":79468},{"$f":"CAN!BG$5","v":80446},{"$f":"CAN!BH$5","v":80844},{"$f":"CAN!BI$5","v":81309},{"$f":"CAN!BJ$5","v":81615},{"$f":"CAN!BK$5","v":81586},{"$f":"CAN!BL$5","v":81589},{"$f":"CAN!BM$5","v":81716},{"$f":"CAN!BN$5","v":81426},{"$f":"CAN!BO$5","v":82052},{"$f":"CAN!BP$5","v":82874},null,{"$f":"INDEX($M35:$AH35,Index!$B$16)","v":72576},{"$f":"INDEX($M35:$AH35,Index!$B$19)","v":82874},{"$f":"AJ35-AI35","v":10298},{"$f":"IF(AI35<0,0,AK35/AI35)","v":0.14189263668430335}]
["Dartford",{"$f":"DAR!AK$5","v":41364},{"$f":"DAR!AL$5","v":41716},{"$f":"DAR!AM$5","v":42101},{"$f":"DAR!AN$5","v":42154},{"$f":"DAR!AO$5","v":42328},{"$f":"DAR!AP$5","v":42735},{"$f":"DAR!AQ$5","v":43160},{"$f":"DAR!AR$5","v":43395},{"$f":"DAR!AS$5","v":43640},{"$f":"DAR!AT$5","v":43795},{"$f":"DAR!AU$5","v":43910},{"$f":"DAR!AV$5","v":44141},{"$f":"DAR!AW$5","v":44860},{"$f":"DAR!AX$5","v":45766},{"$f":"DAR!AY$5","v":46372},{"$f":"DAR!AZ$5","v":46867},{"$f":"DAR!BA$5","v":47746},{"$f":"DAR!BB$5","v":48381},{"$f":"DAR!BC$5","v":48793},{"$f":"DAR!BD$5","v":49417},{"$f":"DAR!BE$5","v":50198},{"$f":"DAR!BF$5","v":51060},{"$f":"DAR!BG$5","v":52270},{"$f":"DAR!BH$5","v":53191},{"$f":"DAR!BI$5","v":54090},{"$f":"DAR!BJ$5","v":55267},{"$f":"DAR!BK$5","v":56577},{"$f":"DAR!BL$5","v":58200},{"$f":"DAR!BM$5","v":58937},{"$f":"DAR!BN$5","v":59678},{"$f":"DAR!BO$5","v":60703},{"$f":"DAR!BP$5","v":61826},null,{"$f":"INDEX($M36:$AH36,Index!$B$16)","v":44141},{"$f":"INDEX($M36:$AH36,Index!$B$19)","v":61826},17685,0.40064792369905528]
["Dover",{"$f":"DOV!AK$5","v":53760},{"$f":"DOV!AL$5","v":53543},{"$f":"DOV!AM$5","v":53786},{"$f":"DOV!AN$5","v":53758},{"$f":"DOV!AO$5","v":53669},{"$f":"DOV!AP$5","v":53800},{"$f":"DOV!AQ$5","v":53730},{"$f":"DOV!AR$5","v":54095},{"$f":"DOV!AS$5","v":54191},{"$f":"DOV!AT$5","v":54279},{"$f":"DOV!AU$5","v":54339},{"$f":"DOV!AV$5","v":54763},{"$f":"DOV!AW$5","v":55250},{"$f":"DOV!AX$5","v":55539},{"$f":"DOV!AY$5","v":55568},{"$f":"DOV!AZ$5","v":56065},{"$f":"DOV!BA$5","v":56331},{"$f":"DOV!BB$5","v":56357},{"$f":"DOV!BC$5","v":56725},{"$f":"DOV!BD$5","v":56938},{"$f":"DOV!BE$5","v":56858},{"$f":"DOV!BF$5","v":57161},{"$f":"DOV!BG$5","v":57382},{"$f":"DOV!BH$5","v":57496},{"$f":"DOV!BI$5","v":57901},{"$f":"DOV!BJ$5","v":58429},{"$f":"DOV!BK$5","v":58697},{"$f":"DOV!BL$5","v":59225},{"$f":"DOV!BM$5","v":59456},{"$f":"DOV!BN$5","v":59692},{"$f":"DOV!BO$5","v":60298},{"$f":"DOV!BP$5","v":60889},null,{"$f":"INDEX($M37:$AH37,Index!$B$16)","v":54763},{"$f":"INDEX($M37:$AH37,Index!$B$19)","v":60889},6126,0.11186384967952814]
["Gravesham",{"$f":"GRA!AK$5","v":47871},{"$f":"GRA!AL$5","v":47793},{"$f":"GRA!AM$5","v":47881},{"$f":"GRA!AN$5","v":47833},{"$f":"GRA!AO$5","v":47612},{"$f":"GRA!AP$5","v":47744},{"$f":"GRA!AQ$5","v":48055},{"$f":"GRA!AR$5","v":48353},{"$f":"GRA!AS$5","v":48615},{"$f":"GRA!AT$5","v":48863},{"$f":"GRA!AU$5","v":48546},{"$f":"GRA!AV$5","v":48534},{"$f":"GRA!AW$5","v":48698},{"$f":"GRA!AX$5","v":49242},{"$f":"GRA!AY$5","v":49540},{"$f":"GRA!AZ$5","v":50018},{"$f":"GRA!BA$5","v":50512},{"$f":"GRA!BB$5","v":50932},{"$f":"GRA!BC$5","v":51299},{"$f":"GRA!BD$5","v":51586},{"$f":"GRA!BE$5","v":52147},{"$f":"GRA!BF$5","v":52673},{"$f":"GRA!BG$5","v":53422},{"$f":"GRA!BH$5","v":53923},{"$f":"GRA!BI$5","v":54217},{"$f":"GRA!BJ$5","v":54201},{"$f":"GRA!BK$5","v":54425},{"$f":"GRA!BL$5","v":54780},{"$f":"GRA!BM$5","v":54731},{"$f":"GRA!BN$5","v":54656},{"$f":"GRA!BO$5","v":54778},{"$f":"GRA!BP$5","v":55277},null,{"$f":"INDEX($M38:$AH38,Index!$B$16)","v":48534},{"$f":"INDEX($M38:$AH38,Index!$B$19)","v":55277},6743,0.13893353113281412]
["Maidstone",{"$f":"MAI!AK$5","v":70014},{"$f":"MAI!AL$5","v":70079},{"$f":"MAI!AM$5","v":69853},{"$f":"MAI!AN$5","v":70006},{"$f":"MAI!AO$5","v":70382},{"$f":"MAI!AP$5","v":70496},{"$f":"MAI!AQ$5","v":70341},{"$f":"MAI!AR$5","v":70195},{"$f":"MAI!AS$5","v":70443},{"$f":"MAI!AT$5","v":70663},{"$f":"MAI!AU$5","v":71341},{"$f":"MAI!AV$5","v":71743},{"$f":"MAI!AW$5","v":72314},{"$f":"MAI!AX$5","v":72847},{"$f":"MAI!AY$5","v":73769},{"$f":"MAI!AZ$5","v":74929},{"$f":"MAI!BA$5","v":75788},{"$f":"MAI!BB$5","v":76803},{"$f":"MAI!BC$5","v":77876},{"$f":"MAI!BD$5","v":78896},{"$f":"MAI!BE$5","v":79820},{"$f":"MAI!BF$5","v":80663},{"$f":"MAI!BG$5","v":81677},{"$f":"MAI!BH$5","v":82780},{"$f":"MAI!BI$5","v":83643},{"$f":"MAI!BJ$5","v":84741},{"$f":"MAI!BK$5","v":85649},{"$f":"MAI!BL$5","v":86801},{"$f":"MAI!BM$5","v":87548},{"$f":"MAI!BN$5","v":89403},{"$f":"MAI!BO$5","v":91512},{"$f":"MAI!BP$5","v":93365},null,{"$f":"INDEX($M39:$AH39,Index!$B$16)","v":71743},{"$f":"INDEX($M39:$AH39,Index!$B$19)","v":93365},21622,0.30138131943186097]
["Medway",{"$f":"MED!AK$5","v":123064},{"$f":"MED!AL$5","v":122732},{"$f":"MED!AM$5","v":122838},{"$f":"MED!AN$5","v":122651},{"$f":"MED!AO$5","v":122505},{"$f":"MED!AP$5","v":123016},{"$f":"MED!AQ$5","v":124591},{"$f":"MED!AR$5","v":125029},{"$f":"MED!AS$5","v":125930},{"$f":"MED!AT$5","v":126711},{"$f":"MED!AU$5","v":126861},{"$f":"MED!AV$5","v":127311},{"$f":"MED!AW$5","v":127534},{"$f":"MED!AX$5","v":127925},{"$f":"MED!AY$5","v":128619},{"$f":"MED!AZ$5","v":129564},{"$f":"MED!BA$5","v":130577},{"$f":"MED!BB$5","v":131428},{"$f":"MED!BC$5","v":132399},{"$f":"MED!BD$5","v":133517},{"$f":"MED!BE$5","v":135476},{"$f":"MED!BF$5","v":137006},{"$f":"MED!BG$5","v":138574},{"$f":"MED!BH$5","v":139657},{"$f":"MED!BI$5","v":140561},{"$f":"MED!BJ$5","v":141255},{"$f":"MED!BK$5","v":141685},{"$f":"MED!BL$5","v":142330},{"$f":"MED!BM$5","v":142595},{"$f":"MED!BN$5","v":142716},{"$f":"MED!BO$5","v":144156},{"$f":"MED!BP$5","v":146466},null,{"$f":"INDEX($M40:$AH40,Index!$B$16)","v":127311},{"$f":"INDEX($M40:$AH40,Index!$B$19)","v":146466},19155,0.15045832646040011]
["Sevenoaks",{"$f":"SEV!AK$5","v":55843},{"$f":"SEV!AL$5","v":55914},{"$f":"SEV!AM$5","v":56106},{"$f":"SEV!AN$5","v":55786},{"$f":"SEV!AO$5","v":55997},{"$f":"SEV!AP$5","v":56358},{"$f":"SEV!AQ$5","v":56245},{"$f":"SEV!AR$5","v":56508},{"$f":"SEV!AS$5","v":56519},{"$f":"SEV!AT$5","v":56374},{"$f":"SEV!AU$5","v":56354},{"$f":"SEV!AV$5","v":56389},{"$f":"SEV!AW$5","v":56890},{"$f":"SEV!AX$5","v":57548},{"$f":"SEV!AY$5","v":58210},{"$f":"SEV!AZ$5","v":58456},{"$f":"SEV!BA$5","v":58506},{"$f":"SEV!BB$5","v":58668},{"$f":"SEV!BC$5","v":59031},{"$f":"SEV!BD$5","v":59376},{"$f":"SEV!BE$5","v":59907},{"$f":"SEV!BF$5","v":60128},{"$f":"SEV!BG$5","v":60626},{"$f":"SEV!BH$5","v":60774},{"$f":"SEV!BI$5","v":61059},{"$f":"SEV!BJ$5","v":61100},{"$f":"SEV!BK$5","v":61483},{"$f":"SEV!BL$5","v":61751},{"$f":"SEV!BM$5","v":62094},{"$f":"SEV!BN$5","v":62445},{"$f":"SEV!BO$5","v":62788},{"$f":"SEV!BP$5","v":62965},null,{"$f":"INDEX($M41:$AH41,Index!$B$16)","v":56389},{"$f":"INDEX($M41:$AH41,Index!$B$19)","v":62965},6576,0.11661848942169573]
["Folkestone & Hythe",{"$f":"'F&H'!AK$5","v":49064},{"$f":"'F&H'!AL$5","v":49198},{"$f":"'F&H'!AM$5","v":49204},{"$f":"'F&H'!AN$5","v":49440},{"$f":"'F&H'!AO$5","v":49852},{"$f":"'F&H'!AP$5","v":49778},{"$f":"'F&H'!AQ$5","v":49717},{"$f":"'F&H'!AR$5","v":50168},{"$f":"'F&H'!AS$5","v":50296},{"$f":"'F&H'!AT$5","v":50222},{"$f":"'F&H'!AU$5","v":50469},{"$f":"'F&H'!AV$5","v":51052},{"$f":"'F&H'!AW$5","v":51650},{"$f":"'F&H'!AX$5","v":52386},{"$f":"'F&H'!AY$5","v":52566},{"$f":"'F&H'!AZ$5","v":53179},{"$f":"'F&H'!BA$5","v":53485},{"$f":"'F&H'!BB$5","v":53849},{"$f":"'F&H'!BC$5","v":54405},{"$f":"'F&H'!BD$5","v":54912},{"$f":"'F&H'!BE$5","v":54941},{"$f":"'F&H'!BF$5","v":54838},{"$f":"'F&H'!BG$5","v":55052},{"$f":"'F&H'!BH$5","v":55282},{"$f":"'F&H'!BI$5","v":55786},{"$f":"'F&H'!BJ$5","v":55671},{"$f":"'F&H'!BK$5","v":56005},{"$f":"'F&H'!BL$5","v":56036},{"$f":"'F&H'!BM$5","v":56039},{"$f":"'F&H'!BN$5","v":56321},{"$f":"'F&H'!BO$5","v":56575},{"$f":"'F&H'!BP$5","v":56895},null,{"$f":"INDEX($M42:$AH42,Index!$B$16)","v":51052},{"$f":"INDEX($M42:$AH42,Index!$B$19)","v":56895},5843,0.11445193136409935]
["Swale",{"$f":"SWA!AK$5","v":58888},{"$f":"SWA!AL$5","v":59181},{"$f":"SWA!AM$5","v":59143},{"$f":"SWA!AN$5","v":59502},{"$f":"SWA!AO$5","v":59394},{"$f":"SWA!AP$5","v":59823},{"$f":"SWA!AQ$5","v":59930},{"$f":"SWA!AR$5","v":60843},{"$f":"SWA!AS$5","v":61672},{"$f":"SWA!AT$5","v":62386},{"$f":"SWA!AU$5","v":62973},{"$f":"SWA!AV$5","v":63626},{"$f":"SWA!AW$5","v":63945},{"$f":"SWA!AX$5","v":64374},{"$f":"SWA!AY$5","v":64740},{"$f":"SWA!AZ$5","v":65775},{"$f":"SWA!BA$5","v":66767},{"$f":"SWA!BB$5","v":67414},{"$f":"SWA!BC$5","v":68238},{"$f":"SWA!BD$5","v":68906},{"$f":"SWA!BE$5","v":69441},{"$f":"SWA!BF$5","v":70152},{"$f":"SWA!BG$5","v":70958},{"$f":"SWA!BH$5","v":71775},{"$f":"SWA!BI$5","v":72928},{"$f":"SWA!BJ$5","v":73694},{"$f":"SWA!BK$5","v":74472},{"$f":"SWA!BL$5","v":75071},{"$f":"SWA!BM$5","v":75673},{"$f":"SWA!BN$5","v":76674},{"$f":"SWA!BO$5","v":77871},{"$f":"SWA!BP$5","v":78670},null,{"$f":"INDEX($M43:$AH43,Index!$B$16)","v":63626},{"$f":"INDEX($M43:$AH43,Index!$B$19)","v":78670},15044,0.23644422091597775]
["Thanet",{"$f":"THA!AK$5","v":66359},{"$f":"THA!AL$5","v":65947},{"$f":"THA!AM$5","v":65855},{"$f":"THA!AN$5","v":65712},{"$f":"THA!AO$5","v":65693},{"$f":"THA!AP$5","v":66090},{"$f":"THA!AQ$5","v":66147},{"$f":"THA!AR$5","v":66613},{"$f":"THA!AS$5","v":66583},{"$f":"THA!AT$5","v":66748},{"$f":"THA!AU$5","v":67058},{"$f":"THA!AV$5","v":67181},{"$f":"THA!AW$5","v":67386},{"$f":"THA!AX$5","v":67565},{"$f":"THA!AY$5","v":67636},{"$f":"THA!AZ$5","v":68080},{"$f":"THA!BA$5","v":68579},{"$f":"THA!BB$5","v":68793},{"$f":"THA!BC$5","v":69403},{"$f":"THA!BD$5","v":69750},{"$f":"THA!BE$5","v":70524},{"$f":"THA!BF$5","v":71122},{"$f":"THA!BG$5","v":72060},{"$f":"THA!BH$5","v":72509},{"$f":"THA!BI$5","v":72832},{"$f":"THA!BJ$5","v":72915},{"$f":"THA!BK$5","v":73094},{"$f":"THA!BL$5","v":72998},{"$f":"THA!BM$5","v":72647},{"$f":"THA!BN$5","v":72971},{"$f":"THA!BO$5","v":72991},{"$f":"THA!BP$5","v":72884},null,{"$f":"INDEX($M44:$AH44,Index!$B$16)","v":67181},{"$f":"INDEX($M44:$AH44,Index!$B$19)","v":72884},5703,8.4890073086140425E-2]
["Tonbridge & Malling",{"$f":"TON!AK$5","v":51563},{"$f":"TON!AL$5","v":51578},{"$f":"TON!AM$5","v":51947},{"$f":"TON!AN$5","v":52572},{"$f":"TON!AO$5","v":52981},{"$f":"TON!AP$5","v":53189},{"$f":"TON!AQ$5","v":53499},{"$f":"TON!AR$5","v":54157},{"$f":"TON!AS$5","v":54543},{"$f":"TON!AT$5","v":55020},{"$f":"TON!AU$5","v":55551},{"$f":"TON!AV$5","v":55942},{"$f":"TON!AW$5","v":56325},{"$f":"TON!AX$5","v":56941},{"$f":"TON!AY$5","v":57849},{"$f":"TON!AZ$5","v":58921},{"$f":"TON!BA$5","v":59740},{"$f":"TON!BB$5","v":60460},{"$f":"TON!BC$5","v":61275},{"$f":"TON!BD$5","v":61769},{"$f":"TON!BE$5","v":62151},{"$f":"TON!BF$5","v":62732},{"$f":"TON!BG$5","v":63608},{"$f":"TON!BH$5","v":64246},{"$f":"TON!BI$5","v":65000},{"$f":"TON!BJ$5","v":65874},{"$f":"TON!BK$5","v":66649},{"$f":"TON!BL$5","v":67389},{"$f":"TON!BM$5","v":67606},{"$f":"TON!BN$5","v":67957},{"$f":"TON!BO$5","v":68738},{"$f":"TON!BP$5","v":69580},null,{"$f":"INDEX($M45:$AH45,Index!$B$16)","v":55942},{"$f":"INDEX($M45:$AH45,Index!$B$19)","v":69580},13638,0.2437882092166887]
["Tunbridge Wells",{"$f":"TUN!AK$5","v":53146},{"$f":"TUN!AL$5","v":52973},{"$f":"TUN!AM$5","v":53390},{"$f":"TUN!AN$5","v":53602},{"$f":"TUN!AO$5","v":53180},{"$f":"TUN!AP$5","v":52796},{"$f":"TUN!AQ$5","v":53300},{"$f":"TUN!AR$5","v":53558},{"$f":"TUN!AS$5","v":53810},{"$f":"TUN!AT$5","v":53999},{"$f":"TUN!AU$5","v":53952},{"$f":"TUN!AV$5","v":53913},{"$f":"TUN!AW$5","v":54202},{"$f":"TUN!AX$5","v":54573},{"$f":"TUN!AY$5","v":55128},{"$f":"TUN!AZ$5","v":55892},{"$f":"TUN!BA$5","v":56973},{"$f":"TUN!BB$5","v":57569},{"$f":"TUN!BC$5","v":58087},{"$f":"TUN!BD$5","v":58683},{"$f":"TUN!BE$5","v":58887},{"$f":"TUN!BF$5","v":58751},{"$f":"TUN!BG$5","v":58695},{"$f":"TUN!BH$5","v":58534},{"$f":"TUN!BI$5","v":58813},{"$f":"TUN!BJ$5","v":59038},{"$f":"TUN!BK$5","v":58960},{"$f":"TUN!BL$5","v":59136},{"$f":"TUN!BM$5","v":59261},{"$f":"TUN!BN$5","v":59539},{"$f":"TUN!BO$5","v":59641},{"$f":"TUN!BP$5","v":59993},null,{"$f":"INDEX($M46:$AH46,Index!$B$16)","v":53913},{"$f":"INDEX($M46:$AH46,Index!$B$19)","v":59993},6080,0.11277428449539072]
["Kent",{"$f":"Kent!AK$5","v":663749},{"$f":"Kent!AL$5","v":663829},{"$f":"Kent!AM$5","v":665662},{"$f":"Kent!AN$5","v":667522},{"$f":"Kent!AO$5","v":669158},{"$f":"Kent!AP$5","v":672076},{"$f":"Kent!AQ$5","v":673554},{"$f":"Kent!AR$5","v":679302},{"$f":"Kent!AS$5","v":683267},{"$f":"Kent!AT$5","v":686406},{"$f":"Kent!AU$5","v":689875},{"$f":"Kent!AV$5","v":694187},{"$f":"Kent!AW$5","v":700254},{"$f":"Kent!AX$5","v":707547},{"$f":"Kent!AY$5","v":713993},{"$f":"Kent!AZ$5","v":722388},{"$f":"Kent!BA$5","v":729651},{"$f":"Kent!BB$5","v":735063},{"$f":"Kent!BC$5","v":742691},{"$f":"Kent!BD$5","v":749232},{"$f":"Kent!BE$5","v":755421},{"$f":"Kent!BF$5","v":761498},{"$f":"Kent!BG$5","v":769863},{"$f":"Kent!BH$5","v":775431},{"$f":"Kent!BI$5","v":782566},{"$f":"Kent!BJ$5","v":788376},{"$f":"Kent!BK$5","v":794254},{"$f":"Kent!BL$5","v":800003},{"$f":"Kent!BM$5","v":803226},{"$f":"Kent!BN$5","v":809190},{"$f":"Kent!BO$5","v":817602},{"$f":"Kent!BP$5","v":826195},null,{"$f":"INDEX($M47:$AH47,Index!$B$16)","v":694187},{"$f":"INDEX($M47:$AH47,Index!$B$19)","v":826195},132008,0.19016201686289141]
["Kent + Medway",{"$f":"'Kent+Med'!AK5","v":786813},{"$f":"'Kent+Med'!AL5","v":786561},{"$f":"'Kent+Med'!AM5","v":788500},{"$f":"'Kent+Med'!AN5","v":790173},{"$f":"'Kent+Med'!AO5","v":791663},{"$f":"'Kent+Med'!AP5","v":795092},{"$f":"'Kent+Med'!AQ5","v":798145},{"$f":"'Kent+Med'!AR5","v":804331},{"$f":"'Kent+Med'!AS5","v":809197},{"$f":"'Kent+Med'!AT5","v":813117},{"$f":"'Kent+Med'!AU5","v":816736},{"$f":"'Kent+Med'!AV5","v":821498},{"$f":"'Kent+Med'!AW5","v":827788},{"$f":"'Kent+Med'!AX5","v":835472},{"$f":"'Kent+Med'!AY5","v":842612},{"$f":"'Kent+Med'!AZ5","v":851952},{"$f":"'Kent+Med'!BA5","v":860228},{"$f":"'Kent+Med'!BB5","v":866491},{"$f":"'Kent+Med'!BC5","v":875090},{"$f":"'Kent+Med'!BD5","v":882749},{"$f":"'Kent+Med'!BE5","v":890897},{"$f":"'Kent+Med'!BF5","v":898504},{"$f":"'Kent+Med'!BG5","v":908437},{"$f":"'Kent+Med'!BH5","v":915088},{"$f":"'Kent+Med'!BI5","v":923127},{"$f":"'Kent+Med'!BJ5","v":929631},{"$f":"'Kent+Med'!BK5","v":935939},{"$f":"'Kent+Med'!BL5","v":942333},{"$f":"'Kent+Med'!BM5","v":945821},{"$f":"'Kent+Med'!BN5","v":951906},{"$f":"'Kent+Med'!BO5","v":961758},{"$f":"'Kent+Med'!BP5","v":972661},null,{"$f":"INDEX($M48:$AH48,Index!$B$16)","v":821498},{"$f":"INDEX($M48:$AH48,Index!$B$19)","v":972661},151163,0.18400896898105656]
["South East Region",{"$f":"'South East'!AK5","v":3928120},{"$f":"'South East'!AL5","v":3937753},{"$f":"'South East'!AM5","v":3957579},{"$f":"'South East'!AN5","v":3982196},{"$f":"'South East'!AO5","v":3998581},{"$f":"'South East'!AP5","v":4024233},{"$f":"'South East'!AQ5","v":4040480},{"$f":"'South East'!AR5","v":4071139},{"$f":"'South East'!AS5","v":4087716},{"$f":"'South East'!AT5","v":4099464},{"$f":"'South East'!AU5","v":4109918},{"$f":"'South East'!AV5","v":4128319},{"$f":"'South East'!AW5","v":4152833},{"$f":"'South East'!AX5","v":4191342},{"$f":"'South East'!AY5","v":4223017},{"$f":"'South East'!AZ5","v":4261271},{"$f":"'South East'!BA5","v":4295852},{"$f":"'South East'!BB5","v":4326946},{"$f":"'South East'!BC5","v":4367112},{"$f":"'South East'!BD5","v":4401362},{"$f":"'South East'!BE5","v":4442026},{"$f":"'South East'!BF5","v":4482246},{"$f":"'South East'!BG5","v":4527740},{"$f":"'South East'!BH5","v":4565006},{"$f":"'South East'!BI5","v":4608051},{"$f":"'South East'!BJ5","v":4637147},{"$f":"'South East'!BK5","v":4664072},{"$f":"'South East'!BL5","v":4689615},{"$f":"'South East'!BM5","v":4708284},{"$f":"'South East'!BN5","v":4747586},{"$f":"'South East'!BO5","v":4793779},{"$f":"'South East'!BP5","v":4843668},null,{"$f":"INDEX($M49:$AH49,Index!$B$16)","v":4128319},{"$f":"INDEX($M49:$AH49,Index!$B$19)","v":4843668},{"$f":"AJ49-AI49","v":715349},{"$f":"IF(AI49<0,0,AK49/AI49)","v":0.17327851844782344}]
["England & Wales",{"$f":"'England & Wales'!AK5","v":26136186},{"$f":"'England & Wales'!AL5","v":26193235},{"$f":"'England & Wales'!AM5","v":26263185},{"$f":"'England & Wales'!AN5","v":26325644},{"$f":"'England & Wales'!AO5","v":26380656},{"$f":"'England & Wales'!AP5","v":26446454},{"$f":"'England & Wales'!AQ5","v":26519404},{"$f":"'England & Wales'!AR5","v":26610030},{"$f":"'England & Wales'!AS5","v":26702135},{"$f":"'England & Wales'!AT5","v":26785720},{"$f":"'England & Wales'!AU5","v":26894025},{"$f":"'England & Wales'!AV5","v":27009129},{"$f":"'England & Wales'!AW5","v":27139907},{"$f":"'England & Wales'!AX5","v":27340945},{"$f":"'England & Wales'!AY5","v":27517504},{"$f":"'England & Wales'!AZ5","v":27718324},{"$f":"'England & Wales'!BA5","v":27927399},{"$f":"'England & Wales'!BB5","v":28113573},{"$f":"'England & Wales'!BC5","v":28319686},{"$f":"'England & Wales'!BD5","v":28533290},{"$f":"'England & Wales'!BE5","v":28752140},{"$f":"'England & Wales'!BF5","v":28973385},{"$f":"'England & Wales'!BG5","v":29211642},{"$f":"'England & Wales'!BH5","v":29430178},{"$f":"'England & Wales'!BI5","v":29690146},{"$f":"'England & Wales'!BJ5","v":29877059},{"$f":"'England & Wales'!BK5","v":30055617},{"$f":"'England & Wales'!BL5","v":30231833},{"$f":"'England & Wales'!BM5","v":30312278},{"$f":"'England & Wales'!BN5","v":30457171},{"$f":"'England & Wales'!BO5","v":30723697},{"$f":"'England & Wales'!BP5","v":31018735},null,{"$f":"INDEX($M50:$AH50,Index!$B$16)","v":27009129},{"$f":"INDEX($M50:$AH50,Index!$B$19)","v":31018735},{"$f":"AJ50-AI50","v":4009606},{"$f":"IF(AI50<0,0,AK50/AI50)","v":0.14845373206962728}]
[]
["Total"]
[null,1992,1993,1994,1995,1996,1997,1998,1999,2000,2001,2002,2003,2004,2005,2006,2007,2008,2009,2010,2011,2012,2013,2014,2015,2016,2017,2018,2019,2020,2021,2022,2023,null,{"$f":"Index!$C$16","v":2003},{"$f":"Index!$C$19","v":2023},"Number change","% change"]
["-"]
["Ashford",{"$f":"ASH!AK$6","v":93092},{"$f":"ASH!AL$6","v":93092},{"$f":"ASH!AM$6","v":93763},{"$f":"ASH!AN$6","v":95066},{"$f":"ASH!AO$6","v":96442},{"$f":"ASH!AP$6","v":97536},{"$f":"ASH!AQ$6","v":97975},{"$f":"ASH!AR$6","v":100072},{"$f":"ASH!AS$6","v":101377},{"$f":"ASH!AT$6","v":103024},{"$f":"ASH!AU$6","v":104377},{"$f":"ASH!AV$6","v":105636},{"$f":"ASH!AW$6","v":107264},{"$f":"ASH!AX$6","v":109409},{"$f":"ASH!AY$6","v":111459},{"$f":"ASH!AZ$6","v":113286},{"$f":"ASH!BA$6","v":114556},{"$f":"ASH!BB$6","v":115694},{"$f":"ASH!BC$6","v":116975},{"$f":"ASH!BD$6","v":118405},{"$f":"ASH!BE$6","v":120191},{"$f":"ASH!BF$6","v":121850},{"$f":"ASH!BG$6","v":123682},{"$f":"ASH!BH$6","v":124580},{"$f":"ASH!BI$6","v":126327},{"$f":"ASH!BJ$6","v":128049},{"$f":"ASH!BK$6","v":129701},{"$f":"ASH!BL$6","v":130466},{"$f":"ASH!BM$6","v":131431},{"$f":"ASH!BN$6","v":133221},{"$f":"ASH!BO$6","v":135741},{"$f":"ASH!BP$6","v":138283},null,{"$f":"INDEX($M55:$AH55,Index!$B$16)","v":105636},{"$f":"INDEX($M55:$AH55,Index!$B$19)","v":138283},{"$f":"AJ55-AI55","v":32647},{"$f":"IF(AI55<0,0,AK55/AI55)","v":0.3090518383884282}]
["Canterbury",{"$f":"CAN!AK$6","v":128843},{"$f":"CAN!AL$6","v":129777},{"$f":"CAN!AM$6","v":130380},{"$f":"CAN!AN$6","v":130689},{"$f":"CAN!AO$6","v":131318},{"$f":"CAN!AP$6","v":132603},{"$f":"CAN!AQ$6","v":132609},{"$f":"CAN!AR$6","v":133662},{"$f":"CAN!AS$6","v":134905},{"$f":"CAN!AT$6","v":135381},{"$f":"CAN!AU$6","v":136483},{"$f":"CAN!AV$6","v":138608},{"$f":"CAN!AW$6","v":140578},{"$f":"CAN!AX$6","v":141918},{"$f":"CAN!AY$6","v":143490},{"$f":"CAN!AZ$6","v":145197},{"$f":"CAN!BA$6","v":146073},{"$f":"CAN!BB$6","v":146396},{"$f":"CAN!BC$6","v":148653},{"$f":"CAN!BD$6","v":150600},{"$f":"CAN!BE$6","v":151710},{"$f":"CAN!BF$6","v":153475},{"$f":"CAN!BG$6","v":155151},{"$f":"CAN!BH$6","v":156143},{"$f":"CAN!BI$6","v":157280},{"$f":"CAN!BJ$6","v":157944},{"$f":"CAN!BK$6","v":157256},{"$f":"CAN!BL$6","v":157109},{"$f":"CAN!BM$6","v":157187},{"$f":"CAN!BN$6","v":156631},{"$f":"CAN!BO$6","v":158282},{"$f":"CAN!BP$6","v":159939},null,{"$f":"INDEX($M56:$AH56,Index!$B$16)","v":138608},{"$f":"INDEX($M56:$AH56,Index!$B$19)","v":159939},{"$f":"AJ56-AI56","v":21331},{"$f":"IF(AI56<0,0,AK56/AI56)","v":0.15389443610758397}]
["Dartford",{"$f":"DAR!AK$6","v":81005},{"$f":"DAR!AL$6","v":81682},{"$f":"DAR!AM$6","v":82443},{"$f":"DAR!AN$6","v":82632},{"$f":"DAR!AO$6","v":82981},{"$f":"DAR!AP$6","v":83712},{"$f":"DAR!AQ$6","v":84619},{"$f":"DAR!AR$6","v":85045},{"$f":"DAR!AS$6","v":85509},{"$f":"DAR!AT$6","v":85956},{"$f":"DAR!AU$6","v":86403},{"$f":"DAR!AV$6","v":87011},{"$f":"DAR!AW$6","v":88277},{"$f":"DAR!AX$6","v":89990},{"$f":"DAR!AY$6","v":91174},{"$f":"DAR!AZ$6","v":92242},{"$f":"DAR!BA$6","v":93946},{"$f":"DAR!BB$6","v":95266},{"$f":"DAR!BC$6","v":96337},{"$f":"DAR!BD$6","v":97604},{"$f":"DAR!BE$6","v":99064},{"$f":"DAR!BF$6","v":100756},{"$f":"DAR!BG$6","v":102765},{"$f":"DAR!BH$6","v":104379},{"$f":"DAR!BI$6","v":105905},{"$f":"DAR!BJ$6","v":108372},{"$f":"DAR!BK$6","v":110818},{"$f":"DAR!BL$6","v":113928},{"$f":"DAR!BM$6","v":115572},{"$f":"DAR!BN$6","v":116819},{"$f":"DAR!BO$6","v":118810},{"$f":"DAR!BP$6","v":120699},null,{"$f":"INDEX($M57:$AH57,Index!$B$16)","v":87011},{"$f":"INDEX($M57:$AH57,Index!$B$19)","v":120699},33688,0.38716943834687567]
["Dover",{"$f":"DOV!AK$6","v":104606},{"$f":"DOV!AL$6","v":104063},{"$f":"DOV!AM$6","v":104375},{"$f":"DOV!AN$6","v":104084},{"$f":"DOV!AO$6","v":103571},{"$f":"DOV!AP$6","v":103351},{"$f":"DOV!AQ$6","v":103686},{"$f":"DOV!AR$6","v":104006},{"$f":"DOV!AS$6","v":104478},{"$f":"DOV!AT$6","v":104646},{"$f":"DOV!AU$6","v":104883},{"$f":"DOV!AV$6","v":105784},{"$f":"DOV!AW$6","v":106878},{"$f":"DOV!AX$6","v":107475},{"$f":"DOV!AY$6","v":107904},{"$f":"DOV!AZ$6","v":109041},{"$f":"DOV!BA$6","v":109848},{"$f":"DOV!BB$6","v":110061},{"$f":"DOV!BC$6","v":111072},{"$f":"DOV!BD$6","v":111718},{"$f":"DOV!BE$6","v":111529},{"$f":"DOV!BF$6","v":111979},{"$f":"DOV!BG$6","v":112541},{"$f":"DOV!BH$6","v":112464},{"$f":"DOV!BI$6","v":113365},{"$f":"DOV!BJ$6","v":114335},{"$f":"DOV!BK$6","v":115148},{"$f":"DOV!BL$6","v":115902},{"$f":"DOV!BM$6","v":116134},{"$f":"DOV!BN$6","v":116549},{"$f":"DOV!BO$6","v":117546},{"$f":"DOV!BP$6","v":118591},null,{"$f":"INDEX($M58:$AH58,Index!$B$16)","v":105784},{"$f":"INDEX($M58:$AH58,Index!$B$19)","v":118591},12807,0.12106745821674356]
["Gravesham",{"$f":"GRA!AK$6","v":93513},{"$f":"GRA!AL$6","v":93366},{"$f":"GRA!AM$6","v":93560},{"$f":"GRA!AN$6","v":93430},{"$f":"GRA!AO$6","v":93025},{"$f":"GRA!AP$6","v":93292},{"$f":"GRA!AQ$6","v":93916},{"$f":"GRA!AR$6","v":94575},{"$f":"GRA!AS$6","v":95160},{"$f":"GRA!AT$6","v":95791},{"$f":"GRA!AU$6","v":95448},{"$f":"GRA!AV$6","v":95569},{"$f":"GRA!AW$6","v":95907},{"$f":"GRA!AX$6","v":96884},{"$f":"GRA!AY$6","v":97574},{"$f":"GRA!AZ$6","v":98496},{"$f":"GRA!BA$6","v":99394},{"$f":"GRA!BB$6","v":100188},{"$f":"GRA!BC$6","v":101076},{"$f":"GRA!BD$6","v":101766},{"$f":"GRA!BE$6","v":103004},{"$f":"GRA!BF$6","v":103837},{"$f":"GRA!BG$6","v":105434},{"$f":"GRA!BH$6","v":106404},{"$f":"GRA!BI$6","v":106823},{"$f":"GRA!BJ$6","v":106543},{"$f":"GRA!BK$6","v":106726},{"$f":"GRA!BL$6","v":107348},{"$f":"GRA!BM$6","v":107146},{"$f":"GRA!BN$6","v":106883},{"$f":"GRA!BO$6","v":106870},{"$f":"GRA!BP$6","v":107737},null,{"$f":"INDEX($M59:$AH59,Index!$B$16)","v":95569},{"$f":"INDEX($M59:$AH59,Index!$B$19)","v":107737},12168,0.12732162102773911]
["Maidstone",{"$f":"MAI!AK$6","v":137211},{"$f":"MAI!AL$6","v":137390},{"$f":"MAI!AM$6","v":136977},{"$f":"MAI!AN$6","v":137387},{"$f":"MAI!AO$6","v":138405},{"$f":"MAI!AP$6","v":138448},{"$f":"MAI!AQ$6","v":138077},{"$f":"MAI!AR$6","v":137941},{"$f":"MAI!AS$6","v":138633},{"$f":"MAI!AT$6","v":139116},{"$f":"MAI!AU$6","v":140338},{"$f":"MAI!AV$6","v":141246},{"$f":"MAI!AW$6","v":142242},{"$f":"MAI!AX$6","v":143353},{"$f":"MAI!AY$6","v":145307},{"$f":"MAI!AZ$6","v":147741},{"$f":"MAI!BA$6","v":149723},{"$f":"MAI!BB$6","v":151594},{"$f":"MAI!BC$6","v":153739},{"$f":"MAI!BD$6","v":155764},{"$f":"MAI!BE$6","v":157457},{"$f":"MAI!BF$6","v":159308},{"$f":"MAI!BG$6","v":161567},{"$f":"MAI!BH$6","v":164112},{"$f":"MAI!BI$6","v":165953},{"$f":"MAI!BJ$6","v":168115},{"$f":"MAI!BK$6","v":169974},{"$f":"MAI!BL$6","v":171816},{"$f":"MAI!BM$6","v":173272},{"$f":"MAI!BN$6","v":176697},{"$f":"MAI!BO$6","v":180569},{"$f":"MAI!BP$6","v":184187},null,{"$f":"INDEX($M60:$AH60,Index!$B$16)","v":141246},{"$f":"INDEX($M60:$AH60,Index!$B$19)","v":184187},42941,0.3040156889398638]
["Medway",{"$f":"MED!AK$6","v":243686},{"$f":"MED!AL$6","v":242616},{"$f":"MED!AM$6","v":242586},{"$f":"MED!AN$6","v":241417},{"$f":"MED!AO$6","v":241287},{"$f":"MED!AP$6","v":242314},{"$f":"MED!AQ$6","v":245341},{"$f":"MED!AR$6","v":246383},{"$f":"MED!AS$6","v":248474},{"$f":"MED!AT$6","v":249704},{"$f":"MED!AU$6","v":250262},{"$f":"MED!AV$6","v":251159},{"$f":"MED!AW$6","v":251459},{"$f":"MED!AX$6","v":252098},{"$f":"MED!AY$6","v":253478},{"$f":"MED!AZ$6","v":255824},{"$f":"MED!BA$6","v":258224},{"$f":"MED!BB$6","v":260230},{"$f":"MED!BC$6","v":262738},{"$f":"MED!BD$6","v":264885},{"$f":"MED!BE$6","v":268144},{"$f":"MED!BF$6","v":271084},{"$f":"MED!BG$6","v":273977},{"$f":"MED!BH$6","v":276037},{"$f":"MED!BI$6","v":277504},{"$f":"MED!BJ$6","v":278652},{"$f":"MED!BK$6","v":278827},{"$f":"MED!BL$6","v":279852},{"$f":"MED!BM$6","v":280364},{"$f":"MED!BN$6","v":279903},{"$f":"MED!BO$6","v":282643},{"$f":"MED!BP$6","v":286800},null,{"$f":"INDEX($M61:$AH61,Index!$B$16)","v":251159},{"$f":"INDEX($M61:$AH61,Index!$B$19)","v":286800},35641,0.14190612321278553]
["Sevenoaks",{"$f":"SEV!AK$6","v":108845},{"$f":"SEV!AL$6","v":108817},{"$f":"SEV!AM$6","v":108938},{"$f":"SEV!AN$6","v":108378},{"$f":"SEV!AO$6","v":108744},{"$f":"SEV!AP$6","v":109414},{"$f":"SEV!AQ$6","v":109141},{"$f":"SEV!AR$6","v":109646},{"$f":"SEV!AS$6","v":109539},{"$f":"SEV!AT$6","v":109242},{"$f":"SEV!AU$6","v":109105},{"$f":"SEV!AV$6","v":109280},{"$f":"SEV!AW$6","v":110045},{"$f":"SEV!AX$6","v":111266},{"$f":"SEV!AY$6","v":112500},{"$f":"SEV!AZ$6","v":113132},{"$f":"SEV!BA$6","v":113298},{"$f":"SEV!BB$6","v":113754},{"$f":"SEV!BC$6","v":114509},{"$f":"SEV!BD$6","v":115351},{"$f":"SEV!BE$6","v":116250},{"$f":"SEV!BF$6","v":116696},{"$f":"SEV!BG$6","v":117376},{"$f":"SEV!BH$6","v":117735},{"$f":"SEV!BI$6","v":118289},{"$f":"SEV!BJ$6","v":118489},{"$f":"SEV!BK$6","v":119165},{"$f":"SEV!BL$6","v":119575},{"$f":"SEV!BM$6","v":120051},{"$f":"SEV!BN$6","v":120823},{"$f":"SEV!BO$6","v":121173},{"$f":"SEV!BP$6","v":121262},null,{"$f":"INDEX($M62:$AH62,Index!$B$16)","v":109280},{"$f":"INDEX($M62:$AH62,Index!$B$19)","v":121262},11982,0.10964494875549048]
["Folkestone & Hythe",{"$f":"'F&H'!AK$6","v":93474},{"$f":"'F&H'!AL$6","v":93401},{"$f":"'F&H'!AM$6","v":94071},{"$f":"'F&H'!AN$6","v":93980},{"$f":"'F&H'!AO$6","v":94973},{"$f":"'F&H'!AP$6","v":94880},{"$f":"'F&H'!AQ$6","v":94810},{"$f":"'F&H'!AR$6","v":95811},{"$f":"'F&H'!AS$6","v":96417},{"$f":"'F&H'!AT$6","v":96345},{"$f":"'F&H'!AU$6","v":97205},{"$f":"'F&H'!AV$6","v":98540},{"$f":"'F&H'!AW$6","v":99949},{"$f":"'F&H'!AX$6","v":101509},{"$f":"'F&H'!AY$6","v":102469},{"$f":"'F&H'!AZ$6","v":103902},{"$f":"'F&H'!BA$6","v":104782},{"$f":"'F&H'!BB$6","v":105716},{"$f":"'F&H'!BC$6","v":106962},{"$f":"'F&H'!BD$6","v":108199},{"$f":"'F&H'!BE$6","v":108185},{"$f":"'F&H'!BF$6","v":107899},{"$f":"'F&H'!BG$6","v":108153},{"$f":"'F&H'!BH$6","v":108327},{"$f":"'F&H'!BI$6","v":109235},{"$f":"'F&H'!BJ$6","v":109095},{"$f":"'F&H'!BK$6","v":109728},{"$f":"'F&H'!BL$6","v":109659},{"$f":"'F&H'!BM$6","v":109587},{"$f":"'F&H'!BN$6","v":110040},{"$f":"'F&H'!BO$6","v":110356},{"$f":"'F&H'!BP$6","v":110995},null,{"$f":"INDEX($M63:$AH63,Index!$B$16)","v":98540},{"$f":"INDEX($M63:$AH63,Index!$B$19)","v":110995},12455,0.1263953724375888]
["Swale",{"$f":"SWA!AK$6","v":116179},{"$f":"SWA!AL$6","v":116669},{"$f":"SWA!AM$6","v":116798},{"$f":"SWA!AN$6","v":117552},{"$f":"SWA!AO$6","v":117337},{"$f":"SWA!AP$6","v":118268},{"$f":"SWA!AQ$6","v":118693},{"$f":"SWA!AR$6","v":120079},{"$f":"SWA!AS$6","v":121638},{"$f":"SWA!AT$6","v":123123},{"$f":"SWA!AU$6","v":124172},{"$f":"SWA!AV$6","v":125348},{"$f":"SWA!AW$6","v":125890},{"$f":"SWA!AX$6","v":126516},{"$f":"SWA!AY$6","v":127568},{"$f":"SWA!AZ$6","v":129721},{"$f":"SWA!BA$6","v":131720},{"$f":"SWA!BB$6","v":133030},{"$f":"SWA!BC$6","v":134980},{"$f":"SWA!BD$6","v":136324},{"$f":"SWA!BE$6","v":137694},{"$f":"SWA!BF$6","v":139135},{"$f":"SWA!BG$6","v":140992},{"$f":"SWA!BH$6","v":142723},{"$f":"SWA!BI$6","v":145184},{"$f":"SWA!BJ$6","v":146846},{"$f":"SWA!BK$6","v":148400},{"$f":"SWA!BL$6","v":149753},{"$f":"SWA!BM$6","v":150584},{"$f":"SWA!BN$6","v":152218},{"$f":"SWA!BO$6","v":154598},{"$f":"SWA!BP$6","v":155893},null,{"$f":"INDEX($M64:$AH64,Index!$B$16)","v":125348},{"$f":"INDEX($M64:$AH64,Index!$B$19)","v":155893},30545,0.24368159045218113]
["Thanet",{"$f":"THA!AK$6","v":125402},{"$f":"THA!AL$6","v":124668},{"$f":"THA!AM$6","v":124380},{"$f":"THA!AN$6","v":124265},{"$f":"THA!AO$6","v":124433},{"$f":"THA!AP$6","v":125370},{"$f":"THA!AQ$6","v":125523},{"$f":"THA!AR$6","v":126476},{"$f":"THA!AS$6","v":126453},{"$f":"THA!AT$6","v":126750},{"$f":"THA!AU$6","v":127675},{"$f":"THA!AV$6","v":128140},{"$f":"THA!AW$6","v":128782},{"$f":"THA!AX$6","v":129301},{"$f":"THA!AY$6","v":129601},{"$f":"THA!AZ$6","v":130637},{"$f":"THA!BA$6","v":131750},{"$f":"THA!BB$6","v":132337},{"$f":"THA!BC$6","v":133508},{"$f":"THA!BD$6","v":134402},{"$f":"THA!BE$6","v":135730},{"$f":"THA!BF$6","v":136916},{"$f":"THA!BG$6","v":138695},{"$f":"THA!BH$6","v":139668},{"$f":"THA!BI$6","v":140373},{"$f":"THA!BJ$6","v":140680},{"$f":"THA!BK$6","v":140848},{"$f":"THA!BL$6","v":140624},{"$f":"THA!BM$6","v":139945},{"$f":"THA!BN$6","v":140658},{"$f":"THA!BO$6","v":140683},{"$f":"THA!BP$6","v":140439},null,{"$f":"INDEX($M65:$AH65,Index!$B$16)","v":128140},{"$f":"INDEX($M65:$AH65,Index!$B$19)","v":140439},12299,9.5980958326830026E-2]
["Tonbridge & Malling",{"$f":"TON!AK$6","v":101706},{"$f":"TON!AL$6","v":101656},{"$f":"TON!AM$6","v":102262},{"$f":"TON!AN$6","v":103498},{"$f":"TON!AO$6","v":104270},{"$f":"TON!AP$6","v":104671},{"$f":"TON!AQ$6","v":105167},{"$f":"TON!AR$6","v":106376},{"$f":"TON!AS$6","v":106884},{"$f":"TON!AT$6","v":107771},{"$f":"TON!AU$6","v":108673},{"$f":"TON!AV$6","v":109494},{"$f":"TON!AW$6","v":110441},{"$f":"TON!AX$6","v":111719},{"$f":"TON!AY$6","v":113536},{"$f":"TON!AZ$6","v":115469},{"$f":"TON!BA$6","v":116967},{"$f":"TON!BB$6","v":118459},{"$f":"TON!BC$6","v":120054},{"$f":"TON!BD$6","v":121087},{"$f":"TON!BE$6","v":122046},{"$f":"TON!BF$6","v":123006},{"$f":"TON!BG$6","v":124603},{"$f":"TON!BH$6","v":125712},{"$f":"TON!BI$6","v":127090},{"$f":"TON!BJ$6","v":128680},{"$f":"TON!BK$6","v":130149},{"$f":"TON!BL$6","v":131502},{"$f":"TON!BM$6","v":131791},{"$f":"TON!BN$6","v":132363},{"$f":"TON!BO$6","v":133664},{"$f":"TON!BP$6","v":135206},null,{"$f":"INDEX($M66:$AH66,Index!$B$16)","v":109494},{"$f":"INDEX($M66:$AH66,Index!$B$19)","v":135206},25712,0.23482565254717153]
["Tunbridge Wells",{"$f":"TUN!AK$6","v":101359},{"$f":"TUN!AL$6","v":101225},{"$f":"TUN!AM$6","v":102152},{"$f":"TUN!AN$6","v":102777},{"$f":"TUN!AO$6","v":102164},{"$f":"TUN!AP$6","v":101560},{"$f":"TUN!AQ$6","v":102507},{"$f":"TUN!AR$6","v":103031},{"$f":"TUN!AS$6","v":103686},{"$f":"TUN!AT$6","v":104049},{"$f":"TUN!AU$6","v":104206},{"$f":"TUN!AV$6","v":104390},{"$f":"TUN!AW$6","v":105131},{"$f":"TUN!AX$6","v":105877},{"$f":"TUN!AY$6","v":107052},{"$f":"TUN!AZ$6","v":108927},{"$f":"TUN!BA$6","v":111251},{"$f":"TUN!BB$6","v":112774},{"$f":"TUN!BC$6","v":114040},{"$f":"TUN!BD$6","v":115246},{"$f":"TUN!BE$6","v":115402},{"$f":"TUN!BF$6","v":115164},{"$f":"TUN!BG$6","v":115228},{"$f":"TUN!BH$6","v":114769},{"$f":"TUN!BI$6","v":115198},{"$f":"TUN!BJ$6","v":115559},{"$f":"TUN!BK$6","v":114940},{"$f":"TUN!BL$6","v":115158},{"$f":"TUN!BM$6","v":115271},{"$f":"TUN!BN$6","v":115650},{"$f":"TUN!BO$6","v":116175},{"$f":"TUN!BP$6","v":117020},null,{"$f":"INDEX($M67:$AH67,Index!$B$16)","v":104390},{"$f":"INDEX($M67:$AH67,Index!$B$19)","v":117020},12630,0.12098860044065524]
["Kent",{"$f":"Kent!AK$6","v":1285235},{"$f":"Kent!AL$6","v":1285806},{"$f":"Kent!AM$6","v":1290099},{"$f":"Kent!AN$6","v":1293738},{"$f":"Kent!AO$6","v":1297663},{"$f":"Kent!AP$6","v":1303105},{"$f":"Kent!AQ$6","v":1306723},{"$f":"Kent!AR$6","v":1316720},{"$f":"Kent!AS$6","v":1324679},{"$f":"Kent!AT$6","v":1331194},{"$f":"Kent!AU$6","v":1338968},{"$f":"Kent!AV$6","v":1349046},{"$f":"Kent!AW$6","v":1361384},{"$f":"Kent!AX$6","v":1375217},{"$f":"Kent!AY$6","v":1389634},{"$f":"Kent!AZ$6","v":1407791},{"$f":"Kent!BA$6","v":1423308},{"$f":"Kent!BB$6","v":1435269},{"$f":"Kent!BC$6","v":1451905},{"$f":"Kent!BD$6","v":1466466},{"$f":"Kent!BE$6","v":1478262},{"$f":"Kent!BF$6","v":1490021},{"$f":"Kent!BG$6","v":1506187},{"$f":"Kent!BH$6","v":1517016},{"$f":"Kent!BI$6","v":1531022},{"$f":"Kent!BJ$6","v":1542707},{"$f":"Kent!BK$6","v":1552853},{"$f":"Kent!BL$6","v":1562840},{"$f":"Kent!BM$6","v":1567971},{"$f":"Kent!BN$6","v":1578552},{"$f":"Kent!BO$6","v":1594467},{"$f":"Kent!BP$6","v":1610251},null,{"$f":"INDEX($M68:$AH68,Index!$B$16)","v":1349046},{"$f":"INDEX($M68:$AH68,Index!$B$19)","v":1610251},261205,0.19362201140657917]
["Kent + Medway",{"$f":"'Kent+Med'!AK6","v":1528921},{"$f":"'Kent+Med'!AL6","v":1528422},{"$f":"'Kent+Med'!AM6","v":1532685},{"$f":"'Kent+Med'!AN6","v":1535155},{"$f":"'Kent+Med'!AO6","v":1538950},{"$f":"'Kent+Med'!AP6","v":1545419},{"$f":"'Kent+Med'!AQ6","v":1552064},{"$f":"'Kent+Med'!AR6","v":1563103},{"$f":"'Kent+Med'!AS6","v":1573153},{"$f":"'Kent+Med'!AT6","v":1580898},{"$f":"'Kent+Med'!AU6","v":1589230},{"$f":"'Kent+Med'!AV6","v":1600205},{"$f":"'Kent+Med'!AW6","v":1612843},{"$f":"'Kent+Med'!AX6","v":1627315},{"$f":"'Kent+Med'!AY6","v":1643112},{"$f":"'Kent+Med'!AZ6","v":1663615},{"$f":"'Kent+Med'!BA6","v":1681532},{"$f":"'Kent+Med'!BB6","v":1695499},{"$f":"'Kent+Med'!BC6","v":1714643},{"$f":"'Kent+Med'!BD6","v":1731351},{"$f":"'Kent+Med'!BE6","v":1746406},{"$f":"'Kent+Med'!BF6","v":1761105},{"$f":"'Kent+Med'!BG6","v":1780164},{"$f":"'Kent+Med'!BH6","v":1793053},{"$f":"'Kent+Med'!BI6","v":1808526},{"$f":"'Kent+Med'!BJ6","v":1821359},{"$f":"'Kent+Med'!BK6","v":1831680},{"$f":"'Kent+Med'!BL6","v":1842692},{"$f":"'Kent+Med'!BM6","v":1848335},{"$f":"'Kent+Med'!BN6","v":1858455},{"$f":"'Kent+Med'!BO6","v":1877110},{"$f":"'Kent+Med'!BP6","v":1897051},null,{"$f":"INDEX($M69:$AH69,Index!$B$16)","v":1600205},{"$f":"INDEX($M69:$AH69,Index!$B$19)","v":1897051},296846,0.18550498217415892]
["South East Region",{"$f":"'South East'!AK6","v":7656594},{"$f":"'South East'!AL6","v":7673172},{"$f":"'South East'!AM6","v":7711594},{"$f":"'South East'!AN6","v":7762978},{"$f":"'South East'!AO6","v":7800406},{"$f":"'South East'!AP6","v":7853102},{"$f":"'South East'!AQ6","v":7888838},{"$f":"'South East'!AR6","v":7955124},{"$f":"'South East'!AS6","v":7990598},{"$f":"'South East'!AT6","v":8023449},{"$f":"'South East'!AU6","v":8045192},{"$f":"'South East'!AV6","v":8087924},{"$f":"'South East'!AW6","v":8133100},{"$f":"'South East'!AX6","v":8202896},{"$f":"'South East'!AY6","v":8270861},{"$f":"'South East'!AZ6","v":8351391},{"$f":"'South East'!BA6","v":8426399},{"$f":"'South East'!BB6","v":8490922},{"$f":"'South East'!BC6","v":8577771},{"$f":"'South East'!BD6","v":8652784},{"$f":"'South East'!BE6","v":8731840},{"$f":"'South East'!BF6","v":8809382},{"$f":"'South East'!BG6","v":8893930},{"$f":"'South East'!BH6","v":8969638},{"$f":"'South East'!BI6","v":9053011},{"$f":"'South East'!BJ6","v":9105076},{"$f":"'South East'!BK6","v":9150245},{"$f":"'South East'!BL6","v":9193770},{"$f":"'South East'!BM6","v":9225273},{"$f":"'South East'!BN6","v":9295829},{"$f":"'South East'!BO6","v":9387286},{"$f":"'South East'!BP6","v":9482507},null,{"$f":"INDEX($M70:$AH70,Index!$B$16)","v":8087924},{"$f":"INDEX($M70:$AH70,Index!$B$19)","v":9482507},{"$f":"AJ70-AI70","v":1394583},{"$f":"IF(AI70<0,0,AK70/AI70)","v":0.17242780718513182}]
["England & Wales",{"$f":"'England & Wales'!AK6","v":50875647},{"$f":"'England & Wales'!AL6","v":50985877},{"$f":"'England & Wales'!AM6","v":51116228},{"$f":"'England & Wales'!AN6","v":51271978},{"$f":"'England & Wales'!AO6","v":51410433},{"$f":"'England & Wales'!AP6","v":51559648},{"$f":"'England & Wales'!AQ6","v":51720104},{"$f":"'England & Wales'!AR6","v":51933471},{"$f":"'England & Wales'!AS6","v":52140181},{"$f":"'England & Wales'!AT6","v":52359978},{"$f":"'England & Wales'!AU6","v":52602143},{"$f":"'England & Wales'!AV6","v":52863238},{"$f":"'England & Wales'!AW6","v":53152022},{"$f":"'England & Wales'!AX6","v":53575343},{"$f":"'England & Wales'!AY6","v":53950854},{"$f":"'England & Wales'!AZ6","v":54387392},{"$f":"'England & Wales'!BA6","v":54841720},{"$f":"'England & Wales'!BB6","v":55235253},{"$f":"'England & Wales'!BC6","v":55692423},{"$f":"'England & Wales'!BD6","v":56170927},{"$f":"'England & Wales'!BE6","v":56577740},{"$f":"'England & Wales'!BF6","v":56989744},{"$f":"'England & Wales'!BG6","v":57444107},{"$f":"'England & Wales'!BH6","v":57881415},{"$f":"'England & Wales'!BI6","v":58366199},{"$f":"'England & Wales'!BJ6","v":58700914},{"$f":"'England & Wales'!BK6","v":59008368},{"$f":"'England & Wales'!BL6","v":59317788},{"$f":"'England & Wales'!BM6","v":59430444},{"$f":"'England & Wales'!BN6","v":59660524},{"$f":"'England & Wales'!BO6","v":60245218},{"$f":"'England & Wales'!BP6","v":60854727},null,{"$f":"INDEX($M71:$AH71,Index!$B$16)","v":52863238},{"$f":"INDEX($M71:$AH71,Index!$B$19)","v":60854727},{"$f":"AJ71-AI71","v":7991489},{"$f":"IF(AI71<0,0,AK71/AI71)","v":0.15117290015416762}]
[]
[]
[]
["Population by 5 year"]
[{"$f":"INDEX(Index!D30:D54,'Population Pyramid'!L1)","v":2012},null,"-","Ashford","Canterbury","Dartford","Dover","Gravesham","Maidstone","Medway","Sevenoaks","Folketone & Hythe","Swale","Thanet","Tonbridge & Malling","Tunbridge Wells","Kent","Kent + Medway","South East Region","England & Wales"]
["Males","All Ages","-",{"$f":"ASH!$DB$15","v":63913},{"$f":"CAN!$DB$15","v":75471},{"$f":"DAR!$DB$15","v":56635},{"$f":"DOV!$DB$15","v":56678},{"$f":"GRA!$DB$15","v":52415},{"$f":"MAI!$DB$15","v":85724},{"$f":"MED!$DB$15","v":137769},{"$f":"SEV!$DB$15","v":57957},{"$f":"'F&H'!$DB$15","v":53548},{"$f":"SWA!$DB$15","v":74911},{"$f":"THA!$DB$15","v":67298},{"$f":"TON!$DB$15","v":64185},{"$f":"TUN!$DB$15","v":56010},{"$f":"Kent!$DB$15","v":764745},{"$f":"'Kent+Med'!$DB$15","v":902514},{"$f":"'South East'!$DB$15","v":4516989},{"$f":"'England & Wales'!$DB$15","v":29118166}]
["Males","0-4","-",{"$f":"ASH!$DB$16","v":3887},{"$f":"CAN!$DB$16","v":3497},{"$f":"DAR!$DB$16","v":4343},{"$f":"DOV!$DB$16","v":2960},{"$f":"GRA!$DB$16","v":3428},{"$f":"MAI!$DB$16","v":5291},{"$f":"MED!$DB$16","v":8948},{"$f":"SEV!$DB$16","v":3379},{"$f":"'F&H'!$DB$16","v":2672},{"$f":"SWA!$DB$16","v":4610},{"$f":"THA!$DB$16","v":3924},{"$f":"TON!$DB$16","v":3944},{"$f":"TUN!$DB$16","v":3135},{"$f":"Kent!$DB$16","v":45070},{"$f":"'Kent+Med'!$DB$16","v":54018},{"$f":"'South East'!$DB$16","v":255976},{"$f":"'England & Wales'!$DB$16","v":1691467}]
["Males","5-9","-",{"$f":"ASH!$DB$17","v":4244},{"$f":"CAN!$DB$17","v":3979},{"$f":"DAR!$DB$17","v":4219},{"$f":"DOV!$DB$17","v":3351},{"$f":"GRA!$DB$17","v":3653},{"$f":"MAI!$DB$17","v":5631},{"$f":"MED!$DB$17","v":9406},{"$f":"SEV!$DB$17","v":3940},{"$f":"'F&H'!$DB$17","v":3006},{"$f":"SWA!$DB$17","v":4889},{"$f":"THA!$DB$17","v":4138},{"$f":"TON!$DB$17","v":4384},{"$f":"TUN!$DB$17","v":3657},{"$f":"Kent!$DB$17","v":49091},{"$f":"'Kent+Med'!$DB$17","v":58497},{"$f":"'South East'!$DB$17","v":285029},{"$f":"'England & Wales'!$DB$17","v":1820871}]
["Males","10-14","-",{"$f":"ASH!$DB$18","v":4224},{"$f":"CAN!$DB$18","v":4333},{"$f":"DAR!$DB$18","v":3959},{"$f":"DOV!$DB$18","v":3380},{"$f":"GRA!$DB$18","v":3575},{"$f":"MAI!$DB$18","v":5236},{"$f":"MED!$DB$18","v":9116},{"$f":"SEV!$DB$18","v":4117},{"$f":"'F&H'!$DB$18","v":3115},{"$f":"SWA!$DB$18","v":4850},{"$f":"THA!$DB$18","v":4230},{"$f":"TON!$DB$18","v":4467},{"$f":"TUN!$DB$18","v":4075},{"$f":"Kent!$DB$18","v":49561},{"$f":"'Kent+Med'!$DB$18","v":58677},{"$f":"'South East'!$DB$18","v":286970},{"$f":"'England & Wales'!$DB$18","v":1815246}]
["Males","15-19","-",{"$f":"ASH!$DB$19","v":3874},{"$f":"CAN!$DB$19","v":5668},{"$f":"DAR!$DB$19","v":3208},{"$f":"DOV!$DB$19","v":3118},{"$f":"GRA!$DB$19","v":3185},{"$f":"MAI!$DB$19","v":4609},{"$f":"MED!$DB$19","v":8316},{"$f":"SEV!$DB$19","v":3325},{"$f":"'F&H'!$DB$19","v":2803},{"$f":"SWA!$DB$19","v":4180},{"$f":"THA!$DB$19","v":3884},{"$f":"TON!$DB$19","v":4062},{"$f":"TUN!$DB$19","v":3393},{"$f":"Kent!$DB$19","v":45309},{"$f":"'Kent+Med'!$DB$19","v":53625},{"$f":"'South East'!$DB$19","v":268377},{"$f":"'England & Wales'!$DB$19","v":1712672}]
["Males","20-24","-",{"$f":"ASH!$DB$20","v":3212},{"$f":"CAN!$DB$20","v":8120},{"$f":"DAR!$DB$20","v":2791},{"$f":"DOV!$DB$20","v":2829},{"$f":"GRA!$DB$20","v":2835},{"$f":"MAI!$DB$20","v":4515},{"$f":"MED!$DB$20","v":8432},{"$f":"SEV!$DB$20","v":2449},{"$f":"'F&H'!$DB$20","v":2757},{"$f":"SWA!$DB$20","v":4127},{"$f":"THA!$DB$20","v":3333},{"$f":"TON!$DB$20","v":2939},{"$f":"TUN!$DB$20","v":2396},{"$f":"Kent!$DB$20","v":42303},{"$f":"'Kent+Med'!$DB$20","v":50735},{"$f":"'South East'!$DB$20","v":264748},{"$f":"'England & Wales'!$DB$20","v":1820769}]
["Males","25-29","-",{"$f":"ASH!$DB$21","v":3801},{"$f":"CAN!$DB$21","v":4534},{"$f":"DAR!$DB$21","v":3629},{"$f":"DOV!$DB$21","v":3147},{"$f":"GRA!$DB$21","v":3258},{"$f":"MAI!$DB$21","v":5529},{"$f":"MED!$DB$21","v":9045},{"$f":"SEV!$DB$21","v":2707},{"$f":"'F&H'!$DB$21","v":2994},{"$f":"SWA!$DB$21","v":4787},{"$f":"THA!$DB$21","v":3727},{"$f":"TON!$DB$21","v":3325},{"$f":"TUN!$DB$21","v":2978},{"$f":"Kent!$DB$21","v":44416},{"$f":"'Kent+Med'!$DB$21","v":53461},{"$f":"'South East'!$DB$21","v":270063},{"$f":"'England & Wales'!$DB$21","v":1920382}]
["Males","30-34","-",{"$f":"ASH!$DB$22","v":3996},{"$f":"CAN!$DB$22","v":4054},{"$f":"DAR!$DB$22","v":4512},{"$f":"DOV!$DB$22","v":3324},{"$f":"GRA!$DB$22","v":3572},{"$f":"MAI!$DB$22","v":5849},{"$f":"MED!$DB$22","v":9783},{"$f":"SEV!$DB$22","v":3084},{"$f":"'F&H'!$DB$22","v":2901},{"$f":"SWA!$DB$22","v":5065},{"$f":"THA!$DB$22","v":3814},{"$f":"TON!$DB$22","v":3701},{"$f":"TUN!$DB$22","v":3226},{"$f":"Kent!$DB$22","v":47098},{"$f":"'Kent+Med'!$DB$22","v":56881},{"$f":"'South East'!$DB$22","v":285287},{"$f":"'England & Wales'!$DB$22","v":1986509}]
["Males","35-39","-",{"$f":"ASH!$DB$23","v":3813},{"$f":"CAN!$DB$23","v":3984},{"$f":"DAR!$DB$23","v":4562},{"$f":"DOV!$DB$23","v":3182},{"$f":"GRA!$DB$23","v":3530},{"$f":"MAI!$DB$23","v":5763},{"$f":"MED!$DB$23","v":9375},{"$f":"SEV!$DB$23","v":3372},{"$f":"'F&H'!$DB$23","v":2835},{"$f":"SWA!$DB$23","v":4855},{"$f":"THA!$DB$23","v":3817},{"$f":"TON!$DB$23","v":3843},{"$f":"TUN!$DB$23","v":3504},{"$f":"Kent!$DB$23","v":47060},{"$f":"'Kent+Med'!$DB$23","v":56435},{"$f":"'South East'!$DB$23","v":291802},{"$f":"'England & Wales'!$DB$23","v":1937634}]
["Males","40-44","-",{"$f":"ASH!$DB$24","v":3905},{"$f":"CAN!$DB$24","v":3834},{"$f":"DAR!$DB$24","v":4238},{"$f":"DOV!$DB$24","v":3027},{"$f":"GRA!$DB$24","v":3362},{"$f":"MAI!$DB$24","v":5386},{"$f":"MED!$DB$24","v":8768},{"$f":"SEV!$DB$24","v":3735},{"$f":"'F&H'!$DB$24","v":2870},{"$f":"SWA!$DB$24","v":4518},{"$f":"THA!$DB$24","v":3766},{"$f":"TON!$DB$24","v":4036},{"$f":"TUN!$DB$24","v":3715},{"$f":"Kent!$DB$24","v":46392},{"$f":"'Kent+Med'!$DB$24","v":55160},{"$f":"'South East'!$DB$24","v":289739},{"$f":"'England & Wales'!$DB$24","v":1819918}]
["Males","45-49","-",{"$f":"ASH!$DB$25","v":4153},{"$f":"CAN!$DB$25","v":4363},{"$f":"DAR!$DB$25","v":3924},{"$f":"DOV!$DB$25","v":3344},{"$f":"GRA!$DB$25","v":3511},{"$f":"MAI!$DB$25","v":5791},{"$f":"MED!$DB$25","v":9048},{"$f":"SEV!$DB$25","v":4080},{"$f":"'F&H'!$DB$25","v":3370},{"$f":"SWA!$DB$25","v":4686},{"$f":"THA!$DB$25","v":4160},{"$f":"TON!$DB$25","v":4735},{"$f":"TUN!$DB$25","v":4204},{"$f":"Kent!$DB$25","v":50321},{"$f":"'Kent+Med'!$DB$25","v":59369},{"$f":"'South East'!$DB$25","v":307642},{"$f":"'England & Wales'!$DB$25","v":1910779}]
["Males","50-54","-",{"$f":"ASH!$DB$26","v":4876},{"$f":"CAN!$DB$26","v":4705},{"$f":"DAR!$DB$26","v":3815},{"$f":"DOV!$DB$26","v":3950},{"$f":"GRA!$DB$26","v":3717},{"$f":"MAI!$DB$26","v":6293},{"$f":"MED!$DB$26","v":9654},{"$f":"SEV!$DB$26","v":4261},{"$f":"'F&H'!$DB$26","v":4006},{"$f":"SWA!$DB$26","v":5282},{"$f":"THA!$DB$26","v":4530},{"$f":"TON!$DB$26","v":4876},{"$f":"TUN!$DB$26","v":4468},{"$f":"Kent!$DB$26","v":54779},{"$f":"'Kent+Med'!$DB$26","v":64433},{"$f":"'South East'!$DB$26","v":323062},{"$f":"'England & Wales'!$DB$26","v":2028917}]
["Males","55-59","-",{"$f":"ASH!$DB$27","v":4547},{"$f":"CAN!$DB$27","v":4810},{"$f":"DAR!$DB$27","v":3440},{"$f":"DOV!$DB$27","v":4263},{"$f":"GRA!$DB$27","v":3515},{"$f":"MAI!$DB$27","v":5806},{"$f":"MED!$DB$27","v":9155},{"$f":"SEV!$DB$27","v":4285},{"$f":"'F&H'!$DB$27","v":4059},{"$f":"SWA!$DB$27","v":5270},{"$f":"THA!$DB$27","v":4795},{"$f":"TON!$DB$27","v":4583},{"$f":"TUN!$DB$27","v":3991},{"$f":"Kent!$DB$27","v":53364},{"$f":"'Kent+Med'!$DB$27","v":62519},{"$f":"'South East'!$DB$27","v":312486},{"$f":"'England & Wales'!$DB$27","v":1958332}]
["Males","60-64","-",{"$f":"ASH!$DB$28","v":3570},{"$f":"CAN!$DB$28","v":4284},{"$f":"DAR!$DB$28","v":2745},{"$f":"DOV!$DB$28","v":3894},{"$f":"GRA!$DB$28","v":2908},{"$f":"MAI!$DB$28","v":4768},{"$f":"MED!$DB$28","v":7566},{"$f":"SEV!$DB$28","v":3477},{"$f":"'F&H'!$DB$28","v":3511},{"$f":"SWA!$DB$28","v":4375},{"$f":"THA!$DB$28","v":4239},{"$f":"TON!$DB$28","v":3707},{"$f":"TUN!$DB$28","v":3219},{"$f":"Kent!$DB$28","v":44697},{"$f":"'Kent+Med'!$DB$28","v":52263},{"$f":"'South East'!$DB$28","v":261335},{"$f":"'England & Wales'!$DB$28","v":1662209}]
["Males","65-69","-",{"$f":"ASH!$DB$29","v":3154},{"$f":"CAN!$DB$29","v":4033},{"$f":"DAR!$DB$29","v":2127},{"$f":"DOV!$DB$29","v":3571},{"$f":"GRA!$DB$29","v":2326},{"$f":"MAI!$DB$29","v":4033},{"$f":"MED!$DB$29","v":6321},{"$f":"SEV!$DB$29","v":3104},{"$f":"'F&H'!$DB$29","v":3338},{"$f":"SWA!$DB$29","v":3788},{"$f":"THA!$DB$29","v":4042},{"$f":"TON!$DB$29","v":3127},{"$f":"TUN!$DB$29","v":2616},{"$f":"Kent!$DB$29","v":39259},{"$f":"'Kent+Med'!$DB$29","v":45580},{"$f":"'South East'!$DB$29","v":221497},{"$f":"'England & Wales'!$DB$29","v":1422322}]
["Males","70-74","-",{"$f":"ASH!$DB$30","v":3403},{"$f":"CAN!$DB$30","v":4449},{"$f":"DAR!$DB$30","v":1985},{"$f":"DOV!$DB$30","v":3757},{"$f":"GRA!$DB$30","v":2283},{"$f":"MAI!$DB$30","v":4467},{"$f":"MED!$DB$30","v":6214},{"$f":"SEV!$DB$30","v":3301},{"$f":"'F&H'!$DB$30","v":3800},{"$f":"SWA!$DB$30","v":3964},{"$f":"THA!$DB$30","v":4385},{"$f":"TON!$DB$30","v":3239},{"$f":"TUN!$DB$30","v":2824},{"$f":"Kent!$DB$30","v":41857},{"$f":"'Kent+Med'!$DB$30","v":48071},{"$f":"'South East'!$DB$30","v":227756},{"$f":"'England & Wales'!$DB$30","v":1413470}]
["Males","75-79","-",{"$f":"ASH!$DB$31","v":2461},{"$f":"CAN!$DB$31","v":2992},{"$f":"DAR!$DB$31","v":1345},{"$f":"DOV!$DB$31","v":2628},{"$f":"GRA!$DB$31","v":1638},{"$f":"MAI!$DB$31","v":3071},{"$f":"MED!$DB$31","v":4083},{"$f":"SEV!$DB$31","v":2329},{"$f":"'F&H'!$DB$31","v":2550},{"$f":"SWA!$DB$31","v":2711},{"$f":"THA!$DB$31","v":3019},{"$f":"TON!$DB$31","v":2283},{"$f":"TUN!$DB$31","v":1987},{"$f":"Kent!$DB$31","v":29014},{"$f":"'Kent+Med'!$DB$31","v":33097},{"$f":"'South East'!$DB$31","v":160671},{"$f":"'England & Wales'!$DB$31","v":985708}]
["Males","80-84","-",{"$f":"ASH!$DB$32","v":1589},{"$f":"CAN!$DB$32","v":2140},{"$f":"DAR!$DB$32","v":956},{"$f":"DOV!$DB$32","v":1691},{"$f":"GRA!$DB$32","v":1146},{"$f":"MAI!$DB$32","v":2066},{"$f":"MED!$DB$32","v":2659},{"$f":"SEV!$DB$32","v":1588},{"$f":"'F&H'!$DB$32","v":1647},{"$f":"SWA!$DB$32","v":1737},{"$f":"THA!$DB$32","v":1953},{"$f":"TON!$DB$32","v":1645},{"$f":"TUN!$DB$32","v":1374},{"$f":"Kent!$DB$32","v":19532},{"$f":"'Kent+Med'!$DB$32","v":22191},{"$f":"'South East'!$DB$32","v":110391},{"$f":"'England & Wales'!$DB$32","v":670607}]
["Males","85+","-",{"$f":"ASH!$DB$33","v":1204},{"$f":"CAN!$DB$33","v":1692},{"$f":"DAR!$DB$33","v":837},{"$f":"DOV!$DB$33","v":1262},{"$f":"GRA!$DB$33","v":973},{"$f":"MAI!$DB$33","v":1620},{"$f":"MED!$DB$33","v":1880},{"$f":"SEV!$DB$33","v":1424},{"$f":"'F&H'!$DB$33","v":1314},{"$f":"SWA!$DB$33","v":1217},{"$f":"THA!$DB$33","v":1542},{"$f":"TON!$DB$33","v":1289},{"$f":"TUN!$DB$33","v":1248},{"$f":"Kent!$DB$33","v":15622},{"$f":"'Kent+Med'!$DB$33","v":17502},{"$f":"'South East'!$DB$33","v":94158},{"$f":"'England & Wales'!$DB$33","v":540354}]
[]
["Females","All Ages","-",{"$f":"ASH!$DB$35","v":67518},{"$f":"CAN!$DB$35","v":81716},{"$f":"DAR!$DB$35","v":58937},{"$f":"DOV!$DB$35","v":59456},{"$f":"GRA!$DB$35","v":54731},{"$f":"MAI!$DB$35","v":87548},{"$f":"MED!$DB$35","v":142595},{"$f":"SEV!$DB$35","v":62094},{"$f":"'F&H'!$DB$35","v":56039},{"$f":"SWA!$DB$35","v":75673},{"$f":"THA!$DB$35","v":72647},{"$f":"TON!$DB$35","v":67606},{"$f":"TUN!$DB$35","v":59261},{"$f":"Kent!$DB$35","v":803226},{"$f":"'Kent+Med'!$DB$35","v":945821},{"$f":"'South East'!$DB$35","v":4708284},{"$f":"'England & Wales'!$DB$35","v":30312278}]
["Females","0-4","-",{"$f":"ASH!$DB$36","v":3718},{"$f":"CAN!$DB$36","v":3291},{"$f":"DAR!$DB$36","v":4007},{"$f":"DOV!$DB$36","v":2778},{"$f":"GRA!$DB$36","v":3268},{"$f":"MAI!$DB$36","v":4949},{"$f":"MED!$DB$36","v":8658},{"$f":"SEV!$DB$36","v":3269},{"$f":"'F&H'!$DB$36","v":2518},{"$f":"SWA!$DB$36","v":4341},{"$f":"THA!$DB$36","v":3526},{"$f":"TON!$DB$36","v":3774},{"$f":"TUN!$DB$36","v":2962},{"$f":"Kent!$DB$36","v":42401},{"$f":"'Kent+Med'!$DB$36","v":51059},{"$f":"'South East'!$DB$36","v":243084},{"$f":"'England & Wales'!$DB$36","v":1608682}]
["Females","5-9","-",{"$f":"ASH!$DB$37","v":4066},{"$f":"CAN!$DB$37","v":3754},{"$f":"DAR!$DB$37","v":4055},{"$f":"DOV!$DB$37","v":3152},{"$f":"GRA!$DB$37","v":3552},{"$f":"MAI!$DB$37","v":5128},{"$f":"MED!$DB$37","v":8911},{"$f":"SEV!$DB$37","v":3804},{"$f":"'F&H'!$DB$37","v":2858},{"$f":"SWA!$DB$37","v":4565},{"$f":"THA!$DB$37","v":3871},{"$f":"TON!$DB$37","v":4111},{"$f":"TUN!$DB$37","v":3432},{"$f":"Kent!$DB$37","v":46348},{"$f":"'Kent+Med'!$DB$37","v":55259},{"$f":"'South East'!$DB$37","v":269883},{"$f":"'England & Wales'!$DB$37","v":1733414}]
["Females","10-14","-",{"$f":"ASH!$DB$38","v":4114},{"$f":"CAN!$DB$38","v":3956},{"$f":"DAR!$DB$38","v":3776},{"$f":"DOV!$DB$38","v":3265},{"$f":"GRA!$DB$38","v":3572},{"$f":"MAI!$DB$38","v":4915},{"$f":"MED!$DB$38","v":8624},{"$f":"SEV!$DB$38","v":3905},{"$f":"'F&H'!$DB$38","v":2974},{"$f":"SWA!$DB$38","v":4563},{"$f":"THA!$DB$38","v":3989},{"$f":"TON!$DB$38","v":4200},{"$f":"TUN!$DB$38","v":3899},{"$f":"Kent!$DB$38","v":47128},{"$f":"'Kent+Med'!$DB$38","v":55752},{"$f":"'South East'!$DB$38","v":272338},{"$f":"'England & Wales'!$DB$38","v":1727101}]
["Females","15-19","-",{"$f":"ASH!$DB$39","v":3605},{"$f":"CAN!$DB$39","v":5850},{"$f":"DAR!$DB$39","v":2954},{"$f":"DOV!$DB$39","v":2962},{"$f":"GRA!$DB$39","v":2915},{"$f":"MAI!$DB$39","v":4368},{"$f":"MED!$DB$39","v":7907},{"$f":"SEV!$DB$39","v":3307},{"$f":"'F&H'!$DB$39","v":2518},{"$f":"SWA!$DB$39","v":3940},{"$f":"THA!$DB$39","v":3386},{"$f":"TON!$DB$39","v":3617},{"$f":"TUN!$DB$39","v":3478},{"$f":"Kent!$DB$39","v":42900},{"$f":"'Kent+Med'!$DB$39","v":50807},{"$f":"'South East'!$DB$39","v":252592},{"$f":"'England & Wales'!$DB$39","v":1629615}]
["Females","20-24","-",{"$f":"ASH!$DB$40","v":3219},{"$f":"CAN!$DB$40","v":9018},{"$f":"DAR!$DB$40","v":2884},{"$f":"DOV!$DB$40","v":2642},{"$f":"GRA!$DB$40","v":2739},{"$f":"MAI!$DB$40","v":4316},{"$f":"MED!$DB$40","v":8037},{"$f":"SEV!$DB$40","v":2431},{"$f":"'F&H'!$DB$40","v":2509},{"$f":"SWA!$DB$40","v":3875},{"$f":"THA!$DB$40","v":3391},{"$f":"TON!$DB$40","v":2966},{"$f":"TUN!$DB$40","v":2439},{"$f":"Kent!$DB$40","v":42429},{"$f":"'Kent+Med'!$DB$40","v":50466},{"$f":"'South East'!$DB$40","v":257106},{"$f":"'England & Wales'!$DB$40","v":1807953}]
["Females","25-29","-",{"$f":"ASH!$DB$41","v":4135},{"$f":"CAN!$DB$41","v":4402},{"$f":"DAR!$DB$41","v":4167},{"$f":"DOV!$DB$41","v":3438},{"$f":"GRA!$DB$41","v":3484},{"$f":"MAI!$DB$41","v":5455},{"$f":"MED!$DB$41","v":9917},{"$f":"SEV!$DB$41","v":2948},{"$f":"'F&H'!$DB$41","v":2923},{"$f":"SWA!$DB$41","v":4678},{"$f":"THA!$DB$41","v":4185},{"$f":"TON!$DB$41","v":3750},{"$f":"TUN!$DB$41","v":3084},{"$f":"Kent!$DB$41","v":46649},{"$f":"'Kent+Med'!$DB$41","v":56566},{"$f":"'South East'!$DB$41","v":277460},{"$f":"'England & Wales'!$DB$41","v":2009848}]
["Females","30-34","-",{"$f":"ASH!$DB$42","v":4579},{"$f":"CAN!$DB$42","v":4243},{"$f":"DAR!$DB$42","v":5267},{"$f":"DOV!$DB$42","v":3458},{"$f":"GRA!$DB$42","v":3947},{"$f":"MAI!$DB$42","v":6059},{"$f":"MED!$DB$42","v":10508},{"$f":"SEV!$DB$42","v":3450},{"$f":"'F&H'!$DB$42","v":3159},{"$f":"SWA!$DB$42","v":5093},{"$f":"THA!$DB$42","v":4432},{"$f":"TON!$DB$42","v":4069},{"$f":"TUN!$DB$42","v":3460},{"$f":"Kent!$DB$42","v":51216},{"$f":"'Kent+Med'!$DB$42","v":61724},{"$f":"'South East'!$DB$42","v":304853},{"$f":"'England & Wales'!$DB$42","v":2121377}]
["Females","35-39","-",{"$f":"ASH!$DB$43","v":4228},{"$f":"CAN!$DB$43","v":4297},{"$f":"DAR!$DB$43","v":4994},{"$f":"DOV!$DB$43","v":3308},{"$f":"GRA!$DB$43","v":3917},{"$f":"MAI!$DB$43","v":5939},{"$f":"MED!$DB$43","v":9880},{"$f":"SEV!$DB$43","v":3881},{"$f":"'F&H'!$DB$43","v":3096},{"$f":"SWA!$DB$43","v":4965},{"$f":"THA!$DB$43","v":4200},{"$f":"TON!$DB$43","v":4494},{"$f":"TUN!$DB$43","v":3720},{"$f":"Kent!$DB$43","v":51039},{"$f":"'Kent+Med'!$DB$43","v":60919},{"$f":"'South East'!$DB$43","v":310718},{"$f":"'England & Wales'!$DB$43","v":2040307}]
["Females","40-44","-",{"$f":"ASH!$DB$44","v":4157},{"$f":"CAN!$DB$44","v":4273},{"$f":"DAR!$DB$44","v":4108},{"$f":"DOV!$DB$44","v":3196},{"$f":"GRA!$DB$44","v":3475},{"$f":"MAI!$DB$44","v":5442},{"$f":"MED!$DB$44","v":9303},{"$f":"SEV!$DB$44","v":4023},{"$f":"'F&H'!$DB$44","v":3135},{"$f":"SWA!$DB$44","v":4454},{"$f":"THA!$DB$44","v":4111},{"$f":"TON!$DB$44","v":4547},{"$f":"TUN!$DB$44","v":3953},{"$f":"Kent!$DB$44","v":48874},{"$f":"'Kent+Med'!$DB$44","v":58177},{"$f":"'South East'!$DB$44","v":302344},{"$f":"'England & Wales'!$DB$44","v":1878787}]
["Females","45-49","-",{"$f":"ASH!$DB$45","v":4579},{"$f":"CAN!$DB$45","v":4706},{"$f":"DAR!$DB$45","v":3857},{"$f":"DOV!$DB$45","v":3654},{"$f":"GRA!$DB$45","v":3592},{"$f":"MAI!$DB$45","v":6023},{"$f":"MED!$DB$45","v":9083},{"$f":"SEV!$DB$45","v":4331},{"$f":"'F&H'!$DB$45","v":3519},{"$f":"SWA!$DB$45","v":4795},{"$f":"THA!$DB$45","v":4579},{"$f":"TON!$DB$45","v":4916},{"$f":"TUN!$DB$45","v":4453},{"$f":"Kent!$DB$45","v":53004},{"$f":"'Kent+Med'!$DB$45","v":62087},{"$f":"'South East'!$DB$45","v":318035},{"$f":"'England & Wales'!$DB$45","v":1963502}]
["Females","50-54","-",{"$f":"ASH!$DB$46","v":5021},{"$f":"CAN!$DB$46","v":5236},{"$f":"DAR!$DB$46","v":3954},{"$f":"DOV!$DB$46","v":4190},{"$f":"GRA!$DB$46","v":3819},{"$f":"MAI!$DB$46","v":6199},{"$f":"MED!$DB$46","v":9652},{"$f":"SEV!$DB$46","v":4641},{"$f":"'F&H'!$DB$46","v":4086},{"$f":"SWA!$DB$46","v":5371},{"$f":"THA!$DB$46","v":5098},{"$f":"TON!$DB$46","v":5041},{"$f":"TUN!$DB$46","v":4555},{"$f":"Kent!$DB$46","v":57211},{"$f":"'Kent+Med'!$DB$46","v":66863},{"$f":"'South East'!$DB$46","v":333897},{"$f":"'England & Wales'!$DB$46","v":2093780}]
["Females","55-59","-",{"$f":"ASH!$DB$47","v":4542},{"$f":"CAN!$DB$47","v":5179},{"$f":"DAR!$DB$47","v":3419},{"$f":"DOV!$DB$47","v":4433},{"$f":"GRA!$DB$47","v":3512},{"$f":"MAI!$DB$47","v":5876},{"$f":"MED!$DB$47","v":9418},{"$f":"SEV!$DB$47","v":4313},{"$f":"'F&H'!$DB$47","v":4158},{"$f":"SWA!$DB$47","v":5304},{"$f":"THA!$DB$47","v":5033},{"$f":"TON!$DB$47","v":4720},{"$f":"TUN!$DB$47","v":4063},{"$f":"Kent!$DB$47","v":54552},{"$f":"'Kent+Med'!$DB$47","v":63970},{"$f":"'South East'!$DB$47","v":320314},{"$f":"'England & Wales'!$DB$47","v":2021720}]
["Females","60-64","-",{"$f":"ASH!$DB$48","v":3718},{"$f":"CAN!$DB$48","v":4703},{"$f":"DAR!$DB$48","v":2763},{"$f":"DOV!$DB$48","v":4135},{"$f":"GRA!$DB$48","v":2827},{"$f":"MAI!$DB$48","v":4891},{"$f":"MED!$DB$48","v":7785},{"$f":"SEV!$DB$48","v":3731},{"$f":"'F&H'!$DB$48","v":3780},{"$f":"SWA!$DB$48","v":4402},{"$f":"THA!$DB$48","v":4599},{"$f":"TON!$DB$48","v":3764},{"$f":"TUN!$DB$48","v":3421},{"$f":"Kent!$DB$48","v":46734},{"$f":"'Kent+Med'!$DB$48","v":54519},{"$f":"'South East'!$DB$48","v":268864},{"$f":"'England & Wales'!$DB$48","v":1716626}]
["Females","65-69","-",{"$f":"ASH!$DB$49","v":3410},{"$f":"CAN!$DB$49","v":4421},{"$f":"DAR!$DB$49","v":2187},{"$f":"DOV!$DB$49","v":3786},{"$f":"GRA!$DB$49","v":2498},{"$f":"MAI!$DB$49","v":4375},{"$f":"MED!$DB$49","v":6607},{"$f":"SEV!$DB$49","v":3343},{"$f":"'F&H'!$DB$49","v":3671},{"$f":"SWA!$DB$49","v":3817},{"$f":"THA!$DB$49","v":4524},{"$f":"TON!$DB$49","v":3187},{"$f":"TUN!$DB$49","v":2884},{"$f":"Kent!$DB$49","v":42103},{"$f":"'Kent+Med'!$DB$49","v":48710},{"$f":"'South East'!$DB$49","v":237823},{"$f":"'England & Wales'!$DB$49","v":1511330}]
["Females","70-74","-",{"$f":"ASH!$DB$50","v":3833},{"$f":"CAN!$DB$50","v":5014},{"$f":"DAR!$DB$50","v":2256},{"$f":"DOV!$DB$50","v":3971},{"$f":"GRA!$DB$50","v":2630},{"$f":"MAI!$DB$50","v":4891},{"$f":"MED!$DB$50","v":6850},{"$f":"SEV!$DB$50","v":3688},{"$f":"'F&H'!$DB$50","v":4038},{"$f":"SWA!$DB$50","v":4370},{"$f":"THA!$DB$50","v":4907},{"$f":"TON!$DB$50","v":3655},{"$f":"TUN!$DB$50","v":3103},{"$f":"Kent!$DB$50","v":46356},{"$f":"'Kent+Med'!$DB$50","v":53206},{"$f":"'South East'!$DB$50","v":253565},{"$f":"'England & Wales'!$DB$50","v":1547744}]
["Females","75-79","-",{"$f":"ASH!$DB$51","v":2776},{"$f":"CAN!$DB$51","v":3611},{"$f":"DAR!$DB$51","v":1622},{"$f":"DOV!$DB$51","v":2878},{"$f":"GRA!$DB$51","v":1891},{"$f":"MAI!$DB$51","v":3372},{"$f":"MED!$DB$51","v":4627},{"$f":"SEV!$DB$51","v":2620},{"$f":"'F&H'!$DB$51","v":2792},{"$f":"SWA!$DB$51","v":2999},{"$f":"THA!$DB$51","v":3522},{"$f":"TON!$DB$51","v":2762},{"$f":"TUN!$DB$51","v":2395},{"$f":"Kent!$DB$51","v":33240},{"$f":"'Kent+Med'!$DB$51","v":37867},{"$f":"'South East'!$DB$51","v":186042},{"$f":"'England & Wales'!$DB$51","v":1135065}]
["Females","80-84","-",{"$f":"ASH!$DB$52","v":1877},{"$f":"CAN!$DB$52","v":2633},{"$f":"DAR!$DB$52","v":1294},{"$f":"DOV!$DB$52","v":2032},{"$f":"GRA!$DB$52","v":1527},{"$f":"MAI!$DB$52","v":2593},{"$f":"MED!$DB$52","v":3493},{"$f":"SEV!$DB$52","v":2010},{"$f":"'F&H'!$DB$52","v":2060},{"$f":"SWA!$DB$52","v":2098},{"$f":"THA!$DB$52","v":2533},{"$f":"TON!$DB$52","v":1981},{"$f":"TUN!$DB$52","v":1772},{"$f":"Kent!$DB$52","v":24410},{"$f":"'Kent+Med'!$DB$52","v":27903},{"$f":"'South East'!$DB$52","v":140062},{"$f":"'England & Wales'!$DB$52","v":851907}]
["Females","85+","-",{"$f":"ASH!$DB$53","v":1941},{"$f":"CAN!$DB$53","v":3129},{"$f":"DAR!$DB$53","v":1373},{"$f":"DOV!$DB$53","v":2178},{"$f":"GRA!$DB$53","v":1566},{"$f":"MAI!$DB$53","v":2757},{"$f":"MED!$DB$53","v":3335},{"$f":"SEV!$DB$53","v":2399},{"$f":"'F&H'!$DB$53","v":2245},{"$f":"SWA!$DB$53","v":2043},{"$f":"THA!$DB$53","v":2761},{"$f":"ASH!$DB$53","v":1941},{"$f":"TUN!$DB$53","v":2188},{"$f":"Kent!$DB$53","v":26632},{"$f":"'Kent+Med'!$DB$53","v":29967},{"$f":"'South East'!$DB$53","v":159304},{"$f":"'England & Wales'!$DB$53","v":913520}]
[]
[]
["Population Pyramid data"]
["Selected district",null,null,null,null,null,null,null,"KCC Area"]
[{"$f":"INDEX(C76:T76,Index!B11)","v":"Ashford"},"Total Pop",{"$f":"SUM(B122,E122)","v":131431},null,null,null,null,"KCC","Total Pop",{"$f":"SUM(I122,L122)","v":1567971}]
[{"$f":"Index!C22","v":2023},"Males",null,null,"Females",null,null,null,"Males",null,null,"Females"]
["All Ages",{"$f":"INDEX(C77:T77,Index!$B$11)","v":63913},{"$f":"B122/C120","v":0.48628557950559609},null,{"$f":"INDEX(C97:T97,Index!$B$11)","v":67518},{"$f":"E122/C120","v":0.51371442049440386},null,"All Ages",{"$f":"Kent!DB15","v":764745},null,null,{"$f":"Kent!DB35","v":803226}]
["0-4",{"$f":"INDEX(C78:T78,Index!$B$11)","v":3887},{"$f":"B123/$C$120","v":2.9574453515532863E-2},{"$f":"C123*-1","v":-2.9574453515532863E-2},{"$f":"INDEX(C98:T98,Index!$B$11)","v":3718},{"$f":"E123/$C$120","v":2.8288607710509697E-2},null,"0-4",{"$f":"Kent!DB16","v":45070},{"$f":"I123/$J$120","v":2.8744154069176023E-2},{"$f":"J123*-1","v":-2.8744154069176023E-2},{"$f":"Kent!DB36","v":42401},{"$f":"L123/$J$120","v":2.7041954219816564E-2}]
["5-9",{"$f":"INDEX(C79:T79,Index!$B$11)","v":4244},{"$f":"B124/$C$120","v":3.2290707671706068E-2},{"$f":"C124*-1","v":-3.2290707671706068E-2},{"$f":"INDEX(C99:T99,Index!$B$11)","v":4066},{"$f":"E124/$C$120","v":3.0936384871149119E-2},null,"5-9",{"$f":"Kent!DB17","v":49091},{"$f":"I124/$J$120","v":3.1308614763921015E-2},{"$f":"J124*-1","v":-3.1308614763921015E-2},{"$f":"Kent!DB37","v":46348},{"$f":"L124/$J$120","v":2.9559220164148445E-2}]
["10-14",{"$f":"INDEX(C80:T80,Index!$B$11)","v":4224},3.2138536570519891E-2,-3.2138536570519891E-2,{"$f":"INDEX(C100:T100,Index!$B$11)","v":4114},3.1301595513995938E-2,null,"10-14",{"$f":"Kent!DB18","v":49561},3.1608365205734033E-2,-3.1608365205734033E-2,{"$f":"Kent!DB38","v":47128},3.0056678344178561E-2]
["15-19",{"$f":"INDEX(C81:T81,Index!$B$11)","v":3874},2.9475542299761851E-2,-2.9475542299761851E-2,{"$f":"INDEX(C101:T101,Index!$B$11)","v":3605},2.7428840988807816E-2,null,"15-19",{"$f":"Kent!DB19","v":45309},2.8896580357672431E-2,-2.8896580357672431E-2,{"$f":"Kent!DB39","v":42900},2.7360199901656345E-2]
["20-24",{"$f":"INDEX(C82:T82,Index!$B$11)","v":3212},2.4438678850499503E-2,-2.4438678850499503E-2,{"$f":"INDEX(C102:T102,Index!$B$11)","v":3219},2.4491938735914664E-2,null,"20-24",{"$f":"Kent!DB20","v":42303},2.6979453063864064E-2,-2.6979453063864064E-2,{"$f":"Kent!DB40","v":42429},2.7059811692945853E-2]
["25-29",{"$f":"INDEX(C83:T83,Index!$B$11)","v":3801},2.8920117780432318E-2,-2.8920117780432318E-2,{"$f":"INDEX(C103:T103,Index!$B$11)","v":4135},3.1461375170241418E-2,null,"25-29",{"$f":"Kent!DB21","v":44416},2.8327054518227698E-2,-2.8327054518227698E-2,{"$f":"Kent!DB41","v":46649},2.9751188000288271E-2]
["30-34",{"$f":"INDEX(C84:T84,Index!$B$11)","v":3996},3.0403786016997513E-2,-3.0403786016997513E-2,{"$f":"INDEX(C104:T104,Index!$B$11)","v":4579},3.4839573616574478E-2,null,"30-34",{"$f":"Kent!DB22","v":47098},3.0037545337254324E-2,-3.0037545337254324E-2,{"$f":"Kent!DB42","v":51216},3.2663869421054342E-2]
["35-39",{"$f":"INDEX(C85:T85,Index!$B$11)","v":3813},2.9011420441144024E-2,-2.9011420441144024E-2,{"$f":"INDEX(C105:T105,Index!$B$11)","v":4228},3.2168970790757125E-2,null,"35-39",{"$f":"Kent!DB23","v":47060},3.0013310195150293E-2,-3.0013310195150293E-2,{"$f":"Kent!DB43","v":51039},3.2550984680201359E-2]
["40-44",{"$f":"INDEX(C86:T86,Index!$B$11)","v":3905},2.971140750660042E-2,-2.971140750660042E-2,{"$f":"INDEX(C106:T106,Index!$B$11)","v":4157},3.1628763381546209E-2,null,"40-44",{"$f":"Kent!DB24","v":46392},2.9587281907637323E-2,-2.9587281907637323E-2,{"$f":"Kent!DB44","v":48874},3.1170219347169049E-2]
["45-49",{"$f":"INDEX(C87:T87,Index!$B$11)","v":4153},3.1598329161308975E-2,-3.1598329161308975E-2,{"$f":"INDEX(C107:T107,Index!$B$11)","v":4579},3.4839573616574478E-2,null,"45-49",{"$f":"Kent!DB25","v":50321},3.2093068047814657E-2,-3.2093068047814657E-2,{"$f":"Kent!DB45","v":53004},3.3804196633738764E-2]
["50-54",{"$f":"INDEX(C88:T88,Index!$B$11)","v":4876},3.7099314469189154E-2,-3.7099314469189154E-2,{"$f":"INDEX(C108:T108,Index!$B$11)","v":5021},3.8202554952788917E-2,null,"50-54",{"$f":"Kent!DB26","v":54779},3.4936232876756013E-2,-3.4936232876756013E-2,{"$f":"Kent!DB46","v":57211},3.6487281971414015E-2]
["55-59",{"$f":"INDEX(C89:T89,Index!$B$11)","v":4547},3.4596099854676599E-2,-3.4596099854676599E-2,{"$f":"INDEX(C109:T109,Index!$B$11)","v":4542},3.4558057079380054E-2,null,"55-59",{"$f":"Kent!DB27","v":53364},3.4033792716829582E-2,-3.4033792716829582E-2,{"$f":"Kent!DB47","v":54552},3.4791459791029301E-2]
["60-64",{"$f":"INDEX(C90:T90,Index!$B$11)","v":3570},2.716254156173201E-2,-2.716254156173201E-2,{"$f":"INDEX(C110:T110,Index!$B$11)","v":3718},2.8288607710509697E-2,null,"60-64",{"$f":"Kent!DB28","v":44697},2.8506267016418032E-2,-2.8506267016418032E-2,{"$f":"Kent!DB48","v":46734},2.9805398186573604E-2]
["65-69",{"$f":"INDEX(C91:T91,Index!$B$11)","v":3154},2.3997382657059599E-2,-2.3997382657059599E-2,{"$f":"INDEX(C111:T111,Index!$B$11)","v":3410},2.5945172752242621E-2,null,"65-69",{"$f":"Kent!DB29","v":39259},2.5038090627951665E-2,-2.5038090627951665E-2,{"$f":"Kent!DB49","v":42103},2.6851899684369164E-2]
["70-74",{"$f":"INDEX(C92:T92,Index!$B$11)","v":3403},2.589191286682746E-2,-2.589191286682746E-2,{"$f":"INDEX(C112:T112,Index!$B$11)","v":3833},2.9163591542330197E-2,null,"70-74",{"$f":"Kent!DB30","v":41857},2.6695009027590432E-2,-2.6695009027590432E-2,{"$f":"Kent!DB50","v":46356},2.956432229932824E-2]
["75-79",{"$f":"INDEX(C93:T93,Index!$B$11)","v":2461},1.8724654000958678E-2,-1.8724654000958678E-2,{"$f":"INDEX(C113:T113,Index!$B$11)","v":2776},2.1121348844640914E-2,null,"75-79",{"$f":"Kent!DB31","v":29014},1.8504168763325342E-2,-1.8504168763325342E-2,{"$f":"Kent!DB51","v":33240},2.119937167205261E-2]
["80-84",{"$f":"INDEX(C94:T94,Index!$B$11)","v":1589},1.2089993989241503E-2,-1.2089993989241503E-2,{"$f":"INDEX(C114:T114,Index!$B$11)","v":1877},1.4281257846322405E-2,null,"80-84",{"$f":"Kent!DB32","v":19532},1.2456863041472067E-2,-1.2456863041472067E-2,{"$f":"Kent!DB52","v":24410},1.5567889967352713E-2]
["85+",{"$f":"INDEX(C95:T95,Index!$B$11)","v":1204},9.1607002914076592E-3,-9.1607002914076592E-3,{"$f":"INDEX(C115:T115,Index!$B$11)","v":1941},1.4768205370118161E-2,null,"85+",{"$f":"Kent!DB33","v":15622},9.9631944723467467E-3,-9.9631944723467467E-3,{"$f":"Kent!DB53","v":26632},1.6985008013541067E-2]

{"sheet":"England & Wales","index":7,"n_rows":200,"n_cols":106,"rows_kept":200,"cut":false,"hidden":true,"merged":[[0,68,21,68]]}
["Mid Year Population Estimates",null,null,null,null,null,null,null,null,null,null,null,null,null,null,null,null,null,null,null,null,null,null,null,null,null,null,null,null,null,null,null,null,null,null,null,null,null,null,null,null,null,null,null,null,null,null,null,null,null,null,null,null,null,null,null,null,null,null,null,null,null,null,null,null,null,null,null,"Insert column here before extending the table"]
["ONS Mid-Year Population Estimates 1991 to 2022 - (1992 to 2001 Revised 7th October 2004) ( 2002 to 2010 revised in light of the 2011 census. Released 30 April 2013)",null,null,null,null,null,null,null,null,null,null,null,null,null,null,null,null,null,null,null,null,null,null,null,null,null,null,null,null,null,null,null,null,null,null,"Selected Ages:",null,{"$f":"Index!$C$4&\" : \"&Index!$C$7","v":"0 : 90"},null,null,null,null,null,null,null,null,null,null,null,null,null,null,null,null,null,null,null,null,null,null,null,null,null,null,null,null,null,null,null,null,null,null,"Start year","End Year","Number change","% Change"]
["Revised ONS Mid-Year Population Estimates 2012 to 2020- Released 23 November 2023",null,null,null,null,null,null,null,null,null,null,null,null,null,null,null,null,null,null,null,null,null,null,null,null,null,null,null,null,null,null,null,null,null,null,null,{"$f":"AK13","v":1992},{"$f":"AL13","v":1993},{"$f":"AM13","v":1994},{"$f":"AN13","v":1995},{"$f":"AO13","v":1996},{"$f":"AP13","v":1997},1998,1999,2000,2001,2002,2003,2004,2005,2006,2007,2008,2009,2010,2011,2012,2013,2014,2015,2016,{"$f":"BJ13","v":2017},2018,2019,2020,2021,2022,{"$f":"BP13","v":2023},null,null,null,null,{"$f":"INDEX($AR3:$BM3,Index!$B$16)","v":1999},{"$f":"INDEX($AR3:$BM3,Index!$B$19)","v":2019}]
["2022 MYPE released 23 November 2023",null,null,null,null,null,null,null,null,null,null,null,null,null,null,null,null,null,null,null,null,null,null,null,null,null,null,null,null,null,null,null,null,null,null,"Males",{"$f":"OFFSET(AK16,Index!$B$7-1,0)-IF(Index!$B$4-2=-1,0,OFFSET(AK16,Index!$B$4-2,0))","v":24739461},{"$f":"OFFSET(AL16,Index!$B$7-1,0)-IF(Index!$B$4-2=-1,0,OFFSET(AL16,Index!$B$4-2,0))","v":24792642},{"$f":"OFFSET(AM16,Index!$B$7-1,0)-IF(Index!$B$4-2=-1,0,OFFSET(AM16,Index!$B$4-2,0))","v":24853043},{"$f":"OFFSET(AN16,Index!$B$7-1,0)-IF(Index!$B$4-2=-1,0,OFFSET(AN16,Index!$B$4-2,0))","v":24946334},{"$f":"OFFSET(AO16,Index!$B$7-1,0)-IF(Index!$B$4-2=-1,0,OFFSET(AO16,Index!$B$4-2,0))","v":25029777},{"$f":"OFFSET(AP16,Index!$B$7-1,0)-IF(Index!$B$4-2=-1,0,OFFSET(AP16,Index!$B$4-2,0))","v":25113194},{"$f":"OFFSET(AQ16,Index!$B$7-1,0)-IF(Index!$B$4-2=-1,0,OFFSET(AQ16,Index!$B$4-2,0))","v":25200700},{"$f":"OFFSET(AR16,Index!$B$7-1,0)-IF(Index!$B$4-2=-1,0,OFFSET(AR16,Index!$B$4-2,0))","v":25323441},{"$f":"OFFSET(AS16,Index!$B$7-1,0)-IF(Index!$B$4-2=-1,0,OFFSET(AS16,Index!$B$4-2,0))","v":25438046},{"$f":"OFFSET(AT16,Index!$B$7-1,0)-IF(Index!$B$4-2=-1,0,OFFSET(AT16,Index!$B$4-2,0))","v":25574258},{"$f":"OFFSET(AU16,Index!$B$7-1,0)-IF(Index!$B$4-2=-1,0,OFFSET(AU16,Index!$B$4-2,0))","v":25708118},{"$f":"OFFSET(AV16,Index!$B$7-1,0)-IF(Index!$B$4-2=-1,0,OFFSET(AV16,Index!$B$4-2,0))","v":25854109},{"$f":"OFFSET(AW16,Index!$B$7-1,0)-IF(Index!$B$4-2=-1,0,OFFSET(AW16,Index!$B$4-2,0))","v":26012115},{"$f":"OFFSET(AX16,Index!$B$7-1,0)-IF(Index!$B$4-2=-1,0,OFFSET(AX16,Index!$B$4-2,0))","v":26234398},{"$f":"OFFSET(AY16,Index!$B$7-1,0)-IF(Index!$B$4-2=-1,0,OFFSET(AY16,Index!$B$4-2,0))","v":26433350},{"$f":"OFFSET(AZ16,Index!$B$7-1,0)-IF(Index!$B$4-2=-1,0,OFFSET(AZ16,Index!$B$4-2,0))","v":26669068},{"$f":"OFFSET(BA16,Index!$B$7-1,0)-IF(Index!$B$4-2=-1,0,OFFSET(BA16,Index!$B$4-2,0))","v":26914321},{"$f":"OFFSET(BB16,Index!$B$7-1,0)-IF(Index!$B$4-2=-1,0,OFFSET(BB16,Index!$B$4-2,0))","v":27121680},{"$f":"OFFSET(BC16,Index!$B$7-1,0)-IF(Index!$B$4-2=-1,0,OFFSET(BC16,Index!$B$4-2,0))","v":27372737},{"$f":"OFFSET(BD16,Index!$B$7-1,0)-IF(Index!$B$4-2=-1,0,OFFSET(BD16,Index!$B$4-2,0))","v":27637637},{"$f":"OFFSET(BE16,Index!$B$7-1,0)-IF(Index!$B$4-2=-1,0,OFFSET(BE16,Index!$B$4-2,0))","v":27825600},{"$f":"OFFSET(BF16,Index!$B$7-1,0)-IF(Index!$B$4-2=-1,0,OFFSET(BF16,Index!$B$4-2,0))","v":28016359},{"$f":"OFFSET(BG16,Index!$B$7-1,0)-IF(Index!$B$4-2=-1,0,OFFSET(BG16,Index!$B$4-2,0))","v":28232465},{"$f":"OFFSET(BH16,Index!$B$7-1,0)-IF(Index!$B$4-2=-1,0,OFFSET(BH16,Index!$B$4-2,0))","v":28451237},{"$f":"OFFSET(BI16,Index!$B$7-1,0)-IF(Index!$B$4-2=-1,0,OFFSET(BI16,Index!$B$4-2,0))","v":28676053},{"$f":"OFFSET(BJ16,Index!$B$7-1,0)-IF(Index!$B$4-2=-1,0,OFFSET(BJ16,Index!$B$4-2,0))","v":28823855},{"$f":"OFFSET(BK16,Index!$B$7-1,0)-IF(Index!$B$4-2=-1,0,OFFSET(BK16,Index!$B$4-2,0))","v":28952751},{"$f":"OFFSET(BL16,Index!$B$7-1,0)-IF(Index!$B$4-2=-1,0,OFFSET(BL16,Index!$B$4-2,0))","v":29085955},{"$f":"OFFSET(BM16,Index!$B$7-1,0)-IF(Index!$B$4-2=-1,0,OFFSET(BM16,Index!$B$4-2,0))","v":29118166},{"$f":"OFFSET(BN16,Index!$B$7-1,0)-IF(Index!$B$4-2=-1,0,OFFSET(BN16,Index!$B$4-2,0))","v":29203353},{"$f":"OFFSET(BO16,Index!$B$7-1,0)-IF(Index!$B$4-2=-1,0,OFFSET(BO16,Index!$B$4-2,0))","v":29521521},{"$f":"OFFSET(BP16,Index!$B$7-1,0)-IF(Index!$B$4-2=-1,0,OFFSET(BP16,Index!$B$4-2,0))","v":29835992},null,null,null,null,{"$f":"INDEX($AR4:$BL4,Index!$B$16)","v":25323441},{"$f":"INDEX($AR4:$BM4,Index!$B$19)","v":29085955},{"$f":"BV4-BU4","v":3762514},{"$f":"BW4/BU4","v":0.14857830734772576}]
[null,null,null,null,null,null,null,null,null,null,null,null,null,null,null,null,null,null,null,null,null,null,null,null,null,null,null,null,null,null,null,null,null,null,null,"Females",{"$f":"OFFSET(AK109,Index!$B$7-1,0)-IF(Index!$B$4-2=-1,0,OFFSET(AK109,Index!$B$4-2,0))","v":26136186},{"$f":"OFFSET(AL109,Index!$B$7-1,0)-IF(Index!$B$4-2=-1,0,OFFSET(AL109,Index!$B$4-2,0))","v":26193235},{"$f":"OFFSET(AM109,Index!$B$7-1,0)-IF(Index!$B$4-2=-1,0,OFFSET(AM109,Index!$B$4-2,0))","v":26263185},{"$f":"OFFSET(AN109,Index!$B$7-1,0)-IF(Index!$B$4-2=-1,0,OFFSET(AN109,Index!$B$4-2,0))","v":26325644},{"$f":"OFFSET(AO109,Index!$B$7-1,0)-IF(Index!$B$4-2=-1,0,OFFSET(AO109,Index!$B$4-2,0))","v":26380656},{"$f":"OFFSET(AP109,Index!$B$7-1,0)-IF(Index!$B$4-2=-1,0,OFFSET(AP109,Index!$B$4-2,0))","v":26446454},{"$f":"OFFSET(AQ109,Index!$B$7-1,0)-IF(Index!$B$4-2=-1,0,OFFSET(AQ109,Index!$B$4-2,0))","v":26519404},{"$f":"OFFSET(AR109,Index!$B$7-1,0)-IF(Index!$B$4-2=-1,0,OFFSET(AR109,Index!$B$4-2,0))","v":26610030},{"$f":"OFFSET(AS109,Index!$B$7-1,0)-IF(Index!$B$4-2=-1,0,OFFSET(AS109,Index!$B$4-2,0))","v":26702135},{"$f":"OFFSET(AT109,Index!$B$7-1,0)-IF(Index!$B$4-2=-1,0,OFFSET(AT109,Index!$B$4-2,0))","v":26785720},{"$f":"OFFSET(AU109,Index!$B$7-1,0)-IF(Index!$B$4-2=-1,0,OFFSET(AU109,Index!$B$4-2,0))","v":26894025},{"$f":"OFFSET(AV109,Index!$B$7-1,0)-IF(Index!$B$4-2=-1,0,OFFSET(AV109,Index!$B$4-2,0))","v":27009129},{"$f":"OFFSET(AW109,Index!$B$7-1,0)-IF(Index!$B$4-2=-1,0,OFFSET(AW109,Index!$B$4-2,0))","v":27139907},{"$f":"OFFSET(AX109,Index!$B$7-1,0)-IF(Index!$B$4-2=-1,0,OFFSET(AX109,Index!$B$4-2,0))","v":27340945},{"$f":"OFFSET(AY109,Index!$B$7-1,0)-IF(Index!$B$4-2=-1,0,OFFSET(AY109,Index!$B$4-2,0))","v":27517504},{"$f":"OFFSET(AZ109,Index!$B$7-1,0)-IF(Index!$B$4-2=-1,0,OFFSET(AZ109,Index!$B$4-2,0))","v":27718324},{"$f":"OFFSET(BA109,Index!$B$7-1,0)-IF(Index!$B$4-2=-1,0,OFFSET(BA109,Index!$B$4-2,0))","v":27927399},{"$f":"OFFSET(BB109,Index!$B$7-1,0)-IF(Index!$B$4-2=-1,0,OFFSET(BB109,Index!$B$4-2,0))","v":28113573},{"$f":"OFFSET(BC109,Index!$B$7-1,0)-IF(Index!$B$4-2=-1,0,OFFSET(BC109,Index!$B$4-2,0))","v":28319686},{"$f":"OFFSET(BD109,Index!$B$7-1,0)-IF(Index!$B$4-2=-1,0,OFFSET(BD109,Index!$B$4-2,0))","v":28533290},{"$f":"OFFSET(BE109,Index!$B$7-1,0)-IF(Index!$B$4-2=-1,0,OFFSET(BE109,Index!$B$4-2,0))","v":28752140},{"$f":"OFFSET(BF109,Index!$B$7-1,0)-IF(Index!$B$4-2=-1,0,OFFSET(BF109,Index!$B$4-2,0))","v":28973385},{"$f":"OFFSET(BG109,Index!$B$7-1,0)-IF(Index!$B$4-2=-1,0,OFFSET(BG109,Index!$B$4-2,0))","v":29211642},{"$f":"OFFSET(BH109,Index!$B$7-1,0)-IF(Index!$B$4-2=-1,0,OFFSET(BH109,Index!$B$4-2,0))","v":29430178},{"$f":"OFFSET(BI109,Index!$B$7-1,0)-IF(Index!$B$4-2=-1,0,OFFSET(BI109,Index!$B$4-2,0))","v":29690146},{"$f":"OFFSET(BJ109,Index!$B$7-1,0)-IF(Index!$B$4-2=-1,0,OFFSET(BJ109,Index!$B$4-2,0))","v":29877059},{"$f":"OFFSET(BK109,Index!$B$7-1,0)-IF(Index!$B$4-2=-1,0,OFFSET(BK109,Index!$B$4-2,0))","v":30055617},{"$f":"OFFSET(BL109,Index!$B$7-1,0)-IF(Index!$B$4-2=-1,0,OFFSET(BL109,Index!$B$4-2,0))","v":30231833},{"$f":"OFFSET(BM109,Index!$B$7-1,0)-IF(Index!$B$4-2=-1,0,OFFSET(BM109,Index!$B$4-2,0))","v":30312278},{"$f":"OFFSET(BN109,Index!$B$7-1,0)-IF(Index!$B$4-2=-1,0,OFFSET(BN109,Index!$B$4-2,0))","v":30457171},{"$f":"OFFSET(BO109,Index!$B$7-1,0)-IF(Index!$B$4-2=-1,0,OFFSET(BO109,Index!$B$4-2,0))","v":30723697},{"$f":"OFFSET(BP109,Index!$B$7-1,0)-IF(Index!$B$4-2=-1,0,OFFSET(BP109,Index!$B$4-2,0))","v":31018735},null,null,null,null,{"$f":"INDEX($AR5:$BL5,Index!$B$16)","v":26610030},{"$f":"INDEX($AR5:$BM5,Index!$B$19)","v":30231833},{"$f":"BV5-BU5","v":3621803},{"$f":"BW5/BU5","v":0.13610668608791496}]
[null,null,null,null,null,null,null,null,null,null,null,null,null,null,null,null,null,null,null,null,null,null,null,null,null,null,null,null,null,null,null,null,null,null,null,"Total",{"$f":"SUM(AK4:AK5)","v":50875647},{"$f":"SUM(AL4:AL5)","v":50985877},{"$f":"SUM(AM4:AM5)","v":51116228},{"$f":"SUM(AN4:AN5)","v":51271978},{"$f":"SUM(AO4:AO5)","v":51410433},{"$f":"SUM(AP4:AP5)","v":51559648},51720104,51933471,52140181,52359978,52602143,52863238,53152022,53575343,53950854,54387392,54841720,55235253,55692423,56170927,56577740,56989744,57444107,57881415,58366199,58700914,59008368,59317788,59430444,59660524,60245218,60854727,null,null,null,null,{"$f":"INDEX($AR6:$BL6,Index!$B$16)","v":51933471},{"$f":"INDEX($AR6:$BM6,Index!$B$19)","v":59317788},{"$f":"BV6-BU6","v":7384317},{"$f":"BW6/BU6","v":0.14218801204333137}]
[]
[null,null,null,null,null,null,null,null,null,null,null,null,null,null,null,null,null,null,null,null,null,null,null,null,null,null,null,null,null,null,null,null,null,null,null,"Males",{"$f":"IF(AK4<0,\"0\",AK4)","v":24739461},{"$f":"IF(AL4<0,\"0\",AL4)","v":24792642},24853043,24946334,25029777,25113194,25200700,25323441,25438046,25574258,25708118,25854109,26012115,26234398,26433350,26669068,26914321,27121680,27372737,27637637,27825600,28016359,28232465,28451237,28676053,28823855,{"$f":"IF(BK4<0,\"0\",BK4)","v":28952751},29085955,29118166,{"$f":"IF(BN4<0,\"0\",BN4)","v":29203353},29521521,{"$f":"IF(BP4<0,\"0\",BP4)","v":29835992}]
[null,null,null,null,null,null,null,null,null,null,null,null,null,null,null,null,null,null,null,null,null,null,null,null,null,null,null,null,null,null,null,null,null,null,null,"Females",{"$f":"IF(AK5<0,\"0\",AK5)","v":26136186},26193235,26263185,26325644,26380656,26446454,26519404,26610030,26702135,26785720,26894025,27009129,27139907,27340945,27517504,27718324,27927399,28113573,28319686,28533290,28752140,28973385,29211642,29430178,29690146,29877059,30055617,30231833,30312278,{"$f":"IF(BN5<0,\"0\",BN5)","v":30457171},30723697,{"$f":"IF(BP5<0,\"0\",BP5)","v":31018735}]
[null,null,null,null,null,null,null,null,null,null,null,null,null,null,null,null,null,null,null,null,null,null,null,null,null,null,null,null,null,null,null,null,null,null,null,"Total",{"$f":"SUM(AK8:AK9)","v":50875647},50985877,51116228,51271978,51410433,51559648,51720104,51933471,52140181,52359978,52602143,52863238,53152022,53575343,53950854,54387392,54841720,55235253,55692423,56170927,56577740,56989744,57444107,57881415,58366199,58700914,{"$f":"SUM(BK8:BK9)","v":59008368},59317788,59430444,59660524,60245218,60854727]
[]
[null,null,null,"MYE for  . . . . . .",null,null,null,"England & Wales",null,null,null,null,null,null,null,null,null,null,null,null,null,null,null,null,null,null,null,null,null,null,null,null,null,null,null,null,null,null,null,null,"Cummulative Ages",null,null,null,null,null,null,null,null,null,null,null,null,null,null,null,null,null,null,null,null,null,null,null,null,null,null,null,null,"Population Pyramid Data"]
[null,null,"Base Year",null,null,null,null,null,null,null,null,null,null,null,null,null,null,null,null,null,null,null,null,null,null,null,null,null,null,null,null,null,null,null,null,null,{"$f":"C14","v":1992},1993,1994,1995,1996,1997,1998,1999,2000,2001,2002,2003,2004,2005,2006,2007,2008,2009,2010,2011,2012,2013,2014,2015,2016,2017,2018,2019,2020,2021,2022,2023]
["Sex","Age",1992,1993,1994,1995,1996,1997,1998,1999,2000,2001,2002,2003,2004,2005,2006,2007,2008,2009,2010,2011,2012,2013,2014,2015,2016,2017,2018,2019,2020,2021,2022,2023,null,null,null,null,null,null,null,null,null,null,null,null,null,null,null,null,null,null,null,null,null,null,null,null,null,null,null,null,null,null,null,null,null,null,null,null,null,null,1992,1993,1994,1995,1996,1997,1998,1999,2000,2001,2002,2003,2004,2005,2006,2007,2008,2009,2010,2011,2012,2013,2014,2015,2016,2017,2018,2019,2020,2021,2022,2023,null,{"$f":"INDEX(CC14:CY14,'Population Pyramid'!$L$1)","v":2020}]
[null,"All persons",{"$f":"SUM(C107,C200)","v":50875647},{"$f":"SUM(D107,D200)","v":50985877},51116228,51271978,51410433,51559648,51720104,51933471,52140181,52359978,52602143,52863238,53152022,53575343,53950854,54387392,54841720,55235253,55692423,56170927,56577740,56989744,{"$f":"SUM(Y107,Y200)","v":57444107},57881415,58366199,58700914,59008368,59317788,{"$f":"SUM(AE107,AE200)","v":59430444},59660524,{"$f":"SUM(AG107,AG200)","v":60245218},60854727,null,"Males",null,null,null,null,null,null,null,null,null,null,null,null,null,null,null,null,null,null,null,null,null,null,null,null,null,null,null,null,null,null,null,null,null,"Males","All Ages",null,{"$f":"C107","v":24739461},24792642,24853043,24946334,25029777,25113194,25200700,25323441,25438046,25574258,25708118,25854109,26012115,26234398,26433350,26669068,26914321,27121680,27372737,27637637,27825600,28016359,28232465,28451237,28676053,28823855,28952751,29085955,29118166,29203353,29521521,29835992,null,{"$f":"INDEX(CC15:CY15,'Population Pyramid'!$L$1)","v":29118166}]
["male",0,355162,342554,342980,332065,326779,332858,323385,320558,310695,300956,301650,311829,322654,327191,335606,346762,360134,357124,362310,366537,372441,363484,355917,355248,357889,348661,339913,331424,322123,311020,320174,308256,null,0,{"$f":"C16","v":355162},342554,342980,332065,326779,332858,323385,320558,310695,300956,301650,311829,322654,327191,335606,346762,360134,357124,362310,366537,372441,363484,355917,355248,357889,348661,339913,331424,322123,311020,320174,308256,null,"Males","0-4",null,{"$f":"SUM(C16:C20)","v":1754892},1745251,1741313,1724308,1694685,1673321,1654020,1635609,1613271,1582445,1556684,1550518,1556816,1571348,1599648,1646177,1695081,1731083,1769017,1795323,1824932,1831590,1833134,1827025,1813950,1785041,1755271,1727618,1691467,1644444,1646565,1645910,null,{"$f":"INDEX(CC16:CY16,'Population Pyramid'!$L$1)","v":1691467}]
["male",1,354799,353622,341208,342010,331344,326837,331961,323615,318932,309629,301593,302325,311879,322159,326684,337182,346927,359574,356537,360920,369021,373859,365114,357361,356398,358185,348044,339515,331577,323301,318053,328403,null,1,{"$f":"AK16+C17","v":709961},{"$f":"AL16+D17","v":696176},{"$f":"AM16+E17","v":684188},{"$f":"AN16+F17","v":674075},{"$f":"AO16+G17","v":658123},{"$f":"AP16+H17","v":659695},{"$f":"AQ16+I17","v":655346},{"$f":"AR16+J17","v":644173},{"$f":"AS16+K17","v":629627},{"$f":"AT16+L17","v":610585},{"$f":"AU16+M17","v":603243},{"$f":"AV16+N17","v":614154},{"$f":"AW16+O17","v":634533},{"$f":"AX16+P17","v":649350},{"$f":"AY16+Q17","v":662290},{"$f":"AZ16+R17","v":683944},{"$f":"BA16+S17","v":707061},{"$f":"BB16+T17","v":716698},{"$f":"BC16+U17","v":718847},{"$f":"BD16+V17","v":727457},{"$f":"BE16+W17","v":741462},{"$f":"BF16+X17","v":737343},{"$f":"BG16+Y17","v":721031},{"$f":"BH16+Z17","v":712609},{"$f":"BI16+AA17","v":714287},{"$f":"BJ16+AB17","v":706846},{"$f":"BK16+AC17","v":687957},{"$f":"BL16+AD17","v":670939},{"$f":"BM16+AE17","v":653700},{"$f":"BN16+AF17","v":634321},{"$f":"BO16+AG17","v":638227},{"$f":"BP16+AH17","v":636659},null,"Males","5-9",null,{"$f":"SUM(C21:C25)","v":1657475},1685763,1710687,1724726,1747295,1760235,1752245,1747062,1725344,1693702,1680905,1671117,1658760,1642317,1616910,1588723,1575269,1574289,1583910,1614598,1665283,1719560,1759503,1796770,1829832,1853177,1850631,1840674,1820871,1798726,1796740,1801747,null,{"$f":"INDEX(CC17:CY17,'Population Pyramid'!$L$1)","v":1820871}]
["male",2,348349,354728,353170,341410,341434,330882,327422,332063,322923,317683,310486,303249,303154,311945,321601,327486,338370,347287,360286,356593,362756,370517,374734,365916,357867,355645,357245,346799,337367,330599,329835,326744,null,2,1058310,1050904,1037358,1015485,999557,990577,982768,976236,952550,928268,913729,917403,937687,961295,983891,1011430,1045431,1063985,1079133,1084050,1104218,1107860,1095765,1078525,1072154,1062491,1045202,1017738,991067,964920,968062,963403,null,"Males","10-14",null,{"$f":"SUM(C26:C30)","v":1590784},1619393,1624277,1633400,1645940,1666613,1698695,1724064,1736592,1759516,1767576,1763442,1759210,1747300,1726272,1718566,1708277,1696803,1685454,1660935,1622654,1605501,1606345,1626376,1664822,1710513,1757761,1789384,1815246,1846208,1884686,1902914,null,{"$f":"INDEX(CC18:CY18,'Population Pyramid'!$L$1)","v":1815246}]
["male",3,346154,348519,355058,353157,341753,341016,330902,328304,331697,322828,318775,312220,304972,303712,311761,322196,327589,339520,348488,361239,358208,364070,371860,375363,366169,356976,354205,356513,345079,335551,336984,337911,null,3,1404464,1399423,1392416,1368642,1341310,1331593,1313670,1304540,1284247,1251096,1232504,1229623,1242659,1265007,1295652,1333626,1373020,1403505,1427621,1445289,1462426,1471930,1467625,1453888,1438323,1419467,1399407,1374251,1336146,1300471,1305046,1301314,null,"Males","15-19",null,{"$f":"SUM(C31:C35)","v":1574290},1513591,1503229,1518807,1543568,1576684,1604184,1614480,1624113,1652119,1690289,1723399,1738289,1745816,1777657,1802018,1803258,1813550,1811376,1801359,1787201,1769491,1749465,1732959,1711490,1681913,1676450,1687344,1712672,1746454,1796093,1848368,null,{"$f":"INDEX(CC19:CY19,'Population Pyramid'!$L$1)","v":1712672}]
["male",4,350428,345828,348897,355666,353375,341728,340350,331069,329024,331349,324180,320895,314157,306341,303996,312551,322061,327578,341396,350034,362506,359660,365509,373137,375627,365574,355864,353367,355321,343973,341519,344596,null,4,1754892,1745251,1741313,1724308,1694685,1673321,1654020,1635609,1613271,1582445,1556684,1550518,1556816,1571348,1599648,1646177,1695081,1731083,1769017,1795323,1824932,1831590,1833134,1827025,1813950,1785041,1755271,1727618,1691467,1644444,1646565,1645910,null,"Males","20-24",null,{"$f":"SUM(C36:C40)","v":1927145},1874612,1801329,1737261,1658262,1580199,1530325,1529960,1547805,1579211,1612791,1652211,1706276,1750579,1776246,1816450,1833613,1830096,1869295,1924608,1930765,1930080,1937536,1932890,1919322,1900524,1878970,1856625,1820769,1806659,1836616,1863366,null,{"$f":"INDEX(CC20:CY20,'Population Pyramid'!$L$1)","v":1820769}]
["male",5,340091,350636,346234,349351,356561,353504,342222,340570,331113,329360,333437,326102,322778,314889,307247,304654,312651,322352,327825,342815,350953,363855,361519,367136,374384,375433,365141,355233,352168,354706,349750,348742,null,5,2094983,2095887,2087547,2073659,2051246,2026825,1996242,1976179,1944384,1911805,1890121,1876620,1879594,1886237,1906895,1950831,2007732,2053435,2096842,2138138,2175885,2195445,2194653,2194161,2188334,2160474,2120412,2082851,2043635,1999150,1996315,1994652,null,"Males","25-29",null,{"$f":"SUM(C41:C45)","v":2071016},2051364,2024006,1994299,1969902,1931931,1886610,1836146,1795614,1741892,1689640,1653519,1653628,1699542,1751156,1810890,1874138,1885847,1895978,1919706,1902001,1898947,1904211,1914181,1935753,1947308,1941948,1941263,1920382,1900978,1929710,1967446,null,{"$f":"INDEX(CC21:CY21,'Population Pyramid'!$L$1)","v":1920382}]
["male",6,336822,340012,350710,346880,350397,356903,353572,342720,339743,330738,331486,335337,327717,323646,315844,308667,305271,313104,322431,328076,343538,351857,365295,363209,368434,374882,374982,364968,354411,351656,360574,356646,null,6,2431805,2435899,2438257,2420539,2401643,2383728,2349814,2318899,2284127,2242543,2221607,2211957,2207311,2209883,2222739,2259498,2313003,2366539,2419273,2466214,2519423,2547302,2559948,2557370,2556768,2535356,2495394,2447819,2398046,2350806,2356889,2351298,null,"Males","30-34",null,{"$f":"SUM(C46:C50)","v":1896804},1940267,1985597,2027873,2050203,2063505,2055652,2044220,2027107,2016085,1984580,1950825,1903966,1867014,1814098,1765111,1748489,1773266,1807043,1852968,1889596,1923418,1931326,1938387,1947720,1947528,1960958,1980302,1986509,2003389,2030688,2046698,null,{"$f":"INDEX(CC22:CY22,'Population Pyramid'!$L$1)","v":1986509}]
["male",7,335847,336537,340331,351055,347410,350678,357263,353592,342615,338380,332287,333713,337185,328630,324833,317411,310106,306203,313371,322384,330323,344281,352816,366739,364631,369073,375161,374876,364464,354090,357352,367110,null,7,2767652,2772436,2778588,2771594,2749053,2734406,2707077,2672491,2626742,2580923,2553894,2545670,2544496,2538513,2547572,2576909,2623109,2672742,2732644,2788598,2849746,2891583,2912764,2924109,2921399,2904429,2870555,2822695,2762510,2704896,2714241,2718408,null,"Males","35-39",null,{"$f":"SUM(C51:C55)","v":1682721},1706117,1736022,1781856,1833748,1879908,1924247,1974047,2019106,2049687,2074276,2080007,2066491,2053114,2037530,2018340,1987845,1939981,1898952,1845055,1800523,1777545,1796053,1834140,1875866,1911140,1941122,1943691,1937634,1933832,1959070,2003796,null,{"$f":"INDEX(CC23:CY23,'Population Pyramid'!$L$1)","v":1937634}]
["male",8,322012,336296,336616,340850,351506,347592,351275,358208,353261,342364,340325,333835,335836,337953,329818,326597,319009,311859,306932,313670,324639,332406,345001,353701,367745,365284,369305,375597,374242,364248,359540,363672,null,8,3089664,3108732,3115204,3112444,3100559,3081998,3058352,3030699,2980003,2923287,2894219,2879505,2880332,2876466,2877390,2903506,2942118,2984601,3039576,3102268,3174385,3223989,3257765,3277810,3289144,3269713,3239860,3198292,3136752,3069144,3073781,3082080,null,"Males","40-44",null,{"$f":"SUM(C56:C60)","v":1743139},1690237,1665381,1650821,1655403,1675722,1703183,1737413,1782708,1831198,1886514,1930886,1973297,2023842,2050282,2069326,2071340,2068041,2041502,2026140,2011841,1989206,1950153,1916510,1865265,1816604,1786804,1796584,1819918,1845644,1886703,1932430,null,{"$f":"INDEX(CC24:CY24,'Population Pyramid'!$L$1)","v":1819918}]
["male",9,322703,322282,336796,336590,341421,351558,347913,351972,358612,352860,343370,342130,335244,337199,339168,331394,328232,320771,313351,307653,315830,327161,334872,345985,354638,368505,366042,370000,375586,374026,369524,365577,null,9,3412367,3431014,3452000,3449034,3441980,3433556,3406265,3382671,3338615,3276147,3237589,3221635,3215576,3213665,3216558,3234900,3270350,3305372,3352927,3409921,3490215,3551150,3592637,3623795,3643782,3638218,3605902,3568292,3512338,3443170,3443305,3447657,null,"Males","45-49",null,{"$f":"SUM(C61:C65)","v":1694327},1762678,1791769,1808492,1809787,1723390,1671386,1649657,1636933,1643894,1657606,1691636,1728566,1773871,1826409,1868913,1914021,1962862,2009125,2034545,2051957,2056291,2055388,2042539,2042397,2026306,1999342,1954340,1910779,1851449,1800241,1774009,null,{"$f":"INDEX(CC25:CY25,'Population Pyramid'!$L$1)","v":1910779}]
["male",10,321923,322034,323014,337786,336962,341716,351796,348552,352561,359135,353809,345082,343840,337041,338718,341052,332653,330379,322710,314994,309147,317905,329721,337144,346677,355032,369069,367002,370261,376245,379069,375231,null,10,3734290,3753048,3775014,3786820,3778942,3775272,3758061,3731223,3691176,3635282,3591398,3566717,3559416,3550706,3555276,3575952,3603003,3635751,3675637,3724915,3799362,3869055,3922358,3960939,3990459,3993250,3974971,3935294,3882599,3819415,3822374,3822888,null,"Males","50-54",null,{"$f":"SUM(C66:C70)","v":1360657},1386327,1426862,1471063,1534218,1659903,1729024,1760497,1775943,1770895,1693608,1641392,1615539,1606897,1612264,1634654,1670447,1707527,1750835,1798415,1852239,1901081,1951591,1998063,2027044,2045523,2051103,2048012,2028917,2026428,2004777,1973892,null,{"$f":"INDEX(CC26:CY26,'Population Pyramid'!$L$1)","v":2028917}]
["male",11,326726,322029,322254,323878,338955,337337,342435,352731,348906,353308,360151,354843,346017,346012,338047,340718,342408,334742,332448,324515,315490,310954,320371,332494,339563,347280,355594,370232,367631,371100,380818,384524,null,11,4061016,4075077,4097268,4110698,4117897,4112609,4100496,4083954,4040082,3988590,3951549,3921560,3905433,3896718,3893323,3916670,3945411,3970493,4008085,4049430,4114852,4180009,4242729,4293433,4330022,4340530,4330565,4305526,4250230,4190515,4203192,4207412,null,"Males","55-59",null,{"$f":"SUM(C71:C75)","v":1283224},1299335,1316718,1324309,1314840,1317827,1343518,1383032,1428711,1491994,1610429,1676988,1705459,1720625,1720840,1638458,1591538,1574086,1566196,1576567,1602263,1633646,1671607,1720279,1772453,1825997,1873656,1919447,1958332,1985089,2001418,2003983,null,{"$f":"INDEX(CC27:CY27,'Population Pyramid'!$L$1)","v":1958332}]
["male",12,329988,326623,322006,322322,324825,339510,337622,343142,352880,349384,353466,361222,354740,347143,347161,339473,342325,344547,336703,334301,324668,316174,312887,322863,335244,341802,347903,356425,370743,368723,375542,385712,null,12,4391004,4401700,4419274,4433020,4442722,4452119,4438118,4427096,4392962,4337974,4305015,4282782,4260173,4243861,4240484,4256143,4287736,4315040,4344788,4383731,4439520,4496183,4555616,4616296,4665266,4682332,4678468,4661951,4620973,4559238,4578734,4593124,null,"Males","60-64",null,{"$f":"SUM(C76:C80)","v":1228135},1219073,1210435,1206688,1204953,1212477,1230494,1249856,1259161,1251730,1252983,1276778,1313418,1355976,1415196,1529207,1597911,1627568,1647736,1652688,1572186,1532782,1516886,1510181,1522002,1548451,1580155,1617078,1662209,1712131,1762596,1805495,null,{"$f":"INDEX(CC28:CY28,'Population Pyramid'!$L$1)","v":1662209}]
["male",13,318732,329942,326812,322221,322465,325560,340650,338138,343786,353350,348695,353953,361303,355231,347556,348996,340558,344768,346550,338619,334626,325193,317215,315123,325594,337911,344162,348631,356872,371897,373046,380005,null,13,4709736,4731642,4746086,4755241,4765187,4777679,4778768,4765234,4736748,4691324,4653710,4636735,4621476,4599092,4588040,4605139,4628294,4659808,4691338,4722350,4774146,4821376,4872831,4931419,4990860,5020243,5022630,5010582,4977845,4931135,4951780,4973129,null,"Males","65-69",null,{"$f":"SUM(C81:C85)","v":1129250},1117539,1109795,1107128,1105639,1104385,1102553,1098840,1099748,1104859,1114962,1130897,1146939,1155027,1145474,1149698,1177348,1219590,1265030,1324899,1446257,1509584,1535915,1552885,1558019,1481751,1444910,1430155,1422322,1433368,1459580,1489100,null,{"$f":"INDEX(CC29:CY29,'Population Pyramid'!$L$1)","v":1422322}]
["male",14,293415,318765,330191,327193,322733,322490,326192,341501,338459,344339,351455,348342,353310,361873,354790,348327,350333,342367,347043,348506,338723,335275,326151,318752,317744,328488,341033,347094,349739,358243,376211,377442,null,14,5003151,5050407,5076277,5082434,5087920,5100169,5104960,5106735,5075207,5035663,5005165,4985077,4974786,4960965,4942830,4953466,4978627,5002175,5038381,5070856,5112869,5156651,5198982,5250171,5308604,5348731,5363663,5357676,5327584,5289378,5327991,5350571,null,"Males","70-74",null,{"$f":"SUM(C86:C90)","v":920586},965359,998733,971304,953593,942834,938593,937517,940460,946760,950889,953520,953538,959150,965905,979298,1000833,1021457,1033307,1027959,1037679,1065413,1109388,1150730,1206591,1319406,1377747,1401323,1413470,1416681,1348007,1313895,null,{"$f":"INDEX(CC30:CY30,'Population Pyramid'!$L$1)","v":1413470}]
["male",15,288896,293637,318922,330472,327662,323519,323129,326931,341054,340412,342759,351516,348522,354579,364760,356889,350729,353956,345738,350744,348881,339388,336607,327764,320817,320557,331783,344323,349118,351119,362568,381017,null,15,5292047,5344044,5395199,5412906,5415582,5423688,5428089,5433666,5416261,5376075,5347924,5336593,5323308,5315544,5307590,5310355,5329356,5356131,5384119,5421600,5461750,5496039,5535589,5577935,5629421,5669288,5695446,5701999,5676702,5640497,5690559,5731588,null,"Males","75-79",null,{"$f":"SUM(C91:C95)","v":637862},606173,582719,622978,659898,695066,732371,755440,740861,734052,731492,732440,737648,746893,758033,769223,778556,785937,798152,810590,826384,848062,869609,879147,875506,885589,911267,952034,985708,1032208,1132327,1183538,null,{"$f":"INDEX(CC31:CY31,'Population Pyramid'!$L$1)","v":985708}]
["male",16,301281,288692,293407,318817,330569,328165,323904,323812,327416,344276,340872,342047,351533,349556,357122,367614,359075,353967,358232,349391,350899,349754,340730,338610,329980,322833,323726,335085,346737,351618,356561,368491,null,16,5593328,5632736,5688606,5731723,5746151,5751853,5751993,5757478,5743677,5720351,5688796,5678640,5674841,5665100,5664712,5677969,5688431,5710098,5742351,5770991,5812649,5845793,5876319,5916545,5959401,5992121,6019172,6037084,6023439,5992115,6047120,6100079,null,"Males","80-84",null,{"$f":"SUM(C96:C100)","v":385465},395106,401857,407939,407330,399918,383060,376333,407555,441267,468101,493128,505728,503666,505251,510181,517782,527705,542321,557203,570961,581323,592612,603567,616212,630040,647458,666244,670607,665753,674789,695247,null,{"$f":"INDEX(CC32:CY32,'Population Pyramid'!$L$1)","v":670607}]
["male",17,314202,300736,288378,292990,319015,330977,328569,324967,323351,331178,345015,342083,341112,351648,352189,360134,370163,361890,357752,362830,350870,352100,352136,343640,342195,332748,326122,327976,338506,350533,358566,363568,null,17,5907530,5933472,5976984,6024713,6065166,6082830,6080562,6082445,6067028,6051529,6033811,6020723,6015953,6016748,6016901,6038103,6058594,6071988,6100103,6133821,6163519,6197893,6228455,6260185,6301596,6324869,6345294,6365060,6361945,6342648,6405686,6463647,null,"Males","85+",null,{"$f":"SUM(C101:C106)","v":201689},214457,222314,233082,240513,249276,260540,269268,277014,282952,284793,281406,288547,311421,334179,353835,368575,381992,397508,414079,430878,442839,461743,474608,491809,507044,517198,533837,540354,553912,570915,584158,null,{"$f":"INDEX(CC33:CY33,'Population Pyramid'!$L$1)","v":540354}]
["male",18,323829,310882,296809,284599,288257,313044,324290,322572,317002,321734,334022,348203,344427,341392,355625,356040,363162,374527,366877,363483,366387,355032,356740,358207,350465,347822,338449,332959,334601,346585,359788,365574,null,18,6231359,6244354,6273793,6309312,6353423,6395874,6404852,6405017,6384030,6373263,6367833,6368926,6360380,6358140,6372526,6394143,6421756,6446515,6466980,6497304,6529906,6552925,6585195,6618392,6652061,6672691,6683743,6698019,6696546,6689233,6765474,6829221]
["male",19,346082,319644,305713,291929,278065,280979,304292,316198,315290,314519,327621,339550,352695,348641,347961,361341,360129,369210,382777,374911,370164,373217,363252,364738,368033,357953,356370,347001,343710,346599,358610,369718,null,19,6577441,6563998,6579506,6601241,6631488,6676853,6709144,6721215,6699320,6687782,6695454,6708476,6713075,6706781,6720487,6755484,6781885,6815725,6849757,6872215,6900070,6926142,6948447,6983130,7020094,7030644,7040113,7045020,7040256,7035832,7124084,7198939,null,"Females","All Ages",null,{"$f":"C200","v":26136186},26193235,26263185,26325644,26380656,26446454,26519404,26610030,26702135,26785720,26894025,27009129,27139907,27340945,27517504,27718324,27927399,28113573,28319686,28533290,28752140,28973385,29211642,29430178,29690146,29877059,30055617,30231833,30312278,30457171,30723697,31018735,null,{"$f":"INDEX(CC35:CY35,'Population Pyramid'!$L$1)","v":30312278}]
["male",20,371128,348503,323803,312489,300513,289399,294544,315346,327634,326366,317079,329009,343435,356820,351999,352192,363396,361547,377378,391614,380729,375751,379747,370726,372018,373416,363569,362420,352080,349770,357652,368028,null,20,6948569,6912501,6903309,6913730,6932001,6966252,7003688,7036561,7026954,7014148,7012533,7037485,7056510,7063601,7072486,7107676,7145281,7177272,7227135,7263829,7280799,7301893,7328194,7353856,7392112,7404060,7403682,7407440,7392336,7385602,7481736,7566967,null,"Females","0-4",null,{"$f":"SUM(C109:C113)","v":1680661},1669400,1661878,1642860,1610130,1589311,1571637,1555637,1537356,1508558,1487644,1477045,1478511,1495919,1524286,1567316,1616971,1653378,1687030,1711878,1739678,1744093,1743296,1734503,1721796,1694767,1667843,1640581,1608682,1568216,1571321,1568923,null,{"$f":"INDEX(CC36:CY36,'Population Pyramid'!$L$1)","v":1608682}]
["male",21,382866,370499,347370,324108,312776,301561,291021,295413,314415,328247,330054,320737,335933,349649,362081,360124,354610,364755,371264,387925,394907,385114,380710,385354,376999,374773,376826,367409,362756,354768,357925,365925,null,21,7331435,7283000,7250679,7237838,7244777,7267813,7294709,7331974,7341369,7342395,7342587,7358222,7392443,7413250,7434567,7467800,7499891,7542027,7598399,7651754,7675706,7687007,7708904,7739210,7769111,7778833,7780508,7774849,7755092,7740370,7839661,7932892,null,"Females","5-9",null,{"$f":"SUM(C114:C118)","v":1584502},1611854,1636011,1650101,1671002,1680422,1670672,1663588,1639716,1612265,1598436,1591024,1580414,1564877,1543657,1517300,1501729,1500292,1512699,1539381,1586548,1638548,1676033,1710573,1740465,1763329,1759570,1750600,1733414,1715387,1714388,1720549,null,{"$f":"INDEX(CC37:CY37,'Population Pyramid'!$L$1)","v":1733414}]
["male",22,381827,382462,369772,348386,324954,313722,303354,293684,297357,317041,333455,334337,330817,345101,356323,371861,365381,355441,375503,382973,389684,396931,389076,385059,389485,378470,375181,378443,363770,364022,364418,365718,null,22,7713262,7665462,7620451,7586224,7569731,7581535,7598063,7625658,7638726,7659436,7676042,7692559,7723260,7758351,7790890,7839661,7865272,7897468,7973902,8034727,8065390,8083938,8097980,8124269,8158596,8157303,8155689,8153292,8118862,8104392,8204079,8298610,null,"Females","10-14",null,{"$f":"SUM(C119:C123)","v":1519200},1549375,1555771,1562629,1571621,1590857,1618755,1644390,1655814,1674885,1687343,1683264,1675080,1662893,1645593,1636997,1628251,1614777,1603732,1583073,1548127,1531432,1531734,1548913,1581770,1622434,1668651,1699819,1727101,1757227,1795955,1812922,null,{"$f":"INDEX(CC38:CY38,'Population Pyramid'!$L$1)","v":1727101}]
["male",23,394111,380705,381283,370650,349138,325967,314903,307029,297420,303075,323222,339045,345278,342246,353673,366860,377720,368025,365626,386756,384618,392245,400395,394844,389942,390849,379799,376041,375258,365472,377684,375371,null,23,8107373,8046167,8001734,7956874,7918869,7907502,7912966,7932687,7936146,7962511,7999264,8031604,8068538,8100597,8144563,8206521,8242992,8265493,8339528,8421483,8450008,8476183,8498375,8519113,8548538,8548152,8535488,8529333,8494120,8469864,8581763,8673981,null,"Females","15-19",null,{"$f":"SUM(C124:C128)","v":1510197},1458855,1454060,1473828,1501440,1534286,1560704,1566550,1562689,1578418,1603116,1645700,1675943,1698972,1712646,1732216,1735770,1743570,1732304,1719795,1698671,1682712,1665998,1650482,1635584,1609777,1602064,1609142,1629615,1657326,1692287,1741478,null,{"$f":"INDEX(CC39:CY39,'Population Pyramid'!$L$1)","v":1629615}]
["male",24,397213,392443,379101,381628,370881,349550,326503,318488,310979,304482,308981,329083,350813,356763,352170,365413,372506,380328,379524,375340,380827,380039,387608,396907,390878,383016,383595,372312,366905,372627,378937,388324,null,24,8504586,8438610,8380835,8338502,8289750,8257052,8239469,8251175,8247125,8266993,8308245,8360687,8419351,8457360,8496733,8571934,8615498,8645821,8719052,8796823,8830835,8856222,8885983,8916020,8939416,8931168,8919083,8901645,8861025,8842491,8960700,9062305,null,"Females","20-24",null,{"$f":"SUM(C129:C133)","v":1896626},1842594,1774271,1711989,1632950,1560629,1516650,1516871,1540036,1577685,1617800,1654080,1687160,1733001,1772676,1801211,1834139,1840515,1853376,1884229,1901450,1910362,1916591,1911603,1903648,1885957,1876149,1858075,1807953,1788450,1785532,1783930,null,{"$f":"INDEX(CC40:CY40,'Population Pyramid'!$L$1)","v":1807953}]
["male",25,410269,396651,391824,380858,383341,371715,351102,331249,325109,317573,311594,314522,335086,360085,363825,361385,372309,372073,382955,385830,370696,378057,377479,385944,393996,386756,378324,379411,368858,366839,385207,389661,null,25,8914855,8835261,8772659,8719360,8673091,8628767,8590571,8582424,8572234,8584566,8619839,8675209,8754437,8817445,8860558,8933319,8987807,9017894,9102007,9182653,9201531,9234279,9263462,9301964,9333412,9317924,9297407,9281056,9229883,9209330,9345907,9451966,null,"Females","25-29",null,{"$f":"SUM(C134:C138)","v":2082030},2062861,2041269,2004895,1979709,1945173,1902255,1850941,1809873,1744662,1681071,1647056,1658153,1712479,1762909,1824599,1872687,1895208,1913018,1923189,1930258,1946638,1967932,1988062,2022003,2037570,2034364,2033063,2009848,1980809,1979222,2000917,null,{"$f":"INDEX(CC41:CY41,'Population Pyramid'!$L$1)","v":2009848}]
["male",26,412078,409172,396082,393641,382103,383767,372633,355029,336914,331340,323600,317014,319456,344005,367605,372470,369315,373041,374388,388744,382808,370378,378877,379311,387187,392873,386483,378128,378786,371827,378970,396469,null,26,9326933,9244433,9168741,9113001,9055194,9012534,8963204,8937453,8909148,8915906,8943439,8992223,9073893,9161450,9228163,9305789,9357122,9390935,9476395,9571397,9584339,9604657,9642339,9681275,9720599,9710797,9683890,9659184,9608669,9581157,9724877,9848435,null,"Females","30-34",null,{"$f":"SUM(C139:C143)","v":1909446},1956246,2007965,2051007,2075800,2087857,2080722,2069172,2049279,2033424,2010113,1974793,1919327,1883350,1831721,1773284,1752312,1762041,1802700,1851379,1907076,1958625,1980868,1996612,2016755,2037339,2067364,2099818,2121377,2145444,2161226,2168414,null,{"$f":"INDEX(CC42:CY42,'Population Pyramid'!$L$1)","v":2121377}]
["male",27,419822,411066,408601,397640,394283,382514,384705,376256,360360,342807,336643,328392,321618,326962,351224,376389,380055,371352,376282,379580,387539,383044,372951,383126,383591,389034,394572,389349,379894,382270,382489,389367,null,27,9746755,9655499,9577342,9510641,9449477,9395048,9347909,9313709,9269508,9258713,9280082,9320615,9395511,9488412,9579387,9682178,9737177,9762287,9852677,9950977,9971878,9987701,10015290,10064401,10104190,10099831,10078462,10048533,9988563,9963427,10107366,10237802,null,"Females","35-39",null,{"$f":"SUM(C144:C148)","v":1695504},1723744,1760028,1802476,1853891,1903403,1951889,2003956,2053680,2081985,2103784,2100222,2093969,2070992,2059965,2040482,2009443,1966383,1922517,1858048,1812192,1789797,1809792,1854044,1907803,1960497,2008327,2028271,2040307,2056249,2093129,2145756,null,{"$f":"INDEX(CC43:CY43,'Population Pyramid'!$L$1)","v":2040307}]
["male",28,418678,417763,410491,410299,399112,394354,383046,387723,380973,365262,348022,341242,332623,329247,333402,360047,384633,382088,375988,382535,378831,388077,385007,377464,388339,386784,392077,398106,392199,383789,391435,392092,null,28,10165433,10073262,9987833,9920940,9848589,9789402,9730955,9701432,9650481,9623975,9628104,9661857,9728134,9817659,9912789,10042225,10121810,10144375,10228665,10333512,10350709,10375778,10400297,10441865,10492529,10486615,10470539,10446639,10380762,10347216,10498801,10629894,null,"Females","40-44",null,{"$f":"SUM(C149:C153)","v":1755743},1704551,1683346,1667723,1673799,1695646,1725008,1759129,1805241,1853349,1905417,1955037,2007179,2056890,2086487,2108503,2103259,2097761,2076795,2068199,2054257,2029320,1987827,1950648,1896007,1848431,1823672,1840293,1878787,1925944,1981045,2039195,null,{"$f":"INDEX(CC44:CY44,'Population Pyramid'!$L$1)","v":1878787}]
["male",29,410169,416712,417008,411861,411063,399581,395124,385889,392258,384910,369781,352349,344845,339243,335100,340599,367826,387293,386365,383017,382127,379391,389897,388336,382640,391861,390492,396269,400645,396253,391609,399857,null,29,10575602,10489974,10404841,10332801,10259652,10188983,10126079,10087321,10042739,10008885,9997885,10014206,10072979,10156902,10247889,10382824,10489636,10531668,10615030,10716529,10732836,10755169,10790194,10830201,10875169,10878476,10861031,10842908,10781407,10743469,10890410,11029751,null,"Females","45-49",null,{"$f":"SUM(C154:C158)","v":1693680},1768900,1802534,1821757,1825445,1744415,1693234,1673864,1664648,1670133,1688650,1718698,1749197,1792971,1842383,1895002,1947236,1999599,2047110,2078162,2097901,2105436,2106544,2093821,2095914,2081164,2053576,2007359,1963502,1904719,1855457,1832791,null,{"$f":"INDEX(CC45:CY45,'Population Pyramid'!$L$1)","v":1963502}]
["male",30,399833,408229,415220,417567,412975,411501,399717,397314,389667,395591,385184,370562,353321,347723,341378,336893,345684,373022,388308,388036,382868,382740,380888,392586,391809,385711,395526,395347,399069,403113,403092,399177,null,30,10975435,10898203,10820061,10750368,10672627,10600484,10525796,10484635,10432406,10404476,10383069,10384768,10426300,10504625,10589267,10719717,10835320,10904690,11003338,11104565,11115704,11137909,11171082,11222787,11266978,11264187,11256557,11238255,11180476,11146582,11293502,11428928,null,"Females","50-54",null,{"$f":"SUM(C159:C163)","v":1362893},1390831,1432706,1479242,1544397,1672625,1747044,1781918,1803429,1801328,1727163,1672665,1648952,1634915,1641900,1662493,1693896,1728088,1772756,1826566,1882198,1936083,1992029,2044924,2081953,2102598,2111903,2110786,2093780,2095013,2075187,2044490,null,{"$f":"INDEX(CC46:CY46,'Population Pyramid'!$L$1)","v":2093780}]
["male",31,395457,398133,407126,415196,417689,413229,411806,401848,400734,393097,396108,385969,371690,355866,349257,342657,341135,349402,374061,390576,388144,383749,384224,383280,395716,393399,389126,400399,397638,402360,409124,410472,null,31,11370892,11296336,11227187,11165564,11090316,11013713,10937602,10886483,10833140,10797573,10779177,10770737,10797990,10860491,10938524,11062374,11176455,11254092,11377399,11495141,11503848,11521658,11555306,11606067,11662694,11657586,11645683,11638654,11578114,11548942,11702626,11839400,null,"Females","55-59",null,{"$f":"SUM(C164:C168)","v":1296383},1312314,1331996,1341824,1333856,1340112,1367474,1407049,1454519,1520020,1642471,1711018,1741580,1757056,1759836,1682239,1631800,1614830,1604112,1613977,1639423,1671001,1708082,1756497,1809776,1866236,1919846,1972724,2021720,2058999,2076378,2083590,null,{"$f":"INDEX(CC47:CY47,'Population Pyramid'!$L$1)","v":2021720}]
["male",32,376952,393099,396893,407108,415302,417470,413206,413245,404392,403056,393630,397184,386884,374208,357456,350291,346425,344890,349817,376381,390406,388412,384530,385643,385089,396024,394365,392052,402125,399746,407167,415092,null,32,11747844,11689435,11624080,11572672,11505618,11431183,11350808,11299728,11237532,11200629,11172807,11167921,11184874,11234699,11295980,11412665,11522880,11598982,11727216,11871522,11894254,11910070,11939836,11991710,12047783,12053610,12040048,12030706,11980239,11948688,12109793,12254492,null,"Females","60-64",null,{"$f":"SUM(C169:C173)","v":1306371},1291208,1273182,1258895,1252189,1256622,1272446,1292069,1304429,1297331,1301110,1328312,1364646,1405026,1463864,1583875,1654618,1685928,1706985,1714084,1634382,1593140,1577700,1568439,1578922,1604272,1635750,1670765,1716626,1770461,1824758,1876395,null,{"$f":"INDEX(CC48:CY48,'Population Pyramid'!$L$1)","v":1716626}]
["male",33,365860,375733,391690,397042,407267,414821,417222,414369,415842,406759,403126,393848,398050,388983,375712,358490,353626,349562,345178,351295,376438,391063,389213,385953,387265,385057,396516,395378,392871,403732,403895,412689,null,33,{"$f":"AK48+C49","v":12113704},{"$f":"AL48+D49","v":12065168},{"$f":"AM48+E49","v":12015770},{"$f":"AN48+F49","v":11969714},{"$f":"AO48+G49","v":11912885},{"$f":"AP48+H49","v":11846004},{"$f":"AQ48+I49","v":11768030},{"$f":"AR48+J49","v":11714097},{"$f":"AS48+K49","v":11653374},{"$f":"AT48+L49","v":11607388},{"$f":"AU48+M49","v":11575933},{"$f":"AV48+N49","v":11561769},{"$f":"AW48+O49","v":11582924},{"$f":"AX48+P49","v":11623682},{"$f":"AY48+Q49","v":11671692},{"$f":"AZ48+R49","v":11771155},{"$f":"BA48+S49","v":11876506},{"$f":"BB48+T49","v":11948544},{"$f":"BC48+U49","v":12072394},{"$f":"BD48+V49","v":12222817},{"$f":"BE48+W49","v":12270692},{"$f":"BF48+X49","v":12301133},{"$f":"BG48+Y49","v":12329049},{"$f":"BH48+Z49","v":12377663},{"$f":"BI48+AA49","v":12435048},{"$f":"BJ48+AB49","v":12438667},{"$f":"BK48+AC49","v":12436564},{"$f":"BL48+AD49","v":12426084},{"$f":"BM48+AE49","v":12373110},{"$f":"BN48+AF49","v":12352420},{"$f":"BO48+AG49","v":12513688},{"$f":"BP48+AH49","v":12667181},null,"Females","65-69",null,{"$f":"SUM(C174:C178)","v":1294123},1270997,1255701,1247871,1240220,1230348,1220529,1206694,1198068,1194005,1199489,1214210,1231538,1239979,1226827,1230171,1258025,1298176,1340958,1401057,1524656,1591856,1622411,1644228,1651934,1575150,1534915,1520124,1511330,1521895,1546211,1576100,null,{"$f":"INDEX(CC49:CY49,'Population Pyramid'!$L$1)","v":1511330}]
["male",34,358702,365073,374668,390960,396970,406484,413701,417444,416472,417582,406532,403262,394021,400234,390295,376780,361619,356390,349679,346680,351740,377454,392471,390925,387841,387337,385425,397126,394806,394438,407410,409268,null,34,12472406,12430241,12390438,12360674,12309855,12252488,12181731,12131541,12069846,12024970,11982465,11965031,11976945,12023916,12061987,12147935,12238125,12304934,12422073,12569497,12622432,12678587,12721520,12768588,12822889,12826004,12821989,12823210,12767916,12746858,12921098,13076449,null,"Females","70-74",null,{"$f":"SUM(C179:C183)","v":1196232},1247275,1282857,1235321,1196528,1168558,1149571,1137997,1133964,1131760,1126589,1121628,1110969,1104053,1099751,1105002,1121457,1139438,1148221,1140959,1150135,1177703,1219008,1260025,1317130,1435301,1499634,1528708,1547744,1554799,1482924,1444983,null,{"$f":"INDEX(CC50:CY50,'Population Pyramid'!$L$1)","v":1547744}]
["male",35,347186,358450,364655,374016,389610,395811,405531,413540,417746,417048,418007,408023,403570,397354,402105,393517,377788,361484,356835,350452,347311,352770,378739,394227,392617,387758,387406,385448,395644,394031,397933,412465,null,35,12819592,12788691,12755093,12734690,12699465,12648299,12587262,12545081,12487592,12442018,12400472,12373054,12380515,12421270,12464092,12541452,12615913,12666418,12778908,12919949,12969743,13031357,13100259,13162815,13215506,13213762,13209395,13208658,13163560,13140889,13319031,13488914,null,"Females","75-79",null,{"$f":"SUM(C184:C188)","v":986813},935890,892701,933207,975419,1015045,1059715,1084140,1049841,1020415,999040,984614,977898,977962,979413,979899,979088,974907,974130,976657,985829,1002980,1022726,1030870,1025104,1033801,1058957,1098590,1135065,1186585,1295917,1354975,null,{"$f":"INDEX(CC51:CY51,'Population Pyramid'!$L$1)","v":1135065}]
["male",36,339139,346924,358310,364623,373499,388306,394862,405556,413485,417934,417442,419182,407642,406323,398275,404942,394358,377751,362088,357400,351551,348216,353948,380305,395821,392399,387540,386946,383575,393755,397213,402496,null,36,13158731,13135615,13113403,13099313,13072964,13036605,12982124,12950637,12901077,12859952,12817914,12792236,12788157,12827593,12862367,12946394,13010271,13044169,13140996,13277349,13321294,13379573,13454207,13543120,13611327,13606161,13596935,13595604,13547135,13534644,13716244,13891410,null,"Females","80-84",null,{"$f":"SUM(C189:C193)","v":751667},756927,762931,767804,758605,736891,699908,674954,708511,750954,785711,819313,831782,812003,791950,779876,773078,772802,779967,788087,794666,795767,797846,797587,803686,813193,829056,846855,851907,845948,853718,874816,null,{"$f":"INDEX(CC52:CY52,'Population Pyramid'!$L$1)","v":851907}]
["male",37,329384,338282,346744,358425,364549,372737,387311,394984,405801,413528,418196,418437,418758,409825,407064,400415,406160,394381,378268,362691,358440,352588,348995,354957,381249,395265,391718,386786,385015,381589,396070,401544,null,37,13488115,13473897,13460147,13457738,13437513,13409342,13369435,13345621,13306878,13273480,13236110,13210673,13206915,13237418,13269431,13346809,13416431,13438550,13519264,13640040,13679734,13732161,13803202,13898077,13992576,14001426,13988653,13982390,13932150,13916233,14112314,14292954,null,"Females","85+",null,{"$f":"SUM(C194:C199)","v":614115},639413,653978,672215,683655,694254,711191,721111,731042,734543,729078,710450,707609,737607,771640,797859,813640,825880,841276,854570,864693,867892,885225,888347,899896,905243,903976,916260,913520,923700,939042,948511,null,{"$f":"INDEX(CC53:CY53,'Population Pyramid'!$L$1)","v":913520}]
["male",38,334224,328785,337695,347069,358740,364239,372251,387148,395040,405901,413878,419159,417894,420409,409885,408689,400716,406342,394828,379017,363540,359544,353704,349899,355737,380650,394615,390745,384613,382250,383721,399998,null,38,13822339,13802682,13797842,13804807,13796253,13773581,13741686,13732769,13701918,13679381,13649988,13629832,13624809,13657827,13679316,13755498,13817147,13844892,13914092,14019057,14043274,14091705,14156906,14247976,14348313,14382076,14383268,14373135,14316763,14298483,14496035,14692952]
["male",39,332788,333676,328618,337723,347350,358815,364292,372819,387034,395276,406753,415206,418627,419203,420201,410777,408823,400023,406933,395495,379681,364427,360667,354752,350442,355068,379843,393766,388787,382207,384133,387293,null,39,14155127,14136358,14126460,14142530,14143603,14132396,14105978,14105588,14088952,14074657,14056741,14045038,14043436,14077030,14099517,14166275,14225970,14244915,14321025,14414552,14422955,14456132,14517573,14602728,14698755,14737144,14763111,14766901,14705550,14680690,14880168,15080245]
["male",40,326539,331665,333076,328775,337505,347513,358880,364533,372156,385494,397769,406404,413560,419564,417521,419348,410123,409583,398083,405691,395795,380374,365256,361713,355360,349637,354062,378825,391684,386421,383584,387245,null,40,14481666,14468023,14459536,14471305,14481108,14479909,14464858,14470121,14461108,14460151,14454510,14451442,14456996,14496594,14517038,14585623,14636093,14654498,14719108,14820243,14818750,14836506,14882829,14964441,15054115,15086781,15117173,15145726,15097234,15067111,15263752,15467490]
["male",41,334812,326181,331286,332863,328796,337116,347381,359522,365000,371967,387363,397689,404791,414393,417855,416521,418383,410182,407629,396139,406406,396232,380998,366085,362447,355049,348771,353364,377013,389646,387263,386672,null,41,14816478,14794204,14790822,14804168,14809904,14817025,14812239,14829643,14826108,14832118,14841873,14849131,14861787,14910987,14934893,15002144,15054476,15064680,15126737,15216382,15225156,15232738,15263827,15330526,15416562,15441830,15465944,15499090,15474247,15456757,15651015,15854162]
["male",42,343785,333715,325853,330957,332797,328670,336718,347923,360026,364895,373687,387208,396771,405591,413199,416866,415342,418115,407789,405713,396903,407246,396783,381759,366806,362399,354698,347820,351698,374931,390421,389355,null,42,15160263,15127919,15116675,15135125,15142701,15145695,15148957,15177566,15186134,15197013,15215560,15236339,15258558,15316578,15348092,15419010,15469818,15482795,15534526,15622095,15622059,15639984,15660610,15712285,15783368,15804229,15820642,15846910,15825945,15831688,16041436,16243517]
["male",43,356535,343017,332843,325840,330485,332323,328499,336825,348749,360201,366354,373474,385828,397834,404488,412490,415738,414866,415628,405426,406651,397874,408397,397638,382592,367000,362414,354513,346263,349942,375301,392378,null,43,15516798,15470936,15449518,15460965,15473186,15478018,15477456,15514391,15534883,15557214,15581914,15609813,15644386,15714412,15752580,15831500,15885556,15897661,15950154,16027521,16028710,16037858,16069007,16109923,16165960,16171229,16183056,16201423,16172208,16181630,16416737,16635895]
["male",44,381468,355659,342323,332386,325820,330100,331705,328610,336777,348641,361341,366111,372347,386460,397219,404101,411754,415295,412373,413171,406086,407480,398719,409315,398060,382519,366859,362062,353260,344704,350134,376780,null,44,15898266,15826595,15791841,15793351,15799006,15808118,15809161,15843001,15871660,15905855,15943255,15975924,16016733,16100872,16149799,16235601,16297310,16312956,16362527,16440692,16434796,16445338,16467726,16519238,16564020,16553748,16549915,16563485,16525468,16526334,16766871,17012675]
["male",45,416241,380550,354566,341437,331251,325231,329188,331276,328065,336262,346222,360873,366017,371965,386452,395115,403440,411528,415041,411181,413419,406696,408304,399532,410032,397799,382251,366585,361029,352282,344730,351252,null,45,16314507,16207145,16146407,16134788,16130257,16133349,16138349,16174277,16199725,16242117,16289477,16336797,16382750,16472837,16536251,16630716,16700750,16724484,16777568,16851873,16848215,16852034,16876030,16918770,16974052,16951547,16932166,16930070,16886497,16878616,17111601,17363927]
["male",46,326460,413561,379902,353735,340432,330050,324693,328619,330475,327721,333961,345889,360416,365463,371988,384214,394935,403243,411547,414054,411266,413555,407316,408962,400019,410187,397300,381707,365452,360389,352277,345606,null,46,16640967,16620706,16526309,16488523,16470689,16463399,16463042,16502896,16530200,16569838,16623438,16682686,16743166,16838300,16908239,17014930,17095685,17127727,17189115,17265927,17259481,17265589,17283346,17327732,17374071,17361734,17329466,17311777,17251949,17239005,17463878,17709533]
["male",47,321767,325975,411525,379200,352690,339407,328977,324404,327702,329911,325078,333616,345348,359465,365291,370003,383644,395226,403356,410980,414061,411421,413972,408034,409551,400101,410160,396813,380441,364736,359972,352748,null,47,16962734,16946681,16937834,16867723,16823379,16802806,16792019,16827300,16857902,16899749,16948516,17016302,17088514,17197765,17273530,17384933,17479329,17522953,17592471,17676907,17673542,17677010,17697318,17735766,17783622,17761835,17739626,17708590,17632390,17603741,17823850,18062281]
["male",48,323167,321041,325434,409366,378374,351472,338207,328017,323852,326768,327539,324387,333268,344460,358886,363091,369522,383490,395704,402826,410788,414167,411645,414325,408559,409669,400035,409655,395496,379613,364278,360210,null,48,17285901,17267722,17263268,17277089,17201753,17154278,17130226,17155317,17181754,17226517,17276055,17340689,17421782,17542225,17632416,17748024,17848851,17906443,17988175,18079733,18084330,18091177,18108963,18150091,18192181,18171504,18139661,18118245,18027886,17983354,18188128,18422491]
["male",49,306692,321551,320342,324754,407040,377230,350321,337341,326839,323232,324806,326871,323517,332518,343792,356490,362480,369375,383477,395504,402423,410452,414151,411686,414236,408550,409596,399580,408361,394429,378984,364193,null,49,17592593,17589273,17583610,17601843,17608793,17531508,17480547,17492658,17508593,17549749,17600861,17667560,17745299,17874743,17976208,18104514,18211331,18275818,18371652,18475237,18486753,18501629,18523114,18561777,18606417,18580054,18549257,18517825,18436247,18377783,18567112,18786684]
["male",50,279676,305415,319675,319702,324259,404217,376089,348982,336271,324788,322094,324030,325062,322881,331427,342685,356250,361987,368268,382183,395017,402066,410186,414055,411541,413858,408378,409046,398346,407609,393366,378328,null,50,17872269,17894688,17903285,17921545,17933052,17935725,17856636,17841640,17844864,17874537,17922955,17991590,18070361,18197624,18307635,18447199,18567581,18637805,18739920,18857420,18881770,18903695,18933300,18975832,19017958,18993912,18957635,18926871,18834593,18785392,18960478,19165012]
["male",51,258355,278099,304100,318172,318942,323373,401509,375081,347910,334543,323733,320718,322491,324562,321320,330480,342653,355386,360623,367041,381752,394385,401714,409905,413723,411008,413288,407701,407619,397609,406417,392490,null,51,18130624,18172787,18207385,18239717,18251994,18259098,18258145,18216721,18192774,18209080,18246688,18312308,18392852,18522186,18628955,18777679,18910234,18993191,19100543,19224461,19263522,19298080,19335014,19385737,19431681,19404920,19370923,19334572,19242212,19183001,19366895,19557502]
["male",52,273423,257343,276484,302886,316501,317895,322463,399169,374220,346118,333182,322481,318501,322151,323042,319933,330564,341750,353500,359204,366540,381232,393792,401157,409352,413049,410151,412062,406156,406996,396157,405017,null,52,18404047,18430130,18483869,18542603,18568495,18576993,18580608,18615890,18566994,18555198,18579870,18634789,18711353,18844337,18951997,19097612,19240798,19334941,19454043,19583665,19630062,19679312,19728806,19786894,19841033,19817969,19781074,19746634,19648368,19589997,19763052,19962519]
["male",53,275266,271792,256297,274901,301470,314591,316619,321531,396612,372400,344498,331499,320479,317588,320883,321757,319610,329930,340055,351677,358357,365909,380598,393035,400389,408341,412040,408757,410165,405320,405316,394613,null,53,18679313,18701922,18740166,18817504,18869965,18891584,18897227,18937421,18963606,18927598,18924368,18966288,19031832,19161925,19272880,19419369,19560408,19664871,19794098,19935342,19988419,20045221,20109404,20179929,20241422,20226310,20193114,20155391,20058533,19995317,20168368,20357132]
["male",54,273937,273678,270306,255402,273046,299827,312344,315734,320930,393046,370101,342664,329006,319715,315592,319799,321370,318474,328389,338310,350573,357489,365301,379911,392039,399267,407246,410446,406631,408894,403521,403444,null,54,18953250,18975600,19010472,19072906,19143011,19191411,19209571,19253155,19284536,19320644,19294469,19308952,19360838,19481640,19588472,19739168,19881778,19983345,20122487,20273652,20338992,20402710,20474705,20559840,20633461,20625577,20600360,20565837,20465164,20404211,20571889,20760576]
["male",55,268476,272258,271992,268517,254108,271121,298040,310369,314421,319684,391421,366732,340397,327499,317903,313202,317906,319953,316973,327115,337071,349487,356623,364499,378899,390746,397922,405207,408047,405275,407071,401604,null,55,19221726,19247858,19282464,19341423,19397119,19462532,19507611,19563524,19598957,19640328,19685890,19675684,19701235,19809139,19906375,20052370,20199684,20303298,20439460,20600767,20676063,20752197,20831328,20924339,21012360,21016323,20998282,20971044,20873211,20809486,20978960,21162180]
["male",56,262583,266393,270279,270099,266715,252449,269082,296264,308080,312635,316798,389192,363627,338425,325112,315427,310651,316552,318239,315134,325642,335714,348316,355534,363330,377518,389112,395726,402643,406488,403305,404751,null,56,19484309,19514251,19552743,19611522,19663834,19714981,19776693,19859788,19907037,19952963,20002688,20064876,20064862,20147564,20231487,20367797,20510335,20619850,20757699,20915901,21001705,21087911,21179644,21279873,21375690,21393841,21387394,21366770,21275854,21215974,21382265,21566931]
["male",57,257467,260308,264293,268103,268001,264672,250691,267061,294097,305725,309694,313515,387349,360903,335989,322545,313059,308782,315146,316474,313523,324078,334292,346863,354174,361955,375794,386962,392926,400615,404243,400740,null,57,19741776,19774559,19817036,19879625,19931835,19979653,20027384,20126849,20201134,20258688,20312382,20378391,20452211,20508467,20567476,20690342,20823394,20928632,21072845,21232375,21315228,21411989,21513936,21626736,21729864,21755796,21763188,21753732,21668780,21616589,21786508,21967671]
["male",58,248125,254989,257905,262139,266067,265769,262391,249193,264620,291858,303510,306471,310600,385885,357834,333094,319871,311206,306648,313535,314595,311719,322470,332684,345227,352483,360266,373571,383980,391000,398202,401516,null,58,19989901,20029548,20074941,20141764,20197902,20245422,20289775,20376042,20465754,20550546,20615892,20684862,20762811,20894352,20925310,21023436,21143265,21239838,21379493,21545910,21629823,21723708,21836406,21959420,22075091,22108279,22123454,22127303,22052760,22007589,22184710,22369187]
["male",59,246573,245387,252249,255451,259949,263816,263314,260145,247493,262092,289006,301078,303486,307913,384002,354190,330051,317593,309190,304309,311432,312648,309906,320699,330823,343295,350562,357981,370736,381711,388597,395372,null,59,20236474,20274935,20327190,20397215,20457851,20509238,20553089,20636187,20713247,20812638,20904898,20985940,21066297,21202265,21309312,21377626,21473316,21557431,21688683,21850219,21941255,22036356,22146312,22280119,22405914,22451574,22474016,22485284,22423496,22389300,22573307,22764559]
["male",60,251965,243512,242500,249314,252657,257305,261028,260701,257592,245115,259489,286036,298443,300034,304158,379685,350980,327495,315565,306833,302033,309179,310461,307767,318637,328542,341026,348126,355144,368404,379192,385524,null,60,20488439,20518447,20569690,20646529,20710508,20766543,20814117,20896888,20970839,21057753,21164387,21271976,21364740,21502299,21613470,21757311,21824296,21884926,22004248,22157052,22243288,22345535,22456773,22587886,22724551,22780116,22815042,22833410,22778640,22757704,22952499,23150083]
["male",61,253195,248292,240795,239550,246393,249726,254696,258543,258011,254742,242059,256582,282765,295650,296256,298977,377626,347736,325086,312732,304453,299608,306801,308159,305441,316311,326016,338455,345109,352704,365555,376008,null,61,20741634,20766739,20810485,20886079,20956901,21016269,21068813,21155431,21228850,21312495,21406446,21528558,21647505,21797949,21909726,22056288,22201922,22232662,22329334,22469784,22547741,22645143,22763574,22896045,23029992,23096427,23141058,23171865,23123749,23110408,23318054,23526091]
["male",62,247283,248928,244412,237308,236136,243020,246444,251662,255503,254696,251564,238608,253345,279413,292677,291305,295633,375483,344496,322062,309929,301712,297021,304212,305569,302786,313640,323147,335203,342389,349836,362163,null,62,20988917,21015667,21054897,21123387,21193037,21259289,21315257,21407093,21484353,21567191,21658010,21767166,21900850,22077362,22202403,22347593,22497555,22608145,22673830,22791846,22857670,22946855,23060595,23200257,23335561,23399213,23454698,23495012,23458952,23452797,23667890,23888254]
["male",63,240369,242713,244599,240436,233691,232575,239482,243124,248498,252130,251326,247984,234830,250000,275676,288381,287979,292423,373340,340526,318841,306840,298976,294186,301311,302653,299975,310601,319757,332127,339205,346261,null,63,21229286,21258380,21299496,21363823,21426728,21491864,21554739,21650217,21732851,21819321,21909336,22015150,22135680,22327362,22478079,22635974,22785534,22900568,23047170,23132372,23176511,23253695,23359571,23494443,23636872,23701866,23754673,23805613,23778709,23784924,24007095,24234515]
["male",64,235323,235628,238129,240080,236076,229851,228844,235826,239557,245047,248545,247568,244035,230879,246429,270859,285693,284431,289249,370535,336930,315443,303627,295857,291044,298159,299498,296749,306996,316507,328808,335539,null,64,21464609,21494008,21537625,21603903,21662804,21721715,21783583,21886043,21972408,22064368,22157881,22262718,22379715,22558241,22724508,22906833,23071227,23184999,23336419,23502907,23513441,23569138,23663198,23790300,23927916,24000025,24054171,24102362,24085705,24101431,24335903,24570054]
["male",65,234746,230003,230594,233245,235192,231404,226062,225129,231989,236230,240664,243800,242803,239858,226195,242570,267698,282923,281409,285263,366298,332920,311780,300079,292449,287586,294585,296033,292985,303607,313024,324865,null,65,{"$f":"AK80+C81","v":21699355},{"$f":"AL80+D81","v":21724011},{"$f":"AM80+E81","v":21768219},{"$f":"AN80+F81","v":21837148},{"$f":"AO80+G81","v":21897996},{"$f":"AP80+H81","v":21953119},{"$f":"AQ80+I81","v":22009645},{"$f":"AR80+J81","v":22111172},{"$f":"AS80+K81","v":22204397},{"$f":"AT80+L81","v":22300598},{"$f":"AU80+M81","v":22398545},{"$f":"AV80+N81","v":22506518},{"$f":"AW80+O81","v":22622518},{"$f":"AX80+P81","v":22798099},{"$f":"AY80+Q81","v":22950703},{"$f":"AZ80+R81","v":23149403},{"$f":"BA80+S81","v":23338925},{"$f":"BB80+T81","v":23467922},{"$f":"BC80+U81","v":23617828},{"$f":"BD80+V81","v":23788170},{"$f":"BE80+W81","v":23879739},{"$f":"BF80+X81","v":23902058},{"$f":"BG80+Y81","v":23974978},{"$f":"BH80+Z81","v":24090379},{"$f":"BI80+AA81","v":24220365},{"$f":"BJ80+AB81","v":24287611},{"$f":"BK80+AC81","v":24348756},{"$f":"BL80+AD81","v":24398395},{"$f":"BM80+AE81","v":24378690},{"$f":"BN80+AF81","v":24405038},{"$f":"BO80+AG81","v":24648927},{"$f":"BP80+AH81","v":24894919}]
["male",66,234310,228942,224499,225319,228143,230076,226751,221825,220813,228182,231667,235621,238980,238510,235276,221991,239422,264120,280346,277372,281469,361766,328947,307791,296324,288768,283929,290816,291940,289361,299861,308826,null,66,21933665,21952953,21992718,22062467,22126139,22183195,22236396,22332997,22425210,22528780,22630212,22742139,22861498,23036609,23185979,23371394,23578347,23732042,23898174,24065542,24161208,24263824,24303925,24398170,24516689,24576379,24632685,24689211,24670630,24694399,24948788,25203745]
["male",67,225377,227410,222782,218714,219690,222694,224736,221531,217392,216647,223530,226713,230650,234488,233894,231014,218153,235913,260731,276947,273424,277457,357040,324365,303585,292124,284839,279932,286373,287823,285485,295558,null,67,22159042,22180363,22215500,22281181,22345829,22405889,22461132,22554528,22642602,22745427,22853742,22968852,23092148,23271097,23419873,23602408,23796500,23967955,24158905,24342489,24434632,24541281,24660965,24722535,24820274,24868503,24917524,24969143,24957003,24982222,25234273,25499303]
["male",68,220139,218470,220530,216441,212676,213856,217072,219229,216191,212719,211757,218516,221517,225744,229669,229352,226990,213979,232593,256753,272814,269215,273360,351841,319503,299002,287656,280629,275434,281976,283682,280989,null,68,22379181,22398833,22436030,22497622,22558505,22619745,22678204,22773757,22858793,22958146,23065499,23187368,23313665,23496841,23649542,23831760,24023490,24181934,24391498,24599242,24707446,24810496,24934325,25074376,25139777,25167505,25205180,25249772,25232437,25264198,25517955,25780292]
["male",69,214678,212714,211390,213409,209938,206355,207932,211126,213363,211081,207344,206247,212989,216427,220440,224771,225085,222655,209951,228564,252252,268226,264788,268809,346158,314271,293901,282745,275590,270601,277528,278862,null,69,22593859,22611547,22647420,22711031,22768443,22826100,22886136,22984883,23072156,23169227,23272843,23393615,23526654,23713268,23869982,24056531,24248575,24404589,24601449,24827806,24959698,25078722,25199113,25343185,25485935,25481776,25499081,25532517,25508027,25534799,25795483,26059154]
["male",70,218002,206707,204896,204130,205840,203033,199802,201648,204830,207508,205381,201562,200775,207837,211213,215511,220151,220470,218362,205293,224288,247586,263463,260051,263868,340138,308520,288597,277176,270599,265862,272361,null,70,22811861,22818254,22852316,22915161,22974283,23029133,23085938,23186531,23276986,23376735,23478224,23595177,23727429,23921105,24081195,24272042,24468726,24625059,24819811,25033099,25183986,25326308,25462576,25603236,25749803,25821914,25807601,25821114,25785203,25805398,26061345,26331515]
["male",71,218433,209244,198647,197066,196331,198249,196140,192870,195125,198637,200991,199280,195551,195198,202399,205955,210482,215268,215878,213326,200761,219712,242657,258171,254776,258582,333485,302553,282555,271526,265400,260228,null,71,23030294,23027498,23050963,23112227,23170614,23227382,23282078,23379401,23472111,23575372,23679215,23794457,23922980,24116303,24283594,24477997,24679208,24840327,25035689,25246425,25384747,25546020,25705233,25861407,26004579,26080496,26141086,26123667,26067758,26076924,26326745,26591743]
["male",72,218191,208855,199986,190344,188735,188453,190404,188691,185725,188619,191897,194064,192798,189534,189324,196974,200678,205043,210306,210743,208242,195995,214811,237176,252629,249130,252778,326540,295639,276262,265723,259422,null,72,23248485,23236353,23250949,23302571,23359349,23415835,23472482,23568092,23657836,23763991,23871112,23988521,24115778,24305837,24472918,24674971,24879886,25045370,25245995,25457168,25592989,25742015,25920044,26098583,26257208,26329626,26393864,26450207,26363397,26353186,26592468,26851165]
["male",73,139699,207521,199106,190747,181587,180301,180406,182328,180903,178649,181466,184709,187068,186380,183274,183727,191519,195002,199612,204846,205303,202716,191182,209615,231329,246514,243079,246833,318350,288448,269903,259212,null,73,23388184,23443874,23450055,23493318,23540936,23596136,23652888,23750420,23838739,23942640,24052578,24173230,24302846,24492217,24656192,24858698,25071405,25240372,25445607,25662014,25798292,25944731,26111226,26308198,26488537,26576140,26636943,26697040,26681747,26641634,26862371,27110377]
["male",74,126261,133032,196098,189017,181100,172798,171841,171980,173877,173347,171154,173905,177346,180201,179695,177131,178003,185674,189149,193751,199085,199404,197275,185717,203989,225042,239885,236800,239750,309846,281119,262672,null,74,23514445,23576906,23646153,23682335,23722036,23768934,23824729,23922400,24012616,24115987,24223732,24347135,24480192,24672418,24835887,25035829,25249408,25426046,25634756,25855765,25997377,26144135,26308501,26493915,26692526,26801182,26876828,26933840,26921497,26951480,27143490,27373049]
["male",75,134096,119018,125915,184904,178728,171323,163777,162843,163238,165622,165258,163385,166314,170327,173077,173180,170751,171994,179778,183057,187669,192858,193458,190990,179929,197727,218062,233029,229241,232481,301099,272916,null,75,23648541,23695924,23772068,23867239,23900764,23940257,23988506,24085243,24175854,24281609,24388990,24510520,24646506,24842745,25008964,25209009,25420159,25598040,25814534,26038822,26185046,26336993,26501959,26684905,26872455,26998909,27094890,27166869,27150738,27183961,27444589,27645965]
["male",76,135499,125741,111354,119014,173377,168285,161797,154628,153875,154920,157080,156858,155486,158593,162894,165914,166362,164076,165735,173479,176633,180915,186598,186776,184594,173876,191001,211064,224814,221458,224988,291313,null,76,23784040,23821665,23883422,23986253,24074141,24108542,24150303,24239871,24329729,24436529,24546070,24667378,24801992,25001338,25171858,25374923,25586521,25762116,25980269,26212301,26361679,26517908,26688557,26871681,27057049,27172785,27285891,27377933,27375552,27405419,27669577,27937278]
["male",77,132433,125512,116891,103859,111948,161732,158048,151793,145232,145303,145953,148230,148367,147594,150991,155321,158531,159196,157163,159253,166679,169817,174356,179444,179765,177739,167348,184378,202755,216271,213317,216617,null,77,23916473,23947177,24000313,24090112,24186089,24270274,24308351,24391664,24474961,24581832,24692023,24815608,24950359,25148932,25322849,25530244,25745052,25921312,26137432,26371554,26528358,26687725,26862913,27051125,27236814,27350524,27453239,27562311,27578307,27621690,27882894,28153895]
["male",78,123753,122234,116257,108334,96199,104951,150434,147510,141519,136230,136242,136965,139499,139816,139570,143167,147670,150985,152185,150085,152356,159493,162883,166941,171845,172322,170332,160738,176335,194054,207606,204713,null,78,24040226,24069411,24116570,24198446,24282288,24375225,24458785,24539174,24616480,24718062,24828265,24952573,25089858,25288748,25462419,25673411,25892722,26072297,26289617,26521639,26680714,26847218,27025796,27218066,27408659,27522846,27623571,27723049,27754642,27815744,28090500,28358608]
["male",79,112081,113668,112302,106867,99646,88775,98315,138666,136997,131977,126959,127002,127982,130563,131501,131641,135242,139686,143291,144716,143047,144979,152314,154996,159373,163925,164524,162825,152563,167944,185317,197979,null,79,24152307,24183079,24228872,24305313,24381934,24464000,24557100,24677840,24753477,24850039,24955224,25079575,25217840,25419311,25593920,25805052,26027964,26211983,26432908,26666355,26823761,26992197,27178110,27373062,27568032,27686771,27788095,27885874,27907205,27983688,28275817,28556587]
["male",80,98826,102136,103036,102481,97237,91157,81591,91498,126970,126947,121847,117548,117695,119192,121930,123013,123397,127093,131885,135438,136965,135353,137547,144100,147005,151102,155388,156456,153717,144379,159445,175624,null,80,24251133,24285215,24331908,24407794,24479171,24555157,24638691,24769338,24880447,24976986,25077071,25197123,25335535,25538503,25715850,25928065,26151361,26339076,26564793,26801793,26960726,27127550,27315657,27517162,27715037,27837873,27943483,28042330,28060922,28128067,28435262,28732211]
["male",81,86460,89293,91604,93184,92547,87881,82863,74417,84821,116052,116146,111865,108018,108627,110367,113320,114524,114936,118886,123733,127044,128754,127688,129281,135715,138501,142268,147001,146797,144556,136141,150137,null,81,24337593,24374508,24423512,24500978,24571718,24643038,24721554,24843755,24965268,25093038,25193217,25308988,25443553,25647130,25826217,26041385,26265885,26454012,26683679,26925526,27087770,27256304,27443345,27646443,27850752,27976374,28085751,28189331,28207719,28272623,28571403,28882348]
["male",82,77037,77191,79598,82025,83278,83151,79316,74643,67263,78615,104892,105378,101965,98925,99712,101577,104481,105755,106689,110662,115156,117999,120516,119066,120930,126901,129390,133660,136771,137016,135256,127094,null,82,24414630,24451699,24503110,24583003,24654996,24726189,24800870,24918398,25032531,25171653,25298109,25414366,25545518,25746055,25925929,26142962,26370366,26559767,26790368,27036188,27202926,27374303,27563861,27765509,27971682,28103275,28215141,28322991,28344490,28409639,28706659,29009442]
["male",83,66613,68232,68242,70509,72586,73897,74147,70514,66522,60454,71367,94015,94801,92381,89958,90974,92902,95885,97404,98416,102105,106164,109303,111237,110359,112140,117635,120494,123407,126644,127431,125305,null,83,24481243,24519931,24571352,24653512,24727582,24800086,24875017,24988912,25099053,25232107,25369476,25508381,25640319,25838436,26015887,26233936,26463268,26655652,26887772,27134604,27305031,27480467,27673164,27876746,28082041,28215415,28332776,28443485,28467897,28536283,28834090,29134747]
["male",84,56529,58254,59377,59740,61682,63832,65143,65261,61979,59199,53849,64322,83249,84541,83284,81297,82478,84036,87457,88954,89691,93053,97558,99883,102203,101396,102777,108633,109915,113158,116516,117087,null,84,24537772,24578185,24630729,24713252,24789264,24863918,24940160,25054173,25161032,25291306,25423325,25572703,25723568,25922977,26099171,26315233,26545746,26739688,26975229,27223558,27394722,27573520,27770722,27976629,28184244,28316811,28435553,28552118,28577812,28649441,28950606,29251834]
["male",85,201689,214457,222314,233082,240513,249276,260540,269268,277014,54061,51887,47185,57517,73063,74799,74430,72626,73853,75660,78972,80467,80801,84576,87982,90498,92627,92124,93805,97877,99708,103282,105973,null,85,24739461,24792642,24853043,24946334,25029777,25113194,25200700,25323441,25438046,25345367,25475212,25619888,25781085,25996040,26173970,26389663,26618372,26813541,27050889,27302530,27475189,27654321,27855298,28064611,28274742,28409438,28527677,28645923,28675689,28749149,29053888,29357807]
["male",86,null,null,null,null,null,null,null,null,null,49285,46689,45142,40755,50935,63608,65337,65715,64209,65780,67585,70426,71641,72738,75262,78748,81090,82946,83220,83498,87657,89874,92484,null,86,24739461,24792642,24853043,24946334,25029777,25113194,25200700,25323441,25438046,25394652,25521901,25665030,25821840,26046975,26237578,26455000,26684087,26877750,27116669,27370115,27545615,27725962,27928036,28139873,28353490,28490528,28610623,28729143,28759187,28836806,29143762,29450291]
["male",87,null,null,null,null,null,null,null,null,null,41456,42129,39709,38536,34913,44842,54563,56600,57228,56443,57954,59650,61831,63588,63769,66558,69509,71174,73915,73013,73905,77909,79518,null,87,24739461,24792642,24853043,24946334,25029777,25113194,25200700,25323441,25438046,25436108,25564030,25704739,25860376,26081888,26282420,26509563,26740687,26934978,27173112,27428069,27605265,27787793,27991624,28203642,28420048,28560037,28681797,28803058,28832200,28910711,29221671,29529809]
["male",88,null,null,null,null,null,null,null,null,null,34012,34934,35609,33242,32483,29625,39263,45835,47966,49569,48965,50411,51614,53990,54921,55525,57834,60162,62220,63533,63436,64465,67622,null,88,24739461,24792642,24853043,24946334,25029777,25113194,25200700,25323441,25438046,25470120,25598964,25740348,25893618,26114371,26312045,26548826,26786522,26982944,27222681,27477034,27655676,27839407,28045614,28258563,28475573,28617871,28741959,28865278,28895733,28974147,29286136,29597431]
["male",89,null,null,null,null,null,null,null,null,null,27030,28025,28895,29567,27434,27149,24761,34116,37898,40226,42204,41726,42759,44416,45828,47011,47522,48994,51641,52191,54518,54474,55050,null,89,24739461,24792642,24853043,24946334,25029777,25113194,25200700,25323441,25438046,25497150,25626989,25769243,25923185,26141805,26339194,26573587,26820638,27020842,27262907,27519238,27697402,27882166,28090030,28304391,28522584,28665393,28790953,28916919,28947924,29028665,29340610,29652481]
["male","90+",null,null,null,null,null,null,null,null,null,77108,81129,84866,88930,92593,94156,95481,93683,100838,109830,118399,128198,134193,142435,146846,153469,158462,161798,169036,170242,174688,180911,183511,null,"90+",24739461,24792642,24853043,24946334,25029777,25113194,25200700,25323441,25438046,25574258,25708118,25854109,26012115,26234398,26433350,26669068,26914321,27121680,27372737,27637637,27825600,28016359,28232465,28451237,28676053,28823855,28952751,29085955,29118166,29203353,29521521,29835992]
[null,"All Males",{"$f":"SUM(C16:C106)","v":24739461},{"$f":"SUM(D16:D106)","v":24792642},24853043,24946334,25029777,25113194,25200700,25323441,25438046,25574258,25708118,25854109,26012115,26234398,26433350,26669068,26914321,27121680,27372737,27637637,27825600,28016359,28232465,28451237,28676053,28823855,28952751,29085955,{"$f":"SUM(AE16:AE106)","v":29118166},29203353,29521521,29835992,null,"Females"]
["Sex","Age"]
["female",0,337749,325791,325118,315589,309831,316340,308020,304489,296031,288138,287641,295008,306222,312113,320619,329804,343308,340700,345180,348918,354538,344764,338154,336778,339779,331435,322600,313705,306618,296451,305476,292545,null,0,{"$f":"C109","v":337749},325791,325118,315589,309831,316340,308020,304489,296031,288138,287641,295008,306222,312113,320619,329804,343308,340700,345180,348918,354538,344764,338154,336778,339779,331435,322600,313705,306618,296451,305476,292545]
["female",1,341396,336634,324726,324643,314717,309841,315770,308545,303676,294539,289486,287867,294420,306584,312098,322027,330347,343405,340131,344644,350893,355714,346017,339247,337620,339930,330757,322197,314456,308695,303470,313476,null,1,{"$f":"AK109+C110","v":679145},{"$f":"AL109+D110","v":662425},{"$f":"AM109+E110","v":649844},{"$f":"AN109+F110","v":640232},{"$f":"AO109+G110","v":624548},{"$f":"AP109+H110","v":626181},{"$f":"AQ109+I110","v":623790},{"$f":"AR109+J110","v":613034},{"$f":"AS109+K110","v":599707},{"$f":"AT109+L110","v":582677},{"$f":"AU109+M110","v":577127},{"$f":"AV109+N110","v":582875},{"$f":"AW109+O110","v":600642},{"$f":"AX109+P110","v":618697},{"$f":"AY109+Q110","v":632717},{"$f":"AZ109+R110","v":651831},{"$f":"BA109+S110","v":673655},{"$f":"BB109+T110","v":684105},{"$f":"BC109+U110","v":685311},{"$f":"BD109+V110","v":693562},{"$f":"BE109+W110","v":705431},{"$f":"BF109+X110","v":700478},{"$f":"BG109+Y110","v":684171},{"$f":"BH109+Z110","v":676025},{"$f":"BI109+AA110","v":677399},{"$f":"BJ109+AB110","v":671365},{"$f":"BK109+AC110","v":653357},{"$f":"BL109+AD110","v":635902},{"$f":"BM109+AE110","v":621074},{"$f":"BN109+AF110","v":605146},{"$f":"BO109+AG110","v":608946},{"$f":"BP109+AH110","v":606021}]
["female",2,334019,341064,336446,324966,324105,314370,310359,316425,308575,302174,296328,290608,287723,295324,306616,312422,323593,331196,343449,340637,346314,352288,356629,346621,339710,337270,339272,329814,320979,314501,315422,311641,null,2,1013164,1003489,986290,965198,948653,940551,934149,929459,908282,884851,873455,873483,888365,914021,939333,964253,997248,1015301,1028760,1034199,1051745,1052766,1040800,1022646,1017109,1008635,992629,965716,942053,919647,924368,917662]
["female",3,331991,334165,341159,336364,325045,323647,314242,311519,316599,307905,304234,297596,291443,288721,295689,306918,312672,325200,331808,344380,342243,347759,353604,357318,347043,339407,336534,338720,328712,320203,320757,323172,null,3,1345155,1337654,1327449,1301562,1273698,1264198,1248391,1240978,1224881,1192756,1177689,1171079,1179808,1202742,1235022,1271171,1309920,1340501,1360568,1378579,1393988,1400525,1394404,1379964,1364152,1348042,1329163,1304436,1270765,1239850,1245125,1240834]
["female",4,335506,331746,334429,341298,336432,325113,323246,314659,312475,315802,309955,305966,298703,293177,289264,296145,307051,312877,326462,333299,345690,343568,348892,354539,357644,346725,338680,336145,337917,328366,326196,328089,null,4,1680661,1669400,1661878,1642860,1610130,1589311,1571637,1555637,1537356,1508558,1487644,1477045,1478511,1495919,1524286,1567316,1616971,1653378,1687030,1711878,1739678,1744093,1743296,1734503,1721796,1694767,1667843,1640581,1608682,1568216,1571321,1568923]
["female",5,325840,335221,331581,334285,341195,336136,325113,322883,313716,313333,317423,311936,308009,299492,293944,290111,296443,307539,313698,327583,334093,346909,344911,350015,355508,357527,346372,338534,335443,337960,334360,333158,null,5,2006501,2004621,1993459,1977145,1951325,1925447,1896750,1878520,1851072,1821891,1805067,1788981,1786520,1795411,1818230,1857427,1913414,1960917,2000728,2039461,2073771,2091002,2088207,2084518,2077304,2052294,2014215,1979115,1944125,1906176,1905681,1902081]
["female",6,321580,326092,335362,332107,334959,341329,336392,325972,322294,313980,314679,319453,313586,309025,300425,295538,290629,297100,308135,313502,327926,334689,348047,345935,350859,355768,357052,346319,338113,335360,343582,340995,null,6,2328081,2330713,2328821,2309252,2286284,2266776,2233142,2204492,2173366,2135871,2119746,2108434,2100106,2104436,2118655,2152965,2204043,2258017,2308863,2352963,2401697,2425691,2436254,2430453,2428163,2408062,2371267,2325434,2282238,2241536,2249263,2243076]
["female",7,320743,321412,326320,335492,332228,334983,341303,336678,325593,322044,315285,316694,321400,314468,310150,302237,296941,291523,297974,307763,315128,328302,335437,349100,347022,351344,355947,357076,346342,338197,341075,350040,null,7,2648824,2652125,2655141,2644744,2618512,2601759,2574445,2541170,2498959,2457915,2435031,2425128,2421506,2418904,2428805,2455202,2500984,2549540,2606837,2660726,2716825,2753993,2771691,2779553,2775185,2759406,2727214,2682510,2628580,2579733,2590338,2593116]
["female",8,307930,320850,321516,326641,335569,332301,335247,341888,336305,326117,323732,317207,318500,322453,315488,312176,303833,298565,292551,297864,309642,316948,328817,336113,350149,347716,351737,356315,356880,346662,343413,347161,null,8,2956754,2972975,2976657,2971385,2954081,2934060,2909692,2883058,2835264,2784032,2758763,2742335,2740006,2741357,2744293,2767378,2804817,2848105,2899388,2958590,3026467,3070941,3100508,3115666,3125334,3107122,3078951,3038825,2985460,2926395,2933751,2940277]
["female",9,308409,308279,321232,321576,327051,335673,332617,336167,341808,336791,327317,325734,318919,319439,323650,317238,313883,305565,300341,292669,299759,311700,318821,329410,336927,350974,348462,352356,356636,357208,351958,349195,null,9,3265163,3281254,3297889,3292961,3281132,3269733,3242309,3219225,3177072,3120823,3086080,3068069,3058925,3060796,3067943,3084616,3118700,3153670,3199729,3251259,3326226,3382641,3419329,3445076,3462261,3458096,3427413,3391181,3342096,3283603,3285709,3289472]
["female",10,307204,308191,308597,321425,321641,327079,335592,333102,335715,341420,338444,328553,326342,319867,321111,325906,318513,315079,307372,301342,294512,301777,313803,320671,330013,337395,351696,349275,352725,357435,362189,357381,null,10,3572367,3589445,3606486,3614386,3602773,3596812,3577901,3552327,3512787,3462243,3424524,3396622,3385267,3380663,3389054,3410522,3437213,3468749,3507101,3552601,3620738,3684418,3733132,3765747,3792274,3795491,3779109,3740456,3694821,3641038,3647898,3646853]
["female",11,313562,307687,308568,309256,322091,321937,327635,336442,332886,335915,343047,339853,328890,327640,321658,323080,327332,319602,317126,308567,302210,296488,303810,315778,322512,330394,337837,352649,349819,353702,361936,367399,null,11,3885929,3897132,3915054,3923642,3924864,3918749,3905536,3888769,3845673,3798158,3767571,3736475,3714157,3708303,3710712,3733602,3764545,3788351,3824227,3861168,3922948,3980906,4036942,4081525,4114786,4125885,4116946,4093105,4044640,3994740,4009834,4014252]
["female",12,315622,313850,307944,308706,309764,322269,322037,328354,336038,332741,336216,344353,340033,329679,329457,323558,324353,328587,321389,318436,309229,303216,298578,305891,317892,324247,330808,338568,353442,350971,357939,366635,null,12,4201551,4210982,4222998,4232348,4234628,4241018,4227573,4217123,4181711,4130899,4103787,4080828,4054190,4037982,4040169,4057160,4088898,4116938,4145616,4179604,4232177,4284122,4335520,4387416,4432678,4450132,4447754,4431673,4398082,4345711,4367773,4380887]
["female",13,303409,315971,314366,308516,309337,310285,322867,323026,328529,336345,333000,336657,344275,340835,331141,331655,324933,325516,330585,322702,319028,309997,304411,300718,308116,319964,326003,331354,339048,354742,355030,362251,null,13,4504960,4526953,4537364,4540864,4543965,4551303,4550440,4540149,4510240,4467244,4436787,4417485,4398465,4378817,4371310,4388815,4413831,4442454,4476201,4502306,4551205,4594119,4639931,4688134,4740794,4770096,4773757,4763027,4737130,4700453,4722803,4743138]
["female",14,279403,303676,316296,314726,308788,309287,310624,323466,322646,328464,336636,333848,335540,344872,342226,332798,333120,325993,327260,332026,323148,319954,311132,305855,303237,310434,322307,327973,332067,340377,358861,359256,null,14,4784363,4830629,4853660,4855590,4852753,4860590,4861064,4863615,4832886,4795708,4773423,4751333,4734005,4723689,4713536,4721613,4746951,4768447,4803461,4834332,4874353,4914073,4951063,4993989,5044031,5080530,5096064,5091000,5069197,5040830,5081664,5102394]
["female",15,275081,280036,304364,317218,315436,309492,309541,311084,322353,323443,328518,338426,334962,337062,346443,344640,335471,336284,328203,330039,332537,323894,321171,312514,307648,305773,313049,324806,330027,333354,344144,362883,null,15,5059444,5110665,5158024,5172808,5168189,5170082,5170605,5174699,5155239,5119151,5101941,5089759,5068967,5060751,5059979,5066253,5082422,5104731,5131664,5164371,5206890,5237967,5272234,5306503,5351679,5386303,5409113,5415806,5399224,5374184,5425808,5465277]
["female",16,287405,275530,280575,305085,317604,316086,309904,309895,310789,324331,323405,331098,340503,337345,337877,349300,348053,338891,339119,331588,330341,333557,325320,322970,314633,309747,308988,316007,326873,332194,337259,348150,null,16,5346849,5386195,5438599,5477893,5485793,5486168,5480509,5484594,5466028,5443482,5425346,5420857,5409470,5398096,5397856,5415553,5430475,5443622,5470783,5495959,5537231,5571524,5597554,5629473,5666312,5696050,5718101,5731813,5726097,5706378,5763067,5813427]
["female",17,300040,287722,276041,281259,305488,318201,316535,310495,308906,313208,324612,326195,333656,343722,338441,340202,353203,352261,341644,343404,333215,331875,335947,327989,326367,317617,313291,313177,319200,330269,336425,341540,null,17,5646889,5673917,5714640,5759152,5791281,5804369,5797044,5795089,5774934,5756690,5749958,5747052,5743126,5741818,5736297,5755755,5783678,5795883,5812427,5839363,5870446,5903399,5933501,5957462,5992679,6013667,6031392,6044990,6045297,6036647,6099492,6154967]
["female",18,311660,300164,287970,276288,280636,304366,316354,314857,304937,307972,314786,328756,330487,339947,346061,343261,345888,360131,356631,348008,347130,337742,336328,341369,334459,332263,323677,320330,320540,326993,337807,342096,null,18,5958549,5974081,6002610,6035440,6071917,6108735,6113398,6109946,6079871,6064662,6064744,6075808,6073613,6081765,6082358,6099016,6129566,6156014,6169058,6187371,6217576,6241141,6269829,6298831,6327138,6345930,6355069,6365320,6365837,6363640,6437299,6497063]
["female",19,336011,315403,305110,293978,282276,286141,308370,320219,315704,309464,311795,321225,336335,340896,343824,354813,353155,356003,366707,366756,355448,355644,347232,345640,352477,344377,343059,334822,332975,334516,336652,346809,null,19,6294560,6289484,6307720,6329418,6354193,6394876,6421768,6430165,6395575,6374126,6376539,6397033,6409948,6422661,6426182,6453829,6482721,6512017,6535765,6554127,6573024,6596785,6617061,6644471,6679615,6690307,6698128,6700142,6698812,6698156,6773951,6843872]
["female",20,356898,335982,314767,304169,293161,283213,288688,307889,322251,324064,315513,317668,326626,344516,349264,350654,361897,356705,361515,374281,372918,362442,363571,356019,354876,360755,353874,352396,341026,339706,343042,343826,null,20,6651458,6625466,6622487,6633587,6647354,6678089,6710456,6738054,6717826,6698190,6692052,6714701,6736574,6767177,6775446,6804483,6844618,6868722,6897280,6928408,6945942,6959227,6980632,7000490,7034491,7051062,7052002,7052538,7039838,7037862,7116993,7187698]
["female",21,377846,358699,338098,317537,306393,296090,287227,291597,310634,326262,331110,322450,326344,337716,355224,357310,359554,366714,363915,369976,380207,379399,369381,371604,365469,361807,368900,361510,353715,344962,345035,347928,null,21,7029304,6984165,6960585,6951124,6953747,6974179,6997683,7029651,7028460,7024452,7023162,7037151,7062918,7104893,7130670,7161793,7204172,7235436,7261195,7298384,7326149,7338626,7350013,7372094,7399960,7412869,7420902,7414048,7393553,7382824,7462028,7535626]
["female",22,374679,379087,361387,341472,320533,309399,300327,292617,296408,316192,335066,338790,332908,341741,351364,365207,367732,365437,375624,374322,380665,391414,390445,381278,385892,376916,373588,380039,362167,359194,351261,349422,null,22,7403983,7363252,7321972,7292596,7274280,7283578,7298010,7322268,7324868,7340644,7358228,7375941,7395826,7446634,7482034,7527000,7571904,7600873,7636819,7672706,7706814,7730040,7740458,7753372,7785852,7789785,7794490,7794087,7755720,7742018,7813289,7885048]
["female",23,391551,376541,381528,365326,344937,324253,312896,306322,299317,304231,324742,342923,348548,347020,355929,361018,374530,372505,373043,384541,384574,392617,402305,402241,395561,395692,388187,382892,379115,367132,368971,362662,null,23,7795534,7739793,7703500,7657922,7619217,7607831,7610906,7628590,7624185,7644875,7682970,7718864,7744374,7793654,7837963,7888018,7946434,7973378,8009862,8057247,8091388,8122657,8142763,8155613,8181413,8185477,8182677,8176979,8134835,8109150,8182260,8247710]
["female",24,395652,392285,378491,383485,367926,347674,327512,318446,311426,306936,311369,332249,352734,362008,360895,367022,370426,379154,379279,381109,383086,384490,390889,400461,401850,390787,391600,381238,371930,377456,377223,380092,null,24,8191186,8132078,8081991,8041407,7987143,7955505,7938418,7947036,7935611,7951811,7994339,8051113,8097108,8155662,8198858,8255040,8316860,8352532,8389141,8438356,8474474,8507147,8533652,8556074,8583263,8576264,8574277,8558217,8506765,8486606,8559483,8627802]
["female",25,407717,396676,393932,380753,385430,370778,351047,333342,325988,316483,311297,316688,339903,363734,368099,368972,371651,372938,383089,382585,382001,386545,387015,393714,403815,401451,390963,391066,379679,373592,387038,388439,null,25,8598903,8528754,8475923,8422160,8372573,8326283,8289465,8280378,8261599,8268294,8305636,8367801,8437011,8519396,8566957,8624012,8688511,8725470,8772230,8820941,8856475,8893692,8920667,8949788,8987078,8977715,8965240,8949283,8886444,8860198,8946521,9016241]
["female",26,415788,408366,398471,395720,382706,387509,374060,356081,340075,330440,320576,316348,322718,350189,369940,375630,373576,375930,377117,386177,385765,387180,392802,393287,400991,407473,405339,394278,394218,384648,382336,398587,null,26,9014691,8937120,8874394,8817880,8755279,8713792,8663525,8636459,8601674,8598734,8626212,8684149,8759729,8869585,8936897,8999642,9062087,9101400,9149347,9207118,9242240,9280872,9313469,9343075,9388069,9385188,9370579,9343561,9280662,9244846,9328857,9414828]
["female",27,422775,415786,410157,400230,397351,384800,389834,378707,362102,344165,333849,325207,321980,330951,355814,377173,379647,377730,381517,380309,389697,390691,393037,400184,401383,406378,412378,410674,398563,399474,392830,393496,null,27,9437466,9352906,9284551,9218110,9152630,9098592,9053359,9015166,8963776,8942899,8960061,9009356,9081709,9200536,9292711,9376815,9441734,9479130,9530864,9587427,9631937,9671563,9706506,9743259,9789452,9791566,9782957,9754235,9679225,9644320,9721687,9808324]
["female",28,421489,421727,416586,411199,401811,398772,386869,392998,384709,365707,347167,338120,330618,329808,335313,362551,381412,383347,383192,386325,383658,394587,395958,399653,409053,407265,412493,418071,414947,403803,406846,403641,null,28,9858955,9774633,9701137,9629309,9554441,9497364,9440228,9408164,9348485,9308606,9307228,9347476,9412327,9530344,9628024,9739366,9823146,9862477,9914056,9973752,10015595,10066150,10102464,10142912,10198505,10198831,10195450,10172306,10094172,10048123,10128533,10211965]
["female",29,414261,420306,422123,416993,412411,403314,400445,389813,396999,387867,368182,350693,342934,337797,333743,340273,366401,385263,388103,387793,389137,387635,399120,401224,406761,415003,413191,418974,422441,419292,410172,416754,null,29,10273216,10194939,10123260,10046302,9966852,9900678,9840673,9797977,9745484,9696473,9675410,9698169,9755261,9868141,9961767,10079639,10189547,10247740,10302159,10361545,10404732,10453785,10501584,10544136,10605266,10613834,10608641,10591280,10516613,10467415,10538705,10628719]
["female",30,404359,413011,420254,421897,417695,413879,404733,403138,393858,399464,389841,370405,352034,348555,342965,335054,344533,368553,388973,390950,390451,392786,391684,403993,407322,411630,421265,419088,423985,426764,424901,418993,null,30,10677575,10607950,10543514,10468199,10384547,10314557,10245406,10201115,10139342,10095937,10065251,10068574,10107295,10216696,10304732,10414693,10534080,10616293,10691132,10752495,10795183,10846571,10893268,10948129,11012588,11025464,11029906,11010368,10940598,10894179,10963606,11047712]
["female",31,393778,403476,413365,419763,422023,418567,414833,406703,405815,395794,401608,391415,371583,356622,352831,344238,338916,345720,371960,391934,393880,393471,396086,395715,409320,411096,416352,427059,423954,428786,431882,433315,null,31,11071353,11011426,10956879,10887962,10806570,10733124,10660239,10607818,10545157,10491731,10466859,10459989,10478878,10573318,10657563,10758931,10872996,10962013,11063092,11144429,11189063,11240042,11289354,11343844,11421908,11436560,11446258,11437427,11364552,11322965,11395488,11481027]
["female",32,376932,393044,403874,412991,419850,422428,418949,416526,409383,407451,397491,403892,391861,375675,360403,353921,348063,340231,347928,374870,394003,396168,395317,398377,398931,411416,413722,420591,431118,427981,433443,438680,null,32,11448285,11404470,11360753,11300953,11226420,11155552,11079188,11024344,10954540,10899182,10864350,10863881,10870739,10948993,11017966,11112852,11221059,11302244,11411020,11519299,11583066,11636210,11684671,11742221,11820839,11847976,11859980,11858018,11795670,11750946,11828931,11919707]
["female",33,370754,376548,393454,403421,413020,419967,422491,419958,418700,410866,408953,398899,404587,394736,378546,361066,357034,349361,342280,349530,377008,396586,398583,397317,401151,400488,413597,416769,423259,435393,432043,439539,null,33,{"$f":"AK141+C142","v":11819039},{"$f":"AL141+D142","v":11781018},{"$f":"AM141+E142","v":11754207},{"$f":"AN141+F142","v":11704374},{"$f":"AO141+G142","v":11639440},{"$f":"AP141+H142","v":11575519},{"$f":"AQ141+I142","v":11501679},{"$f":"AR141+J142","v":11444302},{"$f":"AS141+K142","v":11373240},{"$f":"AT141+L142","v":11310048},{"$f":"AU141+M142","v":11273303},{"$f":"AV141+N142","v":11262780},{"$f":"AW141+O142","v":11275326},{"$f":"AX141+P142","v":11343729},{"$f":"AY141+Q142","v":11396512},{"$f":"AZ141+R142","v":11473918},{"$f":"BA141+S142","v":11578093},{"$f":"BB141+T142","v":11651605},{"$f":"BC141+U142","v":11753300},{"$f":"BD141+V142","v":11868829},{"$f":"BE141+W142","v":11960074},{"$f":"BF141+X142","v":12032796},{"$f":"BG141+Y142","v":12083254},{"$f":"BH141+Z142","v":12139538},{"$f":"BI141+AA142","v":12221990},{"$f":"BJ141+AB142","v":12248464},{"$f":"BK141+AC142","v":12273577},{"$f":"BL141+AD142","v":12274787},{"$f":"BM141+AE142","v":12218929},{"$f":"BN141+AF142","v":12186339},{"$f":"BO141+AG142","v":12260974},{"$f":"BP141+AH142","v":12359246}]
["female",34,363623,370167,377018,392935,403212,413016,419716,422847,421523,419849,412220,410182,399262,407762,396976,379005,363766,358176,351559,344095,351734,379614,399198,401210,400031,402709,402428,416311,419061,426520,438957,437887,null,34,12182662,12151185,12131225,12097309,12042652,11988535,11921395,11867149,11794763,11729897,11685523,11672962,11674588,11751491,11793488,11852923,11941859,12009781,12104859,12212924,12311808,12412410,12482452,12540748,12622021,12651173,12676005,12691098,12637990,12612859,12699931,12797133]
["female",35,352468,363081,370177,376035,392258,402587,412501,419930,423619,421879,420766,411879,411498,400394,409500,397971,380532,365920,359036,351572,346082,354048,382095,401765,404085,401132,404153,404389,417688,421006,429747,444162,null,35,12535130,12514266,12501402,12473344,12434910,12391122,12333896,12287079,12218382,12151776,12106289,12084841,12086086,12151885,12202988,12250894,12322391,12375701,12463895,12564496,12657890,12766458,12864547,12942513,13026106,13052305,13080158,13095487,13055678,13033865,13129678,13241295]
["female",36,340272,352487,363852,369727,376114,392276,402574,413174,420886,423821,422869,420049,413008,412459,401331,410984,398773,382325,366521,359019,353486,348085,356155,384319,404364,405427,402170,405515,405337,419219,424055,434688,null,36,12875402,12866753,12865254,12843071,12811024,12783398,12736470,12700253,12639268,12575597,12529158,12504890,12499094,12564344,12604319,12661878,12721164,12758026,12830416,12923515,13011376,13114543,13220702,13326832,13430470,13457732,13482328,13501002,13461015,13453084,13553733,13675983]
["female",37,331009,340289,352983,363405,369394,375853,391891,402526,413375,420183,424925,422439,420693,413746,413290,402235,412373,399960,382721,366322,360855,355350,349779,357903,386451,405547,406491,402937,406104,406187,421981,428554,null,37,13206411,13207042,13218237,13206476,13180418,13159251,13128361,13102779,13052643,12995780,12954083,12927329,12919787,12978090,13017609,13064113,13133537,13157986,13213137,13289837,13372231,13469893,13570481,13684735,13816921,13863279,13888819,13903939,13867119,13859271,13975714,14104537]
["female",38,336504,331257,340888,352542,363422,369094,375767,392119,402965,413182,421318,424703,423206,420953,414574,414091,403103,414097,399712,382330,367958,362825,357118,351376,359842,387639,406809,407507,403224,406512,408495,426096,null,38,13542915,13538299,13559125,13559018,13543840,13528345,13504128,13494898,13455608,13408962,13375401,13352032,13342993,13399043,13432183,13478204,13536640,13572083,13612849,13672167,13740189,13832718,13927599,14036111,14176763,14250918,14295628,14311446,14270343,14265783,14384209,14530633]
["female",39,335251,336630,332128,340767,352703,363593,369156,376207,392835,402920,413906,421152,425564,423440,421270,415201,414662,404081,414527,398805,383811,369489,364645,358681,353061,360752,388704,407923,407954,403325,408851,412256,null,39,13878166,13874929,13891253,13899785,13896543,13891938,13873284,13871105,13848443,13811882,13789307,13773184,13768557,13822483,13853453,13893405,13951302,13976164,14027376,14070972,14124000,14202207,14292244,14394792,14529824,14611670,14684332,14719369,14678297,14669108,14793060,14942889]
["female",40,330468,334659,336893,332118,340803,352539,363336,368928,376747,391872,403623,413862,421603,425877,422974,422107,413870,415316,404545,415114,400119,385203,370990,366263,360380,353917,361720,389685,408409,408409,405289,412213,null,40,14208634,14209588,14228146,14231903,14237346,14244477,14236620,14240033,14225190,14203754,14192930,14187046,14190160,14248360,14276427,14315512,14365172,14391480,14431921,14486086,14524119,14587410,14663234,14761055,14890204,14965587,15046052,15109054,15086706,15077517,15198349,15355102]
["female",41,335430,330482,334648,336602,332266,340801,352370,363635,369508,376270,392130,403651,413875,421930,425424,423947,420356,414343,415533,404411,416544,401422,386503,372335,367930,361271,354656,362351,390164,408884,410145,408449,null,41,14544064,14540070,14562794,14568505,14569612,14585278,14588990,14603668,14594698,14580024,14585060,14590697,14604035,14670290,14701851,14739459,14785528,14805823,14847454,14890497,14940663,14988832,15049737,15133390,15258134,15326858,15400708,15471405,15476870,15486401,15608494,15763551]
["female",42,346866,335085,330658,334153,336437,332323,340689,352587,364307,368881,376595,391855,403815,413816,421562,426452,422443,420327,414506,415324,405721,417933,402605,387683,373791,368836,362054,355075,362505,390700,410293,412437,null,42,14890930,14875155,14893452,14902658,14906049,14917601,14929679,14956255,14959005,14948905,14961655,14982552,15007850,15084106,15123413,15165911,15207971,15226150,15261960,15305821,15346384,15406765,15452342,15521073,15631925,15695694,15762762,15826480,15839375,15877101,16018787,16175988]
["female",43,358404,346426,334872,330487,333826,336312,332408,340947,353018,363762,369236,376489,391591,403937,413097,422475,425202,422468,419956,414224,416545,407131,419431,403815,389049,374698,369906,362687,355027,362631,391860,412391,null,43,15249334,15221581,15228324,15233145,15239875,15253913,15262087,15297202,15312023,15312667,15330891,15359041,15399441,15488043,15536510,15588386,15633173,15648618,15681916,15720045,15762929,15813896,15871773,15924888,16020974,16070392,16132668,16189167,16194402,16239732,16410647,16588379]
["female",44,384575,357899,346275,334363,330467,333671,336205,333032,341661,352564,363833,369180,376295,391330,403430,413522,421388,425307,422255,419126,415328,417631,408298,420552,404857,389709,375336,370495,362682,355320,363458,393705,null,44,15633909,15579480,15574599,15567508,15570342,15587584,15598292,15630234,15653684,15665231,15694724,15728221,15775736,15879373,15939940,16001908,16054561,16073925,16104171,16139171,16178257,16231527,16280071,16345440,16425831,16460101,16508004,16559662,16557084,16595052,16774105,16982084]
["female",45,416047,383873,357280,345389,333813,330146,332946,336158,333596,340835,351510,363313,368285,375836,390570,403322,413363,421122,424585,421546,419926,416463,418799,409450,421860,405540,390441,375609,370194,362795,355957,364851,null,45,16049956,15963353,15931879,15912897,15904155,15917730,15931238,15966392,15987280,16006066,16046234,16091534,16144021,16255209,16330510,16405230,16467924,16495047,16528756,16560717,16598183,16647990,16698870,16754890,16847691,16865641,16898445,16935271,16927278,16957847,17130062,17346935]
["female",46,326658,414362,383650,356506,344947,333367,329870,332835,336325,332908,340035,351064,362279,367918,375153,390122,403260,412769,420517,424010,422104,420773,417616,419843,410620,422562,406032,390608,375246,370506,363146,357022,null,46,16376614,16377715,16315529,16269403,16249102,16251097,16261108,16299227,16323605,16338974,16386269,16442598,16506300,16623127,16705663,16795352,16871184,16907816,16949273,16984727,17020287,17068763,17116486,17174733,17258311,17288203,17304477,17325879,17302524,17328353,17493208,17703957]
["female",47,322527,326908,412159,382817,355775,344124,332669,329718,332880,335467,331779,339604,350112,361580,367232,374755,389700,402873,411826,420061,424456,422723,421580,418608,420853,411385,423262,406050,390061,375601,370792,363969,null,47,16699141,16704623,16727688,16652220,16604877,16595221,16593777,16628945,16656485,16674441,16718048,16782202,16856412,16984707,17072895,17170107,17260884,17310689,17361099,17404788,17444743,17491486,17538066,17593341,17679164,17699588,17727739,17731929,17692585,17703954,17864000,18067926]
["female",48,322389,322366,327153,410164,382314,355059,343459,332212,329854,331838,334374,331031,338693,349554,360689,366765,374457,388977,402218,410972,420361,424904,423255,422268,419606,421454,411954,423242,405399,390282,375520,371240,null,48,17021530,17026989,17054841,17062384,16987191,16950280,16937236,16961157,16986339,17006279,17052422,17113233,17195105,17334261,17433584,17536872,17635341,17699666,17763317,17815760,17865104,17916390,17961321,18015609,18098770,18121042,18139693,18155171,18097984,18094236,18239520,18439166]
["female",49,306059,321391,322292,326881,408596,381719,354290,342941,331993,329085,330952,333686,329828,338083,348739,360038,366456,373858,387964,401573,411054,420573,425294,423652,422975,420223,421887,411850,422602,405535,390042,375709,null,49,17327589,17348380,17377133,17389265,17395787,17331999,17291526,17304098,17318332,17335364,17383374,17446919,17524933,17672344,17782323,17896910,18001797,18073524,18151281,18217333,18276158,18336963,18386615,18439261,18521745,18541265,18561580,18567021,18520586,18499771,18629562,18814875]
["female",50,279118,305292,320244,321755,326798,406754,380978,353487,342681,331011,328175,329653,332138,328519,337130,347489,359297,365612,372918,387883,401667,411132,420794,425570,424031,423171,420692,421608,411271,422743,405078,389869,null,50,17606707,17653672,17697377,17711020,17722585,17738753,17672504,17657585,17661013,17666375,17711549,17776572,17857071,18000863,18119453,18244399,18361094,18439136,18524199,18605216,18677825,18748095,18807409,18864831,18945776,18964436,18982272,18988629,18931857,18922514,19034640,19204744]
["female",51,258626,278382,304764,319073,321324,326494,405010,380163,353159,341672,330264,326346,328300,330902,327373,335881,346861,358306,364704,372818,387614,401609,411046,420732,425643,423870,423172,420290,420699,411416,422005,404754,null,51,17865333,17932054,18002141,18030093,18043909,18065247,18077514,18037748,18014172,18008047,18041813,18102918,18185371,18331765,18446826,18580280,18707955,18797442,18888903,18978034,19065439,19149704,19218455,19285563,19371419,19388306,19405444,19408919,19352556,19333930,19456645,19609498]
["female",52,273580,258498,277481,303802,317872,320738,326196,403016,379741,352026,340792,328574,324492,327273,329734,325911,335361,345887,357023,364657,372520,387317,401522,410841,420572,425311,423572,422451,419316,420644,410548,421441,null,52,18138913,18190552,18279622,18333895,18361781,18385985,18403710,18440764,18393913,18360073,18382605,18431492,18509863,18659038,18776560,18906191,19043316,19143329,19245926,19342691,19437959,19537021,19619977,19696404,19791991,19813617,19829016,19831370,19771872,19754574,19867193,20030939]
["female",53,276814,272707,258092,276514,302948,316673,319964,325653,401660,378551,350980,339052,326833,322929,326252,328238,324978,334505,344733,356694,364321,372176,386969,401359,410653,420151,424928,422671,421285,419250,419675,409789,null,53,18415727,18463259,18537714,18610409,18664729,18702658,18723674,18766417,18795573,18738624,18733585,18770544,18836696,18981967,19102812,19234429,19368294,19477834,19590659,19699385,19802280,19909197,20006946,20097763,20202644,20233768,20253944,20254041,20193157,20173824,20286868,20440728]
["female",54,274755,275952,272125,258098,275455,301966,314896,319599,326188,398068,376952,349040,337189,325292,321411,324974,327399,323778,333378,344514,356076,363849,371698,386422,401054,410095,419539,423766,421209,420960,417881,418637,null,54,18690482,18739211,18809839,18868507,18940184,19004624,19038570,19086016,19121761,19136692,19110537,19119584,19173885,19307259,19424223,19559403,19695693,19801612,19924037,20043899,20158356,20273046,20378644,20484185,20603698,20643863,20673483,20677807,20614366,20594784,20704749,20859365]
["female",55,268710,273716,274952,271053,257573,274400,300915,313618,319013,325315,397707,373967,347108,335359,324038,320252,323160,326692,322905,332680,343786,355420,363288,371100,385740,400449,409327,418215,422400,420728,419455,416728,null,55,18959192,19012927,19084791,19139560,19197757,19279024,19339485,19399634,19440774,19462007,19508244,19493551,19520993,19642618,19748261,19879655,20018853,20128304,20246942,20376579,20502142,20628466,20741932,20855285,20989438,21044312,21082810,21096022,21036766,21015512,21124204,21276093]
["female",56,265121,267950,272698,273778,270248,257374,273136,299913,311935,318212,323418,395878,371229,344993,333980,322994,317894,322585,325730,321939,331699,342862,354584,362488,370290,384785,399560,407959,416467,421698,419346,418194,null,56,19224313,19280877,19357489,19413338,19468005,19536398,19612621,19699547,19752709,19780219,19831662,19889429,19892222,19987611,20082241,20202649,20336747,20450889,20572672,20698518,20833841,20971328,21096516,21217773,21359728,21429097,21482370,21503981,21453233,21437210,21543550,21694287]
["female",57,258732,263664,266609,271266,272550,269019,256306,271936,298726,310309,316398,320433,394450,368517,343440,332692,320781,316732,321773,324671,320913,330685,341984,353663,361621,369313,383640,398123,406178,415820,420052,418000,null,57,19483045,19544541,19624098,19684604,19740555,19805417,19868927,19971483,20051435,20090528,20148060,20209862,20286672,20356128,20425681,20535341,20657528,20767621,20894445,21023189,21154754,21302013,21438500,21571436,21721349,21798410,21866010,21902104,21859411,21853030,21963602,22112287]
["female",58,251542,257099,262207,265092,269864,271004,267642,255368,270607,297221,309339,313595,317850,393103,366326,341993,330503,319664,315336,320864,323506,319740,329643,340869,352502,360532,368064,382049,396457,405385,413960,418388,null,58,19734587,19801640,19886305,19949696,20010419,20076421,20136569,20226851,20322042,20387749,20457399,20523457,20604522,20749231,20792007,20877334,20988031,21087285,21209781,21344053,21478260,21621753,21768143,21912305,22073851,22158942,22234074,22284153,22255868,22258415,22377562,22530675]
["female",59,252278,249885,255530,260635,263621,268315,269475,266214,254238,268963,295609,307145,310943,315084,392052,364308,339462,329157,318368,313823,319519,322294,318583,328377,339623,351157,359255,366378,380218,395368,403565,412280,null,59,19986865,20051525,20141835,20210331,20274040,20344736,20406044,20493065,20576280,20656712,20753008,20830602,20915465,21064315,21184059,21241642,21327493,21416442,21528149,21657876,21797779,21944047,22086726,22240682,22413474,22510099,22593329,22650531,22636086,22653783,22781127,22942955]
["female",60,258639,250824,248442,253998,259052,262169,266663,267898,265140,253080,267531,293879,305567,307976,312190,390260,362052,337618,327312,316675,312382,318089,321002,317181,326991,338098,349611,357425,364518,378969,393395,401700,null,60,20245504,20302349,20390277,20464329,20533092,20606905,20672707,20760963,20841420,20909792,21020539,21124481,21221032,21372291,21496249,21631902,21689545,21754060,21855461,21974551,22110161,22262136,22407728,22557863,22740465,22848197,22942940,23007956,23000604,23032752,23174522,23344655]
["female",61,265745,256816,249378,246933,252457,257324,260815,265146,266632,263308,251092,266104,291714,303218,305118,309094,388991,359577,335600,325386,315081,310840,316552,319491,315708,325374,336530,347662,355468,363328,376961,391478,null,61,20511249,20559165,20639655,20711262,20785549,20864229,20933522,21026109,21108052,21173100,21271631,21390585,21512746,21675509,21801367,21940996,22078536,22113637,22191061,22299937,22425242,22572976,22724280,22877354,23056173,23173571,23279470,23355618,23356072,23396080,23551483,23736133]
["female",62,265745,263251,254629,247481,245014,250424,255318,258997,263596,264302,261261,249041,264174,288963,301187,302122,306709,387596,356855,333606,323495,313342,309301,314796,317872,314031,323477,334443,345534,354013,361302,374850,null,62,20776994,20822416,20894284,20958743,21030563,21114653,21188840,21285106,21371648,21437402,21532892,21639626,21776920,21964472,22102554,22243118,22385245,22501233,22547916,22633543,22748737,22886318,23033581,23192150,23374045,23487602,23602947,23690061,23701606,23750093,23912785,24110983]
["female",63,260067,263017,260730,252325,245580,243066,248501,253426,257499,261255,262255,259172,246583,261480,286313,298927,299700,304055,385971,354118,331593,321439,311524,307451,312909,315973,312191,321237,332205,343717,351805,359033,null,63,21037061,21085433,21155014,21211068,21276143,21357719,21437341,21538532,21629147,21698657,21795147,21898798,22023503,22225952,22388867,22542045,22684945,22805288,22933887,22987661,23080330,23207757,23345105,23499601,23686954,23803575,23915138,24011298,24033811,24093810,24264590,24470016]
["female",64,256175,257300,260003,258158,250086,243639,241149,246602,251562,255386,258971,260116,256608,243389,259056,283472,297166,297082,301247,384299,351831,329430,319321,309520,305442,310796,313941,309998,318901,330434,341295,349334,null,64,21293236,21342733,21415017,21469226,21526229,21601358,21678490,21785134,21880709,21954043,22054118,22158914,22280111,22469341,22647923,22825517,22982111,23102370,23235134,23371960,23432161,23537187,23664426,23809121,23992396,24114371,24229079,24321296,24352712,24424244,24605885,24819350]
["female",65,258019,252741,254256,256962,255206,247331,241272,238785,244724,249106,252817,256596,257408,253947,239404,256317,281382,295312,294307,298471,381570,349300,327060,316970,307330,303237,308353,311683,307716,316900,327903,338794,null,65,{"$f":"AK173+C174","v":21551255},{"$f":"AL173+D174","v":21595474},{"$f":"AM173+E174","v":21669273},{"$f":"AN173+F174","v":21726188},{"$f":"AO173+G174","v":21781435},{"$f":"AP173+H174","v":21848689},{"$f":"AQ173+I174","v":21919762},{"$f":"AR173+J174","v":22023919},{"$f":"AS173+K174","v":22125433},{"$f":"AT173+L174","v":22203149},{"$f":"AU173+M174","v":22306935},{"$f":"AV173+N174","v":22415510},{"$f":"AW173+O174","v":22537519},{"$f":"AX173+P174","v":22723288},{"$f":"AY173+Q174","v":22887327},{"$f":"AZ173+R174","v":23081834},{"$f":"BA173+S174","v":23263493},{"$f":"BB173+T174","v":23397682},{"$f":"BC173+U174","v":23529441},{"$f":"BD173+V174","v":23670431},{"$f":"BE173+W174","v":23813731},{"$f":"BF173+X174","v":23886487},{"$f":"BG173+Y174","v":23991486},{"$f":"BH173+Z174","v":24126091},{"$f":"BI173+AA174","v":24299726},{"$f":"BJ173+AB174","v":24417608},{"$f":"BK173+AC174","v":24537432},{"$f":"BL173+AD174","v":24632979},{"$f":"BM173+AE174","v":24660428},{"$f":"BN173+AF174","v":24741144},{"$f":"BO173+AG174","v":24933788},{"$f":"BP173+AH174","v":25158144}]
["female",66,260044,254447,249194,250871,253641,251975,244540,238906,236586,242048,246378,250095,253853,254647,250386,236384,254236,278878,293218,291390,295959,378629,346711,324353,314365,304935,300866,305840,309192,305574,314401,325225,null,66,21811299,21849921,21918467,21977059,22035076,22100664,22164302,22262825,22362019,22445197,22553313,22665605,22791372,22977935,23137713,23318218,23517729,23676560,23822659,23961821,24109690,24265116,24338197,24450444,24614091,24722543,24838298,24938819,24969620,25046718,25248189,25483369]
["female",67,258092,256054,250632,245582,247319,250073,248604,241462,236304,233760,239294,243571,247029,250929,250638,246907,233900,251915,276125,291119,288720,293213,375545,343786,321548,311549,302311,298183,303061,306845,302878,311661,null,67,22069391,22105975,22169099,22222641,22282395,22350737,22412906,22504287,22598323,22678957,22792607,22909176,23038401,23228864,23388351,23565125,23751629,23928475,24098784,24252940,24398410,24558329,24713742,24794230,24935639,25034092,25140609,25237002,25272681,25353563,25551067,25795030]
["female",68,258678,253899,252082,246848,241572,243698,246366,245155,238741,233764,230746,236453,240190,243716,246855,247313,244166,230955,249436,273312,288142,285744,290353,372008,340548,318419,308361,299442,295195,300266,303831,299904,null,68,22328069,22359874,22421181,22469489,22523967,22594435,22659272,22749442,22837064,22912721,23023353,23145629,23278591,23472580,23635206,23812438,23995795,24159430,24348220,24526252,24686552,24844073,25004095,25166238,25276187,25352511,25448970,25536444,25567876,25653829,25854898,26094934]
["female",69,259290,253856,249537,247608,242482,237271,239747,242386,241713,235327,230254,227495,233058,236740,239544,243250,244341,241116,227872,246765,270265,284970,282742,287111,368143,337010,315024,304976,296166,292310,297198,300516,null,69,22587359,22613730,22670718,22717097,22766449,22831706,22899019,22991828,23078777,23148048,23253607,23373124,23511649,23709320,23874750,24055688,24240136,24400546,24576092,24773017,24956817,25129043,25286837,25453349,25644330,25689521,25763994,25841420,25864042,25946139,26152096,26395450]
["female",70,267641,254083,248798,244571,242685,237743,232820,235507,238234,237667,231564,226520,223843,229606,232654,235768,239986,241103,237614,224580,243752,266914,281629,279361,283708,363910,333052,311341,301435,292828,288846,293746,null,70,22855000,22867813,22919516,22961668,23009134,23069449,23131839,23227335,23317011,23385715,23485171,23599644,23735492,23938926,24107404,24291456,24480122,24641649,24813706,24997597,25200569,25395957,25568466,25732710,25928038,26053431,26097046,26152761,26165477,26238967,26440942,26689196]
["female",71,277712,261840,248259,243261,239166,237410,232896,228086,230938,233658,233264,227552,222455,220102,225405,228658,232127,236384,237622,234074,221464,240585,263481,277823,275711,280133,359319,328897,307023,297435,289079,285146,null,71,23132712,23129653,23167775,23204929,23248300,23306859,23364735,23455421,23547949,23619373,23718435,23827196,23957947,24159028,24332809,24520114,24712249,24878033,25051328,25231671,25422033,25636542,25831947,26010533,26203749,26333564,26456365,26481658,26472500,26536402,26730021,26974342]
["female",72,284236,271065,255521,242345,237424,233525,231879,227654,223025,226189,228842,228546,223012,218024,215804,221345,224948,228237,232617,233950,230505,218089,237017,259454,273768,271538,275929,354417,324117,302700,293322,284891,null,72,23416948,23400718,23423296,23447274,23485724,23540384,23596614,23683075,23770974,23845562,23947277,24055742,24180959,24377052,24548613,24741459,24937197,25106270,25283945,25465621,25652538,25854631,26068964,26269987,26477517,26605102,26732294,26836075,26796617,26839102,27023343,27259233]
["female",73,189324,275664,263899,248809,235765,231009,227495,225793,222224,217760,220842,223755,223402,218332,212889,211363,217371,220724,224061,228648,229885,226490,214449,233051,255148,269201,267047,271653,348664,319139,297985,288528,null,73,23606272,23676382,23687195,23696083,23721489,23771393,23824109,23908868,23993198,24063322,24168119,24279497,24404361,24595384,24761502,24952822,25154568,25326994,25508006,25694269,25882423,26081121,26283413,26503038,26732665,26874303,26999341,27107728,27145281,27158241,27321328,27547761]
["female",74,177319,184623,266380,256335,241488,228871,224481,220957,219543,216486,212077,215255,218257,217989,212999,207868,207025,212990,216307,219707,224529,225625,222432,210336,228795,250519,264287,262400,266505,342697,313692,292672,null,74,23783591,23861005,23953575,23952418,23962977,24000264,24048590,24129825,24212741,24279808,24380196,24494752,24622618,24813373,24974501,25160690,25361593,25539984,25724313,25913976,26106952,26306746,26505845,26713374,26961460,27124822,27263628,27370128,27411786,27500938,27635020,27840433]
["female",75,192495,171208,179513,256986,248272,233858,221842,217454,214033,213232,209988,206073,208975,212364,212073,207643,202862,202250,208420,211639,215053,219841,221076,217767,205912,224167,245350,259230,257003,261104,336092,307544,null,75,23976086,24032213,24133088,24209404,24211249,24234122,24270432,24347279,24426774,24493040,24590184,24700825,24831593,25025737,25186574,25368333,25564455,25742234,25932733,26125615,26322005,26526587,26726921,26931141,27167372,27348989,27508978,27629358,27668789,27762042,27971112,28147977]
["female",76,200877,185147,164844,174116,246872,239778,225860,214072,209933,207174,206011,202998,199689,202453,206058,205861,202211,197424,197280,203522,206740,210017,215022,215817,212782,201174,219054,240023,253217,251257,255275,328707,null,76,24176963,24217360,24297932,24383520,24458121,24473900,24496292,24561351,24636707,24700214,24796195,24903823,25031282,25228190,25392632,25574194,25766666,25939658,26130013,26329137,26528745,26736604,26941943,27146958,27380154,27550163,27728032,27869381,27922006,28013299,28226387,28476684]
["female",77,206852,191924,177474,158156,168083,236245,230975,217372,205827,202407,199666,198484,195637,192978,195544,199606,199723,196400,191777,191907,198213,201256,204793,209335,210408,207234,195854,213866,233608,246807,244998,248749,null,77,24383815,24409284,24475406,24541676,24626204,24710145,24727267,24778723,24842534,24902621,24995861,25102307,25226919,25421168,25588176,25773800,25966389,26136058,26321790,26521044,26726958,26937860,27146736,27356293,27590562,27757397,27923886,28083247,28155614,28260106,28471385,28725433]
["female",78,199995,197451,183418,169726,150931,161813,225501,221489,208635,197746,194211,191623,190473,188111,185610,188565,192872,193105,190340,185870,186175,192096,195709,198751,203461,204307,201216,190428,207366,226802,239971,237774,null,78,24583810,24606735,24658824,24711402,24777135,24871958,24952768,25000212,25051169,25100367,25190072,25293930,25417392,25609279,25773786,25962365,26159261,26329163,26512130,26706914,26913133,27129956,27342445,27555044,27794023,27961704,28125102,28273675,28362980,28486908,28711356,28963207]
["female",79,186594,190160,187452,174223,161261,143351,155537,213753,211413,199856,189164,185436,183124,182056,180128,178224,181420,185728,186313,183719,179648,179770,186126,189200,192541,196919,197483,195043,183871,200615,219581,232201,null,79,24770404,24796895,24846276,24885625,24938396,25015309,25108305,25213965,25262582,25300223,25379236,25479366,25600516,25791335,25953914,26140589,26340681,26514891,26698443,26890633,27092781,27309726,27528571,27744244,27986564,28158623,28322585,28468718,28546851,28687523,28930937,29195408]
["female",80,173605,176457,179460,177218,164364,152266,135687,148973,201599,201564,189890,179684,176381,174306,173695,171865,170571,173619,178291,178937,176734,172711,173405,178817,182361,185591,189757,190737,187315,176943,193311,211435,null,80,24944009,24973352,25025736,25062843,25102760,25167575,25243992,25362938,25464181,25501787,25569126,25659050,25776897,25965641,26127609,26312454,26511252,26688510,26876734,27069570,27269515,27482437,27701976,27923061,28168925,28344214,28512342,28659455,28734166,28864466,29124248,29406843]
["female",81,161203,162911,165411,168504,166146,154174,143368,127651,141843,189275,190366,179439,169897,166856,165370,164933,163266,162343,165651,170657,171003,169064,165711,165812,171432,174815,177928,182405,182417,179653,169545,185223,null,81,25105212,25136263,25191147,25231347,25268906,25321749,25387360,25490589,25606024,25691062,25759492,25838489,25946794,26132497,26292979,26477387,26674518,26850853,27042385,27240227,27440518,27651501,27867687,28088873,28340357,28519029,28690270,28841860,28916583,29044119,29293793,29592066]
["female",82,151149,150243,151542,154317,157068,154850,143866,133760,119196,135058,177014,178445,168382,159937,157284,156001,155618,154342,154212,157406,162166,162226,161313,157546,158008,163246,166512,170058,173450,173969,171317,161265,null,82,25256361,25286506,25342689,25385664,25425974,25476599,25531226,25624349,25725220,25826120,25936506,26016934,26115176,26292434,26450263,26633388,26830136,27005195,27196597,27397633,27602684,27813727,28029000,28246419,28498365,28682275,28856782,29011918,29090033,29218088,29465110,29753331]
["female",83,139163,139726,138873,140337,142643,144917,143626,132920,124012,110828,126376,164224,166052,157180,149971,147625,146302,146184,145236,145454,148589,152936,153502,152139,149088,149640,154464,158084,160767,164284,164907,162108,null,83,25395524,25426232,25481562,25526001,25568617,25621516,25674852,25757269,25849232,25936948,26062882,26181158,26281228,26449614,26600234,26781013,26976438,27151379,27341833,27543087,27751273,27966663,28182502,28398558,28647453,28831915,29011246,29170002,29250800,29382372,29630017,29915439]
["female",84,126547,127590,127645,127428,128384,130684,133361,131650,121861,114229,102065,117521,151070,153724,145630,139452,137321,136314,136577,135633,136174,138830,143915,143273,142797,139901,140395,145571,147958,151099,154638,154785,null,84,25522071,25553822,25609207,25653429,25697001,25752200,25808213,25888919,25971093,26051177,26164947,26298679,26432298,26603338,26745864,26920465,27113759,27287693,27478410,27678720,27887447,28105493,28326417,28541831,28790250,28971816,29151641,29315573,29398758,29533471,29784655,30070224]
["female",85,614115,639413,653978,672215,683655,694254,711191,721111,731042,110872,104356,93152,108295,137691,141291,134136,128752,126817,126333,126548,125873,126004,129461,133338,133243,132796,130105,131320,134919,137835,141058,144160,null,85,26136186,26193235,26263185,26325644,26380656,26446454,26519404,26610030,26702135,26162049,26269303,26391831,26540593,26741029,26887155,27054601,27242511,27414510,27604743,27805268,28013320,28231497,28455878,28675169,28923493,29104612,29281746,29446893,29533677,29671306,29925713,30214384]
["female",86,null,null,null,null,null,null,null,null,null,108219,100029,94108,83868,99070,124644,128784,122428,117809,116456,116021,116300,115457,116446,118552,122695,122567,122101,120501,120424,124543,127514,129840,null,86,26136186,26193235,26263185,26325644,26380656,26446454,26519404,26610030,26702135,26270268,26369332,26485939,26624461,26840099,27011799,27183385,27364939,27532319,27721199,27921289,28129620,28346954,28572324,28793721,29046188,29227179,29403847,29567394,29654101,29795849,30053227,30344224]
["female",87,null,null,null,null,null,null,null,null,null,97023,96545,89161,83891,75121,90104,111546,116230,110591,106956,105903,105358,105539,105465,105388,107821,111416,111188,111919,109032,109862,114130,116139,null,87,26136186,26193235,26263185,26325644,26380656,26446454,26519404,26610030,26702135,26367291,26465877,26575100,26708352,26915220,27101903,27294931,27481169,27642910,27828155,28027192,28234978,28452493,28677789,28899109,29154009,29338595,29515035,29679313,29763133,29905711,30167357,30460363]
["female",88,null,null,null,null,null,null,null,null,null,84353,85429,84928,78236,74033,66448,81574,98391,103515,99307,96247,95289,94444,95364,94117,94603,96795,99708,100384,100009,97971,99218,102501,null,88,26136186,26193235,26263185,26325644,26380656,26446454,26519404,26610030,26702135,26451644,26551306,26660028,26786588,26989253,27168351,27376505,27579560,27746425,27927462,28123439,28330267,28546937,28773153,28993226,29248612,29435390,29614743,29779697,29863142,30003682,30266575,30562864]
["female",89,null,null,null,null,null,null,null,null,null,71007,73147,73922,73625,67672,64641,58110,72876,85315,91529,87958,85160,83871,84180,83750,83388,83553,85197,88663,87858,88540,87204,87624,null,89,26136186,26193235,26263185,26325644,26380656,26446454,26519404,26610030,26702135,26522651,26624453,26733950,26860213,27056925,27232992,27434615,27652436,27831740,28018991,28211397,28415427,28630808,28857333,29076976,29332000,29518943,29699940,29868360,29951000,30092222,30353779,30650488]
["female","90+",null,null,null,null,null,null,null,null,null,263069,269572,275179,279694,284020,284512,283709,274963,281833,300695,321893,336713,342577,354309,353202,358146,358116,355677,363473,361278,364949,369918,368247,null,"90+",26136186,26193235,26263185,26325644,26380656,26446454,26519404,26610030,26702135,26785720,26894025,27009129,27139907,27340945,27517504,27718324,27927399,28113573,28319686,28533290,28752140,28973385,29211642,29430178,29690146,29877059,30055617,30231833,30312278,30457171,30723697,31018735]
[null,"All Females",{"$f":"SUM(C109:C199)","v":26136186},{"$f":"SUM(D109:D199)","v":26193235},26263185,26325644,26380656,26446454,26519404,26610030,26702135,26785720,26894025,27009129,27139907,27340945,27517504,27718324,27927399,28113573,28319686,28533290,28752140,28973385,29211642,29430178,29690146,29877059,30055617,30231833,{"$f":"SUM(AE109:AE199)","v":30312278},30457171,30723697,31018735]

{"sheet":"South East","index":8,"n_rows":200,"n_cols":106,"rows_kept":200,"cut":false,"hidden":true,"merged":[[0,68,21,68]]}
["Mid Year Population Estimates",null,null,null,null,null,null,null,null,null,null,null,null,null,null,null,null,null,null,null,null,null,null,null,null,null,null,null,null,null,null,null,null,null,null,null,null,null,null,null,null,null,null,null,null,null,null,null,null,null,null,null,null,null,null,null,null,null,null,null,null,null,null,null,null,null,null,null,"Insert column here before extending the table"]
["ONS Mid-Year Population Estimates 1991 to 2022 - (1992 to 2001 Revised 7th October 2004) ( 2002 to 2010 revised in light of the 2011 census. Released 30 April 2013)",null,null,null,null,null,null,null,null,null,null,null,null,null,null,null,null,null,null,null,null,null,null,null,null,null,null,null,null,null,null,null,null,null,null,"Selected Ages:",null,{"$f":"Index!$C$4&\" : \"&Index!$C$7","v":"0 : 90"},null,null,null,null,null,null,null,null,null,null,null,null,null,null,null,null,null,null,null,null,null,null,null,null,null,null,null,null,null,null,null,null,null,null,"Start year","End Year","Number change","% Change"]
["Revised ONS Mid-Year Population Estimates 2012 to 2020- Released 23 November 2023",null,null,null,null,null,null,null,null,null,null,null,null,null,null,null,null,null,null,null,null,null,null,null,null,null,null,null,null,null,null,null,null,null,null,null,{"$f":"AK13","v":1992},{"$f":"AL13","v":1993},{"$f":"AM13","v":1994},{"$f":"AN13","v":1995},{"$f":"AO13","v":1996},{"$f":"AP13","v":1997},1998,1999,2000,2001,2002,2003,2004,2005,2006,2007,2008,2009,2010,2011,2012,2013,2014,2015,2016,2017,{"$f":"BK13","v":2018},2019,2020,2021,2022,2023,null,null,null,null,{"$f":"INDEX($AR3:$BL3,Index!$B$16)","v":1999},{"$f":"INDEX($AR3:$BL3,Index!$B$19)","v":2019}]
["2022 MYPE released 23 November 2023",null,null,null,null,null,null,null,null,null,null,null,null,null,null,null,null,null,null,null,null,null,null,null,null,null,null,null,null,null,null,null,null,null,null,"Males",{"$f":"OFFSET(AK16,Index!$B$7-1,0)-IF(Index!$B$4-2=-1,0,OFFSET(AK16,Index!$B$4-2,0))","v":3728474},{"$f":"OFFSET(AL16,Index!$B$7-1,0)-IF(Index!$B$4-2=-1,0,OFFSET(AL16,Index!$B$4-2,0))","v":3735419},{"$f":"OFFSET(AM16,Index!$B$7-1,0)-IF(Index!$B$4-2=-1,0,OFFSET(AM16,Index!$B$4-2,0))","v":3754015},{"$f":"OFFSET(AN16,Index!$B$7-1,0)-IF(Index!$B$4-2=-1,0,OFFSET(AN16,Index!$B$4-2,0))","v":3780782},{"$f":"OFFSET(AO16,Index!$B$7-1,0)-IF(Index!$B$4-2=-1,0,OFFSET(AO16,Index!$B$4-2,0))","v":3801825},{"$f":"OFFSET(AP16,Index!$B$7-1,0)-IF(Index!$B$4-2=-1,0,OFFSET(AP16,Index!$B$4-2,0))","v":3828869},{"$f":"OFFSET(AQ16,Index!$B$7-1,0)-IF(Index!$B$4-2=-1,0,OFFSET(AQ16,Index!$B$4-2,0))","v":3848358},{"$f":"OFFSET(AR16,Index!$B$7-1,0)-IF(Index!$B$4-2=-1,0,OFFSET(AR16,Index!$B$4-2,0))","v":3883985},{"$f":"OFFSET(AS16,Index!$B$7-1,0)-IF(Index!$B$4-2=-1,0,OFFSET(AS16,Index!$B$4-2,0))","v":3902882},{"$f":"OFFSET(AT16,Index!$B$7-1,0)-IF(Index!$B$4-2=-1,0,OFFSET(AT16,Index!$B$4-2,0))","v":3923985},{"$f":"OFFSET(AU16,Index!$B$7-1,0)-IF(Index!$B$4-2=-1,0,OFFSET(AU16,Index!$B$4-2,0))","v":3935274},{"$f":"OFFSET(AV16,Index!$B$7-1,0)-IF(Index!$B$4-2=-1,0,OFFSET(AV16,Index!$B$4-2,0))","v":3959605},{"$f":"OFFSET(AW16,Index!$B$7-1,0)-IF(Index!$B$4-2=-1,0,OFFSET(AW16,Index!$B$4-2,0))","v":3980267},{"$f":"OFFSET(AX16,Index!$B$7-1,0)-IF(Index!$B$4-2=-1,0,OFFSET(AX16,Index!$B$4-2,0))","v":4011554},{"$f":"OFFSET(AY16,Index!$B$7-1,0)-IF(Index!$B$4-2=-1,0,OFFSET(AY16,Index!$B$4-2,0))","v":4047844},{"$f":"OFFSET(AZ16,Index!$B$7-1,0)-IF(Index!$B$4-2=-1,0,OFFSET(AZ16,Index!$B$4-2,0))","v":4090120},{"$f":"OFFSET(BA16,Index!$B$7-1,0)-IF(Index!$B$4-2=-1,0,OFFSET(BA16,Index!$B$4-2,0))","v":4130547},{"$f":"OFFSET(BB16,Index!$B$7-1,0)-IF(Index!$B$4-2=-1,0,OFFSET(BB16,Index!$B$4-2,0))","v":4163976},{"$f":"OFFSET(BC16,Index!$B$7-1,0)-IF(Index!$B$4-2=-1,0,OFFSET(BC16,Index!$B$4-2,0))","v":4210659},{"$f":"OFFSET(BD16,Index!$B$7-1,0)-IF(Index!$B$4-2=-1,0,OFFSET(BD16,Index!$B$4-2,0))","v":4251422},{"$f":"OFFSET(BE16,Index!$B$7-1,0)-IF(Index!$B$4-2=-1,0,OFFSET(BE16,Index!$B$4-2,0))","v":4289814},{"$f":"OFFSET(BF16,Index!$B$7-1,0)-IF(Index!$B$4-2=-1,0,OFFSET(BF16,Index!$B$4-2,0))","v":4327136},{"$f":"OFFSET(BG16,Index!$B$7-1,0)-IF(Index!$B$4-2=-1,0,OFFSET(BG16,Index!$B$4-2,0))","v":4366190},{"$f":"OFFSET(BH16,Index!$B$7-1,0)-IF(Index!$B$4-2=-1,0,OFFSET(BH16,Index!$B$4-2,0))","v":4404632},{"$f":"OFFSET(BI16,Index!$B$7-1,0)-IF(Index!$B$4-2=-1,0,OFFSET(BI16,Index!$B$4-2,0))","v":4444960},{"$f":"OFFSET(BJ16,Index!$B$7-1,0)-IF(Index!$B$4-2=-1,0,OFFSET(BJ16,Index!$B$4-2,0))","v":4467929},{"$f":"OFFSET(BK16,Index!$B$7-1,0)-IF(Index!$B$4-2=-1,0,OFFSET(BK16,Index!$B$4-2,0))","v":4486173},{"$f":"OFFSET(BL16,Index!$B$7-1,0)-IF(Index!$B$4-2=-1,0,OFFSET(BL16,Index!$B$4-2,0))","v":4504155},{"$f":"OFFSET(BM16,Index!$B$7-1,0)-IF(Index!$B$4-2=-1,0,OFFSET(BM16,Index!$B$4-2,0))","v":4516989},{"$f":"OFFSET(BN16,Index!$B$7-1,0)-IF(Index!$B$4-2=-1,0,OFFSET(BN16,Index!$B$4-2,0))","v":4548243},{"$f":"OFFSET(BO16,Index!$B$7-1,0)-IF(Index!$B$4-2=-1,0,OFFSET(BO16,Index!$B$4-2,0))","v":4593507},{"$f":"OFFSET(BP16,Index!$B$7-1,0)-IF(Index!$B$4-2=-1,0,OFFSET(BP16,Index!$B$4-2,0))","v":4638839},null,null,null,null,{"$f":"INDEX($AR4:$BL4,Index!$B$16)","v":3883985},{"$f":"INDEX($AR4:$BM4,Index!$B$19)","v":4504155},{"$f":"BV4-BU4","v":620170},{"$f":"BW4/BU4","v":0.15967363416697025}]
[null,null,null,null,null,null,null,null,null,null,null,null,null,null,null,null,null,null,null,null,null,null,null,null,null,null,null,null,null,null,null,null,null,null,null,"Females",{"$f":"OFFSET(AK109,Index!$B$7-1,0)-IF(Index!$B$4-2=-1,0,OFFSET(AK109,Index!$B$4-2,0))","v":3928120},{"$f":"OFFSET(AL109,Index!$B$7-1,0)-IF(Index!$B$4-2=-1,0,OFFSET(AL109,Index!$B$4-2,0))","v":3937753},{"$f":"OFFSET(AM109,Index!$B$7-1,0)-IF(Index!$B$4-2=-1,0,OFFSET(AM109,Index!$B$4-2,0))","v":3957579},{"$f":"OFFSET(AN109,Index!$B$7-1,0)-IF(Index!$B$4-2=-1,0,OFFSET(AN109,Index!$B$4-2,0))","v":3982196},{"$f":"OFFSET(AO109,Index!$B$7-1,0)-IF(Index!$B$4-2=-1,0,OFFSET(AO109,Index!$B$4-2,0))","v":3998581},{"$f":"OFFSET(AP109,Index!$B$7-1,0)-IF(Index!$B$4-2=-1,0,OFFSET(AP109,Index!$B$4-2,0))","v":4024233},{"$f":"OFFSET(AQ109,Index!$B$7-1,0)-IF(Index!$B$4-2=-1,0,OFFSET(AQ109,Index!$B$4-2,0))","v":4040480},{"$f":"OFFSET(AR109,Index!$B$7-1,0)-IF(Index!$B$4-2=-1,0,OFFSET(AR109,Index!$B$4-2,0))","v":4071139},{"$f":"OFFSET(AS109,Index!$B$7-1,0)-IF(Index!$B$4-2=-1,0,OFFSET(AS109,Index!$B$4-2,0))","v":4087716},{"$f":"OFFSET(AT109,Index!$B$7-1,0)-IF(Index!$B$4-2=-1,0,OFFSET(AT109,Index!$B$4-2,0))","v":4099464},{"$f":"OFFSET(AU109,Index!$B$7-1,0)-IF(Index!$B$4-2=-1,0,OFFSET(AU109,Index!$B$4-2,0))","v":4109918},{"$f":"OFFSET(AV109,Index!$B$7-1,0)-IF(Index!$B$4-2=-1,0,OFFSET(AV109,Index!$B$4-2,0))","v":4128319},{"$f":"OFFSET(AW109,Index!$B$7-1,0)-IF(Index!$B$4-2=-1,0,OFFSET(AW109,Index!$B$4-2,0))","v":4152833},{"$f":"OFFSET(AX109,Index!$B$7-1,0)-IF(Index!$B$4-2=-1,0,OFFSET(AX109,Index!$B$4-2,0))","v":4191342},{"$f":"OFFSET(AY109,Index!$B$7-1,0)-IF(Index!$B$4-2=-1,0,OFFSET(AY109,Index!$B$4-2,0))","v":4223017},{"$f":"OFFSET(AZ109,Index!$B$7-1,0)-IF(Index!$B$4-2=-1,0,OFFSET(AZ109,Index!$B$4-2,0))","v":4261271},{"$f":"OFFSET(BA109,Index!$B$7-1,0)-IF(Index!$B$4-2=-1,0,OFFSET(BA109,Index!$B$4-2,0))","v":4295852},{"$f":"OFFSET(BB109,Index!$B$7-1,0)-IF(Index!$B$4-2=-1,0,OFFSET(BB109,Index!$B$4-2,0))","v":4326946},{"$f":"OFFSET(BC109,Index!$B$7-1,0)-IF(Index!$B$4-2=-1,0,OFFSET(BC109,Index!$B$4-2,0))","v":4367112},{"$f":"OFFSET(BD109,Index!$B$7-1,0)-IF(Index!$B$4-2=-1,0,OFFSET(BD109,Index!$B$4-2,0))","v":4401362},{"$f":"OFFSET(BE109,Index!$B$7-1,0)-IF(Index!$B$4-2=-1,0,OFFSET(BE109,Index!$B$4-2,0))","v":4442026},{"$f":"OFFSET(BF109,Index!$B$7-1,0)-IF(Index!$B$4-2=-1,0,OFFSET(BF109,Index!$B$4-2,0))","v":4482246},{"$f":"OFFSET(BG109,Index!$B$7-1,0)-IF(Index!$B$4-2=-1,0,OFFSET(BG109,Index!$B$4-2,0))","v":4527740},{"$f":"OFFSET(BH109,Index!$B$7-1,0)-IF(Index!$B$4-2=-1,0,OFFSET(BH109,Index!$B$4-2,0))","v":4565006},{"$f":"OFFSET(BI109,Index!$B$7-1,0)-IF(Index!$B$4-2=-1,0,OFFSET(BI109,Index!$B$4-2,0))","v":4608051},{"$f":"OFFSET(BJ109,Index!$B$7-1,0)-IF(Index!$B$4-2=-1,0,OFFSET(BJ109,Index!$B$4-2,0))","v":4637147},{"$f":"OFFSET(BK109,Index!$B$7-1,0)-IF(Index!$B$4-2=-1,0,OFFSET(BK109,Index!$B$4-2,0))","v":4664072},{"$f":"OFFSET(BL109,Index!$B$7-1,0)-IF(Index!$B$4-2=-1,0,OFFSET(BL109,Index!$B$4-2,0))","v":4689615},{"$f":"OFFSET(BM109,Index!$B$7-1,0)-IF(Index!$B$4-2=-1,0,OFFSET(BM109,Index!$B$4-2,0))","v":4708284},{"$f":"OFFSET(BN109,Index!$B$7-1,0)-IF(Index!$B$4-2=-1,0,OFFSET(BN109,Index!$B$4-2,0))","v":4747586},{"$f":"OFFSET(BO109,Index!$B$7-1,0)-IF(Index!$B$4-2=-1,0,OFFSET(BO109,Index!$B$4-2,0))","v":4793779},{"$f":"OFFSET(BP109,Index!$B$7-1,0)-IF(Index!$B$4-2=-1,0,OFFSET(BP109,Index!$B$4-2,0))","v":4843668},null,null,null,null,{"$f":"INDEX($AR5:$BL5,Index!$B$16)","v":4071139},{"$f":"INDEX($AR5:$BM5,Index!$B$19)","v":4689615},{"$f":"BV5-BU5","v":618476},{"$f":"BW5/BU5","v":0.15191719074195206}]
[null,null,null,null,null,null,null,null,null,null,null,null,null,null,null,null,null,null,null,null,null,null,null,null,null,null,null,null,null,null,null,null,null,null,null,"Total",{"$f":"SUM(AK4:AK5)","v":7656594},{"$f":"SUM(AL4:AL5)","v":7673172},{"$f":"SUM(AM4:AM5)","v":7711594},{"$f":"SUM(AN4:AN5)","v":7762978},{"$f":"SUM(AO4:AO5)","v":7800406},{"$f":"SUM(AP4:AP5)","v":7853102},7888838,7955124,7990598,8023449,8045192,8087924,8133100,8202896,8270861,8351391,8426399,8490922,8577771,8652784,8731840,8809382,8893930,8969638,9053011,9105076,9150245,9193770,9225273,9295829,9387286,9482507,null,null,null,null,{"$f":"INDEX($AR6:$BL6,Index!$B$16)","v":7955124},{"$f":"INDEX($AR6:$BM6,Index!$B$19)","v":9193770},{"$f":"BV6-BU6","v":1238646},{"$f":"BW6/BU6","v":0.15570417255595262}]
[]
[null,null,null,null,null,null,null,null,null,null,null,null,null,null,null,null,null,null,null,null,null,null,null,null,null,null,null,null,null,null,null,null,null,null,null,"Males",{"$f":"IF(AK4<0,\"0\",AK4)","v":3728474},{"$f":"IF(AL4<0,\"0\",AL4)","v":3735419},3754015,3780782,3801825,3828869,3848358,3883985,3902882,3923985,3935274,3959605,3980267,4011554,4047844,4090120,4130547,4163976,4210659,4251422,4289814,4327136,4366190,4404632,4444960,4467929,{"$f":"IF(BK4<0,\"0\",BK4)","v":4486173},4504155,4516989,{"$f":"IF(BN4<0,\"0\",BN4)","v":4548243},4593507,{"$f":"IF(BP4<0,\"0\",BP4)","v":4638839}]
[null,null,null,null,null,null,null,null,null,null,null,null,null,null,null,null,null,null,null,null,null,null,null,null,null,null,null,null,null,null,null,null,null,null,null,"Females",{"$f":"IF(AK5<0,\"0\",AK5)","v":3928120},3937753,3957579,3982196,3998581,4024233,4040480,4071139,4087716,4099464,4109918,4128319,4152833,4191342,4223017,4261271,4295852,4326946,4367112,4401362,4442026,4482246,4527740,4565006,4608051,4637147,4664072,4689615,4708284,{"$f":"IF(BN5<0,\"0\",BN5)","v":4747586},4793779,{"$f":"IF(BP5<0,\"0\",BP5)","v":4843668}]
[null,null,null,null,null,null,null,null,null,null,null,null,null,null,null,null,null,null,null,null,null,null,null,null,null,null,null,null,null,null,null,null,null,null,null,"Total",{"$f":"SUM(AK8:AK9)","v":7656594},{"$f":"SUM(AL8:AL9)","v":7673172},7711594,7762978,7800406,7853102,7888838,7955124,7990598,8023449,8045192,8087924,8133100,8202896,8270861,8351391,8426399,8490922,8577771,8652784,8731840,8809382,8893930,8969638,9053011,9105076,{"$f":"SUM(BK8:BK9)","v":9150245},9193770,9225273,9295829,9387286,9482507]
[]
[null,null,null,"MYE for  . . . . . .",null,null,null,"South East Region",null,null,null,null,null,null,null,null,null,null,null,null,null,null,null,null,null,null,null,null,null,null,null,null,null,null,null,null,null,null,null,null,"Cummulative Ages",null,null,null,null,null,null,null,null,null,null,null,null,null,null,null,null,null,null,null,null,null,null,null,null,null,null,null,null,"Population Pyramid Data"]
[null,null,"Base Year",null,null,null,null,null,null,null,null,null,null,null,null,null,null,null,null,null,null,null,null,null,null,null,null,null,null,null,null,null,null,null,null,null,{"$f":"C14","v":1992},1993,1994,1995,1996,1997,1998,1999,2000,2001,2002,2003,2004,2005,2006,2007,2008,2009,2010,2011,2012,2013,2014,2015,2016,2017,2018,2019,2020,2021,2022,2023]
["Sex","Age",1992,1993,1994,1995,1996,1997,1998,1999,2000,2001,2002,2003,2004,2005,2006,2007,2008,2009,2010,2011,2012,2013,2014,2015,2016,2017,2018,2019,2020,2021,2022,2023,null,null,null,null,null,null,null,null,null,null,null,null,null,null,null,null,null,null,null,null,null,null,null,null,null,null,null,null,null,null,null,null,null,null,null,null,null,null,1992,1993,1994,1995,1996,1997,1998,1999,2000,2001,2002,2003,2004,2005,2006,2007,2008,2009,2010,2011,2012,2013,2014,2015,2016,2017,2018,2019,2020,2021,2022,2023,null,{"$f":"INDEX(CC14:CY14,'Population Pyramid'!$L$1)","v":2020}]
[null,"All persons",{"$f":"SUM(C107,C200)","v":7656594},{"$f":"SUM(D107,D200)","v":7673172},7711594,7762978,7800406,7853102,7888838,7955124,7990598,8023449,8045192,8087924,8133100,8202896,8270861,8351391,8426399,8490922,8577771,8652784,8731840,8809382,{"$f":"SUM(Y107,Y200)","v":8893930},8969638,9053011,9105076,9150245,{"$f":"SUM(AD107,AD200)","v":9193770},{"$f":"SUM(AE107,AE200)","v":9225273},{"$f":"SUM(AF107,AF200)","v":9295829},{"$f":"SUM(AG107,AG200)","v":9387286},{"$f":"SUM(AH107,AH200)","v":9482507},null,"Males",null,null,null,null,null,null,null,null,null,null,null,null,null,null,null,null,null,null,null,null,null,null,null,null,null,null,null,null,null,null,null,null,null,"Males","All Ages",null,{"$f":"C107","v":3728474},3735419,3754015,3780782,3801825,3828869,3848358,3883985,3902882,3923985,3935274,3959605,3980267,4011554,4047844,4090120,4130547,4163976,4210659,4251422,4289814,4327136,4366190,4404632,4444960,4467929,4486173,4504155,4516989,4548243,4593507,4638839,null,{"$f":"INDEX(CC15:CY15,'Population Pyramid'!$L$1)","v":4516989}]
["male",0,51355,49650,50044,49049,48633,49253,48468,48722,47305,45754,44671,46452,48098,48119,49717,51748,53254,53141,54320,55408,55131,53817,52375,52461,52540,50894,50157,48905,47767,47229,47908,46216,null,0,{"$f":"C16","v":51355},49650,50044,49049,48633,49253,48468,48722,47305,45754,44671,46452,48098,48119,49717,51748,53254,53141,54320,55408,55131,53817,52375,52461,52540,50894,50157,48905,47767,47229,47908,46216,null,"Males","0-4",null,{"$f":"SUM(C16:C20)","v":256556},254970,254806,254873,252525,251297,249615,248433,246134,241829,237322,236309,236604,237540,241347,249142,256368,261731,269181,274823,278529,279285,278840,277119,273964,268738,263955,260494,255976,252889,254023,253536,null,{"$f":"INDEX(CC16:CY16,'Population Pyramid'!$L$1)","v":255976}]
["male",1,51211,51351,49766,51078,49338,49178,49408,49168,48866,47538,45940,45165,46879,48436,48612,50446,52415,53714,53819,54929,56310,56134,54819,53231,53275,53193,51417,50889,49712,49421,48895,49695,null,1,{"$f":"AK16+C17","v":102566},{"$f":"AL16+D17","v":101001},{"$f":"AM16+E17","v":99810},{"$f":"AN16+F17","v":100127},{"$f":"AO16+G17","v":97971},{"$f":"AP16+H17","v":98431},{"$f":"AQ16+I17","v":97876},{"$f":"AR16+J17","v":97890},{"$f":"AS16+K17","v":96171},{"$f":"AT16+L17","v":93292},{"$f":"AU16+M17","v":90611},{"$f":"AV16+N17","v":91617},{"$f":"AW16+O17","v":94977},{"$f":"AX16+P17","v":96555},{"$f":"AY16+Q17","v":98329},{"$f":"AZ16+R17","v":102194},{"$f":"BA16+S17","v":105669},{"$f":"BB16+T17","v":106855},{"$f":"BC16+U17","v":108139},{"$f":"BD16+V17","v":110337},{"$f":"BE16+W17","v":111441},{"$f":"BF16+X17","v":109951},{"$f":"BG16+Y17","v":107194},{"$f":"BH16+Z17","v":105692},{"$f":"BI16+AA17","v":105815},{"$f":"BJ16+AB17","v":104087},{"$f":"BK16+AC17","v":101574},{"$f":"BL16+AD17","v":99794},{"$f":"BM16+AE17","v":97479},{"$f":"BN16+AF17","v":96650},{"$f":"BO16+AG17","v":96803},95911,null,"Males","5-9",null,{"$f":"SUM(C21:C25)","v":242582},246662,251138,254483,258647,262120,261495,264287,262811,259783,257835,256993,255808,254442,251893,248342,246137,245826,246977,251636,260322,268754,274743,281004,286605,289634,289479,287600,285029,282095,282547,283853,null,{"$f":"INDEX(CC17:CY17,'Population Pyramid'!$L$1)","v":285029}]
["male",2,51129,51511,51727,50369,51487,49964,49673,49915,49336,48932,47798,46576,45702,47397,48867,49297,51250,52932,54614,54587,55774,57065,57006,55591,53909,53792,53701,52051,51444,50887,51065,50766,null,2,153695,152512,151537,150496,149458,148395,147549,147805,145507,142224,138409,138193,140679,143952,147196,151491,156919,159787,162753,164924,167215,167016,164200,161283,159724,157879,155275,151845,148923,147537,147868,146677,null,"Males","10-14",null,{"$f":"SUM(C26:C30)","v":240595},243534,243502,245282,245766,248739,253695,259231,261596,266343,269457,270144,270958,269986,268124,267151,266538,265712,265289,262561,257637,255320,255753,258474,263877,270763,277345,282006,286970,292734,300488,304953,null,{"$f":"INDEX(CC18:CY18,'Population Pyramid'!$L$1)","v":286970}]
["male",3,51335,51257,51814,52120,50703,51825,50167,50059,50247,49337,49255,48292,47151,46051,47726,49469,49670,51919,53763,55462,55279,56323,57686,57695,56129,54300,54093,54223,52414,52136,52531,52735,null,3,205030,203769,203351,202616,200161,200220,197716,197864,195754,191561,187664,186485,187830,190003,194922,200960,206589,211706,216516,220386,222494,223339,221886,218978,215853,212179,209368,206068,201337,199673,200399,199412,null,"Males","15-19",null,{"$f":"SUM(C31:C35)","v":239185},231516,229793,231523,236134,242365,247709,250363,248758,250346,253889,258574,261599,263178,269389,275396,275835,278135,278451,277999,275189,274212,271783,270288,267941,264989,263869,265125,268377,272397,278492,287644,null,{"$f":"INDEX(CC19:CY19,'Population Pyramid'!$L$1)","v":268377}]
["male",4,51526,51201,51455,52257,52364,51077,51899,50569,50380,50268,49658,49824,48774,47537,46425,48182,49779,50025,52665,54437,56035,55946,56954,58141,58111,56559,54587,54426,54639,53216,53624,54124,null,4,256556,254970,254806,254873,252525,251297,249615,248433,246134,241829,237322,236309,236604,237540,241347,249142,256368,261731,269181,274823,278529,279285,278840,277119,273964,268738,263955,260494,255976,252889,254023,253536,null,"Males","20-24",null,{"$f":"SUM(C36:C40)","v":283431},271593,259237,249447,237659,226797,217853,219878,225725,234978,237810,241918,245529,248335,249717,254709,258037,258268,264371,272160,275591,277036,280050,279743,279548,276511,272300,268478,264748,263831,262563,260578,null,{"$f":"INDEX(CC20:CY20,'Population Pyramid'!$L$1)","v":264748}]
["male",5,49739,51367,51203,51632,52455,52535,51087,52299,50776,50430,50653,50148,50347,49069,47917,46886,48392,50077,50340,53181,54844,56485,56352,57323,58520,58299,56737,54728,54604,55077,54582,54996,null,5,306295,306337,306009,306505,304980,303832,300702,300732,296910,292259,287975,286457,286951,286609,289264,296028,304760,311808,319521,328004,333373,335770,335192,334442,332484,327037,320692,315222,310580,307966,308605,308532,null,"Males","25-29",null,{"$f":"SUM(C41:C45)","v":302139},299300,298359,295201,290274,285586,278749,269745,261198,251839,243566,239890,238967,243960,251199,257861,264161,262735,263085,263970,262585,263798,265986,269453,274099,276529,275174,273196,270063,267843,267121,269907,null,{"$f":"INDEX(CC21:CY21,'Population Pyramid'!$L$1)","v":270063}]
["male",6,48632,49616,51451,51448,51886,52797,52643,51820,52310,50838,50735,50981,50577,50610,49438,48275,47127,48644,50375,50671,53385,55227,56831,56638,57571,58648,58470,56910,54900,55011,56344,55816,null,6,354927,355953,357460,357953,356866,356629,353345,352552,349220,343097,338710,337438,337528,337219,338702,344303,351887,360452,369896,378675,386758,390997,392023,391080,390055,385685,379162,372132,365480,362977,364949,364348,null,"Males","30-34",null,{"$f":"SUM(C46:C50)","v":282383},288532,296382,303602,308813,312766,311588,308277,302190,295536,288368,284340,277646,272504,265535,258994,256383,258564,262681,266988,271332,275069,275052,275754,277081,277477,279769,283294,285287,290860,293809,293776,null,{"$f":"INDEX(CC22:CY22,'Population Pyramid'!$L$1)","v":285287}]
["male",7,48989,48765,49837,51882,51753,52285,53151,53304,52119,52334,51088,51231,51438,51002,50983,49805,48655,47417,48932,50578,51139,53673,55439,57166,57043,57772,58880,58733,57147,55237,56451,57582,null,7,403916,404718,407297,409835,408619,408914,406496,405856,401339,395431,389798,388669,388966,388221,389685,394108,400542,407869,418828,429253,437897,444670,447462,448246,447098,443457,438042,430865,422627,418214,421400,421930,null,"Males","35-39",null,{"$f":"SUM(C51:C55)","v":259983},263249,268304,275496,283667,290548,297262,307882,314780,318805,321384,320701,316099,311650,307957,305518,301965,295893,291401,283085,276968,273302,274898,280152,286642,290426,293838,292939,291802,294271,299148,306690,null,{"$f":"INDEX(CC23:CY23,'Population Pyramid'!$L$1)","v":291802}]
["male",8,47363,49248,48984,50193,52168,52037,52459,53688,53440,52308,52693,51472,51635,51680,51459,51365,50167,49086,47774,49130,51166,51622,53910,55713,57494,57208,57975,59117,58966,57480,56474,57700,null,8,451279,453966,456281,460028,460787,460951,458955,459544,454779,447739,442491,440141,440601,439901,441144,445473,450709,456955,466602,478383,489063,496292,501372,503959,504592,500665,496017,489982,481593,475694,477874,479630,null,"Males","40-44",null,{"$f":"SUM(C56:C60)","v":272127},261935,258213,257394,258724,262884,267600,274488,282129,290060,297294,303871,311011,319432,324444,328131,327695,325495,320708,317808,315410,312229,307931,303785,296569,289809,285384,286131,289739,296004,303108,310391,null,{"$f":"INDEX(CC24:CY24,'Population Pyramid'!$L$1)","v":289739}]
["male",9,47859,47666,49663,49328,50385,52466,52155,53176,54166,53873,52666,53161,51811,52081,52096,52011,51796,50602,49556,48076,49788,51747,52211,54164,55977,57707,57417,58112,59412,59290,58696,57759,null,9,499138,501632,505944,509356,511172,513417,511110,512720,508945,501612,495157,493302,492412,491982,493240,497484,502505,507557,516158,526459,538851,548039,553583,558123,560569,558372,553434,548094,541005,534984,536570,537389,null,"Males","45-49",null,{"$f":"SUM(C61:C65)","v":270281},281777,286238,287663,286170,270686,261334,258705,257708,259356,261150,267212,273063,280461,289554,296176,303940,312675,321093,325658,329622,330071,328820,325429,324690,321373,318109,312711,307642,300282,294363,292239,null,{"$f":"INDEX(CC25:CY25,'Population Pyramid'!$L$1)","v":307642}]
["male",10,47954,47796,47882,50126,49322,50411,52475,52686,53237,54375,54104,53005,53547,52182,52521,52531,52258,52306,51083,49930,48546,50435,52304,52767,54496,56135,57928,57769,58363,59785,60597,59936,null,10,547092,549428,553826,559482,560494,563828,563585,565406,562182,555987,549261,546307,545959,544164,545761,550015,554763,559863,567241,576389,587397,598474,605887,610890,615065,614507,611362,605863,599368,594769,597167,597325,null,"Males","50-54",null,{"$f":"SUM(C66:C70)","v":206569},212455,221021,230282,243262,265365,277228,282055,282980,280197,265482,255651,251457,250782,252235,256712,263231,269796,277340,284960,294375,302996,312360,320906,326131,329325,329107,327236,323062,322119,319253,316378,null,{"$f":"INDEX(CC26:CY26,'Population Pyramid'!$L$1)","v":323062}]
["male",11,49071,47845,47894,48196,50317,49449,50552,53088,52813,53472,54700,54442,53320,53929,52518,52994,52898,52750,52836,51460,50220,49058,50994,52785,53280,54642,56319,58196,58208,58708,60943,61845,null,11,596163,597273,601720,607678,610811,613277,614137,618494,614995,609459,603961,600749,599279,598093,598279,603009,607661,612613,620077,627849,637617,647532,656881,663675,668345,669149,667681,664059,657576,653477,658110,659170,null,"Males","55-59",null,{"$f":"SUM(C71:C75)","v":191633},195120,198485,200536,199092,200965,206642,215025,224161,236372,255955,266870,270437,271749,270540,255483,246846,244031,243714,245896,251468,257611,264573,272382,280778,289027,297349,305045,312486,317219,320381,320111,null,{"$f":"INDEX(CC27:CY27,'Population Pyramid'!$L$1)","v":312486}]
["male",12,49553,49205,48123,48324,48568,50717,49711,51193,53524,53277,53822,55143,54628,53689,54355,52879,53358,53364,53276,53247,51702,50566,49591,51564,53273,53724,54865,56588,58410,58495,59919,62003,null,12,645716,646478,649843,656002,659379,663994,663848,669687,668519,662736,657783,655892,653907,651782,652634,655888,661019,665977,673353,681096,689319,698098,706472,715239,721618,722873,722546,720647,715986,711972,718029,721173,null,"Males","60-64",null,{"$f":"SUM(C76:C80)","v":180788},180159,180124,180888,181404,183242,186750,189976,191476,190012,190820,195653,202774,210731,222641,242212,254215,258798,261282,260684,245913,238498,235632,235619,238274,242768,247968,254192,261335,268928,277144,284483,null,{"$f":"INDEX(CC28:CY28,'Population Pyramid'!$L$1)","v":261335}]
["male",13,48648,49532,49372,48420,48410,48906,51213,50199,51206,53496,53399,54064,55229,54872,53826,54704,53079,53756,53777,53666,53295,51746,50812,50083,52005,53617,53992,54899,56718,58608,59300,60741,null,13,694364,696010,699215,704422,707789,712900,715061,719886,719725,716232,711182,709956,709136,706654,706460,710592,714098,719733,727130,734762,742614,749844,757284,765322,773623,776490,776538,775546,772704,770580,777329,781914,null,"Males","65-69",null,{"$f":"SUM(C81:C85)","v":162517},161847,162353,163606,165237,166636,167159,167045,167625,168344,169408,171617,174075,175960,174426,176282,182056,190135,198750,210342,231535,242599,246786,248033,247016,232419,225023,222036,221497,224153,228521,233327,null,{"$f":"INDEX(CC29:CY29,'Population Pyramid'!$L$1)","v":221497}]
["male",14,45369,49156,50231,50216,49149,49256,49744,52065,50816,51723,53432,53490,54234,55314,54904,54043,54945,53536,54317,54258,53874,53515,52052,51275,50823,52645,54241,54554,55271,57138,59729,60428,null,14,739733,745166,749446,754638,756938,762156,764805,771951,770541,767955,764614,763446,763370,761968,761364,764635,769043,773269,781447,789020,796488,803359,809336,816597,824446,829135,830779,830100,827975,827718,837058,842342,null,"Males","70-74",null,{"$f":"SUM(C86:C90)","v":137399},144202,148931,144264,141442,140687,140662,141900,143340,145109,146430,147167,147106,148291,149626,151583,154882,158327,160968,159693,162209,167970,176261,183973,194879,214275,224071,227131,227756,226600,213640,206946,null,{"$f":"INDEX(CC30:CY30,'Population Pyramid'!$L$1)","v":227756}]
["male",15,43912,45279,49209,50409,50267,49331,49283,50023,51885,51096,51489,53477,53555,54442,55854,55250,54333,55510,54030,54933,54294,53958,53745,52287,51535,51360,53205,54631,54879,55487,58006,60608,null,15,783645,790445,798655,805047,807205,811487,814088,821974,822426,819051,816103,816923,816925,816410,817218,819885,823376,828779,835477,843953,850782,857317,863081,868884,875981,880495,883984,884731,882854,883205,895064,902950,null,"Males","75-79",null,{"$f":"SUM(C91:C95)","v":100695},95235,91412,97901,103165,108016,113745,117317,114623,113216,113083,113458,115052,117113,119682,122311,124024,125280,127113,129273,131535,135091,138525,140368,139420,141589,146705,154248,160671,169893,187670,196275,null,{"$f":"INDEX(CC31:CY31,'Population Pyramid'!$L$1)","v":160671}]
["male",16,46053,43807,45292,49362,50492,50562,49564,49611,49842,52248,51045,51300,53449,53822,54840,56312,55357,54727,56113,54495,54889,54315,54066,53971,52557,51851,51781,53654,54899,55191,56558,59009,null,16,829698,834252,843947,854409,857697,862049,863652,871585,872268,871299,867148,868223,870374,870232,872058,876197,878733,883506,891590,898448,905671,911632,917147,922855,928538,932346,935765,938385,937753,938396,951622,961959,null,"Males","80-84",null,{"$f":"SUM(C96:C100)","v":63762},65312,66508,67617,67821,66709,63882,62191,67177,72058,75670,79687,81725,81261,81221,82455,83980,86289,89140,92039,94604,96175,97640,99294,101425,103482,106246,109012,110391,109367,111456,115750,null,{"$f":"INDEX(CC32:CY32,'Population Pyramid'!$L$1)","v":110391}]
["male",17,47926,45932,44025,45489,49372,51239,51211,50228,49641,50672,52517,51468,51653,53727,54548,55697,56708,55947,55513,56898,54863,55062,54730,54532,54498,52939,52180,52403,54176,55536,56487,57793,null,17,877624,880184,887972,899898,907069,913288,914863,921813,921909,921971,919665,919691,922027,923959,926606,931894,935441,939453,947103,955346,960534,966694,971877,977387,983036,985285,987945,990788,991929,993932,1008109,1019752,null,"Males","85+",null,{"$f":"SUM(C101:C106)","v":35849},38021,39209,40724,42023,43461,45390,47187,48471,49802,50351,49550,50357,54179,58314,61662,64254,66286,69115,71847,74990,77120,80557,82856,86021,88795,90482,93281,94158,96758,99780,102002,null,{"$f":"INDEX(CC33:CY33,'Population Pyramid'!$L$1)","v":94158}]
["male",18,50558,47327,45721,43657,45421,49153,50349,51048,49022,49459,50663,52766,51551,51352,54006,54849,55900,57093,56324,56011,56932,55134,55400,55223,55249,54963,53416,52787,53064,54843,55885,56853,null,18,928182,927511,933693,943555,952490,962441,965212,972861,970931,971430,970328,972457,973578,975311,980612,986743,991341,996546,1003427,1011357,1017466,1021828,1027277,1032610,1038285,1040248,1041361,1043575,1044993,1048775,1063994,1076605]
["male",19,50736,49171,45546,42606,40582,42080,47302,49453,48368,46871,48175,49563,51391,49835,50141,53288,53537,54858,56471,55662,54211,55743,53842,54275,54102,53876,53287,51650,51359,51340,51556,53381,null,19,978918,976682,979239,986161,993072,1004521,1012514,1022314,1019299,1018301,1018503,1022020,1024969,1025146,1030753,1040031,1044878,1051404,1059898,1067019,1071677,1077571,1081119,1086885,1092387,1094124,1094648,1095225,1096352,1100115,1115550,1129986,null,"Females","All Ages",null,{"$f":"C200","v":3928120},3937753,3957579,3982196,3998581,4024233,4040480,4071139,4087716,4099464,4109918,4128319,4152833,4191342,4223017,4261271,4295852,4326946,4367112,4401362,4442026,4482246,4527740,4565006,4608051,4637147,4664072,4689615,4708284,4747586,4793779,4843668,null,{"$f":"INDEX(CC35:CY35,'Population Pyramid'!$L$1)","v":4708284}]
["male",20,55281,50508,46612,43861,40981,39358,41549,46002,48392,48340,45472,46784,48499,49968,48882,49442,52406,51866,54163,55683,54880,54233,55425,53639,54246,53985,53363,52755,51125,51195,50277,50872,null,20,1034199,1027190,1025851,1030022,1034053,1043879,1054063,1068316,1067691,1066641,1063975,1068804,1073468,1075114,1079635,1089473,1097284,1103270,1114061,1122702,1126557,1131804,1136544,1140524,1146633,1148109,1148011,1147980,1147477,1151310,1165827,1180858,null,"Females","0-4",null,{"$f":"SUM(C109:C113)","v":245485},244042,243917,242939,239621,238101,236109,236008,233406,229911,226336,223974,223773,225683,229734,236770,243749,248837,256026,261185,265132,264893,264452,262718,259856,254476,250423,246950,243084,240014,241350,241436,null,{"$f":"INDEX(CC36:CY36,'Population Pyramid'!$L$1)","v":243084}]
["male",21,55991,54228,48615,45885,43514,41484,39531,42124,45944,49028,48685,46106,47328,49029,50564,49996,49787,52157,52830,55256,56416,56019,55304,56275,54759,55013,54450,54190,53295,52057,51851,51306,null,21,1090190,1081418,1074466,1075907,1077567,1085363,1093594,1110440,1113635,1115669,1112660,1114910,1120796,1124143,1130199,1139469,1147071,1155427,1166891,1177958,1182973,1187823,1191848,1196799,1201392,1203122,1202461,1202170,1200772,1203367,1217678,1232164,null,"Females","5-9",null,{"$f":"SUM(C114:C118)","v":230831},234707,238898,242356,246171,249371,249310,250660,248572,245376,243338,243045,242856,240914,239044,235590,233497,233472,235000,239154,246767,255007,260270,266510,271663,274875,273772,272407,269883,267857,268889,270725,null,{"$f":"INDEX(CC37:CY37,'Population Pyramid'!$L$1)","v":269883}]
["male",22,56118,55377,53255,49912,47070,45223,42427,41770,43274,47257,49515,49331,47238,48648,49922,51919,50786,49798,53404,54097,55697,56552,56407,55942,56839,54797,54277,54234,53533,53703,52032,51788,null,22,1146308,1136795,1127721,1125819,1124637,1130586,1136021,1152210,1156909,1162926,1162175,1164241,1168034,1172791,1180121,1191388,1197857,1205225,1220295,1232055,1238670,1244375,1248255,1252741,1258231,1257919,1256738,1256404,1254305,1257070,1269710,1283952,null,"Females","10-14",null,{"$f":"SUM(C119:C123)","v":228236},231584,231730,232678,232752,235386,239352,244481,247567,251457,254695,255533,255132,254281,252563,252740,252579,251589,250447,248615,243669,241664,241895,244495,249277,255220,262231,266809,272338,277532,285597,289046,null,{"$f":"INDEX(CC38:CY38,'Population Pyramid'!$L$1)","v":272338}]
["male",23,57666,54808,54865,54331,51144,48557,45669,43731,43168,45205,48195,50755,50737,48849,50186,51602,52960,51377,51240,54775,54623,56274,57181,57225,56817,57078,54785,54039,54002,53724,54211,52171,null,23,1203974,1191603,1182586,1180150,1175781,1179143,1181690,1195941,1200077,1208131,1210370,1214996,1218771,1221640,1230307,1242990,1250817,1256602,1271535,1286830,1293293,1300649,1305436,1309966,1315048,1314997,1311523,1310443,1308307,1310794,1323921,1336123,null,"Females","15-19",null,{"$f":"SUM(C124:C128)","v":227531},221183,219618,221443,226181,231306,235975,237355,234380,234656,237002,243710,250231,254998,257275,261818,263724,265249,264671,263052,260068,258905,256795,254203,254012,250973,249848,250358,252592,255472,260388,270265,null,{"$f":"INDEX(CC39:CY39,'Population Pyramid'!$L$1)","v":252592}]
["male",24,58375,56672,55890,55458,54950,52175,48677,46251,44947,45148,45943,48942,51727,51841,50163,51750,52098,53070,52734,52349,53975,53958,55733,56662,56887,55638,55425,53260,52793,53152,54192,54441,null,24,1262349,1248275,1238476,1235608,1230731,1231318,1230367,1242192,1245024,1253279,1256313,1263938,1270498,1273481,1280470,1294740,1302915,1309672,1324269,1339179,1347268,1354607,1361169,1366628,1371935,1370635,1366948,1363703,1361100,1363946,1378113,1390564,null,"Females","20-24",null,{"$f":"SUM(C129:C133)","v":269358},259356,250066,243698,232175,224651,216816,217732,221567,229232,231852,235231,238023,244899,249063,251487,256007,256705,259473,263180,267239,269764,273617,273600,271257,269565,267360,263356,257106,254422,248495,244449,null,{"$f":"INDEX(CC40:CY40,'Population Pyramid'!$L$1)","v":257106}]
["male",25,59570,56932,57028,55583,55323,54929,51798,48793,46761,46066,45718,46448,48958,52162,52300,51031,52158,51408,53157,53064,51862,53615,53604,55366,56093,55857,54212,53987,52245,51980,53332,54467,null,25,1321919,1305207,1295504,1291191,1286054,1286247,1282165,1290985,1291785,1299345,1302031,1310386,1319456,1325643,1332770,1345771,1355073,1361080,1377426,1392243,1399130,1408222,1414773,1421994,1428028,1426492,1421160,1417690,1413345,1415926,1431445,1445031,null,"Females","25-29",null,{"$f":"SUM(C134:C138)","v":296313},293541,293110,290323,287441,284747,278354,269947,263008,250606,240978,236073,237376,245115,250912,258222,261493,262950,264402,263376,263680,265176,269145,272910,279149,282292,282555,281120,277460,274816,272194,273060,null,{"$f":"INDEX(CC41:CY41,'Population Pyramid'!$L$1)","v":277460}]
["male",26,60529,59765,58086,57971,56270,56233,55428,52731,49647,47716,46274,46174,46476,49367,52618,52868,51515,51667,51383,53216,52643,51839,53584,53517,55147,55398,55200,53315,53710,52392,52411,53719,null,26,1382448,1364972,1353590,1349162,1342324,1342480,1337593,1343716,1341432,1347061,1348305,1356560,1365932,1375010,1385388,1398639,1406588,1412747,1428809,1445459,1451773,1460061,1468357,1475511,1483175,1481890,1476360,1471005,1467055,1468318,1483856,1498750,null,"Females","30-34",null,{"$f":"SUM(C139:C143)","v":281391},288219,296628,304232,309053,311950,311094,310875,306612,301987,297216,292346,284791,280656,273531,265574,261888,262159,267357,273429,279936,285422,287567,288094,289590,291428,294900,300105,304853,313236,316589,318750,null,{"$f":"INDEX(CC42:CY42,'Population Pyramid'!$L$1)","v":304853}]
["male",27,61443,60620,60386,58582,58217,56745,56564,55647,52833,49622,48360,46976,46591,47031,50285,53623,53553,51485,52117,51706,53175,52725,52053,54086,54244,55179,55221,54828,53145,53714,52742,52870,null,27,1443891,1425592,1413976,1407744,1400541,1399225,1394157,1399363,1394265,1396683,1396665,1403536,1412523,1422041,1435673,1452262,1460141,1464232,1480926,1497165,1504948,1512786,1520410,1529597,1537419,1537069,1531581,1525833,1520200,1522032,1536598,1551620,null,"Females","35-39",null,{"$f":"SUM(C144:C148)","v":259509},262851,268551,274953,282887,290829,298436,308487,317249,321925,324961,324118,322899,319027,317826,314807,310558,304851,300275,290628,285224,281504,284407,289929,297986,303898,309396,310524,310718,314869,322033,330503,null,{"$f":"INDEX(CC43:CY43,'Population Pyramid'!$L$1)","v":310718}]
["male",28,60811,60950,61004,60972,58729,58221,56361,56067,55484,52715,49983,49143,47342,47322,47785,51402,54475,53537,52295,52814,51845,53426,53037,52671,54861,54758,55303,55364,55230,53682,54286,53775,null,28,1504702,1486542,1474980,1468716,1459270,1457446,1450518,1455430,1449749,1449398,1446648,1452679,1459865,1469363,1483458,1503664,1514616,1517769,1533221,1549979,1556793,1566212,1573447,1582268,1592280,1591827,1586884,1581197,1575430,1575714,1590884,1605395,null,"Females","40-44",null,{"$f":"SUM(C149:C153)","v":274427},265129,260964,259031,259953,263616,268009,274729,281615,289427,297147,304945,313202,322428,328438,333458,332796,331464,327777,326281,323945,321831,317295,313629,305731,299025,294868,297034,302344,310943,319455,328617,null,{"$f":"INDEX(CC44:CY44,'Population Pyramid'!$L$1)","v":302344}]
["male",29,59786,61033,61855,62093,61735,59458,58598,56507,56473,55720,53231,51149,49600,48078,48211,48937,52460,54638,54133,53170,53060,52193,53708,53813,53754,55337,55238,55702,55733,56075,54350,55076,null,29,1564488,1547575,1536835,1530809,1521005,1516904,1509116,1511937,1506222,1505118,1499879,1503828,1509465,1517441,1531669,1552601,1567076,1572407,1587354,1603149,1609853,1618405,1627155,1636081,1646034,1647164,1642122,1636899,1631163,1631789,1645234,1660471,null,"Females","45-49",null,{"$f":"SUM(C154:C158)","v":270008},282085,287928,290697,289396,274599,265198,262076,260826,261323,263535,268135,273534,280241,288824,297582,306903,315944,324303,329894,334860,336532,336924,334165,334584,332030,328594,322488,318035,309852,304623,302429,null,{"$f":"INDEX(CC45:CY45,'Population Pyramid'!$L$1)","v":318035}]
["male",30,58355,59691,61691,62168,62375,61943,59278,58398,56713,56695,55376,53717,51301,50158,48594,48546,49705,53205,55001,54173,53508,53498,52641,54439,54669,54551,56099,55943,56297,56678,57009,55357,null,30,1622843,1607266,1598526,1592977,1583380,1578847,1568394,1570335,1562935,1561813,1555255,1557545,1560766,1567599,1580263,1601147,1616781,1625612,1642355,1657322,1663361,1671903,1679796,1690520,1700703,1701715,1698221,1692842,1687460,1688467,1702243,1715828,null,"Females","50-54",null,{"$f":"SUM(C159:C163)","v":206644},213136,221338,230944,244193,267110,279434,285417,287810,285387,271314,261181,256351,254578,255834,259243,264503,270934,278184,287007,296554,306471,316019,325390,331982,336378,337917,337488,333897,334317,331530,328018,null,{"$f":"INDEX(CC46:CY46,'Population Pyramid'!$L$1)","v":333897}]
["male",31,58056,58229,60045,62080,62553,62733,62040,59687,58520,56616,56759,55966,54059,51842,50695,49176,49486,50327,53615,55293,54658,53973,54216,53482,55347,55314,55537,57126,56636,57684,57937,58346,null,31,1680899,1665495,1658571,1655057,1645933,1641580,1630434,1630022,1621455,1618429,1612014,1613511,1614825,1619441,1630958,1650323,1666267,1675939,1695970,1712615,1718019,1725876,1734012,1744002,1756050,1757029,1753758,1749968,1744096,1746151,1760180,1774174,null,"Females","55-59",null,{"$f":"SUM(C164:C168)","v":192771},195775,199757,202072,201404,204232,210484,218077,227205,239694,260792,271791,276470,278717,277662,263690,254845,251100,249793,251117,255862,261556,268628,276310,285123,293959,303199,311608,320314,326808,330731,331832,null,{"$f":"INDEX(CC47:CY47,'Population Pyramid'!$L$1)","v":320314}]
["male",32,56667,58407,58826,60814,62856,63195,63309,62687,60129,58791,56819,57551,56425,54805,52744,51520,50298,50486,51114,54216,55979,55230,54637,55133,54490,55924,55944,56391,57857,58181,58888,59439,null,32,1737566,1723902,1717397,1715871,1708789,1704775,1693743,1692709,1681584,1677220,1668833,1671062,1671250,1674246,1683702,1701843,1716565,1726425,1747084,1766831,1773998,1781106,1788649,1799135,1810540,1812953,1809702,1806359,1801953,1804332,1819068,1833613,null,"Females","60-64",null,{"$f":"SUM(C169:C173)","v":193087},191708,189764,188828,188447,189358,192187,195703,197891,196209,197684,203386,210572,218868,231097,252484,264129,269641,272784,272168,257813,250447,246717,245656,246847,250753,255729,262151,268864,277643,285989,294711,null,{"$f":"INDEX(CC48:CY48,'Population Pyramid'!$L$1)","v":268864}]
["male",33,55191,56787,58674,59374,61324,63306,63458,63551,63118,60372,59006,57651,58050,57118,55640,53459,52557,51249,51173,51656,54874,56707,56036,55582,56046,55044,56488,56589,57192,59543,59213,60122,null,33,{"$f":"AK48+C49","v":1792757},{"$f":"AL48+D49","v":1780689},{"$f":"AM48+E49","v":1776071},{"$f":"AN48+F49","v":1775245},{"$f":"AO48+G49","v":1770113},{"$f":"AP48+H49","v":1768081},{"$f":"AQ48+I49","v":1757201},{"$f":"AR48+J49","v":1756260},{"$f":"AS48+K49","v":1744702},{"$f":"AT48+L49","v":1737592},{"$f":"AU48+M49","v":1727839},{"$f":"AV48+N49","v":1728713},{"$f":"AW48+O49","v":1729300},{"$f":"AX48+P49","v":1731364},{"$f":"AY48+Q49","v":1739342},{"$f":"AZ48+R49","v":1755302},{"$f":"BA48+S49","v":1769122},{"$f":"BB48+T49","v":1777674},{"$f":"BC48+U49","v":1798257},{"$f":"BD48+V49","v":1818487},{"$f":"BE48+W49","v":1828872},{"$f":"BF48+X49","v":1837813},{"$f":"BG48+Y49","v":1844685},{"$f":"BH48+Z49","v":1854717},{"$f":"BI48+AA49","v":1866586},{"$f":"BJ48+AB49","v":1867997},{"$f":"BK48+AC49","v":1866190},{"$f":"BL48+AD49","v":1862948},{"$f":"BM48+AE49","v":1859145},{"$f":"BN48+AF49","v":1863875},{"$f":"BO48+AG49","v":1878281},1893735,null,"Females","65-69",null,{"$f":"SUM(C174:C178)","v":190746},186947,185490,185874,186065,185957,185446,183655,183084,182263,182411,184487,187524,189373,187229,189390,195552,203041,211430,224038,246258,257438,263186,266040,265275,250764,243029,238850,237823,239397,243127,247915,null,{"$f":"INDEX(CC49:CY49,'Population Pyramid'!$L$1)","v":237823}]
["male",34,54114,55418,57146,59166,59705,61589,63503,63954,63710,63062,60408,59455,57811,58581,57862,56293,54337,53297,51778,51650,52313,55661,57522,57118,56529,56644,55701,57245,57305,58774,60762,60512,null,34,1846871,1836107,1833217,1834411,1829818,1829670,1820704,1820214,1808412,1800654,1788247,1788168,1787111,1789945,1797204,1811595,1823459,1830971,1850035,1870137,1881185,1893474,1902207,1911835,1923115,1924641,1921891,1920193,1916450,1922649,1939043,1954247,null,"Females","70-74",null,{"$f":"SUM(C179:C183)","v":180621},189375,195045,186965,180427,176406,173499,172675,172867,173329,173083,172933,171414,170780,170079,170717,173508,177013,178977,177756,180456,186500,194479,202413,214535,235444,245738,250985,253565,253164,239587,232264,null,{"$f":"INDEX(CC50:CY50,'Population Pyramid'!$L$1)","v":253565}]
["male",35,52932,54449,55864,57478,59445,60039,61885,64254,64521,64036,63353,61050,59872,58616,59542,59008,57102,54838,53921,52384,52458,53107,56460,58504,58094,57216,57184,56397,57909,58560,59977,62147,null,35,1899803,1890556,1889081,1891889,1889263,1889709,1882589,1884468,1872933,1864690,1851600,1849218,1846983,1848561,1856746,1870603,1880561,1885809,1903956,1922521,1933643,1946581,1958667,1970339,1981209,1981857,1979075,1976590,1974359,1981209,1999020,2016394,null,"Females","75-79",null,{"$f":"SUM(C184:C188)","v":154390},146061,139328,146013,152199,158473,166095,170430,164074,158597,155198,152520,152001,152645,153749,154500,154934,154136,154310,154459,155958,159116,162711,164417,163340,165857,171534,179063,186042,197183,217411,227095,null,{"$f":"INDEX(CC51:CY51,'Population Pyramid'!$L$1)","v":186042}]
["male",36,52252,53119,54737,56130,57733,59635,60176,62889,64679,64790,64326,64004,61255,60594,59313,60617,59737,57530,55576,54416,53030,53231,53878,57524,59516,58510,57747,57690,56945,59212,59826,61480,null,36,1952055,1943675,1943818,1948019,1946996,1949344,1942765,1947357,1937612,1929480,1915926,1913222,1908238,1909155,1916059,1931220,1940298,1943339,1959532,1976937,1986673,1999812,2012545,2027863,2040725,2040367,2036822,2034280,2031304,2040421,2058846,2077874,null,"Females","80-84",null,{"$f":"SUM(C189:C193)","v":121627},122893,123784,124661,124021,120473,113941,109796,115049,121566,127071,133204,135350,131346,127427,125783,124410,124777,126382,128208,129313,130089,130325,130446,131340,132657,135310,138711,140062,139138,141714,146713,null,{"$f":"INDEX(CC52:CY52,'Population Pyramid'!$L$1)","v":140062}]
["male",37,51404,52185,53465,55121,56403,57883,59682,60983,63185,64844,64917,64862,64211,61978,61294,60357,61508,60044,58220,56115,55271,53635,53813,54644,58436,60011,59126,58333,58108,57783,60343,61267,null,37,2003459,1995860,1997283,2003140,2003399,2007227,2002447,2008340,2000797,1994324,1980843,1978084,1972449,1971133,1977353,1991577,2001806,2003383,2017752,2033052,2041944,2053447,2066358,2082507,2099161,2100378,2095948,2092613,2089412,2098204,2119189,2139141,null,"Females","85+",null,{"$f":"SUM(C194:C199)","v":105145},109161,111663,114489,116195,117668,120741,123036,124934,126519,125305,121707,121334,126793,132730,137416,140777,143084,145521,147815,149292,149931,153308,154081,156504,157553,157669,159608,159304,160923,164077,165840,null,{"$f":"INDEX(CC53:CY53,'Population Pyramid'!$L$1)","v":159304}]
["male",38,51900,51514,52467,54047,55743,56959,58368,60753,61464,63631,64924,65270,65139,64772,62574,62062,60951,62110,60735,58825,56864,55908,54312,54436,55391,58919,60517,59625,58773,59127,58834,61694,null,38,2055359,2047374,2049750,2057187,2059142,2064186,2060815,2069093,2062261,2057955,2045767,2043354,2037588,2035905,2039927,2053639,2062757,2065493,2078487,2091877,2098808,2109355,2120670,2136943,2154552,2159297,2156465,2152238,2148185,2157331,2178023,2200835]
["male",39,51495,51982,51771,52720,54343,56032,57151,59003,60931,61504,63864,65515,65622,65690,65234,63474,62667,61371,62949,61345,59345,57421,56435,55044,55205,55770,59264,60894,60067,59589,60168,60102,null,39,2106854,2099356,2101521,2109907,2113485,2120218,2117966,2128096,2123192,2119459,2109631,2108869,2103210,2101595,2105161,2117113,2125424,2126864,2141436,2153222,2158153,2166776,2177105,2191987,2209757,2215067,2215729,2213132,2208252,2216920,2238191,2260937]
["male",40,50425,51229,51952,51788,52704,54542,56221,57850,58956,60799,62005,63819,65337,66110,65815,65594,63692,63052,61503,63031,61845,59784,57985,56997,55540,55512,56121,59467,61145,60717,60574,61441,null,40,2157279,2150585,2153473,2161695,2166189,2174760,2174187,2185946,2182148,2180258,2171636,2172688,2168547,2167705,2170976,2182707,2189116,2189916,2202939,2216253,2219998,2226560,2235090,2248984,2265297,2270579,2271850,2272599,2269397,2277637,2298765,2322378]
["male",41,51858,50286,51216,51975,51700,52641,54529,56578,57998,58835,61035,62019,63699,65690,66052,65956,65674,63980,63281,61569,63385,62217,60336,58493,57549,55779,55807,56372,59664,61783,61429,61540,null,41,2209137,2200871,2204689,2213670,2217889,2227401,2228716,2242524,2240146,2239093,2232671,2234707,2232246,2233395,2237028,2248663,2254790,2253896,2266220,2277822,2283383,2288777,2295426,2307477,2322846,2326358,2327657,2328971,2329061,2339420,2360194,2383918]
["male",42,53187,51675,50396,51425,52168,51932,52764,55038,56893,58008,59145,61143,62068,64058,65983,66344,66027,66040,64006,63419,62063,63833,62613,60718,58998,57812,56026,55841,56545,60089,62624,62468,null,42,2262324,2252546,2255085,2265095,2270057,2279333,2281480,2297562,2297039,2297101,2291816,2295850,2294314,2297453,2303011,2315007,2320817,2319936,2330226,2341241,2345446,2352610,2358039,2368195,2381844,2384170,2383683,2384812,2385606,2399509,2422818,2446386]
["male",43,55762,52900,51521,50502,51357,52121,51842,52929,55237,57052,58015,59077,60958,62405,64123,65989,66312,66008,66039,63957,63701,62412,64315,62957,61189,59313,58023,56346,55961,57114,60691,63417,null,43,2318086,2305446,2306606,2315597,2321414,2331454,2333322,2350491,2352276,2354153,2349831,2354927,2355272,2359858,2367134,2380996,2387129,2385944,2396265,2405198,2409147,2415022,2422354,2431152,2443033,2443483,2441706,2441158,2441567,2456623,2483509,2509803]
["male",44,60895,55845,53128,51704,50795,51648,52244,52093,53045,55366,57094,57813,58949,61169,62471,64248,65990,66415,65879,65832,64416,63983,62682,64620,63293,61393,59407,58105,56424,56301,57790,61525,null,44,2378981,2361291,2359734,2367301,2372209,2383102,2385566,2402584,2405321,2409519,2406925,2412740,2414221,2421027,2429605,2445244,2453119,2452359,2462144,2471030,2473563,2479005,2485036,2495772,2506326,2504876,2501113,2499263,2497991,2512924,2541299,2571328]
["male",45,67371,60824,55787,53135,51615,50861,51627,52309,52118,53110,54749,57150,57857,59033,61430,62286,64331,66054,66578,65796,66092,64550,64309,63046,65016,63349,61495,59459,58159,56820,56681,58448,null,45,2446352,2422115,2415521,2420436,2423824,2433963,2437193,2454893,2457439,2462629,2461674,2469890,2472078,2480060,2491035,2507530,2517450,2518413,2528722,2536826,2539655,2543555,2549345,2558818,2571342,2568225,2562608,2558722,2556150,2569744,2597980,2629776]
["male",46,52436,66900,60821,55730,53074,51489,50891,51706,52362,52104,52608,54654,56994,57852,59131,61098,62347,64399,66213,66519,66040,66269,64696,64637,63290,65066,63476,61530,59528,58466,57256,57082,null,46,2498788,2489015,2476342,2476166,2476898,2485452,2488084,2506599,2509801,2514733,2514282,2524544,2529072,2537912,2550166,2568628,2579797,2582812,2594935,2603345,2605695,2609824,2614041,2623455,2634632,2633291,2626084,2620252,2615678,2628210,2655236,2686858]
["male",47,51137,52181,66317,60492,55340,52773,51114,50787,51349,52164,51475,52584,54559,56872,57838,58777,61076,62469,64535,66162,66750,66109,66507,64815,64817,63269,65149,63528,61486,59713,58697,57550,null,47,2549925,2541196,2542659,2536658,2532238,2538225,2539198,2557386,2561150,2566897,2565757,2577128,2583631,2594784,2608004,2627405,2640873,2645281,2659470,2669507,2672445,2675933,2680548,2688270,2699449,2696560,2691233,2683780,2677164,2687923,2713933,2744408]
["male",48,51023,51108,52289,66053,60431,55247,52639,51250,50804,51275,51544,51413,52514,54336,56866,57529,58745,61089,62684,64450,66270,66870,66266,66578,64892,64809,63287,65046,63520,61759,59887,59005,null,48,2600948,2592304,2594948,2602711,2592669,2593472,2591837,2608636,2611954,2618172,2617301,2628541,2636145,2649120,2664870,2684934,2699618,2706370,2722154,2733957,2738715,2742803,2746814,2754848,2764341,2761369,2754520,2748826,2740684,2749682,2773820,2803413]
["male",49,48314,50764,51024,52253,65710,60316,55063,52653,51075,50703,50774,51411,51139,52368,54289,56486,57441,58664,61083,62731,64470,66273,67042,66353,66675,64880,64702,63148,64949,63524,61842,60154,null,49,2649262,2643068,2645972,2654964,2658379,2653788,2646900,2661289,2663029,2668875,2668075,2679952,2687284,2701488,2719159,2741420,2757059,2765034,2783237,2796688,2803185,2809076,2813856,2821201,2831016,2826249,2819222,2811974,2805633,2813206,2835662,2863567]
["male",50,43403,48091,50593,51060,52274,65251,60148,54888,52492,50676,50264,50598,51043,50997,52219,54234,56443,57360,58586,60916,62845,64406,66265,66962,66406,66544,64793,64601,63051,64936,63389,61808,null,50,2692665,2691159,2696565,2706024,2710653,2719039,2707048,2716177,2715521,2719551,2718339,2730550,2738327,2752485,2771378,2795654,2813502,2822394,2841823,2857604,2866030,2873482,2880121,2888163,2897422,2892793,2884015,2876575,2868684,2878142,2899051,2925375]
["male",51,38703,43180,47866,50428,50989,52207,64769,60204,54740,52250,50392,49939,50243,50837,50741,52084,54174,56227,57165,58304,60952,62820,64472,66323,66883,66213,66436,64670,64406,63018,64903,63408,null,51,2731368,2734339,2744431,2756452,2761642,2771246,2771817,2776381,2770261,2771801,2768731,2780489,2788570,2803322,2822119,2847738,2867676,2878621,2898988,2915908,2926982,2936302,2944593,2954486,2964305,2959006,2950451,2941245,2933090,2941160,2963954,2988783]
["male",52,41632,38524,42892,47676,50138,50766,52005,64471,59841,54346,51810,50131,49518,50114,50476,50467,52130,54018,55983,56853,58232,60894,62745,64405,66169,66682,65923,66213,64368,64293,62875,64753,null,52,2773000,2772863,2787323,2804128,2811780,2822012,2823822,2840852,2830102,2826147,2820541,2830620,2838088,2853436,2872595,2898205,2919806,2932639,2954971,2972761,2985214,2997196,3007338,3018891,3030474,3025688,3016374,3007458,2997458,3005453,3026829,3053536]
["male",53,41423,41354,38402,42630,47420,49882,50621,51934,64062,59563,53937,51388,49725,49304,49870,50190,50366,52019,53771,55557,56812,58174,60877,62593,64300,65807,66426,65650,65915,64217,64080,62635,null,53,2814423,2814217,2825725,2846758,2859200,2871894,2874443,2892786,2894164,2885710,2874478,2882008,2887813,2902740,2922465,2948395,2970172,2984658,3008742,3028318,3042026,3055370,3068215,3081484,3094774,3091495,3082800,3073108,3063373,3069670,3090909,3116171]
["male",54,41408,41306,41268,38488,42441,47259,49685,50558,51845,63362,59079,53595,50928,49530,48929,49737,50118,50172,51835,53330,55534,56702,58001,60623,62373,64079,65529,66102,65322,65655,64006,63774,null,54,2855831,2855523,2866993,2885246,2901641,2919153,2924128,2943344,2946009,2949072,2933557,2935603,2938741,2952270,2971394,2998132,3020290,3034830,3060577,3081648,3097560,3112072,3126216,3142107,3157147,3155574,3148329,3139210,3128695,3135325,3154915,3179945]
["male",55,40390,41080,41008,40986,38224,42047,46854,49318,50247,51511,62931,58392,53167,50657,49320,48469,49445,49877,49980,51575,53214,55349,56628,57856,60269,62027,63711,64989,65670,65071,65340,63562,null,55,2896221,2896603,2908001,2926232,2939865,2961200,2970982,2992662,2996256,3000583,2996488,2993995,2991908,3002927,3020714,3046601,3069735,3084707,3110557,3133223,3150774,3167421,3182844,3199963,3217416,3217601,3212040,3204199,3194365,3200396,3220255,3243507]
["male",56,39459,40087,40795,40828,40755,38081,41739,46607,48962,49890,50820,62421,57749,52849,50316,48932,47906,49147,49545,49633,51416,53076,55136,56460,57579,59895,61683,63287,64564,65340,64677,64919,null,56,2935680,2936690,2948796,2967060,2980620,2999281,3012721,3039269,3045218,3050473,3047308,3056416,3049657,3055776,3071030,3095533,3117641,3133854,3160102,3182856,3202190,3220497,3237980,3256423,3274995,3277496,3273723,3267486,3258929,3265736,3284932,3308426]
["male",57,38714,39139,39823,40578,40550,40529,37849,41539,46250,48530,49182,50096,62017,57301,52497,49886,48511,47609,48867,49184,49414,51149,52833,54849,56246,57183,59609,61241,62830,64124,64950,64254,null,57,2974394,2975829,2988619,3007638,3021170,3039810,3050570,3080808,3091468,3099003,3096490,3106512,3111674,3113077,3123527,3145419,3166152,3181463,3208969,3232040,3251604,3271646,3290813,3311272,3331241,3334679,3333332,3328727,3321759,3329860,3349882,3372680]
["male",58,36812,38380,38874,39609,40290,40339,40227,37725,41163,45786,47927,48537,49505,61856,56862,51989,49460,48289,47316,48589,49044,49196,51000,52531,54530,55818,56879,59135,60746,62397,63559,64418,null,58,3011206,3014209,3027493,3047247,3061460,3080149,3090797,3118533,3132631,3144789,3144417,3155049,3161179,3174933,3180389,3197408,3215612,3229752,3256285,3280629,3300648,3320842,3341813,3363803,3385771,3390497,3390211,3387862,3382505,3392257,3413441,3437098]
["male",59,36258,36434,37985,38535,39273,39969,39973,39836,37539,40655,45095,47424,47999,49086,61545,56207,51524,49109,48006,46915,48380,48841,48976,50686,52154,54104,55467,56393,58676,60287,61855,62958,null,59,3047464,3050643,3065478,3085782,3100733,3120118,3130770,3158369,3170170,3185444,3189512,3202473,3209178,3224019,3241934,3253615,3267136,3278861,3304291,3327544,3349028,3369683,3390789,3414489,3437925,3444601,3445678,3444255,3441181,3452544,3475296,3500056]
["male",60,37509,35861,36127,37703,38214,39010,39643,39628,39403,37084,40070,44619,46893,47415,48555,60811,55859,51285,48840,47581,46664,48062,48520,48662,50303,51561,53625,55003,55955,58159,59787,61196,null,60,3084973,3086504,3101605,3123485,3138947,3159128,3170413,3197997,3209573,3222528,3229582,3247092,3256071,3271434,3290489,3314426,3322995,3330146,3353131,3375125,3395692,3417745,3439309,3463151,3488228,3496162,3499303,3499258,3497136,3510703,3535083,3561252]
["male",61,37504,37018,35575,35807,37289,37854,38633,39225,39240,38930,36566,39621,44063,46374,46853,47684,60624,55436,51035,48410,47205,46375,47678,48089,48244,49902,50985,53134,54432,55409,57541,59243,null,61,3122477,3123522,3137180,3159292,3176236,3196982,3209046,3237222,3248813,3261458,3266148,3286713,3300134,3317808,3337342,3362110,3383619,3385582,3404166,3423535,3442897,3464120,3486987,3511240,3536472,3546064,3550288,3552392,3551568,3566112,3592624,3620495]
["male",62,36349,37019,36638,35245,35425,36914,37431,38233,38746,38719,38460,35998,39098,43548,45988,46103,47195,60291,55004,50633,47976,46841,46061,47347,47760,47752,49404,50493,52622,53937,54875,56897,null,62,3158826,3160541,3173818,3194537,3211661,3233896,3246477,3275455,3287559,3300177,3304608,3322711,3339232,3361356,3383330,3408213,3430814,3445873,3459170,3474168,3490873,3510961,3533048,3558587,3584232,3593816,3599692,3602885,3604190,3620049,3647499,3677392]
["male",63,35043,35749,36477,36140,34843,34994,36442,36930,37700,38154,38151,37877,35404,38552,43101,45245,45615,46701,60117,54359,50214,47446,46428,45635,46838,47245,47204,48949,49958,52015,53416,54317,null,63,3193869,3196290,3210295,3230677,3246504,3268890,3282919,3312385,3325259,3338331,3342759,3360588,3374636,3399908,3426431,3453458,3476429,3492574,3519287,3528527,3541087,3558407,3579476,3604222,3631070,3641061,3646896,3651834,3654148,3672064,3700915,3731709]
["male",64,34383,34512,35307,35993,35633,34470,34601,35960,36387,37125,37573,37538,37316,34842,38144,42369,44922,45085,46286,59701,53854,49774,46945,45886,45129,46308,46750,46613,48368,49408,51525,52830,null,64,3228252,3230802,3245602,3266670,3282137,3303360,3317520,3348345,3361646,3375456,3380332,3398126,3411952,3434750,3464575,3495827,3521351,3537659,3565573,3588228,3594941,3608181,3626421,3650108,3676199,3687369,3693646,3698447,3702516,3721472,3752440,3784539]
["male",65,33762,33660,34031,34737,35369,35064,34015,34096,35376,35879,36361,36775,36781,36804,34152,37647,41941,44553,44744,45765,59237,53287,49182,46493,45391,44515,45667,46142,46072,47886,48879,50844,null,65,{"$f":"AK80+C81","v":3262014},{"$f":"AL80+D81","v":3264462},{"$f":"AM80+E81","v":3279633},{"$f":"AN80+F81","v":3301407},{"$f":"AO80+G81","v":3317506},{"$f":"AP80+H81","v":3338424},{"$f":"AQ80+I81","v":3351535},{"$f":"AR80+J81","v":3382441},{"$f":"AS80+K81","v":3397022},{"$f":"AT80+L81","v":3411335},{"$f":"AU80+M81","v":3416693},{"$f":"AV80+N81","v":3434901},{"$f":"AW80+O81","v":3448733},{"$f":"AX80+P81","v":3471554},{"$f":"AY80+Q81","v":3498727},{"$f":"AZ80+R81","v":3533474},{"$f":"BA80+S81","v":3563292},{"$f":"BB80+T81","v":3582212},{"$f":"BC80+U81","v":3610317},{"$f":"BD80+V81","v":3633993},{"$f":"BE80+W81","v":3654178},{"$f":"BF80+X81","v":3661468},{"$f":"BG80+Y81","v":3675603},{"$f":"BH80+Z81","v":3696601},{"$f":"BI80+AA81","v":3721590},{"$f":"BJ80+AB81","v":3731884},{"$f":"BK80+AC81","v":3739313},{"$f":"BL80+AD81","v":3744589},{"$f":"BM80+AE81","v":3748588},{"$f":"BN80+AF81","v":3769358},{"$f":"BO80+AG81","v":3801319},3835383]
["male",66,33467,33118,33038,33494,34204,34824,34581,33480,33549,34803,35259,35588,36045,36190,36193,33643,37318,41530,44255,44165,45301,58692,52786,48597,45878,44800,44009,45059,45527,45502,47291,48116,null,66,3295481,3297580,3312671,3334901,3351710,3373248,3386116,3415921,3430571,3446138,3451952,3470489,3484778,3507744,3534920,3567117,3600610,3623742,3654572,3678158,3699479,3720160,3728389,3745198,3767468,3776684,3783322,3789648,3794115,3814860,3848610,3883499]
["male",67,32495,32699,32431,32361,32817,33568,34126,33852,32927,32930,34088,34569,34931,35462,35620,35668,33144,36891,41154,43769,43659,44846,58029,52128,47953,45303,44194,43329,44392,44889,44899,46604,null,67,3327976,3330279,3345102,3367262,3384527,3406816,3420242,3449773,3463498,3479068,3486040,3505058,3519709,3543206,3570540,3602785,3633754,3660633,3695726,3721927,3743138,3765006,3786418,3797326,3815421,3821987,3827516,3832977,3838507,3859749,3893509,3930103]
["male",68,31446,31733,31923,31817,31731,32203,32925,33506,33100,32296,32159,33330,33802,34308,34821,35076,35138,32557,36515,40641,43286,43117,44258,57188,51393,47280,44685,43573,42687,43800,44247,44177,null,68,3359422,3362012,3377025,3399079,3416258,3439019,3453167,3483279,3496598,3511364,3518199,3538388,3553511,3577514,3605361,3637861,3668892,3693190,3732241,3762568,3786424,3808123,3830676,3854514,3866814,3869267,3872201,3876550,3881194,3903549,3937756,3974280]
["male",69,31347,30637,30930,31197,31116,30977,31512,32111,32673,32436,31541,31355,32516,33196,33640,34248,34515,34604,32082,36002,40052,42657,42531,43627,56401,50521,46468,43933,42819,42076,43205,43586,null,69,3390769,3392649,3407955,3430276,3447374,3469996,3484679,3515390,3529271,3543800,3549740,3569743,3586027,3610710,3639001,3672109,3703407,3727794,3764323,3798570,3826476,3850780,3873207,3898141,3923215,3919788,3918669,3920483,3924013,3945625,3980961,4017866]
["male",70,31779,30377,29694,30085,30259,30303,30125,30669,31347,31829,31665,30743,30619,31901,32561,33082,33679,33946,34065,31492,35482,39395,42112,41896,42986,55479,49710,45636,43218,42201,41497,42590,null,70,3422548,3423026,3437649,3460361,3477633,3500299,3514804,3546059,3560618,3575629,3581405,3600486,3616646,3642611,3671562,3705191,3737086,3761740,3798388,3830062,3861958,3890175,3915319,3940037,3966201,3975267,3968379,3966119,3967231,3987826,4022458,4060456]
["male",71,32534,30770,29344,28785,29166,29377,29472,29303,29820,30484,30932,30875,29934,29925,31235,31907,32428,33074,33437,33372,30933,34946,38782,41372,41247,42245,54558,48801,44801,42405,41526,40748,null,71,3455082,3453796,3466993,3489146,3506799,3529676,3544276,3575362,3590438,3606113,3612337,3631361,3646580,3672536,3702797,3737098,3769514,3794814,3831825,3863434,3892891,3925121,3954101,3981409,4007448,4017512,4022937,4014920,4012032,4030231,4063984,4101204]
["male",72,33216,31294,29583,28325,27738,28188,28324,28508,28371,28955,29567,30000,29899,29185,29217,30545,31251,31759,32496,32725,32728,30354,34288,38089,40619,40487,41411,53481,47855,43889,41685,40716,null,72,3488298,3485090,3496576,3517471,3534537,3557864,3572600,3603870,3618809,3635068,3641904,3661361,3676479,3701721,3732014,3767643,3800765,3826573,3864321,3896159,3925619,3955475,3988389,4019498,4048067,4057999,4064348,4068401,4059887,4074120,4105669,4141920]
["male",73,20863,31759,30039,28355,27200,26709,27097,27373,27486,27391,27928,28599,29079,29095,28360,28462,29810,30528,31127,31723,32032,32018,29690,33591,37251,39745,39560,40574,52353,46918,43043,40839,null,73,3509161,3516849,3526615,3545826,3561737,3584573,3599697,3631243,3646295,3662459,3669832,3689960,3705558,3730816,3760374,3796105,3830575,3857101,3895448,3927882,3957651,3987493,4018079,4053089,4085318,4097744,4103908,4108975,4112240,4121038,4148712,4182759]
["male",74,19007,20002,30271,28714,27079,26110,25644,26047,26316,26450,26338,26950,27575,28185,28253,27587,27714,29020,29843,30381,31034,31257,31389,29025,32776,36319,38832,38639,39529,51187,45889,42053,null,74,3528168,3536851,3556886,3574540,3588816,3610683,3625341,3657290,3672611,3688909,3696170,3716910,3733133,3759001,3788627,3823692,3858289,3886121,3925291,3958263,3988685,4018750,4049468,4082114,4118094,4134063,4142740,4147614,4151769,4172225,4194601,4224812]
["male",75,20945,18061,19146,28817,27426,25869,25025,24594,24915,25150,25388,25278,25974,26648,27196,27392,26738,26966,28240,29070,29661,30176,30481,30489,28219,31820,35293,37941,37571,38469,49932,44643,null,75,3549113,3554912,3576032,3603357,3616242,3636552,3650366,3681884,3697526,3714059,3721558,3742188,3759107,3785649,3815823,3851084,3885027,3913087,3953531,3987333,4018346,4048926,4079949,4112603,4146313,4165883,4178033,4185555,4189340,4210694,4244533,4269455]
["male",76,21447,19773,17101,18223,27176,26071,24610,23696,23455,23811,24007,24226,24209,24926,25660,26269,26541,25818,26147,27414,28240,28777,29345,29588,29614,27416,30838,34297,36789,36462,37432,48445,null,76,3570560,3574685,3593133,3621580,3643418,3662623,3674976,3705580,3720981,3737870,3745565,3766414,3783316,3810575,3841483,3877353,3911568,3938905,3979678,4014747,4046586,4077703,4109294,4142191,4175927,4193299,4208871,4219852,4226129,4247156,4281965,4317900]
["male",77,20577,20071,18530,16104,17311,25527,24667,23336,22474,22347,22573,22793,23156,23139,23937,24689,25267,25655,24813,25285,26460,27309,27894,28290,28637,28670,26497,29895,33135,35559,35273,36250,null,77,3591137,3594756,3611663,3637684,3660729,3688150,3699643,3728916,3743455,3760217,3768138,3789207,3806472,3833714,3865420,3902042,3936835,3964560,4004491,4040032,4073046,4105012,4137188,4170481,4204564,4221969,4235368,4249747,4259264,4282715,4317238,4354150]
["male",78,19587,19194,18807,17366,15127,16404,23975,23348,21946,21256,21102,21370,21603,22027,22026,22933,23639,24237,24697,23787,24378,25472,26372,26802,27256,27550,27649,25554,28743,31919,34341,34010,null,78,3610724,3613950,3630470,3655050,3675856,3704554,3723618,3752264,3765401,3781473,3789240,3810577,3828075,3855741,3887446,3924975,3960474,3988797,4029188,4063819,4097424,4130484,4163560,4197283,4231820,4249519,4263017,4275301,4288007,4314634,4351579,4388160]
["male",79,18139,18136,17828,17391,16125,14145,15468,22343,21833,20652,20013,19791,20110,20373,20863,21028,21839,22604,23216,23717,22796,23357,24433,25199,25694,26133,26428,26561,24433,27484,30692,32927,null,79,3628863,3632086,3648298,3672441,3691981,3718699,3739086,3774607,3787234,3802125,3809253,3830368,3848185,3876114,3908309,3946003,3982313,4011401,4052404,4087536,4120220,4153841,4187993,4222482,4257514,4275652,4289445,4301862,4312440,4342118,4382271,4421087]
["male",80,15967,16722,16701,16462,16028,14898,13096,14529,20652,20353,19223,18673,18447,18948,19211,19832,19930,20720,21482,22138,22602,21825,22247,23269,24104,24513,24942,25255,25253,23349,26307,29264,null,80,3644830,3648808,3664999,3688903,3708009,3733597,3752182,3789136,3807886,3822478,3828476,3849041,3866632,3895062,3927520,3965835,4002243,4032121,4073886,4109674,4142822,4175666,4210240,4245751,4281618,4300165,4314387,4327117,4337693,4365467,4408578,4450351]
["male",81,14290,14555,15148,15290,15090,14722,13741,12037,13588,18952,18753,17742,17374,17145,17762,18033,18631,18746,19529,20328,20952,21336,20687,21055,22049,22868,23162,23642,23914,23966,22201,24937,null,81,3659120,3663363,3680147,3704193,3723099,3748319,3765923,3801173,3821474,3841430,3847229,3866783,3884006,3912207,3945282,3983868,4020874,4050867,4093415,4130002,4163774,4197002,4230927,4266806,4303667,4323033,4337549,4350759,4361607,4389433,4430779,4475288]
["male",82,12636,12886,13177,13742,13865,13682,13480,12521,10923,12655,17255,17228,16319,16079,15883,16466,16776,17381,17588,18289,19025,19637,20087,19389,19860,20744,21584,21883,22203,22458,22611,20912,null,82,3671756,3676249,3693324,3717935,3736964,3762001,3779403,3813694,3832397,3854085,3864484,3884011,3900325,3928286,3961165,4000334,4037650,4068248,4111003,4148291,4182799,4216639,4251014,4286195,4323527,4343777,4359133,4372642,4383810,4411891,4453390,4496200]
["male",83,11181,11282,11605,11856,12324,12435,12394,12045,11258,9969,11507,15605,15688,14875,14765,14641,15213,15579,16163,16351,17044,17643,18341,18672,18172,18570,19347,20299,20364,20740,21067,21052,null,83,3682937,3687531,3704929,3729791,3749288,3774436,3791797,3825739,3843655,3864054,3875991,3899616,3916013,3943161,3975930,4014975,4052863,4083827,4127166,4164642,4199843,4234282,4269355,4304867,4341699,4362347,4378480,4392941,4404174,4432631,4474457,4517252]
["male",84,9688,9867,9877,10267,10514,10972,11171,11059,10756,10129,8932,10439,13897,14214,13600,13483,13430,13863,14378,14933,14981,15734,16278,16909,17240,16787,17211,17933,18657,18854,19270,19585,null,84,3692625,3697398,3714806,3740058,3759802,3785408,3802968,3836798,3854411,3874183,3884923,3910055,3929910,3957375,3989530,4028458,4066293,4097690,4141544,4179575,4214824,4250016,4285633,4321776,4358939,4379134,4395691,4410874,4422831,4451485,4493727,4536837]
["male",85,35849,38021,39209,40724,42023,43461,45390,47187,48471,9386,8959,7929,9436,12254,12720,12329,12206,12212,12660,13095,13674,13641,14411,14748,15438,15756,15419,15828,16291,17099,17373,17656,null,85,3728474,3735419,3754015,3780782,3801825,3828869,3848358,3883985,3902882,3883569,3893882,3917984,3939346,3969629,4002250,4040787,4078499,4109902,4154204,4192670,4228498,4263657,4300044,4336524,4374377,4394890,4411110,4426702,4439122,4468584,4511100,4554493]
["male",86,null,null,null,null,null,null,null,null,null,8333,8229,7869,6933,8433,10815,11328,11006,10822,11039,11432,11800,12314,12362,12956,13243,13894,14296,14064,14230,14789,15507,15692,null,86,3728474,3735419,3754015,3780782,3801825,3828869,3848358,3883985,3902882,3891902,3902111,3925853,3946279,3978062,4013065,4052115,4089505,4120724,4165243,4204102,4240298,4275971,4312406,4349480,4387620,4408784,4425406,4440766,4453352,4483373,4526607,4570185]
["male",87,null,null,null,null,null,null,null,null,null,7101,7204,7054,6759,6021,7421,9337,9947,9675,9566,9869,10163,10422,11028,10928,11580,11737,12299,12780,12415,12747,13243,13796,null,87,3728474,3735419,3754015,3780782,3801825,3828869,3848358,3883985,3902882,3899003,3909315,3932907,3953038,3984083,4020486,4061452,4099452,4130399,4174809,4213971,4250461,4286393,4323434,4360408,4399200,4420521,4437705,4453546,4465767,4496120,4539850,4583981]
["male",88,null,null,null,null,null,null,null,null,null,6067,6053,6135,5978,5770,5183,6569,7895,8563,8482,8375,8607,8879,9175,9617,9620,10132,10204,10809,11125,10845,11271,11683,null,88,3728474,3735419,3754015,3780782,3801825,3828869,3848358,3883985,3902882,3905070,3915368,3939042,3959016,3989853,4025669,4068021,4107347,4138962,4183291,4222346,4259068,4295272,4332609,4370025,4408820,4430653,4447909,4464355,4476892,4506965,4551121,4595664]
["male",89,null,null,null,null,null,null,null,null,null,4782,5030,4988,5139,5002,4919,4397,5729,6528,7344,7329,7186,7386,7694,7894,8345,8319,8672,8768,9131,9651,9426,9742,null,89,3728474,3735419,3754015,3780782,3801825,3828869,3848358,3883985,3902882,3909852,3920398,3944030,3964155,3994855,4030588,4072418,4113076,4145490,4190635,4229675,4266254,4302658,4340303,4377919,4417165,4438972,4456581,4473123,4486023,4516616,4560547,4605406]
["male","90+",null,null,null,null,null,null,null,null,null,14133,14876,15575,16112,16699,17256,17702,17471,18486,20024,21747,23560,24478,25887,26713,27795,28957,29592,31032,30966,31627,32960,33433,null,"90+",3728474,3735419,3754015,3780782,3801825,3828869,3848358,3883985,3902882,3923985,3935274,3959605,3980267,4011554,4047844,4090120,4130547,4163976,4210659,4251422,4289814,4327136,4366190,4404632,4444960,4467929,4486173,4504155,4516989,4548243,4593507,4638839]
[null,"All Males",{"$f":"SUM(C16:C106)","v":3728474},{"$f":"SUM(D16:D106)","v":3735419},3754015,3780782,3801825,3828869,3848358,3883985,3902882,3923985,3935274,3959605,3980267,4011554,4047844,4090120,4130547,4163976,4210659,4251422,4289814,4327136,4366190,4404632,4444960,4467929,4486173,{"$f":"SUM(AD16:AD106)","v":4504155},{"$f":"SUM(AE16:AE106)","v":4516989},{"$f":"SUM(AF16:AF106)","v":4548243},{"$f":"SUM(AG16:AG106)","v":4593507},{"$f":"SUM(AH16:AH106)","v":4638839},null,"Females"]
["Sex","Age"]
["female",0,48963,47426,47690,46861,45846,46880,46162,46378,44557,43736,42626,43786,45590,45614,47426,48918,50867,50163,51848,52363,52422,50526,49741,50009,49911,48418,47161,46268,45471,44764,46027,44130,null,0,{"$f":"C109","v":48963},47426,47690,46861,45846,46880,46162,46378,44557,43736,42626,43786,45590,45614,47426,48918,50867,50163,51848,52363,52422,50526,49741,50009,49911,48418,47161,46268,45471,44764,46027,44130]
["female",1,49287,49084,47643,48129,47070,46309,47030,46802,46640,44609,44050,42971,44116,46150,46203,48174,49448,51528,50940,52617,53338,53352,51394,50557,50780,50494,49056,47847,47163,46861,46375,47669,null,1,{"$f":"AK109+C110","v":98250},{"$f":"AL109+D110","v":96510},{"$f":"AM109+E110","v":95333},{"$f":"AN109+F110","v":94990},{"$f":"AO109+G110","v":92916},{"$f":"AP109+H110","v":93189},{"$f":"AQ109+I110","v":93192},{"$f":"AR109+J110","v":93180},{"$f":"AS109+K110","v":91197},{"$f":"AT109+L110","v":88345},{"$f":"AU109+M110","v":86676},{"$f":"AV109+N110","v":86757},{"$f":"AW109+O110","v":89706},{"$f":"AX109+P110","v":91764},{"$f":"AY109+Q110","v":93629},{"$f":"AZ109+R110","v":97092},{"$f":"BA109+S110","v":100315},{"$f":"BB109+T110","v":101691},{"$f":"BC109+U110","v":102788},{"$f":"BD109+V110","v":104980},{"$f":"BE109+W110","v":105760},{"$f":"BF109+X110","v":103878},{"$f":"BG109+Y110","v":101135},{"$f":"BH109+Z110","v":100566},{"$f":"BI109+AA110","v":100691},{"$f":"BJ109+AB110","v":98912},{"$f":"BK109+AC110","v":96217},{"$f":"BL109+AD110","v":94115},{"$f":"BM109+AE110","v":92634},{"$f":"BN109+AF110","v":91625},{"$f":"BO109+AG110","v":92402},91799]
["female",2,49201,49502,49383,48152,48384,47489,46639,47556,47181,46573,45091,44421,43375,44745,46636,46901,48874,50080,52267,51711,53449,54151,54160,52124,51176,51189,51001,49615,48347,48307,48515,48240,null,2,147451,146012,144716,143142,141300,140678,139831,140736,138378,134918,131767,131178,133081,136509,140265,143993,149189,151771,155055,156691,159209,158029,155295,152690,151867,150101,147218,143730,140981,139932,140917,140039]
["female",3,48881,49297,49772,49713,48436,48641,47597,47112,47714,47259,46923,45471,44839,43939,45264,47123,47186,49561,50811,53033,52371,54019,54772,54858,52586,51465,51473,51385,50184,49164,49848,50126,null,3,196332,195309,194488,192855,189736,189319,187428,187848,186092,182177,178690,176649,177920,180448,185529,191116,196375,201332,205866,209724,211580,212048,210067,207548,204453,201566,198691,195115,191165,189096,190765,190165]
["female",4,49153,48733,49429,50084,49885,48782,48681,48160,47314,47734,47646,47325,45853,45235,44205,45654,47374,47505,50160,51461,53552,52845,54385,55170,55403,52910,51732,51835,51919,50918,50585,51271,null,4,245485,244042,243917,242939,239621,238101,236109,236008,233406,229911,226336,223974,223773,225683,229734,236770,243749,248837,256026,261185,265132,264893,264452,262718,259856,254476,250423,246950,243084,240014,241350,241436]
["female",5,47528,48961,48731,49619,50245,50101,48908,48955,48042,47543,48058,48066,47764,46083,45563,44552,45901,47729,47906,50623,51810,53914,53151,54765,55465,55426,53093,52036,52157,52487,52354,51989,null,5,293013,293003,292648,292558,289866,288202,285017,284963,281448,277454,274394,272040,271537,271766,275297,281322,289650,296566,303932,311808,316942,318807,317603,317483,315321,309902,303516,298986,295241,292501,293704,293425]
["female",6,46528,47454,48986,48965,49823,50534,50204,49321,48908,48022,47778,48485,48463,47979,46411,45925,44835,46203,48119,48104,50811,52066,54159,53397,55030,55589,55544,53260,52261,52497,53670,53704,null,6,339541,340457,341634,341523,339689,338736,335221,334284,330356,325476,322172,320525,320000,319745,321708,327247,334485,342769,352051,359912,367753,370873,371762,370880,370351,365491,359060,352246,347502,344998,347374,347129]
["female",7,46811,46581,47556,49218,49131,50081,50720,50563,49572,49106,48239,48130,49049,48711,48245,46893,46306,45095,46500,48221,48527,51041,52272,54434,53751,55100,55617,55705,53559,52630,53979,54851,null,7,386352,387038,389190,390741,388820,388817,385941,384847,379928,374582,370411,368655,369049,368456,369953,374140,380791,387864,398551,408133,416280,421914,424034,425314,424102,420591,414677,407951,401061,397628,401353,401980]
["female",8,44876,46800,46674,47685,49265,49273,50161,51275,50708,49817,49372,48619,48515,49392,49042,48789,47271,46705,45405,46636,48613,48988,51257,52432,54695,53907,55394,55817,55898,53945,53780,55187,null,8,431228,433838,435864,438426,438085,438090,436102,436122,430636,424399,419783,417274,417564,417848,418995,422929,428062,434569,443956,454769,464893,470902,475291,477746,478797,474498,470071,463768,456959,451573,455133,457167]
["female",9,45088,44911,46951,46869,47707,49382,49317,50546,51342,50888,49891,49745,49065,48749,49783,49431,49184,47740,47070,45570,47006,48998,49431,51482,52722,54853,54124,55589,56008,56298,55106,54994,null,9,476316,478749,482815,485295,485792,487472,485419,486668,481978,475287,469674,467019,466629,466597,468778,472360,477246,482309,491026,500339,511899,519900,524722,529228,531519,529351,524195,519357,512967,507871,510239,512161]
["female",10,45188,45100,45116,47249,47008,47835,49337,49573,50543,51455,51097,50063,49907,49318,49128,50339,49663,49343,48137,47344,46131,47476,49344,49836,51703,52820,55040,54364,55806,56329,57497,56245,null,10,521504,523849,527931,532544,532800,535307,534756,536241,532521,526742,520771,517082,516536,515915,517906,522699,526909,531652,539163,547683,558030,567376,574066,579064,583222,582171,579235,573721,568773,564200,567736,568406]
["female",11,47065,45363,45321,45423,47372,47250,47921,49604,49687,50684,51820,51331,50171,50270,49833,49579,50739,49978,49810,48436,47643,46621,47929,49807,50249,51861,53138,55367,54701,56160,57584,58744,null,11,568569,569212,573252,577967,580172,582557,582677,585845,582208,577426,572591,568413,566707,566185,567739,572278,577648,581630,588973,596119,605673,613997,621995,628871,633471,634032,632373,629088,623474,620360,625320,627150]
["female",12,47513,47607,45908,45906,45989,47935,47713,48715,50162,50357,51030,52237,51561,50514,50866,50428,49896,51203,50514,50202,48723,48127,47206,48545,50321,50673,52231,53514,55830,55121,57308,58703,null,12,616082,616819,619160,623873,626161,630492,630390,634560,632370,627783,623621,620650,618268,616699,618605,622706,627544,632833,639487,646321,654396,662124,669201,677416,683792,684705,684604,682602,679304,675481,682628,685853]
["female",13,45909,47523,47713,46101,46023,46103,48045,48223,48833,50242,50465,51244,52357,51774,50759,51374,50674,50131,51573,50764,50334,48901,48376,47627,48894,50562,50950,52243,53698,56007,56104,58260,null,13,661991,664342,666873,669974,672184,676595,678435,682783,681203,678025,674086,671894,670625,668473,669364,674080,678218,682964,691060,697085,704730,711025,717577,725043,732686,735267,735554,734845,733002,731488,738732,744113]
["female",14,42561,45991,47672,47999,46360,46263,46336,48366,48342,48719,50283,50658,51136,52405,51977,51020,51607,50934,50413,51869,50838,50539,49040,48680,48110,49304,50872,51321,52303,53915,57104,57094,null,14,704552,710333,714545,717973,718544,722858,724771,731149,729545,726744,724369,722552,721761,720878,721341,725100,729825,733898,741473,748954,755568,761564,766617,773723,780796,784571,786426,786166,785305,785403,795836,801207]
["female",15,42160,42595,46120,48005,48223,46592,46440,46573,48087,48334,48661,50573,50973,51571,52704,52323,51426,52136,51417,50843,51926,50911,50756,49284,48935,48545,49643,51154,51582,52527,54870,57933,null,15,746712,752928,760665,765978,766767,769450,771211,777722,777632,775078,773030,773125,772734,772449,774045,777423,781251,786034,792890,799797,807494,812475,817373,823007,829731,833116,836069,837320,836887,837930,850706,859140]
["female",16,43455,42222,42729,46421,48129,48515,46940,46723,46549,48278,48333,49190,51034,51516,51782,53247,52887,51997,52721,52047,50889,52045,51056,50954,49662,49198,48980,50086,51396,51934,53438,55740,null,16,790167,795150,803394,812399,814896,817965,818151,824445,824181,823356,821363,822315,823768,823965,825827,830670,834138,838031,845611,851844,858383,864520,868429,873961,879393,882314,885049,887406,888283,889864,904144,914880]
["female",17,45890,43544,42487,43170,46696,48729,48981,47423,46760,47049,48507,48929,50001,51869,51926,52338,54114,53763,52564,53608,52369,51148,52364,51478,51549,50174,49739,49519,50519,51900,52960,54330,null,17,836057,838694,845881,855569,861592,866694,867132,871868,870941,870405,869870,871244,873769,875834,877753,883008,888252,891794,898175,905452,910752,915668,920793,925439,930942,932488,934788,936925,938802,941764,957104,969210]
["female",18,47459,45645,43499,42120,42728,46281,47837,48925,46110,46193,46864,49019,49598,50759,51743,52371,52996,55004,54029,53131,53581,52380,51200,52654,52014,52063,50648,50234,49975,50812,52042,53185,null,18,883516,884339,889380,897689,904320,912975,914969,920793,917051,916598,916734,920263,923367,926593,929496,935379,941248,946798,952204,958583,964333,968048,971993,978093,982956,984551,985436,987159,988777,992576,1009146,1022395]
["female",19,48567,47177,44783,41727,40405,41189,45777,47711,46874,44802,44637,45999,48625,49283,49120,51539,52301,52349,53940,53423,51303,52421,51419,49833,51852,50993,50838,49365,49120,48299,47078,49077,null,19,932083,931516,934163,939416,944725,954164,960746,968504,963925,961400,961371,966262,971992,975876,978616,986918,993549,999147,1006144,1012006,1015636,1020469,1023412,1027926,1034808,1035544,1036274,1036524,1037897,1040875,1056224,1071472]
["female",20,50695,47798,43861,42644,39733,38827,40262,43856,45975,46799,44302,44201,45545,48524,49116,48891,51087,50844,51609,53148,52705,51589,52507,51586,50032,51790,51089,50914,48648,48451,46651,45694,null,20,982778,979314,978024,982060,984458,992991,1001008,1012360,1009900,1008199,1005673,1010463,1017537,1024400,1027732,1035809,1044636,1049991,1057753,1065154,1068341,1072058,1075919,1079512,1084840,1087334,1087363,1087438,1086545,1089326,1102875,1117166]
["female",21,54145,50693,46759,44412,43086,41178,39679,41305,44954,47473,47506,45347,45548,47386,49968,50014,49840,51236,51715,52509,54103,53978,53267,54001,53025,51568,53074,52124,51286,49423,48815,47512,null,21,1036923,1030007,1024783,1026472,1027544,1034169,1040687,1053665,1054854,1055672,1053179,1055810,1063085,1071786,1077700,1085823,1094476,1101227,1109468,1117663,1122444,1126036,1129186,1133513,1137865,1138902,1140437,1139562,1137831,1138749,1151690,1164678]
["female",22,52976,53492,50479,48408,45736,45040,42553,41900,42487,46105,48190,48701,46692,48288,49135,50948,51509,50549,52337,52292,54090,55438,55805,54651,55475,54661,52811,53964,52027,51725,49167,48961,null,22,1089899,1083499,1075262,1074880,1073280,1079209,1083240,1095565,1097341,1101777,1101369,1104511,1109777,1120074,1126835,1136771,1145985,1151776,1161805,1169955,1176534,1181474,1184991,1188164,1193340,1193563,1193248,1193526,1189858,1190474,1200857,1213639]
["female",23,55099,52471,54590,52398,50176,47785,45861,44015,43375,44402,46980,49259,50089,48967,50143,50378,52236,51748,51374,53194,53831,55408,57049,56988,56321,56593,55228,53401,53576,52156,51769,49851,null,23,1144998,1135970,1129852,1127278,1123456,1126994,1129101,1139580,1140716,1146179,1148349,1153770,1159866,1169041,1176978,1187149,1198221,1203524,1213179,1223149,1230365,1236882,1242040,1245152,1249661,1250156,1248476,1246927,1243434,1242630,1252626,1263490]
["female",24,56443,54902,54377,55836,53444,51821,48461,46656,44776,44453,44874,47723,50149,51734,50701,51256,51335,52328,52438,52037,52510,53351,54989,56374,56404,54953,55158,52953,51569,52667,52093,52431,null,24,1201441,1190872,1184229,1183114,1176900,1178815,1177562,1186236,1185492,1190632,1193223,1201493,1210015,1220775,1227679,1238405,1249556,1255852,1265617,1275186,1282875,1290233,1297029,1301526,1306065,1305109,1303634,1299880,1295003,1295297,1304719,1315921]
["female",25,57496,56161,56058,54834,56112,54098,51937,48469,47098,45209,44630,45500,48385,51343,51837,51369,51072,51203,52284,52029,51918,52461,53433,54824,56349,55612,54163,54049,52332,51356,52688,52689,null,25,1258937,1247033,1240287,1237948,1233012,1232913,1229499,1234705,1232590,1235841,1237853,1246993,1258400,1272118,1279516,1289774,1300628,1307055,1317901,1327215,1334793,1342694,1350462,1356350,1362414,1360721,1357797,1353929,1347335,1346653,1357407,1368610]
["female",26,59140,57757,57382,56777,55184,56896,54498,52007,49115,47274,45542,45155,46145,49826,51978,52783,51442,51455,51697,52293,52376,52367,53370,54108,55587,56619,55997,53965,54056,52884,51915,53824,null,26,1318077,1304790,1297669,1294725,1288196,1289809,1283997,1286712,1281705,1283115,1283395,1292148,1304545,1321944,1331494,1342557,1352070,1358510,1369598,1379508,1387169,1395061,1403832,1410458,1418001,1417340,1413794,1407894,1401391,1399537,1409322,1422434]
["female",27,59727,59270,58419,58080,57142,55809,57115,55030,52728,49123,47535,46328,46028,47490,50528,53079,52858,52116,52315,51706,52940,53130,53326,54245,55376,56435,57336,56521,54870,55148,53834,53404,null,27,1377804,1364060,1356088,1352805,1345338,1345618,1341112,1341742,1334433,1332238,1330930,1338476,1350573,1369434,1382022,1395636,1404928,1410626,1421913,1431214,1440109,1448191,1457158,1464703,1473377,1473775,1471130,1464415,1456261,1454685,1463156,1475838]
["female",28,60250,60083,60293,59453,58920,58141,56270,57630,55837,52981,49760,48381,47381,47429,48227,51678,53736,53628,53231,53145,52476,53755,54214,54608,55839,56405,57410,57906,57239,56448,56081,55318,null,28,1438054,1424143,1416381,1412258,1404258,1403759,1397382,1399372,1390270,1385219,1380690,1386857,1397954,1416863,1430249,1447314,1458664,1464254,1475144,1484359,1492585,1501946,1511372,1519311,1529216,1530180,1528540,1522321,1513500,1511133,1519237,1531156]
["female",29,59700,60270,60958,61179,60083,59803,58534,56811,58230,56019,53511,50709,49437,49027,48342,49313,52385,54548,54875,54203,53970,53463,54802,55125,55998,57221,57649,58679,58963,58980,57676,57825,null,29,1497754,1484413,1477339,1473437,1464341,1463562,1455916,1456183,1448500,1441238,1434201,1437566,1447391,1465890,1478591,1496627,1511049,1518802,1530019,1538562,1546555,1555409,1566174,1574436,1585214,1587401,1586189,1581000,1572463,1570113,1576913,1588981]
["female",30,58413,60033,61318,61779,61811,60895,60223,59234,57391,58501,56658,54554,51510,50833,50205,49053,50248,53104,55855,55969,55233,55123,54796,56115,56792,57287,58706,58917,59941,60992,60391,59671,null,30,1556167,1544446,1538657,1535216,1526152,1524457,1516139,1515417,1505891,1499739,1490859,1492120,1498901,1516723,1528796,1545680,1561297,1571906,1585874,1594531,1601788,1610532,1620970,1630551,1642006,1644688,1644895,1639917,1632404,1631105,1637304,1648652]
["female",31,57526,58846,60953,62005,62331,62562,61314,60992,59965,57692,58938,57371,55200,52739,51960,50862,50058,50936,54029,56808,57004,56157,56404,55942,57532,58094,58595,60171,60383,62200,62631,62391,null,31,1613693,1603292,1599610,1597221,1588483,1587019,1577453,1576409,1565856,1557431,1549797,1549491,1554101,1569462,1580756,1596542,1611355,1622842,1639903,1651339,1658792,1666689,1677374,1686493,1699538,1702782,1703490,1700088,1692787,1693305,1699935,1711043]
["female",32,55717,57835,59484,61512,62401,62952,62939,62285,61649,60388,58302,59858,58003,56441,53903,52847,51986,50797,51959,55053,57789,58008,57247,57595,57155,58458,59119,60070,61587,62791,63985,64644,null,32,1669410,1661127,1659094,1658733,1650884,1649971,1640392,1638694,1627505,1617819,1608099,1609349,1612104,1625903,1634659,1649389,1663341,1673639,1691862,1706392,1716581,1724697,1734621,1744088,1756693,1761240,1762609,1760158,1754374,1756096,1763920,1775687]
["female",33,55369,55945,58405,60023,61967,62971,63303,63829,63070,61939,60971,58961,60565,59107,57435,54696,53969,52613,51977,52777,56149,58851,59210,58158,58751,58077,59488,60361,61335,63835,64353,65812,null,33,{"$f":"AK141+C142","v":1724779},{"$f":"AL141+D142","v":1717072},{"$f":"AM141+E142","v":1717499},{"$f":"AN141+F142","v":1718756},{"$f":"AO141+G142","v":1712851},{"$f":"AP141+H142","v":1712942},{"$f":"AQ141+I142","v":1703695},{"$f":"AR141+J142","v":1702523},{"$f":"AS141+K142","v":1690575},{"$f":"AT141+L142","v":1679758},{"$f":"AU141+M142","v":1669070},{"$f":"AV141+N142","v":1668310},{"$f":"AW141+O142","v":1672669},{"$f":"AX141+P142","v":1685010},{"$f":"AY141+Q142","v":1692094},{"$f":"AZ141+R142","v":1704085},{"$f":"BA141+S142","v":1717310},{"$f":"BB141+T142","v":1726252},{"$f":"BC141+U142","v":1743839},{"$f":"BD141+V142","v":1759169},{"$f":"BE141+W142","v":1772730},{"$f":"BF141+X142","v":1783548},{"$f":"BG141+Y142","v":1793831},{"$f":"BH141+Z142","v":1802246},{"$f":"BI141+AA142","v":1815444},{"$f":"BJ141+AB142","v":1819317},{"$f":"BK141+AC142","v":1822097},{"$f":"BL141+AD142","v":1820519},{"$f":"BM141+AE142","v":1815709},{"$f":"BN141+AF142","v":1819931},{"$f":"BO141+AG142","v":1828273},1841499]
["female",34,54366,55560,56468,58913,60543,62570,63315,64535,64537,63467,62347,61602,59513,61536,60028,58116,55627,54709,53537,52822,53761,57283,59910,60284,59360,59512,58992,60586,61607,63418,65229,66232,null,34,1779145,1772632,1773967,1777669,1773394,1775512,1767010,1767058,1755112,1743225,1731417,1729912,1732182,1746546,1752122,1762201,1772937,1780961,1797376,1811991,1826491,1840831,1853741,1862530,1874804,1878829,1881089,1881105,1877316,1883349,1893502,1907731]
["female",35,53389,54548,55907,56672,59093,60885,62747,64363,65134,64704,64069,62714,62280,60349,62505,60779,58955,56532,55574,53987,53793,54662,58357,61105,61519,60257,60345,59932,61525,63404,64979,67023,null,35,1832534,1827180,1829874,1834341,1832487,1836397,1829757,1831421,1820246,1807929,1795486,1792626,1794462,1806895,1814627,1822980,1831892,1837493,1852950,1865978,1880284,1895493,1912098,1923635,1936323,1939086,1941434,1941037,1938841,1946753,1958481,1974754]
["female",36,51602,53586,55059,56349,57024,59582,61244,63570,64844,65411,65089,64374,63416,62885,60986,63263,61228,59559,57173,56037,54836,54629,55615,59344,62140,62315,60982,61207,60890,63114,64895,66747,null,36,1884136,1880766,1884933,1890690,1889511,1895979,1891001,1894991,1885090,1873340,1860575,1857000,1857878,1869780,1875613,1886243,1893120,1897052,1910123,1922015,1935120,1950122,1967713,1982979,1998463,2001401,2002416,2002244,1999731,2009867,2023376,2041501]
["female",37,51193,51678,53902,55446,56654,57342,59824,61973,64003,65048,65791,65407,65035,64013,63552,61561,63898,61915,60323,57631,56952,55525,55543,56350,60297,62876,63029,61679,61939,62156,64486,66244,null,37,1935329,1932444,1938835,1946136,1946165,1953321,1950825,1956964,1949093,1938388,1926366,1922407,1922913,1933793,1939165,1947804,1957018,1958967,1970446,1979646,1992072,2005647,2023256,2039329,2058760,2064277,2065445,2063923,2061670,2072023,2087862,2107745]
["female",38,51578,51332,52069,54207,55746,56982,57504,60428,62407,64224,65478,66038,65773,65597,64615,64112,62049,64403,62352,60619,58354,57789,56328,56211,57112,60870,63558,63622,62206,63072,63538,65750,null,38,1986907,1983776,1990904,2000343,2001911,2010303,2008329,2017392,2011500,2002612,1991844,1988445,1988686,1999390,2003780,2011916,2019067,2023370,2032798,2040265,2050426,2063436,2079584,2095540,2115872,2125147,2129003,2127545,2123876,2135095,2151400,2173495]
["female",39,51747,51707,51614,52279,54370,56038,57117,58153,60861,62538,64534,65585,66395,66183,66168,65092,64428,62442,64853,62354,61289,58899,58564,56919,56918,57580,61482,64084,64158,63123,64135,64739,null,39,2038654,2035483,2042518,2052622,2056281,2066341,2065446,2075545,2072361,2065150,2056378,2054030,2055081,2065573,2069948,2077008,2083495,2085812,2097651,2102619,2111715,2122335,2138148,2152459,2172790,2182727,2190485,2191629,2188034,2198218,2215535,2238234]
["female",40,51052,51568,51826,51743,52410,54513,56099,57788,58435,60869,62601,64619,65914,66800,66533,66685,65124,64783,62972,65238,63033,62061,59475,59100,57541,57333,58071,61906,64438,64942,64178,65316,null,40,2089706,2087051,2094344,2104365,2108691,2120854,2121545,2133333,2130796,2126019,2118979,2118649,2120995,2132373,2136481,2143693,2148619,2150595,2160623,2167857,2174748,2184396,2197623,2211559,2230331,2240060,2248556,2253535,2252472,2263160,2279713,2303550]
["female",41,51633,51148,51736,51975,51883,52652,54610,56591,58190,58515,60980,62647,64851,66221,67007,66920,66590,65311,65077,63118,65765,63638,62552,60051,59526,57849,57714,58415,62359,65266,65847,65433,null,41,2141339,2138199,2146080,2156340,2160574,2173506,2176155,2189924,2188986,2184534,2179959,2181296,2185846,2198594,2203488,2210613,2215209,2215906,2225700,2230975,2240513,2248034,2260175,2271610,2289857,2297909,2306270,2311950,2314831,2328426,2345560,2368983]
["female",42,54097,51647,51353,51901,52083,52116,52780,54894,56827,58150,58575,60965,62838,65176,66492,67404,66902,66865,65636,65201,63539,66210,64171,62908,60434,59871,58096,57973,58763,62956,66068,66734,null,42,2195436,2189846,2197433,2208241,2212657,2225622,2228935,2244818,2245813,2242684,2238534,2242261,2248684,2263770,2269980,2278017,2282111,2282771,2291336,2296176,2304052,2314244,2324346,2334518,2350291,2357780,2364366,2369923,2373594,2391382,2411628,2435717]
["female",43,56672,54121,51794,51500,51965,52244,52222,52888,55031,56841,58130,58512,61047,63066,65274,66875,67445,66916,67061,65682,65552,64007,66718,64580,63238,60583,60111,58335,58298,59216,63636,66816,null,43,2252108,2243967,2249227,2259741,2264622,2277866,2281157,2297706,2300844,2299525,2296664,2300773,2309731,2326836,2335254,2344892,2349556,2349687,2358397,2361858,2369604,2378251,2391064,2399098,2413529,2418363,2424477,2428258,2431892,2450598,2475264,2502533]
["female",44,60973,56645,54255,51912,51612,52091,52298,52568,53132,55052,56861,58202,58552,61165,63132,65574,66735,67589,67031,67042,66056,65915,64379,66990,64992,63389,60876,60405,58486,58563,59726,64318,null,44,2313081,2300612,2303482,2311653,2316234,2329957,2333455,2350274,2353976,2354577,2353525,2358975,2368283,2388001,2398386,2410466,2416291,2417276,2425428,2428900,2435660,2444166,2455443,2466088,2478521,2481752,2485353,2488663,2490378,2509161,2534990,2566851]
["female",45,67135,60836,56526,54174,51825,51574,51954,52498,52578,52971,54773,56842,57978,58647,61161,63264,65692,66834,67545,66973,67388,66493,66297,64609,67370,65183,63617,60986,60628,58785,58949,60300,null,45,2380216,2361448,2360008,2365827,2368059,2381531,2385409,2402772,2406554,2407548,2408298,2415817,2426261,2446648,2459547,2473730,2481983,2484110,2492973,2495873,2503048,2510659,2521740,2530697,2545891,2546935,2548970,2549649,2551006,2567946,2593939,2627151]
["female",46,52788,66898,60892,56488,54121,51835,51483,52103,52629,52505,52770,54720,56654,57968,58691,61153,63379,65781,66827,67547,67161,67676,66909,66616,64788,67518,65267,63624,61053,60832,59238,59480,null,46,2433004,2428346,2420900,2422315,2422180,2433366,2436892,2454875,2459183,2460053,2461068,2470537,2482915,2504616,2518238,2534883,2545362,2549891,2559800,2563420,2570209,2578335,2588649,2597313,2610679,2614453,2614237,2613273,2612059,2628778,2653177,2686631]
["female",47,51182,52766,66635,60924,56409,54093,51736,51692,52088,52383,52231,52711,54570,56647,57902,58750,61140,63340,65674,66732,67831,67340,68004,67089,66847,65045,67585,65241,63562,61264,61243,59705,null,47,2484186,2481112,2487535,2483239,2478589,2487459,2488628,2506567,2511271,2512436,2513299,2523248,2537485,2561263,2576140,2593633,2606502,2613231,2625474,2630152,2638040,2645675,2656653,2664402,2677526,2679498,2681822,2678514,2675621,2690042,2714420,2746336]
["female",48,50643,51163,52730,66432,60886,56295,53918,51809,51732,51897,52084,52025,52511,54468,56614,57923,58819,61167,63235,65531,66876,68015,67568,68197,67276,66989,65094,67603,65251,63687,61394,61356,null,48,2534829,2532275,2540265,2549671,2539475,2543754,2542546,2558376,2563003,2564333,2565383,2575273,2589996,2615731,2632754,2651556,2665321,2674398,2688709,2695683,2704916,2713690,2724221,2732599,2744802,2746487,2746916,2746117,2740872,2753729,2775814,2807692]
["female",49,48260,50422,51145,52679,66155,60802,56107,53974,51799,51567,51677,51837,51821,52511,54456,56492,57873,58822,61022,63111,65604,67008,68146,67654,68303,67295,67031,65034,67541,65284,63799,61588,null,49,2583089,2582697,2591410,2602350,2605630,2604556,2598653,2612350,2614802,2615900,2617060,2627110,2641817,2668242,2687210,2708048,2723194,2733220,2749731,2758794,2770520,2780698,2792367,2800253,2813105,2813782,2813947,2811151,2808413,2819013,2839613,2869280]
["female",50,43250,48099,50283,51177,52659,65984,60729,56092,53909,51554,51279,51348,51437,51635,52435,54267,56344,57715,58690,60918,63216,65651,67061,68277,67723,68237,67399,66993,64932,67620,65350,63937,null,50,2626339,2630796,2641693,2653527,2658289,2670540,2659382,2668442,2668711,2667454,2668339,2678458,2693254,2719877,2739645,2762315,2779538,2790935,2808421,2819712,2833736,2846349,2859428,2868530,2880828,2882019,2881346,2878144,2873345,2886633,2904963,2933217]
["female",51,38774,43110,48019,50185,51161,52633,65736,60622,55882,53744,51317,50872,51038,51311,51522,52253,54208,56155,57658,58629,60983,63299,65702,67098,68292,67601,68175,67282,66851,64940,67568,65428,null,51,2665113,2673906,2689712,2703712,2709450,2723173,2725118,2729064,2724593,2721198,2719656,2729330,2744292,2771188,2791167,2814568,2833746,2847090,2866079,2878341,2894719,2909648,2925130,2935628,2949120,2949620,2949521,2945426,2940196,2951573,2972531,2998645]
["female",52,41560,38745,42931,47866,49963,51060,52492,65392,60517,55481,53527,50997,50554,50956,51129,51241,52170,54139,55987,57672,58683,61093,63427,65711,67064,68244,67507,67994,67173,66839,64892,67497,null,52,2706673,2712651,2732643,2751578,2759413,2774233,2777610,2794456,2785110,2776679,2773183,2780327,2794846,2822144,2842296,2865809,2885916,2901229,2922066,2936013,2953402,2970741,2988557,3001339,3016184,3017864,3017028,3013420,3007369,3018412,3037423,3066142]
["female",53,41852,41425,38723,42819,47720,49820,50890,52449,65089,60249,55296,53088,50642,50274,50775,50931,51076,52007,53975,55870,57776,58699,61094,63433,65608,66903,68084,67352,67879,67151,66718,64707,null,53,2748525,2754076,2771366,2794397,2807133,2824053,2828500,2846905,2850199,2836928,2828479,2833415,2845488,2872418,2893071,2916740,2936992,2953236,2976041,2991883,3011178,3029440,3049651,3064772,3081792,3084767,3085112,3080772,3075248,3085563,3104141,3130849]
["female",54,41208,41757,41382,38897,42690,47613,49587,50862,52413,64359,59895,54876,52680,50402,49973,50551,50705,50918,51874,53918,55896,57729,58735,60871,63295,65393,66752,67867,67062,67767,67002,66449,null,54,2789733,2795833,2812748,2833294,2849823,2871666,2878087,2897767,2902612,2901287,2888374,2888291,2898168,2922820,2943044,2967291,2987697,3004154,3027915,3045801,3067074,3087169,3108386,3125643,3145087,3150160,3151864,3148639,3142310,3153330,3171143,3197298]
["female",55,39868,41115,41700,41344,38942,42622,47519,49384,50648,52192,64143,59231,54597,52437,50233,49838,50174,50570,50838,51718,53861,55828,57623,58716,60730,63075,65273,66526,67548,66924,67472,66749,null,55,2829601,2836948,2854448,2874638,2888765,2914288,2925606,2947151,2953260,2953479,2952517,2947522,2952765,2975257,2993277,3017129,3037871,3054724,3078753,3097519,3120935,3142997,3166009,3184359,3205817,3213235,3217137,3215165,3209858,3220254,3238615,3264047]
["female",56,39462,39726,40909,41459,41180,38933,42311,47194,49166,50408,51782,63758,58654,54353,52137,50112,49481,50103,50449,50633,51567,53781,55718,57530,58499,60498,62836,64991,66250,67359,66568,67103,null,56,2869063,2876674,2895357,2916097,2929945,2953221,2967917,2994345,3002426,3003887,3004299,3011280,3011419,3029610,3045414,3067241,3087352,3104827,3129202,3148152,3172502,3196778,3221727,3241889,3264316,3273733,3279973,3280156,3276108,3287613,3305183,3331150]
["female",57,38763,39305,39606,40808,41351,41073,38819,42218,47045,48815,49985,51254,63421,58180,54219,52013,49711,49327,50001,50198,50587,51437,53641,55542,57346,58287,60289,62498,64653,66048,66989,66264,null,57,2907826,2915979,2934963,2956905,2971296,2994294,3006736,3036563,3049471,3052702,3054284,3062534,3074840,3087790,3099633,3119254,3137063,3154154,3179203,3198350,3223089,3248215,3275368,3297431,3321662,3332020,3340262,3342654,3340761,3353661,3372172,3397414]
["female",58,37233,38541,39143,39441,40611,41135,40856,38673,41931,46679,48506,49434,50814,63299,57904,54048,51702,49573,49048,49810,50138,50473,51293,53426,55325,57064,57961,60023,62194,64544,65581,66551,null,58,2945059,2954520,2974106,2996346,3011907,3035429,3047592,3075236,3091402,3099381,3102790,3111968,3125654,3151089,3157537,3173302,3188765,3203727,3228251,3248160,3273227,3298688,3326661,3350857,3376987,3389084,3398223,3402677,3402955,3418205,3437753,3463965]
["female",59,37445,37088,38399,39020,39320,40469,40979,40608,38415,41600,46376,48114,48984,50448,63169,57679,53777,51527,49457,48758,49709,50037,50353,51096,53223,55035,56840,57570,59669,61933,64121,65165,null,59,2982504,2991608,3012505,3035366,3051227,3075898,3088571,3115844,3129817,3140981,3149166,3160082,3174638,3201537,3220706,3230981,3242542,3255254,3277708,3296918,3322936,3348725,3377014,3401953,3430210,3444119,3455063,3460247,3462624,3480138,3501874,3529130]
["female",60,38373,37245,36968,38252,38885,39182,40227,40775,40539,38076,41298,46038,47787,48657,50085,62938,57344,53621,51204,49234,48659,49477,49921,50210,50830,52912,54758,56453,57176,59499,61502,63669,null,60,3020877,3028853,3049473,3073618,3090112,3115080,3128798,3156619,3170356,3179057,3190464,3206120,3222425,3250194,3270791,3293919,3299886,3308875,3328912,3346152,3371595,3398202,3426935,3452163,3481040,3497031,3509821,3516700,3519800,3539637,3563376,3592799]
["female",61,39467,38228,37180,36928,38169,38829,39100,40081,40484,40204,37682,41021,45797,47567,48254,49700,62812,56955,53424,50950,49141,48568,49308,49674,49947,50592,52591,54404,56142,56827,59088,60977,null,61,3060344,3067081,3086653,3110546,3128281,3153909,3167898,3196700,3210840,3219261,3228146,3247141,3268222,3297761,3319045,3343619,3362698,3365830,3382336,3397102,3420736,3446770,3476243,3501837,3530987,3547623,3562412,3571104,3575942,3596464,3622464,3653776]
["female",62,39327,39172,38050,37046,36749,37981,38597,38841,39888,40071,39836,37316,40741,45527,47310,47846,49471,62666,56673,53226,50797,48966,48355,49160,49376,49662,50280,52333,54022,55902,56486,58740,null,62,3099671,3106253,3124703,3147592,3165030,3191890,3206495,3235541,3250728,3259332,3267982,3284457,3308963,3343288,3366355,3391465,3412169,3428496,3439009,3450328,3471533,3495736,3524598,3550997,3580363,3597285,3612692,3623437,3629964,3652366,3678950,3712516]
["female",63,38371,38967,38924,37904,36880,36608,37812,38399,38697,39500,39679,39547,36958,40512,45215,47133,47516,49202,62553,56308,53050,50589,48754,48159,48830,49092,49330,49905,51986,53736,55543,56153,null,63,3138042,3145220,3163627,3185496,3201910,3228498,3244307,3273940,3289425,3298832,3307661,3324004,3345921,3383800,3411570,3438598,3459685,3477698,3501562,3506636,3524583,3546325,3573352,3599156,3629193,3646377,3662022,3673342,3681950,3706102,3734493,3768669]
["female",64,37549,38096,38642,38698,37764,36758,36451,37607,38283,38358,39189,39464,39289,36605,40233,44867,46986,47197,48930,62450,56166,52847,50379,48453,47864,48495,48770,49056,49538,51679,53370,55172,null,64,3175591,3183316,3202269,3224194,3239674,3265256,3280758,3311547,3327708,3337190,3346850,3363468,3385210,3420405,3451803,3483465,3506671,3524895,3550492,3569086,3580749,3599172,3623731,3647609,3677057,3694872,3710792,3722398,3731488,3757781,3787863,3823841]
["female",65,37846,37215,37821,38407,38441,37573,36568,36153,37365,37882,37978,38868,39153,38928,36080,39954,44684,46721,46849,48598,62181,55923,52678,50116,48223,47538,48061,48454,48764,49286,51338,53037,null,65,{"$f":"AK173+C174","v":3213437},{"$f":"AL173+D174","v":3220531},{"$f":"AM173+E174","v":3240090},{"$f":"AN173+F174","v":3262601},{"$f":"AO173+G174","v":3278115},{"$f":"AP173+H174","v":3302829},{"$f":"AQ173+I174","v":3317326},{"$f":"AR173+J174","v":3347700},{"$f":"AS173+K174","v":3365073},{"$f":"AT173+L174","v":3375072},{"$f":"AU173+M174","v":3384828},{"$f":"AV173+N174","v":3402336},{"$f":"AW173+O174","v":3424363},{"$f":"AX173+P174","v":3459333},{"$f":"AY173+Q174","v":3487883},{"$f":"AZ173+R174","v":3523419},{"$f":"BA173+S174","v":3551355},{"$f":"BB173+T174","v":3571616},{"$f":"BC173+U174","v":3597341},{"$f":"BD173+V174","v":3617684},{"$f":"BE173+W174","v":3642930},{"$f":"BF173+X174","v":3655095},{"$f":"BG173+Y174","v":3676409},{"$f":"BH173+Z174","v":3697725},{"$f":"BI173+AA174","v":3725280},{"$f":"BJ173+AB174","v":3742410},{"$f":"BK173+AC174","v":3758853},{"$f":"BL173+AD174","v":3770852},{"$f":"BM173+AE174","v":3780252},{"$f":"BN173+AF174","v":3807067},{"$f":"BO173+AG174","v":3839201},3876878]
["female",66,38028,37482,36860,37538,38088,38203,37332,36327,35932,36981,37471,37654,38548,38874,38478,35795,39733,44400,46560,46464,48370,61857,55629,52266,49724,47941,47302,47764,48203,48536,49032,51006,null,66,3251465,3258013,3276950,3300139,3316203,3341032,3354658,3384027,3401005,3412053,3422299,3439990,3462911,3498207,3526361,3559214,3591088,3616016,3643901,3664148,3691300,3716952,3732038,3749991,3775004,3790351,3806155,3818616,3828455,3855603,3888233,3927884]
["female",67,37506,37576,37117,36496,37209,37726,37830,36918,36032,35541,36609,37092,37291,38300,38419,38085,35472,39425,44095,46283,46251,48135,61518,55227,51942,49403,47577,46968,47424,47999,48265,48760,null,67,3288971,3295589,3314067,3336635,3353412,3378758,3392488,3420945,3437037,3447594,3458908,3477082,3500202,3536507,3564780,3597299,3626560,3655441,3687996,3710431,3737551,3765087,3793556,3805218,3826946,3839754,3853732,3865584,3875879,3903602,3936498,3976644]
["female",68,38243,37031,37150,36764,36060,36834,37292,37475,36658,35678,35143,36197,36724,36934,37841,38135,37789,35105,39171,43822,45943,45903,47779,61077,54752,51544,48987,47158,46626,47161,47657,47843,null,68,3327214,3332620,3351217,3373399,3389472,3415592,3429780,3458420,3473695,3483272,3494051,3513279,3536926,3573441,3602621,3635434,3664349,3690546,3727167,3754253,3783494,3810990,3841335,3866295,3881698,3891298,3902719,3912742,3922505,3950763,3984155,4024487]
["female",69,39123,37643,36542,36669,36267,35621,36424,36782,37097,36181,35210,34676,35808,36337,36411,37421,37874,37390,34755,38871,43513,45620,45582,47354,60634,54338,51102,48506,46806,46415,46835,47269,null,69,3366337,3370263,3387759,3410068,3425739,3451213,3466204,3495202,3510792,3519453,3529261,3547955,3572734,3609778,3639032,3672855,3702223,3727936,3761922,3793124,3827007,3856610,3886917,3913649,3942332,3945636,3953821,3961248,3969311,3997178,4030990,4071756]
["female",70,39968,38445,37069,35990,36111,35744,35120,35961,36237,36509,35605,34740,34159,35348,35831,35959,37115,37495,36974,34408,38559,43141,45327,45204,46972,60052,53805,50565,48076,46527,45972,46392,null,70,3406305,3408708,3424828,3446058,3461850,3486957,3501324,3531163,3547029,3555962,3564866,3582695,3606893,3645126,3674863,3708814,3739338,3765431,3798896,3827532,3865566,3899751,3932244,3958853,3989304,4005688,4007626,4011813,4017387,4043705,4076962,4118148]
["female",71,42207,39317,37829,36470,35421,35564,35239,34639,35400,35647,35962,35106,34285,33710,34804,35358,35596,36728,37132,36572,34115,38202,42736,44844,44760,46462,59415,53269,49982,47635,46102,45516,null,71,3448512,3448025,3462657,3482528,3497271,3522521,3536563,3565802,3582429,3591609,3600828,3617801,3641178,3678836,3709667,3744172,3774934,3802159,3836028,3864104,3899681,3937953,3974980,4003697,4034064,4052150,4067041,4065082,4067369,4091340,4123064,4163664]
["female",72,43340,41439,38550,37047,35781,34803,34898,34545,33963,34763,35033,35389,34518,33759,33115,34292,34876,35181,36324,36668,36213,33746,37775,42219,44358,44128,45896,58873,52746,49443,47155,45547,null,72,3491852,3489464,3501207,3519575,3533052,3557324,3571461,3600347,3616392,3626372,3635861,3653190,3675696,3712595,3742782,3778464,3809810,3837340,3872352,3900772,3935894,3971699,4012755,4045916,4078422,4096278,4112937,4123955,4120115,4140783,4170219,4209211]
["female",73,28419,42233,40577,37777,36161,34994,34055,34173,33858,33258,34010,34406,34740,33954,33096,32616,33801,34348,34721,35863,36224,35724,33361,37321,41639,43740,43543,45299,58174,52112,48900,46581,null,73,3520271,3531697,3541784,3557352,3569213,3592318,3605516,3634520,3650250,3659630,3669871,3687596,3710436,3746549,3775878,3811080,3843611,3871688,3907073,3936635,3972118,4007423,4046116,4083237,4120061,4140018,4156480,4169254,4178289,4192895,4219119,4255792]
["female",74,26687,27941,41020,39681,36953,35301,34187,33357,33409,33152,32473,33292,33712,34009,33233,32492,32120,33261,33826,34245,35345,35687,35280,32825,36806,41062,43079,42979,44587,57447,51458,48228,null,74,3546958,3559638,3582804,3597033,3606166,3627619,3639703,3667877,3683659,3692782,3702344,3720888,3744148,3780558,3809111,3843572,3875731,3904949,3940899,3970880,4007463,4043110,4081396,4116062,4156867,4181080,4199559,4212233,4222876,4250342,4270577,4304020]
["female",75,29717,25887,27378,39802,38678,36074,34383,33382,32500,32631,32357,31650,32530,32920,33296,32558,31873,31497,32700,33216,33754,34786,35131,34658,32233,36202,40354,42449,42208,43830,56616,50687,null,75,3576675,3585525,3610182,3636835,3644844,3663693,3674086,3701259,3716159,3725413,3734701,3752538,3776678,3813478,3842407,3876130,3907604,3936446,3973599,4004096,4041217,4077896,4116527,4150720,4189100,4217282,4239913,4254682,4265084,4294172,4327193,4354707]
["female",76,31683,28755,25154,26734,38497,37677,35086,33415,32353,31606,31740,31399,30826,31692,32173,32546,31842,31151,30913,32051,32531,33089,34175,34485,34023,31649,35461,39755,41710,41439,43124,55645,null,76,3608358,3614280,3635336,3663569,3683341,3701370,3709172,3734674,3748512,3757019,3766441,3783937,3807504,3845170,3874580,3908676,3939446,3967597,4004512,4036147,4073748,4110985,4150702,4185205,4223123,4248931,4275374,4294437,4306794,4335611,4370317,4410352]
["female",77,31884,30553,27847,24365,25970,37123,36570,34016,32371,31355,30649,30770,30446,29920,30770,31383,31727,31113,30408,30189,31403,31897,32408,33405,33864,33347,30948,34792,38862,40935,40577,42233,null,77,3640242,3644833,3663183,3687934,3709311,3738493,3745742,3768690,3780883,3788374,3797090,3814707,3837950,3875090,3905350,3940059,3971173,3998710,4034920,4066336,4105151,4142882,4183110,4218610,4256987,4282278,4306322,4329229,4345656,4376546,4410894,4452585]
["female",78,31376,30754,29474,26839,23426,25190,35663,35363,32853,31301,30288,29605,29753,29502,29019,29917,30482,30846,30311,29638,29506,30658,31203,31540,32535,33064,32602,30244,33946,37973,40047,39605,null,78,3671618,3675587,3692657,3714773,3732737,3763683,3781405,3804053,3813736,3819675,3827378,3844312,3867703,3904592,3934369,3969976,4001655,4029556,4065231,4095974,4134657,4173540,4214313,4250150,4289522,4315342,4338924,4359473,4379602,4414519,4450941,4492190]
["female",79,29730,30112,29475,28273,25628,22409,24393,34254,33997,31704,30164,29096,28446,28611,28491,28096,29010,29529,29978,29365,28764,28686,29794,30329,30685,31595,32169,31823,29316,33006,37047,38925,null,79,3701348,3705699,3722132,3743046,3758365,3786092,3805798,3838307,3847733,3851379,3857542,3873408,3896149,3933203,3962860,3998072,4030665,4059085,4095209,4125339,4163421,4202226,4244107,4280479,4320207,4346937,4371093,4391296,4408918,4447525,4487988,4531115]
["female",80,27868,28364,28686,28114,26903,24370,21388,23614,32547,32671,30295,28882,27904,27276,27414,27400,27094,28029,28581,28940,28400,27840,27846,28823,29465,29716,30650,31319,30741,28416,32043,35886,null,80,3729216,3734063,3750818,3771160,3785268,3810462,3827186,3861921,3880280,3884050,3887837,3902290,3924053,3960479,3990274,4025472,4057759,4087114,4123790,4154279,4191821,4230066,4271953,4309302,4349672,4376653,4401743,4422615,4439659,4475941,4520031,4567001]
["female",81,25935,26366,26817,27205,26632,25425,23114,20178,22611,30722,31085,28907,27540,26585,26079,26211,26263,25971,26919,27509,27834,27399,26889,26811,27816,28339,28690,29673,30142,29737,27463,30986,null,81,3755151,3760429,3777635,3798365,3811900,3835887,3850300,3882099,3902891,3914772,3918922,3931197,3951593,3987064,4016353,4051683,4084022,4113085,4150709,4181788,4219655,4257465,4298842,4336113,4377488,4404992,4430433,4452288,4469801,4505678,4547494,4597987]
["female",82,24364,24424,24773,25284,25605,25113,23952,21743,18897,21642,28841,29321,27278,26154,25240,24899,24948,25009,24872,25751,26327,26695,26373,25793,25729,26697,27239,27569,28421,28976,28620,26291,null,82,3779515,3784853,3802408,3823649,3837505,3861000,3874252,3903842,3921788,3936414,3947763,3960518,3978871,4013218,4041593,4076582,4108970,4138094,4175581,4207539,4245982,4284160,4325215,4361906,4403217,4431689,4457672,4479857,4498222,4534654,4576114,4624278]
["female",83,22677,22735,22648,23131,23512,23754,23450,22387,20279,17710,20396,27019,27479,25626,24760,23977,23599,23581,23728,23653,24461,25093,25478,25061,24646,24557,25434,25982,26221,27136,27753,27333,null,83,3802192,3807588,3825056,3846780,3861017,3884754,3897702,3926229,3942067,3954124,3968159,3987537,4006350,4038844,4066353,4100559,4132569,4161675,4199309,4231192,4270443,4309253,4350693,4386967,4427863,4456246,4483106,4505839,4524443,4561790,4603867,4651611]
["female",84,20783,21004,20860,20927,21369,21811,22037,21874,20715,18821,16454,19075,25149,25705,23934,23296,22506,22187,22282,22355,22291,23062,23739,23958,23684,23348,23297,24168,24537,24873,25835,26217,null,84,3822975,3828592,3845916,3867707,3882386,3906565,3919739,3948103,3962782,3972945,3984613,4006612,4031499,4064549,4090287,4123855,4155075,4183862,4221591,4253547,4292734,4332315,4374432,4410925,4451547,4479594,4506403,4530007,4548980,4586663,4629702,4677828]
["female",85,105145,109161,111663,114489,116195,117668,120741,123036,124934,18583,17339,15095,17653,23073,23812,22233,21761,20951,20689,20892,20917,20822,21759,22176,22421,22224,21975,21868,22593,22992,23501,24315,null,85,3928120,3937753,3957579,3982196,3998581,4024233,4040480,4071139,4087716,3991528,4001952,4021707,4049152,4087622,4114099,4146088,4176836,4204813,4242280,4274439,4313651,4353137,4396191,4433101,4473968,4501818,4528378,4551875,4571573,4609655,4653203,4702143]
["female",86,null,null,null,null,null,null,null,null,null,18261,16854,15762,13710,16333,21051,21986,20481,20129,19441,19181,19358,19340,19545,20119,20639,20748,20626,20462,20239,21048,21505,21721,null,86,3928120,3937753,3957579,3982196,3998581,4024233,4040480,4071139,4087716,4009789,4018806,4037469,4062862,4103955,4135150,4168074,4197317,4224942,4261721,4293620,4333009,4372477,4415736,4453220,4494607,4522566,4549004,4572337,4591812,4630703,4674708,4723864]
["female",87,null,null,null,null,null,null,null,null,null,16380,16400,15110,14266,12411,14963,18959,19991,18761,18479,17859,17523,17760,17849,17840,18455,18907,18999,18991,18734,18684,19541,19776,null,87,3928120,3937753,3957579,3982196,3998581,4024233,4040480,4071139,4087716,4026169,4035206,4052579,4077128,4116366,4150113,4187033,4217308,4243703,4280200,4311479,4350532,4390237,4433585,4471060,4513062,4541473,4568003,4591328,4610546,4649387,4694249,4743640]
["female",88,null,null,null,null,null,null,null,null,null,14293,14528,14572,13329,12831,11028,13707,16895,17974,16981,16859,16138,15800,16198,16128,16211,16772,17021,17385,17142,16987,17026,17717,null,88,3928120,3937753,3957579,3982196,3998581,4024233,4040480,4071139,4087716,4040462,4049734,4067151,4090457,4129197,4161141,4200740,4234203,4261677,4297181,4328338,4366670,4406037,4449783,4487188,4529273,4558245,4585024,4608713,4627688,4666374,4711275,4761357]
["female",89,null,null,null,null,null,null,null,null,null,12251,12440,12719,12818,11631,11239,9740,12376,14772,16018,15189,14990,14402,14173,14331,14474,14505,14883,15249,15320,15387,15319,15198,null,89,3928120,3937753,3957579,3982196,3998581,4024233,4040480,4071139,4087716,4052713,4062174,4079870,4103275,4140828,4172380,4210480,4246579,4276449,4313199,4343527,4381660,4420439,4463956,4501519,4543747,4572750,4599907,4623962,4643008,4681761,4726594,4776555]
["female","90+",null,null,null,null,null,null,null,null,null,46751,47744,48449,49558,50514,50637,50791,49273,50497,53913,57835,60366,61807,63784,63487,64304,64397,64165,65653,65276,65825,67185,67113,null,"90+",3928120,3937753,3957579,3982196,3998581,4024233,4040480,4071139,4087716,4099464,4109918,4128319,4152833,4191342,4223017,4261271,4295852,4326946,4367112,4401362,4442026,4482246,4527740,4565006,4608051,4637147,4664072,4689615,4708284,4747586,4793779,4843668]
[null,"All Females",{"$f":"SUM(C109:C199)","v":3928120},{"$f":"SUM(D109:D199)","v":3937753},3957579,3982196,3998581,4024233,4040480,4071139,4087716,4099464,4109918,4128319,4152833,4191342,4223017,4261271,4295852,4326946,4367112,4401362,4442026,4482246,4527740,4565006,4608051,4637147,4664072,{"$f":"SUM(AD109:AD199)","v":4689615},{"$f":"SUM(AE109:AE199)","v":4708284},{"$f":"SUM(AF109:AF199)","v":4747586},{"$f":"SUM(AG109:AG199)","v":4793779},{"$f":"SUM(AH109:AH199)","v":4843668}]

{"sheet":"Kent+Med","index":9,"n_rows":200,"n_cols":106,"rows_kept":200,"cut":false,"hidden":true,"merged":[[0,68,21,68]]}
["Mid Year Population Estimates",null,null,null,null,null,null,null,null,null,null,null,null,null,null,null,null,null,null,null,null,null,null,null,null,null,null,null,null,null,null,null,null,null,null,null,null,null,null,null,null,null,null,null,null,null,null,null,null,null,null,null,null,null,null,null,null,null,null,null,null,null,null,null,null,null,null,null,"Insert column here before extending the table"]
["ONS Mid-Year Population Estimates 1991 to 2022 - (1992 to 2001 Revised 7th October 2004) ( 2002 to 2010 revised in light of the 2011 census. Released 30 April 2013)",null,null,null,null,null,null,null,null,null,null,null,null,null,null,null,null,null,null,null,null,null,null,null,null,null,null,null,null,null,null,null,null,null,null,"Selected Ages:",null,{"$f":"Index!$C$4&\" : \"&Index!$C$7","v":"0 : 90"},null,null,null,null,null,null,null,null,null,null,null,null,null,null,null,null,null,null,null,null,null,null,null,null,null,null,null,null,null,null,null,null,null,null,"Start year","End Year","Number change","% Change"]
["Revised ONS Mid-Year Population Estimates 2012 to 2020- Released 23 November 2023",null,null,null,null,null,null,null,null,null,null,null,null,null,null,null,null,null,null,null,null,null,null,null,null,null,null,null,null,null,null,null,null,null,null,null,{"$f":"AK13","v":1992},{"$f":"AL13","v":1993},{"$f":"AM13","v":1994},{"$f":"AN13","v":1995},{"$f":"AO13","v":1996},{"$f":"AP13","v":1997},1998,1999,2000,2001,2002,2003,2004,2005,2006,2007,2008,2009,2010,2011,2012,2013,2014,2015,2016,2017,{"$f":"BK13","v":2018},2019,2020,2021,2022,2023,null,null,null,null,{"$f":"INDEX($AR3:$BL3,Index!$B$16)","v":1999},{"$f":"INDEX($AR3:$BM3,Index!$B$19)","v":2019}]
["2022 MYPE released 23 November 2023",null,null,null,null,null,null,null,null,null,null,null,null,null,null,null,null,null,null,null,null,null,null,null,null,null,null,null,null,null,null,null,null,null,null,"Males",{"$f":"OFFSET(AK16,Index!$B$7-1,0)-IF(Index!$B$4-2=-1,0,OFFSET(AK16,Index!$B$4-2,0))","v":742108},{"$f":"OFFSET(AL16,Index!$B$7-1,0)-IF(Index!$B$4-2=-1,0,OFFSET(AL16,Index!$B$4-2,0))","v":741861},{"$f":"OFFSET(AM16,Index!$B$7-1,0)-IF(Index!$B$4-2=-1,0,OFFSET(AM16,Index!$B$4-2,0))","v":744185},{"$f":"OFFSET(AN16,Index!$B$7-1,0)-IF(Index!$B$4-2=-1,0,OFFSET(AN16,Index!$B$4-2,0))","v":744982},{"$f":"OFFSET(AO16,Index!$B$7-1,0)-IF(Index!$B$4-2=-1,0,OFFSET(AO16,Index!$B$4-2,0))","v":747287},{"$f":"OFFSET(AP16,Index!$B$7-1,0)-IF(Index!$B$4-2=-1,0,OFFSET(AP16,Index!$B$4-2,0))","v":750327},{"$f":"OFFSET(AQ16,Index!$B$7-1,0)-IF(Index!$B$4-2=-1,0,OFFSET(AQ16,Index!$B$4-2,0))","v":753919},{"$f":"OFFSET(AR16,Index!$B$7-1,0)-IF(Index!$B$4-2=-1,0,OFFSET(AR16,Index!$B$4-2,0))","v":758772},{"$f":"OFFSET(AS16,Index!$B$7-1,0)-IF(Index!$B$4-2=-1,0,OFFSET(AS16,Index!$B$4-2,0))","v":763956},{"$f":"OFFSET(AT16,Index!$B$7-1,0)-IF(Index!$B$4-2=-1,0,OFFSET(AT16,Index!$B$4-2,0))","v":767781},{"$f":"OFFSET(AU16,Index!$B$7-1,0)-IF(Index!$B$4-2=-1,0,OFFSET(AU16,Index!$B$4-2,0))","v":772494},{"$f":"OFFSET(AV16,Index!$B$7-1,0)-IF(Index!$B$4-2=-1,0,OFFSET(AV16,Index!$B$4-2,0))","v":778707},{"$f":"OFFSET(AW16,Index!$B$7-1,0)-IF(Index!$B$4-2=-1,0,OFFSET(AW16,Index!$B$4-2,0))","v":785055},{"$f":"OFFSET(AX16,Index!$B$7-1,0)-IF(Index!$B$4-2=-1,0,OFFSET(AX16,Index!$B$4-2,0))","v":791843},{"$f":"OFFSET(AY16,Index!$B$7-1,0)-IF(Index!$B$4-2=-1,0,OFFSET(AY16,Index!$B$4-2,0))","v":800500},{"$f":"OFFSET(AZ16,Index!$B$7-1,0)-IF(Index!$B$4-2=-1,0,OFFSET(AZ16,Index!$B$4-2,0))","v":811663},{"$f":"OFFSET(BA16,Index!$B$7-1,0)-IF(Index!$B$4-2=-1,0,OFFSET(BA16,Index!$B$4-2,0))","v":821304},{"$f":"OFFSET(BB16,Index!$B$7-1,0)-IF(Index!$B$4-2=-1,0,OFFSET(BB16,Index!$B$4-2,0))","v":829008},{"$f":"OFFSET(BC16,Index!$B$7-1,0)-IF(Index!$B$4-2=-1,0,OFFSET(BC16,Index!$B$4-2,0))","v":839553},{"$f":"OFFSET(BD16,Index!$B$7-1,0)-IF(Index!$B$4-2=-1,0,OFFSET(BD16,Index!$B$4-2,0))","v":848602},{"$f":"OFFSET(BE16,Index!$B$7-1,0)-IF(Index!$B$4-2=-1,0,OFFSET(BE16,Index!$B$4-2,0))","v":855509},{"$f":"OFFSET(BF16,Index!$B$7-1,0)-IF(Index!$B$4-2=-1,0,OFFSET(BF16,Index!$B$4-2,0))","v":862601},{"$f":"OFFSET(BG16,Index!$B$7-1,0)-IF(Index!$B$4-2=-1,0,OFFSET(BG16,Index!$B$4-2,0))","v":871727},{"$f":"OFFSET(BH16,Index!$B$7-1,0)-IF(Index!$B$4-2=-1,0,OFFSET(BH16,Index!$B$4-2,0))","v":877965},{"$f":"OFFSET(BI16,Index!$B$7-1,0)-IF(Index!$B$4-2=-1,0,OFFSET(BI16,Index!$B$4-2,0))","v":885399},{"$f":"OFFSET(BJ16,Index!$B$7-1,0)-IF(Index!$B$4-2=-1,0,OFFSET(BJ16,Index!$B$4-2,0))","v":891728},{"$f":"OFFSET(BK16,Index!$B$7-1,0)-IF(Index!$B$4-2=-1,0,OFFSET(BK16,Index!$B$4-2,0))","v":895741},{"$f":"OFFSET(BL16,Index!$B$7-1,0)-IF(Index!$B$4-2=-1,0,OFFSET(BL16,Index!$B$4-2,0))","v":900359},{"$f":"OFFSET(BM16,Index!$B$7-1,0)-IF(Index!$B$4-2=-1,0,OFFSET(BM16,Index!$B$4-2,0))","v":902514},{"$f":"OFFSET(BN16,Index!$B$7-1,0)-IF(Index!$B$4-2=-1,0,OFFSET(BN16,Index!$B$4-2,0))","v":906549},{"$f":"OFFSET(BO16,Index!$B$7-1,0)-IF(Index!$B$4-2=-1,0,OFFSET(BO16,Index!$B$4-2,0))","v":915352},{"$f":"OFFSET(BP16,Index!$B$7-1,0)-IF(Index!$B$4-2=-1,0,OFFSET(BP16,Index!$B$4-2,0))","v":924390},null,null,null,null,{"$f":"INDEX($AR4:$BL4,Index!$B$16)","v":758772},{"$f":"INDEX($AR4:$BM4,Index!$B$19)","v":900359},{"$f":"BV4-BU4","v":141587},{"$f":"BW4/BU4","v":0.18660019083466442}]
[null,null,null,null,null,null,null,null,null,null,null,null,null,null,null,null,null,null,null,null,null,null,null,null,null,null,null,null,null,null,null,null,null,null,null,"Females",{"$f":"OFFSET(AK109,Index!$B$7-1,0)-IF(Index!$B$4-2=-1,0,OFFSET(AK109,Index!$B$4-2,0))","v":786813},{"$f":"OFFSET(AL109,Index!$B$7-1,0)-IF(Index!$B$4-2=-1,0,OFFSET(AL109,Index!$B$4-2,0))","v":786561},{"$f":"OFFSET(AM109,Index!$B$7-1,0)-IF(Index!$B$4-2=-1,0,OFFSET(AM109,Index!$B$4-2,0))","v":788500},{"$f":"OFFSET(AN109,Index!$B$7-1,0)-IF(Index!$B$4-2=-1,0,OFFSET(AN109,Index!$B$4-2,0))","v":790173},{"$f":"OFFSET(AO109,Index!$B$7-1,0)-IF(Index!$B$4-2=-1,0,OFFSET(AO109,Index!$B$4-2,0))","v":791663},{"$f":"OFFSET(AP109,Index!$B$7-1,0)-IF(Index!$B$4-2=-1,0,OFFSET(AP109,Index!$B$4-2,0))","v":795092},{"$f":"OFFSET(AQ109,Index!$B$7-1,0)-IF(Index!$B$4-2=-1,0,OFFSET(AQ109,Index!$B$4-2,0))","v":798145},{"$f":"OFFSET(AR109,Index!$B$7-1,0)-IF(Index!$B$4-2=-1,0,OFFSET(AR109,Index!$B$4-2,0))","v":804331},{"$f":"OFFSET(AS109,Index!$B$7-1,0)-IF(Index!$B$4-2=-1,0,OFFSET(AS109,Index!$B$4-2,0))","v":809197},{"$f":"OFFSET(AT109,Index!$B$7-1,0)-IF(Index!$B$4-2=-1,0,OFFSET(AT109,Index!$B$4-2,0))","v":813117},{"$f":"OFFSET(AU109,Index!$B$7-1,0)-IF(Index!$B$4-2=-1,0,OFFSET(AU109,Index!$B$4-2,0))","v":816736},{"$f":"OFFSET(AV109,Index!$B$7-1,0)-IF(Index!$B$4-2=-1,0,OFFSET(AV109,Index!$B$4-2,0))","v":821498},{"$f":"OFFSET(AW109,Index!$B$7-1,0)-IF(Index!$B$4-2=-1,0,OFFSET(AW109,Index!$B$4-2,0))","v":827788},{"$f":"OFFSET(AX109,Index!$B$7-1,0)-IF(Index!$B$4-2=-1,0,OFFSET(AX109,Index!$B$4-2,0))","v":835472},{"$f":"OFFSET(AY109,Index!$B$7-1,0)-IF(Index!$B$4-2=-1,0,OFFSET(AY109,Index!$B$4-2,0))","v":842612},{"$f":"OFFSET(AZ109,Index!$B$7-1,0)-IF(Index!$B$4-2=-1,0,OFFSET(AZ109,Index!$B$4-2,0))","v":851952},{"$f":"OFFSET(BA109,Index!$B$7-1,0)-IF(Index!$B$4-2=-1,0,OFFSET(BA109,Index!$B$4-2,0))","v":860228},{"$f":"OFFSET(BB109,Index!$B$7-1,0)-IF(Index!$B$4-2=-1,0,OFFSET(BB109,Index!$B$4-2,0))","v":866491},{"$f":"OFFSET(BC109,Index!$B$7-1,0)-IF(Index!$B$4-2=-1,0,OFFSET(BC109,Index!$B$4-2,0))","v":875090},{"$f":"OFFSET(BD109,Index!$B$7-1,0)-IF(Index!$B$4-2=-1,0,OFFSET(BD109,Index!$B$4-2,0))","v":882749},{"$f":"OFFSET(BE109,Index!$B$7-1,0)-IF(Index!$B$4-2=-1,0,OFFSET(BE109,Index!$B$4-2,0))","v":890897},{"$f":"OFFSET(BF109,Index!$B$7-1,0)-IF(Index!$B$4-2=-1,0,OFFSET(BF109,Index!$B$4-2,0))","v":898504},{"$f":"OFFSET(BG109,Index!$B$7-1,0)-IF(Index!$B$4-2=-1,0,OFFSET(BG109,Index!$B$4-2,0))","v":908437},{"$f":"OFFSET(BH109,Index!$B$7-1,0)-IF(Index!$B$4-2=-1,0,OFFSET(BH109,Index!$B$4-2,0))","v":915088},{"$f":"OFFSET(BI109,Index!$B$7-1,0)-IF(Index!$B$4-2=-1,0,OFFSET(BI109,Index!$B$4-2,0))","v":923127},{"$f":"OFFSET(BJ109,Index!$B$7-1,0)-IF(Index!$B$4-2=-1,0,OFFSET(BJ109,Index!$B$4-2,0))","v":929631},{"$f":"OFFSET(BK109,Index!$B$7-1,0)-IF(Index!$B$4-2=-1,0,OFFSET(BK109,Index!$B$4-2,0))","v":935939},{"$f":"OFFSET(BL109,Index!$B$7-1,0)-IF(Index!$B$4-2=-1,0,OFFSET(BL109,Index!$B$4-2,0))","v":942333},{"$f":"OFFSET(BM109,Index!$B$7-1,0)-IF(Index!$B$4-2=-1,0,OFFSET(BM109,Index!$B$4-2,0))","v":945821},{"$f":"OFFSET(BN109,Index!$B$7-1,0)-IF(Index!$B$4-2=-1,0,OFFSET(BN109,Index!$B$4-2,0))","v":951906},{"$f":"OFFSET(BO109,Index!$B$7-1,0)-IF(Index!$B$4-2=-1,0,OFFSET(BO109,Index!$B$4-2,0))","v":961758},{"$f":"OFFSET(BP109,Index!$B$7-1,0)-IF(Index!$B$4-2=-1,0,OFFSET(BP109,Index!$B$4-2,0))","v":972661},null,null,null,null,{"$f":"INDEX($AR5:$BL5,Index!$B$16)","v":804331},{"$f":"INDEX($AR5:$BM5,Index!$B$19)","v":942333},{"$f":"BV5-BU5","v":138002},{"$f":"BW5/BU5","v":0.17157364318918455}]
[null,null,null,null,null,null,null,null,null,null,null,null,null,null,null,null,null,null,null,null,null,null,null,null,null,null,null,null,null,null,null,null,null,null,null,"Total",{"$f":"SUM(AK4:AK5)","v":1528921},{"$f":"SUM(AL4:AL5)","v":1528422},{"$f":"SUM(AM4:AM5)","v":1532685},{"$f":"SUM(AN4:AN5)","v":1535155},{"$f":"SUM(AO4:AO5)","v":1538950},{"$f":"SUM(AP4:AP5)","v":1545419},1552064,1563103,1573153,1580898,1589230,1600205,1612843,1627315,1643112,1663615,1681532,1695499,1714643,1731351,1746406,1761105,1780164,1793053,1808526,1821359,1831680,1842692,1848335,1858455,1877110,1897051,null,null,null,null,{"$f":"INDEX($AR6:$BL6,Index!$B$16)","v":1563103},{"$f":"INDEX($AR6:$BM6,Index!$B$19)","v":1842692},{"$f":"BV6-BU6","v":279589},{"$f":"BW6/BU6","v":0.17886793128795736}]
[]
[null,null,null,null,null,null,null,null,null,null,null,null,null,null,null,null,null,null,null,null,null,null,null,null,null,null,null,null,null,null,null,null,null,null,null,"Males",{"$f":"IF(AK4<0,\"0\",AK4)","v":742108},{"$f":"IF(AL4<0,\"0\",AL4)","v":741861},744185,744982,747287,750327,753919,758772,763956,767781,772494,778707,785055,791843,800500,811663,821304,829008,839553,848602,855509,862601,871727,877965,885399,891728,{"$f":"IF(BK4<0,\"0\",BK4)","v":895741},900359,902514,{"$f":"IF(BN4<0,\"0\",BN4)","v":906549},915352,{"$f":"IF(BP4<0,\"0\",BP4)","v":924390}]
[null,null,null,null,null,null,null,null,null,null,null,null,null,null,null,null,null,null,null,null,null,null,null,null,null,null,null,null,null,null,null,null,null,null,null,"Females",{"$f":"IF(AK5<0,\"0\",AK5)","v":786813},786561,788500,790173,791663,795092,798145,804331,809197,813117,816736,821498,827788,835472,842612,851952,860228,866491,875090,882749,890897,898504,908437,915088,923127,929631,935939,942333,945821,{"$f":"IF(BN5<0,\"0\",BN5)","v":951906},961758,{"$f":"IF(BP5<0,\"0\",BP5)","v":972661}]
[null,null,null,null,null,null,null,null,null,null,null,null,null,null,null,null,null,null,null,null,null,null,null,null,null,null,null,null,null,null,null,null,null,null,null,"Total",{"$f":"SUM(AK8:AK9)","v":1528921},{"$f":"SUM(AL8:AL9)","v":1528422},1532685,1535155,1538950,1545419,1552064,1563103,1573153,1580898,1589230,1600205,1612843,1627315,1643112,1663615,1681532,1695499,1714643,1731351,1746406,1761105,1780164,1793053,1808526,1821359,{"$f":"SUM(BK8:BK9)","v":1831680},1842692,1848335,1858455,1877110,1897051]
[]
[null,null,null,"MYE for  . . . . . .",null,null,null,"Kent + Medway",null,null,null,null,null,null,null,null,null,null,null,null,null,null,null,null,null,null,null,null,null,null,null,null,null,null,null,null,null,null,null,null,"Cummulative Ages",null,null,null,null,null,null,null,null,null,null,null,null,null,null,null,null,null,null,null,null,null,null,null,null,null,null,null,null,"Population Pyramid Data"]
[null,null,"Base Year",null,null,null,null,null,null,null,null,null,null,null,null,null,null,null,null,null,null,null,null,null,null,null,null,null,null,null,null,null,null,null,null,null,{"$f":"C14","v":1992},1993,1994,1995,1996,1997,1998,1999,2000,2001,2002,2003,2004,2005,2006,2007,2008,2009,2010,2011,2012,2013,2014,2015,2016,2017,2018,2019,2020,2021,2022,2023]
["Sex","Age",1992,1993,1994,1995,1996,1997,1998,1999,2000,2001,2002,2003,2004,2005,2006,2007,2008,2009,2010,2011,2012,2013,2014,2015,2016,2017,2018,2019,2020,2021,2022,2023,null,null,null,null,null,null,null,null,null,null,null,null,null,null,null,null,null,null,null,null,null,null,null,null,null,null,null,null,null,null,null,null,null,null,null,null,null,null,1992,1993,1994,1995,1996,1997,1998,1999,2000,2001,2002,2003,2004,2005,2006,2007,2008,2009,2010,2011,2012,2013,2014,2015,2016,2017,2018,2019,2020,2021,2022,2023,null,{"$f":"INDEX(CC14:CY14,'Population Pyramid'!$L$1)","v":2020}]
[null,"All persons",{"$f":"SUM(C107,C200)","v":1528921},{"$f":"SUM(D107,D200)","v":1528422},1532685,1535155,1538950,1545419,1552064,1563103,1573153,1580898,1589230,1600205,1612843,1627315,1643112,1663615,1681532,1695499,1714643,1731351,1746406,1761105,1780164,1793053,1808526,1821359,1831680,{"$f":"SUM(AD107,AD200)","v":1842692},{"$f":"SUM(AE107,AE200)","v":1848335},{"$f":"SUM(AF107,AF200)","v":1858455},{"$f":"SUM(AG107,AG200)","v":1877110},{"$f":"SUM(AH107,AH200)","v":1897051},null,"Males",null,null,null,null,null,null,null,null,null,null,null,null,null,null,null,null,null,null,null,null,null,null,null,null,null,null,null,null,null,null,null,null,null,"Males","All Ages",null,{"$f":"C107","v":742108},741861,744185,744982,747287,750327,753919,758772,763956,767781,772494,778707,785055,791843,800500,811663,821304,829008,839553,848602,855509,862601,871727,877965,885399,891728,895741,900359,902514,906549,915352,924390,null,{"$f":"INDEX(CC15:CY15,'Population Pyramid'!$L$1)","v":902514}]
["male",0,10610,10215,10228,9700,9736,9862,9642,9729,9376,8828,9166,9246,9592,9571,9965,10361,10408,10587,10703,11013,11146,10797,10566,10546,10699,10670,10686,10419,10135,9905,10291,10018,null,0,{"$f":"C16","v":10610},10215,10228,9700,9736,9862,9642,9729,9376,8828,9166,9246,9592,9571,9965,10361,10408,10587,10703,11013,11146,10797,10566,10546,10699,10670,10686,10419,10135,9905,10291,10018,null,"Males","0-4",null,{"$f":"SUM(C16:C20)","v":52610},52117,52045,51561,50924,50335,49738,49827,49581,48473,48027,47868,47747,47765,48707,50187,51460,52439,53756,54626,55352,55653,55816,55802,55531,55060,54774,54542,54018,53632,54039,54056,null,{"$f":"INDEX(CC16:CY16,'Population Pyramid'!$L$1)","v":54018}]
["male",1,10422,10570,10193,10329,9695,9795,9866,9832,9826,9466,9000,9277,9390,9681,9722,10176,10537,10525,10725,10811,11203,11307,10995,10778,10729,10875,10826,10864,10563,10506,10224,10682,null,1,{"$f":"AK16+C17","v":21032},{"$f":"AL16+D17","v":20785},{"$f":"AM16+E17","v":20421},{"$f":"AN16+F17","v":20029},{"$f":"AO16+G17","v":19431},{"$f":"AP16+H17","v":19657},{"$f":"AQ16+I17","v":19508},{"$f":"AR16+J17","v":19561},{"$f":"AS16+K17","v":19202},{"$f":"AT16+L17","v":18294},{"$f":"AU16+M17","v":18166},{"$f":"AV16+N17","v":18523},{"$f":"AW16+O17","v":18982},{"$f":"AX16+P17","v":19252},{"$f":"AY16+Q17","v":19687},{"$f":"AZ16+R17","v":20537},{"$f":"BA16+S17","v":20945},{"$f":"BB16+T17","v":21112},{"$f":"BC16+U17","v":21428},{"$f":"BD16+V17","v":21824},{"$f":"BE16+W17","v":22349},{"$f":"BF16+X17","v":22104},{"$f":"BG16+Y17","v":21561},{"$f":"BH16+Z17","v":21324},{"$f":"BI16+AA17","v":21428},{"$f":"BJ16+AB17","v":21545},{"$f":"BK16+AC17","v":21512},{"$f":"BL16+AD17","v":21283},{"$f":"BM16+AE17","v":20698},{"$f":"BN16+AF17","v":20411},{"$f":"BO16+AG17","v":20515},20700,null,"Males","5-9",null,{"$f":"SUM(C21:C25)","v":49522},50677,51587,52083,52742,53497,53446,54351,54086,53624,53365,53140,53003,52697,51961,51351,50806,50537,50660,51687,52951,54205,55322,56410,57343,58321,58866,58848,58497,58128,58562,59618,null,{"$f":"INDEX(CC17:CY17,'Population Pyramid'!$L$1)","v":58497}]
["male",2,10449,10463,10650,10285,10410,9803,9905,10125,9914,9967,9615,9234,9425,9494,9825,9905,10435,10635,10741,10891,10955,11285,11531,11161,10955,10904,11006,10988,10936,10808,10849,10603,null,2,31481,31248,31071,30314,29841,29460,29413,29686,29116,28261,27781,27757,28407,28746,29512,30442,31380,31747,32169,32715,33304,33389,33092,32485,32383,32449,32518,32271,31634,31219,31364,31303,null,"Males","10-14",null,{"$f":"SUM(C26:C30)","v":49260},49554,49330,49617,49904,50630,52109,53625,54159,55221,56144,56648,57142,56953,56629,56247,56097,55771,55636,54901,53843,52975,52822,53155,54206,55566,56656,57575,58677,59682,61696,63138,null,{"$f":"INDEX(CC18:CY18,'Population Pyramid'!$L$1)","v":58677}]
["male",3,10463,10449,10518,10696,10349,10473,9856,10086,10238,9933,10143,9801,9403,9487,9641,9964,10013,10581,10844,10927,11003,11125,11437,11703,11344,11107,11016,11100,11104,11158,11134,11226,null,3,41944,41697,41589,41010,40190,39933,39269,39772,39354,38194,37924,37558,37810,38233,39153,40406,41393,42328,43013,43642,44307,44514,44529,44188,43727,43556,43534,43371,42738,42377,42498,42529,null,"Males","15-19",null,{"$f":"SUM(C31:C35)","v":49248},47498,46643,46049,46413,47067,48427,48824,49429,50090,51119,52653,53869,54434,55768,57305,57682,58671,59110,59039,57809,57517,56796,55964,54969,54095,53423,53379,53625,54517,55558,57293,null,{"$f":"INDEX(CC19:CY19,'Population Pyramid'!$L$1)","v":53625}]
["male",4,10666,10420,10456,10551,10734,10402,10469,10055,10227,10279,10103,10310,9937,9532,9554,9781,10067,10111,10743,10984,11045,11139,11287,11614,11804,11504,11240,11171,11280,11255,11541,11527,null,4,52610,52117,52045,51561,50924,50335,49738,49827,49581,48473,48027,47868,47747,47765,48707,50187,51460,52439,53756,54626,55352,55653,55816,55802,55531,55060,54774,54542,54018,53632,54039,54056,null,"Males","20-24",null,{"$f":"SUM(C36:C40)","v":53966},52312,49927,47607,44926,42317,40387,39174,40383,42521,43038,43564,44064,44936,46203,48298,49999,50552,52126,53958,54778,55296,56543,55569,54854,53872,52296,51465,50735,49897,48654,47360,null,{"$f":"INDEX(CC20:CY20,'Population Pyramid'!$L$1)","v":50735}]
["male",5,10179,10641,10415,10475,10593,10779,10430,10696,10177,10306,10412,10272,10473,10011,9665,9716,9867,10141,10228,10865,11024,11121,11278,11398,11709,11916,11606,11282,11234,11390,11565,11938,null,5,62789,62758,62460,62036,61517,61114,60168,60523,59758,58779,58439,58140,58220,57776,58372,59903,61327,62580,63984,65491,66376,66774,67094,67200,67240,66976,66380,65824,65252,65022,65604,65994,null,"Males","25-29",null,{"$f":"SUM(C41:C45)","v":57383},56458,56798,55973,55431,54962,53987,50448,47904,44786,43191,42522,42967,44101,45360,46986,48425,48584,49221,50060,50831,51798,52858,53238,54216,55025,54648,54505,53461,52439,51829,51792,null,{"$f":"INDEX(CC21:CY21,'Population Pyramid'!$L$1)","v":53461}]
["male",6,10095,10205,10695,10501,10584,10717,10884,10726,10768,10282,10462,10525,10432,10534,10139,9802,9818,9970,10213,10346,10875,11101,11233,11391,11453,11784,11993,11658,11315,11272,11651,11826,null,6,72884,72963,73155,72537,72101,71831,71052,71249,70526,69061,68901,68665,68652,68310,68511,69705,71145,72550,74197,75837,77251,77875,78327,78591,78693,78760,78373,77482,76567,76294,77255,77820,null,"Males","30-34",null,{"$f":"SUM(C46:C50)","v":53809},54746,56043,57125,58152,58677,58351,57807,56736,55134,53915,52962,51449,49988,48567,47272,46596,47172,48233,49136,50219,51108,51455,52181,53091,54219,55465,56602,56881,57561,58311,58361,null,{"$f":"INDEX(CC22:CY22,'Population Pyramid'!$L$1)","v":56881}]
["male",7,10012,10077,10218,10714,10524,10637,10782,11057,10859,10835,10396,10627,10659,10550,10621,10270,9927,9905,10051,10310,10384,10939,11146,11316,11514,11565,11902,12125,11696,11384,11617,11987,null,7,82896,83040,83373,83251,82625,82468,81834,82306,81385,79896,79297,79292,79311,78860,79132,79975,81072,82455,84248,86147,87635,88814,89473,89907,90207,90325,90275,89607,88263,87678,88872,89807,null,"Males","35-39",null,{"$f":"SUM(C51:C55)","v":50037},50265,51173,51883,53351,54330,55476,57607,59582,60682,61414,61550,60923,60139,59315,58882,57952,56270,55053,52915,51141,50212,50661,51878,53552,54919,55939,56180,56435,57148,58668,60638,null,{"$f":"INDEX(CC23:CY23,'Population Pyramid'!$L$1)","v":56435}]
["male",8,9647,10093,10121,10271,10760,10591,10731,11026,11152,10949,11030,10550,10759,10741,10695,10744,10354,10052,9993,10082,10444,10513,11046,11220,11396,11578,11699,11983,12190,11810,11651,11945,null,8,92543,93133,93494,93522,93385,93059,92565,93332,92537,90845,90327,89842,90070,89601,89827,90719,91426,92507,94241,96229,98079,99327,100519,101127,101603,101903,101974,101590,100453,99488,100523,101752,null,"Males","40-44",null,{"$f":"SUM(C56:C60)","v":54024},51334,50241,49539,49076,49678,50503,51741,53357,55128,56694,58061,59866,61834,63328,64193,64676,64494,63567,62967,62026,60612,59176,57866,55986,54574,53780,54317,55160,56701,58407,60233,null,{"$f":"INDEX(CC24:CY24,'Population Pyramid'!$L$1)","v":55160}]
["male",9,9589,9661,10138,10122,10281,10773,10619,10846,11130,11252,11065,11166,10680,10861,10841,10819,10840,10469,10175,10084,10224,10531,10619,11085,11271,11478,11666,11800,12062,12272,12078,11922,null,9,102132,102794,103632,103644,103666,103832,103184,104178,103667,102097,101392,101008,100750,100462,100668,101538,102266,102976,104416,106313,108303,109858,111138,112212,112874,113381,113640,113390,112515,111760,112601,113674,null,"Males","45-49",null,{"$f":"SUM(C61:C65)","v":54512},56973,57630,57624,56966,53107,50637,50038,49723,49706,50313,51705,52867,54302,56258,57783,59449,61216,63311,64670,65371,65664,65699,64885,64348,63433,62189,60587,59369,57581,56432,56127,null,{"$f":"INDEX(CC25:CY25,'Population Pyramid'!$L$1)","v":59369}]
["male",10,9711,9567,9717,10231,10140,10299,10791,10825,10934,11204,11345,11217,11326,10786,10986,10960,10920,10944,10579,10297,10168,10346,10651,10739,11153,11362,11532,11796,11896,12145,12521,12373,null,10,111843,112361,113349,113875,113806,114131,113975,115003,114601,113301,112737,112225,112076,111248,111654,112498,113186,113920,114995,116610,118471,120204,121789,122951,124027,124743,125172,125186,124411,123905,125122,126047,null,"Males","50-54",null,{"$f":"SUM(C66:C70)","v":42036},43003,44451,46163,48881,53477,56019,56957,56982,56320,52877,50653,49881,49607,49646,50844,52119,53264,54590,56308,58137,59912,61685,63775,65301,65707,65850,65581,64433,63895,63180,62018,null,{"$f":"INDEX(CC26:CY26,'Population Pyramid'!$L$1)","v":64433}]
["male",11,9984,9712,9589,9781,10305,10174,10371,10927,10892,11012,11329,11452,11313,11422,10849,11092,11035,11056,11051,10662,10374,10235,10464,10797,10870,11258,11438,11640,12009,12016,12512,12901,null,11,121827,122073,122938,123656,124111,124305,124346,125930,125493,124313,124066,123677,123389,122670,122503,123590,124221,124976,126046,127272,128845,130439,132253,133748,134897,136001,136610,136826,136420,135921,137634,138948,null,"Males","55-59",null,{"$f":"SUM(C71:C75)","v":38411},39282,40291,40810,40610,41076,42013,43561,45358,47978,52317,54839,55784,56057,55545,52006,49955,49398,49256,49579,50745,51561,52835,54092,55773,57604,59367,60753,62519,63734,64193,64337,null,{"$f":"INDEX(CC27:CY27,'Population Pyramid'!$L$1)","v":62519}]
["male",12,10131,10027,9784,9657,9864,10399,10269,10583,11069,11012,11134,11514,11580,11396,11547,10979,11226,11209,11194,11137,10683,10428,10338,10570,10940,11042,11370,11576,11730,12056,12334,12832,null,12,131958,132100,132722,133313,133975,134704,134615,136513,136562,135325,135200,135191,134969,134066,134050,134569,135447,136185,137240,138409,139528,140867,142591,144318,145837,147043,147980,148402,148150,147977,149968,151780,null,"Males","60-64",null,{"$f":"SUM(C76:C80)","v":36372},36222,36311,36484,36654,36967,37858,38895,39393,39279,39596,40490,41756,43412,46126,50629,53391,54293,54772,54332,50813,49093,48452,48271,48480,49335,50104,51257,52263,53819,55442,56986,null,{"$f":"INDEX(CC28:CY28,'Population Pyramid'!$L$1)","v":52263}]
["male",13,10080,10103,10039,9795,9678,9926,10575,10485,10613,11126,11100,11217,11580,11664,11450,11675,11068,11328,11313,11341,11179,10706,10515,10434,10657,11104,11091,11360,11617,11771,12272,12529,null,13,142038,142203,142761,143108,143653,144630,145190,146998,147175,146451,146300,146408,146549,145730,145500,146244,146515,147513,148553,149750,150707,151573,153106,154752,156494,158147,159071,159762,159767,159748,162240,164309,null,"Males","65-69",null,{"$f":"SUM(C81:C85)","v":32900},32648,32645,32855,33140,33459,33594,33689,34088,34368,34607,35262,36043,36536,36368,36849,37919,39567,41379,44045,48738,51309,52316,52702,52237,48643,46742,45964,45580,45570,46446,47116,null,{"$f":"INDEX(CC29:CY29,'Population Pyramid'!$L$1)","v":45580}]
["male",14,9354,10145,10201,10153,9917,9832,10103,10805,10651,10867,11236,11248,11343,11685,11797,11541,11848,11234,11499,11464,11439,11260,10854,10615,10586,10800,11225,11203,11425,11694,12057,12503,null,14,151392,152348,152962,153261,153570,154462,155293,157803,157826,157318,157536,157656,157892,157415,157297,157785,158363,158747,160052,161214,162146,162833,163960,165367,167080,168947,170296,170965,171192,171442,174297,176812,null,"Males","70-74",null,{"$f":"SUM(C86:C90)","v":28777},29927,30388,28914,28107,27796,27696,28140,28585,29096,29539,29797,29847,30079,30376,30861,31681,32600,33210,33101,33813,35080,36781,38384,40723,45053,47328,47940,48071,47430,44219,42424,null,{"$f":"INDEX(CC30:CY30,'Population Pyramid'!$L$1)","v":48071}]
["male",15,9188,9306,10118,10175,10128,9908,9827,10237,10844,10728,10804,11258,11299,11392,11823,11952,11650,12009,11425,11665,11491,11502,11369,10920,10645,10721,10879,11289,11222,11455,11944,12298,null,15,160580,161654,163080,163436,163698,164370,165120,168040,168670,168046,168340,168914,169191,168807,169120,169737,170013,170756,171477,172879,173637,174335,175329,176287,177725,179668,181175,182254,182414,182897,186241,189110,null,"Males","75-79",null,{"$f":"SUM(C91:C95)","v":20227},19171,18565,20139,21157,22053,22992,23308,22534,22091,22116,22207,22581,23117,23809,24430,24811,25094,25429,25901,26446,27281,28215,28711,28766,29286,30413,31853,33097,34903,38771,40662,null,{"$f":"INDEX(CC31:CY31,'Population Pyramid'!$L$1)","v":33097}]
["male",16,9696,9118,9243,10081,10137,10109,9898,9836,10225,10936,10704,10774,11281,11363,11436,11922,12019,11718,12175,11525,11640,11542,11536,11428,10935,10701,10794,10949,11301,11262,11729,12200,null,16,170276,170772,172323,173517,173835,174479,175018,177876,178895,178982,179044,179688,180472,180170,180556,181659,182032,182474,183652,184404,185277,185877,186865,187715,188660,190369,191969,193203,193715,194159,197970,201310,null,"Males","80-84",null,{"$f":"SUM(C96:C100)","v":12377},12626,12862,13050,13149,12957,12469,12171,13295,14379,15067,15740,15920,15664,15525,15809,16119,16743,17379,18054,18558,18923,19229,19613,19979,20474,21028,21777,22191,22037,22542,23316,null,{"$f":"INDEX(CC32:CY32,'Population Pyramid'!$L$1)","v":22191}]
["male",17,10015,9521,9070,9155,10012,10069,10041,9795,9707,10286,10828,10686,10732,11242,11425,11505,11982,12077,11864,12295,11468,11589,11581,11579,11509,10912,10700,10826,10929,11358,11439,11884,null,17,180291,180293,181393,182672,183847,184548,185059,187671,188602,189268,189872,190374,191204,191412,191981,193164,194014,194551,195516,196699,196745,197466,198446,199294,200169,201281,202669,204029,204644,205517,209409,213194,null,"Males","85+",null,{"$f":"SUM(C101:C106)","v":6637},7048,7255,7506,7704,7942,8217,8609,8781,8905,9155,9046,9346,10222,11009,11731,12167,12343,12865,13323,13938,14402,15066,15469,16044,16542,16873,17234,17502,17875,18403,18915,null,{"$f":"INDEX(CC33:CY33,'Population Pyramid'!$L$1)","v":17502}]
["male",18,10331,9893,9375,8753,8834,9678,9849,9868,9562,9547,10100,10770,10661,10678,11216,11468,11527,12026,12158,11929,12168,11474,11478,11470,11410,11300,10830,10553,10658,10825,11140,11192,null,18,190622,190186,190768,191425,192681,194226,194908,197539,198164,198815,199972,201144,201865,202090,203197,204632,205541,206577,207674,208628,208913,208940,209924,210764,211579,212581,213499,214582,215302,216342,220549,224386]
["male",19,10018,9660,8837,7885,7302,7303,8812,9088,9091,8593,8683,9165,9896,9759,9868,10458,10504,10841,11488,11625,11042,11410,10832,10567,10470,10461,10220,9762,9515,9617,9306,9719,null,19,200640,199846,199605,199310,199983,201529,203720,206627,207255,207408,208655,210309,211761,211849,213065,215090,216045,217418,219162,220253,219955,220350,220756,221331,222049,223042,223719,224344,224817,225959,229855,234105,null,"Females","All Ages",null,{"$f":"C200","v":786813},786561,788500,790173,791663,795092,798145,804331,809197,813117,816736,821498,827788,835472,842612,851952,860228,866491,875090,882749,890897,898504,908437,915088,923127,929631,935939,942333,945821,951906,961758,972661,null,{"$f":"INDEX(CC35:CY35,'Population Pyramid'!$L$1)","v":945821}]
["male",20,10745,9837,8589,7876,7014,6568,7003,8471,8662,8903,8186,8279,8718,9503,9615,9779,10222,10178,10698,11231,11295,11134,11325,10380,10419,10251,10219,10071,9646,9420,9281,8941,null,20,211385,209683,208194,207186,206997,208097,210723,215098,215917,216311,216841,218588,220479,221352,222680,224869,226267,227596,229860,231484,231250,231484,232081,231711,232468,233293,233938,234415,234463,235379,239136,243046,null,"Females","0-4",null,{"$f":"SUM(C109:C113)","v":50301},49919,49837,49364,48649,48147,47638,47806,46998,45827,45384,44976,45195,45363,46215,47515,48843,49702,51097,51944,52691,52653,52898,52780,52589,52218,52049,51669,51059,50670,50900,50823,null,{"$f":"INDEX(CC36:CY36,'Population Pyramid'!$L$1)","v":51059}]
["male",21,10696,10531,8954,8349,7844,7253,6883,7264,8508,8746,8902,8181,8336,8713,9533,9760,9822,10090,10346,10824,11207,11284,11284,11228,10606,10587,10244,10358,10206,9750,9412,9379,null,21,222081,220214,217148,215535,214841,215350,217606,222362,224425,225057,225743,226769,228815,230065,232213,234629,236089,237686,240206,242308,242457,242768,243365,242939,243074,243880,244182,244773,244669,245129,248548,252425,null,"Females","5-9",null,{"$f":"SUM(C114:C118)","v":47136},48031,48901,49487,50199,50902,50898,51688,51620,51121,50879,50774,50446,50056,49493,48732,48221,47984,48172,48959,50117,51341,52291,53517,54522,55344,55367,55502,55259,55002,55915,56927,null,{"$f":"INDEX(CC37:CY37,'Population Pyramid'!$L$1)","v":55259}]
["male",22,10545,10610,10302,9394,8879,8548,7820,7234,7607,8644,9003,9089,8460,8673,9109,9955,10023,9895,10496,10746,10837,11212,11573,11147,11261,10742,10422,10385,10322,10230,9610,9413,null,22,232626,230824,227450,224929,223720,223898,225426,229596,232032,233701,234746,235858,237275,238738,241322,244584,246112,247581,250702,253054,253294,253980,254938,254086,254335,254622,254604,255158,254991,255359,258158,261838,null,"Females","10-14",null,{"$f":"SUM(C119:C123)","v":46811},47369,47414,47416,47554,48046,49106,50358,51260,52620,53616,54154,54296,54251,53828,53728,53779,53404,53092,52713,51572,50663,50425,50638,51325,52091,53582,54598,55752,56865,58714,59680,null,{"$f":"INDEX(CC38:CY38,'Population Pyramid'!$L$1)","v":55752}]
["male",23,10939,10531,11025,10919,10118,9580,9048,7697,7688,8129,8758,9190,9242,8667,9024,9511,10226,10130,10178,10763,10789,10948,11408,11621,11148,11321,10541,10395,10427,10319,10057,9660,null,23,243565,241355,238475,235848,233838,233478,234474,237293,239720,241830,243504,245048,246517,247405,250346,254095,256338,257711,260880,263817,264083,264928,266346,265707,265483,265943,265145,265553,265418,265678,268215,271498,null,"Females","15-19",null,{"$f":"SUM(C124:C128)","v":46712},45087,44403,44243,44794,45462,46860,47534,47684,48123,48599,49888,51437,52688,53878,55143,55780,56339,56437,55962,55290,55340,54589,53763,53063,52050,51115,50728,50807,51074,51470,53724,null,{"$f":"INDEX(CC39:CY39,'Population Pyramid'!$L$1)","v":50807}]
["male",24,11041,10803,11057,11069,11071,10368,9633,8508,7918,8099,8189,8825,9308,9380,8922,9293,9706,10259,10408,10394,10650,10718,10953,11193,11420,10971,10870,10256,10134,10178,10294,9967,null,24,254606,252158,249532,246917,244909,243846,244107,245801,247638,249929,251693,253873,255825,256785,259268,263388,266044,267970,271288,274211,274733,275646,277299,276900,276903,276914,276015,275809,275552,275856,278509,281465,null,"Females","20-24",null,{"$f":"SUM(C129:C133)","v":52356},50261,47866,46030,43416,41827,40395,39236,40442,42230,42647,43384,44076,45462,46669,48117,49499,50153,51583,53162,54837,55497,56806,55822,54890,53975,53182,51868,50466,48971,46719,44821,null,{"$f":"INDEX(CC40:CY40,'Population Pyramid'!$L$1)","v":50466}]
["male",25,11344,10713,11147,10894,11036,10940,10224,9049,8490,8194,8170,8319,8915,9471,9521,9265,9428,9666,10349,10566,10394,10644,10699,10820,11088,11207,10679,10767,10056,9960,10156,10303,null,25,265950,262871,260679,257811,255945,254786,254331,254850,256128,258123,259863,262192,264740,266256,268789,272653,275472,277636,281637,284777,285127,286290,287998,287720,287991,288121,286694,286576,285608,285816,288665,291768,null,"Females","25-29",null,{"$f":"SUM(C134:C138)","v":57298},56598,56960,56393,55786,55388,53905,51693,49891,47166,45157,43921,44213,45546,46682,48344,49678,50245,50792,50986,51456,52137,53454,54630,56202,57484,57899,57787,56566,55739,55044,55341,null,{"$f":"INDEX(CC41:CY41,'Population Pyramid'!$L$1)","v":56566}]
["male",26,11639,11286,10987,11076,10961,11027,10899,9845,8920,8410,8211,8198,8344,8978,9601,9716,9417,9401,9675,10341,10566,10306,10674,10587,10756,11015,11056,10585,10699,10000,9984,10190,null,26,277589,274157,271666,268887,266906,265813,265230,264695,265048,266533,268074,270390,273084,275234,278390,282369,284889,287037,291312,295118,295693,296596,298672,298307,298747,299136,297750,297161,296307,295816,298649,301958,null,"Females","30-34",null,{"$f":"SUM(C139:C143)","v":54621},55462,56787,58021,59000,58951,58830,59544,58893,57995,57258,56289,54611,53330,51556,50004,49057,48991,49934,51156,52555,53987,54924,55449,56176,57234,58543,60358,61724,63474,64719,65439,null,{"$f":"INDEX(CC42:CY42,'Population Pyramid'!$L$1)","v":61724}]
["male",27,11611,11514,11346,10921,11002,10887,10987,10448,9719,8716,8518,8388,8320,8453,9138,9848,9897,9464,9466,9704,10382,10578,10352,10684,10789,10836,10984,11043,10535,10665,10108,10093,null,27,289200,285671,283012,279808,277908,276700,276217,275143,274767,275249,276592,278778,281404,283687,287528,292217,294786,296501,300778,304822,306075,307174,309024,308991,309536,309972,308734,308204,306842,306481,308757,312051,null,"Females","35-39",null,{"$f":"SUM(C144:C148)","v":50506},51109,51867,52773,53891,55574,56833,58866,60842,62339,62853,63029,63244,62710,62451,61601,60553,59059,57342,55168,53708,52582,52991,54400,56315,57990,59729,60609,60919,62108,64264,66704,null,{"$f":"INDEX(CC43:CY43,'Population Pyramid'!$L$1)","v":60919}]
["male",28,11371,11408,11460,11253,10837,10896,10717,10544,10207,9365,8787,8658,8588,8467,8530,9411,10066,9908,9709,9646,9781,10433,10607,10423,10915,10916,10881,11051,11065,10678,10748,10299,null,28,300571,297079,294472,291061,288745,287596,286934,285687,284974,284614,285379,287436,289992,292154,296058,301628,304852,306409,310487,314468,315856,317607,319631,319414,320451,320888,319615,319255,317907,317159,319505,322350,null,"Females","40-44",null,{"$f":"SUM(C149:C153)","v":54725},52261,51102,50442,50476,50871,51508,52697,54127,55576,57544,59330,61034,62905,64463,65517,65653,65737,65297,64877,63805,63161,61919,60535,58844,57460,56341,56810,58177,60016,62259,64620,null,{"$f":"INDEX(CC44:CY44,'Population Pyramid'!$L$1)","v":58177}]
["male",29,11418,11537,11858,11829,11595,11212,11160,10562,10568,10101,9505,8959,8800,8732,8570,8746,9617,10145,10022,9803,9708,9837,10526,10724,10668,11051,11048,11059,11106,11136,10833,10907,null,29,311989,308616,306330,302890,300340,298808,298094,296249,295542,294715,294884,296395,298792,300886,304628,310374,314469,316554,320509,324271,325564,327444,330157,330138,331119,331939,330663,330314,329013,328295,330338,333257,null,"Females","45-49",null,{"$f":"SUM(C154:C158)","v":54776},57364,58420,58805,58136,54470,52149,51371,51150,51326,51668,52485,53571,55022,56526,58694,60554,62270,63957,65243,66426,66827,67156,66814,66484,65712,64989,63533,62087,60347,59311,58762,null,{"$f":"INDEX(CC45:CY45,'Population Pyramid'!$L$1)","v":62087}]
["male",30,10999,11398,11840,11826,11859,11604,11185,10791,10609,10443,10215,9700,9115,8959,8887,8721,8931,9838,10265,10133,9883,9828,9928,10653,10853,10908,11208,11232,11103,11236,11403,11109,null,30,322988,320014,318170,314716,312199,310412,309279,307040,306151,305158,305099,306095,307907,309845,313515,319095,323400,326392,330774,334404,335447,337272,340085,340791,341972,342847,341871,341546,340116,339531,341741,344366,null,"Females","50-54",null,{"$f":"SUM(C159:C163)","v":41680},42936,44571,46335,49111,54189,56909,58299,58674,58030,54681,52376,51368,50977,51116,51696,52694,53952,55518,57170,59023,60836,62624,64475,66040,66993,67343,67555,66863,66558,65942,65158,null,{"$f":"INDEX(CC46:CY46,'Population Pyramid'!$L$1)","v":66863}]
["male",31,10998,10896,11413,11704,11763,11750,11459,11213,10809,10502,10475,10348,9851,9208,9070,9009,8859,9051,9950,10310,10262,9975,10008,10143,10822,11015,11128,11434,11300,11317,11534,11665,null,31,333986,330910,329583,326420,323962,322162,320738,318253,316960,315660,315574,316443,317758,319053,322585,328104,332259,335443,340724,344714,345709,347247,350093,350934,352794,353862,352999,352980,351416,350848,353275,356031,null,"Females","55-59",null,{"$f":"SUM(C164:C168)","v":38926},39519,40367,40921,40909,41325,42585,44153,46024,48875,53824,56416,57519,57941,57471,54009,51929,50823,50417,50681,51613,52626,53991,55606,57146,58810,60611,62277,63970,65366,66284,66547,null,{"$f":"INDEX(CC47:CY47,'Population Pyramid'!$L$1)","v":63970}]
["male",32,10633,11025,11002,11445,11851,11875,11837,11699,11391,10917,10646,10735,10526,10035,9491,9342,9237,9072,9216,10042,10430,10389,10138,10212,10412,11034,11131,11296,11602,11528,11554,11777,null,32,344619,341935,340585,337865,335813,334037,332575,329952,328351,326577,326220,327178,328284,329088,332076,337446,341496,344515,349940,354756,356139,357636,360231,361146,363206,364896,364130,364276,363018,362376,364829,367808,null,"Females","60-64",null,{"$f":"SUM(C169:C173)","v":39416},38952,38426,38062,37980,38297,38886,39871,40595,40605,40775,41947,43465,45092,47840,52835,55420,56594,57295,56890,53379,51607,50597,50232,50300,51095,52018,53248,54519,55883,57575,59267,null,{"$f":"INDEX(CC48:CY48,'Population Pyramid'!$L$1)","v":54519}]
["male",33,10782,10615,11006,11073,11529,11889,11918,11979,11763,11399,11088,10866,10954,10699,10258,9764,9625,9441,9253,9341,10175,10588,10591,10382,10394,10641,11199,11300,11425,11831,11773,11841,null,33,{"$f":"AK48+C49","v":355401},{"$f":"AL48+D49","v":352550},{"$f":"AM48+E49","v":351591},{"$f":"AN48+F49","v":348938},{"$f":"AO48+G49","v":347342},{"$f":"AP48+H49","v":345926},{"$f":"AQ48+I49","v":344493},{"$f":"AR48+J49","v":341931},{"$f":"AS48+K49","v":340114},{"$f":"AT48+L49","v":337976},{"$f":"AU48+M49","v":337308},{"$f":"AV48+N49","v":338044},{"$f":"AW48+O49","v":339238},{"$f":"AX48+P49","v":339787},{"$f":"AY48+Q49","v":342334},{"$f":"AZ48+R49","v":347210},{"$f":"BA48+S49","v":351121},{"$f":"BB48+T49","v":353956},{"$f":"BC48+U49","v":359193},{"$f":"BD48+V49","v":364097},{"$f":"BE48+W49","v":366314},{"$f":"BF48+X49","v":368224},{"$f":"BG48+Y49","v":370822},{"$f":"BH48+Z49","v":371528},{"$f":"BI48+AA49","v":373600},{"$f":"BJ48+AB49","v":375537},{"$f":"BK48+AC49","v":375329},{"$f":"BL48+AD49","v":375576},{"$f":"BM48+AE49","v":374443},{"$f":"BN48+AF49","v":374207},{"$f":"BO48+AG49","v":376602},379649,null,"Females","65-69",null,{"$f":"SUM(C174:C178)","v":39383},38467,38146,38105,37842,37608,37520,37183,36982,36934,37307,37842,38625,39153,38788,39067,40441,42063,43698,46587,51709,54239,55528,56235,55882,52220,50237,49093,48710,48916,49571,50520,null,{"$f":"INDEX(CC49:CY49,'Population Pyramid'!$L$1)","v":48710}]
["male",34,10397,10812,10782,11077,11150,11559,11952,12125,12164,11873,11491,11313,11003,11087,10861,10436,9944,9770,9549,9310,9469,10328,10790,10791,10610,10621,10799,11340,11451,11649,12047,11969,null,34,365798,363362,362373,360015,358492,357485,356445,354056,352278,349849,348799,349357,350241,350874,353195,357646,361065,363726,368742,373407,375783,378552,381612,382319,384210,386158,386128,386916,385894,385856,388649,391618,null,"Females","70-74",null,{"$f":"SUM(C179:C183)","v":37130},38888,39739,37967,36723,35925,35264,35015,35018,34988,34899,34935,34681,34481,34371,34792,35414,36111,36605,36368,36900,38325,40126,41704,44316,49078,51474,52621,53206,52744,49383,47377,null,{"$f":"INDEX(CC50:CY50,'Population Pyramid'!$L$1)","v":53206}]
["male",35,10268,10435,10868,10772,11134,11219,11637,12186,12255,12161,12043,11745,11511,11150,11342,11181,10654,10094,9953,9645,9499,9649,10504,11007,10964,10825,10767,10964,11460,11621,11845,12272,null,35,376066,373797,373241,370787,369626,368704,368082,366242,364533,362010,360842,361102,361752,362024,364537,368827,371719,373820,378695,383052,385282,388201,392116,393326,395174,396983,396895,397880,397354,397477,400494,403890,null,"Females","75-79",null,{"$f":"SUM(C184:C188)","v":30777},29179,28074,29476,30778,31954,33489,34166,32916,31859,31190,30667,30513,30789,30977,31129,31169,31016,30851,31030,31477,32150,32863,33261,33119,33607,34832,36485,37867,40174,44594,46724,null,{"$f":"INDEX(CC51:CY51,'Population Pyramid'!$L$1)","v":37867}]
["male",36,9842,10202,10431,10761,10772,11072,11206,11760,12314,12328,12312,12229,11853,11693,11311,11619,11393,10753,10303,10025,9769,9634,9820,10741,11201,11144,10971,10909,11060,11705,11950,12150,null,36,385908,383999,383672,381548,380398,379776,379288,378002,376847,374338,373154,373331,373605,373717,375848,380446,383112,384573,388998,393077,395051,397835,401936,404067,406375,408127,407866,408789,408414,409182,412444,416040,null,"Females","80-84",null,{"$f":"SUM(C189:C193)","v":23660},23746,23958,24156,24101,23574,22360,21543,22491,23778,25004,26241,26583,25882,25132,24859,24669,24730,25244,25558,25829,25810,25863,25765,26050,26253,26698,27421,27903,27766,28154,29103,null,{"$f":"INDEX(CC52:CY52,'Population Pyramid'!$L$1)","v":27903}]
["male",37,9842,9727,10173,10351,10702,10726,10996,11407,11938,12385,12428,12420,12294,12033,11854,11590,11920,11479,10913,10449,10178,9878,9814,9973,10958,11359,11378,11114,11017,11207,11946,12246,null,37,395750,393726,393845,391899,391100,390502,390284,389409,388785,386723,385582,385751,385899,385750,387702,392036,395032,396052,399911,403526,405229,407713,411750,414040,417333,419486,419244,419903,419431,420389,424390,428286,null,"Females","85+",null,{"$f":"SUM(C194:C199)","v":20599},21413,21662,22177,22318,22582,23010,23308,23590,23725,23451,22844,22911,23824,25156,26170,26875,27318,27759,28295,28510,28723,29392,29462,29864,30017,29930,30171,29967,30233,30940,31124,null,{"$f":"INDEX(CC53:CY53,'Population Pyramid'!$L$1)","v":29967}]
["male",38,10105,9873,9807,10261,10507,10779,10843,11279,11678,12069,12494,12528,12583,12464,12206,12051,11736,12099,11633,11026,10568,10309,10023,10010,10178,11205,11491,11526,11269,11215,11432,12270,null,38,405855,403599,403652,402160,401607,401281,401127,400688,400463,398792,398076,398279,398482,398214,399908,404087,406768,408151,411544,414552,415797,418022,421773,424050,427511,430691,430735,431429,430700,431604,435822,440556]
["male",39,9980,10028,9894,9738,10236,10534,10794,10975,11397,11739,12137,12628,12682,12799,12602,12441,12249,11845,12251,11770,11127,10742,10500,10147,10251,10386,11332,11667,11629,11400,11495,11700,null,39,415835,413627,413546,411898,411843,411815,411921,411663,411860,410531,410213,410907,411164,411013,412510,416528,419017,419996,423795,426322,426924,428764,432273,434197,437762,441077,442067,443096,442329,443004,447317,452256]
["male",40,9757,9860,9972,9782,9713,10240,10582,10847,11104,11379,11872,12219,12655,12809,12929,12797,12590,12399,11996,12344,11895,11220,10903,10640,10266,10375,10445,11467,11710,11762,11693,11883,null,40,425592,423487,423518,421680,421556,422055,422503,422510,422964,421910,422085,423126,423819,423822,425439,429325,431607,432395,435791,438666,438819,439984,443176,444837,448028,451452,452512,454563,454039,454766,459010,464139]
["male",41,10263,9723,9890,9970,9784,9763,10292,10703,10924,11118,11513,11958,12313,12756,12886,13053,12928,12678,12523,12088,12410,11949,11356,10998,10833,10401,10536,10545,11481,11878,11951,11948,null,41,435855,433210,433408,431650,431340,431818,432795,433213,433888,433028,433598,435084,436132,436578,438325,442378,444535,445073,448314,450754,451229,451933,454532,455835,458861,461853,463048,465108,465520,466644,470961,476087]
["male",42,10510,10244,9749,9894,9997,9830,9836,10455,10869,11057,11165,11506,12013,12351,12821,12973,13142,13015,12704,12620,12150,12506,12033,11455,11132,10936,10501,10607,10656,11542,12069,12143,null,42,446365,443454,443157,441544,441337,441648,442631,443668,444757,444085,444763,446590,448145,448929,451146,455351,457677,458088,461018,463374,463379,464439,466565,467290,469993,472789,473549,475715,476176,478186,483030,488230]
["male",43,11152,10419,10206,9723,9854,9982,9812,9844,10579,10939,11156,11209,11648,12160,12426,12895,13091,13232,13101,12808,12689,12221,12600,12102,11575,11207,11005,10618,10629,10815,11724,12311,null,43,457517,453873,453363,451267,451191,451630,452443,453512,455336,455024,455919,457799,459793,461089,463572,468246,470768,471320,474119,476182,476068,476660,479165,479392,481568,483996,484554,486333,486805,489001,494754,500541]
["male",44,12342,11088,10424,10170,9728,9863,9981,9892,9881,10635,10988,11169,11237,11758,12266,12475,12925,13170,13243,13107,12882,12716,12284,12671,12180,11655,11293,11080,10684,10704,10970,11948,null,44,469859,464961,463787,461437,460919,461493,462424,463404,465217,465659,466907,468968,471030,472847,475838,480721,483693,484490,487362,489289,488950,489376,491449,492063,493748,495651,495847,497413,497489,499705,505724,512489]
["male",45,13884,12328,11063,10403,10143,9709,9824,10042,9946,9968,10588,11041,11224,11298,11870,12285,12521,12951,13250,13287,13132,12879,12791,12331,12748,12225,11736,11315,11133,10855,10874,11190,null,45,483743,477289,474850,471840,471062,471202,472248,473446,475163,475627,477495,480009,482254,484145,487708,493006,496214,497441,500612,502576,502082,502255,504240,504394,506496,507876,507583,508728,508622,510560,516598,523679]
["male",46,10626,13674,12218,10953,10323,10049,9629,9928,10116,9967,9919,10626,11013,11277,11329,11872,12335,12553,12986,13260,13346,13133,12981,12879,12332,12800,12265,11756,11334,11208,10977,10955,null,46,494369,490963,487068,482793,481385,481251,481877,483374,485279,485594,487414,490635,493267,495422,499037,504878,508549,509994,513598,515836,515428,515388,517221,517273,518828,520676,519848,520484,519956,521768,527575,534634]
["male",47,10182,10590,13558,12182,10931,10303,10009,9727,9908,10117,9921,9987,10677,11044,11314,11321,11922,12430,12635,12972,13231,13350,13194,13020,12976,12368,12842,12323,11737,11404,11263,11093,null,47,504551,501553,500626,494975,492316,491554,491886,493101,495187,495711,497335,500622,503944,506466,510351,516199,520471,522424,526233,528808,528659,528738,530415,530293,531804,533044,532690,532807,531693,533172,538838,545727]
["male",48,10253,10209,10610,13516,12168,10914,10294,10038,9758,9902,10040,9951,10013,10687,11049,11286,11355,11944,12495,12596,13021,13299,13414,13205,13065,13003,12399,12838,12347,11830,11452,11383,null,48,514804,511762,511236,508491,504484,502468,502180,503139,504945,505613,507375,510573,513957,517153,521400,527485,531826,534368,538728,541404,541680,542037,543829,543498,544869,546047,545089,545645,544040,545002,550290,557110]
["male",49,9567,10172,10181,10570,13401,12132,10881,10303,9995,9752,9845,10100,9940,9996,10696,11019,11316,11338,11945,12555,12641,13003,13319,13450,13227,13037,12947,12355,12818,12284,11866,11506,null,49,524371,521934,521417,519061,517885,514600,513061,513442,514940,515365,517220,520673,523897,527149,532096,538504,543142,545706,550673,553959,554321,555040,557148,556948,558096,559084,558036,558000,556858,557286,562156,568616]
["male",50,8830,9534,10158,10205,10597,13323,12112,10876,10334,9969,9736,9856,10123,9940,10010,10753,11040,11328,11377,11968,12561,12670,12993,13352,13448,13217,12990,12942,12375,12795,12261,11834,null,50,533201,531468,531575,529266,528482,527923,525173,524318,525274,525334,526956,530529,534020,537089,542106,549257,554182,557034,562050,565927,566882,567710,570141,570300,571544,572301,571026,570942,569233,570081,574417,580450]
["male",51,7798,8776,9488,10100,10200,10583,13221,12145,10873,10345,9955,9741,9843,10143,9959,10086,10809,11005,11362,11351,11977,12571,12741,13050,13369,13403,13190,12995,12887,12352,12804,12230,null,51,540999,540244,541063,539366,538682,538506,538394,536463,536147,535679,536911,540270,543863,547232,552065,559343,564991,568039,573412,577278,578859,580281,582882,583350,584913,585704,584216,583937,582120,582433,587221,592680]
["male",52,8413,7789,8703,9453,10075,10191,10561,13244,12093,10883,10270,9901,9718,9901,10110,9960,10110,10808,10957,11335,11350,11965,12613,12756,13067,13353,13343,13082,12944,12869,12326,12809,null,52,549412,548033,549766,548819,548757,548697,548955,549707,548240,546562,547181,550171,553581,557133,562175,569303,575101,578847,584369,588613,590209,592246,595495,596106,597980,599057,597559,597019,595064,595302,599547,605489]
["male",53,8584,8347,7757,8621,9399,9994,10169,10546,13158,12101,10863,10279,9922,9722,9884,10136,9986,10128,10780,10917,11330,11346,11991,12659,12807,12982,13331,13305,13014,12875,12866,12297,null,53,557996,556380,557523,557440,558156,558691,559124,560253,561398,558663,558044,560450,563503,566855,572059,579439,585087,588975,595149,599530,601539,603592,607486,608765,610787,612039,610890,610324,608078,608177,612413,617786]
["male",54,8411,8557,8345,7784,8610,9386,9956,10146,10524,13022,12053,10876,10275,9901,9683,9909,10174,9995,10114,10737,10919,11360,11347,11958,12610,12752,12996,13257,13213,13004,12923,12848,null,54,566407,564937,565868,565224,566766,568077,569080,570399,571922,571685,570097,571326,573778,576756,581742,589348,595261,598970,605263,610267,612458,614952,618833,620723,623397,624791,623886,623581,621291,621181,625336,630634]
["male",55,8082,8366,8504,8324,7765,8554,9333,9912,10129,10534,13035,11944,10862,10223,9880,9652,9921,10190,9995,10069,10745,10892,11369,11341,11904,12517,12683,12950,13221,13217,12921,12801,null,55,574489,573303,574372,573548,574531,576631,578413,580311,582051,582219,583132,583270,584640,586979,591622,599000,605182,609160,615258,620336,623203,625844,630202,632064,635301,637308,636569,636531,634512,634398,638257,643435]
["male",56,7896,8044,8306,8477,8287,7751,8502,9318,9850,10098,10461,12977,11842,10817,10159,9854,9568,9929,10125,9977,10057,10666,10875,11324,11281,11896,12451,12574,12825,13151,13179,12833,null,56,582385,581347,582678,582025,582818,584382,586915,589629,591901,592317,593593,596247,596482,597796,601781,608854,614750,619089,625383,630313,633260,636510,641077,643388,646582,649204,649020,649105,647337,647549,651436,656268]
["male",57,7799,7839,7992,8269,8403,8235,7706,8481,9298,9782,9994,10369,12935,11822,10779,10101,9783,9530,9908,10114,9956,10035,10631,10852,11276,11208,11869,12351,12508,12757,13117,13118,null,57,590184,589186,590670,590294,591221,592617,594621,598110,601199,602099,603587,606616,609417,609618,612560,618955,624533,628619,635291,640427,643216,646545,651708,654240,657858,660412,660889,661456,659845,660306,664553,669386]
["male",58,7339,7745,7810,7971,8220,8362,8178,7669,8429,9227,9716,9881,10317,12929,11781,10674,10040,9741,9498,9919,10070,9941,10031,10598,10792,11234,11170,11794,12254,12447,12657,13071,null,58,597523,596931,598480,598265,599441,600979,602799,605779,609628,611326,613303,616497,619734,622547,624341,629629,634573,638360,644789,650346,653286,656486,661739,664838,668650,671646,672059,673250,672099,672753,677210,682457]
["male",59,7295,7288,7679,7769,7935,8174,8294,8181,7652,8337,9111,9668,9828,10266,12946,11725,10643,10008,9730,9500,9917,10027,9929,9977,10520,10749,11194,11084,11711,12162,12319,12514,null,59,604818,604219,606159,606034,607376,609153,611093,613960,617280,619663,622414,626165,629562,632813,637287,641354,645216,648368,654519,659846,663203,666513,671668,674815,679170,682395,683253,684334,683810,684915,689529,694971]
["male",60,7658,7198,7233,7613,7717,7888,8106,8270,8109,7606,8280,9027,9587,9767,10202,12874,11697,10611,9987,9691,9477,9850,9975,9885,9925,10420,10659,11111,11008,11638,12095,12183,null,60,612476,611417,613392,613647,615093,617041,619199,622230,625389,627269,630694,635192,639149,642580,647489,654228,656913,658979,664506,669537,672680,676363,681643,684700,689095,692815,693912,695445,694818,696553,701624,707154]
["male",61,7516,7590,7156,7182,7572,7673,7857,8048,8215,8042,7527,8177,8946,9560,9677,10097,12863,11640,10578,9932,9632,9427,9742,9915,9840,9859,10345,10575,10999,10900,11521,11984,null,61,619992,619007,620548,620829,622665,624714,627056,630278,633604,635311,638221,643369,648095,652140,657166,664325,669776,670619,675084,679469,682312,685790,691385,694615,698935,702674,704257,706020,705817,707453,713145,719138]
["male",62,7290,7417,7514,7089,7103,7487,7563,7765,7986,8128,7981,7485,8098,8867,9533,9590,10000,12784,11567,10525,9890,9590,9418,9687,9838,9802,9774,10292,10443,10931,10787,11438,null,62,627282,626424,628062,627918,629768,632201,634619,638043,641590,643439,646202,650854,656193,661007,666699,673915,679776,683403,686651,689994,692202,695380,700803,704302,708773,712476,714031,716312,716260,718384,723932,730576]
["male",63,6983,7147,7303,7387,6983,7006,7382,7491,7683,7887,8035,7854,7374,7997,8798,9398,9471,9902,12795,11445,10476,9807,9526,9342,9622,9721,9693,9701,10216,10308,10828,10672,null,63,634265,633571,635365,635305,636751,639207,642001,645534,649273,651326,654237,658708,663567,669004,675497,683313,689247,693305,699446,701439,702678,705187,710329,713644,718395,722197,723724,726013,726476,728692,734760,741248]
["male",64,6925,6870,7105,7213,7279,6913,6950,7321,7400,7616,7773,7947,7751,7221,7916,8670,9360,9356,9845,12739,11338,10419,9791,9442,9255,9533,9633,9578,9597,10042,10211,10709,null,64,641190,640441,642470,642518,644030,646120,648951,652855,656673,658942,662010,666655,671318,676225,683413,691983,698607,702661,709291,714178,714016,715606,720120,723086,727650,731730,733357,735591,736073,738734,744971,751957]
["male",65,6883,6795,6832,7005,7107,7176,6829,6842,7252,7349,7475,7633,7787,7640,7111,7856,8581,9290,9295,9719,12630,11283,10382,9733,9377,9167,9418,9493,9456,9454,9933,10092,null,65,{"$f":"AK80+C81","v":648073},{"$f":"AL80+D81","v":647236},{"$f":"AM80+E81","v":649302},{"$f":"AN80+F81","v":649523},{"$f":"AO80+G81","v":651137},{"$f":"AP80+H81","v":653296},{"$f":"AQ80+I81","v":655780},{"$f":"AR80+J81","v":659697},{"$f":"AS80+K81","v":663925},{"$f":"AT80+L81","v":666291},{"$f":"AU80+M81","v":669485},{"$f":"AV80+N81","v":674288},{"$f":"AW80+O81","v":679105},{"$f":"AX80+P81","v":683865},{"$f":"AY80+Q81","v":690524},{"$f":"AZ80+R81","v":699839},{"$f":"BA80+S81","v":707188},{"$f":"BB80+T81","v":711951},{"$f":"BC80+U81","v":718586},{"$f":"BD80+V81","v":723897},{"$f":"BE80+W81","v":726646},{"$f":"BF80+X81","v":726889},{"$f":"BG80+Y81","v":730502},{"$f":"BH80+Z81","v":732819},{"$f":"BI80+AA81","v":737027},{"$f":"BJ80+AB81","v":740897},{"$f":"BK80+AC81","v":742775},{"$f":"BL80+AD81","v":745084},{"$f":"BM80+AE81","v":745529},{"$f":"BN80+AF81","v":748188},{"$f":"BO80+AG81","v":754904},762049]
["male",66,6748,6746,6627,6702,6877,6982,7055,6737,6774,7136,7234,7334,7481,7668,7511,7023,7785,8519,9248,9211,9654,12536,11213,10270,9640,9236,9075,9306,9377,9308,9352,9787,null,66,654821,653982,655929,656225,658014,660278,662835,666434,670699,673427,676719,681622,686586,691533,698035,706862,714973,720470,727834,733108,736300,739425,741715,743089,746667,750133,751850,754390,754906,757496,764256,771836]
["male",67,6574,6607,6579,6489,6557,6742,6837,6930,6643,6669,6989,7085,7210,7350,7560,7412,6947,7742,8450,9175,9117,9564,12407,11099,10124,9510,9117,8919,9164,9225,9247,9240,null,67,661395,660589,662508,662714,664571,667020,669672,673364,677342,680096,683708,688707,693796,698883,705595,714274,721920,728212,736284,742283,745417,748989,754122,754188,756791,759643,760967,763309,764070,766721,773503,781076]
["male",68,6330,6375,6413,6430,6320,6399,6595,6771,6792,6567,6515,6833,6916,7087,7203,7428,7299,6830,7674,8371,9085,9006,9435,12274,10972,9941,9390,9000,8773,8988,9077,9061,null,68,667725,666964,668921,669144,670891,673419,676267,680135,684134,686663,690223,695540,700712,705970,712798,721702,729219,735042,743958,750654,754502,757995,763557,766462,767763,769584,770357,772309,772843,775709,782580,790137]
["male",69,6365,6125,6194,6229,6279,6160,6278,6409,6627,6647,6394,6377,6649,6791,6983,7130,7307,7186,6712,7569,8252,8920,8879,9326,12124,10789,9742,9246,8810,8595,8837,8936,null,69,674090,673089,675115,675373,677170,679579,682545,686544,690761,693310,696617,701917,707361,712761,719781,728832,736526,742228,750670,758223,762754,766915,772436,775788,779887,780373,780099,781555,781653,784304,791417,799073]
["male",70,6592,6136,5881,5975,6043,6096,5985,6108,6317,6443,6497,6255,6243,6506,6645,6864,6971,7165,7047,6564,7465,8127,8819,8742,9179,11914,10622,9558,9084,8679,8445,8681,null,70,680682,679225,680996,681348,683213,685675,688530,692652,697078,699753,703114,708172,713604,719267,726426,735696,743497,749393,757717,764787,770219,775042,781255,784530,789066,792287,790721,791113,790737,792983,799862,807754]
["male",71,6711,6337,5858,5651,5750,5815,5882,5833,5941,6160,6271,6306,6096,6074,6372,6477,6719,6819,7066,6891,6452,7365,8015,8666,8578,9012,11678,10401,9351,8868,8510,8259,null,71,687393,685562,686854,686999,688963,691490,694412,698485,703019,705913,709385,714478,719700,725341,732798,742173,750216,756212,764783,771678,776671,782407,789270,793196,797644,801299,802399,801514,800088,801851,808372,816013]
["male",72,7090,6425,6091,5625,5411,5574,5578,5692,5627,5770,5986,6078,6065,5917,5905,6228,6334,6542,6705,6922,6759,6354,7213,7844,8456,8398,8759,11411,10181,9121,8681,8303,null,72,694483,691987,692945,692624,694374,697064,699990,704177,708646,711683,715371,720556,725765,731258,738703,748401,756550,762754,771488,778600,783430,788761,796483,801040,806100,809697,811158,812925,810269,810972,817053,824316]
["male",73,4513,6764,6154,5829,5379,5193,5344,5384,5492,5437,5572,5792,5880,5904,5715,5736,6081,6168,6386,6512,6779,6629,6230,7046,7662,8265,8208,8561,11129,9912,8907,8523,null,73,698996,698751,699099,698453,699753,702257,705334,709561,714138,717120,720943,726348,731645,737162,744418,754137,762631,768922,777874,785112,790209,795390,802713,808086,813762,817962,819366,821486,821398,820884,825960,832839]
["male",74,3871,4265,6404,5834,5524,5118,4907,5123,5208,5286,5213,5366,5563,5678,5739,5556,5576,5906,6006,6212,6358,6605,6504,6086,6848,7464,8061,8009,8326,10850,9676,8658,null,74,702867,703016,705503,704287,705277,707375,710241,714684,719346,722406,726156,731714,737208,742840,750157,759693,768207,774828,783880,791324,796567,801995,809217,814172,820610,825426,827427,829495,829724,831734,835636,841497]
["male",75,4310,3662,4051,6035,5548,5245,4910,4754,4884,4922,5067,4976,5139,5361,5461,5508,5373,5430,5685,5850,6043,6164,6431,6323,5920,6602,7240,7831,7762,8052,10530,9334,null,75,707177,706678,709554,710322,710825,712620,715151,719438,724230,727328,731223,736690,742347,748201,755618,765201,773580,780258,789565,797174,802610,808159,815648,820495,826530,832028,834667,837326,837486,839786,846166,850831]
["male",76,4378,4062,3473,3849,5689,5259,4971,4628,4514,4625,4678,4825,4774,4933,5140,5280,5322,5168,5260,5515,5660,5872,6000,6226,6161,5716,6402,7015,7557,7503,7845,10172,null,76,711555,710740,713027,714171,716514,717879,720122,724066,728744,731953,735901,741515,747121,753134,760758,770481,778902,785426,794825,802689,808270,814031,821648,826721,832691,837744,841069,844341,845043,847289,854011,861003]
["male",77,4085,4055,3784,3240,3630,5314,4952,4692,4399,4290,4423,4437,4610,4561,4726,4948,5043,5127,4964,5077,5310,5464,5676,5734,6029,5921,5530,6188,6750,7239,7236,7552,null,77,715640,714795,716811,717411,720144,723193,725074,728758,733143,736243,740324,745952,751731,757695,765484,775429,783945,790553,799789,807766,813580,819495,827324,832455,838720,843665,846599,850529,851793,854528,861247,868555]
["male",78,3927,3789,3806,3535,3046,3420,4957,4646,4387,4139,4055,4182,4155,4389,4336,4555,4745,4835,4930,4748,4903,5089,5243,5430,5496,5776,5700,5352,5934,6474,6970,6957,null,78,719567,718584,720617,720946,723190,726613,730031,733404,737530,740382,744379,750134,755886,762084,769820,779984,788690,795388,804719,812514,818483,824584,832567,837885,844216,849441,852299,855881,857727,861002,868217,875512]
["male",79,3527,3603,3451,3480,3244,2815,3202,4588,4350,4115,3893,3787,3903,3873,4146,4139,4328,4534,4590,4711,4530,4692,4865,4998,5160,5271,5541,5467,5094,5635,6190,6647,null,79,723094,722187,724068,724426,726434,729428,733233,737992,741880,744497,748272,753921,759789,765957,773966,784123,793018,799922,809309,817225,823013,829276,837432,842883,849376,854712,857840,861348,862821,866637,874407,882159]
["male",80,3162,3235,3333,3154,3181,2992,2601,3000,4196,4048,3806,3600,3489,3688,3646,3926,3909,4080,4257,4339,4495,4340,4424,4631,4747,4910,4994,5253,5174,4826,5340,5853,null,80,726256,725422,727401,727580,729615,732420,735834,740992,746076,748545,752078,757521,763278,769645,777612,788049,796927,804002,813566,821564,827508,833616,841856,847514,854123,859622,862834,866601,867995,871463,879747,888012]
["male",81,2729,2874,2901,3042,2852,2876,2748,2359,2769,3848,3722,3504,3358,3212,3433,3409,3690,3661,3821,4009,4108,4236,4106,4173,4371,4508,4602,4698,4959,4821,4573,5002,null,81,728985,728296,730302,730622,732467,735296,738582,743351,748845,752393,755800,761025,766636,772857,781045,791458,800617,807663,817387,825573,831616,837852,845962,851687,858494,864130,867436,871299,872954,876284,884320,893014]
["male",82,2437,2439,2570,2624,2760,2577,2630,2486,2128,2548,3499,3390,3226,3119,2951,3195,3160,3412,3427,3550,3716,3860,3957,3827,3921,4123,4257,4320,4403,4631,4488,4288,null,82,731422,730735,732872,733246,735227,737873,741212,745837,750973,754941,759299,764415,769862,775976,783996,794653,803777,811075,820814,829123,835332,841712,849919,855514,862415,868253,871693,875619,877357,880915,888808,897302]
["male",83,2177,2160,2184,2295,2343,2435,2328,2266,2213,1938,2306,3145,3049,2908,2853,2685,2938,2928,3194,3192,3305,3444,3584,3672,3566,3655,3826,3966,4021,4107,4333,4147,null,83,733599,732895,735056,735541,737570,740308,743540,748103,753186,756879,761605,767560,772911,778884,786849,797338,806715,814003,824008,832315,838637,845156,853503,859186,865981,871908,875519,879585,881378,885022,893141,901449]
["male",84,1872,1918,1874,1935,2013,2077,2162,2060,1989,1997,1734,2101,2798,2737,2642,2594,2422,2662,2680,2964,2934,3043,3158,3310,3374,3278,3349,3540,3634,3652,3808,4026,null,84,735471,734813,736930,737476,739583,742385,745702,750163,755175,758876,763339,769661,775709,781621,789491,799932,809137,816665,826688,835279,841571,848199,856661,862496,869355,875186,878868,883125,885012,888674,896949,905475]
["male",85,6637,7048,7255,7506,7704,7942,8217,8609,8781,1742,1743,1550,1893,2463,2436,2384,2303,2178,2428,2410,2693,2676,2775,2826,3012,3055,2998,3024,3209,3319,3319,3487,null,85,742108,741861,744185,744982,747287,750327,753919,758772,763956,760618,765082,771211,777602,784084,791927,802316,811440,818843,829116,837689,844264,850875,859436,865322,872367,878241,881866,886149,888221,891993,900268,908962]
["male",86,0,0,0,0,0,0,0,0,0,1486,1540,1535,1351,1718,2166,2194,2104,2021,1963,2192,2155,2427,2411,2467,2494,2682,2747,2711,2685,2848,2975,2951,null,86,742108,741861,744185,744982,747287,750327,753919,758772,763956,762104,766622,772746,778953,785802,794093,804510,813544,820864,831079,839881,846419,853302,861847,867789,874861,880923,884613,888860,890906,894841,903243,911913]
["male",87,0,0,0,0,0,0,0,0,0,1299,1272,1300,1320,1168,1517,1858,1921,1828,1772,1739,1909,1894,2165,2138,2164,2186,2348,2409,2413,2350,2509,2629,null,87,742108,741861,744185,744982,747287,750327,753919,758772,763956,763403,767894,774046,780273,786970,795610,806368,815465,822692,832851,841620,848328,855196,864012,869927,877025,883109,886961,891269,893319,897191,905752,914542]
["male",88,0,0,0,0,0,0,0,0,0,1089,1072,1063,1104,1115,1008,1351,1541,1658,1594,1541,1504,1647,1689,1870,1895,1874,1869,2018,2048,2053,2058,2171,null,88,742108,741861,744185,744982,747287,750327,753919,758772,763956,764492,768966,775109,781377,788085,796618,807719,817006,824350,834445,843161,849832,856843,865701,871797,878920,884983,888830,893287,895367,899244,907810,916713]
["male",89,0,0,0,0,0,0,0,0,0,867,905,871,898,927,956,846,1179,1262,1405,1371,1302,1264,1375,1420,1609,1614,1608,1573,1704,1759,1752,1760,null,89,742108,741861,744185,744982,747287,750327,753919,758772,763956,765359,769871,775980,782275,789012,797574,808565,818185,825612,835850,844532,851134,858107,867076,873217,880529,886597,890438,894860,897071,901003,909562,918473]
["male","90+",0,0,0,0,0,0,0,0,0,2422,2623,2727,2780,2831,2926,3098,3119,3396,3703,4070,4375,4494,4651,4748,4870,5131,5303,5499,5443,5546,5790,5917,null,"90+",742108,741861,744185,744982,747287,750327,753919,758772,763956,767781,772494,778707,785055,791843,800500,811663,821304,829008,839553,848602,855509,862601,871727,877965,885399,891728,895741,900359,902514,906549,915352,924390]
[null,"All Males",{"$f":"SUM(C16:C106)","v":742108},{"$f":"SUM(D16:D106)","v":741861},744185,744982,747287,750327,753919,758772,763956,767781,772494,778707,785055,791843,800500,811663,821304,829008,839553,848602,855509,862601,871727,877965,885399,891728,895741,{"$f":"SUM(AD16:AD106)","v":900359},{"$f":"SUM(AE16:AE106)","v":902514},{"$f":"SUM(AF16:AF106)","v":906549},{"$f":"SUM(AG16:AG106)","v":915352},{"$f":"SUM(AH16:AH106)","v":924390},null,"Females"]
["Sex","Age"]
["female",0,10026,9703,9797,9525,9294,9386,9267,9170,8789,8453,8598,8764,9102,9024,9397,9698,10108,9932,10341,10260,10385,10085,10120,10235,10057,10206,10005,9744,9593,9432,9767,9246,null,0,{"$f":"C109","v":10026},9703,9797,9525,9294,9386,9267,9170,8789,8453,8598,8764,9102,9024,9397,9698,10108,9932,10341,10260,10385,10085,10120,10235,10057,10206,10005,9744,9593,9432,9767,9246]
["female",1,10047,10019,9740,9789,9543,9360,9403,9458,9198,8813,8644,8750,8903,9201,9195,9618,9851,10236,10136,10509,10454,10580,10277,10266,10400,10203,10370,10167,9900,9883,9747,10108,null,1,{"$f":"AK109+C110","v":20073},{"$f":"AL109+D110","v":19722},{"$f":"AM109+E110","v":19537},{"$f":"AN109+F110","v":19314},{"$f":"AO109+G110","v":18837},{"$f":"AP109+H110","v":18746},{"$f":"AQ109+I110","v":18670},{"$f":"AR109+J110","v":18628},{"$f":"AS109+K110","v":17987},{"$f":"AT109+L110","v":17266},{"$f":"AU109+M110","v":17242},{"$f":"AV109+N110","v":17514},{"$f":"AW109+O110","v":18005},{"$f":"AX109+P110","v":18225},{"$f":"AY109+Q110","v":18592},{"$f":"AZ109+R110","v":19316},{"$f":"BA109+S110","v":19959},{"$f":"BB109+T110","v":20168},{"$f":"BC109+U110","v":20477},{"$f":"BD109+V110","v":20769},{"$f":"BE109+W110","v":20839},{"$f":"BF109+X110","v":20665},{"$f":"BG109+Y110","v":20397},{"$f":"BH109+Z110","v":20501},{"$f":"BI109+AA110","v":20457},{"$f":"BJ109+AB110","v":20409},{"$f":"BK109+AC110","v":20375},{"$f":"BL109+AD110","v":19911},{"$f":"BM109+AE110","v":19493},{"$f":"BN109+AF110","v":19315},{"$f":"BO109+AG110","v":19514},19354]
["female",2,10102,10052,10055,9796,9826,9601,9401,9637,9540,9214,9014,8786,8891,9026,9363,9403,9814,9953,10381,10317,10725,10616,10772,10452,10464,10559,10370,10495,10324,10134,10162,10134,null,2,30175,29774,29592,29110,28663,28347,28071,28265,27527,26480,26256,26300,26896,27251,27955,28719,29773,30121,30858,31086,31564,31281,31169,30953,30921,30968,30745,30406,29817,29449,29676,29488]
["female",3,10055,10113,10104,10099,9844,9884,9641,9654,9714,9611,9350,9138,8989,8998,9158,9504,9487,9991,10121,10585,10473,10815,10820,10910,10605,10535,10681,10470,10615,10445,10446,10519,null,3,40230,39887,39696,39209,38507,38231,37712,37919,37241,36091,35606,35438,35885,36249,37113,38223,39260,40112,40979,41671,42037,42096,41989,41863,41526,41503,41426,40876,40432,39894,40122,40007]
["female",4,10071,10032,10141,10155,10142,9916,9926,9887,9757,9736,9778,9538,9310,9114,9102,9292,9583,9590,10118,10273,10654,10557,10909,10917,11063,10715,10623,10793,10627,10776,10778,10816,null,4,50301,49919,49837,49364,48649,48147,47638,47806,46998,45827,45384,44976,45195,45363,46215,47515,48843,49702,51097,51944,52691,52653,52898,52780,52589,52218,52049,51669,51059,50670,50900,50823]
["female",5,9714,10046,10042,10161,10195,10200,9962,10108,9947,9820,9905,9924,9682,9416,9232,9229,9372,9665,9708,10231,10340,10735,10667,11037,11035,11114,10806,10739,10833,10747,11163,11113,null,5,60015,59965,59879,59525,58844,58347,57600,57914,56945,55647,55289,54900,54877,54779,55447,56744,58215,59367,60805,62175,63031,63388,63565,63817,63624,63332,62855,62408,61892,61417,62063,61936]
["female",6,9523,9677,10046,10072,10208,10259,10239,10187,10221,10005,9953,10086,10058,9821,9532,9339,9312,9452,9761,9790,10296,10344,10788,10717,11112,11136,11162,10840,10791,10912,11021,11458,null,6,69538,69642,69925,69597,69052,68606,67839,68101,67166,65652,65242,64986,64935,64600,64979,66083,67527,68819,70566,71965,73327,73732,74353,74534,74736,74468,74017,73248,72683,72329,73084,73394]
["female",7,9539,9514,9675,10058,10087,10246,10298,10423,10326,10293,10081,10053,10250,10190,9920,9653,9495,9350,9513,9813,9884,10301,10408,10886,10835,11113,11208,11270,10913,10870,11272,11325,null,7,79077,79156,79600,79655,79139,78852,78137,78524,77492,75945,75323,75039,75185,74790,74899,75736,77022,78169,80079,81778,83211,84033,84761,85420,85571,85581,85225,84518,83596,83199,84356,84719]
["female",8,9181,9547,9523,9653,10047,10106,10263,10511,10506,10405,10435,10169,10157,10395,10295,10091,9782,9602,9471,9579,9908,9952,10388,10443,10997,10910,11217,11317,11346,11040,11156,11584,null,8,88258,88703,89123,89308,89186,88958,88400,89035,87998,86350,85758,85208,85342,85185,85194,85827,86804,87771,89550,91357,93119,93985,95149,95863,96568,96491,96442,95835,94942,94239,95512,96303]
["female",9,9179,9247,9615,9543,9662,10091,10136,10459,10620,10598,10505,10542,10299,10234,10514,10420,10260,9915,9719,9546,9689,10009,10040,10434,10543,11071,10974,11336,11376,11433,11303,11447,null,9,97437,97950,98738,98851,98848,99049,98536,99494,98618,96948,96263,95750,95641,95419,95708,96247,97064,97686,99269,100903,102808,103994,105189,106297,107111,107562,107416,107171,106318,105672,106815,107750]
["female",10,9306,9194,9320,9666,9562,9704,10115,10291,10534,10751,10708,10614,10635,10406,10319,10652,10564,10316,10011,9835,9682,9814,10102,10146,10512,10579,11216,11086,11396,11498,11711,11598,null,10,106743,107144,108058,108517,108410,108753,108651,109785,109152,107699,106971,106364,106276,105825,106027,106899,107628,108002,109280,110738,112490,113808,115291,116443,117623,118141,118632,118257,117714,117170,118526,119348]
["female",11,9526,9298,9219,9396,9702,9586,9723,10239,10353,10640,10884,10858,10649,10727,10497,10424,10788,10727,10468,10125,9928,9783,9920,10192,10242,10602,10778,11349,11245,11538,11851,12083,null,11,116269,116442,117277,117913,118112,118339,118374,120024,119505,118339,117855,117222,116925,116552,116524,117323,118416,118729,119748,120863,122418,123591,125211,126635,127865,128743,129410,129606,128959,128708,130377,131431]
["female",12,9811,9567,9349,9282,9505,9807,9656,9970,10375,10562,10761,11033,10959,10761,10892,10653,10510,10931,10871,10553,10211,10041,9906,10039,10297,10349,10674,10930,11470,11294,11847,12176,null,12,126080,126009,126626,127195,127617,128146,128030,129994,129880,128901,128616,128255,127884,127313,127416,127976,128926,129660,130619,131416,132629,133632,135117,136674,138162,139092,140084,140536,140429,140002,142224,143607]
["female",13,9410,9808,9590,9362,9288,9524,9865,9799,10036,10474,10664,10826,11147,11089,10865,11027,10737,10578,11071,11013,10633,10297,10126,10047,10095,10370,10455,10684,10942,11531,11488,12065,null,13,135490,135817,136216,136557,136905,137670,137895,139793,139916,139375,139280,139081,139031,138402,138281,139003,139663,140238,141690,142429,143262,143929,145243,146721,148257,149462,150539,151220,151371,151533,153712,155672]
["female",14,8758,9502,9936,9710,9497,9425,9747,10059,9962,10193,10599,10823,10906,11268,11255,10972,11180,10852,10671,11187,11118,10728,10371,10214,10179,10191,10459,10549,10699,11004,11817,11758,null,14,144248,145319,146152,146267,146402,147095,147642,149852,149878,149568,149879,149904,149937,149670,149536,149975,150843,151090,152361,153616,154380,154657,155614,156935,158436,159653,160998,161769,162070,162537,165529,167430]
["female",15,8837,8753,9491,9948,9712,9506,9466,9919,10099,9992,10225,10660,10926,11002,11364,11354,11089,11271,10972,10773,11238,11139,10793,10422,10258,10261,10282,10514,10585,10723,11206,11999,null,15,153085,154072,155643,156215,156114,156601,157108,159771,159977,159560,160104,160564,160863,160672,160900,161329,161932,162361,163333,164389,165618,165796,166407,167357,168694,169914,171280,172283,172655,173260,176735,179429]
["female",16,9118,8818,8746,9499,9945,9752,9537,9508,9933,10184,10017,10284,10726,11024,11012,11530,11484,11193,11393,11087,10797,11258,11205,10840,10492,10264,10304,10346,10498,10625,10891,11396,null,16,162203,162890,164389,165714,166059,166353,166645,169279,169910,169744,170121,170848,171589,171696,171912,172859,173416,173554,174726,175476,176415,177054,177612,178197,179186,180178,181584,182629,183153,183885,187626,190825]
["female",17,9446,9050,8761,8726,9484,9900,9697,9556,9458,10032,10160,10059,10432,10824,11122,11088,11687,11635,11253,11526,11137,10820,11269,11235,10878,10498,10321,10357,10322,10506,10778,11000,null,17,171649,171940,173150,174440,175543,176253,176342,178835,179368,179776,180281,180907,182021,182520,183034,183947,185103,185189,185979,187002,187552,187874,188881,189432,190064,190676,191905,192986,193475,194391,198404,201825]
["female",18,9815,9350,8903,8446,8425,9170,9694,9570,9397,9434,9759,10020,10070,10403,10719,11104,11043,11734,11637,11243,11429,11047,10804,11201,11088,10795,10396,10148,10205,10134,10261,10536,null,18,181464,181290,182053,182886,183968,185423,186036,188405,188765,189210,190040,190927,192091,192923,193753,195051,196146,196923,197616,198245,198981,198921,199685,200633,201152,201471,202301,203134,203680,204525,208665,212361]
["female",19,9496,9116,8502,7624,7228,7134,8466,8981,8797,8481,8438,8865,9283,9435,9661,10067,10477,10506,11182,11333,10689,11076,10518,10065,10347,10232,9812,9363,9197,9086,8334,8793,null,19,190960,190406,190555,190510,191196,192557,194502,197386,197562,197691,198478,199792,201374,202358,203414,205118,206623,207429,208798,209578,209670,209997,210203,210698,211499,211703,212113,212497,212877,213611,216999,221154]
["female",20,9764,9100,8032,7562,6818,6586,6883,7972,8516,8641,8189,8225,8589,9081,9350,9582,9907,10158,10371,11024,11257,10776,11107,10462,10066,10315,10248,9814,9303,8963,8516,8022,null,20,200724,199506,198587,198072,198014,199143,201385,205358,206078,206332,206667,208017,209963,211439,212764,214700,216530,217587,219169,220602,220927,220773,221310,221160,221565,222018,222361,222311,222180,222574,225515,229176]
["female",21,10398,9766,8447,8114,7754,7314,7036,7205,8155,8662,8702,8355,8389,8861,9315,9570,9763,9969,10464,10636,11307,11301,11153,11137,10651,10168,10482,10349,10010,9317,8938,8684,null,21,211122,209272,207034,206186,205768,206457,208421,212563,214233,214994,215369,216372,218352,220300,222079,224270,226293,227556,229633,231238,232234,232074,232463,232297,232216,232186,232843,232660,232190,231891,234453,237860]
["female",22,10326,10333,9639,8986,8621,8486,7896,7437,7682,8494,8819,8900,8603,8977,9308,9699,9987,9935,10325,10658,10992,11327,11734,11188,11265,10903,10458,10617,10418,9919,9021,9066,null,22,221448,219605,216673,215172,214389,214943,216317,220000,221915,223488,224188,225272,226955,229277,231387,233969,236280,237491,239958,241896,243226,243401,244197,243485,243481,243089,243301,243277,242608,241810,243474,246926]
["female",23,10847,10347,10832,10311,9703,9410,9042,7991,7842,8183,8690,9118,9165,9044,9296,9640,10005,10031,10187,10527,10904,11191,11625,11652,11407,11337,10885,10466,10549,10357,9792,9059,null,23,232295,229952,227505,225483,224092,224353,225359,227991,229757,231671,232878,234390,236120,238321,240683,243609,246285,247522,250145,252423,254130,254592,255822,255137,254888,254426,254186,253743,253157,252167,253266,255985]
["female",24,11021,10715,10916,11057,10520,10031,9538,8631,8247,8250,8247,8786,9330,9499,9400,9626,9837,10060,10236,10317,10377,10902,11187,11383,11501,11252,11109,10622,10186,10415,10452,9990,null,24,243316,240667,238421,236540,234612,234384,234897,236622,238004,239921,241125,243176,245450,247820,250083,253235,256122,257582,260381,262740,264507,265494,267009,266520,266389,265678,265295,264365,263343,262582,263718,265975]
["female",25,11079,10951,11180,10972,11110,10633,10074,9204,8781,8475,8278,8354,8944,9548,9631,9673,9732,9923,10133,10266,10286,10456,10975,11142,11339,11384,11139,11073,10512,10204,10475,10612,null,25,254395,251618,249601,247512,245722,245017,244971,245826,246785,248396,249403,251530,254394,257368,259714,262908,265854,267505,270514,273006,274793,275950,277984,277662,277728,277062,276434,275438,273855,272786,274193,276587]
["female",26,11553,10953,11158,11110,10881,11083,10529,9886,9258,8828,8569,8343,8514,9291,9699,9859,9812,9850,10027,10170,10368,10364,10623,11086,11351,11453,11441,11159,11018,10711,10362,10790,null,26,265948,262571,260759,258622,256603,256100,255500,255712,256043,257224,257972,259873,262908,266659,269413,272767,275666,277355,280541,283176,285161,286314,288607,288748,289079,288515,287875,286597,284873,283497,284555,287377]
["female",27,11674,11562,11088,11219,11126,10923,11081,10594,10015,9174,8903,8734,8559,8728,9473,10004,10020,9939,10062,10038,10260,10443,10565,10759,11279,11595,11604,11610,11296,11228,10934,10730,null,27,277622,274133,271847,269841,267729,267023,266581,266306,266058,266398,266875,268607,271467,275387,278886,282771,285686,287294,290603,293214,295421,296757,299172,299507,300358,300110,299479,298207,296169,294725,295489,298107]
["female",28,11571,11654,11744,11219,11358,11254,10951,11067,10659,10020,9238,9064,8908,8776,8906,9679,10270,10119,10150,10189,10214,10460,10618,10839,11122,11609,11821,11768,11775,11574,11456,11314,null,28,289193,285787,283591,281060,279087,278277,277532,277373,276717,276418,276113,277671,280375,284163,287792,292450,295956,297413,300753,303403,305635,307217,309790,310346,311480,311719,311300,309975,307944,306299,306945,309421]
["female",29,11421,11478,11790,11873,11311,11495,11270,10942,11178,10669,10169,9426,9288,9203,8973,9129,9844,10414,10420,10323,10328,10414,10673,10804,11111,11443,11894,12177,11965,12022,11817,11895,null,29,300614,297265,295381,292933,290398,289772,288802,288315,287895,287087,286282,287097,289663,293366,296765,301579,305800,307827,311173,313726,315963,317631,320463,321150,322591,323162,323194,322152,319909,318321,318762,321316]
["female",30,11505,11459,11667,11866,11950,11403,11547,11398,11001,11234,10835,10349,9635,9503,9337,9086,9319,9989,10602,10611,10498,10529,10650,10924,11174,11424,11772,12230,12390,12363,12406,12192,null,30,312119,308724,307048,304799,302348,301175,300349,299713,298896,298321,297117,297446,299298,302869,306102,310665,315119,317816,321775,324337,326461,328160,331113,332074,333765,334586,334966,334382,332299,330684,331168,333508]
["female",31,11091,11538,11614,11685,11900,12034,11428,11606,11514,11089,11345,10954,10484,9898,9734,9503,9273,9450,10143,10745,10827,10656,10761,10850,11187,11465,11733,12106,12427,12836,12655,12719,null,31,323210,320262,318662,316484,314248,313209,311777,311319,310410,309410,308462,308400,309782,312767,315836,320168,324392,327266,331918,335082,337288,338816,341874,342924,344952,346051,346699,346488,344726,343520,343823,346227]
["female",32,10710,11078,11611,11650,11712,11960,12064,11776,11772,11637,11249,11558,11100,10706,10122,9910,9730,9453,9595,10307,10869,11037,10868,11041,11157,11421,11670,12081,12386,12835,13238,13126,null,32,333920,331340,330273,328134,325960,325169,323841,323095,322182,321047,319711,319958,320882,323473,325958,330078,334122,336719,341513,345389,348157,349853,352742,353965,356109,357472,358369,358569,357112,356355,357061,359353]
["female",33,10716,10740,11156,11693,11732,11790,12032,12437,12026,11848,11775,11453,11777,11303,10901,10399,10129,9853,9602,9763,10465,11110,11281,11099,11283,11425,11736,11980,12278,12802,13280,13673,null,33,{"$f":"AK141+C142","v":344636},{"$f":"AL141+D142","v":342080},{"$f":"AM141+E142","v":341429},{"$f":"AN141+F142","v":339827},{"$f":"AO141+G142","v":337692},{"$f":"AP141+H142","v":336959},{"$f":"AQ141+I142","v":335873},{"$f":"AR141+J142","v":335532},{"$f":"AS141+K142","v":334208},{"$f":"AT141+L142","v":332895},{"$f":"AU141+M142","v":331486},{"$f":"AV141+N142","v":331411},{"$f":"AW141+O142","v":332659},{"$f":"AX141+P142","v":334776},{"$f":"AY141+Q142","v":336859},{"$f":"AZ141+R142","v":340477},{"$f":"BA141+S142","v":344251},{"$f":"BB141+T142","v":346572},{"$f":"BC141+U142","v":351115},{"$f":"BD141+V142","v":355152},{"$f":"BE141+W142","v":358622},{"$f":"BF141+X142","v":360963},{"$f":"BG141+Y142","v":364023},{"$f":"BH141+Z142","v":365064},{"$f":"BI141+AA142","v":367392},{"$f":"BJ141+AB142","v":368897},{"$f":"BK141+AC142","v":370105},{"$f":"BL141+AD142","v":370549},{"$f":"BM141+AE142","v":369390},{"$f":"BN141+AF142","v":369157},{"$f":"BO141+AG142","v":370341},373026]
["female",34,10599,10647,10739,11127,11706,11764,11759,12327,12580,12187,12054,11975,11615,11920,11462,11106,10606,10246,9992,9730,9896,10655,11364,11535,11375,11499,11632,11961,12243,12638,13140,13729,null,34,355235,352727,352168,350954,349398,348723,347632,347859,346788,345082,343540,343386,344274,346696,348321,351583,354857,356818,361107,364882,368518,371618,375387,376599,378767,380396,381737,382510,381633,381795,383481,386755]
["female",35,10218,10597,10682,10752,11150,11786,11810,12126,12552,12630,12346,12205,12208,11877,12105,11634,11299,10850,10410,10105,9906,10052,10872,11621,11814,11608,11767,11849,12157,12626,13065,13570,null,35,365453,363324,362850,361706,360548,360509,359442,359985,359340,357712,355886,355591,356482,358573,360426,363217,366156,367668,371517,374987,378424,381670,386259,388220,390581,392004,393504,394359,393790,394421,396546,400325]
["female",36,10146,10272,10683,10749,10841,11259,11891,12013,12294,12667,12754,12518,12413,12374,12031,12262,11766,11383,10930,10492,10264,10070,10232,11111,11841,12011,11779,12022,12019,12530,13061,13526,null,36,375599,373596,373533,372455,371389,371768,371333,371998,371634,370379,368640,368109,368895,370947,372457,375479,377922,379051,382447,385479,388688,391740,396491,399331,402422,404015,405283,406381,405809,406951,409607,413851]
["female",37,9926,10179,10332,10730,10807,10923,11339,12087,12204,12419,12746,12833,12735,12561,12575,12189,12380,11888,11537,10986,10639,10345,10320,10443,11345,12031,12178,11988,12147,12274,12834,13399,null,37,385525,383775,383865,383185,382196,382691,382672,384085,383838,382798,381386,380942,381630,383508,385032,387668,390302,390939,393984,396465,399327,402085,406811,409774,413767,416046,417461,418369,417956,419225,422441,427250]
["female",38,10109,9935,10199,10340,10742,10830,10951,11485,12220,12345,12552,12840,12945,12851,12714,12680,12326,12487,11943,11616,11153,10804,10550,10464,10606,11563,12220,12324,12144,12339,12691,13198,null,38,395634,393710,394064,393525,392938,393521,393623,395570,396058,395143,393938,393782,394575,396359,397746,400348,402628,403426,405927,408081,410480,412889,417361,420238,424373,427609,429681,430693,430100,431564,435132,440448]
["female",39,10107,10126,9971,10202,10351,10776,10842,11155,11572,12278,12455,12633,12943,13047,13026,12836,12782,12451,12522,11969,11746,11311,11017,10761,10709,10777,11785,12426,12452,12339,12613,13011,null,39,405741,403836,404035,403727,403289,404297,404465,406725,407630,407421,406393,406415,407518,409406,410772,413184,415410,415877,418449,420050,422226,424200,428378,430999,435082,438386,441466,443119,442552,443903,447745,453459]
["female",40,9960,10061,10136,9938,10160,10322,10737,10966,11255,11656,12318,12504,12733,13014,13128,13153,12891,12876,12606,12632,12101,11967,11473,11174,10936,10867,10929,11917,12557,12582,12650,12906,null,40,415701,413897,414171,413665,413449,414619,415202,417691,418885,419077,418711,418919,420251,422420,423900,426337,428301,428753,431055,432682,434327,436167,439851,442173,446018,449253,452395,455036,455109,456485,460395,466365]
["female",41,10235,9997,10129,10187,9987,10217,10369,10828,11121,11286,11744,12372,12615,12855,13093,13253,13206,12957,12989,12716,12679,12276,12120,11594,11310,11016,10977,11029,12049,12736,12893,12979,null,41,425936,423894,424300,423852,423436,424836,425571,428519,430006,430363,430455,431291,432866,435275,436993,439590,441507,441710,444044,445398,447006,448443,451971,453767,457328,460269,463372,466065,467158,469221,473288,479344]
["female",42,10679,10204,10014,10127,10194,10005,10210,10471,10860,11170,11349,11780,12409,12706,12969,13195,13264,13291,13004,13089,12738,12783,12395,12254,11657,11437,11082,11085,11140,12223,12962,13105,null,42,436615,434098,434314,433979,433630,434841,435781,438990,440866,441533,441804,443071,445275,447981,449962,452785,454771,455001,457048,458487,459744,461226,464366,466021,468985,471706,474454,477150,478298,481444,486250,492449]
["female",43,11424,10638,10200,10016,10118,10201,9995,10286,10539,10886,11218,11382,11838,12480,12776,13047,13246,13292,13383,13031,13181,12860,12963,12491,12339,11731,11518,11180,11168,11224,12347,13074,null,43,448039,444736,444514,443995,443748,445042,445776,449276,451405,452419,453022,454453,457113,460461,462738,465832,468017,468293,470431,471518,472925,474086,477329,478512,481324,483437,485972,488330,489466,492668,498597,505523]
["female",44,12427,11361,10623,10174,10017,10126,10197,10146,10352,10578,10915,11292,11439,11850,12497,12869,13046,13321,13315,13409,13106,13275,12968,13022,12602,12409,11835,11599,11263,11251,11407,12556,null,44,460466,456097,455137,454169,453765,455168,455973,459422,461757,462997,463937,465745,468552,472311,475235,478701,481063,481614,483746,484927,486031,487361,490297,491534,493926,495846,497807,499929,500729,503919,510004,518079]
["female",45,13892,12403,11335,10613,10179,10035,10132,10304,10187,10344,10588,10970,11314,11505,11882,12528,12885,13082,13363,13313,13477,13181,13354,12998,13078,12693,12488,11893,11674,11356,11379,11594,null,45,474358,468500,466472,464782,463944,465203,466105,469726,471944,473341,474525,476715,479866,483816,487117,491229,493948,494696,497109,498240,499508,500542,503651,504532,507004,508539,510295,511822,512403,515275,521383,529673]
["female",46,10816,13824,12398,11312,10601,10179,10026,10179,10358,10218,10339,10614,11025,11327,11532,11960,12543,12915,13082,13392,13405,13499,13241,13383,13013,13120,12733,12570,11899,11705,11502,11553,null,46,485174,482324,478870,476094,474545,475382,476131,479905,482302,483559,484864,487329,490891,495143,498649,503189,506491,507611,510191,511632,512913,514041,516892,517915,520017,521659,523028,524392,524302,526980,532885,541226]
["female",47,10143,10782,13743,12383,11264,10578,10151,10099,10189,10356,10204,10380,10626,11103,11339,11614,12020,12547,12927,13115,13446,13434,13540,13310,13424,13077,13175,12759,12534,11996,11821,11619,null,47,495317,493106,492613,488477,485809,485960,486282,490004,492491,493915,495068,497709,501517,506246,509988,514803,518511,520158,523118,524747,526359,527475,530432,531225,533441,534736,536203,537151,536836,538976,544706,552845]
["female",48,10255,10157,10788,13728,12415,11282,10590,10193,10160,10187,10327,10209,10396,10677,11130,11413,11662,12035,12541,12917,13167,13518,13481,13582,13356,13449,13108,13207,12773,12541,12034,11871,null,48,505572,503263,503401,502205,498224,497242,496872,500197,502651,504102,505395,507918,511913,516923,521118,526216,530173,532193,535659,537664,539526,540993,543913,544807,546797,548185,549311,550358,549609,551517,556740,564716]
["female",49,9670,10198,10156,10769,13677,12396,11250,10596,10256,10221,10210,10312,10210,10410,10643,11179,11444,11691,12044,12506,12931,13195,13540,13541,13613,13373,13485,13104,13207,12749,12575,12125,null,49,515242,513461,513557,512974,511901,509638,508122,510793,512907,514323,515605,518230,522123,527333,531761,537395,541617,543884,547703,550170,552457,554188,557453,558348,560410,561558,562796,563462,562816,564266,569315,576841]
["female",50,8601,9627,10125,10162,10749,13641,12375,11275,10605,10286,10197,10205,10288,10223,10423,10635,11176,11466,11699,12056,12513,12944,13220,13595,13546,13582,13354,13524,13091,13207,12824,12632,null,50,523843,523088,523682,523136,522650,523279,520497,522068,523512,524609,525802,528435,532411,537556,542184,548030,552793,555350,559402,562226,564970,567132,570673,571943,573956,575140,576150,576986,575907,577473,582139,589473]
["female",51,7927,8593,9623,10125,10193,10765,13632,12416,11243,10608,10265,10154,10183,10291,10234,10440,10683,11182,11456,11701,12058,12523,12986,13269,13627,13498,13573,13318,13511,13059,13206,12863,null,51,531770,531681,533305,533261,532843,534044,534129,534484,534755,535217,536067,538589,542594,547847,552418,558470,563476,566532,570858,573927,577028,579655,583659,585212,587583,588638,589723,590304,589418,590532,595345,602336]
["female",52,8403,7890,8545,9582,10064,10167,10727,13595,12427,11208,10636,10213,10122,10180,10243,10205,10457,10708,11171,11505,11739,12069,12579,12955,13271,13670,13504,13546,13285,13471,13079,13206,null,52,540173,539571,541850,542843,542907,544211,544856,548079,547182,546425,546703,548802,552716,558027,562661,568675,573933,577240,582029,585432,588767,591724,596238,598167,600854,602308,603227,603850,602703,604003,608424,615542]
["female",53,8442,8372,7901,8530,9574,10039,10168,10784,13598,12436,11203,10595,10201,10087,10209,10216,10198,10431,10737,11176,11527,11777,12070,12619,12976,13262,13660,13531,13519,13295,13506,13061,null,53,548615,547943,549751,551373,552481,554250,555024,558863,560780,558861,557906,559397,562917,568114,572870,578891,584131,587671,592766,596608,600294,603501,608308,610786,613830,615570,616887,617381,616222,617298,621930,628603]
["female",54,8307,8454,8377,7936,8531,9577,10007,10229,10801,13492,12380,11209,10574,10196,10007,10200,10180,10165,10455,10732,11186,11523,11769,12037,12620,12981,13252,13636,13457,13526,13327,13396,null,54,556922,556397,558128,559309,561012,563827,565031,569092,571581,572353,570286,570606,573491,578310,582877,589091,594311,597836,603221,607340,611480,615024,620077,622823,626450,628551,630139,631017,629679,630824,635257,641999]
["female",55,8116,8292,8440,8365,7940,8517,9566,9973,10238,10831,13495,12312,11203,10544,10179,10021,10162,10138,10166,10471,10758,11179,11535,11773,12065,12587,13000,13221,13545,13411,13537,13344,null,55,565038,564689,566568,567674,568952,572344,574597,579065,581819,583184,583781,582918,584694,588854,593056,599112,604473,607974,613387,617811,622238,626203,631612,634596,638515,641138,643139,644238,643224,644235,648794,655343]
["female",56,7937,8104,8262,8407,8332,7935,8466,9564,9954,10242,10769,13492,12237,11201,10500,10191,9968,10150,10123,10131,10455,10764,11137,11516,11746,12031,12564,12947,13160,13532,13351,13442,null,56,572975,572793,574830,576081,577284,580279,583063,588629,591773,593426,594550,596410,596931,600055,603556,609303,614441,618124,623510,627942,632693,636967,642749,646112,650261,653169,655703,657185,656384,657767,662145,668785]
["female",57,7791,7909,8096,8252,8409,8322,7924,8444,9542,9913,10150,10701,13449,12139,11198,10495,10132,9939,10136,10093,10158,10455,10801,11101,11478,11687,11975,12565,12876,13106,13501,13293,null,57,580766,580702,582926,584333,585693,588601,590987,597073,601315,603339,604700,607111,610380,612194,614754,619798,624573,628063,633646,638035,642851,647422,653550,657213,661739,664856,667678,669750,669260,670873,675646,682078]
["female",58,7506,7733,7864,8049,8205,8372,8277,7888,8420,9496,9914,10047,10648,13478,12110,11216,10482,10091,9898,10123,10108,10101,10445,10783,11099,11444,11617,11961,12488,12880,13095,13419,null,58,588272,588435,590790,592382,593898,596973,599264,604961,609735,612835,614614,617158,621028,625672,626864,631014,635055,638154,643544,648158,652959,657523,663995,667996,672838,676300,679295,681711,681748,683753,688741,695497]
["female",59,7576,7481,7705,7848,8023,8179,8352,8284,7870,8393,9496,9864,9982,10579,13484,12086,11185,10505,10094,9863,10134,10127,10073,10433,10758,11061,11455,11583,11901,12437,12800,13049,null,59,595848,595916,598495,600230,601921,605152,607616,613245,617605,621228,624110,627022,631010,636251,640348,643100,646240,648659,653638,658021,663093,667650,674068,678429,683596,687361,690750,693294,693649,696190,701541,708546]
["female",60,7761,7552,7447,7694,7820,8008,8152,8337,8316,7852,8397,9478,9862,9940,10540,13439,12038,11162,10457,10100,9843,10094,10124,10108,10367,10697,11027,11355,11496,11889,12404,12736,null,60,603609,603468,605942,607924,609741,613160,615768,621582,625921,629080,632507,636500,640872,646191,650888,656539,658278,659821,664095,668121,672936,677744,684192,688537,693963,698058,701777,704649,705145,708079,713945,721282]
["female",61,7965,7717,7547,7439,7707,7820,8028,8179,8334,8289,7796,8381,9437,9819,9904,10492,13411,11963,11150,10423,10124,9839,10090,10144,10105,10355,10658,11015,11301,11416,11833,12299,null,61,611574,611185,613489,615363,617448,620980,623796,629761,634255,637369,640303,644881,650309,656010,660792,667031,671689,671784,675245,678544,683060,687583,694282,698681,704068,708413,712435,715664,716446,719495,725778,733581]
["female",62,8054,7881,7652,7478,7364,7630,7748,8022,8168,8299,8263,7740,8339,9414,9783,9817,10445,13387,11932,11132,10432,10101,9854,10074,10074,10072,10325,10626,10939,11234,11344,11783,null,62,619628,619066,621141,622841,624812,628610,631544,637783,642423,645668,648566,652621,658648,665424,670575,676848,682134,685171,687177,689676,693492,697684,704136,708755,714142,718485,722760,726290,727385,730729,737122,745364]
["female",63,7894,7981,7855,7630,7477,7351,7611,7744,8029,8158,8221,8195,7697,8287,9356,9787,9759,10384,13413,11854,11109,10443,10098,9840,9977,10048,10026,10275,10571,10890,11172,11325,null,63,627522,627047,628996,630471,632289,635961,639155,645527,650452,653826,656787,660816,666345,673711,679931,686635,691893,695555,700590,701530,704601,708127,714234,718595,724119,728533,732786,736565,737956,741619,748294,756689]
["female",64,7742,7821,7925,7821,7612,7488,7347,7589,7748,8007,8098,8153,8130,7632,8257,9300,9767,9698,10343,13381,11871,11130,10431,10066,9777,9923,9982,9977,10212,10454,10822,11124,null,64,635264,634868,636921,638292,639901,643449,646502,653116,658200,661833,664885,668969,674475,681343,688188,695935,701660,705253,710933,714911,716472,719257,724665,728661,733896,738456,742768,746542,748168,752073,759116,767813]
["female",65,7886,7637,7711,7858,7759,7566,7442,7281,7565,7685,7946,8056,8099,8049,7502,8243,9294,9723,9595,10280,13333,11837,11088,10387,10020,9699,9808,9950,9924,10140,10402,10729,null,65,{"$f":"AK173+C174","v":643150},{"$f":"AL173+D174","v":642505},{"$f":"AM173+E174","v":644632},{"$f":"AN173+F174","v":646150},{"$f":"AO173+G174","v":647660},{"$f":"AP173+H174","v":651015},{"$f":"AQ173+I174","v":653944},{"$f":"AR173+J174","v":660397},{"$f":"AS173+K174","v":665765},{"$f":"AT173+L174","v":669518},{"$f":"AU173+M174","v":672831},{"$f":"AV173+N174","v":677025},{"$f":"AW173+O174","v":682574},{"$f":"AX173+P174","v":689392},{"$f":"AY173+Q174","v":695690},{"$f":"AZ173+R174","v":704178},{"$f":"BA173+S174","v":710954},{"$f":"BB173+T174","v":714976},{"$f":"BC173+U174","v":720528},{"$f":"BD173+V174","v":725191},{"$f":"BE173+W174","v":729805},{"$f":"BF173+X174","v":731094},{"$f":"BG173+Y174","v":735753},{"$f":"BH173+Z174","v":739048},{"$f":"BI173+AA174","v":743916},{"$f":"BJ173+AB174","v":748155},{"$f":"BK173+AC174","v":752576},{"$f":"BL173+AD174","v":756492},{"$f":"BM173+AE174","v":758092},{"$f":"BN173+AF174","v":762213},{"$f":"BO173+AG174","v":769518},778542]
["female",66,7908,7750,7528,7601,7756,7690,7509,7402,7229,7506,7637,7883,7976,8054,7944,7444,8198,9242,9722,9523,10214,13264,11791,11014,10295,9933,9685,9756,9901,9887,10065,10330,null,66,651058,650255,652160,653751,655416,658705,661453,667799,672994,677024,680468,684908,690550,697446,703634,711622,719152,724218,730250,734714,740019,744358,747544,750062,754211,758088,762261,766248,767993,772100,779583,788872]
["female",67,7691,7808,7704,7458,7541,7697,7634,7461,7322,7171,7430,7554,7802,7894,7949,7846,7377,8131,9156,9696,9481,10180,13225,11685,10977,10260,9857,9616,9664,9842,9841,10007,null,67,658749,658063,659864,661209,662957,666402,669087,675260,680316,684195,687898,692462,698352,705340,711583,719468,726529,732349,739406,744410,749500,754538,760769,761747,765188,768348,772118,775864,777657,781942,789424,798879]
["female",68,7836,7585,7712,7589,7324,7426,7599,7544,7393,7265,7123,7335,7489,7746,7780,7867,7769,7288,8059,9104,9644,9401,10108,13140,11581,10865,10150,9756,9545,9566,9778,9757,null,68,666585,665648,667576,668798,670281,673828,676686,682804,687709,691460,695021,699797,705841,713086,719363,727335,734298,739637,747465,753514,759144,763939,770877,774887,776769,779213,782268,785620,787202,791508,799202,808636]
["female",69,8062,7687,7491,7599,7462,7229,7336,7495,7473,7307,7171,7014,7259,7410,7613,7667,7803,7679,7166,7984,9037,9557,9316,10009,13009,11463,10737,10015,9676,9481,9485,9697,null,69,674647,673335,675067,676397,677743,681057,684022,690299,695182,698767,702192,706811,713100,720496,726976,735002,742101,747316,754631,761498,768181,773496,780193,784896,789778,790676,793005,795635,796878,800989,808687,818333]
["female",70,8267,7872,7520,7338,7458,7318,7102,7219,7378,7360,7202,7092,6913,7147,7306,7511,7575,7693,7586,7104,7936,8927,9471,9199,9922,12851,11342,10602,9905,9557,9357,9362,null,70,682914,681207,682587,683735,685201,688375,691124,697518,702560,706127,709394,713903,720013,727643,734282,742513,749676,755009,762217,768602,776117,782423,789664,794095,799700,803527,804347,806237,806783,810546,818044,827695]
["female",71,8656,8084,7713,7368,7224,7322,7195,6988,7089,7249,7254,7093,6986,6832,7009,7209,7425,7469,7595,7499,7059,7843,8822,9355,9108,9811,12690,11218,10487,9781,9444,9239,null,71,691570,689291,690300,691103,692425,695697,698319,704506,709649,713376,716648,720996,726999,734475,741291,749722,757101,762478,769812,776101,783176,790266,798486,803450,808808,813338,817037,817455,817270,820327,827488,836934]
["female",72,8944,8473,7862,7505,7202,7076,7158,7040,6825,6930,7134,7126,6956,6852,6679,6925,7104,7289,7370,7455,7383,6988,7749,8733,9217,8946,9679,12552,11118,10308,9672,9309,null,72,700514,697764,698162,698608,699627,702773,705477,711546,716474,720306,723782,728122,733955,741327,747970,756647,764205,769767,777182,783556,790559,797254,806235,812183,818025,822284,826716,830007,828388,830635,837160,846243]
["female",73,5892,8695,8265,7699,7327,7062,6947,6991,6903,6671,6793,6980,6964,6829,6664,6597,6816,6965,7180,7260,7361,7313,6887,7647,8550,9081,8828,9541,12372,10931,10157,9494,null,73,706406,706459,706427,706307,706954,709835,712424,718537,723377,726977,730575,735102,740919,748156,754634,763244,771021,776732,784362,790816,797920,804567,813122,819830,826575,831365,835544,839548,840760,841566,847317,855737]
["female",74,5371,5764,8379,8057,7512,7147,6862,6777,6823,6778,6516,6644,6862,6821,6713,6550,6494,6695,6874,7050,7161,7254,7197,6770,7519,8389,8935,8708,9324,12167,10753,9973,null,74,711777,712223,714806,714364,714466,716982,719286,725314,730200,733755,737091,741746,747781,754977,761347,769794,777515,783427,791236,797866,805081,811821,820319,826600,834094,839754,844479,848256,850084,853733,858070,865710]
["female",75,6118,5193,5622,8083,7827,7329,6954,6673,6594,6644,6606,6373,6478,6698,6667,6576,6398,6370,6548,6752,6947,7032,7139,7062,6653,7383,8231,8773,8548,9083,11945,10563,null,75,717895,717416,720428,722447,722293,724311,726240,731987,736794,740399,743697,748119,754259,761675,768014,776370,783913,789797,797784,804618,812028,818853,827458,833662,840747,847137,852710,857029,858632,862816,870015,876273]
["female",76,6350,5894,5044,5463,7771,7597,7097,6732,6461,6363,6437,6404,6156,6333,6556,6518,6410,6234,6241,6414,6611,6768,6868,6996,6908,6509,7208,8082,8601,8382,8875,11714,null,76,724245,723310,725472,727910,730064,731908,733337,738719,743255,746762,750134,754523,760415,768008,774570,782888,790323,796031,804025,811032,818639,825621,834326,840658,847655,853646,859918,865111,867233,871198,878890,887987]
["female",77,6323,6081,5709,4854,5286,7483,7354,6852,6507,6248,6180,6208,6214,5978,6156,6418,6341,6264,6049,6085,6281,6463,6626,6663,6856,6764,6353,7063,7862,8405,8159,8644,null,77,730568,729391,731181,732764,735350,739391,740691,745571,749762,753010,756314,760731,766629,773986,780726,789306,796664,802295,810074,817117,824920,832084,840952,847321,854511,860410,866271,872174,875095,879603,887049,896631]
["female",78,6209,6076,5847,5495,4679,5099,7147,7048,6604,6245,5992,5953,5988,6026,5798,6002,6201,6127,6093,5886,5948,6104,6300,6432,6486,6678,6594,6162,6888,7632,8192,7916,null,78,736777,735467,737028,738259,740029,744490,747838,752619,756366,759255,762306,766684,772617,780012,786524,795308,802865,808422,816167,823003,830868,838188,847252,853753,860997,867088,872865,878336,881983,887235,895241,904547]
["female",79,5777,5935,5852,5581,5215,4446,4937,6861,6750,6359,5975,5729,5677,5754,5800,5615,5819,6021,5920,5893,5690,5783,5930,6108,6216,6273,6446,6405,5968,6672,7423,7887,null,79,742554,741402,742880,743840,745244,748936,752775,759480,763116,765614,768281,772413,778294,785766,792324,800923,808684,814443,822087,828896,836558,843971,853182,859861,867213,873361,879311,884741,887951,893907,902664,912434]
["female",80,5382,5507,5626,5533,5281,4903,4205,4749,6457,6455,6052,5690,5469,5414,5500,5518,5410,5588,5792,5715,5701,5499,5599,5674,5942,6031,6058,6260,6187,5749,6428,7164,null,80,747936,746909,748506,749373,750525,753839,756980,764229,769573,772069,774333,778103,783763,791180,797824,806441,814094,820031,827879,834611,842259,849470,858781,865535,873155,879392,885369,891001,894138,899656,909092,919598]
["female",81,5026,5083,5193,5331,5240,4943,4641,3916,4495,6055,6133,5752,5407,5203,5132,5237,5245,5207,5341,5567,5479,5477,5299,5372,5455,5669,5786,5860,6023,5962,5513,6209,null,81,752962,751992,753699,754704,755765,758782,761621,768145,774068,778124,780466,783855,789170,796383,802956,811678,819339,825238,833220,840178,847738,854947,864080,870907,878610,885061,891155,896861,900161,905618,914605,925807]
["female",82,4770,4721,4727,4882,5020,4937,4623,4357,3634,4277,5651,5754,5392,5139,4964,4875,4969,4965,4989,5103,5325,5237,5247,5084,5127,5190,5408,5564,5591,5765,5705,5242,null,82,757732,756713,758426,759586,760785,763719,766244,772502,777702,782401,786117,789609,794562,801522,807920,816553,824308,830203,838209,845281,853063,860184,869327,875991,883737,890251,896563,902425,905752,911383,920310,931049]
["female",83,4319,4444,4352,4415,4485,4656,4579,4274,3999,3372,4029,5273,5411,5059,4838,4694,4608,4691,4723,4741,4860,5038,4975,4972,4835,4843,4904,5137,5277,5322,5481,5384,null,83,762051,761157,762778,764001,765270,768375,770823,776776,781701,785773,790146,794882,799973,806581,812758,821247,828916,834894,842932,850022,857923,865222,874302,880963,888572,895094,901467,907562,911029,916705,925791,936433]
["female",84,4163,3991,4060,3995,4075,4135,4312,4247,3906,3619,3139,3772,4904,5067,4698,4535,4437,4279,4399,4432,4464,4559,4743,4663,4691,4520,4542,4600,4825,4968,5027,5104,null,84,766214,765148,766838,767996,769345,772510,775135,781023,785607,789392,793285,798654,804877,811648,817456,825782,833353,839173,847331,854454,862387,869781,879045,885626,893263,899614,906009,912162,915854,921673,930818,941537]
["female",85,20599,21413,21662,22177,22318,22582,23010,23308,23590,5817,3328,2887,3494,4489,4729,4339,4244,4114,3960,4098,4120,4126,4298,4406,4346,4359,4251,4238,4290,4545,4656,4697,null,85,786813,786561,788500,790173,791663,795092,798145,804331,809197,795209,796613,801541,808371,816137,822185,830121,837597,843287,851291,858552,866507,873907,883343,890032,897609,903973,910260,916400,920144,926218,935474,946234]
["female",86,0,0,0,0,0,0,0,0,0,3046,3195,3041,2604,3233,4090,4388,3996,3857,3802,3658,3700,3821,3844,3942,4079,3993,4016,3924,3888,3935,4213,4269,null,86,786813,786561,788500,790173,791663,795092,798145,804331,809197,798255,799808,804582,810975,819370,826275,834509,841593,847144,855093,862210,870207,877728,887187,893974,901688,907966,914276,920324,924032,930153,939687,950503]
["female",87,0,0,0,0,0,0,0,0,0,2656,3046,2875,2757,2361,2973,3647,4042,3609,3519,3510,3349,3371,3486,3500,3576,3710,3639,3661,3597,3535,3637,3855,null,87,786813,786561,788500,790173,791663,795092,798145,804331,809197,800911,802854,807457,813732,821731,829248,838156,845635,850753,858612,865720,873556,881099,890673,897474,905264,911676,917915,923985,927629,933688,943324,954358]
["female",88,0,0,0,0,0,0,0,0,0,2361,2671,2689,2533,2459,2076,2740,3255,3654,3282,3181,3147,2999,3048,3111,3207,3221,3311,3299,3261,3233,3211,3285,null,88,786813,786561,788500,790173,791663,795092,798145,804331,809197,803272,805525,810146,816265,824190,831324,840896,848890,854407,861894,868901,876703,884098,893721,900585,908471,914897,921226,927284,930890,936921,946535,957643]
["female",89,0,0,0,0,0,0,0,0,0,2086,2325,2339,2340,2166,2142,1852,2474,2832,3274,2924,2825,2786,2692,2664,2792,2817,2814,2932,2895,2930,2881,2806,null,89,786813,786561,788500,790173,791663,795092,798145,804331,809197,805358,807850,812485,818605,826356,833466,842748,851364,857239,865168,871825,879528,886884,896413,903249,911263,917714,924040,930216,933785,939851,949416,960449]
["female","90+",0,0,0,0,0,0,0,0,0,7759,8886,9013,9183,9116,9146,9204,8864,9252,9922,10924,11369,11620,12024,11839,11864,11917,11899,12117,12036,12055,12342,12212,null,"90+",786813,786561,788500,790173,791663,795092,798145,804331,809197,813117,816736,821498,827788,835472,842612,851952,860228,866491,875090,882749,890897,898504,908437,915088,923127,929631,935939,942333,945821,951906,961758,972661]
[null,"All Females",{"$f":"SUM(C109:C199)","v":786813},{"$f":"SUM(D109:D199)","v":786561},788500,790173,791663,795092,798145,804331,809197,813117,816736,821498,827788,835472,842612,851952,860228,866491,875090,882749,890897,898504,908437,915088,923127,929631,935939,{"$f":"SUM(AD109:AD199)","v":942333},{"$f":"SUM(AE109:AE199)","v":945821},{"$f":"SUM(AF109:AF199)","v":951906},{"$f":"SUM(AG109:AG199)","v":961758},{"$f":"SUM(AH109:AH199)","v":972661}]

{"sheet":"ASH","index":10,"n_rows":200,"n_cols":106,"rows_kept":200,"cut":false,"hidden":true,"merged":[[0,68,21,68]]}
["Mid Year Population Estimates",null,null,null,null,null,null,null,null,null,null,null,null,null,null,null,null,null,null,null,null,null,null,null,null,null,null,null,null,null,null,null,null,null,null,null,{"$f":"IF(Index!$B$4-2=-1,0,OFFSET(AK16,Index!$B$4-2,0))","v":0},{"$f":"OFFSET(AK16,Index!$B$7-1,0)","v":45156},{"$f":"OFFSET(AK16,Index!$B$4-2,0)","v":0},null,null,null,null,null,null,null,null,null,null,null,null,null,null,null,null,null,null,null,null,null,null,null,null,null,null,null,null,null,"Insert column here before extending the table"]
["ONS Mid-Year Population Estimates 1991 to 2022 - (1992 to 2001 Revised 7th October 2004) ( 2002 to 2010 revised in light of the 2011 census. Released 30 April 2013)",null,null,null,null,null,null,null,null,null,null,null,null,null,null,null,null,null,null,null,null,null,null,null,null,null,null,null,null,null,null,null,null,null,null,"Selected Ages:",null,{"$f":"Index!C4&\" : \"&Index!C7","v":"0 : 90"},null,null,null,null,null,null,null,null,null,null,null,null,null,null,null,null,null,null,null,null,null,null,null,null,null,null,null,null,null,null,null,null,null,null,"Start year","End Year","Number change","% Change"]
["Revised ONS Mid-Year Population Estimates 2012 to 2020- Released 23 November 2023",null,null,null,null,null,null,null,null,null,null,null,null,null,null,null,null,null,null,null,null,null,null,null,null,null,null,null,null,null,null,null,null,null,null,null,{"$f":"AK13","v":1992},{"$f":"AL13","v":1993},{"$f":"AM13","v":1994},{"$f":"AN13","v":1995},{"$f":"AO13","v":1996},{"$f":"AP13","v":1997},1998,1999,2000,2001,2002,2003,2004,2005,2006,2007,2008,2009,2010,2011,2012,2013,2014,2015,2016,2017,{"$f":"BK13","v":2018},2019,2020,2021,2022,2023,null,null,null,null,{"$f":"INDEX($AV3:$BP3,Index!$B$16)","v":2003},{"$f":"INDEX($AV3:$BP3,Index!$B$19)","v":2023}]
["2022 MYPE released 23 November 2023",null,null,null,null,null,null,null,null,null,null,null,null,null,null,null,null,null,null,null,null,null,null,null,null,null,null,null,null,null,null,null,null,null,null,"Males",{"$f":"OFFSET(AK16,Index!$B$7-1,0)-IF(Index!$B$4-2=-1,0,OFFSET(AK16,Index!$B$4-2,0))","v":45156},{"$f":"OFFSET(AL16,Index!$B$7-1,0)-IF(Index!$B$4-2=-1,0,OFFSET(AL16,Index!$B$4-2,0))","v":45194},{"$f":"OFFSET(AM16,Index!$B$7-1,0)-IF(Index!$B$4-2=-1,0,OFFSET(AM16,Index!$B$4-2,0))","v":45562},{"$f":"OFFSET(AN16,Index!$B$7-1,0)-IF(Index!$B$4-2=-1,0,OFFSET(AN16,Index!$B$4-2,0))","v":46317},{"$f":"OFFSET(AO16,Index!$B$7-1,0)-IF(Index!$B$4-2=-1,0,OFFSET(AO16,Index!$B$4-2,0))","v":47052},{"$f":"OFFSET(AP16,Index!$B$7-1,0)-IF(Index!$B$4-2=-1,0,OFFSET(AP16,Index!$B$4-2,0))","v":47580},{"$f":"OFFSET(AQ16,Index!$B$7-1,0)-IF(Index!$B$4-2=-1,0,OFFSET(AQ16,Index!$B$4-2,0))","v":47785},{"$f":"OFFSET(AR16,Index!$B$7-1,0)-IF(Index!$B$4-2=-1,0,OFFSET(AR16,Index!$B$4-2,0))","v":48734},{"$f":"OFFSET(AS16,Index!$B$7-1,0)-IF(Index!$B$4-2=-1,0,OFFSET(AS16,Index!$B$4-2,0))","v":49335},{"$f":"OFFSET(AT16,Index!$B$7-1,0)-IF(Index!$B$4-2=-1,0,OFFSET(AT16,Index!$B$4-2,0))","v":50142},{"$f":"OFFSET(AU16,Index!$B$7-1,0)-IF(Index!$B$4-2=-1,0,OFFSET(AU16,Index!$B$4-2,0))","v":50755},{"$f":"OFFSET(AV16,Index!$B$7-1,0)-IF(Index!$B$4-2=-1,0,OFFSET(AV16,Index!$B$4-2,0))","v":51309},{"$f":"OFFSET(AW16,Index!$B$7-1,0)-IF(Index!$B$4-2=-1,0,OFFSET(AW16,Index!$B$4-2,0))","v":52041},{"$f":"OFFSET(AX16,Index!$B$7-1,0)-IF(Index!$B$4-2=-1,0,OFFSET(AX16,Index!$B$4-2,0))","v":53017},{"$f":"OFFSET(AY16,Index!$B$7-1,0)-IF(Index!$B$4-2=-1,0,OFFSET(AY16,Index!$B$4-2,0))","v":54010},{"$f":"OFFSET(AZ16,Index!$B$7-1,0)-IF(Index!$B$4-2=-1,0,OFFSET(AZ16,Index!$B$4-2,0))","v":54954},{"$f":"OFFSET(BA16,Index!$B$7-1,0)-IF(Index!$B$4-2=-1,0,OFFSET(BA16,Index!$B$4-2,0))","v":55603},{"$f":"OFFSET(BB16,Index!$B$7-1,0)-IF(Index!$B$4-2=-1,0,OFFSET(BB16,Index!$B$4-2,0))","v":56188},{"$f":"OFFSET(BC16,Index!$B$7-1,0)-IF(Index!$B$4-2=-1,0,OFFSET(BC16,Index!$B$4-2,0))","v":56737},{"$f":"OFFSET(BD16,Index!$B$7-1,0)-IF(Index!$B$4-2=-1,0,OFFSET(BD16,Index!$B$4-2,0))","v":57441},{"$f":"OFFSET(BE16,Index!$B$7-1,0)-IF(Index!$B$4-2=-1,0,OFFSET(BE16,Index!$B$4-2,0))","v":58265},{"$f":"OFFSET(BF16,Index!$B$7-1,0)-IF(Index!$B$4-2=-1,0,OFFSET(BF16,Index!$B$4-2,0))","v":59100},{"$f":"OFFSET(BG16,Index!$B$7-1,0)-IF(Index!$B$4-2=-1,0,OFFSET(BG16,Index!$B$4-2,0))","v":60015},{"$f":"OFFSET(BH16,Index!$B$7-1,0)-IF(Index!$B$4-2=-1,0,OFFSET(BH16,Index!$B$4-2,0))","v":60503},{"$f":"OFFSET(BI16,Index!$B$7-1,0)-IF(Index!$B$4-2=-1,0,OFFSET(BI16,Index!$B$4-2,0))","v":61339},{"$f":"OFFSET(BJ16,Index!$B$7-1,0)-IF(Index!$B$4-2=-1,0,OFFSET(BJ16,Index!$B$4-2,0))","v":62218},{"$f":"OFFSET(BK16,Index!$B$7-1,0)-IF(Index!$B$4-2=-1,0,OFFSET(BK16,Index!$B$4-2,0))","v":63044},{"$f":"OFFSET(BL16,Index!$B$7-1,0)-IF(Index!$B$4-2=-1,0,OFFSET(BL16,Index!$B$4-2,0))","v":63439},{"$f":"OFFSET(BM16,Index!$B$7-1,0)-IF(Index!$B$4-2=-1,0,OFFSET(BM16,Index!$B$4-2,0))","v":63913},{"$f":"OFFSET(BN16,Index!$B$7-1,0)-IF(Index!$B$4-2=-1,0,OFFSET(BN16,Index!$B$4-2,0))","v":64793},{"$f":"OFFSET(BO16,Index!$B$7-1,0)-IF(Index!$B$4-2=-1,0,OFFSET(BO16,Index!$B$4-2,0))","v":66086},{"$f":"OFFSET(BP16,Index!$B$7-1,0)-IF(Index!$B$4-2=-1,0,OFFSET(BP16,Index!$B$4-2,0))","v":67306},null,null,null,null,{"$f":"INDEX($AV4:$BL4,Index!$B$16)","v":51309},{"$f":"INDEX($AV4:$BP4,Index!$B$19)","v":67306},{"$f":"BV4-BU4","v":15997},{"$f":"BW4/BU4","v":0.31177766083922898}]
[null,null,null,null,null,null,null,null,null,null,null,null,null,null,null,null,null,null,null,null,null,null,null,null,null,null,null,null,null,null,null,null,null,null,null,"Females",{"$f":"OFFSET(AK109,Index!$B$7-1,0)-IF(Index!$B$4-2=-1,0,OFFSET(AK109,Index!$B$4-2,0))","v":47936},{"$f":"OFFSET(AL109,Index!$B$7-1,0)-IF(Index!$B$4-2=-1,0,OFFSET(AL109,Index!$B$4-2,0))","v":47898},{"$f":"OFFSET(AM109,Index!$B$7-1,0)-IF(Index!$B$4-2=-1,0,OFFSET(AM109,Index!$B$4-2,0))","v":48201},{"$f":"OFFSET(AN109,Index!$B$7-1,0)-IF(Index!$B$4-2=-1,0,OFFSET(AN109,Index!$B$4-2,0))","v":48749},{"$f":"OFFSET(AO109,Index!$B$7-1,0)-IF(Index!$B$4-2=-1,0,OFFSET(AO109,Index!$B$4-2,0))","v":49390},{"$f":"OFFSET(AP109,Index!$B$7-1,0)-IF(Index!$B$4-2=-1,0,OFFSET(AP109,Index!$B$4-2,0))","v":49956},{"$f":"OFFSET(AQ109,Index!$B$7-1,0)-IF(Index!$B$4-2=-1,0,OFFSET(AQ109,Index!$B$4-2,0))","v":50190},{"$f":"OFFSET(AR109,Index!$B$7-1,0)-IF(Index!$B$4-2=-1,0,OFFSET(AR109,Index!$B$4-2,0))","v":51338},{"$f":"OFFSET(AS109,Index!$B$7-1,0)-IF(Index!$B$4-2=-1,0,OFFSET(AS109,Index!$B$4-2,0))","v":52042},{"$f":"OFFSET(AT109,Index!$B$7-1,0)-IF(Index!$B$4-2=-1,0,OFFSET(AT109,Index!$B$4-2,0))","v":52882},{"$f":"OFFSET(AU109,Index!$B$7-1,0)-IF(Index!$B$4-2=-1,0,OFFSET(AU109,Index!$B$4-2,0))","v":53622},{"$f":"OFFSET(AV109,Index!$B$7-1,0)-IF(Index!$B$4-2=-1,0,OFFSET(AV109,Index!$B$4-2,0))","v":54327},{"$f":"OFFSET(AW109,Index!$B$7-1,0)-IF(Index!$B$4-2=-1,0,OFFSET(AW109,Index!$B$4-2,0))","v":55223},{"$f":"OFFSET(AX109,Index!$B$7-1,0)-IF(Index!$B$4-2=-1,0,OFFSET(AX109,Index!$B$4-2,0))","v":56392},{"$f":"OFFSET(AY109,Index!$B$7-1,0)-IF(Index!$B$4-2=-1,0,OFFSET(AY109,Index!$B$4-2,0))","v":57449},{"$f":"OFFSET(AZ109,Index!$B$7-1,0)-IF(Index!$B$4-2=-1,0,OFFSET(AZ109,Index!$B$4-2,0))","v":58332},{"$f":"OFFSET(BA109,Index!$B$7-1,0)-IF(Index!$B$4-2=-1,0,OFFSET(BA109,Index!$B$4-2,0))","v":58953},{"$f":"OFFSET(BB109,Index!$B$7-1,0)-IF(Index!$B$4-2=-1,0,OFFSET(BB109,Index!$B$4-2,0))","v":59506},{"$f":"OFFSET(BC109,Index!$B$7-1,0)-IF(Index!$B$4-2=-1,0,OFFSET(BC109,Index!$B$4-2,0))","v":60238},{"$f":"OFFSET(BD109,Index!$B$7-1,0)-IF(Index!$B$4-2=-1,0,OFFSET(BD109,Index!$B$4-2,0))","v":60964},{"$f":"OFFSET(BE109,Index!$B$7-1,0)-IF(Index!$B$4-2=-1,0,OFFSET(BE109,Index!$B$4-2,0))","v":61926},{"$f":"OFFSET(BF109,Index!$B$7-1,0)-IF(Index!$B$4-2=-1,0,OFFSET(BF109,Index!$B$4-2,0))","v":62750},{"$f":"OFFSET(BG109,Index!$B$7-1,0)-IF(Index!$B$4-2=-1,0,OFFSET(BG109,Index!$B$4-2,0))","v":63667},{"$f":"OFFSET(BH109,Index!$B$7-1,0)-IF(Index!$B$4-2=-1,0,OFFSET(BH109,Index!$B$4-2,0))","v":64077},{"$f":"OFFSET(BI109,Index!$B$7-1,0)-IF(Index!$B$4-2=-1,0,OFFSET(BI109,Index!$B$4-2,0))","v":64988},{"$f":"OFFSET(BJ109,Index!$B$7-1,0)-IF(Index!$B$4-2=-1,0,OFFSET(BJ109,Index!$B$4-2,0))","v":65831},{"$f":"OFFSET(BK109,Index!$B$7-1,0)-IF(Index!$B$4-2=-1,0,OFFSET(BK109,Index!$B$4-2,0))","v":66657},{"$f":"OFFSET(BL109,Index!$B$7-1,0)-IF(Index!$B$4-2=-1,0,OFFSET(BL109,Index!$B$4-2,0))","v":67027},{"$f":"OFFSET(BM109,Index!$B$7-1,0)-IF(Index!$B$4-2=-1,0,OFFSET(BM109,Index!$B$4-2,0))","v":67518},{"$f":"OFFSET(BN109,Index!$B$7-1,0)-IF(Index!$B$4-2=-1,0,OFFSET(BN109,Index!$B$4-2,0))","v":68428},{"$f":"OFFSET(BO109,Index!$B$7-1,0)-IF(Index!$B$4-2=-1,0,OFFSET(BO109,Index!$B$4-2,0))","v":69655},{"$f":"OFFSET(BP109,Index!$B$7-1,0)-IF(Index!$B$4-2=-1,0,OFFSET(BP109,Index!$B$4-2,0))","v":70977},null,null,null,null,{"$f":"INDEX($AV5:$BL5,Index!$B$16)","v":54327},{"$f":"INDEX($AV5:$BP5,Index!$B$19)","v":70977},{"$f":"BV5-BU5","v":16650},{"$f":"BW5/BU5","v":0.30647744215583411}]
[null,null,null,null,null,null,null,null,null,null,null,null,null,null,null,null,null,null,null,null,null,null,null,null,null,null,null,null,null,null,null,null,null,null,null,"Total",{"$f":"SUM(AK4:AK5)","v":93092},{"$f":"SUM(AL4:AL5)","v":93092},{"$f":"SUM(AM4:AM5)","v":93763},{"$f":"SUM(AN4:AN5)","v":95066},{"$f":"SUM(AO4:AO5)","v":96442},{"$f":"SUM(AP4:AP5)","v":97536},97975,100072,101377,103024,104377,105636,107264,109409,111459,113286,114556,115694,116975,118405,120191,{"$f":"SUM(BF4:BF5)","v":121850},123682,124580,126327,128049,129701,130466,{"$f":"SUM(BM4:BM5)","v":131431},133221,{"$f":"SUM(BO4:BO5)","v":135741},138283,null,null,null,null,{"$f":"INDEX($AV6:$BL6,Index!$B$16)","v":105636},{"$f":"INDEX($AV6:$BP6,Index!$B$19)","v":138283},{"$f":"BV6-BU6","v":32647},{"$f":"BW6/BU6","v":0.3090518383884282}]
[]
[null,null,null,null,null,null,null,null,null,null,null,null,null,null,null,null,null,null,null,null,null,null,null,null,null,null,null,null,null,null,null,null,null,null,null,"Males",{"$f":"IF(AK4<0,\"0\",AK4)","v":45156},{"$f":"IF(AL4<0,\"0\",AL4)","v":45194},45562,46317,47052,47580,47785,48734,49335,50142,50755,51309,52041,53017,54010,54954,55603,56188,56737,57441,58265,59100,60015,60503,61339,62218,{"$f":"IF(BK4<0,\"0\",BK4)","v":63044},63439,63913,{"$f":"IF(BN4<0,\"0\",BN4)","v":64793},66086,{"$f":"IF(BP4<0,\"0\",BP4)","v":67306}]
[null,null,null,null,null,null,null,null,null,null,null,null,null,null,null,null,null,null,null,null,null,null,null,null,null,null,null,null,null,null,null,null,null,null,null,"Females",{"$f":"IF(AK5<0,\"0\",AK5)","v":47936},{"$f":"IF(AL5<0,\"0\",AL5)","v":47898},48201,48749,49390,49956,50190,51338,52042,52882,53622,54327,55223,56392,57449,58332,58953,59506,60238,60964,61926,62750,63667,64077,64988,65831,66657,67027,67518,{"$f":"IF(BN5<0,\"0\",BN5)","v":68428},69655,{"$f":"IF(BP5<0,\"0\",BP5)","v":70977}]
[null,null,null,null,null,null,null,null,null,null,null,null,null,null,null,null,null,null,null,null,null,null,null,null,null,null,null,null,null,null,null,null,null,null,null,"Total",{"$f":"SUM(AK8:AK9)","v":93092},{"$f":"SUM(AL8:AL9)","v":93092},93763,95066,96442,97536,97975,100072,101377,103024,104377,105636,107264,109409,111459,113286,114556,115694,116975,118405,120191,121850,123682,124580,126327,128049,{"$f":"SUM(BK8:BK9)","v":129701},130466,131431,133221,135741,138283]
[]
[null,null,null,"MYE for  . . . . . .",null,null,null,"Ashford",null,null,null,null,null,null,null,null,null,null,null,null,null,null,null,null,null,null,null,null,null,null,null,null,null,null,null,null,null,null,null,null,"Cummulative Ages",null,null,null,null,null,null,null,null,null,null,null,null,null,null,null,null,null,null,null,null,null,null,null,null,null,null,null,null,"Population Pyramid"]
[null,null,"Base Year",null,null,null,null,null,null,null,null,null,null,null,null,null,null,null,null,null,null,null,null,null,null,null,null,null,null,null,null,null,null,null,null,null,{"$f":"C14","v":1992},1993,1994,1995,1996,1997,1998,1999,2000,2001,2002,2003,2004,2005,2006,2007,2008,2009,2010,2011,2012,2013,2014,2015,2016,2017,2018,2019,2020,2021,2022,2023]
["Sex","Age",1992,1993,1994,1995,1996,1997,1998,1999,2000,2001,2002,2003,2004,2005,2006,2007,2008,2009,2010,2011,2012,2013,2014,2015,2016,2017,2018,2019,2020,2021,2022,2023,null,null,null,null,null,null,null,null,null,null,null,null,null,null,null,null,null,null,null,null,null,null,null,null,null,null,null,null,null,null,null,null,null,null,null,null,null,null,1992,1993,1994,1995,1996,1997,1998,1999,2000,2001,2002,2003,2004,2005,2006,2007,2008,2009,2010,2011,2012,2013,2014,2015,2016,2017,2018,2019,2020,2021,2022,2023,null,{"$f":"INDEX(CC14:CY14,'Population Pyramid'!$L$1)","v":2020}]
[null,"All persons",{"$f":"SUM(C107,C200)","v":93092},{"$f":"SUM(D107,D200)","v":93092},93763,95066,96442,97536,97975,100072,101377,103024,104377,105636,107264,109409,111459,113286,114556,115694,116975,118405,120191,121850,123682,124580,126327,128049,129701,{"$f":"SUM(AD107,AD200)","v":130466},{"$f":"SUM(AE107,AE200)","v":131431},{"$f":"SUM(AF107,AF200)","v":133221},{"$f":"SUM(AG107,AG200)","v":135741},{"$f":"SUM(AH107,AH200)","v":138283},null,"Males",null,null,null,null,null,null,null,null,null,null,null,null,null,null,null,null,null,null,null,null,null,null,null,null,null,null,null,null,null,null,null,null,null,"Males","All Ages",null,{"$f":"C107","v":45156},45194,45562,46317,47052,47580,47785,48734,49335,50142,50755,51309,52041,53017,54010,54954,55603,56188,56737,57441,58265,59100,60015,60503,61339,62218,63044,63439,63913,64793,66086,67306,null,{"$f":"INDEX(CC15:CY15,'Population Pyramid'!$L$1)","v":63913}]
["male",0,657,642,637,617,642,660,629,639,617,648,666,657,688,711,689,727,772,756,742,774,789,777,732,772,791,791,793,711,708,727,758,733,null,0,{"$f":"C16","v":657},642,637,617,642,660,629,639,617,648,666,657,688,711,689,727,772,756,742,774,789,777,732,772,791,791,793,711,708,727,758,733,null,"Males","0-4",null,{"$f":"SUM(C16:C20)","v":3280},3271,3305,3290,3294,3318,3242,3388,3381,3358,3381,3436,3482,3554,3610,3636,3747,3780,3824,3901,3922,3955,3911,3975,4042,4040,4045,3941,3887,3855,3969,3922,null,{"$f":"INDEX(CC16:CY16,'Population Pyramid'!$L$1)","v":3887}]
["male",1,662,657,680,653,627,658,662,665,662,631,653,693,685,703,731,702,730,798,759,737,798,814,788,746,792,806,807,817,723,737,774,790,null,1,{"$f":"AK16+C17","v":1319},{"$f":"AL16+D17","v":1299},{"$f":"AM16+E17","v":1317},{"$f":"AN16+F17","v":1270},{"$f":"AO16+G17","v":1269},{"$f":"AP16+H17","v":1318},{"$f":"AQ16+I17","v":1291},{"$f":"AR16+J17","v":1304},{"$f":"AS16+K17","v":1279},{"$f":"AT16+L17","v":1279},{"$f":"AU16+M17","v":1319},{"$f":"AV16+N17","v":1350},{"$f":"AW16+O17","v":1373},{"$f":"AX16+P17","v":1414},{"$f":"AY16+Q17","v":1420},{"$f":"AZ16+R17","v":1429},{"$f":"BA16+S17","v":1502},{"$f":"BB16+T17","v":1554},{"$f":"BC16+U17","v":1501},{"$f":"BD16+V17","v":1511},{"$f":"BE16+W17","v":1587},{"$f":"BF16+X17","v":1591},{"$f":"BG16+Y17","v":1520},{"$f":"BH16+Z17","v":1518},{"$f":"BI16+AA17","v":1583},{"$f":"BJ16+AB17","v":1597},{"$f":"BK16+AC17","v":1600},{"$f":"BL16+AD17","v":1528},{"$f":"BM16+AE17","v":1431},{"$f":"BN16+AF17","v":1464},{"$f":"BO16+AG17","v":1532},1523,null,"Males","5-9",null,{"$f":"SUM(C21:C25)","v":3122},3206,3259,3337,3392,3429,3490,3579,3570,3587,3687,3673,3783,3776,3794,3781,3809,3813,3797,3788,3837,3986,4029,4022,4090,4230,4295,4262,4244,4295,4386,4476,null,{"$f":"INDEX(CC17:CY17,'Population Pyramid'!$L$1)","v":4244}]
["male",2,663,656,652,684,655,626,656,705,666,681,673,680,719,697,730,747,740,747,822,769,728,794,836,823,776,802,807,801,826,734,775,779,null,2,1982,1955,1969,1954,1924,1944,1947,2009,1945,1960,1992,2030,2092,2111,2150,2176,2242,2301,2323,2280,2315,2385,2356,2341,2359,2399,2407,2329,2257,2198,2307,2302,null,"Males","10-14",null,{"$f":"SUM(C26:C30)","v":2943},2929,3003,3084,3199,3313,3406,3451,3445,3476,3610,3764,3846,3938,4015,4092,3979,4033,4005,3968,3949,4007,4031,4061,4056,4045,4175,4229,4224,4319,4488,4649,null,{"$f":"INDEX(CC18:CY18,'Population Pyramid'!$L$1)","v":4224}]
["male",3,641,663,657,655,691,659,624,697,731,674,701,679,695,732,712,740,748,738,769,834,782,757,791,833,842,781,826,799,811,847,772,823,null,3,2623,2618,2626,2609,2615,2603,2571,2706,2676,2634,2693,2709,2787,2843,2862,2916,2990,3039,3092,3114,3097,3142,3147,3174,3201,3180,3233,3128,3068,3045,3079,3125,null,"Males","15-19",null,{"$f":"SUM(C31:C35)","v":2727},2714,2703,2701,2766,2797,2853,2908,2949,3026,3099,3142,3198,3361,3497,3635,3765,3891,3960,4041,3951,3848,3901,3779,3700,3704,3737,3824,3874,3872,3833,3966,null,{"$f":"INDEX(CC19:CY19,'Population Pyramid'!$L$1)","v":3874}]
["male",4,657,653,679,681,679,715,671,682,705,724,688,727,695,711,748,720,757,741,732,787,825,813,764,801,841,860,812,813,819,810,890,797,null,4,3280,3271,3305,3290,3294,3318,3242,3388,3381,3358,3381,3436,3482,3554,3610,3636,3747,3780,3824,3901,3922,3955,3911,3975,4042,4040,4045,3941,3887,3855,3969,3922,null,"Males","20-24",null,{"$f":"SUM(C36:C40)","v":3264},3036,2811,2769,2659,2477,2324,2361,2405,2529,2509,2417,2437,2454,2594,2827,2912,2920,2977,3085,3218,3252,3365,3366,3342,3291,3153,3173,3212,3270,3239,3202,null,{"$f":"INDEX(CC20:CY20,'Population Pyramid'!$L$1)","v":3212}]
["male",5,679,656,655,688,692,685,717,679,688,710,750,695,751,699,721,767,718,757,733,741,799,831,830,761,816,854,871,822,815,844,843,924,null,5,3959,3927,3960,3978,3986,4003,3959,4067,4069,4068,4131,4131,4233,4253,4331,4403,4465,4537,4557,4642,4721,4786,4741,4736,4858,4894,4916,4763,4702,4699,4812,4846,null,"Males","25-29",null,{"$f":"SUM(C41:C45)","v":3428},3391,3429,3473,3509,3527,3390,3088,2943,2805,2705,2669,2643,2720,2755,2826,2877,2875,2925,3023,3229,3332,3403,3516,3615,3759,3816,3820,3801,3780,3805,3851,null,{"$f":"INDEX(CC21:CY21,'Population Pyramid'!$L$1)","v":3801}]
["male",6,638,662,645,650,686,687,673,748,690,699,729,753,720,762,725,726,785,733,761,733,752,808,836,843,790,823,865,888,830,835,885,871,null,6,4597,4589,4605,4628,4672,4690,4632,4815,4759,4767,4860,4884,4953,5015,5056,5129,5250,5270,5318,5375,5473,5594,5577,5579,5648,5717,5781,5651,5532,5534,5697,5717,null,"Males","30-34",null,{"$f":"SUM(C46:C50)","v":3150},3208,3349,3481,3595,3676,3651,3805,3742,3751,3663,3478,3362,3288,3240,3151,3073,3023,3107,3088,3148,3251,3348,3387,3554,3725,3870,3897,3996,4181,4304,4431,null,{"$f":"INDEX(CC22:CY22,'Population Pyramid'!$L$1)","v":3996}]
["male",7,608,651,666,661,669,705,700,705,750,692,722,764,774,724,780,745,750,795,740,771,742,777,783,843,852,809,825,871,881,835,868,900,null,7,5205,5240,5271,5289,5341,5395,5332,5520,5509,5459,5582,5648,5727,5739,5836,5874,6000,6065,6058,6146,6215,6371,6360,6422,6500,6526,6606,6522,6413,6369,6565,6617,null,"Males","35-39",null,{"$f":"SUM(C51:C55)","v":3041},3080,3137,3240,3359,3439,3550,3691,3859,3993,4156,4275,4346,4361,4312,4222,4049,3911,3733,3584,3487,3462,3437,3510,3595,3647,3776,3803,3813,3962,4217,4418,null,{"$f":"INDEX(CC23:CY23,'Population Pyramid'!$L$1)","v":3813}]
["male",8,614,621,661,672,672,679,718,723,709,758,710,732,774,803,746,796,743,763,795,741,788,756,793,790,840,876,836,833,886,889,869,889,null,8,5819,5861,5932,5961,6013,6074,6050,6243,6218,6217,6292,6380,6501,6542,6582,6670,6743,6828,6853,6887,7003,7127,7153,7212,7340,7402,7442,7355,7299,7258,7434,7506,null,"Males","40-44",null,{"$f":"SUM(C56:C60)","v":3319},3122,3025,3042,3068,3151,3192,3355,3537,3726,3821,4002,4132,4298,4412,4533,4698,4716,4676,4621,4492,4322,4168,3982,3869,3829,3799,3844,3905,3965,4033,4218,null,{"$f":"INDEX(CC24:CY24,'Population Pyramid'!$L$1)","v":3905}]
["male",9,583,616,632,666,673,673,682,724,733,728,776,729,764,788,822,747,813,765,768,802,756,814,787,785,792,868,898,848,832,892,921,892,null,9,6402,6477,6564,6627,6686,6747,6732,6967,6951,6945,7068,7109,7265,7330,7404,7417,7556,7593,7621,7689,7759,7941,7940,7997,8132,8270,8340,8203,8131,8150,8355,8398,null,"Males","45-49",null,{"$f":"SUM(C61:C65)","v":3542},3660,3717,3690,3710,3423,3268,3206,3170,3222,3283,3397,3510,3657,3855,4005,4140,4325,4472,4596,4725,4800,4827,4824,4755,4678,4564,4325,4153,4040,3998,4005,null,{"$f":"INDEX(CC25:CY25,'Population Pyramid'!$L$1)","v":4153}]
["male",10,566,581,631,649,681,672,676,700,726,733,748,801,757,773,802,823,747,826,770,782,812,771,827,798,798,784,886,909,836,856,919,949,null,10,6968,7058,7195,7276,7367,7419,7408,7667,7677,7678,7816,7910,8022,8103,8206,8240,8303,8419,8391,8471,8571,8712,8767,8795,8930,9054,9226,9112,8967,9006,9274,9347,null,"Males","50-54",null,{"$f":"SUM(C66:C70)","v":2617},2713,2818,2970,3134,3469,3619,3733,3754,3781,3490,3340,3285,3290,3306,3350,3418,3515,3588,3756,3971,4208,4426,4544,4675,4755,4857,4897,4876,4876,4778,4586,null,{"$f":"INDEX(CC26:CY26,'Population Pyramid'!$L$1)","v":4876}]
["male",11,596,569,601,650,670,691,683,694,695,732,761,781,812,784,787,820,827,747,828,771,790,831,790,830,804,805,807,889,895,857,885,940,null,11,7564,7627,7796,7926,8037,8110,8091,8361,8372,8410,8577,8691,8834,8887,8993,9060,9130,9166,9219,9242,9361,9543,9557,9625,9734,9859,10033,10001,9862,9863,10159,10287,null,"Males","55-59",null,{"$f":"SUM(C71:C75)","v":2306},2383,2459,2558,2552,2608,2726,2849,2998,3178,3521,3676,3758,3774,3779,3529,3347,3286,3294,3305,3310,3332,3478,3602,3851,4036,4214,4456,4547,4609,4728,4897,null,{"$f":"INDEX(CC27:CY27,'Population Pyramid'!$L$1)","v":4547}]
["male",12,606,592,584,612,663,681,707,684,685,687,732,764,779,835,803,802,814,843,748,826,773,797,833,797,843,827,802,816,891,906,884,916,null,12,8170,8219,8380,8538,8700,8791,8798,9045,9057,9097,9309,9455,9613,9722,9796,9862,9944,10009,9967,10068,10134,10340,10390,10422,10577,10686,10835,10817,10753,10769,11043,11203,null,"Males","60-64",null,{"$f":"SUM(C76:C80)","v":2191},2214,2204,2239,2294,2314,2371,2485,2575,2576,2613,2703,2799,2941,3122,3465,3651,3716,3657,3676,3511,3357,3308,3235,3250,3293,3336,3410,3570,3751,4035,4237,null,{"$f":"INDEX(CC28:CY28,'Population Pyramid'!$L$1)","v":3570}]
["male",13,603,595,593,582,608,663,682,699,649,669,696,729,755,781,838,806,802,816,843,755,826,784,807,835,790,840,831,791,810,893,912,906,null,13,8773,8814,8973,9120,9308,9454,9480,9744,9706,9766,10005,10184,10368,10503,10634,10668,10746,10825,10810,10823,10960,11124,11197,11257,11367,11526,11666,11608,11563,11662,11955,12109,null,"Males","65-69",null,{"$f":"SUM(C81:C85)","v":2046},2027,1998,1996,2023,2075,2115,2141,2185,2261,2235,2284,2365,2434,2437,2450,2564,2667,2848,3043,3379,3586,3653,3655,3628,3401,3234,3144,3154,3184,3240,3243,null,{"$f":"INDEX(CC29:CY29,'Population Pyramid'!$L$1)","v":3154}]
["male",14,572,592,594,591,577,606,658,674,690,655,673,689,743,765,785,841,789,801,816,834,748,824,774,801,821,789,849,824,792,807,888,938,null,14,9345,9406,9567,9711,9885,10060,10138,10418,10396,10421,10678,10873,11111,11268,11419,11509,11535,11626,11626,11657,11708,11948,11971,12058,12188,12315,12515,12432,12355,12469,12843,13047,null,"Males","70-74",null,{"$f":"SUM(C86:C90)","v":1807},1866,1946,1876,1829,1805,1759,1743,1790,1810,1873,1915,1911,1962,1984,2012,2068,2135,2193,2192,2225,2381,2540,2721,2944,3276,3382,3427,3403,3378,3202,3082,null,{"$f":"INDEX(CC30:CY30,'Population Pyramid'!$L$1)","v":3403}]
["male",15,534,585,607,608,608,589,616,650,681,685,653,668,683,737,762,798,854,802,820,823,833,752,846,771,814,841,787,855,830,799,807,899,null,15,9879,9991,10174,10319,10493,10649,10754,11068,11077,11106,11331,11541,11794,12005,12181,12307,12389,12428,12446,12480,12541,12700,12817,12829,13002,13156,13302,13287,13185,13268,13650,13946,null,"Males","75-79",null,{"$f":"SUM(C91:C95)","v":1223},1171,1185,1337,1394,1450,1515,1578,1516,1483,1472,1440,1431,1421,1474,1572,1594,1612,1676,1700,1737,1818,1871,1972,1968,2004,2190,2330,2461,2604,2910,3004,null,{"$f":"INDEX(CC31:CY31,'Population Pyramid'!$L$1)","v":2461}]
["male",16,526,530,582,606,609,606,587,587,651,680,686,650,670,693,744,767,798,868,802,825,805,832,775,834,767,821,848,787,849,829,841,836,null,16,10405,10521,10756,10925,11102,11255,11341,11655,11728,11786,12017,12191,12464,12698,12925,13074,13187,13296,13248,13305,13346,13532,13592,13663,13769,13977,14150,14074,14034,14097,14491,14782,null,"Males","80-84",null,{"$f":"SUM(C96:C100)","v":752},793,777,801,831,827,797,836,937,977,1006,1067,1095,1070,1069,1083,1078,1102,1092,1157,1224,1225,1274,1318,1326,1375,1462,1522,1589,1588,1627,1763,null,{"$f":"INDEX(CC32:CY32,'Population Pyramid'!$L$1)","v":1589}]
["male",17,535,523,531,580,607,605,599,563,577,649,656,671,640,676,693,754,765,814,871,802,808,801,837,747,767,746,781,833,770,840,850,829,null,17,10940,11044,11287,11505,11709,11860,11940,12218,12305,12435,12673,12862,13104,13374,13618,13828,13952,14110,14119,14107,14154,14333,14429,14410,14536,14723,14931,14907,14804,14937,15341,15611,null,"Males","85+",null,{"$f":"SUM(C101:C106)","v":398},410,437,433,444,482,517,537,579,603,631,631,658,718,755,785,834,868,913,917,950,978,1045,1034,1079,1130,1139,1135,1204,1264,1294,1356,null,{"$f":"INDEX(CC33:CY33,'Population Pyramid'!$L$1)","v":1204}]
["male",18,577,553,522,516,569,587,594,588,530,558,610,636,640,653,680,699,739,753,811,864,780,796,777,805,701,732,712,773,797,756,771,800,null,18,11517,11597,11809,12021,12278,12447,12534,12806,12835,12993,13283,13498,13744,14027,14298,14527,14691,14863,14930,14971,14934,15129,15206,15215,15237,15455,15643,15680,15601,15693,16112,16411]
["male",19,555,523,461,391,373,410,457,520,510,454,494,517,565,602,618,617,609,654,656,727,725,667,666,622,651,564,609,576,628,648,564,602,null,19,12072,12120,12270,12412,12651,12857,12991,13326,13345,13447,13777,14015,14309,14629,14916,15144,15300,15517,15586,15698,15659,15796,15872,15837,15888,16019,16252,16256,16229,16341,16676,17013,null,"Males","All Ages",null,{"$f":"C200","v":47936},47898,48201,48749,49390,49956,50190,51338,52042,52882,53622,54327,55223,56392,57449,58332,58953,59506,60238,60964,61926,62750,63667,64077,64988,65831,66657,67027,67518,68428,69655,70977,null,{"$f":"INDEX(CC35:CY35,'Population Pyramid'!$L$1)","v":67518}]
["male",20,698,598,510,477,423,405,464,517,528,528,421,444,470,510,566,593,581,552,598,603,661,648,597,586,559,599,524,565,542,570,610,553,null,20,12770,12718,12780,12889,13074,13262,13455,13843,13873,13975,14198,14459,14779,15139,15482,15737,15881,16069,16184,16301,16320,16444,16469,16423,16447,16618,16776,16821,16771,16911,17286,17566,null,"Females","0-4",null,{"$f":"SUM(C109:C113)","v":3110},3057,3062,3011,2979,2966,2948,3108,3106,3136,3211,3253,3380,3440,3504,3527,3566,3604,3794,3845,3870,3909,3853,3798,3803,3826,3794,3753,3718,3724,3725,3702,null,{"$f":"INDEX(CC36:CY36,'Population Pyramid'!$L$1)","v":3718}]
["male",21,645,649,514,495,473,423,382,482,502,507,516,425,468,459,515,578,609,568,542,595,598,649,663,609,632,604,607,546,604,583,598,651,null,21,13415,13367,13294,13384,13547,13685,13837,14325,14375,14482,14714,14884,15247,15598,15997,16315,16490,16637,16726,16896,16918,17093,17132,17032,17079,17222,17383,17367,17375,17494,17884,18217,null,"Females","5-9",null,{"$f":"SUM(C114:C118)","v":2999},3091,3145,3214,3241,3241,3233,3369,3377,3476,3490,3535,3592,3642,3708,3694,3680,3642,3645,3630,3739,3824,3937,4054,4117,4153,4146,4105,4066,4014,4122,4234,null,{"$f":"INDEX(CC37:CY37,'Population Pyramid'!$L$1)","v":4066}]
["male",22,604,592,588,529,507,485,404,433,497,493,530,515,424,503,493,535,587,604,597,592,671,637,717,706,616,665,638,681,631,663,608,625,null,22,14019,13959,13882,13913,14054,14170,14241,14758,14872,14975,15244,15399,15671,16101,16490,16850,17077,17241,17323,17488,17589,17730,17849,17738,17695,17887,18021,18048,18006,18157,18492,18842,null,"Females","10-14",null,{"$f":"SUM(C119:C123)","v":2805},2776,2804,2881,2950,3061,3143,3260,3362,3437,3560,3649,3717,3714,3745,3822,3834,3890,3873,3881,3837,3851,3802,3805,3782,3853,3948,3988,4114,4247,4366,4423,null,{"$f":"INDEX(CC38:CY38,'Population Pyramid'!$L$1)","v":4114}]
["male",23,631,561,586,632,575,546,508,426,431,527,503,527,518,449,534,551,567,595,629,642,625,682,678,763,756,657,695,672,753,688,700,636,null,23,14650,14520,14468,14545,14629,14716,14749,15184,15303,15502,15747,15926,16189,16550,17024,17401,17644,17836,17952,18130,18214,18412,18527,18501,18451,18544,18716,18720,18759,18845,19192,19478,null,"Females","15-19",null,{"$f":"SUM(C124:C128)","v":2905},2725,2677,2604,2692,2706,2752,2820,2935,2986,3096,3214,3290,3429,3548,3637,3721,3673,3626,3674,3666,3697,3719,3667,3663,3624,3671,3611,3605,3616,3626,3894,null,{"$f":"INDEX(CC39:CY39,'Population Pyramid'!$L$1)","v":3605}]
["male",24,686,636,613,636,681,618,566,503,447,474,539,506,557,533,486,570,568,601,611,653,663,636,710,702,779,766,689,709,682,766,723,737,null,24,15336,15156,15081,15181,15310,15334,15315,15687,15750,15976,16286,16432,16746,17083,17510,17971,18212,18437,18563,18783,18877,19048,19237,19203,19230,19310,19405,19429,19441,19611,19915,20215,null,"Females","20-24",null,{"$f":"SUM(C129:C133)","v":3135},3002,2847,2784,2667,2574,2388,2312,2308,2454,2419,2463,2526,2699,2865,3015,3055,3127,3161,3154,3328,3333,3450,3321,3380,3350,3304,3307,3219,3215,3048,2919,null,{"$f":"INDEX(CC40:CY40,'Population Pyramid'!$L$1)","v":3219}]
["male",25,707,680,682,650,663,698,627,550,515,487,498,535,515,562,521,495,587,574,607,627,675,688,644,709,741,802,775,693,714,702,779,753,null,25,16043,15836,15763,15831,15973,16032,15942,16237,16265,16463,16784,16967,17261,17645,18031,18466,18799,19011,19170,19410,19552,19736,19881,19912,19971,20112,20180,20122,20155,20313,20694,20968,null,"Females","25-29",null,{"$f":"SUM(C134:C138)","v":3380},3341,3417,3507,3536,3598,3519,3361,3196,3016,2838,2713,2786,2931,2982,3081,3173,3233,3369,3484,3603,3692,3819,3906,4006,4154,4303,4217,4135,4060,4061,4182,null,{"$f":"INDEX(CC41:CY41,'Population Pyramid'!$L$1)","v":4135}]
["male",26,685,709,707,712,689,688,702,571,559,537,485,487,547,540,583,549,506,591,582,618,659,682,703,639,731,745,786,764,706,742,740,803,null,26,16728,16545,16470,16543,16662,16720,16644,16808,16824,17000,17269,17454,17808,18185,18614,19015,19305,19602,19752,20028,20211,20418,20584,20551,20702,20857,20966,20886,20861,21055,21434,21771,null,"Females","30-34",null,{"$f":"SUM(C139:C143)","v":3376},3452,3529,3630,3781,3762,3792,3997,4021,4030,4101,3978,3797,3669,3572,3413,3356,3347,3425,3486,3586,3713,3749,3792,4001,4114,4300,4445,4579,4683,4847,4939,null,{"$f":"INDEX(CC42:CY42,'Population Pyramid'!$L$1)","v":4579}]
["male",27,657,655,689,702,708,674,652,660,568,562,546,514,491,557,543,614,555,520,597,593,638,669,700,718,667,768,745,792,771,749,726,744,null,27,17385,17200,17159,17245,17370,17394,17296,17468,17392,17562,17815,17968,18299,18742,19157,19629,19860,20122,20349,20621,20849,21087,21284,21269,21369,21625,21711,21678,21632,21804,22160,22515,null,"Females","35-39",null,{"$f":"SUM(C144:C148)","v":3092},3143,3208,3267,3324,3522,3614,3788,4055,4241,4311,4425,4521,4567,4574,4538,4412,4283,4106,3889,3805,3732,3756,3906,3976,4048,4079,4162,4228,4407,4649,4926,null,{"$f":"INDEX(CC43:CY43,'Population Pyramid'!$L$1)","v":4228}]
["male",28,689,651,665,702,712,716,674,655,645,568,590,541,528,516,570,578,630,567,554,609,622,648,685,729,734,682,792,763,814,765,758,767,null,28,18074,17851,17824,17947,18082,18110,17970,18123,18037,18130,18405,18509,18827,19258,19727,20207,20490,20689,20903,21230,21471,21735,21969,21998,22103,22307,22503,22441,22446,22569,22918,23282,null,"Females","40-44",null,{"$f":"SUM(C149:C153)","v":3402},3244,3169,3129,3235,3250,3307,3439,3488,3551,3779,3982,4123,4358,4604,4715,4804,4816,4841,4853,4764,4696,4616,4401,4224,4175,4129,4114,4157,4250,4373,4519,null,{"$f":"INDEX(CC44:CY44,'Population Pyramid'!$L$1)","v":4157}]
["male",29,690,696,686,707,737,751,735,652,656,651,586,592,562,545,538,590,599,623,585,576,635,645,671,721,742,762,718,808,796,822,802,784,null,29,18764,18547,18510,18654,18819,18861,18705,18775,18693,18781,18991,19101,19389,19803,20265,20797,21089,21312,21488,21806,22106,22380,22640,22719,22845,23069,23221,23249,23242,23391,23720,24066,null,"Females","45-49",null,{"$f":"SUM(C154:C158)","v":3565},3684,3711,3754,3713,3514,3383,3337,3324,3429,3406,3498,3613,3710,3767,3982,4112,4311,4453,4628,4767,4833,4898,4963,4995,4946,4898,4774,4579,4403,4351,4336,null,{"$f":"INDEX(CC45:CY45,'Population Pyramid'!$L$1)","v":4579}]
["male",30,653,698,719,705,722,743,749,704,676,682,670,598,596,587,563,548,589,603,641,586,600,654,663,694,730,782,783,748,808,827,859,866,null,30,19417,19245,19229,19359,19541,19604,19454,19479,19369,19463,19661,19699,19985,20390,20828,21345,21678,21915,22129,22392,22706,23034,23303,23413,23575,23851,24004,23997,24050,24218,24579,24932,null,"Females","50-54",null,{"$f":"SUM(C159:C163)","v":2544},2687,2864,3050,3227,3570,3700,3790,3809,3759,3599,3460,3411,3407,3470,3457,3547,3654,3732,3836,3997,4152,4338,4541,4753,4850,4923,4944,5021,5101,5046,4923,null,{"$f":"INDEX(CC46:CY46,'Population Pyramid'!$L$1)","v":5021}]
["male",31,659,649,707,726,714,724,729,781,723,700,685,680,606,604,607,577,553,601,617,655,600,618,691,664,724,718,819,794,773,825,874,911,null,31,20076,19894,19936,20085,20255,20328,20183,20260,20092,20163,20346,20379,20591,20994,21435,21922,22231,22516,22746,23047,23306,23652,23994,24077,24299,24569,24823,24791,24823,25043,25453,25843,null,"Females","55-59",null,{"$f":"SUM(C164:C168)","v":2271},2306,2351,2406,2467,2564,2716,2933,3123,3294,3653,3801,3843,3914,3910,3692,3539,3438,3373,3448,3470,3568,3676,3680,3829,3997,4163,4367,4542,4740,4942,5078,null,{"$f":"INDEX(CC47:CY47,'Population Pyramid'!$L$1)","v":4542}]
["male",32,613,646,649,713,735,719,713,790,780,749,709,692,679,655,659,631,588,566,627,632,664,608,639,697,714,748,749,815,815,811,864,877,null,32,20689,20540,20585,20798,20990,21047,20896,21050,20872,20912,21055,21071,21270,21649,22094,22553,22819,23082,23373,23679,23970,24260,24633,24774,25013,25317,25572,25606,25638,25854,26317,26720,null,"Females","60-64",null,{"$f":"SUM(C169:C173)","v":2399},2475,2461,2446,2405,2342,2361,2418,2474,2560,2599,2763,2972,3162,3340,3715,3859,3917,4005,3972,3696,3563,3454,3398,3420,3473,3545,3635,3718,3844,4023,4220,null,{"$f":"INDEX(CC48:CY48,'Population Pyramid'!$L$1)","v":3718}]
["male",33,596,615,648,668,733,744,719,761,791,804,766,719,706,718,681,685,648,608,592,625,648,691,649,663,697,734,756,758,831,855,834,913,null,33,{"$f":"AK48+C49","v":21285},{"$f":"AL48+D49","v":21155},{"$f":"AM48+E49","v":21233},{"$f":"AN48+F49","v":21466},{"$f":"AO48+G49","v":21723},{"$f":"AP48+H49","v":21791},{"$f":"AQ48+I49","v":21615},{"$f":"AR48+J49","v":21811},{"$f":"AS48+K49","v":21663},{"$f":"AT48+L49","v":21716},{"$f":"AU48+M49","v":21821},{"$f":"AV48+N49","v":21790},{"$f":"AW48+O49","v":21976},{"$f":"AX48+P49","v":22367},{"$f":"AY48+Q49","v":22775},{"$f":"AZ48+R49","v":23238},{"$f":"BA48+S49","v":23467},{"$f":"BB48+T49","v":23690},{"$f":"BC48+U49","v":23965},{"$f":"BD48+V49","v":24304},{"$f":"BE48+W49","v":24618},{"$f":"BF48+X49","v":24951},{"$f":"BG48+Y49","v":25282},{"$f":"BH48+Z49","v":25437},{"$f":"BI48+AA49","v":25710},{"$f":"BJ48+AB49","v":26051},{"$f":"BK48+AC49","v":26328},{"$f":"BL48+AD49","v":26364},{"$f":"BM48+AE49","v":26469},{"$f":"BN48+AF49","v":26709},{"$f":"BO48+AG49","v":27151},27633,null,"Females","65-69",null,{"$f":"SUM(C174:C178)","v":2430},2293,2281,2325,2337,2372,2438,2447,2416,2387,2329,2344,2396,2490,2529,2581,2750,2938,3109,3310,3724,3871,3980,4005,3974,3714,3546,3391,3410,3472,3537,3593,null,{"$f":"INDEX(CC49:CY49,'Population Pyramid'!$L$1)","v":3410}]
["male",34,629,600,626,669,691,746,741,769,772,816,833,789,775,724,730,710,695,645,630,590,636,680,706,669,689,743,763,782,769,863,873,864,null,34,21914,21755,21859,22135,22414,22537,22356,22580,22435,22532,22654,22579,22751,23091,23505,23948,24162,24335,24595,24894,25254,25631,25988,26106,26399,26794,27091,27146,27238,27572,28024,28497,null,"Females","70-74",null,{"$f":"SUM(C179:C183)","v":2278},2396,2416,2318,2262,2252,2166,2182,2232,2243,2247,2279,2256,2225,2205,2200,2236,2299,2367,2408,2492,2649,2822,2985,3178,3555,3730,3827,3833,3813,3588,3420,null,{"$f":"INDEX(CC50:CY50,'Population Pyramid'!$L$1)","v":3833}]
["male",35,612,635,619,652,686,707,761,755,781,807,826,869,830,801,752,748,739,703,652,647,629,649,710,715,678,703,748,760,802,781,884,892,null,35,22526,22390,22478,22787,23100,23244,23117,23335,23216,23339,23480,23448,23581,23892,24257,24696,24901,25038,25247,25541,25883,26280,26698,26821,27077,27497,27839,27906,28040,28353,28908,29389,null,"Females","75-79",null,{"$f":"SUM(C184:C188)","v":1834},1726,1716,1807,1913,2000,2087,2135,2062,2021,2027,1970,1952,1960,1926,1970,1990,1990,1993,2015,2007,2075,2162,2199,2213,2293,2440,2620,2776,2945,3322,3480,null,{"$f":"INDEX(CC51:CY51,'Population Pyramid'!$L$1)","v":2776}]
["male",36,621,627,648,646,679,703,729,757,790,815,822,843,901,865,810,769,754,749,734,665,672,658,662,721,723,702,727,780,770,826,831,932,null,36,23147,23017,23126,23433,23779,23947,23846,24092,24006,24154,24302,24291,24482,24757,25067,25465,25655,25787,25981,26206,26555,26938,27360,27542,27800,28199,28566,28686,28810,29179,29739,30321,null,"Females","80-84",null,{"$f":"SUM(C189:C193)","v":1324},1373,1404,1417,1433,1421,1337,1316,1387,1482,1547,1650,1673,1648,1625,1609,1576,1574,1591,1603,1696,1702,1696,1687,1711,1708,1726,1822,1877,1902,1969,2123,null,{"$f":"INDEX(CC52:CY52,'Population Pyramid'!$L$1)","v":1877}]
["male",37,632,630,643,666,665,696,712,718,780,805,846,860,861,913,894,842,801,767,755,734,689,671,677,678,758,744,743,735,764,791,864,878,null,37,23779,23647,23769,24099,24444,24643,24558,24810,24786,24959,25148,25151,25343,25670,25961,26307,26456,26554,26736,26940,27244,27609,28037,28220,28558,28943,29309,29421,29574,29970,30603,31199,null,"Females","85+",null,{"$f":"SUM(C194:C199)","v":1087},1127,1139,1199,1228,1241,1306,1326,1367,1380,1410,1350,1375,1427,1575,1684,1743,1770,1775,1848,1879,1890,1940,1969,1963,1998,2012,1945,1941,1992,2060,2066,null,{"$f":"INDEX(CC53:CY53,'Population Pyramid'!$L$1)","v":1941}]
["male",38,589,619,627,657,676,671,690,731,751,801,837,851,884,897,928,907,855,815,772,760,744,706,674,718,696,782,767,741,744,790,824,869,null,38,24368,24266,24396,24756,25120,25314,25248,25541,25537,25760,25985,26002,26227,26567,26889,27214,27311,27369,27508,27700,27988,28315,28711,28938,29254,29725,30076,30162,30318,30760,31427,32068]
["male",39,587,569,600,619,653,662,658,730,757,765,825,852,870,885,928,956,900,877,820,778,753,778,714,678,740,716,791,787,733,774,814,847,null,39,24955,24835,24996,25375,25773,25976,25906,26271,26294,26525,26810,26854,27097,27452,27817,28170,28211,28246,28328,28478,28741,29093,29425,29616,29994,30441,30867,30949,31051,31534,32241,32915]
["male",40,580,576,558,587,619,649,648,689,752,774,786,845,878,888,908,933,977,905,890,843,793,755,794,713,691,762,738,797,795,770,808,853,null,40,25535,25411,25554,25962,26392,26625,26554,26960,27046,27299,27596,27699,27975,28340,28725,29103,29188,29151,29218,29321,29534,29848,30219,30329,30685,31203,31605,31746,31846,32304,33049,33768]
["male",41,666,608,612,605,625,656,683,696,711,776,799,815,839,904,899,917,944,971,914,893,850,795,773,790,728,710,778,737,800,812,789,847,null,41,26201,26019,26166,26567,27017,27281,27237,27656,27757,28075,28395,28514,28814,29244,29624,30020,30132,30122,30132,30214,30384,30643,30992,31119,31413,31913,32383,32483,32646,33116,33838,34615]
["male",42,616,643,600,615,601,618,656,684,710,732,783,812,808,843,914,905,924,956,963,952,898,865,790,796,800,740,735,804,751,803,850,809,null,42,26817,26662,26766,27182,27618,27899,27893,28340,28467,28807,29178,29326,29622,30087,30538,30925,31056,31078,31095,31166,31282,31508,31782,31915,32213,32653,33118,33287,33397,33919,34688,35424]
["male",43,683,615,635,597,619,602,603,656,700,724,729,783,817,832,840,938,919,947,947,980,972,929,883,798,816,794,760,739,804,770,808,884,null,43,27500,27277,27401,27779,28237,28501,28496,28996,29167,29531,29907,30109,30439,30919,31378,31863,31975,32025,32042,32146,32254,32437,32665,32713,33029,33447,33878,34026,34201,34689,35496,36308]
["male",44,774,680,620,638,604,626,602,630,664,720,724,747,790,831,851,840,934,937,962,953,979,978,928,885,834,823,788,767,755,810,778,825,null,44,28274,27957,28021,28417,28841,29127,29098,29626,29831,30251,30631,30856,31229,31750,32229,32703,32909,32962,33004,33099,33233,33415,33593,33598,33863,34270,34666,34793,34956,35499,36274,37133]
["male",45,956,794,702,651,660,616,635,623,633,668,711,720,750,779,863,865,860,941,925,961,976,979,980,921,885,849,842,784,776,771,811,804,null,45,29230,28751,28723,29068,29501,29743,29733,30249,30464,30919,31342,31576,31979,32529,33092,33568,33769,33903,33929,34060,34209,34394,34573,34519,34748,35119,35508,35577,35732,36270,37085,37937]
["male",46,625,916,779,703,652,649,610,645,627,639,654,719,723,761,779,881,866,866,947,918,960,965,979,984,913,904,845,828,797,782,789,818,null,46,29855,29667,29502,29771,30153,30392,30343,30894,31091,31558,31996,32295,32702,33290,33871,34449,34635,34769,34876,34978,35169,35359,35552,35503,35661,36023,36353,36405,36529,37052,37874,38755]
["male",47,700,634,913,790,713,664,647,615,647,636,646,659,727,716,768,786,873,870,870,944,932,953,968,972,992,935,924,850,820,813,773,784,null,47,30555,30301,30415,30561,30866,31056,30990,31509,31738,32194,32642,32954,33429,34006,34639,35235,35508,35639,35746,35922,36101,36312,36520,36475,36653,36958,37277,37255,37349,37865,38647,39539]
["male",48,633,693,635,905,788,712,663,644,618,649,627,655,656,729,722,761,786,863,878,885,960,946,962,981,986,990,949,916,853,828,811,779,null,48,31188,30994,31050,31466,31654,31768,31653,32153,32356,32843,33269,33609,34085,34735,35361,35996,36294,36502,36624,36807,37061,37258,37482,37456,37639,37948,38226,38171,38202,38693,39458,40318]
["male",49,628,623,688,641,897,782,713,679,645,630,645,644,654,672,723,712,755,785,852,888,897,957,938,966,979,1000,1004,947,907,846,814,820,null,49,31816,31617,31738,32107,32551,32550,32366,32832,33001,33473,33914,34253,34739,35407,36084,36708,37049,37287,37476,37695,37958,38215,38420,38422,38618,38948,39230,39118,39109,39539,40272,41138]
["male",50,549,620,625,690,650,885,777,711,691,660,623,646,629,662,670,712,715,749,779,851,892,894,956,944,976,974,1010,1010,938,918,839,805,null,50,32365,32237,32363,32797,33201,33435,33143,33543,33692,34133,34537,34899,35368,36069,36754,37420,37764,38036,38255,38546,38850,39109,39376,39366,39594,39922,40240,40128,40047,40457,41111,41943]
["male",51,484,542,613,623,683,646,868,791,715,699,650,637,653,650,665,668,716,720,752,774,858,891,886,953,947,964,970,1015,1017,956,929,854,null,51,32849,32779,32976,33420,33884,34081,34011,34334,34407,34832,35187,35536,36021,36719,37419,38088,38480,38756,39007,39320,39708,40000,40262,40319,40541,40886,41210,41143,41064,41413,42040,42797]
["male",52,553,487,542,618,631,691,652,891,788,735,693,654,646,663,649,672,658,708,708,743,784,872,893,885,977,957,947,968,1008,1012,970,930,null,52,33402,33266,33518,34038,34515,34772,34663,35225,35195,35567,35880,36190,36667,37382,38068,38760,39138,39464,39715,40063,40492,40872,41155,41204,41518,41843,42157,42111,42072,42425,43010,43727]
["male",53,514,548,486,543,617,628,690,655,880,795,726,695,655,654,661,646,675,656,703,694,749,798,879,888,892,979,949,945,964,1011,1008,987,null,53,33916,33814,34004,34581,35132,35400,35353,35880,36075,36362,36606,36885,37322,38036,38729,39406,39813,40120,40418,40757,41241,41670,42034,42092,42410,42822,43106,43056,43036,43436,44018,44714]
["male",54,517,516,552,496,553,619,632,685,680,892,798,708,702,661,661,652,654,682,646,694,688,753,812,874,883,881,981,959,949,979,1032,1010,null,54,34433,34330,34556,35077,35685,36019,35985,36565,36755,37254,37404,37593,38024,38697,39390,40058,40467,40802,41064,41451,41929,42423,42846,42966,43293,43703,44087,44015,43985,44415,45050,45724]
["male",55,472,504,511,548,488,546,613,643,693,686,885,800,717,708,665,658,653,652,681,646,695,686,769,810,875,884,882,970,945,954,985,1026,null,55,34905,34834,35067,35625,36173,36565,36598,37208,37448,37940,38289,38393,38741,39405,40055,40716,41120,41454,41745,42097,42624,43109,43615,43776,44168,44587,44969,44985,44930,45369,46035,46750]
["male",56,493,479,504,516,553,493,555,617,649,692,686,884,792,713,699,659,651,648,644,686,649,696,684,767,826,880,884,889,950,946,964,984,null,56,35398,35313,35571,36141,36726,37058,37153,37825,38097,38632,38975,39277,39533,40118,40754,41375,41771,42102,42389,42783,43273,43805,44299,44543,44994,45467,45853,45874,45880,46315,46999,47734]
["male",57,463,495,484,505,514,555,493,528,622,642,698,677,879,805,712,687,655,666,654,641,687,635,701,683,765,834,897,871,879,953,961,970,null,57,35861,35808,36055,36646,37240,37613,37646,38353,38719,39274,39673,39954,40412,40923,41466,42062,42426,42768,43043,43424,43960,44440,45000,45226,45759,46301,46750,46745,46759,47268,47960,48704]
["male",58,442,462,499,486,504,512,553,506,530,611,641,683,682,887,802,711,682,649,665,648,634,684,647,703,704,746,822,895,883,866,950,974,null,58,36303,36270,36554,37132,37744,38125,38199,38859,39249,39885,40314,40637,41094,41810,42268,42773,43108,43417,43708,44072,44594,45124,45647,45929,46463,47047,47572,47640,47642,48134,48910,49678]
["male",59,436,443,461,503,493,502,512,555,504,547,611,632,688,661,901,814,706,671,650,684,645,631,677,639,681,692,729,831,890,890,868,943,null,59,36739,36713,37015,37635,38237,38627,38711,39414,39753,40432,40925,41269,41782,42471,43169,43587,43814,44088,44358,44756,45239,45755,46324,46568,47144,47739,48301,48471,48532,49024,49778,50621]
["male",60,466,438,436,461,505,494,497,532,546,502,561,606,627,687,666,890,815,700,662,653,687,644,638,676,648,689,692,719,827,885,905,875,null,60,37205,37151,37451,38096,38742,39121,39208,39946,40299,40934,41486,41875,42409,43158,43835,44477,44629,44788,45020,45409,45926,46399,46962,47244,47792,48428,48993,49190,49359,49909,50683,51496]
["male",61,462,475,437,439,463,508,495,495,532,542,506,554,609,628,686,654,886,802,684,667,642,687,639,631,690,646,675,677,723,808,912,919,null,61,37667,37626,37888,38535,39205,39629,39703,40441,40831,41476,41992,42429,43018,43786,44521,45131,45515,45590,45704,46076,46568,47086,47601,47875,48482,49074,49668,49867,50082,50717,51595,52415]
["male",62,428,452,467,429,432,455,500,500,500,535,538,498,543,609,631,684,650,882,799,691,682,651,682,633,627,700,649,677,680,711,810,922,null,62,38095,38078,38355,38964,39637,40084,40203,40941,41331,42011,42530,42927,43561,44395,45152,45815,46165,46472,46503,46767,47250,47737,48283,48508,49109,49774,50317,50544,50762,51428,52405,53337]
["male",63,437,417,445,464,427,428,450,508,495,503,521,534,490,533,612,626,684,641,876,803,701,675,657,657,631,629,701,653,671,676,719,802,null,63,38532,38495,38800,39428,40064,40512,40653,41449,41826,42514,43051,43461,44051,44928,45764,46441,46849,47113,47379,47570,47951,48412,48940,49165,49740,50403,51018,51197,51433,52104,53124,54139]
["male",64,398,432,419,446,467,429,429,450,502,494,487,511,530,484,527,611,616,691,636,862,799,700,692,638,654,629,619,684,669,671,689,719,null,64,38930,38927,39219,39874,40531,40941,41082,41899,42328,43008,43538,43972,44581,45412,46291,47052,47465,47804,48015,48432,48750,49112,49632,49803,50394,51032,51637,51881,52102,52775,53813,54858]
["male",65,405,393,426,419,448,468,428,433,449,508,475,483,509,526,474,521,613,617,689,630,847,804,705,681,629,648,634,613,673,679,675,679,null,65,{"$f":"AK80+C81","v":39335},{"$f":"AL80+D81","v":39320},{"$f":"AM80+E81","v":39645},{"$f":"AN80+F81","v":40293},{"$f":"AO80+G81","v":40979},{"$f":"AP80+H81","v":41409},{"$f":"AQ80+I81","v":41510},{"$f":"AR80+J81","v":42332},{"$f":"AS80+K81","v":42777},{"$f":"AT80+L81","v":43516},{"$f":"AU80+M81","v":44013},{"$f":"AV80+N81","v":44455},{"$f":"AW80+O81","v":45090},{"$f":"AX80+P81","v":45938},{"$f":"AY80+Q81","v":46765},{"$f":"AZ80+R81","v":47573},{"$f":"BA80+S81","v":48078},{"$f":"BB80+T81","v":48421},{"$f":"BC80+U81","v":48704},{"$f":"BD80+V81","v":49062},{"$f":"BE80+W81","v":49597},{"$f":"BF80+X81","v":49916},{"$f":"BG80+Y81","v":50337},{"$f":"BH80+Z81","v":50484},{"$f":"BI80+AA81","v":51023},{"$f":"BJ80+AB81","v":51680},{"$f":"BK80+AC81","v":52271},{"$f":"BL80+AD81","v":52494},{"$f":"BM80+AE81","v":52775},{"$f":"BN80+AF81","v":53454},{"$f":"BO80+AG81","v":54488},55537]
["male",66,412,403,387,419,412,443,465,429,432,448,496,481,485,498,523,472,510,598,619,698,629,863,792,702,660,635,638,627,603,661,663,675,null,66,39747,39723,40032,40712,41391,41852,41975,42761,43209,43964,44509,44936,45575,46436,47288,48045,48588,49019,49323,49760,50226,50779,51129,51186,51683,52315,52909,53121,53378,54115,55151,56212]
["male",67,407,410,400,381,415,403,441,455,422,430,436,483,484,476,490,516,463,502,601,613,684,628,862,789,700,665,626,634,641,601,665,645,null,67,40154,40133,40432,41093,41806,42255,42416,43216,43631,44394,44945,45419,46059,46912,47778,48561,49051,49521,49924,50373,50910,51407,51991,51975,52383,52980,53535,53755,54019,54716,55816,56857]
["male",68,437,402,395,390,371,400,394,429,457,421,421,427,460,482,465,482,504,449,499,611,608,680,624,847,790,687,661,615,633,623,600,641,null,68,40591,40535,40827,41483,42177,42655,42810,43645,44088,44815,45366,45846,46519,47394,48243,49043,49555,49970,50423,50984,51518,52087,52615,52822,53173,53667,54196,54370,54652,55339,56416,57498]
["male",69,385,419,390,387,377,361,387,395,425,454,407,410,427,452,485,459,474,501,440,491,611,611,670,636,849,766,675,655,604,620,637,603,null,69,40976,40954,41217,41870,42554,43016,43197,44040,44513,45269,45773,46256,46946,47846,48728,49502,50029,50471,50863,51475,52129,52698,53285,53458,54022,54433,54871,55025,55256,55959,57053,58101]
["male",70,418,372,409,379,374,367,347,380,389,411,444,394,400,422,443,476,443,462,493,422,487,606,614,667,648,841,744,670,645,592,638,656,null,70,41394,41326,41626,42249,42928,43383,43544,44420,44902,45680,46217,46650,47346,48268,49171,49978,50472,50933,51356,51897,52616,53304,53899,54125,54670,55274,55615,55695,55901,56551,57691,58757]
["male",71,399,402,367,403,368,367,355,348,379,379,401,434,384,402,411,423,460,436,445,479,419,472,606,601,646,629,827,739,668,638,588,627,null,71,41793,41728,41993,42652,43296,43750,43899,44768,45281,46059,46618,47084,47730,48670,49582,50401,50932,51369,51801,52376,53035,53776,54505,54726,55316,55903,56442,56434,56569,57189,58279,59384]
["male",72,444,380,385,356,385,357,349,338,340,365,363,391,404,369,383,397,409,445,436,440,481,407,466,602,602,642,604,813,730,657,629,570,null,72,42237,42108,42378,43008,43681,44107,44248,45106,45621,46424,46981,47475,48134,49039,49965,50798,51341,51814,52237,52816,53516,54183,54971,55328,55918,56545,57046,57247,57299,57846,58908,59954]
["male",73,296,434,369,383,347,380,349,335,339,329,352,355,385,404,357,372,387,399,436,427,424,471,394,465,591,586,634,583,786,717,633,618,null,73,42533,42542,42747,43391,44028,44487,44597,45441,45960,46753,47333,47830,48519,49443,50322,51170,51728,52213,52673,53243,53940,54654,55365,55793,56509,57131,57680,57830,58085,58563,59541,60572]
["male",74,250,278,416,355,355,334,359,342,343,326,313,341,338,365,390,344,369,393,383,424,414,425,460,386,457,578,573,622,574,774,714,611,null,74,42783,42820,43163,43746,44383,44821,44956,45783,46303,47079,47646,48171,48857,49808,50712,51514,52097,52606,53056,53667,54354,55079,55825,56179,56966,57709,58253,58452,58659,59337,60255,61183]
["male",75,279,243,271,396,342,335,318,344,326,319,311,292,337,331,351,376,328,361,375,372,408,401,421,461,379,443,569,559,609,559,754,676,null,75,43062,43063,43434,44142,44725,45156,45274,46127,46629,47398,47957,48463,49194,50139,51063,51890,52425,52967,53431,54039,54762,55480,56246,56640,57345,58152,58822,59011,59268,59896,61009,61859]
["male",76,261,268,224,263,380,333,320,304,323,312,299,306,281,318,310,345,366,303,358,363,368,402,401,421,453,374,440,559,546,595,549,728,null,76,43323,43331,43658,44405,45105,45489,45594,46431,46952,47710,48256,48769,49475,50457,51373,52235,52791,53270,53789,54402,55130,55882,56647,57061,57798,58526,59262,59570,59814,60491,61558,62587]
["male",77,238,242,252,216,247,357,320,303,296,312,301,285,283,264,302,302,331,359,292,355,355,354,391,388,403,448,376,424,545,527,575,532,null,77,43561,43573,43910,44621,45352,45846,45914,46734,47248,48022,48557,49054,49758,50721,51675,52537,53122,53629,54081,54757,55485,56236,57038,57449,58201,58974,59638,59994,60359,61018,62133,63119]
["male",78,217,223,234,239,211,229,338,305,283,281,293,290,263,270,256,298,291,316,346,279,343,334,337,378,375,380,434,365,416,529,517,560,null,78,43778,43796,44144,44860,45563,46075,46252,47039,47531,48303,48850,49344,50021,50991,51931,52835,53413,53945,54427,55036,55828,56570,57375,57827,58576,59354,60072,60359,60775,61547,62650,63679]
["male",79,228,195,204,223,214,196,219,322,288,259,268,267,267,238,255,251,278,273,305,331,263,327,321,324,358,359,371,423,345,394,515,508,null,79,44006,43991,44348,45083,45777,46271,46471,47361,47819,48562,49118,49611,50288,51229,52186,53086,53691,54218,54732,55367,56091,56897,57696,58151,58934,59713,60443,60782,61120,61941,63165,64187]
["male",80,199,217,178,189,203,205,176,199,304,258,246,261,251,255,222,244,247,269,255,295,318,253,321,316,311,343,348,360,403,335,378,491,null,80,44205,44208,44526,45272,45980,46476,46647,47560,48123,48820,49364,49872,50539,51484,52408,53330,53938,54487,54987,55662,56409,57150,58017,58467,59245,60056,60791,61142,61523,62276,63543,64678]
["male",81,173,185,193,160,176,185,190,158,186,283,236,228,250,237,242,208,238,228,254,244,283,302,237,305,297,302,316,332,341,378,321,361,null,81,44378,44393,44719,45432,46156,46661,46837,47718,48309,49103,49600,50100,50789,51721,52650,53538,54176,54715,55241,55906,56692,57452,58254,58772,59542,60358,61107,61474,61864,62654,63864,65039]
["male",82,131,160,169,179,149,162,171,175,142,168,257,212,206,229,221,230,194,220,211,238,212,267,279,211,282,284,284,298,309,329,345,303,null,82,44509,44553,44888,45611,46305,46823,47008,47893,48451,49271,49857,50312,50995,51950,52871,53768,54370,54935,55452,56144,56904,57719,58533,58983,59824,60642,61391,61772,62173,62983,64209,65342]
["male",83,130,111,140,152,162,123,147,161,158,127,148,234,186,184,217,202,219,181,207,196,223,196,247,258,200,261,277,269,274,290,311,322,null,83,44639,44664,45028,45763,46467,46946,47155,48054,48609,49398,50005,50546,51181,52134,53088,53970,54589,55116,55659,56340,57127,57915,58780,59241,60024,60903,61668,62041,62447,63273,64520,65664]
["male",84,119,120,97,121,141,152,113,143,147,141,119,132,202,165,167,199,180,204,165,184,188,207,190,228,236,185,237,263,262,256,272,286,null,84,44758,44784,45125,45884,46608,47098,47268,48197,48756,49539,50124,50678,51383,52299,53255,54169,54769,55320,55824,56524,57315,58122,58970,59469,60260,61088,61905,62304,62709,63529,64792,65950]
["male",85,398,410,437,433,444,482,517,537,579,124,121,104,121,175,148,149,180,166,182,155,163,163,196,165,211,217,179,205,239,237,234,254,null,85,45156,45194,45562,46317,47052,47580,47785,48734,49335,49663,50245,50782,51504,52474,53403,54318,54949,55486,56006,56679,57478,58285,59166,59634,60471,61305,62084,62509,62948,63766,65026,66204]
["male",86,null,null,null,null,null,null,null,null,null,111,103,108,92,106,146,129,134,152,155,173,133,145,148,181,145,191,196,148,185,216,212,211,null,86,45156,45194,45562,46317,47052,47580,47785,48734,49335,49774,50348,50890,51596,52580,53549,54447,55083,55638,56161,56852,57611,58430,59314,59815,60616,61496,62280,62657,63133,63982,65238,66415]
["male",87,null,null,null,null,null,null,null,null,null,77,97,87,99,77,92,117,110,126,132,139,154,115,128,128,151,133,162,173,140,168,182,193,null,87,45156,45194,45562,46317,47052,47580,47785,48734,49335,49851,50445,50977,51695,52657,53641,54564,55193,55764,56293,56991,57765,58545,59442,59943,60767,61629,62442,62830,63273,64150,65420,66608]
["male",88,null,null,null,null,null,null,null,null,null,71,61,83,70,79,65,84,98,93,109,113,124,131,105,110,124,129,109,139,157,128,149,156,null,88,45156,45194,45562,46317,47052,47580,47785,48734,49335,49922,50506,51060,51765,52736,53706,54648,55291,55857,56402,57104,57889,58676,59547,60053,60891,61758,62551,62969,63430,64278,65569,66764]
["male",89,null,null,null,null,null,null,null,null,null,71,65,49,74,52,64,55,64,73,70,97,98,102,110,93,100,111,115,86,123,136,108,139,null,89,45156,45194,45562,46317,47052,47580,47785,48734,49335,49993,50571,51109,51839,52788,53770,54703,55355,55930,56472,57201,57987,58778,59657,60146,60991,61869,62666,63055,63553,64414,65677,66903]
["male","90+",null,null,null,null,null,null,null,null,null,149,184,200,202,229,240,251,248,258,265,240,278,322,358,357,348,349,378,384,360,379,409,403,null,"90+",45156,45194,45562,46317,47052,47580,47785,48734,49335,50142,50755,51309,52041,53017,54010,54954,55603,56188,56737,57441,58265,59100,60015,60503,61339,62218,63044,63439,63913,64793,66086,67306]
[null,"All Males",{"$f":"SUM(C16:C106)","v":45156},{"$f":"SUM(D16:D106)","v":45194},45562,46317,47052,47580,47785,48734,49335,50142,50755,51309,52041,53017,54010,54954,55603,56188,56737,57441,58265,59100,60015,60503,61339,62218,63044,{"$f":"SUM(AD16:AD106)","v":63439},{"$f":"SUM(AE16:AE106)","v":63913},{"$f":"SUM(AF16:AF106)","v":64793},{"$f":"SUM(AG16:AG106)","v":66086},{"$f":"SUM(AH16:AH106)","v":67306},null,"Females"]
["Sex","Age"]
["female",0,593,578,621,565,562,570,593,601,586,614,638,661,679,634,692,699,762,713,776,713,745,779,699,748,701,780,727,677,724,669,712,631,null,0,{"$f":"C109","v":593},578,621,565,562,570,593,601,586,614,638,661,679,634,692,699,762,713,776,713,745,779,699,748,701,780,727,677,724,669,712,631]
["female",1,618,582,579,623,564,560,557,631,604,602,648,642,707,689,655,697,717,772,752,790,740,765,794,692,766,724,791,741,689,764,706,761,null,1,{"$f":"AK109+C110","v":1211},{"$f":"AL109+D110","v":1160},{"$f":"AM109+E110","v":1200},{"$f":"AN109+F110","v":1188},{"$f":"AO109+G110","v":1126},{"$f":"AP109+H110","v":1130},{"$f":"AQ109+I110","v":1150},{"$f":"AR109+J110","v":1232},{"$f":"AS109+K110","v":1190},{"$f":"AT109+L110","v":1216},{"$f":"AU109+M110","v":1286},{"$f":"AV109+N110","v":1303},{"$f":"AW109+O110","v":1386},{"$f":"AX109+P110","v":1323},{"$f":"AY109+Q110","v":1347},{"$f":"AZ109+R110","v":1396},{"$f":"BA109+S110","v":1479},{"$f":"BB109+T110","v":1485},{"$f":"BC109+U110","v":1528},{"$f":"BD109+V110","v":1503},{"$f":"BE109+W110","v":1485},{"$f":"BF109+X110","v":1544},{"$f":"BG109+Y110","v":1493},{"$f":"BH109+Z110","v":1440},{"$f":"BI109+AA110","v":1467},{"$f":"BJ109+AB110","v":1504},{"$f":"BK109+AC110","v":1518},{"$f":"BL109+AD110","v":1418},{"$f":"BM109+AE110","v":1413},{"$f":"BN109+AF110","v":1433},{"$f":"BO109+AG110","v":1418},1392]
["female",2,656,616,587,590,634,575,563,621,635,620,611,666,677,734,701,673,707,721,783,782,803,753,764,793,727,775,729,798,748,711,777,743,null,2,1867,1776,1787,1778,1760,1705,1713,1853,1825,1836,1897,1969,2063,2057,2048,2069,2186,2206,2311,2285,2288,2297,2257,2233,2194,2279,2247,2216,2161,2144,2195,2135]
["female",3,624,652,618,597,600,640,581,623,634,643,634,620,667,693,740,705,670,717,738,795,775,821,775,776,814,736,790,731,816,765,717,813,null,3,2491,2428,2405,2375,2360,2345,2294,2476,2459,2479,2531,2589,2730,2750,2788,2774,2856,2923,3049,3080,3063,3118,3032,3009,3008,3015,3037,2947,2977,2909,2912,2948]
["female",4,619,629,657,636,619,621,654,632,647,657,680,664,650,690,716,753,710,681,745,765,807,791,821,789,795,811,757,806,741,815,813,754,null,4,3110,3057,3062,3011,2979,2966,2948,3108,3106,3136,3211,3253,3380,3440,3504,3527,3566,3604,3794,3845,3870,3909,3853,3798,3803,3826,3794,3753,3718,3724,3725,3702]
["female",5,650,630,638,669,656,642,640,654,639,686,671,701,694,673,710,727,759,719,691,736,779,817,801,842,812,818,818,751,808,760,843,846,null,5,3760,3687,3700,3680,3635,3608,3588,3762,3745,3822,3882,3954,4074,4113,4214,4254,4325,4323,4485,4581,4649,4726,4654,4640,4615,4644,4612,4504,4526,4484,4568,4548]
["female",6,631,642,624,636,669,657,640,667,672,657,699,699,729,732,701,716,711,751,722,699,741,782,833,808,852,822,828,821,756,813,797,882,null,6,4391,4329,4324,4316,4304,4265,4228,4429,4417,4479,4581,4653,4803,4845,4915,4970,5036,5074,5207,5280,5390,5508,5487,5448,5467,5466,5440,5325,5282,5297,5365,5430]
["female",7,597,639,649,636,645,675,665,659,685,703,674,712,734,753,757,697,721,721,765,720,718,748,803,842,804,859,831,835,819,778,849,831,null,7,4988,4968,4973,4952,4949,4940,4893,5088,5102,5182,5255,5365,5537,5598,5672,5667,5757,5795,5972,6000,6108,6256,6290,6290,6271,6325,6271,6160,6101,6075,6214,6261]
["female",8,596,599,640,648,638,645,668,689,686,719,719,696,726,757,768,768,711,740,714,759,728,733,763,802,833,810,852,840,847,824,787,866,null,8,5584,5567,5613,5600,5587,5585,5561,5777,5788,5901,5974,6061,6263,6355,6440,6435,6468,6535,6686,6759,6836,6989,7053,7092,7104,7135,7123,7000,6948,6899,7001,7127]
["female",9,525,581,594,625,633,622,620,700,695,711,727,727,709,727,772,786,778,711,753,716,773,744,737,760,816,844,817,858,836,839,846,809,null,9,6109,6148,6207,6225,6220,6207,6181,6477,6483,6612,6701,6788,6972,7082,7212,7221,7246,7246,7439,7475,7609,7733,7790,7852,7920,7979,7940,7858,7784,7738,7847,7936]
["female",10,549,533,596,611,641,647,628,672,695,706,735,731,739,716,740,796,803,799,706,753,754,781,749,728,741,821,859,822,849,821,858,873,null,10,6658,6681,6803,6836,6861,6854,6809,7149,7178,7318,7436,7519,7711,7798,7952,8017,8049,8045,8145,8228,8363,8514,8539,8580,8661,8800,8799,8680,8633,8559,8705,8809]
["female",11,601,543,538,604,617,641,639,645,682,717,715,744,742,750,736,758,798,817,804,702,760,767,789,759,732,744,821,857,827,871,856,887,null,11,7259,7224,7341,7440,7478,7495,7448,7794,7860,8035,8151,8263,8453,8548,8688,8775,8847,8862,8949,8930,9123,9281,9328,9339,9393,9544,9620,9537,9460,9430,9561,9696]
["female",12,538,581,542,532,607,619,634,659,648,684,727,727,741,745,767,744,750,801,809,808,706,769,773,781,753,731,751,817,863,853,898,886,null,12,7797,7805,7883,7972,8085,8114,8082,8453,8508,8719,8878,8990,9194,9293,9455,9519,9597,9663,9758,9738,9829,10050,10101,10120,10146,10275,10371,10354,10323,10283,10459,10582]
["female",13,585,536,586,543,536,608,623,646,684,661,708,748,739,746,761,765,731,746,814,808,806,723,777,760,788,763,750,753,826,876,856,899,null,13,8382,8341,8469,8515,8621,8722,8705,9099,9192,9380,9586,9738,9933,10039,10216,10284,10328,10409,10572,10546,10635,10773,10878,10880,10934,11038,11121,11107,11149,11159,11315,11481]
["female",14,532,583,542,591,549,546,619,638,653,669,675,699,756,757,741,759,752,727,740,810,811,811,714,777,768,794,767,739,749,826,898,878,null,14,8914,8924,9011,9106,9170,9268,9324,9737,9845,10049,10261,10437,10689,10796,10957,11043,11080,11136,11312,11356,11446,11584,11592,11657,11702,11832,11888,11846,11898,11985,12213,12359]
["female",15,525,533,585,545,594,552,551,630,645,653,671,669,716,755,759,753,770,754,729,745,808,812,802,709,777,774,794,776,741,749,849,922,null,15,9439,9457,9596,9651,9764,9820,9875,10367,10490,10702,10932,11106,11405,11551,11716,11796,11850,11890,12041,12101,12254,12396,12394,12366,12479,12606,12682,12622,12639,12734,13062,13281]
["female",16,547,528,537,592,554,601,555,539,630,662,655,677,663,731,764,776,755,767,753,735,753,814,815,798,711,774,768,796,779,738,767,865,null,16,9986,9985,10133,10243,10318,10421,10430,10906,11120,11364,11587,11783,12068,12282,12480,12572,12605,12657,12794,12836,13007,13210,13209,13164,13190,13380,13450,13418,13418,13472,13829,14146]
["female",17,560,538,521,536,591,553,596,549,550,629,645,668,685,675,761,759,766,762,764,760,747,755,816,818,795,719,775,772,787,795,746,776,null,17,10546,10523,10654,10779,10909,10974,11026,11455,11670,11993,12232,12451,12753,12957,13241,13331,13371,13419,13558,13596,13754,13965,14025,13982,13985,14099,14225,14190,14205,14267,14575,14922]
["female",18,661,585,550,524,571,611,568,626,580,574,623,653,668,671,682,752,766,764,770,768,754,730,721,788,776,775,719,739,756,765,767,731,null,18,11207,11108,11204,11303,11480,11585,11594,12081,12250,12567,12855,13104,13421,13628,13923,14083,14137,14183,14328,14364,14508,14695,14746,14770,14761,14874,14944,14929,14961,15032,15342,15653]
["female",19,612,541,484,407,382,389,482,476,530,468,502,547,558,597,582,597,664,626,610,666,604,586,565,554,604,582,615,528,542,569,497,600,null,19,11819,11649,11688,11710,11862,11974,12076,12557,12780,13035,13357,13651,13979,14225,14505,14680,14801,14809,14938,15030,15112,15281,15311,15324,15365,15456,15559,15457,15503,15601,15839,16253]
["female",20,573,574,486,454,391,381,404,475,448,521,411,467,513,523,600,559,532,562,568,563,592,568,549,532,513,550,550,575,520,485,495,470,null,20,12392,12223,12174,12164,12253,12355,12480,13032,13228,13556,13768,14118,14492,14748,15105,15239,15333,15371,15506,15593,15704,15849,15860,15856,15878,16006,16109,16032,16023,16086,16334,16723]
["female",21,616,551,503,478,461,408,389,402,486,460,517,443,482,549,548,634,591,570,598,610,601,632,643,572,613,549,603,626,608,570,480,509,null,21,13008,12774,12677,12642,12714,12763,12869,13434,13714,14016,14285,14561,14974,15297,15653,15873,15924,15941,16104,16203,16305,16481,16503,16428,16491,16555,16712,16658,16631,16656,16814,17232]
["female",22,637,611,550,565,541,536,447,417,438,497,491,514,466,532,577,581,672,623,611,641,702,642,753,708,651,706,618,668,677,664,620,551,null,22,13645,13385,13227,13207,13255,13299,13316,13851,14152,14513,14776,15075,15440,15829,16230,16454,16596,16564,16715,16844,17007,17123,17256,17136,17142,17261,17330,17326,17308,17320,17434,17783]
["female",23,654,626,636,612,624,593,556,468,452,492,504,520,527,529,581,624,635,702,641,659,714,753,724,783,804,724,768,674,728,752,698,662,null,23,14299,14011,13863,13819,13879,13892,13872,14319,14604,15005,15280,15595,15967,16358,16811,17078,17231,17266,17356,17503,17721,17876,17980,17919,17946,17985,18098,18000,18036,18072,18132,18445]
["female",24,655,640,672,675,650,656,592,550,484,484,496,519,538,566,559,617,625,670,743,681,719,738,781,726,799,821,765,764,686,744,755,727,null,24,14954,14651,14535,14494,14529,14548,14464,14869,15088,15489,15776,16114,16505,16924,17370,17695,17856,17936,18099,18184,18440,18614,18761,18645,18745,18806,18863,18764,18722,18816,18887,19172]
["female",25,673,661,689,696,708,679,658,574,541,504,507,503,548,600,576,583,636,648,672,752,726,754,760,789,748,819,841,794,787,697,785,797,null,25,15627,15312,15224,15190,15237,15227,15122,15443,15629,15993,16283,16617,17053,17524,17946,18278,18492,18584,18771,18936,19166,19368,19521,19434,19493,19625,19704,19558,19509,19513,19672,19969]
["female",26,718,651,675,698,700,716,670,651,575,567,538,511,539,583,609,601,594,664,680,671,757,736,777,775,826,768,828,830,812,822,710,830,null,26,16345,15963,15899,15888,15937,15943,15792,16094,16204,16560,16821,17128,17592,18107,18555,18879,19086,19248,19451,19607,19923,20104,20298,20209,20319,20393,20532,20388,20321,20335,20382,20799]
["female",27,659,713,653,690,716,711,719,695,665,572,565,545,544,575,609,636,624,608,697,671,689,768,748,759,822,870,821,836,840,821,858,765,null,27,17004,16676,16552,16578,16653,16654,16511,16789,16869,17132,17386,17673,18136,18682,19164,19515,19710,19856,20148,20278,20612,20872,21046,20968,21141,21263,21353,21224,21161,21156,21240,21564]
["female",28,665,658,729,673,721,747,719,726,688,653,564,562,569,562,603,633,656,639,651,720,693,714,795,770,812,864,892,840,855,863,855,919,null,28,17669,17334,17281,17251,17374,17401,17230,17515,17557,17785,17950,18235,18705,19244,19767,20148,20366,20495,20799,20998,21305,21586,21841,21738,21953,22127,22245,22064,22016,22019,22095,22483]
["female",29,665,658,671,750,691,745,753,715,727,720,664,592,586,611,585,628,663,674,669,670,738,720,739,813,798,833,921,917,841,857,853,871,null,29,18334,17992,17952,18001,18065,18146,17983,18230,18284,18505,18614,18827,19291,19855,20352,20776,21029,21169,21468,21668,22043,22306,22580,22551,22751,22960,23166,22981,22857,22876,22948,23354]
["female",30,751,683,682,697,777,711,762,764,750,763,764,699,612,614,646,603,649,664,696,701,682,745,740,770,832,818,864,922,932,892,938,905,null,30,19085,18675,18634,18698,18842,18857,18745,18994,19034,19268,19378,19526,19903,20469,20998,21379,21678,21833,22164,22369,22725,23051,23320,23321,23583,23778,24030,23903,23789,23768,23886,24259]
["female",31,668,763,712,702,723,801,724,784,783,784,790,743,715,668,656,646,624,662,693,699,723,720,746,766,815,869,849,895,914,967,925,976,null,31,19753,19438,19346,19400,19565,19658,19469,19778,19817,20052,20168,20269,20618,21137,21654,22025,22302,22495,22857,23068,23448,23771,24066,24087,24398,24647,24879,24798,24703,24735,24811,25235]
["female",32,646,688,785,741,731,752,819,775,824,807,822,818,766,734,690,663,676,643,677,711,734,736,732,770,809,817,897,859,930,960,1033,972,null,32,20399,20126,20131,20141,20296,20410,20288,20553,20641,20859,20990,21087,21384,21871,22344,22688,22978,23138,23534,23779,24182,24507,24798,24857,25207,25464,25776,25657,25633,25695,25844,26207]
["female",33,674,660,702,800,762,747,764,851,812,840,841,850,837,794,766,708,675,673,666,705,738,757,733,745,774,820,834,919,875,967,981,1059,null,33,{"$f":"AK141+C142","v":21073},{"$f":"AL141+D142","v":20786},{"$f":"AM141+E142","v":20833},{"$f":"AN141+F142","v":20941},{"$f":"AO141+G142","v":21058},{"$f":"AP141+H142","v":21157},{"$f":"AQ141+I142","v":21052},{"$f":"AR141+J142","v":21404},{"$f":"AS141+K142","v":21453},{"$f":"AT141+L142","v":21699},{"$f":"AU141+M142","v":21831},{"$f":"AV141+N142","v":21937},{"$f":"AW141+O142","v":22221},{"$f":"AX141+P142","v":22665},{"$f":"AY141+Q142","v":23110},{"$f":"AZ141+R142","v":23396},{"$f":"BA141+S142","v":23653},{"$f":"BB141+T142","v":23811},{"$f":"BC141+U142","v":24200},{"$f":"BD141+V142","v":24484},{"$f":"BE141+W142","v":24920},{"$f":"BF141+X142","v":25264},{"$f":"BG141+Y142","v":25531},{"$f":"BH141+Z142","v":25602},{"$f":"BI141+AA142","v":25981},{"$f":"BJ141+AB142","v":26284},{"$f":"BK141+AC142","v":26610},{"$f":"BL141+AD142","v":26576},{"$f":"BM141+AE142","v":26508},{"$f":"BN141+AF142","v":26662},{"$f":"BO141+AG142","v":26825},27266]
["female",34,637,658,648,690,788,751,723,823,852,836,884,868,867,859,814,793,732,705,693,670,709,755,798,741,771,790,856,850,928,897,970,1027,null,34,21710,21444,21481,21631,21846,21908,21775,22227,22305,22535,22715,22805,23088,23524,23924,24189,24385,24516,24893,25154,25629,26019,26329,26343,26752,27074,27466,27426,27436,27559,27795,28293]
["female",35,635,643,669,662,703,797,756,783,847,876,849,894,885,880,875,825,808,759,714,700,685,726,762,817,766,777,798,845,843,949,942,1008,null,35,22345,22087,22150,22293,22549,22705,22531,23010,23152,23411,23564,23699,23973,24404,24799,25014,25193,25275,25607,25854,26314,26745,27091,27160,27518,27851,28264,28271,28279,28508,28737,29301]
["female",36,647,635,650,676,673,711,800,783,829,871,898,863,919,879,912,902,828,814,763,712,725,706,764,786,827,792,801,821,857,865,992,1009,null,36,22992,22722,22800,22969,23222,23416,23331,23793,23981,24282,24462,24562,24892,25283,25711,25916,26021,26089,26370,26566,27039,27451,27855,27946,28345,28643,29065,29092,29136,29373,29729,30310]
["female",37,607,651,620,651,678,674,704,816,809,834,874,924,888,934,903,933,905,843,837,778,719,732,739,787,805,835,807,828,847,885,896,1027,null,37,23599,23373,23420,23620,23900,24090,24035,24609,24790,25116,25336,25486,25780,26217,26614,26849,26926,26932,27207,27344,27758,28183,28594,28733,29150,29478,29872,29920,29983,30258,30625,31337]
["female",38,602,606,653,613,651,679,669,712,828,827,850,896,943,909,955,918,937,925,844,853,808,738,735,761,815,825,848,831,834,869,926,936,null,38,24201,23979,24073,24233,24551,24769,24704,25321,25618,25943,26186,26382,26723,27126,27569,27767,27863,27857,28051,28197,28566,28921,29329,29494,29965,30303,30720,30751,30817,31127,31551,32273]
["female",39,601,608,616,665,619,661,685,694,742,833,840,848,886,965,929,960,934,942,948,846,868,830,756,755,763,819,825,837,847,839,893,946,null,39,24802,24587,24689,24898,25170,25430,25389,26015,26360,26776,27026,27230,27609,28091,28498,28727,28797,28799,28999,29043,29434,29751,30085,30249,30728,31122,31545,31588,31664,31966,32444,33219]
["female",40,617,607,617,632,685,622,672,713,690,747,849,853,863,893,978,946,968,953,940,967,854,874,834,769,770,796,834,819,826,868,877,923,null,40,25419,25194,25306,25530,25855,26052,26061,26728,27050,27523,27875,28083,28472,28984,29476,29673,29765,29752,29939,30010,30288,30625,30919,31018,31498,31918,32379,32407,32490,32834,33321,34142]
["female",41,614,618,611,626,646,695,621,684,724,716,762,869,870,909,915,985,964,973,961,945,981,868,874,846,785,787,798,848,831,846,904,906,null,41,26033,25812,25917,26156,26501,26747,26682,27412,27774,28239,28637,28952,29342,29893,30391,30658,30729,30725,30900,30955,31269,31493,31793,31864,32283,32705,33177,33255,33321,33680,34225,35048]
["female",42,700,611,618,614,630,652,698,637,694,727,730,766,881,881,923,938,990,971,976,975,966,988,894,892,866,806,804,805,865,850,872,911,null,42,26733,26423,26535,26770,27131,27399,27380,28049,28468,28966,29367,29718,30223,30774,31314,31596,31719,31696,31876,31930,32235,32481,32687,32756,33149,33511,33981,34060,34186,34530,35097,35959]
["female",43,713,704,618,634,629,644,665,724,646,701,730,728,777,882,906,935,943,982,982,980,982,986,1016,882,908,863,819,822,811,859,851,899,null,43,27446,27127,27153,27404,27760,28043,28045,28773,29114,29667,30097,30446,31000,31656,32220,32531,32662,32678,32858,32910,33217,33467,33703,33638,34057,34374,34800,34882,34997,35389,35948,36858]
["female",44,758,704,705,623,645,637,651,681,734,660,708,766,732,793,882,911,939,937,982,986,981,980,998,1012,895,923,874,820,824,827,869,880,null,44,28204,27831,27858,28027,28405,28680,28696,29454,29848,30327,30805,31212,31732,32449,33102,33442,33601,33615,33840,33896,34198,34447,34701,34650,34952,35297,35674,35702,35821,36216,36817,37738]
["female",45,878,759,697,705,628,648,639,661,691,735,653,731,758,741,800,880,894,952,931,989,993,977,977,1013,1030,913,923,874,836,841,846,893,null,45,29082,28590,28555,28732,29033,29328,29335,30115,30539,31062,31458,31943,32490,33190,33902,34322,34495,34567,34771,34885,35191,35424,35678,35663,35982,36210,36597,36576,36657,37057,37663,38631]
["female",46,684,879,767,708,715,640,659,654,663,698,724,663,747,778,745,806,883,900,926,936,997,985,977,966,1023,1028,919,919,868,837,852,845,null,46,29766,29469,29322,29440,29748,29968,29994,30769,31202,31760,32182,32606,33237,33968,34647,35128,35378,35467,35697,35821,36188,36409,36655,36629,37005,37238,37516,37495,37525,37894,38515,39476]
["female",47,671,684,876,774,711,720,643,660,665,670,691,733,662,768,776,755,804,888,897,923,946,1006,993,987,965,1035,1041,924,918,875,856,857,null,47,30437,30153,30198,30214,30459,30688,30637,31429,31867,32430,32873,33339,33899,34736,35423,35883,36182,36355,36594,36744,37134,37415,37648,37616,37970,38273,38557,38419,38443,38769,39371,40333]
["female",48,684,677,687,878,783,717,723,647,662,655,674,695,743,683,771,777,752,809,890,899,923,939,1005,1000,984,972,1031,1032,923,911,877,855,null,48,31121,30830,30885,31092,31242,31405,31360,32076,32529,33085,33547,34034,34642,35419,36194,36660,36934,37164,37484,37643,38057,38354,38653,38616,38954,39245,39588,39451,39366,39680,40248,41188]
["female",49,648,685,684,689,876,789,719,715,643,671,664,676,703,740,675,764,779,762,809,881,908,926,946,997,993,998,984,1025,1034,939,920,886,null,49,31769,31515,31569,31781,32118,32194,32079,32791,33172,33756,34211,34710,35345,36159,36869,37424,37713,37926,38293,38524,38965,39280,39599,39613,39947,40243,40572,40476,40400,40619,41168,42074]
["female",50,525,644,678,688,687,870,785,718,715,653,666,655,680,712,747,684,763,777,759,817,886,914,938,942,993,990,1004,985,1017,1036,956,928,null,50,32294,32159,32247,32469,32805,33064,32864,33509,33887,34409,34877,35365,36025,36871,37616,38108,38476,38703,39052,39341,39851,40194,40537,40555,40940,41233,41576,41461,41417,41655,42124,43002]
["female",51,500,524,640,676,689,684,862,800,716,718,669,667,658,680,705,737,689,751,771,761,819,890,926,937,979,1000,998,1011,996,1017,1033,964,null,51,32794,32683,32887,33145,33494,33748,33726,34309,34603,35127,35546,36032,36683,37551,38321,38845,39165,39454,39823,40102,40670,41084,41463,41492,41919,42233,42574,42472,42413,42672,43157,43966]
["female",52,526,508,527,645,679,697,686,873,812,716,723,669,678,656,675,700,733,698,755,778,756,818,892,925,961,972,996,994,1014,1001,1007,1027,null,52,33320,33191,33414,33790,34173,34445,34412,35182,35415,35843,36269,36701,37361,38207,38996,39545,39898,40152,40578,40880,41426,41902,42355,42417,42880,43205,43570,43466,43427,43673,44164,44993]
["female",53,496,522,508,527,644,677,698,699,865,809,724,732,665,678,662,679,686,737,715,763,775,746,831,890,926,958,971,1004,986,1035,996,1010,null,53,33816,33713,33922,34317,34817,35122,35110,35881,36280,36652,36993,37433,38026,38885,39658,40224,40584,40889,41293,41643,42201,42648,43186,43307,43806,44163,44541,44470,44413,44708,45160,46003]
["female",54,497,489,511,514,528,642,669,700,701,863,817,737,730,681,681,657,676,691,732,717,761,784,751,847,894,930,954,950,1008,1012,1054,994,null,54,34313,34202,34433,34831,35345,35764,35779,36581,36981,37515,37810,38170,38756,39566,40339,40881,41260,41580,42025,42360,42962,43432,43937,44154,44700,45093,45495,45420,45421,45720,46214,46997]
["female",55,434,500,489,515,522,536,649,696,700,712,876,810,737,741,681,679,658,683,697,727,722,742,777,753,843,893,930,953,957,1008,1004,1067,null,55,34747,34702,34922,35346,35867,36300,36428,37277,37681,38227,38686,38980,39493,40307,41020,41560,41918,42263,42722,43087,43684,44174,44714,44907,45543,45986,46425,46373,46378,46728,47218,48064]
["female",56,464,434,497,485,508,527,534,649,704,704,715,895,812,745,745,679,688,654,672,700,718,724,747,762,766,827,884,926,954,959,1032,992,null,56,35211,35136,35419,35831,36375,36827,36962,37926,38385,38931,39401,39875,40305,41052,41765,42239,42606,42917,43394,43787,44402,44898,45461,45669,46309,46813,47309,47299,47332,47687,48250,49056]
["female",57,464,468,440,500,491,512,533,532,654,699,705,701,906,804,742,754,680,697,649,673,701,718,734,738,762,769,819,889,924,963,986,1034,null,57,35675,35604,35859,36331,36866,37339,37495,38458,39039,39630,40106,40576,41211,41856,42507,42993,43286,43614,44043,44460,45103,45616,46195,46407,47071,47582,48128,48188,48256,48650,49236,50090]
["female",58,438,463,462,442,500,489,510,533,535,646,708,700,695,919,803,760,747,663,690,658,666,712,723,716,743,762,754,820,886,928,987,984,null,58,36113,36067,36321,36773,37366,37828,38005,38991,39574,40276,40814,41276,41906,42775,43310,43753,44033,44277,44733,45118,45769,46328,46918,47123,47814,48344,48882,49008,49142,49578,50223,51074]
["female",59,471,441,463,464,446,500,490,523,530,533,649,695,693,705,939,820,766,741,665,690,663,672,695,711,715,746,776,779,821,882,933,1001,null,59,36584,36508,36784,37237,37812,38328,38495,39514,40104,40809,41463,41971,42599,43480,44249,44573,44799,45018,45398,45808,46432,47000,47613,47834,48529,49090,49658,49787,49963,50460,51156,52075]
["female",60,525,477,443,468,466,451,499,506,525,542,534,652,708,701,705,931,825,774,743,666,691,670,671,691,707,712,746,765,781,830,890,928,null,60,37109,36985,37227,37705,38278,38779,38994,40020,40629,41351,41997,42623,43307,44181,44954,45504,45624,45792,46141,46474,47123,47670,48284,48525,49236,49802,50404,50552,50744,51290,52046,53003]
["female",61,516,528,478,449,475,471,458,499,514,527,532,536,649,722,705,711,927,830,780,746,668,685,678,666,692,719,712,742,760,781,829,878,null,61,37625,37513,37705,38154,38753,39250,39452,40519,41143,41878,42529,43159,43956,44903,45659,46215,46551,46622,46921,47220,47791,48355,48962,49191,49928,50521,51116,51294,51504,52071,52875,53881]
["female",62,493,520,531,484,453,478,474,461,496,519,537,532,541,656,720,698,706,927,830,779,739,679,694,667,669,687,719,721,730,765,792,834,null,62,38118,38033,38236,38638,39206,39728,39926,40980,41639,42397,43066,43691,44497,45559,46379,46913,47257,47549,47751,47999,48530,49034,49656,49858,50597,51208,51835,52015,52234,52836,53667,54715]
["female",63,456,494,521,532,487,456,475,472,460,498,503,534,542,549,662,714,691,702,943,825,782,741,669,695,662,688,696,715,725,735,775,793,null,63,38574,38527,38757,39170,39693,40184,40401,41452,42099,42895,43569,44225,45039,46108,47041,47627,47948,48251,48694,48824,49312,49775,50325,50553,51259,51896,52531,52730,52959,53571,54442,55508]
["female",64,409,456,488,513,524,486,455,480,479,474,493,509,532,534,548,661,710,684,709,956,816,788,742,679,690,667,672,692,722,733,737,787,null,64,38983,38983,39245,39683,40217,40670,40856,41932,42578,43369,44062,44734,45571,46642,47589,48288,48658,48935,49403,49780,50128,50563,51067,51232,51949,52563,53203,53422,53681,54304,55179,56295]
["female",65,482,406,456,489,511,525,479,472,483,480,474,493,511,535,528,548,658,707,686,717,958,827,794,725,688,688,660,678,706,727,723,720,null,65,{"$f":"AK173+C174","v":39465},{"$f":"AL173+D174","v":39389},{"$f":"AM173+E174","v":39701},{"$f":"AN173+F174","v":40172},{"$f":"AO173+G174","v":40728},{"$f":"AP173+H174","v":41195},{"$f":"AQ173+I174","v":41335},{"$f":"AR173+J174","v":42404},{"$f":"AS173+K174","v":43061},{"$f":"AT173+L174","v":43849},{"$f":"AU173+M174","v":44536},{"$f":"AV173+N174","v":45227},{"$f":"AW173+O174","v":46082},{"$f":"AX173+P174","v":47177},{"$f":"AY173+Q174","v":48117},{"$f":"AZ173+R174","v":48836},{"$f":"BA173+S174","v":49316},{"$f":"BB173+T174","v":49642},{"$f":"BC173+U174","v":50089},{"$f":"BD173+V174","v":50497},{"$f":"BE173+W174","v":51086},{"$f":"BF173+X174","v":51390},{"$f":"BG173+Y174","v":51861},{"$f":"BH173+Z174","v":51957},{"$f":"BI173+AA174","v":52637},{"$f":"BJ173+AB174","v":53251},{"$f":"BK173+AC174","v":53863},{"$f":"BL173+AD174","v":54100},{"$f":"BM173+AE174","v":54387},{"$f":"BN173+AF174","v":55031},{"$f":"BO173+AG174","v":55902},57015]
["female",66,515,474,397,452,483,503,522,473,468,479,481,477,488,516,531,525,550,657,717,677,714,956,831,792,714,687,698,649,681,717,726,725,null,66,39980,39863,40098,40624,41211,41698,41857,42877,43529,44328,45017,45704,46570,47693,48648,49361,49866,50299,50806,51174,51800,52346,52692,52749,53351,53938,54561,54749,55068,55748,56628,57740]
["female",67,456,512,475,403,454,484,502,516,470,464,457,471,486,489,503,521,523,547,654,726,687,712,961,836,790,720,679,685,660,692,731,733,null,67,40436,40375,40573,41027,41665,42182,42359,43393,43999,44792,45474,46175,47056,48182,49151,49882,50389,50846,51460,51900,52487,53058,53653,53585,54141,54658,55240,55434,55728,56440,57359,58473]
["female",68,463,449,504,481,403,454,485,500,497,465,456,455,467,489,487,502,516,517,542,652,714,681,719,954,840,795,710,678,675,661,699,724,null,68,40899,40824,41077,41508,42068,42636,42844,43893,44496,45257,45930,46630,47523,48671,49638,50384,50905,51363,52002,52552,53201,53739,54372,54539,54981,55453,55950,56112,56403,57101,58058,59197]
["female",69,514,452,449,500,486,406,450,486,498,499,461,448,444,461,480,485,503,510,510,538,651,695,675,698,942,824,799,701,688,675,658,691,null,69,41413,41276,41526,42008,42554,43042,43294,44379,44994,45756,46391,47078,47967,49132,50118,50869,51408,51873,52512,53090,53852,54434,55047,55237,55923,56277,56749,56813,57091,57776,58716,59888]
["female",70,479,491,440,437,490,475,397,446,485,482,489,448,437,440,458,470,482,499,499,501,543,650,693,669,696,928,813,787,687,677,669,665,null,70,41892,41767,41966,42445,43044,43517,43691,44825,45479,46238,46880,47526,48404,49572,50576,51339,51890,52372,53011,53591,54395,55084,55740,55906,56619,57205,57562,57600,57778,58453,59385,60553]
["female",71,553,469,480,428,429,482,467,405,432,476,476,492,443,433,433,454,469,476,497,495,501,536,650,680,663,690,909,800,780,687,685,670,null,71,42445,42236,42446,42873,43473,43999,44158,45230,45911,46714,47356,48018,48847,50005,51009,51793,52359,52848,53508,54086,54896,55620,56390,56586,57282,57895,58471,58400,58558,59140,60070,61223]
["female",72,527,545,467,469,424,429,476,459,404,430,465,466,477,440,423,435,448,459,473,492,492,492,524,639,669,656,689,903,793,772,688,670,null,72,42972,42781,42913,43342,43897,44428,44634,45689,46315,47144,47821,48484,49324,50445,51432,52228,52807,53307,53981,54578,55388,56112,56914,57225,57951,58551,59160,59303,59351,59912,60758,61893]
["female",73,377,520,532,468,458,422,423,457,455,408,423,460,454,469,428,416,429,446,457,469,488,485,485,519,631,664,660,685,901,789,759,675,null,73,43349,43301,43445,43810,44355,44850,45057,46146,46770,47552,48244,48944,49778,50914,51860,52644,53236,53753,54438,55047,55876,56597,57399,57744,58582,59215,59820,59988,60252,60701,61517,62568]
["female",74,342,371,497,516,461,444,403,415,456,447,394,413,445,443,463,425,408,419,441,451,468,486,470,478,519,617,659,652,672,888,787,740,null,74,43691,43672,43942,44326,44816,45294,45460,46561,47226,47999,48638,49357,50223,51357,52323,53069,53644,54172,54879,55498,56344,57083,57869,58222,59101,59832,60479,60640,60924,61589,62304,63308]
["female",75,369,333,368,485,505,457,434,394,415,445,444,390,400,428,426,453,410,399,414,435,431,461,478,475,462,509,598,655,640,658,880,763,null,75,44060,44005,44310,44811,45321,45751,45894,46955,47641,48444,49082,49747,50623,51785,52749,53522,54054,54571,55293,55933,56775,57544,58347,58697,59563,60341,61077,61295,61564,62247,63184,64071]
["female",76,384,350,317,352,460,491,440,421,381,402,442,428,374,383,411,420,436,398,389,407,427,423,452,465,472,456,505,588,643,620,648,873,null,76,44444,44355,44627,45163,45781,46242,46334,47376,48022,48846,49524,50175,50997,52168,53160,53942,54490,54969,55682,56340,57202,57967,58799,59162,60035,60797,61582,61883,62207,62867,63832,64944]
["female",77,368,366,339,311,343,450,479,440,411,376,402,419,409,354,370,403,413,422,390,387,400,427,420,443,455,461,446,485,582,626,614,640,null,77,44812,44721,44966,45474,46124,46692,46813,47816,48433,49222,49926,50594,51406,52522,53530,54345,54903,55391,56072,56727,57602,58394,59219,59605,60490,61258,62028,62368,62789,63493,64446,65584]
["female",78,345,341,350,322,290,322,414,461,422,393,365,377,411,398,341,359,385,399,414,378,375,396,413,417,423,459,449,440,479,573,617,601,null,78,45157,45062,45316,45796,46414,47014,47227,48277,48855,49615,50291,50971,51817,52920,53871,54704,55288,55790,56486,57105,57977,58790,59632,60022,60913,61717,62477,62808,63268,64066,65063,66185]
["female",79,368,336,342,337,315,280,320,419,433,405,374,356,358,397,378,335,346,372,386,408,374,368,399,399,401,408,442,452,432,468,563,603,null,79,45525,45398,45658,46133,46729,47294,47547,48696,49288,50020,50665,51327,52175,53317,54249,55039,55634,56162,56872,57513,58351,59158,60031,60421,61314,62125,62919,63260,63700,64534,65626,66788]
["female",80,309,345,307,319,316,292,256,291,400,416,380,360,326,345,382,349,329,331,356,372,404,355,352,384,390,390,387,433,441,412,459,546,null,80,45834,45743,45965,46452,47045,47586,47803,48987,49688,50436,51045,51687,52501,53662,54631,55388,55963,56493,57228,57885,58755,59513,60383,60805,61704,62515,63306,63693,64141,64946,66085,67334]
["female",81,289,291,327,300,309,305,283,244,279,375,389,365,344,306,324,370,321,322,319,348,365,384,347,337,369,379,370,374,413,425,400,450,null,81,46123,46034,46292,46752,47354,47891,48086,49231,49967,50811,51434,52052,52845,53968,54955,55758,56284,56815,57547,58233,59120,59897,60730,61142,62073,62894,63676,64067,64554,65371,66485,67784]
["female",82,285,275,269,312,292,288,288,265,221,263,347,366,357,328,291,310,356,310,309,309,343,348,365,330,323,343,365,358,361,401,415,379,null,82,46408,46309,46561,47064,47646,48179,48374,49496,50188,51074,51781,52418,53202,54296,55246,56068,56640,57125,57856,58542,59463,60245,61095,61472,62396,63237,64041,64425,64915,65772,66900,68163]
["female",83,220,262,250,250,288,269,268,261,251,199,251,325,348,341,311,285,292,344,292,301,294,326,322,333,315,301,323,353,338,339,378,393,null,83,46628,46571,46811,47314,47934,48448,48642,49757,50439,51273,52032,52743,53550,54637,55557,56353,56932,57469,58148,58843,59757,60571,61417,61805,62711,63538,64364,64778,65253,66111,67278,68556]
["female",84,221,200,251,236,228,267,242,255,236,229,180,234,298,328,317,295,278,267,315,273,290,289,310,303,314,295,281,304,324,325,317,355,null,84,46849,46771,47062,47550,48162,48715,48884,50012,50675,51502,52212,52977,53848,54965,55874,56648,57210,57736,58463,59116,60047,60860,61727,62108,63025,63833,64645,65082,65577,66436,67595,68911]
["female",85,1087,1127,1139,1199,1228,1241,1306,1326,1367,209,212,161,216,281,315,292,274,259,242,292,257,277,261,283,278,284,283,264,297,308,297,293,null,85,47936,47898,48201,48749,49390,49956,50190,51338,52042,51711,52424,53138,54064,55246,56189,56940,57484,57995,58705,59408,60304,61137,61988,62391,63303,64117,64928,65346,65874,66744,67892,69204]
["female",86,null,null,null,null,null,null,null,null,null,205,201,199,155,192,255,296,265,245,236,221,274,227,248,239,257,273,261,260,251,266,295,281,null,86,47936,47898,48201,48749,49390,49956,50190,51338,52042,51916,52625,53337,54219,55438,56444,57236,57749,58240,58941,59629,60578,61364,62236,62630,63560,64390,65189,65606,66125,67010,68187,69485]
["female",87,null,null,null,null,null,null,null,null,null,189,180,177,178,136,178,226,274,249,218,228,212,249,209,230,215,234,246,237,231,229,244,265,null,87,47936,47898,48201,48749,49390,49956,50190,51338,52042,52105,52805,53514,54397,55574,56622,57462,58023,58489,59159,59857,60790,61613,62445,62860,63775,64624,65435,65843,66356,67239,68431,69750]
["female",88,null,null,null,null,null,null,null,null,null,168,172,163,154,161,126,166,195,243,228,195,214,195,240,187,206,192,213,227,212,211,223,227,null,88,47936,47898,48201,48749,49390,49956,50190,51338,52042,52273,52977,53677,54551,55735,56748,57628,58218,58732,59387,60052,61004,61808,62685,63047,63981,64816,65648,66070,66568,67450,68654,69977]
["female",89,null,null,null,null,null,null,null,null,null,139,156,145,137,130,154,114,157,177,223,189,173,190,174,219,174,180,167,180,203,197,190,210,null,89,47936,47898,48201,48749,49390,49956,50190,51338,52042,52412,53133,53822,54688,55865,56902,57742,58375,58909,59610,60241,61177,61998,62859,63266,64155,64996,65815,66250,66771,67647,68844,70187]
["female","90+",null,null,null,null,null,null,null,null,null,470,489,505,535,527,547,590,578,597,628,723,749,752,808,811,833,835,842,777,747,781,811,790,null,"90+",47936,47898,48201,48749,49390,49956,50190,51338,52042,52882,53622,54327,55223,56392,57449,58332,58953,59506,60238,60964,61926,62750,63667,64077,64988,65831,66657,67027,67518,68428,69655,70977]
[null,"All Females",{"$f":"SUM(C109:C199)","v":47936},{"$f":"SUM(D109:D199)","v":47898},48201,48749,49390,49956,50190,51338,52042,52882,53622,54327,55223,56392,57449,58332,58953,59506,60238,60964,61926,62750,63667,64077,64988,{"$f":"SUM(AB109:AB199)","v":65831},66657,{"$f":"SUM(AD109:AD199)","v":67027},{"$f":"SUM(AE109:AE199)","v":67518},{"$f":"SUM(AF109:AF199)","v":68428},{"$f":"SUM(AG109:AG199)","v":69655},{"$f":"SUM(AH109:AH199)","v":70977}]

{"sheet":"CAN","index":11,"n_rows":200,"n_cols":106,"rows_kept":200,"cut":false,"hidden":true,"merged":[[0,68,21,68]]}
["Mid Year Population Estimates",null,null,null,null,null,null,null,null,null,null,null,null,null,null,null,null,null,null,null,null,null,null,null,null,null,null,null,null,null,null,null,null,null,null,null,null,null,null,null,null,null,null,null,null,null,null,null,null,null,null,null,null,null,null,null,null,null,null,null,null,null,null,null,null,null,null,null,"Insert column here before extending the table"]
["ONS Mid-Year Population Estimates 1991 to 2022 - (1992 to 2001 Revised 7th October 2004) ( 2002 to 2010 revised in light of the 2011 census. Released 30 April 2013)",null,null,null,null,null,null,null,null,null,null,null,null,null,null,null,null,null,null,null,null,null,null,null,null,null,null,null,null,null,null,null,null,null,null,"Selected Ages:",null,{"$f":"Index!C4&\" : \"&Index!C7","v":"0 : 90"},null,null,null,null,null,null,null,null,null,null,null,null,null,null,null,null,null,null,null,null,null,null,null,null,null,null,null,null,null,null,null,null,null,null,"Start year","End Year","Number change","% Change"]
["Revised ONS Mid-Year Population Estimates 2012 to 2020- Released 23 November 2023",null,null,null,null,null,null,null,null,null,null,null,null,null,null,null,null,null,null,null,null,null,null,null,null,null,null,null,null,null,null,null,null,null,null,null,{"$f":"AK13","v":1992},{"$f":"AL13","v":1993},{"$f":"AM13","v":1994},{"$f":"AN13","v":1995},{"$f":"AO13","v":1996},{"$f":"AP13","v":1997},1998,1999,2000,2001,2002,2003,2004,2005,2006,2007,2008,2009,2010,2011,2012,2013,2014,2015,2016,2017,{"$f":"BK13","v":2018},2019,2020,2021,2022,2023,null,null,null,null,{"$f":"INDEX($AR3:$BL3,Index!$B$16)","v":1999},{"$f":"INDEX($AR3:$BM3,Index!$B$19)","v":2019}]
["2022 MYPE released 23 November 2023",null,null,null,null,null,null,null,null,null,null,null,null,null,null,null,null,null,null,null,null,null,null,null,null,null,null,null,null,null,null,null,null,null,null,"Males",{"$f":"OFFSET(AK16,Index!$B$7-1,0)-IF(Index!$B$4-2=-1,0,OFFSET(AK16,Index!$B$4-2,0))","v":60902},{"$f":"OFFSET(AL16,Index!$B$7-1,0)-IF(Index!$B$4-2=-1,0,OFFSET(AL16,Index!$B$4-2,0))","v":61768},{"$f":"OFFSET(AM16,Index!$B$7-1,0)-IF(Index!$B$4-2=-1,0,OFFSET(AM16,Index!$B$4-2,0))","v":62185},{"$f":"OFFSET(AN16,Index!$B$7-1,0)-IF(Index!$B$4-2=-1,0,OFFSET(AN16,Index!$B$4-2,0))","v":62281},{"$f":"OFFSET(AO16,Index!$B$7-1,0)-IF(Index!$B$4-2=-1,0,OFFSET(AO16,Index!$B$4-2,0))","v":62638},{"$f":"OFFSET(AP16,Index!$B$7-1,0)-IF(Index!$B$4-2=-1,0,OFFSET(AP16,Index!$B$4-2,0))","v":63292},{"$f":"OFFSET(AQ16,Index!$B$7-1,0)-IF(Index!$B$4-2=-1,0,OFFSET(AQ16,Index!$B$4-2,0))","v":63369},{"$f":"OFFSET(AR16,Index!$B$7-1,0)-IF(Index!$B$4-2=-1,0,OFFSET(AR16,Index!$B$4-2,0))","v":63583},{"$f":"OFFSET(AS16,Index!$B$7-1,0)-IF(Index!$B$4-2=-1,0,OFFSET(AS16,Index!$B$4-2,0))","v":63992},{"$f":"OFFSET(AT16,Index!$B$7-1,0)-IF(Index!$B$4-2=-1,0,OFFSET(AT16,Index!$B$4-2,0))","v":64206},{"$f":"OFFSET(AU16,Index!$B$7-1,0)-IF(Index!$B$4-2=-1,0,OFFSET(AU16,Index!$B$4-2,0))","v":64723},{"$f":"OFFSET(AV16,Index!$B$7-1,0)-IF(Index!$B$4-2=-1,0,OFFSET(AV16,Index!$B$4-2,0))","v":66032},{"$f":"OFFSET(AW16,Index!$B$7-1,0)-IF(Index!$B$4-2=-1,0,OFFSET(AW16,Index!$B$4-2,0))","v":67067},{"$f":"OFFSET(AX16,Index!$B$7-1,0)-IF(Index!$B$4-2=-1,0,OFFSET(AX16,Index!$B$4-2,0))","v":67544},{"$f":"OFFSET(AY16,Index!$B$7-1,0)-IF(Index!$B$4-2=-1,0,OFFSET(AY16,Index!$B$4-2,0))","v":68324},{"$f":"OFFSET(AZ16,Index!$B$7-1,0)-IF(Index!$B$4-2=-1,0,OFFSET(AZ16,Index!$B$4-2,0))","v":69323},{"$f":"OFFSET(BA16,Index!$B$7-1,0)-IF(Index!$B$4-2=-1,0,OFFSET(BA16,Index!$B$4-2,0))","v":69802},{"$f":"OFFSET(BB16,Index!$B$7-1,0)-IF(Index!$B$4-2=-1,0,OFFSET(BB16,Index!$B$4-2,0))","v":70065},{"$f":"OFFSET(BC16,Index!$B$7-1,0)-IF(Index!$B$4-2=-1,0,OFFSET(BC16,Index!$B$4-2,0))","v":71332},{"$f":"OFFSET(BD16,Index!$B$7-1,0)-IF(Index!$B$4-2=-1,0,OFFSET(BD16,Index!$B$4-2,0))","v":72565},{"$f":"OFFSET(BE16,Index!$B$7-1,0)-IF(Index!$B$4-2=-1,0,OFFSET(BE16,Index!$B$4-2,0))","v":73089},{"$f":"OFFSET(BF16,Index!$B$7-1,0)-IF(Index!$B$4-2=-1,0,OFFSET(BF16,Index!$B$4-2,0))","v":74007},{"$f":"OFFSET(BG16,Index!$B$7-1,0)-IF(Index!$B$4-2=-1,0,OFFSET(BG16,Index!$B$4-2,0))","v":74705},{"$f":"OFFSET(BH16,Index!$B$7-1,0)-IF(Index!$B$4-2=-1,0,OFFSET(BH16,Index!$B$4-2,0))","v":75299},{"$f":"OFFSET(BI16,Index!$B$7-1,0)-IF(Index!$B$4-2=-1,0,OFFSET(BI16,Index!$B$4-2,0))","v":75971},{"$f":"OFFSET(BJ16,Index!$B$7-1,0)-IF(Index!$B$4-2=-1,0,OFFSET(BJ16,Index!$B$4-2,0))","v":76329},{"$f":"OFFSET(BK16,Index!$B$7-1,0)-IF(Index!$B$4-2=-1,0,OFFSET(BK16,Index!$B$4-2,0))","v":75670},{"$f":"OFFSET(BL16,Index!$B$7-1,0)-IF(Index!$B$4-2=-1,0,OFFSET(BL16,Index!$B$4-2,0))","v":75520},{"$f":"OFFSET(BM16,Index!$B$7-1,0)-IF(Index!$B$4-2=-1,0,OFFSET(BM16,Index!$B$4-2,0))","v":75471},{"$f":"OFFSET(BN16,Index!$B$7-1,0)-IF(Index!$B$4-2=-1,0,OFFSET(BN16,Index!$B$4-2,0))","v":75205},{"$f":"OFFSET(BO16,Index!$B$7-1,0)-IF(Index!$B$4-2=-1,0,OFFSET(BO16,Index!$B$4-2,0))","v":76230},{"$f":"OFFSET(BP16,Index!$B$7-1,0)-IF(Index!$B$4-2=-1,0,OFFSET(BP16,Index!$B$4-2,0))","v":77065},null,null,null,null,{"$f":"INDEX($AR4:$BL4,Index!$B$16)","v":63583},{"$f":"INDEX($AR4:$BM4,Index!$B$19)","v":75520},{"$f":"BV4-BU4","v":11937},{"$f":"BW4/BU4","v":0.18773886101630938}]
[null,null,null,null,null,null,null,null,null,null,null,null,null,null,null,null,null,null,null,null,null,null,null,null,null,null,null,null,null,null,null,null,null,null,null,"Females",{"$f":"OFFSET(AK109,Index!$B$7-1,0)-IF(Index!$B$4-2=-1,0,OFFSET(AK109,Index!$B$4-2,0))","v":67941},{"$f":"OFFSET(AL109,Index!$B$7-1,0)-IF(Index!$B$4-2=-1,0,OFFSET(AL109,Index!$B$4-2,0))","v":68009},{"$f":"OFFSET(AM109,Index!$B$7-1,0)-IF(Index!$B$4-2=-1,0,OFFSET(AM109,Index!$B$4-2,0))","v":68195},{"$f":"OFFSET(AN109,Index!$B$7-1,0)-IF(Index!$B$4-2=-1,0,OFFSET(AN109,Index!$B$4-2,0))","v":68408},{"$f":"OFFSET(AO109,Index!$B$7-1,0)-IF(Index!$B$4-2=-1,0,OFFSET(AO109,Index!$B$4-2,0))","v":68680},{"$f":"OFFSET(AP109,Index!$B$7-1,0)-IF(Index!$B$4-2=-1,0,OFFSET(AP109,Index!$B$4-2,0))","v":69311},{"$f":"OFFSET(AQ109,Index!$B$7-1,0)-IF(Index!$B$4-2=-1,0,OFFSET(AQ109,Index!$B$4-2,0))","v":69240},{"$f":"OFFSET(AR109,Index!$B$7-1,0)-IF(Index!$B$4-2=-1,0,OFFSET(AR109,Index!$B$4-2,0))","v":70079},{"$f":"OFFSET(AS109,Index!$B$7-1,0)-IF(Index!$B$4-2=-1,0,OFFSET(AS109,Index!$B$4-2,0))","v":70913},{"$f":"OFFSET(AT109,Index!$B$7-1,0)-IF(Index!$B$4-2=-1,0,OFFSET(AT109,Index!$B$4-2,0))","v":71175},{"$f":"OFFSET(AU109,Index!$B$7-1,0)-IF(Index!$B$4-2=-1,0,OFFSET(AU109,Index!$B$4-2,0))","v":71760},{"$f":"OFFSET(AV109,Index!$B$7-1,0)-IF(Index!$B$4-2=-1,0,OFFSET(AV109,Index!$B$4-2,0))","v":72576},{"$f":"OFFSET(AW109,Index!$B$7-1,0)-IF(Index!$B$4-2=-1,0,OFFSET(AW109,Index!$B$4-2,0))","v":73511},{"$f":"OFFSET(AX109,Index!$B$7-1,0)-IF(Index!$B$4-2=-1,0,OFFSET(AX109,Index!$B$4-2,0))","v":74374},{"$f":"OFFSET(AY109,Index!$B$7-1,0)-IF(Index!$B$4-2=-1,0,OFFSET(AY109,Index!$B$4-2,0))","v":75166},{"$f":"OFFSET(AZ109,Index!$B$7-1,0)-IF(Index!$B$4-2=-1,0,OFFSET(AZ109,Index!$B$4-2,0))","v":75874},{"$f":"OFFSET(BA109,Index!$B$7-1,0)-IF(Index!$B$4-2=-1,0,OFFSET(BA109,Index!$B$4-2,0))","v":76271},{"$f":"OFFSET(BB109,Index!$B$7-1,0)-IF(Index!$B$4-2=-1,0,OFFSET(BB109,Index!$B$4-2,0))","v":76331},{"$f":"OFFSET(BC109,Index!$B$7-1,0)-IF(Index!$B$4-2=-1,0,OFFSET(BC109,Index!$B$4-2,0))","v":77321},{"$f":"OFFSET(BD109,Index!$B$7-1,0)-IF(Index!$B$4-2=-1,0,OFFSET(BD109,Index!$B$4-2,0))","v":78035},{"$f":"OFFSET(BE109,Index!$B$7-1,0)-IF(Index!$B$4-2=-1,0,OFFSET(BE109,Index!$B$4-2,0))","v":78621},{"$f":"OFFSET(BF109,Index!$B$7-1,0)-IF(Index!$B$4-2=-1,0,OFFSET(BF109,Index!$B$4-2,0))","v":79468},{"$f":"OFFSET(BG109,Index!$B$7-1,0)-IF(Index!$B$4-2=-1,0,OFFSET(BG109,Index!$B$4-2,0))","v":80446},{"$f":"OFFSET(BH109,Index!$B$7-1,0)-IF(Index!$B$4-2=-1,0,OFFSET(BH109,Index!$B$4-2,0))","v":80844},{"$f":"OFFSET(BI109,Index!$B$7-1,0)-IF(Index!$B$4-2=-1,0,OFFSET(BI109,Index!$B$4-2,0))","v":81309},{"$f":"OFFSET(BJ109,Index!$B$7-1,0)-IF(Index!$B$4-2=-1,0,OFFSET(BJ109,Index!$B$4-2,0))","v":81615},{"$f":"OFFSET(BK109,Index!$B$7-1,0)-IF(Index!$B$4-2=-1,0,OFFSET(BK109,Index!$B$4-2,0))","v":81586},{"$f":"OFFSET(BL109,Index!$B$7-1,0)-IF(Index!$B$4-2=-1,0,OFFSET(BL109,Index!$B$4-2,0))","v":81589},{"$f":"OFFSET(BM109,Index!$B$7-1,0)-IF(Index!$B$4-2=-1,0,OFFSET(BM109,Index!$B$4-2,0))","v":81716},{"$f":"OFFSET(BN109,Index!$B$7-1,0)-IF(Index!$B$4-2=-1,0,OFFSET(BN109,Index!$B$4-2,0))","v":81426},{"$f":"OFFSET(BO109,Index!$B$7-1,0)-IF(Index!$B$4-2=-1,0,OFFSET(BO109,Index!$B$4-2,0))","v":82052},{"$f":"OFFSET(BP109,Index!$B$7-1,0)-IF(Index!$B$4-2=-1,0,OFFSET(BP109,Index!$B$4-2,0))","v":82874},null,null,null,null,{"$f":"INDEX($AR5:$BL5,Index!$B$16)","v":70079},{"$f":"INDEX($AR5:$BM5,Index!$B$19)","v":81589},{"$f":"BV5-BU5","v":11510},{"$f":"BW5/BU5","v":0.16424321123303701}]
[null,null,null,null,null,null,null,null,null,null,null,null,null,null,null,null,null,null,null,null,null,null,null,null,null,null,null,null,null,null,null,null,null,null,null,"Total",{"$f":"SUM(AK4:AK5)","v":128843},{"$f":"SUM(AL4:AL5)","v":129777},{"$f":"SUM(AM4:AM5)","v":130380},{"$f":"SUM(AN4:AN5)","v":130689},{"$f":"SUM(AO4:AO5)","v":131318},{"$f":"SUM(AP4:AP5)","v":132603},132609,133662,134905,135381,136483,138608,140578,141918,143490,145197,146073,146396,148653,150600,151710,153475,155151,156143,157280,157944,157256,157109,157187,156631,158282,159939,null,null,null,null,{"$f":"INDEX($AR6:$BL6,Index!$B$16)","v":133662},{"$f":"INDEX($AR6:$BM6,Index!$B$19)","v":157109},{"$f":"BV6-BU6","v":23447},{"$f":"BW6/BU6","v":0.17542008947943319}]
[]
[null,null,null,null,null,null,null,null,null,null,null,null,null,null,null,null,null,null,null,null,null,null,null,null,null,null,null,null,null,null,null,null,null,null,null,"Males",{"$f":"IF(AK4<0,\"0\",AK4)","v":60902},{"$f":"IF(AL4<0,\"0\",AL4)","v":61768},62185,62281,62638,63292,63369,63583,63992,64206,64723,66032,67067,67544,68324,69323,69802,70065,71332,72565,73089,74007,74705,75299,75971,76329,{"$f":"IF(BK4<0,\"0\",BK4)","v":75670},75520,75471,{"$f":"IF(BN4<0,\"0\",BN4)","v":75205},76230,{"$f":"IF(BP4<0,\"0\",BP4)","v":77065}]
[null,null,null,null,null,null,null,null,null,null,null,null,null,null,null,null,null,null,null,null,null,null,null,null,null,null,null,null,null,null,null,null,null,null,null,"Females",{"$f":"IF(AK5<0,\"0\",AK5)","v":67941},68009,68195,68408,68680,69311,69240,70079,70913,71175,71760,72576,73511,74374,75166,75874,76271,76331,77321,78035,78621,79468,80446,80844,81309,81615,81586,81589,81716,{"$f":"IF(BN5<0,\"0\",BN5)","v":81426},82052,{"$f":"IF(BP5<0,\"0\",BP5)","v":82874}]
[null,null,null,null,null,null,null,null,null,null,null,null,null,null,null,null,null,null,null,null,null,null,null,null,null,null,null,null,null,null,null,null,null,null,null,"Total",{"$f":"SUM(AK8:AK9)","v":128843},{"$f":"SUM(AL8:AL9)","v":129777},130380,130689,131318,132603,132609,133662,134905,135381,136483,138608,140578,141918,143490,145197,146073,146396,148653,150600,151710,153475,155151,156143,157280,157944,{"$f":"SUM(BK8:BK9)","v":157256},157109,157187,156631,158282,159939]
[]
[null,null,null,"MYE for  . . . . . .",null,null,null,"Canterbury",null,null,null,null,null,null,null,null,null,null,null,null,null,null,null,null,null,null,null,null,null,null,null,null,null,null,null,null,null,null,null,null,"Cummulative Ages",null,null,null,null,null,null,null,null,null,null,null,null,null,null,null,null,null,null,null,null,null,null,null,null,null,null,null,null,"Population Pyramid"]
[null,null,"Base Year",null,null,null,null,null,null,null,null,null,null,null,null,null,null,null,null,null,null,null,null,null,null,null,null,null,null,null,null,null,null,null,null,null,{"$f":"C14","v":1992},1993,1994,1995,1996,1997,1998,1999,2000,2001,2002,2003,2004,2005,2006,2007,2008,2009,2010,2011,2012,2013,2014,2015,2016,2017,2018,2019,2020,2021,2022,2023]
["Sex","Age",1992,1993,1994,1995,1996,1997,1998,1999,2000,2001,2002,2003,2004,2005,2006,2007,2008,2009,2010,2011,2012,2013,2014,2015,2016,2017,2018,2019,2020,2021,2022,2023,null,null,null,null,null,null,null,null,null,null,null,null,null,null,null,null,null,null,null,null,null,null,null,null,null,null,null,null,null,null,null,null,null,null,null,null,null,null,1992,1993,1994,1995,1996,1997,1998,1999,2000,2001,2002,2003,2004,2005,2006,2007,2008,2009,2010,2011,2012,2013,2014,2015,2016,2017,2018,2019,2020,2021,2022,2023,null,{"$f":"INDEX(CC14:CY14,'Population Pyramid'!$L$1)","v":2020}]
[null,"All persons",{"$f":"SUM(C107,C200)","v":128843},{"$f":"SUM(D107,D200)","v":129777},130380,130689,131318,132603,132609,133662,134905,135381,136483,138608,140578,141918,143490,145197,146073,146396,148653,150600,151710,153475,{"$f":"SUM(Y107,Y200)","v":155151},156143,157280,157944,157256,157109,{"$f":"SUM(AE107,AE200)","v":157187},156631,{"$f":"SUM(AG107,AG200)","v":158282},159939,null,"Males",null,null,null,null,null,null,null,null,null,null,null,null,null,null,null,null,null,null,null,null,null,null,null,null,null,null,null,null,null,null,null,null,null,"Males","All Ages",null,{"$f":"C107","v":60902},61768,62185,62281,62638,63292,63369,63583,63992,64206,64723,66032,67067,67544,68324,69323,69802,70065,71332,72565,73089,74007,74705,75299,75971,76329,75670,75520,75471,75205,76230,77065,null,{"$f":"INDEX(CC15:CY15,'Population Pyramid'!$L$1)","v":75471}]
["male",0,734,739,763,719,687,711,665,670,691,636,681,735,720,716,764,783,686,742,731,816,766,709,750,706,722,714,654,633,667,660,650,642,null,0,{"$f":"C16","v":734},739,763,719,687,711,665,670,691,636,681,735,720,716,764,783,686,742,731,816,766,709,750,706,722,714,654,633,667,660,650,642,null,"Males","0-4",null,{"$f":"SUM(C16:C20)","v":3835},3766,3820,3735,3681,3691,3585,3569,3572,3498,3537,3625,3614,3653,3725,3823,3768,3755,3778,3853,3884,3859,3857,3838,3779,3727,3602,3507,3497,3521,3562,3580,null,{"$f":"INDEX(CC16:CY16,'Population Pyramid'!$L$1)","v":3497}]
["male",1,752,722,759,723,717,693,693,686,700,694,664,689,749,735,726,791,779,687,738,747,831,784,732,744,736,739,698,675,651,701,686,683,null,1,{"$f":"AK16+C17","v":1486},{"$f":"AL16+D17","v":1461},{"$f":"AM16+E17","v":1522},{"$f":"AN16+F17","v":1442},{"$f":"AO16+G17","v":1404},{"$f":"AP16+H17","v":1404},{"$f":"AQ16+I17","v":1358},{"$f":"AR16+J17","v":1356},{"$f":"AS16+K17","v":1391},{"$f":"AT16+L17","v":1330},{"$f":"AU16+M17","v":1345},{"$f":"AV16+N17","v":1424},{"$f":"AW16+O17","v":1469},{"$f":"AX16+P17","v":1451},{"$f":"AY16+Q17","v":1490},{"$f":"AZ16+R17","v":1574},{"$f":"BA16+S17","v":1465},{"$f":"BB16+T17","v":1429},{"$f":"BC16+U17","v":1469},{"$f":"BD16+V17","v":1563},{"$f":"BE16+W17","v":1597},{"$f":"BF16+X17","v":1493},{"$f":"BG16+Y17","v":1482},{"$f":"BH16+Z17","v":1450},{"$f":"BI16+AA17","v":1458},{"$f":"BJ16+AB17","v":1453},{"$f":"BK16+AC17","v":1352},{"$f":"BL16+AD17","v":1308},{"$f":"BM16+AE17","v":1318},{"$f":"BN16+AF17","v":1361},{"$f":"BO16+AG17","v":1336},1325,null,"Males","5-9",null,{"$f":"SUM(C21:C25)","v":3805},3881,3947,4012,4052,4106,4073,4099,4054,3962,3979,3974,4007,3968,3932,3843,3853,3823,3864,3911,4030,4008,4055,4082,4077,4130,4059,4002,3979,3993,4016,4112,null,{"$f":"INDEX(CC17:CY17,'Population Pyramid'!$L$1)","v":3979}]
["male",2,772,755,730,762,736,735,705,721,700,727,711,693,699,755,749,734,800,760,708,765,751,822,788,740,757,757,725,703,697,668,732,729,null,2,2258,2216,2252,2204,2140,2139,2063,2077,2091,2057,2056,2117,2168,2206,2239,2308,2265,2189,2177,2328,2348,2315,2270,2190,2215,2210,2077,2011,2015,2029,2068,2054,null,"Males","10-14",null,{"$f":"SUM(C26:C30)","v":3919},3945,3929,3923,3902,3816,3931,4136,4234,4396,4313,4309,4372,4429,4450,4393,4313,4337,4324,4294,4142,4124,4106,4176,4263,4348,4266,4292,4333,4325,4477,4585,null,{"$f":"INDEX(CC18:CY18,'Population Pyramid'!$L$1)","v":4333}]
["male",3,749,778,765,743,772,756,743,729,746,703,751,733,708,718,761,757,747,803,786,734,779,754,814,819,740,772,754,727,730,729,722,776,null,3,3007,2994,3017,2947,2912,2895,2806,2806,2837,2760,2807,2850,2876,2924,3000,3065,3012,2992,2963,3062,3127,3069,3084,3009,2955,2982,2831,2738,2745,2758,2790,2830,null,"Males","15-19",null,{"$f":"SUM(C31:C35)","v":4506},4448,4353,4416,4520,4719,4596,4801,4849,4870,4957,5030,5128,4912,5101,5330,5390,5713,6066,6140,6023,6061,5916,5886,5779,5714,5800,5650,5668,5912,6253,6125,null,{"$f":"INDEX(CC19:CY19,'Population Pyramid'!$L$1)","v":5668}]
["male",4,828,772,803,788,769,796,779,763,735,738,730,775,738,729,725,758,756,763,815,791,757,790,773,829,824,745,771,769,752,763,772,750,null,4,3835,3766,3820,3735,3681,3691,3585,3569,3572,3498,3537,3625,3614,3653,3725,3823,3768,3755,3778,3853,3884,3859,3857,3838,3779,3727,3602,3507,3497,3521,3562,3580,null,"Males","20-24",null,{"$f":"SUM(C36:C40)","v":5269},5370,5502,5304,5132,4991,4972,4957,5024,5401,5600,6127,6558,6751,6874,7130,7197,6947,7337,8135,8352,8898,9202,9256,9280,9260,8754,8446,8120,7376,7207,7387,null,{"$f":"INDEX(CC20:CY20,'Population Pyramid'!$L$1)","v":8120}]
["male",5,783,843,791,822,807,792,808,783,765,756,741,752,809,735,748,729,776,774,775,825,809,753,795,813,834,832,734,767,765,775,762,785,null,5,4618,4609,4611,4557,4488,4483,4393,4352,4337,4254,4278,4377,4423,4388,4473,4552,4544,4529,4553,4678,4693,4612,4652,4651,4613,4559,4336,4274,4262,4296,4324,4365,null,"Males","25-29",null,{"$f":"SUM(C41:C45)","v":4024},4350,4376,4317,4386,4430,4348,3973,3850,3570,3516,3627,3762,3917,4102,4170,4307,4222,4377,4392,4427,4420,4404,4447,4635,4701,4548,4556,4534,4293,4195,4116,null,{"$f":"INDEX(CC21:CY21,'Population Pyramid'!$L$1)","v":4534}]
["male",6,775,772,838,795,824,810,789,823,797,771,779,769,764,814,739,746,732,780,770,778,833,807,767,803,818,843,831,747,770,785,805,791,null,6,5393,5381,5449,5352,5312,5293,5182,5175,5134,5025,5057,5146,5187,5202,5212,5298,5276,5309,5323,5456,5526,5419,5419,5454,5431,5402,5167,5021,5032,5081,5129,5156,null,"Males","30-34",null,{"$f":"SUM(C46:C50)","v":3683},3853,3850,3920,4064,4292,4373,4329,4283,4131,4026,4065,3969,3861,3671,3493,3464,3486,3512,3539,3653,3720,3881,3913,4044,3966,3949,4079,4054,4085,4169,4251,null,{"$f":"INDEX(CC22:CY22,'Population Pyramid'!$L$1)","v":4054}]
["male",7,776,773,772,843,803,831,811,811,821,800,795,797,792,771,822,743,744,728,786,777,789,837,813,779,812,829,843,833,765,790,800,839,null,7,6169,6154,6221,6195,6115,6124,5993,5986,5955,5825,5852,5943,5979,5973,6034,6041,6020,6037,6109,6233,6315,6256,6232,6233,6243,6231,6010,5854,5797,5871,5929,5995,null,"Males","35-39",null,{"$f":"SUM(C51:C55)","v":3622},3802,3851,3920,4036,4066,4067,4071,4231,4308,4425,4479,4496,4431,4380,4336,4177,3982,3871,3664,3536,3467,3502,3658,3776,3874,3901,3979,3984,3974,4156,4316,null,{"$f":"INDEX(CC23:CY23,'Population Pyramid'!$L$1)","v":3984}]
["male",8,730,776,775,777,850,822,842,840,820,819,820,816,819,815,784,833,767,764,745,778,794,810,851,825,786,833,815,834,846,780,830,838,null,8,6899,6930,6996,6972,6965,6946,6835,6826,6775,6644,6672,6759,6798,6788,6818,6874,6787,6801,6854,7011,7109,7066,7083,7058,7029,7064,6825,6688,6643,6651,6759,6833,null,"Males","40-44",null,{"$f":"SUM(C56:C60)","v":4156},3959,3814,3733,3663,3757,3825,3890,3967,4061,4148,4160,4300,4442,4585,4695,4747,4789,4633,4559,4473,4308,4139,4040,3975,3883,3742,3732,3834,3961,4130,4259,null,{"$f":"INDEX(CC24:CY24,'Population Pyramid'!$L$1)","v":3834}]
["male",9,741,717,771,775,768,851,823,842,851,816,844,840,823,833,839,792,834,777,788,753,805,801,829,862,827,793,836,821,833,863,819,859,null,9,7640,7647,7767,7747,7733,7797,7658,7668,7626,7460,7516,7599,7621,7621,7657,7666,7621,7578,7642,7764,7914,7867,7912,7920,7856,7857,7661,7509,7476,7514,7578,7692,null,"Males","45-49",null,{"$f":"SUM(C61:C65)","v":4151},4383,4524,4570,4498,4243,4074,3921,3865,3816,3829,3989,4025,4088,4160,4267,4339,4466,4678,4811,4814,4855,4837,4732,4654,4639,4538,4372,4363,4221,4101,4074,null,{"$f":"INDEX(CC25:CY25,'Population Pyramid'!$L$1)","v":4363}]
["male",10,818,749,707,762,765,761,845,854,847,856,830,878,854,826,842,852,813,851,793,799,776,832,809,826,862,859,790,835,831,853,895,855,null,10,8458,8396,8474,8509,8498,8558,8503,8522,8473,8316,8346,8477,8475,8447,8499,8518,8434,8429,8435,8563,8690,8699,8721,8746,8718,8716,8451,8344,8307,8367,8473,8547,null,"Males","50-54",null,{"$f":"SUM(C66:C70)","v":3328},3437,3490,3609,3850,4193,4386,4475,4468,4361,4182,4069,3964,3936,3948,4020,4124,4139,4133,4248,4366,4435,4566,4778,4896,4890,4917,4919,4705,4712,4717,4744,null,{"$f":"INDEX(CC26:CY26,'Population Pyramid'!$L$1)","v":4705}]
["male",11,779,822,750,705,754,765,748,868,855,845,870,853,902,866,834,854,852,832,862,829,786,784,847,814,834,874,856,801,853,845,887,938,null,11,9237,9218,9224,9214,9252,9323,9251,9390,9328,9161,9216,9330,9377,9313,9333,9372,9286,9261,9297,9392,9476,9483,9568,9560,9552,9590,9307,9145,9160,9212,9360,9485,null,"Males","55-59",null,{"$f":"SUM(C71:C75)","v":2894},3049,3200,3261,3286,3335,3389,3537,3652,3863,4165,4353,4497,4558,4491,4272,4151,4068,4034,4046,4103,4139,4178,4217,4300,4445,4508,4644,4810,4956,4994,4976,null,{"$f":"INDEX(CC27:CY27,'Population Pyramid'!$L$1)","v":4810}]
["male",12,793,798,840,772,714,769,787,780,880,892,816,875,890,917,875,840,863,876,847,870,804,791,805,873,835,834,887,871,817,866,890,936,null,12,10030,10016,10064,9986,9966,10092,10038,10170,10208,10053,10032,10205,10267,10230,10208,10212,10149,10137,10144,10262,10280,10274,10373,10433,10387,10424,10194,10016,9977,10078,10250,10421,null,"Males","60-64",null,{"$f":"SUM(C76:C80)","v":3103},2933,2911,2954,2929,2972,3124,3262,3368,3357,3381,3491,3574,3639,3865,4265,4458,4565,4676,4607,4312,4229,4127,4090,4090,4146,4176,4236,4284,4395,4491,4586,null,{"$f":"INDEX(CC28:CY28,'Population Pyramid'!$L$1)","v":4284}]
["male",13,732,781,790,837,767,687,817,788,777,896,880,806,876,909,950,885,852,891,890,861,874,814,804,816,877,845,838,894,893,828,899,919,null,13,10762,10797,10854,10823,10733,10779,10855,10958,10985,10949,10912,11011,11143,11139,11158,11097,11001,11028,11034,11123,11154,11088,11177,11249,11264,11269,11032,10910,10870,10906,11149,11340,null,"Males","65-69",null,{"$f":"SUM(C81:C85)","v":3172},3136,3090,3041,3036,3054,2951,2885,2951,2956,2984,3069,3160,3289,3235,3303,3407,3477,3577,3791,4227,4465,4612,4658,4621,4327,4213,4094,4033,4056,4133,4204,null,{"$f":"INDEX(CC29:CY29,'Population Pyramid'!$L$1)","v":4033}]
["male",14,797,795,842,847,902,834,734,846,875,907,917,897,850,911,949,962,933,887,932,935,902,903,841,847,855,936,895,891,939,933,906,937,null,14,11559,11592,11696,11670,11635,11613,11589,11804,11860,11856,11829,11908,11993,12050,12107,12059,11934,11915,11966,12058,12056,11991,12018,12096,12119,12205,11927,11801,11809,11839,12055,12277,null,"Males","70-74",null,{"$f":"SUM(C86:C90)","v":3047},3082,3174,2977,2876,2771,2732,2769,2712,2708,2718,2659,2625,2642,2683,2758,2861,3001,3076,3043,3089,3212,3302,3392,3614,4001,4208,4333,4449,4406,4159,4016,null,{"$f":"INDEX(CC30:CY30,'Population Pyramid'!$L$1)","v":4449}]
["male",15,741,788,801,838,848,888,825,775,860,905,857,893,870,826,920,981,981,948,879,944,937,889,912,850,847,870,931,911,891,939,996,956,null,15,12300,12380,12497,12508,12483,12501,12414,12579,12720,12761,12686,12801,12863,12876,13027,13040,12915,12863,12845,13002,12993,12880,12930,12946,12966,13075,12858,12712,12700,12778,13051,13233,null,"Males","75-79",null,{"$f":"SUM(C91:C95)","v":2227},2122,2013,2197,2287,2392,2457,2477,2371,2316,2267,2244,2229,2220,2256,2301,2256,2247,2274,2333,2376,2490,2635,2728,2716,2721,2854,2938,2992,3187,3550,3693,null,{"$f":"INDEX(CC31:CY31,'Population Pyramid'!$L$1)","v":2992}]
["male",16,841,745,801,804,849,862,908,842,767,893,880,834,875,841,800,933,996,991,976,883,916,936,891,918,848,853,900,943,921,890,1002,1050,null,16,13141,13125,13298,13312,13332,13363,13322,13421,13487,13654,13566,13635,13738,13717,13827,13973,13911,13854,13821,13885,13909,13816,13821,13864,13814,13928,13758,13655,13621,13668,14053,14283,null,"Males","80-84",null,{"$f":"SUM(C96:C100)","v":1370},1416,1468,1462,1507,1496,1468,1395,1489,1573,1607,1656,1697,1654,1612,1627,1658,1684,1730,1744,1788,1728,1753,1770,1783,1864,1925,2045,2140,2114,2150,2248,null,{"$f":"INDEX(CC32:CY32,'Population Pyramid'!$L$1)","v":2140}]
["male",17,934,858,771,820,846,890,889,915,866,840,873,851,809,852,801,775,949,1015,1007,997,870,911,918,890,925,867,865,906,957,967,943,1084,null,17,14075,13983,14069,14132,14178,14253,14211,14336,14353,14494,14439,14486,14547,14569,14628,14748,14860,14869,14828,14882,14779,14727,14739,14754,14739,14795,14623,14561,14578,14635,14996,15367,null,"Males","85+",null,{"$f":"SUM(C101:C106)","v":791},836,873,930,933,968,1018,1037,1052,1059,1089,1106,1090,1154,1254,1297,1332,1364,1392,1455,1494,1589,1633,1638,1689,1693,1710,1696,1692,1718,1770,1793,null,{"$f":"INDEX(CC33:CY33,'Population Pyramid'!$L$1)","v":1692}]
["male",18,972,894,883,818,871,885,872,960,1025,926,895,972,950,876,987,939,902,1083,1216,1201,1168,1120,1061,1136,1075,1130,1068,1004,1072,1188,1230,1094,null,18,15047,14877,14952,14950,15049,15138,15083,15296,15378,15420,15334,15458,15497,15445,15615,15687,15762,15952,16044,16083,15947,15847,15800,15890,15814,15925,15691,15565,15650,15823,16226,16461]
["male",19,1018,1163,1097,1136,1106,1194,1102,1309,1331,1306,1452,1480,1624,1517,1593,1702,1562,1676,1988,2115,2132,2205,2134,2092,2084,1994,2036,1886,1827,1928,2082,1941,null,19,16065,16040,16049,16086,16155,16332,16185,16605,16709,16726,16786,16938,17121,16962,17208,17389,17324,17628,18032,18198,18079,18052,17934,17982,17898,17919,17727,17451,17477,17751,18308,18402,null,"Males","All Ages",null,{"$f":"C200","v":67941},68009,68195,68408,68680,69311,69240,70079,70913,71175,71760,72576,73511,74374,75166,75874,76271,76331,77321,78035,78621,79468,80446,80844,81309,81615,81586,81589,81716,81426,82052,82874,null,{"$f":"INDEX(CC35:CY35,'Population Pyramid'!$L$1)","v":81716}]
["male",20,1237,1072,1046,1137,1172,1128,1109,1192,1208,1428,1462,1691,1738,1835,1771,1885,1925,1812,2041,2432,2342,2506,2505,2465,2448,2350,2243,2273,2086,1946,2101,2113,null,20,17302,17112,17095,17223,17327,17460,17294,17797,17917,18154,18248,18629,18859,18797,18979,19274,19249,19440,20073,20630,20421,20558,20439,20447,20346,20269,19970,19724,19563,19697,20409,20515,null,"Females","0-4",null,{"$f":"SUM(C109:C113)","v":3687},3606,3511,3464,3407,3413,3413,3474,3452,3372,3365,3281,3308,3320,3346,3415,3501,3566,3563,3670,3711,3642,3642,3551,3487,3376,3369,3350,3291,3306,3349,3395,null,{"$f":"INDEX(CC36:CY36,'Population Pyramid'!$L$1)","v":3291}]
["male",21,1248,1292,1240,1070,1144,1173,1115,1133,1244,1281,1267,1291,1562,1534,1628,1591,1648,1637,1786,2047,2228,2214,2294,2334,2319,2321,2157,2055,2065,1836,1860,1973,null,21,18550,18404,18335,18293,18471,18633,18409,18930,19161,19435,19515,19920,20421,20331,20607,20865,20897,21077,21859,22677,22649,22772,22733,22781,22665,22590,22127,21779,21628,21533,22269,22488,null,"Females","5-9",null,{"$f":"SUM(C114:C118)","v":3670},3702,3771,3758,3776,3792,3728,3777,3826,3715,3726,3795,3795,3787,3753,3657,3640,3568,3574,3666,3684,3706,3730,3765,3837,3975,3884,3860,3754,3730,3672,3742,null,{"$f":"INDEX(CC37:CY37,'Population Pyramid'!$L$1)","v":3754}]
["male",22,953,1086,1164,1025,906,987,1046,956,955,1077,1133,1178,1164,1342,1327,1419,1310,1308,1396,1513,1601,1765,1830,1775,1870,1944,1800,1687,1610,1527,1347,1460,null,22,19503,19490,19499,19318,19377,19620,19455,19886,20116,20512,20648,21098,21585,21673,21934,22284,22207,22385,23255,24190,24250,24537,24563,24556,24535,24534,23927,23466,23238,23060,23616,23948,null,"Females","10-14",null,{"$f":"SUM(C119:C123)","v":3582},3693,3756,3735,3747,3811,3848,4025,4059,4199,4135,4087,4034,4095,4102,4097,4088,4084,4118,4056,3941,3885,3819,3831,3846,3882,3858,3907,3956,4033,4318,4353,null,{"$f":"INDEX(CC38:CY38,'Population Pyramid'!$L$1)","v":3956}]
["male",23,900,962,1123,1047,915,812,905,883,835,855,955,1073,1089,1042,1175,1156,1263,1089,1104,1160,1219,1322,1442,1476,1436,1441,1405,1296,1321,1115,998,1027,null,23,20403,20452,20622,20365,20292,20432,20360,20769,20951,21367,21603,22171,22674,22715,23109,23440,23470,23474,24359,25350,25469,25859,26005,26032,25971,25975,25332,24762,24559,24175,24614,24975,null,"Females","15-19",null,{"$f":"SUM(C124:C128)","v":4355},4280,4318,4543,4715,4826,4728,4950,5009,5007,5244,5335,5577,5504,5616,5624,5708,6025,6332,6290,6305,6505,6281,6327,6201,5954,5938,5803,5850,5740,5894,5950,null,{"$f":"INDEX(CC39:CY39,'Population Pyramid'!$L$1)","v":5850}]
["male",24,931,958,929,1025,995,891,797,793,782,760,783,894,1005,998,973,1079,1051,1101,1010,983,962,1091,1131,1206,1207,1204,1149,1135,1038,952,901,814,null,24,21334,21410,21551,21390,21287,21323,21157,21562,21733,22127,22386,23065,23679,23713,24082,24519,24521,24575,25369,26333,26431,26950,27136,27238,27178,27179,26481,25897,25597,25127,25515,25789,null,"Females","20-24",null,{"$f":"SUM(C129:C133)","v":5290},5161,5208,5225,5208,5263,5256,5433,5627,5852,6066,6557,6912,7278,7687,7889,7933,7560,7871,8436,8828,9062,9720,9694,9766,9947,9744,9284,9018,8163,7571,7333,null,{"$f":"INDEX(CC40:CY40,'Population Pyramid'!$L$1)","v":9018}]
["male",25,874,910,831,834,940,927,821,687,729,708,757,780,866,971,975,914,986,927,1056,957,959,897,978,1039,1100,1063,1014,1026,974,887,883,838,null,25,22208,22320,22382,22224,22227,22250,21978,22249,22462,22835,23143,23845,24545,24684,25057,25433,25507,25502,26425,27290,27390,27847,28114,28277,28278,28242,27495,26923,26571,26014,26398,26627,null,"Females","25-29",null,{"$f":"SUM(C134:C138)","v":4096},4143,4067,3938,3866,3941,3889,3814,3951,3870,3773,3737,3840,4117,4149,4261,4289,4241,4210,4192,4136,4120,4043,4084,4318,4301,4361,4419,4402,4384,4315,4544,null,{"$f":"INDEX(CC41:CY41,'Population Pyramid'!$L$1)","v":4402}]
["male",26,895,943,897,850,860,961,940,772,702,674,690,735,753,820,938,911,846,877,878,978,918,888,857,919,963,1011,936,937,963,867,808,850,null,26,23103,23263,23279,23074,23087,23211,22918,23021,23164,23509,23833,24580,25298,25504,25995,26344,26353,26379,27303,28268,28308,28735,28971,29196,29241,29253,28431,27860,27534,26881,27206,27477,null,"Females","30-34",null,{"$f":"SUM(C139:C143)","v":4018},4085,4104,4141,4211,4198,4177,4188,4212,4203,4181,4175,4131,4068,3985,3862,3736,3695,3711,3724,3758,3943,4085,4114,4125,4142,4065,4108,4243,4373,4430,4529,null,{"$f":"INDEX(CC42:CY42,'Population Pyramid'!$L$1)","v":4243}]
["male",27,801,901,929,892,846,861,941,842,762,680,675,681,732,718,801,874,887,790,847,844,935,902,831,840,925,913,909,899,895,847,842,810,null,27,23904,24164,24208,23966,23933,24072,23859,23863,23926,24189,24508,25261,26030,26222,26796,27218,27240,27169,28150,29112,29243,29637,29802,30036,30166,30166,29340,28759,28429,27728,28048,28287,null,"Females","35-39",null,{"$f":"SUM(C144:C148)","v":3850},3913,3954,3997,4059,4205,4298,4359,4445,4526,4587,4566,4584,4599,4612,4599,4559,4425,4268,4115,4006,3875,3914,3965,4083,4142,4244,4284,4297,4423,4643,4774,null,{"$f":"INDEX(CC43:CY43,'Population Pyramid'!$L$1)","v":4297}]
["male",28,685,841,867,883,852,816,817,885,811,731,664,709,693,712,697,766,843,821,783,821,835,891,891,808,832,891,841,874,861,885,772,822,null,28,24589,25005,25075,24849,24785,24888,24676,24748,24737,24920,25172,25970,26723,26934,27493,27984,28083,27990,28933,29933,30078,30528,30693,30844,30998,31057,30181,29633,29290,28613,28820,29109,null,"Females","40-44",null,{"$f":"SUM(C149:C153)","v":4247},3985,3934,3951,3940,3943,3979,4088,4206,4280,4422,4583,4658,4701,4751,4834,4864,4891,4930,4885,4800,4817,4730,4599,4448,4324,4191,4157,4273,4328,4496,4753,null,{"$f":"INDEX(CC44:CY44,'Population Pyramid'!$L$1)","v":4273}]
["male",29,769,755,852,858,888,865,829,787,846,777,730,722,718,696,691,705,745,807,813,792,780,842,847,841,815,823,848,820,841,807,890,796,null,29,25358,25760,25927,25707,25673,25753,25505,25535,25583,25697,25902,26692,27441,27630,28184,28689,28828,28797,29746,30725,30858,31370,31540,31685,31813,31880,31029,30453,30131,29420,29710,29905,null,"Females","45-49",null,{"$f":"SUM(C154:C158)","v":4408},4649,4699,4656,4626,4352,4109,4103,4154,4145,4127,4225,4272,4384,4436,4596,4729,4754,4874,4929,5046,5102,5114,5131,5088,5057,5003,4914,4706,4633,4563,4410,null,{"$f":"INDEX(CC45:CY45,'Population Pyramid'!$L$1)","v":4706}]
["male",30,697,837,789,873,873,920,874,822,860,850,760,759,734,712,706,676,699,741,800,793,771,747,827,856,836,813,794,844,784,813,815,889,null,30,26055,26597,26716,26580,26546,26673,26379,26357,26443,26547,26662,27451,28175,28342,28890,29365,29527,29538,30546,31518,31629,32117,32367,32541,32649,32693,31823,31297,30915,30233,30525,30794,null,"Females","50-54",null,{"$f":"SUM(C159:C163)","v":3344},3478,3635,3860,4123,4545,4729,4802,4781,4716,4457,4264,4248,4278,4235,4291,4341,4407,4510,4524,4634,4780,4913,5040,5133,5171,5188,5223,5236,5155,5149,5201,null,{"$f":"INDEX(CC46:CY46,'Population Pyramid'!$L$1)","v":5236}]
["male",31,722,695,738,715,845,850,881,825,764,753,843,777,733,705,688,667,683,680,682,742,817,767,716,791,866,793,777,833,846,791,853,829,null,31,26777,27292,27454,27295,27391,27523,27260,27182,27207,27300,27505,28228,28908,29047,29578,30032,30210,30218,31228,32260,32446,32884,33083,33332,33515,33486,32600,32130,31761,31024,31378,31623,null,"Females","55-59",null,{"$f":"SUM(C164:C168)","v":3175},3227,3292,3353,3381,3463,3606,3781,3991,4301,4677,4870,4935,4888,4865,4584,4409,4344,4315,4287,4329,4389,4474,4637,4671,4788,4931,5050,5179,5296,5355,5267,null,{"$f":"INDEX(CC47:CY47,'Population Pyramid'!$L$1)","v":5179}]
["male",32,732,784,764,796,777,912,898,902,885,798,756,884,802,735,687,701,679,679,660,665,739,796,766,735,776,839,775,788,817,833,794,835,null,32,27509,28076,28218,28091,28168,28435,28158,28084,28092,28098,28261,29112,29710,29782,30265,30733,30889,30897,31888,32925,33185,33680,33849,34067,34291,34325,33375,32918,32578,31857,32172,32458,null,"Females","60-64",null,{"$f":"SUM(C169:C173)","v":3703},3555,3447,3318,3304,3296,3344,3447,3570,3560,3604,3739,3875,4012,4300,4740,4935,5012,5019,4968,4650,4502,4434,4413,4373,4475,4534,4643,4703,4832,4973,5115,null,{"$f":"INDEX(CC48:CY48,'Population Pyramid'!$L$1)","v":4703}]
["male",33,734,750,755,735,790,770,909,870,882,831,844,786,899,832,748,694,708,679,685,663,652,767,792,752,770,768,853,781,816,823,857,821,null,33,{"$f":"AK48+C49","v":28243},{"$f":"AL48+D49","v":28826},{"$f":"AM48+E49","v":28973},{"$f":"AN48+F49","v":28826},{"$f":"AO48+G49","v":28958},{"$f":"AP48+H49","v":29205},{"$f":"AQ48+I49","v":29067},{"$f":"AR48+J49","v":28954},{"$f":"AS48+K49","v":28974},{"$f":"AT48+L49","v":28929},{"$f":"AU48+M49","v":29105},{"$f":"AV48+N49","v":29898},{"$f":"AW48+O49","v":30609},{"$f":"AX48+P49","v":30614},{"$f":"AY48+Q49","v":31013},{"$f":"AZ48+R49","v":31427},{"$f":"BA48+S49","v":31597},{"$f":"BB48+T49","v":31576},{"$f":"BC48+U49","v":32573},{"$f":"BD48+V49","v":33588},{"$f":"BE48+W49","v":33837},{"$f":"BF48+X49","v":34447},{"$f":"BG48+Y49","v":34641},{"$f":"BH48+Z49","v":34819},{"$f":"BI48+AA49","v":35061},{"$f":"BJ48+AB49","v":35093},{"$f":"BK48+AC49","v":34228},{"$f":"BL48+AD49","v":33699},{"$f":"BM48+AE49","v":33394},{"$f":"BN48+AF49","v":32680},{"$f":"BO48+AG49","v":33029},33279,null,"Females","65-69",null,{"$f":"SUM(C174:C178)","v":4067},3966,3920,3874,3767,3669,3570,3468,3301,3262,3336,3389,3468,3528,3542,3584,3707,3844,4053,4317,4763,4955,5068,5127,5069,4689,4549,4450,4421,4473,4563,4679,null,{"$f":"INDEX(CC49:CY49,'Population Pyramid'!$L$1)","v":4421}]
["male",34,798,787,804,801,779,840,811,910,892,899,823,859,801,877,842,755,695,707,685,676,674,643,780,779,796,753,750,833,791,825,850,877,null,34,29041,29613,29777,29627,29737,30045,29878,29864,29866,29828,29928,30757,31410,31491,31855,32182,32292,32283,33258,34264,34511,35090,35421,35598,35857,35846,34978,34532,34185,33505,33879,34156,null,"Females","70-74",null,{"$f":"SUM(C179:C183)","v":3873},4038,4152,4013,3845,3761,3655,3601,3549,3481,3386,3336,3273,3170,3168,3216,3298,3361,3377,3326,3429,3560,3721,3884,4156,4565,4780,4933,5014,4949,4601,4425,null,{"$f":"INDEX(CC50:CY50,'Population Pyramid'!$L$1)","v":5014}]
["male",35,755,831,797,816,809,792,845,796,920,892,910,851,870,796,864,842,749,687,712,677,660,711,667,784,798,785,757,768,834,812,839,878,null,35,29796,30444,30574,30443,30546,30837,30723,30660,30786,30720,30838,31608,32280,32287,32719,33024,33041,32970,33970,34941,35171,35801,36088,36382,36655,36631,35735,35300,35019,34317,34718,35034,null,"Females","75-79",null,{"$f":"SUM(C184:C188)","v":3368},3271,3104,3190,3337,3431,3562,3632,3528,3338,3248,3140,3113,3133,3114,3052,3024,2987,2912,2927,2930,3001,3060,3105,3083,3170,3292,3432,3611,3898,4300,4513,null,{"$f":"INDEX(CC51:CY51,'Population Pyramid'!$L$1)","v":3611}]
["male",36,693,773,825,791,823,817,784,831,792,916,905,900,861,879,799,879,830,726,682,696,679,679,709,716,812,797,768,760,791,848,845,872,null,36,30489,31217,31399,31234,31369,31654,31507,31491,31578,31636,31743,32508,33141,33166,33518,33903,33871,33696,34652,35637,35850,36480,36797,37098,37467,37428,36503,36060,35810,35165,35563,35906,null,"Females","80-84",null,{"$f":"SUM(C189:C193)","v":2690},2643,2632,2658,2630,2611,2551,2377,2441,2580,2671,2833,2853,2789,2655,2672,2568,2571,2610,2607,2576,2523,2526,2440,2471,2495,2516,2594,2633,2612,2712,2773,null,{"$f":"INDEX(CC52:CY52,'Population Pyramid'!$L$1)","v":2633}]
["male",37,687,719,798,831,799,836,818,793,883,844,920,924,897,895,897,810,876,845,737,693,720,665,700,712,725,824,802,791,775,766,853,854,null,37,31176,31936,32197,32065,32168,32490,32325,32284,32461,32480,32663,33432,34038,34061,34415,34713,34747,34541,35389,36330,36570,37145,37497,37810,38192,38252,37305,36851,36585,35931,36416,36760,null,"Females","85+",null,{"$f":"SUM(C194:C199)","v":2518},2614,2691,2734,2738,2791,2798,2760,2811,2768,2755,2664,2635,2723,2850,2901,2942,2996,3074,3116,3095,3101,3172,3137,3154,3162,3139,3178,3129,3098,3148,3118,null,{"$f":"INDEX(CC53:CY53,'Population Pyramid'!$L$1)","v":3129}]
["male",38,729,694,673,761,802,773,807,808,770,838,842,924,938,913,897,898,820,888,841,752,717,698,696,715,706,754,825,826,761,777,811,881,null,38,31905,32630,32870,32826,32970,33263,33132,33092,33231,33318,33505,34356,34976,34974,35312,35611,35567,35429,36230,37082,37287,37843,38193,38525,38898,39006,38130,37677,37346,36708,37227,37641]
["male",39,758,785,758,721,803,848,813,843,866,818,848,880,930,948,923,907,902,836,899,846,760,714,730,731,735,714,749,834,823,771,808,831,null,39,32663,33415,33628,33547,33773,34111,33945,33935,34097,34136,34353,35236,35906,35922,36235,36518,36469,36265,37129,37928,38047,38557,38923,39256,39633,39720,38879,38511,38169,37479,38035,38472]
["male",40,693,736,722,713,682,777,805,788,802,811,855,878,892,944,968,955,923,930,859,897,846,749,732,721,751,738,717,727,846,836,799,851,null,40,33356,34151,34350,34260,34455,34888,34750,34723,34899,34947,35208,36114,36798,36866,37203,37473,37392,37195,37988,38825,38893,39306,39655,39977,40384,40458,39596,39238,39015,38315,38834,39323]
["male",41,783,712,751,739,737,704,791,818,790,810,797,855,891,886,919,968,943,924,899,845,902,864,775,740,748,750,735,732,751,859,881,822,null,41,34139,34863,35101,34999,35192,35592,35541,35541,35689,35757,36005,36969,37689,37752,38122,38441,38335,38119,38887,39670,39795,40170,40430,40717,41132,41208,40331,39970,39766,39174,39715,40145]
["male",42,825,773,708,740,733,740,696,797,835,814,825,792,869,884,906,965,980,945,940,899,852,920,872,783,757,774,739,731,757,776,873,899,null,42,34964,35636,35809,35739,35925,36332,36237,36338,36524,36571,36830,37761,38558,38636,39028,39406,39315,39064,39827,40569,40647,41090,41302,41500,41889,41982,41070,40701,40523,39950,40588,41044]
["male",43,900,842,796,743,765,767,769,731,800,834,811,832,813,896,892,910,986,1001,956,955,919,855,897,888,810,774,768,761,718,761,783,894,null,43,35864,36478,36605,36482,36690,37099,37006,37069,37324,37405,37641,38593,39371,39532,39920,40316,40301,40065,40783,41524,41566,41945,42199,42388,42699,42756,41838,41462,41241,40711,41371,41938]
["male",44,955,896,837,798,746,769,764,756,740,792,860,803,835,832,900,897,915,989,979,963,954,920,863,908,909,847,783,781,762,729,794,793,null,44,36819,37374,37442,37280,37436,37868,37770,37825,38064,38197,38501,39396,40206,40364,40820,41213,41216,41054,41762,42487,42520,42865,43062,43296,43608,43603,42621,42243,42003,41440,42165,42731]
["male",45,1028,949,891,829,800,758,768,772,771,741,799,856,803,834,842,893,917,918,993,994,936,951,929,859,940,923,855,807,804,765,736,814,null,45,37847,38323,38333,38109,38236,38626,38538,38597,38835,38938,39300,40252,41009,41198,41662,42106,42133,41972,42755,43481,43456,43816,43991,44155,44548,44526,43476,43050,42807,42205,42901,43545]
["male",46,875,1031,955,901,834,816,774,772,779,773,746,811,847,817,830,847,923,907,938,992,1001,944,959,936,855,937,921,850,812,817,765,750,null,46,38722,39354,39288,39010,39070,39442,39312,39369,39614,39711,40046,41063,41856,42015,42492,42953,43056,42879,43693,44473,44457,44760,44950,45091,45403,45463,44397,43900,43619,43022,43666,44295]
["male",47,764,866,1016,945,896,826,811,766,767,775,767,764,811,865,812,824,861,931,939,948,966,1000,954,971,941,855,944,917,862,834,853,802,null,47,39486,40220,40304,39955,39966,40268,40123,40135,40381,40486,40813,41827,42667,42880,43304,43777,43917,43810,44632,45421,45423,45760,45904,46062,46344,46318,45341,44817,44481,43856,44519,45097]
["male",48,752,787,881,1024,952,898,827,810,760,768,766,775,776,809,874,813,838,869,930,942,967,987,1000,953,971,963,857,948,921,884,849,856,null,48,40238,41007,41185,40979,40918,41166,40950,40945,41141,41254,41579,42602,43443,43689,44178,44590,44755,44679,45562,46363,46390,46747,46904,47015,47315,47281,46198,45765,45402,44740,45368,45953]
["male",49,732,750,781,871,1016,945,894,801,788,759,751,783,788,763,802,890,800,841,878,935,944,973,995,1013,947,961,961,850,964,921,898,852,null,49,40970,41757,41966,41850,41934,42111,41844,41746,41929,42013,42330,43385,44231,44452,44980,45480,45555,45520,46440,47298,47334,47720,47899,48028,48262,48242,47159,46615,46366,45661,46266,46805]
["male",50,671,726,747,788,865,1009,939,881,798,764,776,783,792,787,779,801,882,817,827,887,923,955,956,1006,993,941,965,974,849,963,928,907,null,50,41641,42483,42713,42638,42799,43120,42783,42627,42727,42777,43106,44168,45023,45239,45759,46281,46437,46337,47267,48185,48257,48675,48855,49034,49255,49183,48124,47589,47215,46624,47194,47712]
["male",51,621,691,750,762,807,877,1019,950,886,800,784,793,782,792,799,798,814,886,814,837,891,937,956,967,1030,996,937,959,961,884,987,942,null,51,42262,43174,43463,43400,43606,43997,43802,43577,43613,43577,43890,44961,45805,46031,46558,47079,47251,47223,48081,49022,49148,49612,49811,50001,50285,50179,49061,48548,48176,47508,48181,48654]
["male",52,671,627,678,740,755,806,868,993,917,865,807,785,784,790,791,807,803,813,878,817,841,888,919,961,964,1027,1013,942,967,963,890,992,null,52,42933,43801,44141,44140,44361,44803,44670,44570,44530,44442,44697,45746,46589,46821,47349,47886,48054,48036,48959,49839,49989,50500,50730,50962,51249,51206,50074,49490,49143,48471,49071,49646]
["male",53,714,677,632,681,743,755,812,860,1011,940,884,819,778,784,795,795,812,804,812,883,824,831,890,931,966,965,1039,1008,935,944,977,919,null,53,43647,44478,44773,44821,45104,45558,45482,45430,45541,45382,45581,46565,47367,47605,48144,48681,48866,48840,49771,50722,50813,51331,51620,51893,52215,52171,51113,50498,50078,49415,50048,50565]
["male",54,651,716,683,638,680,746,748,791,856,992,931,889,828,783,784,819,813,819,802,824,887,824,845,913,943,961,963,1036,993,958,935,984,null,54,44298,45194,45456,45459,45784,46304,46230,46221,46397,46374,46512,47454,48195,48388,48928,49500,49679,49659,50573,51546,51700,52155,52465,52806,53158,53132,52076,51534,51071,50373,50983,51549]
["male",55,632,655,719,684,631,675,738,758,792,851,1004,938,880,832,787,797,823,794,819,806,824,889,810,859,910,953,944,958,1052,1009,969,926,null,55,44930,45849,46175,46143,46415,46979,46968,46979,47189,47225,47516,48392,49075,49220,49715,50297,50502,50453,51392,52352,52524,53044,53275,53665,54068,54085,53020,52492,52123,51382,51952,52475]
["male",56,592,625,654,711,678,624,664,760,771,796,845,1004,940,883,826,801,807,826,798,817,810,820,892,814,847,908,946,946,957,1054,1011,972,null,56,45522,46474,46829,46854,47093,47603,47632,47739,47960,48021,48361,49396,50015,50103,50541,51098,51309,51279,52190,53169,53334,53864,54167,54479,54915,54993,53966,53438,53080,52436,52963,53447]
["male",57,628,597,624,657,710,678,623,687,774,772,782,846,1025,934,887,840,807,808,819,805,820,802,821,891,828,855,904,938,952,973,1064,1013,null,57,46150,47071,47453,47511,47803,48281,48255,48426,48734,48793,49143,50242,51040,51037,51428,51938,52116,52087,53009,53974,54154,54666,54988,55370,55743,55848,54870,54376,54032,53409,54027,54460]
["male",58,553,617,592,618,655,705,672,624,689,760,776,784,860,1044,937,888,837,801,789,828,809,823,824,827,884,845,867,918,930,974,962,1094,null,58,46703,47688,48045,48129,48458,48986,48927,49050,49423,49553,49919,51026,51900,52081,52365,52826,52953,52888,53798,54802,54963,55489,55812,56197,56627,56693,55737,55294,54962,54383,54989,55554]
["male",59,489,555,611,591,612,653,692,708,626,684,758,781,792,865,1054,946,877,839,809,790,840,805,831,826,831,884,847,884,919,946,988,971,null,59,47192,48243,48656,48720,49070,49639,49619,49758,50049,50237,50677,51807,52692,52946,53419,53772,53830,53727,54607,55592,55803,56294,56643,57023,57458,57577,56584,56178,55881,55329,55977,56525]
["male",60,621,498,564,621,608,627,664,699,714,629,682,758,779,804,863,1065,929,887,846,814,792,844,800,844,820,836,879,856,883,918,948,980,null,60,47813,48741,49220,49341,49678,50266,50283,50457,50763,50866,51359,52565,53471,53750,54282,54837,54759,54614,55453,56406,56595,57138,57443,57867,58278,58413,57463,57034,56764,56247,56925,57505]
["male",61,646,609,512,572,626,625,630,661,706,709,620,682,772,771,795,867,1079,936,900,845,804,795,833,801,841,815,844,887,847,873,920,960,null,61,48459,49350,49732,49913,50304,50891,50913,51118,51469,51575,51979,53247,54243,54521,55077,55704,55838,55550,56353,57251,57399,57933,58276,58668,59119,59228,58307,57921,57611,57120,57845,58465]
["male",62,592,645,620,518,580,628,626,643,667,700,713,637,690,768,781,794,882,1085,947,908,844,811,802,831,803,845,813,832,871,867,871,924,null,62,49051,49995,50352,50431,50884,51519,51539,51761,52136,52275,52692,53884,54933,55289,55858,56498,56720,56635,57300,58159,58243,58744,59078,59499,59922,60073,59120,58753,58482,57987,58716,59389]
["male",63,607,579,631,608,508,578,617,635,652,667,698,708,627,683,752,788,783,878,1096,944,921,850,825,797,835,808,833,837,851,886,868,858,null,63,49658,50574,50983,51039,51392,52097,52156,52396,52788,52942,53390,54592,55560,55972,56610,57286,57503,57513,58396,59103,59164,59594,59903,60296,60757,60881,59953,59590,59333,58873,59584,60247]
["male",64,637,602,584,635,607,514,587,624,629,652,668,706,706,613,674,751,785,779,887,1096,951,929,867,817,791,842,807,824,832,851,884,864,null,64,50295,51176,51567,51674,51999,52611,52743,53020,53417,53594,54058,55298,56266,56585,57284,58037,58288,58292,59283,60199,60115,60523,60770,61113,61548,61723,60760,60414,60165,59724,60468,61111]
["male",65,602,624,600,577,627,600,516,579,625,647,654,651,690,697,614,676,752,786,769,880,1096,963,923,865,802,799,833,800,823,844,869,885,null,65,{"$f":"AK80+C81","v":50897},{"$f":"AL80+D81","v":51800},{"$f":"AM80+E81","v":52167},{"$f":"AN80+F81","v":52251},{"$f":"AO80+G81","v":52626},{"$f":"AP80+H81","v":53211},{"$f":"AQ80+I81","v":53259},{"$f":"AR80+J81","v":53599},{"$f":"AS80+K81","v":54042},{"$f":"AT80+L81","v":54241},{"$f":"AU80+M81","v":54712},{"$f":"AV80+N81","v":55949},{"$f":"AW80+O81","v":56956},{"$f":"AX80+P81","v":57282},{"$f":"AY80+Q81","v":57898},{"$f":"AZ80+R81","v":58713},{"$f":"BA80+S81","v":59040},{"$f":"BB80+T81","v":59078},{"$f":"BC80+U81","v":60052},{"$f":"BD80+V81","v":61079},{"$f":"BE80+W81","v":61211},{"$f":"BF80+X81","v":61486},{"$f":"BG80+Y81","v":61693},{"$f":"BH80+Z81","v":61978},{"$f":"BI80+AA81","v":62350},{"$f":"BJ80+AB81","v":62522},{"$f":"BK80+AC81","v":61593},{"$f":"BL80+AD81","v":61214},{"$f":"BM80+AE81","v":60988},{"$f":"BN80+AF81","v":60568},{"$f":"BO80+AG81","v":61337},61996]
["male",66,683,617,637,618,598,652,620,526,581,615,641,650,637,687,689,622,666,752,789,761,874,1097,966,923,880,804,800,833,812,819,865,862,null,66,51580,52417,52804,52869,53224,53863,53879,54125,54623,54856,55353,56599,57593,57969,58587,59335,59706,59830,60841,61840,62085,62583,62659,62901,63230,63326,62393,62047,61800,61387,62202,62858]
["male",67,622,667,602,631,612,591,647,585,535,571,604,634,642,634,679,681,630,664,746,779,769,872,1085,952,935,870,802,796,815,800,814,864,null,67,52202,53084,53406,53500,53836,54454,54526,54710,55158,55427,55957,57233,58235,58603,59266,60016,60336,60494,61587,62619,62854,63455,63744,63853,64165,64196,63195,62843,62615,62187,63016,63722]
["male",68,638,613,648,601,625,600,579,629,587,542,562,592,619,649,621,698,666,618,659,725,776,769,859,1074,935,933,864,804,790,812,790,802,null,68,52840,53697,54054,54101,54461,55054,55105,55339,55745,55969,56519,57825,58854,59252,59887,60714,61002,61112,62246,63344,63630,64224,64603,64927,65100,65129,64059,63647,63405,62999,63806,64524]
["male",69,627,615,603,614,574,611,589,566,623,581,523,542,572,622,632,626,693,657,614,646,712,764,779,844,1069,921,914,861,793,781,795,791,null,69,53467,54312,54657,54715,55035,55665,55694,55905,56368,56550,57042,58367,59426,59874,60519,61340,61695,61769,62860,63990,64342,64988,65382,65771,66169,66050,64973,64508,64198,63780,64601,65315]
["male",70,708,615,598,585,588,562,586,575,567,602,570,512,539,562,623,623,608,684,652,603,652,709,764,768,834,1050,926,900,860,788,791,784,null,70,54175,54927,55255,55300,55623,56227,56280,56480,56935,57152,57612,58879,59965,60436,61142,61963,62303,62453,63512,64593,64994,65697,66146,66539,67003,67100,65899,65408,65058,64568,65392,66099]
["male",71,692,669,603,572,576,569,541,589,557,541,590,549,498,539,552,613,611,601,668,647,596,652,716,750,740,824,1047,908,893,854,767,788,null,71,54867,55596,55858,55872,56199,56796,56821,57069,57492,57693,58202,59428,60463,60975,61694,62576,62914,63054,64180,65240,65590,66349,66862,67289,67743,67924,66946,66316,65951,65422,66159,66887]
["male",72,744,669,648,580,548,568,552,536,554,537,523,577,532,483,521,552,604,598,590,648,638,587,634,694,735,730,796,1032,899,882,849,755,null,72,55611,56265,56506,56452,56747,57364,57373,57605,58046,58230,58725,60005,60995,61458,62215,63128,63518,63652,64770,65888,66228,66936,67496,67983,68478,68654,67742,67348,66850,66304,67008,67642]
["male",73,455,711,652,627,564,537,548,539,515,523,530,510,559,519,468,509,541,595,586,574,637,630,573,620,692,717,731,786,1020,879,880,836,null,73,56066,56976,57158,57079,57311,57901,57921,58144,58561,58753,59255,60515,61554,61977,62683,63637,64059,64247,65356,66462,66865,67566,68069,68603,69170,69371,68473,68134,67870,67183,67888,68478]
["male",74,448,418,673,613,600,535,505,530,519,505,505,511,497,539,519,461,497,523,580,571,566,634,615,560,613,680,708,707,777,1003,872,853,null,74,56514,57394,57831,57692,57911,58436,58426,58674,59080,59258,59760,61026,62051,62516,63202,64098,64556,64770,65936,67033,67431,68200,68684,69163,69783,70051,69181,68841,68647,68186,68760,69331]
["male",75,459,425,395,638,583,572,515,496,508,515,485,485,485,479,520,498,454,484,510,556,556,545,626,607,542,592,671,696,690,764,970,867,null,75,56973,57819,58226,58330,58494,59008,58941,59170,59588,59773,60245,61511,62536,62995,63722,64596,65010,65254,66446,67589,67987,68745,69310,69770,70325,70643,69852,69537,69337,68950,69730,70198]
["male",76,471,430,402,375,594,557,548,486,473,479,491,470,472,456,461,500,487,429,466,492,527,545,537,618,603,504,577,660,661,667,746,929,null,76,57444,58249,58628,58705,59088,59565,59489,59656,60061,60252,60736,61981,63008,63451,64183,65096,65497,65683,66912,68081,68514,69290,69847,70388,70928,71147,70429,70197,69998,69617,70476,71127]
["male",77,448,434,415,390,364,563,537,513,465,455,451,469,444,455,440,454,476,470,418,461,472,519,525,517,594,573,497,556,642,634,649,712,null,77,57892,58683,59043,59095,59452,60128,60026,60169,60526,60707,61187,62450,63452,63906,64623,65550,65973,66153,67330,68542,68986,69809,70372,70905,71522,71720,70926,70753,70640,70251,71125,71839]
["male",78,450,415,419,400,375,345,530,495,464,441,424,422,440,419,436,430,434,449,455,390,448,451,512,514,492,573,562,483,531,618,588,619,null,78,58342,59098,59462,59495,59827,60473,60556,60664,60990,61148,61611,62872,63892,64325,65059,65980,66407,66602,67785,68932,69434,70260,70884,71419,72014,72293,71488,71236,71171,70869,71713,72458]
["male",79,399,418,382,394,371,355,327,487,461,426,416,398,388,411,399,419,405,415,425,434,373,430,435,472,485,479,547,543,468,504,597,566,null,79,58741,59516,59844,59889,60198,60828,60883,61151,61451,61574,62027,63270,64280,64736,65458,66399,66812,67017,68210,69366,69807,70690,71319,71891,72499,72772,72035,71779,71639,71373,72310,73024]
["male",80,336,362,383,349,354,346,329,297,453,434,393,380,366,361,386,379,405,381,391,411,413,372,411,413,430,457,453,528,512,447,470,573,null,80,59077,59878,60227,60238,60552,61174,61212,61448,61904,62008,62420,63650,64646,65097,65844,66778,67217,67398,68601,69777,70220,71062,71730,72304,72929,73229,72488,72307,72151,71820,72780,73597]
["male",81,284,318,345,360,327,326,325,301,271,415,406,353,363,339,333,363,361,393,366,365,397,380,350,382,394,407,425,427,507,481,428,441,null,81,59361,60196,60572,60598,60879,61500,61537,61749,62175,62423,62826,64003,65009,65436,66177,67141,67578,67791,68967,70142,70617,71442,72080,72686,73323,73636,72913,72734,72658,72301,73208,74038]
["male",82,303,258,283,317,325,298,304,290,263,247,372,379,325,340,314,313,343,331,368,342,339,366,352,330,363,376,397,395,404,473,450,391,null,82,59664,60454,60855,60915,61204,61798,61841,62039,62438,62670,63198,64382,65334,65776,66491,67454,67921,68122,69335,70484,70956,71808,72432,73016,73686,74012,73310,73129,73062,72774,73658,74429]
["male",83,247,268,226,245,282,282,269,262,262,237,224,337,342,297,308,288,291,312,315,343,322,313,346,322,305,340,342,370,375,382,440,413,null,83,59911,60722,61081,61160,61486,62080,62110,62301,62700,62907,63422,64719,65676,66073,66799,67742,68212,68434,69650,70827,71278,72121,72778,73338,73991,74352,73652,73499,73437,73156,74098,74842]
["male",84,200,210,231,191,219,244,241,245,240,240,212,207,301,317,271,284,258,267,290,283,317,297,294,323,291,284,308,325,342,331,362,430,null,84,60111,60932,61312,61351,61705,62324,62351,62546,62940,63147,63634,64926,65977,66390,67070,68026,68470,68701,69940,71110,71595,72418,73072,73661,74282,74636,73960,73824,73779,73487,74460,75272]
["male",85,791,836,873,930,933,968,1018,1037,1052,208,206,196,177,254,283,249,246,244,242,272,255,297,267,267,303,264,258,276,299,320,298,317,null,85,60902,61768,62185,62281,62638,63292,63369,63583,63992,63355,63840,65122,66154,66644,67353,68275,68716,68945,70182,71382,71850,72715,73339,73928,74585,74900,74218,74100,74078,73807,74758,75589]
["male",86,null,null,null,null,null,null,null,null,null,171,189,185,161,168,225,253,223,220,215,224,246,233,268,244,242,267,245,241,254,273,291,268,null,86,60902,61768,62185,62281,62638,63292,63369,63583,63992,63526,64029,65307,66315,66812,67578,68528,68939,69165,70397,71606,72096,72948,73607,74172,74827,75167,74463,74341,74332,74080,75049,75857]
["male",87,null,null,null,null,null,null,null,null,null,152,150,161,164,140,150,194,213,192,198,188,198,214,212,249,216,217,248,217,219,222,248,256,null,87,60902,61768,62185,62281,62638,63292,63369,63583,63992,63678,64179,65468,66479,66952,67728,68722,69152,69357,70595,71794,72294,73162,73819,74421,75043,75384,74711,74558,74551,74302,75297,76113]
["male",88,null,null,null,null,null,null,null,null,null,126,129,124,138,140,117,129,160,196,175,170,154,186,193,180,227,186,183,212,189,172,190,207,null,88,60902,61768,62185,62281,62638,63292,63369,63583,63992,63804,64308,65592,66617,67092,67845,68851,69312,69553,70770,71964,72448,73348,74012,74601,75270,75570,74894,74770,74740,74474,75487,76320]
["male",89,null,null,null,null,null,null,null,null,null,105,101,108,101,122,123,85,116,129,162,152,147,127,153,166,151,204,171,142,156,159,144,164,null,89,60902,61768,62185,62281,62638,63292,63369,63583,63992,63909,64409,65700,66718,67214,67968,68936,69428,69682,70932,72116,72595,73475,74165,74767,75421,75774,75065,74912,74896,74633,75631,76484]
["male","90+",null,null,null,null,null,null,null,null,null,297,314,332,349,330,356,387,374,383,400,449,494,532,540,532,550,555,605,608,575,572,599,581,null,"90+",60902,61768,62185,62281,62638,63292,63369,63583,63992,64206,64723,66032,67067,67544,68324,69323,69802,70065,71332,72565,73089,74007,74705,75299,75971,76329,75670,75520,75471,75205,76230,77065]
[null,"All Males",{"$f":"SUM(C16:C106)","v":60902},{"$f":"SUM(D16:D106)","v":61768},62185,62281,62638,63292,63369,63583,63992,64206,64723,66032,67067,67544,68324,69323,69802,70065,71332,72565,73089,74007,74705,75299,75971,76329,75670,{"$f":"SUM(AD16:AD106)","v":75520},{"$f":"SUM(AE16:AE106)","v":75471},{"$f":"SUM(AF16:AF106)","v":75205},{"$f":"SUM(AG16:AG106)","v":76230},{"$f":"SUM(AH16:AH106)","v":77065},null,"Females"]
["Sex","Age"]
["female",0,683,684,663,647,649,675,711,655,656,595,644,642,666,669,646,664,747,715,712,726,726,629,683,657,646,606,671,654,593,607,619,631,null,0,{"$f":"C109","v":683},684,663,647,649,675,711,655,656,595,644,642,666,669,646,664,747,715,712,726,726,629,683,657,646,606,671,654,593,607,619,631]
["female",1,740,693,689,655,664,663,680,721,659,646,607,639,650,675,674,659,674,751,703,760,740,732,637,692,683,663,623,674,688,618,630,653,null,1,{"$f":"AK109+C110","v":1423},{"$f":"AL109+D110","v":1377},{"$f":"AM109+E110","v":1352},{"$f":"AN109+F110","v":1302},{"$f":"AO109+G110","v":1313},{"$f":"AP109+H110","v":1338},{"$f":"AQ109+I110","v":1391},{"$f":"AR109+J110","v":1376},{"$f":"AS109+K110","v":1315},{"$f":"AT109+L110","v":1241},{"$f":"AU109+M110","v":1251},{"$f":"AV109+N110","v":1281},{"$f":"AW109+O110","v":1316},{"$f":"AX109+P110","v":1344},{"$f":"AY109+Q110","v":1320},{"$f":"AZ109+R110","v":1323},{"$f":"BA109+S110","v":1421},{"$f":"BB109+T110","v":1466},{"$f":"BC109+U110","v":1415},{"$f":"BD109+V110","v":1486},{"$f":"BE109+W110","v":1466},{"$f":"BF109+X110","v":1361},{"$f":"BG109+Y110","v":1320},{"$f":"BH109+Z110","v":1349},{"$f":"BI109+AA110","v":1329},{"$f":"BJ109+AB110","v":1269},{"$f":"BK109+AC110","v":1294},{"$f":"BL109+AD110","v":1328},{"$f":"BM109+AE110","v":1281},{"$f":"BN109+AF110","v":1225},{"$f":"BO109+AG110","v":1249},1284]
["female",2,681,739,700,695,660,677,658,690,741,668,671,622,633,671,680,697,684,687,746,728,765,765,761,649,714,703,669,642,680,685,645,672,null,2,2104,2116,2052,1997,1973,2015,2049,2066,2056,1909,1922,1903,1949,2015,2000,2020,2105,2153,2161,2214,2231,2126,2081,1998,2043,1972,1963,1970,1961,1910,1894,1956]
["female",3,792,695,746,712,707,672,687,693,708,749,672,690,643,644,686,689,705,690,687,749,734,786,775,768,663,719,698,674,642,708,718,683,null,3,2896,2811,2798,2709,2680,2687,2736,2759,2764,2658,2594,2593,2592,2659,2686,2709,2810,2843,2848,2963,2965,2912,2856,2766,2706,2691,2661,2644,2603,2618,2612,2639]
["female",4,791,795,713,755,727,726,677,715,688,714,771,688,716,661,660,706,691,723,715,707,746,730,786,785,781,685,708,706,688,688,737,756,null,4,3687,3606,3511,3464,3407,3413,3413,3474,3452,3372,3365,3281,3308,3320,3346,3415,3501,3566,3563,3670,3711,3642,3642,3551,3487,3376,3369,3350,3291,3306,3349,3395]
["female",5,723,766,776,702,734,716,705,716,728,700,741,801,700,707,673,667,706,687,744,748,700,761,735,793,777,797,690,716,719,718,703,752,null,5,4410,4372,4287,4166,4141,4129,4118,4190,4180,4072,4106,4082,4008,4027,4019,4082,4207,4253,4307,4418,4411,4403,4377,4344,4264,4173,4059,4066,4010,4024,4052,4147]
["female",6,738,725,770,782,714,744,722,746,737,733,726,760,804,710,730,664,688,720,695,752,738,711,758,754,796,789,808,705,721,728,738,728,null,6,5148,5097,5057,4948,4855,4873,4840,4936,4917,4805,4832,4842,4812,4737,4749,4746,4895,4973,5002,5170,5149,5114,5135,5098,5060,4962,4867,4771,4731,4752,4790,4875]
["female",7,729,738,733,777,788,728,749,758,771,726,740,748,785,813,730,758,686,689,738,699,767,736,710,768,759,796,795,824,690,716,745,746,null,7,5877,5835,5790,5725,5643,5601,5589,5694,5688,5531,5572,5590,5597,5550,5479,5504,5581,5662,5740,5869,5916,5850,5845,5866,5819,5758,5662,5595,5421,5468,5535,5621]
["female",8,729,734,743,740,784,800,738,792,769,763,740,743,755,796,804,767,778,691,701,756,711,772,744,716,786,790,803,792,829,724,732,768,null,8,6606,6569,6533,6465,6427,6401,6327,6486,6457,6294,6312,6333,6352,6346,6283,6271,6359,6353,6441,6625,6627,6622,6589,6582,6605,6548,6465,6387,6250,6192,6267,6389]
["female",9,751,739,749,757,756,804,814,765,821,793,779,743,751,761,816,801,782,781,696,711,768,726,783,734,719,803,788,823,795,844,754,748,null,9,7357,7308,7282,7222,7183,7205,7141,7251,7278,7087,7091,7076,7103,7107,7099,7072,7141,7134,7137,7336,7395,7348,7372,7316,7324,7351,7253,7210,7045,7036,7021,7137]
["female",10,691,758,737,749,749,766,803,810,776,828,799,790,761,756,777,830,807,778,786,698,723,798,734,787,740,725,797,788,819,795,876,781,null,10,8048,8066,8019,7971,7932,7971,7944,8061,8054,7915,7890,7866,7864,7863,7876,7902,7948,7912,7923,8034,8118,8146,8106,8103,8064,8076,8050,7998,7864,7831,7897,7918]
["female",11,725,698,766,736,746,748,759,822,836,797,837,828,796,784,768,778,840,822,790,791,711,734,800,739,778,750,727,800,803,810,857,905,null,11,8773,8764,8785,8707,8678,8719,8703,8883,8890,8712,8727,8694,8660,8647,8644,8680,8788,8734,8713,8825,8829,8880,8906,8842,8842,8826,8777,8798,8667,8641,8754,8823]
["female",12,766,736,707,773,732,752,747,766,820,852,772,847,847,815,792,784,791,847,839,795,803,707,739,803,743,790,751,728,812,821,832,881,null,12,9539,9500,9492,9480,9410,9471,9450,9649,9710,9564,9499,9541,9507,9462,9436,9464,9579,9581,9552,9620,9632,9587,9645,9645,9585,9616,9528,9526,9479,9462,9586,9704]
["female",13,702,753,725,699,761,714,774,771,784,848,846,752,854,868,853,809,796,807,872,863,812,814,717,759,821,761,790,759,751,838,850,862,null,13,10241,10253,10217,10179,10171,10185,10224,10420,10494,10412,10345,10293,10361,10330,10289,10273,10375,10388,10424,10483,10444,10401,10362,10404,10406,10377,10318,10285,10230,10300,10436,10566]
["female",14,698,748,821,778,759,831,765,856,843,874,881,870,776,872,912,896,854,830,831,909,892,832,829,743,764,856,793,832,771,769,903,924,null,14,10939,11001,11038,10957,10930,11016,10989,11276,11337,11286,11226,11163,11137,11202,11201,11169,11229,11218,11255,11392,11336,11233,11191,11147,11170,11233,11111,11117,11001,11069,11339,11490]
["female",15,703,715,760,835,789,771,851,803,855,833,856,879,851,749,866,934,908,856,842,830,907,897,839,836,744,778,868,808,846,772,826,933,null,15,11642,11716,11798,11792,11719,11787,11840,12079,12192,12119,12082,12042,11988,11951,12067,12103,12137,12074,12097,12222,12243,12130,12030,11983,11914,12011,11979,11925,11847,11841,12165,12423]
["female",16,678,727,738,782,862,834,804,854,815,878,823,851,879,843,723,884,958,947,871,857,829,904,897,843,834,757,788,892,812,842,835,904,null,16,12320,12443,12536,12574,12581,12621,12644,12933,13007,12997,12905,12893,12867,12794,12790,12987,13095,13021,12968,13079,13072,13034,12927,12826,12748,12768,12767,12817,12659,12683,13000,13327]
["female",17,801,719,751,751,799,855,814,856,898,845,878,835,851,871,839,706,908,989,946,888,854,828,936,911,847,836,775,824,922,816,904,917,null,17,13121,13162,13287,13325,13380,13476,13458,13789,13905,13842,13783,13728,13718,13665,13629,13693,14003,14010,13914,13967,13926,13862,13863,13737,13595,13604,13542,13641,13581,13499,13904,14244]
["female",18,961,826,856,911,929,994,971,929,961,1005,973,1037,1065,1047,1095,1041,919,1178,1264,1207,1174,1134,1085,1216,1147,1106,1108,989,1073,1170,1121,1164,null,18,14082,13988,14143,14236,14309,14470,14429,14718,14866,14847,14756,14765,14783,14712,14724,14734,14922,15188,15178,15174,15100,14996,14948,14953,14742,14710,14650,14630,14654,14669,15025,15408]
["female",19,1212,1293,1213,1264,1336,1372,1288,1508,1480,1446,1714,1733,1931,1994,2093,2059,2015,2055,2409,2508,2541,2742,2524,2521,2629,2477,2399,2290,2197,2140,2208,2032,null,19,15294,15281,15356,15500,15645,15842,15717,16226,16346,16293,16470,16498,16714,16706,16817,16793,16937,17243,17587,17682,17641,17738,17472,17474,17371,17187,17049,16920,16851,16809,17233,17440]
["female",20,1255,1244,1295,1303,1334,1381,1325,1444,1581,1593,1610,1897,1920,2124,2239,2294,2236,2225,2373,2760,2869,2832,2971,2985,2934,2946,2733,2654,2525,2328,2248,2245,null,20,16549,16525,16651,16803,16979,17223,17042,17670,17927,17886,18080,18395,18634,18830,19056,19087,19173,19468,19960,20442,20510,20570,20443,20459,20305,20133,19782,19574,19376,19137,19481,19685]
["female",21,1159,1167,1273,1243,1236,1270,1295,1242,1332,1468,1365,1411,1693,1691,1842,1945,1941,1856,2096,2217,2450,2350,2488,2587,2613,2570,2568,2386,2364,2129,2102,2059,null,21,17708,17692,17924,18046,18215,18493,18337,18912,19259,19354,19445,19806,20327,20521,20898,21032,21114,21324,22056,22659,22960,22920,22931,23046,22918,22703,22350,21960,21740,21266,21583,21744]
["female",22,999,956,1070,1040,1017,1001,1057,1091,1030,1134,1244,1141,1215,1433,1372,1433,1516,1373,1388,1475,1578,1713,1846,1735,1848,1915,1957,1881,1776,1520,1221,1487,null,22,18707,18648,18994,19086,19232,19494,19394,20003,20289,20488,20689,20947,21542,21954,22270,22465,22630,22697,23444,24134,24538,24633,24777,24781,24766,24618,24307,23841,23516,22786,22804,23231]
["female",23,964,892,845,851,828,824,805,882,869,889,1045,1128,1015,1077,1230,1123,1211,1098,1060,1048,1115,1207,1364,1322,1263,1415,1364,1317,1310,1190,920,698,null,23,19671,19540,19839,19937,20060,20318,20199,20885,21158,21377,21734,22075,22557,23031,23500,23588,23841,23795,24504,25182,25653,25840,26141,26103,26029,26033,25671,25158,24826,23976,23724,23929]
["female",24,913,902,725,788,793,787,774,774,815,768,802,980,1069,953,1004,1094,1029,1008,954,936,816,960,1051,1065,1108,1101,1122,1046,1043,996,1080,844,null,24,20584,20442,20564,20725,20853,21105,20973,21659,21973,22145,22536,23055,23626,23984,24504,24682,24870,24803,25458,26118,26469,26800,27192,27168,27137,27134,26793,26204,25869,24972,24804,24773]
["female",25,815,875,787,710,781,796,772,751,769,743,737,771,900,1005,869,918,991,939,915,850,826,762,867,920,997,947,954,961,934,894,897,1029,null,25,21399,21317,21351,21435,21634,21901,21745,22410,22742,22888,23273,23826,24526,24989,25373,25600,25861,25742,26373,26968,27295,27562,28059,28088,28134,28081,27747,27165,26803,25866,25701,25802]
["female",26,851,795,849,776,711,797,792,742,787,749,737,716,751,894,938,817,841,914,881,880,826,821,749,833,899,941,892,883,893,881,870,898,null,26,22250,22112,22200,22211,22345,22698,22537,23152,23529,23637,24010,24542,25277,25883,26311,26417,26702,26656,27254,27848,28121,28383,28808,28921,29033,29022,28639,28048,27696,26747,26571,26700]
["female",27,802,838,784,845,782,735,808,762,783,782,725,744,702,746,884,926,776,782,894,853,845,818,820,739,827,854,880,876,851,900,839,863,null,27,23052,22950,22984,23056,23127,23433,23345,23914,24312,24419,24735,25286,25979,26629,27195,27343,27478,27438,28148,28701,28966,29201,29628,29660,29860,29876,29519,28924,28547,27647,27410,27563]
["female",28,801,808,840,768,829,782,735,778,789,793,774,737,743,708,748,855,878,749,771,834,837,862,789,816,755,815,827,859,866,840,889,862,null,28,23853,23758,23824,23824,23956,24215,24080,24692,25101,25212,25509,26023,26722,27337,27943,28198,28356,28187,28919,29535,29803,30063,30417,30476,30615,30691,30346,29783,29413,28487,28299,28425]
["female",29,827,827,807,839,763,831,782,781,823,803,800,769,744,764,710,745,803,857,749,775,802,857,818,776,840,744,808,840,858,869,820,892,null,29,24680,24585,24631,24663,24719,25046,24862,25473,25924,26015,26309,26792,27466,28101,28653,28943,29159,29044,29668,30310,30605,30920,31235,31252,31455,31435,31154,30623,30271,29356,29119,29317]
["female",30,836,838,819,830,860,789,839,784,810,854,803,812,744,741,759,684,719,773,812,742,765,808,831,823,806,839,760,819,851,860,850,808,null,30,25516,25423,25450,25493,25579,25835,25701,26257,26734,26869,27112,27604,28210,28842,29412,29627,29878,29817,30480,31052,31370,31728,32066,32075,32261,32274,31914,31442,31122,30216,29969,30125]
["female",31,805,834,823,822,835,871,783,836,814,812,840,810,818,769,754,754,687,703,777,806,745,760,853,820,821,789,850,799,874,875,889,850,null,31,26321,26257,26273,26315,26414,26706,26484,27093,27548,27681,27952,28414,29028,29611,30166,30381,30565,30520,31257,31858,32115,32488,32919,32895,33082,33063,32764,32241,31996,31091,30858,30975]
["female",32,810,803,838,830,825,845,868,802,859,839,820,868,812,829,800,764,747,707,689,780,798,759,780,859,829,798,767,856,822,879,890,955,null,32,27131,27060,27111,27145,27239,27551,27352,27895,28407,28520,28772,29282,29840,30440,30966,31145,31312,31227,31946,32638,32913,33247,33699,33754,33911,33861,33531,33097,32818,31970,31748,31930]
["female",33,804,812,812,845,843,839,849,894,826,861,848,837,887,836,831,809,778,731,710,682,785,803,793,799,862,856,832,788,877,842,922,946,null,33,{"$f":"AK141+C142","v":27935},{"$f":"AL141+D142","v":27872},{"$f":"AM141+E142","v":27923},{"$f":"AN141+F142","v":27990},{"$f":"AO141+G142","v":28082},{"$f":"AP141+H142","v":28390},{"$f":"AQ141+I142","v":28201},{"$f":"AR141+J142","v":28789},{"$f":"AS141+K142","v":29233},{"$f":"AT141+L142","v":29381},{"$f":"AU141+M142","v":29620},{"$f":"AV141+N142","v":30119},{"$f":"AW141+O142","v":30727},{"$f":"AX141+P142","v":31276},{"$f":"AY141+Q142","v":31797},{"$f":"AZ141+R142","v":31954},{"$f":"BA141+S142","v":32090},{"$f":"BB141+T142","v":31958},{"$f":"BC141+U142","v":32656},{"$f":"BD141+V142","v":33320},{"$f":"BE141+W142","v":33698},{"$f":"BF141+X142","v":34050},{"$f":"BG141+Y142","v":34492},{"$f":"BH141+Z142","v":34553},{"$f":"BI141+AA142","v":34773},{"$f":"BJ141+AB142","v":34717},{"$f":"BK141+AC142","v":34363},{"$f":"BL141+AD142","v":33885},{"$f":"BM141+AE142","v":33695},{"$f":"BN141+AF142","v":32812},{"$f":"BO141+AG142","v":32670},32876]
["female",34,763,798,812,814,848,854,838,872,903,837,870,848,870,893,841,851,805,781,723,714,665,813,828,813,807,860,856,846,819,917,879,970,null,34,28698,28670,28735,28804,28930,29244,29039,29661,30136,30218,30490,30967,31597,32169,32638,32805,32895,32739,33379,34034,34363,34863,35320,35366,35580,35577,35219,34731,34514,33729,33549,33846]
["female",35,727,768,806,819,825,864,866,866,886,917,857,886,890,906,899,866,842,830,791,723,730,691,830,852,809,811,870,860,857,843,963,954,null,35,29425,29438,29541,29623,29755,30108,29905,30527,31022,31135,31347,31853,32487,33075,33537,33671,33737,33569,34170,34757,35093,35554,36150,36218,36389,36388,36089,35591,35371,34572,34512,34800]
["female",36,764,732,772,810,826,834,865,887,897,906,933,875,914,894,920,915,874,834,840,796,727,753,706,832,871,825,808,879,875,887,862,992,null,36,30189,30170,30313,30433,30581,30942,30770,31414,31919,32041,32280,32728,33401,33969,34457,34586,34611,34403,35010,35553,35820,36307,36856,37050,37260,37213,36897,36470,36246,35459,35374,35792]
["female",37,804,792,762,793,838,861,862,873,900,888,937,937,896,948,910,929,931,861,849,856,793,753,777,701,848,888,816,804,883,916,907,885,null,37,30993,30962,31075,31226,31419,31803,31632,32287,32819,32929,33217,33665,34297,34917,35367,35515,35542,35264,35859,36409,36613,37060,37633,37751,38108,38101,37713,37274,37129,36375,36281,36677]
["female",38,806,803,797,766,792,842,858,862,882,927,916,932,930,913,954,927,952,926,874,871,868,806,782,788,738,851,892,831,832,906,957,946,null,38,31799,31765,31872,31992,32211,32645,32490,33149,33701,33856,34133,34597,35227,35830,36321,36442,36494,36190,36733,37280,37481,37866,38415,38539,38846,38952,38605,38105,37961,37281,37238,37623]
["female",39,749,818,817,809,778,804,847,871,880,888,944,936,954,938,929,962,960,974,914,869,888,872,819,792,817,767,858,910,850,871,954,997,null,39,32548,32583,32689,32801,32989,33449,33337,34020,34581,34744,35077,35533,36181,36768,37250,37404,37454,37164,37647,38149,38369,38738,39234,39331,39663,39719,39463,39015,38811,38152,38192,38620]
["female",40,755,725,804,796,791,759,774,854,884,898,901,948,961,956,943,945,962,956,980,932,874,912,878,842,802,835,776,865,929,857,922,971,null,40,33303,33308,33493,33597,33780,34208,34111,34874,35465,35642,35978,36481,37142,37724,38193,38349,38416,38120,38627,39081,39243,39650,40112,40173,40465,40554,40239,39880,39740,39009,39114,39591]
["female",41,822,762,732,808,801,800,762,793,874,895,909,911,965,948,965,966,948,962,992,993,935,919,919,892,848,800,849,772,873,941,894,954,null,41,34125,34070,34225,34405,34581,35008,34873,35667,36339,36537,36887,37392,38107,38672,39158,39315,39364,39082,39619,40074,40178,40569,41031,41065,41313,41354,41088,40652,40613,39950,40008,40545]
["female",42,791,819,768,734,811,805,799,789,811,885,898,908,911,958,948,983,978,968,974,997,1003,959,929,934,914,849,796,865,773,882,975,925,null,42,34916,34889,34993,35139,35392,35813,35672,36456,37150,37422,37785,38300,39018,39630,40106,40298,40342,40050,40593,41071,41181,41528,41960,41999,42227,42203,41884,41517,41386,40832,40983,41470]
["female",43,890,799,828,782,743,827,814,829,793,804,890,911,921,920,964,965,1001,1000,971,980,1004,1014,978,949,937,904,838,812,874,789,896,991,null,43,35806,35688,35821,35921,36135,36640,36486,37285,37943,38226,38675,39211,39939,40550,41070,41263,41343,41050,41564,42051,42185,42542,42938,42948,43164,43107,42722,42329,42260,41621,41879,42461]
["female",44,989,880,802,831,794,752,830,823,844,798,824,905,900,919,931,975,975,1005,1013,983,984,1013,1026,982,947,936,932,843,824,859,809,912,null,44,36795,36568,36623,36752,36929,37392,37316,38108,38787,39024,39499,40116,40839,41469,42001,42238,42318,42055,42577,43034,43169,43555,43964,43930,44111,44043,43654,43172,43084,42480,42688,43373]
["female",45,1103,989,877,806,838,804,754,836,827,843,804,844,908,909,920,949,993,978,1020,1002,1002,982,1041,1037,975,950,947,931,856,843,877,829,null,45,37898,37557,37500,37558,37767,38196,38070,38944,39614,39867,40303,40960,41747,42378,42921,43187,43311,43033,43597,44036,44171,44537,45005,44967,45086,44993,44601,44103,43940,43323,43565,44202]
["female",46,878,1103,995,878,813,847,811,774,841,824,835,804,844,918,899,930,942,985,989,1012,1019,1025,991,1050,1044,983,966,959,921,878,859,891,null,46,38776,38660,38495,38436,38580,39043,38881,39718,40455,40691,41138,41764,42591,43296,43820,44117,44253,44018,44586,45048,45190,45562,45996,46017,46130,45976,45567,45062,44861,44201,44424,45093]
["female",47,833,871,1093,990,871,814,844,824,790,839,840,848,809,851,930,920,922,953,981,991,1027,1022,1015,1002,1047,1067,963,987,965,935,901,859,null,47,39609,39531,39588,39426,39451,39857,39725,40542,41245,41530,41978,42612,43400,44147,44750,45037,45175,44971,45567,46039,46217,46584,47011,47019,47177,47043,46530,46049,45826,45136,45325,45952]
["female",48,836,846,878,1100,1001,879,822,851,837,800,849,860,857,830,852,940,916,920,953,983,1000,1048,1019,1004,1013,1052,1079,959,993,984,941,891,null,48,40445,40377,40466,40526,40452,40736,40547,41393,42082,42330,42827,43472,44257,44977,45602,45977,46091,45891,46520,47022,47217,47632,48030,48023,48190,48095,47609,47008,46819,46120,46266,46843]
["female",49,758,840,856,882,1103,1008,878,818,859,839,799,869,854,876,835,857,956,918,931,941,998,1025,1048,1038,1009,1005,1048,1078,971,993,985,940,null,49,41203,41217,41322,41408,41555,41744,41425,42211,42941,43169,43626,44341,45111,45853,46437,46834,47047,46809,47451,47963,48215,48657,49078,49061,49199,49100,48657,48086,47790,47113,47251,47783]
["female",50,721,765,839,859,880,1101,1005,875,828,873,834,807,870,850,871,849,863,960,920,910,952,1001,1022,1060,1020,1021,1021,1042,1079,962,996,995,null,50,41924,41982,42161,42267,42435,42845,42430,43086,43769,44042,44460,45148,45981,46703,47308,47683,47910,47769,48371,48873,49167,49658,50100,50121,50219,50121,49678,49128,48869,48075,48247,48778]
["female",51,630,731,787,854,879,898,1110,1010,864,839,874,834,810,885,841,884,852,871,959,917,901,956,1016,1047,1062,1011,1027,1029,1049,1071,984,1028,null,51,42554,42713,42948,43121,43314,43743,43540,44096,44633,44881,45334,45982,46791,47588,48149,48567,48762,48640,49330,49790,50068,50614,51116,51168,51281,51132,50705,50157,49918,49146,49231,49806]
["female",52,650,630,719,791,851,879,888,1116,1024,870,854,885,828,818,876,837,900,845,877,974,948,912,964,1024,1038,1077,1027,1042,1021,1045,1082,988,null,52,43204,43343,43667,43912,44165,44622,44428,45212,45657,45751,46188,46867,47619,48406,49025,49404,49662,49485,50207,50764,51016,51526,52080,52192,52319,52209,51732,51199,50939,50191,50313,50794]
["female",53,686,651,632,717,798,849,879,918,1134,1030,869,850,893,830,826,881,851,895,861,872,961,945,937,982,1027,1045,1076,1032,1056,1016,1063,1101,null,53,43890,43994,44299,44629,44963,45471,45307,46130,46791,46781,47057,47717,48512,49236,49851,50285,50513,50380,51068,51636,51977,52471,53017,53174,53346,53254,52808,52231,51995,51207,51376,51895]
["female",54,657,701,658,639,715,818,847,883,931,1104,1026,888,847,895,821,840,875,836,893,851,872,966,974,927,986,1017,1037,1078,1031,1061,1024,1089,null,54,44547,44695,44957,45268,45678,46289,46154,47013,47722,47885,48083,48605,49359,50131,50672,51125,51388,51216,51961,52487,52849,53437,53991,54101,54332,54271,53845,53309,53026,52268,52400,52984]
["female",55,647,668,715,670,648,723,829,869,902,939,1116,1038,917,852,896,839,847,864,840,890,845,891,969,963,938,995,1027,1044,1068,1041,1066,1025,null,55,45194,45363,45672,45938,46326,47012,46983,47882,48624,48824,49199,49643,50276,50983,51568,51964,52235,52080,52801,53377,53694,54328,54960,55064,55270,55266,54872,54353,54094,53309,53466,54009]
["female",56,630,650,667,724,675,648,712,844,868,902,936,1112,1050,923,861,893,836,858,859,849,901,853,898,988,957,959,989,1056,1045,1077,1035,1051,null,56,45824,46013,46339,46662,47001,47660,47695,48726,49492,49726,50135,50755,51326,51906,52429,52857,53071,52938,53660,54226,54595,55181,55858,56052,56227,56225,55861,55409,55139,54386,54501,55060]
["female",57,636,633,652,673,731,682,650,728,848,876,903,949,1123,1046,937,865,890,832,869,853,853,902,871,906,979,951,976,1022,1072,1052,1099,1045,null,57,46460,46646,46991,47335,47732,48342,48345,49454,50340,50602,51038,51704,52449,52952,53366,53722,53961,53770,54529,55079,55448,56083,56729,56958,57206,57176,56837,56431,56211,55438,55600,56105]
["female",58,652,629,632,653,677,736,681,646,725,850,874,901,947,1133,1031,953,875,901,837,853,880,853,889,897,899,982,961,975,1015,1085,1065,1103,null,58,47112,47275,47623,47988,48409,49078,49026,50100,51065,51452,51912,52605,53396,54085,54397,54675,54836,54671,55366,55932,56328,56936,57618,57855,58105,58158,57798,57406,57226,56523,56665,57208]
["female",59,610,647,626,633,650,674,734,694,648,734,848,870,898,934,1140,1034,961,889,910,842,850,890,847,883,898,901,978,953,979,1041,1090,1043,null,59,47722,47922,48249,48621,49059,49752,49760,50794,51713,52186,52760,53475,54294,55019,55537,55709,55797,55560,56276,56774,57178,57826,58465,58738,59003,59059,58776,58359,58205,57564,57755,58251]
["female",60,696,627,661,639,652,669,697,760,716,657,739,860,874,892,939,1169,1027,960,878,888,843,850,900,858,894,912,914,984,941,998,1050,1104,null,60,48418,48549,48910,49260,49711,50421,50457,51554,52429,52843,53499,54335,55168,55911,56476,56878,56824,56520,57154,57662,58021,58676,59365,59596,59897,59971,59690,59343,59146,58562,58805,59355]
["female",61,666,699,637,661,647,664,676,706,769,721,665,745,864,864,886,951,1178,1030,980,896,888,856,856,910,858,907,916,913,978,959,1008,1043,null,61,49084,49248,49547,49921,50358,51085,51133,52260,53198,53564,54164,55080,56032,56775,57362,57829,58002,57550,58134,58558,58909,59532,60221,60506,60755,60878,60606,60256,60124,59521,59813,60398]
["female",62,786,663,702,639,660,645,662,692,714,764,731,673,749,854,873,888,959,1181,1022,982,903,897,849,868,898,871,924,934,928,992,962,1003,null,62,49870,49911,50249,50560,51018,51730,51795,52952,53912,54328,54895,55753,56781,57629,58235,58717,58961,58731,59156,59540,59812,60429,61070,61374,61653,61749,61530,61190,61052,60513,60775,61401]
["female",63,790,785,671,705,647,665,647,666,704,720,757,714,679,737,855,879,882,953,1181,1022,979,905,904,869,864,908,879,934,928,950,1005,952,null,63,50660,50696,50920,51265,51665,52395,52442,53618,54616,55048,55652,56467,57460,58366,59090,59596,59843,59684,60337,60562,60791,61334,61974,62243,62517,62657,62409,62124,61980,61463,61780,62353]
["female",64,765,781,776,674,698,653,662,623,667,698,712,747,709,665,747,853,889,888,958,1180,1037,994,925,908,859,877,901,878,928,933,948,1013,null,64,51425,51477,51696,51939,52363,53048,53104,54241,55283,55746,56364,57214,58169,59031,59837,60449,60732,60572,61295,61742,61828,62328,62899,63151,63376,63534,63310,63002,62908,62396,62728,63366]
["female",65,798,758,768,777,672,698,653,666,624,661,707,715,752,708,669,750,860,898,886,961,1194,1036,1003,934,913,842,872,898,896,933,946,957,null,65,{"$f":"AK173+C174","v":52223},{"$f":"AL173+D174","v":52235},{"$f":"AM173+E174","v":52464},{"$f":"AN173+F174","v":52716},{"$f":"AO173+G174","v":53035},{"$f":"AP173+H174","v":53746},{"$f":"AQ173+I174","v":53757},{"$f":"AR173+J174","v":54907},{"$f":"AS173+K174","v":55907},{"$f":"AT173+L174","v":56407},{"$f":"AU173+M174","v":57071},{"$f":"AV173+N174","v":57929},{"$f":"AW173+O174","v":58921},{"$f":"AX173+P174","v":59739},{"$f":"AY173+Q174","v":60506},{"$f":"AZ173+R174","v":61199},{"$f":"BA173+S174","v":61592},{"$f":"BB173+T174","v":61470},{"$f":"BC173+U174","v":62181},{"$f":"BD173+V174","v":62703},{"$f":"BE173+W174","v":63022},{"$f":"BF173+X174","v":63364},{"$f":"BG173+Y174","v":63902},{"$f":"BH173+Z174","v":64085},{"$f":"BI173+AA174","v":64289},{"$f":"BJ173+AB174","v":64376},{"$f":"BK173+AC174","v":64182},{"$f":"BL173+AD174","v":63900},{"$f":"BM173+AE174","v":63804},{"$f":"BN173+AF174","v":63329},{"$f":"BO173+AG174","v":63674},64323]
["female",66,789,804,762,774,786,689,706,670,659,631,665,700,719,755,702,674,748,852,898,871,957,1203,1039,999,943,902,845,873,902,899,935,951,null,66,53012,53039,53226,53490,53821,54435,54463,55577,56566,57038,57736,58629,59640,60494,61208,61873,62340,62322,63079,63574,63979,64567,64941,65084,65232,65278,65027,64773,64706,64228,64609,65274]
["female",67,835,784,806,761,775,788,690,676,673,663,640,664,707,709,757,699,663,753,851,892,876,956,1209,1038,1002,946,910,844,877,915,896,942,null,67,53847,53823,54032,54251,54596,55223,55153,56253,57239,57701,58376,59293,60347,61203,61965,62572,63003,63075,63930,64466,64855,65523,66150,66122,66234,66224,65937,65617,65583,65143,65505,66216]
["female",68,800,824,773,797,748,755,776,694,654,664,678,637,659,701,717,757,694,660,756,844,904,864,958,1215,1019,997,937,901,842,874,926,889,null,68,54647,54647,54805,55048,55344,55978,55929,56947,57893,58365,59054,59930,61006,61904,62682,63329,63697,63735,64686,65310,65759,66387,67108,67337,67253,67221,66874,66518,66425,66017,66431,67105]
["female",69,845,796,811,765,786,739,745,762,691,643,646,673,631,655,697,704,742,681,662,749,832,896,859,941,1192,1002,985,934,904,852,860,940,null,69,55492,55443,55616,55813,56130,56717,56674,57709,58584,59008,59700,60603,61637,62559,63379,64033,64439,64416,65348,66059,66591,67283,67967,68278,68445,68223,67859,67452,67329,66869,67291,68045]
["female",70,870,834,779,790,754,772,725,734,744,691,640,636,663,634,664,689,704,733,677,656,750,814,887,855,931,1185,997,993,939,896,853,849,null,70,56362,56277,56395,56603,56884,57489,57399,58443,59328,59699,60340,61239,62300,63193,64043,64722,65143,65149,66025,66715,67341,68097,68854,69133,69376,69408,68856,68445,68268,67765,68144,68894]
["female",71,899,846,810,762,774,732,750,711,722,735,686,637,623,660,629,660,679,694,712,662,655,750,801,867,858,922,1182,1007,982,928,893,870,null,71,57261,57123,57205,57365,57658,58221,58149,59154,60050,60434,61026,61876,62923,63853,64672,65382,65822,65843,66737,67377,67996,68847,69655,70000,70234,70330,70038,69452,69250,68693,69037,69764]
["female",72,917,888,827,790,743,752,713,735,680,698,727,673,634,615,648,629,658,664,684,696,653,652,744,786,864,842,929,1177,1015,977,911,883,null,72,58178,58011,58032,58155,58401,58973,58862,59889,60730,61132,61753,62549,63557,64468,65320,66011,66480,66507,67421,68073,68649,69499,70399,70786,71098,71172,70967,70629,70265,69670,69948,70647]
["female",73,572,895,865,809,774,735,736,709,711,659,692,715,657,626,603,647,617,657,661,674,703,657,641,744,765,854,839,914,1167,1001,955,889,null,73,58750,58906,58897,58964,59175,59708,59598,60598,61441,61791,62445,63264,64214,65094,65923,66658,67097,67164,68082,68747,69352,70156,71040,71530,71863,72026,71806,71543,71432,70671,70903,71536]
["female",74,615,575,871,862,800,770,731,712,692,698,641,675,696,635,624,591,640,613,643,638,668,687,648,632,738,762,833,842,911,1147,989,934,null,74,59365,59481,59768,59826,59975,60478,60329,61310,62133,62489,63086,63939,64910,65729,66547,67249,67737,67777,68725,69385,70020,70843,71688,72162,72601,72788,72639,72385,72343,71818,71892,72470]
["female",75,691,596,567,841,837,788,745,710,696,668,671,628,670,679,627,619,577,635,602,632,629,658,677,636,615,733,742,824,836,900,1142,981,null,75,60056,60077,60335,60667,60812,61266,61074,62020,62829,63157,63757,64567,65580,66408,67174,67868,68314,68412,69327,70017,70649,71501,72365,72798,73216,73521,73381,73209,73179,72718,73034,73451]
["female",76,678,672,579,552,813,812,764,715,692,672,646,652,601,662,671,619,606,565,621,589,607,628,644,664,628,603,724,735,799,825,891,1109,null,76,60734,60749,60914,61219,61625,62078,61838,62735,63521,63829,64403,65219,66181,67070,67845,68487,68920,68977,69948,70606,71256,72129,73009,73462,73844,74124,74105,73944,73978,73543,73925,74560]
["female",77,738,650,654,560,544,785,800,731,707,662,634,619,643,575,645,651,595,596,554,607,575,597,616,625,660,612,596,711,703,781,823,878,null,77,61472,61399,61568,61779,62169,62863,62638,63466,64228,64491,65037,65838,66824,67645,68490,69138,69515,69573,70502,71213,71831,72726,73625,74087,74504,74736,74701,74655,74681,74324,74748,75438]
["female",78,681,711,632,631,542,530,750,770,693,673,647,615,598,633,551,630,633,574,577,541,594,551,590,604,597,645,605,577,711,684,776,794,null,78,62153,62110,62200,62410,62711,63393,63388,64236,64921,65164,65684,66453,67422,68278,69041,69768,70148,70147,71079,71754,72425,73277,74215,74691,75101,75381,75306,75232,75392,75008,75524,76232]
["female",79,580,642,672,606,601,516,503,706,740,663,650,626,601,584,620,533,613,617,558,558,525,567,533,576,583,577,625,585,562,708,668,751,null,79,62733,62752,62872,63016,63312,63909,63891,64942,65661,65827,66334,67079,68023,68862,69661,70301,70761,70764,71637,72312,72950,73844,74748,75267,75684,75958,75931,75817,75954,75716,76192,76983]
["female",80,599,554,621,628,575,569,486,487,667,710,636,620,599,578,565,594,508,598,595,543,548,508,543,508,556,560,560,599,572,535,674,637,null,80,63332,63306,63493,63644,63887,64478,64377,65429,66328,66537,66970,67699,68622,69440,70226,70895,71269,71362,72232,72855,73498,74352,75291,75775,76240,76518,76491,76416,76526,76251,76866,77620]
["female",81,573,574,526,591,600,545,543,447,467,629,677,608,568,559,528,545,570,494,581,577,523,528,500,521,490,539,535,533,578,545,519,661,null,81,63905,63880,64019,64235,64487,65023,64920,65876,66795,67166,67647,68307,69190,69999,70754,71440,71839,71856,72813,73432,74021,74880,75791,76296,76730,77057,77026,76949,77104,76796,77385,78281]
["female",82,528,545,531,495,549,558,505,503,416,444,591,651,555,539,543,513,517,531,477,558,552,502,524,481,510,471,520,530,514,558,524,499,null,82,64433,64425,64550,64730,65036,65581,65425,66379,67211,67610,68238,68958,69745,70538,71297,71953,72356,72387,73290,73990,74573,75382,76315,76777,77240,77528,77546,77479,77618,77354,77909,78780]
["female",83,516,493,496,482,455,518,533,468,467,377,419,544,615,535,529,512,487,485,497,465,515,510,469,495,449,488,453,501,502,497,528,492,null,83,64949,64918,65046,65212,65491,66099,65958,66847,67678,67987,68657,69502,70360,71073,71826,72465,72843,72872,73787,74455,75088,75892,76784,77272,77689,78016,77999,77980,78120,77851,78437,79272]
["female",84,474,477,458,462,451,421,484,472,424,420,348,410,516,578,490,508,486,463,460,464,438,475,490,435,466,437,448,431,467,477,467,484,null,84,65423,65395,65504,65674,65942,66520,66442,67319,68102,68407,69005,69912,70876,71651,72316,72973,73329,73335,74247,74919,75526,76367,77274,77707,78155,78453,78447,78411,78587,78328,78904,79756]
["female",85,2518,2614,2691,2734,2738,2791,2798,2760,2811,413,386,324,379,475,549,446,474,461,434,430,428,407,447,449,408,430,403,414,404,429,463,438,null,85,67941,68009,68195,68408,68680,69311,69240,70079,70913,68820,69391,70236,71255,72126,72865,73419,73803,73796,74681,75349,75954,76774,77721,78156,78563,78883,78850,78825,78991,78757,79367,80194]
["female",86,null,null,null,null,null,null,null,null,null,404,377,353,290,359,428,506,413,431,431,405,371,398,376,403,423,391,401,368,388,371,389,420,null,86,67941,68009,68195,68408,68680,69311,69240,70079,70913,69224,69768,70589,71545,72485,73293,73925,74216,74227,75112,75754,76325,77172,78097,78559,78986,79274,79251,79193,79379,79128,79756,80614]
["female",87,null,null,null,null,null,null,null,null,null,348,376,330,329,267,330,390,456,372,400,398,362,341,367,342,368,386,369,367,328,361,348,352,null,87,67941,68009,68195,68408,68680,69311,69240,70079,70913,69572,70144,70919,71874,72752,73623,74315,74672,74599,75512,76152,76687,77513,78464,78901,79354,79660,79620,79560,79707,79489,80104,80966]
["female",88,null,null,null,null,null,null,null,null,null,327,305,335,293,287,236,291,340,411,341,367,359,320,298,338,312,336,355,331,328,299,321,305,null,88,67941,68009,68195,68408,68680,69311,69240,70079,70913,69899,70449,71254,72167,73039,73859,74606,75012,75010,75853,76519,77046,77833,78762,79239,79666,79996,79975,79891,80035,79788,80425,81271]
["female",89,null,null,null,null,null,null,null,null,null,276,285,269,296,250,241,203,252,297,374,296,321,323,293,256,310,280,293,315,285,292,266,277,null,89,67941,68009,68195,68408,68680,69311,69240,70079,70913,70175,70734,71523,72463,73289,74100,74809,75264,75307,76227,76815,77367,78156,79055,79495,79976,80276,80268,80206,80320,80080,80691,81548]
["female","90+",null,null,null,null,null,null,null,null,null,1000,1026,1053,1048,1085,1066,1065,1007,1024,1094,1220,1254,1312,1391,1349,1333,1339,1318,1383,1396,1346,1361,1326,null,"90+",67941,68009,68195,68408,68680,69311,69240,70079,70913,71175,71760,72576,73511,74374,75166,75874,76271,76331,77321,78035,78621,79468,80446,80844,81309,81615,81586,81589,81716,81426,82052,82874]
[null,"All Females",{"$f":"SUM(C109:C199)","v":67941},{"$f":"SUM(D109:D199)","v":68009},68195,68408,68680,69311,69240,70079,70913,71175,71760,72576,73511,74374,75166,75874,76271,76331,77321,78035,78621,79468,80446,80844,81309,81615,81586,{"$f":"SUM(AD109:AD199)","v":81589},{"$f":"SUM(AE109:AE199)","v":81716},{"$f":"SUM(AF109:AF199)","v":81426},{"$f":"SUM(AG109:AG199)","v":82052},{"$f":"SUM(AH109:AH199)","v":82874}]

{"sheet":"DAR","index":12,"n_rows":200,"n_cols":106,"rows_kept":200,"cut":false,"hidden":true,"merged":[[0,68,21,68]]}
["Mid Year Population Estimates",null,null,null,null,null,null,null,null,null,null,null,null,null,null,null,null,null,null,null,null,null,null,null,null,null,null,null,null,null,null,null,null,null,null,null,null,null,null,null,null,null,null,null,null,null,null,null,null,null,null,null,null,null,null,null,null,null,null,null,null,null,null,null,null,null,null,null,"Insert column here before extending the table"]
["ONS Mid-Year Population Estimates 1991 to 2022 - (1992 to 2001 Revised 7th October 2004) ( 2002 to 2010 revised in light of the 2011 census. Released 30 April 2013)",null,null,null,null,null,null,null,null,null,null,null,null,null,null,null,null,null,null,null,null,null,null,null,null,null,null,null,null,null,null,null,null,null,null,"Selected Ages:",null,{"$f":"Index!C4&\" : \"&Index!C7","v":"0 : 90"},null,null,null,null,null,null,null,null,null,null,null,null,null,null,null,null,null,null,null,null,null,null,null,null,null,null,null,null,null,null,null,null,null,null,"Start year","End Year","Number change","% Change"]
["Revised ONS Mid-Year Population Estimates 2012 to 2020- Released 23 November 2023",null,null,null,null,null,null,null,null,null,null,null,null,null,null,null,null,null,null,null,null,null,null,null,null,null,null,null,null,null,null,null,null,null,null,null,{"$f":"AK13","v":1992},{"$f":"AL13","v":1993},{"$f":"AM13","v":1994},{"$f":"AN13","v":1995},{"$f":"AO13","v":1996},{"$f":"AP13","v":1997},1998,1999,2000,2001,2002,2003,2004,2005,2006,2007,2008,2009,2010,2011,2012,2013,2014,2015,2016,2017,{"$f":"BK13","v":2018},2019,2020,2021,2022,2023,null,null,null,null,{"$f":"INDEX($AR3:$BL3,Index!$B$16)","v":1999},{"$f":"INDEX($AR3:$BM3,Index!$B$19)","v":2019}]
["2022 MYPE released 23 November 2023",null,null,null,null,null,null,null,null,null,null,null,null,null,null,null,null,null,null,null,null,null,null,null,null,null,null,null,null,null,null,null,null,null,null,"Males",{"$f":"OFFSET(AK16,Index!$B$7-1,0)-IF(Index!$B$4-2=-1,0,OFFSET(AK16,Index!$B$4-2,0))","v":39641},{"$f":"OFFSET(AL16,Index!$B$7-1,0)-IF(Index!$B$4-2=-1,0,OFFSET(AL16,Index!$B$4-2,0))","v":39966},{"$f":"OFFSET(AM16,Index!$B$7-1,0)-IF(Index!$B$4-2=-1,0,OFFSET(AM16,Index!$B$4-2,0))","v":40342},{"$f":"OFFSET(AN16,Index!$B$7-1,0)-IF(Index!$B$4-2=-1,0,OFFSET(AN16,Index!$B$4-2,0))","v":40478},{"$f":"OFFSET(AO16,Index!$B$7-1,0)-IF(Index!$B$4-2=-1,0,OFFSET(AO16,Index!$B$4-2,0))","v":40653},{"$f":"OFFSET(AP16,Index!$B$7-1,0)-IF(Index!$B$4-2=-1,0,OFFSET(AP16,Index!$B$4-2,0))","v":40977},{"$f":"OFFSET(AQ16,Index!$B$7-1,0)-IF(Index!$B$4-2=-1,0,OFFSET(AQ16,Index!$B$4-2,0))","v":41459},{"$f":"OFFSET(AR16,Index!$B$7-1,0)-IF(Index!$B$4-2=-1,0,OFFSET(AR16,Index!$B$4-2,0))","v":41650},{"$f":"OFFSET(AS16,Index!$B$7-1,0)-IF(Index!$B$4-2=-1,0,OFFSET(AS16,Index!$B$4-2,0))","v":41869},{"$f":"OFFSET(AT16,Index!$B$7-1,0)-IF(Index!$B$4-2=-1,0,OFFSET(AT16,Index!$B$4-2,0))","v":42161},{"$f":"OFFSET(AU16,Index!$B$7-1,0)-IF(Index!$B$4-2=-1,0,OFFSET(AU16,Index!$B$4-2,0))","v":42493},{"$f":"OFFSET(AV16,Index!$B$7-1,0)-IF(Index!$B$4-2=-1,0,OFFSET(AV16,Index!$B$4-2,0))","v":42870},{"$f":"OFFSET(AW16,Index!$B$7-1,0)-IF(Index!$B$4-2=-1,0,OFFSET(AW16,Index!$B$4-2,0))","v":43417},{"$f":"OFFSET(AX16,Index!$B$7-1,0)-IF(Index!$B$4-2=-1,0,OFFSET(AX16,Index!$B$4-2,0))","v":44224},{"$f":"OFFSET(AY16,Index!$B$7-1,0)-IF(Index!$B$4-2=-1,0,OFFSET(AY16,Index!$B$4-2,0))","v":44802},{"$f":"OFFSET(AZ16,Index!$B$7-1,0)-IF(Index!$B$4-2=-1,0,OFFSET(AZ16,Index!$B$4-2,0))","v":45375},{"$f":"OFFSET(BA16,Index!$B$7-1,0)-IF(Index!$B$4-2=-1,0,OFFSET(BA16,Index!$B$4-2,0))","v":46200},{"$f":"OFFSET(BB16,Index!$B$7-1,0)-IF(Index!$B$4-2=-1,0,OFFSET(BB16,Index!$B$4-2,0))","v":46885},{"$f":"OFFSET(BC16,Index!$B$7-1,0)-IF(Index!$B$4-2=-1,0,OFFSET(BC16,Index!$B$4-2,0))","v":47544},{"$f":"OFFSET(BD16,Index!$B$7-1,0)-IF(Index!$B$4-2=-1,0,OFFSET(BD16,Index!$B$4-2,0))","v":48187},{"$f":"OFFSET(BE16,Index!$B$7-1,0)-IF(Index!$B$4-2=-1,0,OFFSET(BE16,Index!$B$4-2,0))","v":48866},{"$f":"OFFSET(BF16,Index!$B$7-1,0)-IF(Index!$B$4-2=-1,0,OFFSET(BF16,Index!$B$4-2,0))","v":49696},{"$f":"OFFSET(BG16,Index!$B$7-1,0)-IF(Index!$B$4-2=-1,0,OFFSET(BG16,Index!$B$4-2,0))","v":50495},{"$f":"OFFSET(BH16,Index!$B$7-1,0)-IF(Index!$B$4-2=-1,0,OFFSET(BH16,Index!$B$4-2,0))","v":51188},{"$f":"OFFSET(BI16,Index!$B$7-1,0)-IF(Index!$B$4-2=-1,0,OFFSET(BI16,Index!$B$4-2,0))","v":51815},{"$f":"OFFSET(BJ16,Index!$B$7-1,0)-IF(Index!$B$4-2=-1,0,OFFSET(BJ16,Index!$B$4-2,0))","v":53105},{"$f":"OFFSET(BK16,Index!$B$7-1,0)-IF(Index!$B$4-2=-1,0,OFFSET(BK16,Index!$B$4-2,0))","v":54241},{"$f":"OFFSET(BL16,Index!$B$7-1,0)-IF(Index!$B$4-2=-1,0,OFFSET(BL16,Index!$B$4-2,0))","v":55728},{"$f":"OFFSET(BM16,Index!$B$7-1,0)-IF(Index!$B$4-2=-1,0,OFFSET(BM16,Index!$B$4-2,0))","v":56635},{"$f":"OFFSET(BN16,Index!$B$7-1,0)-IF(Index!$B$4-2=-1,0,OFFSET(BN16,Index!$B$4-2,0))","v":57141},{"$f":"OFFSET(BO16,Index!$B$7-1,0)-IF(Index!$B$4-2=-1,0,OFFSET(BO16,Index!$B$4-2,0))","v":58107},{"$f":"OFFSET(BP16,Index!$B$7-1,0)-IF(Index!$B$4-2=-1,0,OFFSET(BP16,Index!$B$4-2,0))","v":58873},null,null,null,null,{"$f":"INDEX($AR4:$BL4,Index!$B$16)","v":41650},{"$f":"INDEX($AR4:$BM4,Index!$B$19)","v":55728},{"$f":"BV4-BU4","v":14078},{"$f":"BW4/BU4","v":0.33800720288115244}]
[null,null,null,null,null,null,null,null,null,null,null,null,null,null,null,null,null,null,null,null,null,null,null,null,null,null,null,null,null,null,null,null,null,null,null,"Females",{"$f":"OFFSET(AK109,Index!$B$7-1,0)-IF(Index!$B$4-2=-1,0,OFFSET(AK109,Index!$B$4-2,0))","v":41364},{"$f":"OFFSET(AL109,Index!$B$7-1,0)-IF(Index!$B$4-2=-1,0,OFFSET(AL109,Index!$B$4-2,0))","v":41716},{"$f":"OFFSET(AM109,Index!$B$7-1,0)-IF(Index!$B$4-2=-1,0,OFFSET(AM109,Index!$B$4-2,0))","v":42101},{"$f":"OFFSET(AN109,Index!$B$7-1,0)-IF(Index!$B$4-2=-1,0,OFFSET(AN109,Index!$B$4-2,0))","v":42154},{"$f":"OFFSET(AO109,Index!$B$7-1,0)-IF(Index!$B$4-2=-1,0,OFFSET(AO109,Index!$B$4-2,0))","v":42328},{"$f":"OFFSET(AP109,Index!$B$7-1,0)-IF(Index!$B$4-2=-1,0,OFFSET(AP109,Index!$B$4-2,0))","v":42735},{"$f":"OFFSET(AQ109,Index!$B$7-1,0)-IF(Index!$B$4-2=-1,0,OFFSET(AQ109,Index!$B$4-2,0))","v":43160},{"$f":"OFFSET(AR109,Index!$B$7-1,0)-IF(Index!$B$4-2=-1,0,OFFSET(AR109,Index!$B$4-2,0))","v":43395},{"$f":"OFFSET(AS109,Index!$B$7-1,0)-IF(Index!$B$4-2=-1,0,OFFSET(AS109,Index!$B$4-2,0))","v":43640},{"$f":"OFFSET(AT109,Index!$B$7-1,0)-IF(Index!$B$4-2=-1,0,OFFSET(AT109,Index!$B$4-2,0))","v":43795},{"$f":"OFFSET(AU109,Index!$B$7-1,0)-IF(Index!$B$4-2=-1,0,OFFSET(AU109,Index!$B$4-2,0))","v":43910},{"$f":"OFFSET(AV109,Index!$B$7-1,0)-IF(Index!$B$4-2=-1,0,OFFSET(AV109,Index!$B$4-2,0))","v":44141},{"$f":"OFFSET(AW109,Index!$B$7-1,0)-IF(Index!$B$4-2=-1,0,OFFSET(AW109,Index!$B$4-2,0))","v":44860},{"$f":"OFFSET(AX109,Index!$B$7-1,0)-IF(Index!$B$4-2=-1,0,OFFSET(AX109,Index!$B$4-2,0))","v":45766},{"$f":"OFFSET(AY109,Index!$B$7-1,0)-IF(Index!$B$4-2=-1,0,OFFSET(AY109,Index!$B$4-2,0))","v":46372},{"$f":"OFFSET(AZ109,Index!$B$7-1,0)-IF(Index!$B$4-2=-1,0,OFFSET(AZ109,Index!$B$4-2,0))","v":46867},{"$f":"OFFSET(BA109,Index!$B$7-1,0)-IF(Index!$B$4-2=-1,0,OFFSET(BA109,Index!$B$4-2,0))","v":47746},{"$f":"OFFSET(BB109,Index!$B$7-1,0)-IF(Index!$B$4-2=-1,0,OFFSET(BB109,Index!$B$4-2,0))","v":48381},{"$f":"OFFSET(BC109,Index!$B$7-1,0)-IF(Index!$B$4-2=-1,0,OFFSET(BC109,Index!$B$4-2,0))","v":48793},{"$f":"OFFSET(BD109,Index!$B$7-1,0)-IF(Index!$B$4-2=-1,0,OFFSET(BD109,Index!$B$4-2,0))","v":49417},{"$f":"OFFSET(BE109,Index!$B$7-1,0)-IF(Index!$B$4-2=-1,0,OFFSET(BE109,Index!$B$4-2,0))","v":50198},{"$f":"OFFSET(BF109,Index!$B$7-1,0)-IF(Index!$B$4-2=-1,0,OFFSET(BF109,Index!$B$4-2,0))","v":51060},{"$f":"OFFSET(BG109,Index!$B$7-1,0)-IF(Index!$B$4-2=-1,0,OFFSET(BG109,Index!$B$4-2,0))","v":52270},{"$f":"OFFSET(BH109,Index!$B$7-1,0)-IF(Index!$B$4-2=-1,0,OFFSET(BH109,Index!$B$4-2,0))","v":53191},{"$f":"OFFSET(BI109,Index!$B$7-1,0)-IF(Index!$B$4-2=-1,0,OFFSET(BI109,Index!$B$4-2,0))","v":54090},{"$f":"OFFSET(BJ109,Index!$B$7-1,0)-IF(Index!$B$4-2=-1,0,OFFSET(BJ109,Index!$B$4-2,0))","v":55267},{"$f":"OFFSET(BK109,Index!$B$7-1,0)-IF(Index!$B$4-2=-1,0,OFFSET(BK109,Index!$B$4-2,0))","v":56577},{"$f":"OFFSET(BL109,Index!$B$7-1,0)-IF(Index!$B$4-2=-1,0,OFFSET(BL109,Index!$B$4-2,0))","v":58200},{"$f":"OFFSET(BM109,Index!$B$7-1,0)-IF(Index!$B$4-2=-1,0,OFFSET(BM109,Index!$B$4-2,0))","v":58937},{"$f":"OFFSET(BN109,Index!$B$7-1,0)-IF(Index!$B$4-2=-1,0,OFFSET(BN109,Index!$B$4-2,0))","v":59678},{"$f":"OFFSET(BO109,Index!$B$7-1,0)-IF(Index!$B$4-2=-1,0,OFFSET(BO109,Index!$B$4-2,0))","v":60703},{"$f":"OFFSET(BP109,Index!$B$7-1,0)-IF(Index!$B$4-2=-1,0,OFFSET(BP109,Index!$B$4-2,0))","v":61826},null,null,null,null,{"$f":"INDEX($AR5:$BL5,Index!$B$16)","v":43395},{"$f":"INDEX($AR5:$BM5,Index!$B$19)","v":58200},{"$f":"BV5-BU5","v":14805},{"$f":"BW5/BU5","v":0.34116833736605601}]
[null,null,null,null,null,null,null,null,null,null,null,null,null,null,null,null,null,null,null,null,null,null,null,null,null,null,null,null,null,null,null,null,null,null,null,"Total",{"$f":"SUM(AK4:AK5)","v":81005},{"$f":"SUM(AL4:AL5)","v":81682},{"$f":"SUM(AM4:AM5)","v":82443},{"$f":"SUM(AN4:AN5)","v":82632},{"$f":"SUM(AO4:AO5)","v":82981},{"$f":"SUM(AP4:AP5)","v":83712},84619,85045,85509,85956,86403,87011,88277,89990,91174,92242,93946,95266,96337,97604,99064,100756,102765,104379,105905,108372,110818,113928,115572,116819,118810,120699,null,null,null,null,{"$f":"INDEX($AR6:$BL6,Index!$B$16)","v":85045},{"$f":"INDEX($AR6:$BM6,Index!$B$19)","v":113928},{"$f":"BV6-BU6","v":28883},{"$f":"BW6/BU6","v":0.33962020107002178}]
[]
[null,null,null,null,null,null,null,null,null,null,null,null,null,null,null,null,null,null,null,null,null,null,null,null,null,null,null,null,null,null,null,null,null,null,null,"Males",{"$f":"IF(AK4<0,\"0\",AK4)","v":39641},{"$f":"IF(AL4<0,\"0\",AL4)","v":39966},40342,40478,40653,40977,41459,41650,41869,42161,42493,42870,43417,44224,44802,45375,46200,46885,47544,48187,48866,49696,50495,51188,51815,53105,{"$f":"IF(BK4<0,\"0\",BK4)","v":54241},55728,56635,{"$f":"IF(BN4<0,\"0\",BN4)","v":57141},58107,{"$f":"IF(BP4<0,\"0\",BP4)","v":58873}]
[null,null,null,null,null,null,null,null,null,null,null,null,null,null,null,null,null,null,null,null,null,null,null,null,null,null,null,null,null,null,null,null,null,null,null,"Females",{"$f":"IF(AK5<0,\"0\",AK5)","v":41364},41716,42101,42154,42328,42735,43160,43395,43640,43795,43910,44141,44860,45766,46372,46867,47746,48381,48793,49417,50198,51060,52270,53191,54090,55267,56577,58200,58937,{"$f":"IF(BN5<0,\"0\",BN5)","v":59678},60703,{"$f":"IF(BP5<0,\"0\",BP5)","v":61826}]
[null,null,null,null,null,null,null,null,null,null,null,null,null,null,null,null,null,null,null,null,null,null,null,null,null,null,null,null,null,null,null,null,null,null,null,"Total",{"$f":"SUM(AK8:AK9)","v":81005},{"$f":"SUM(AL8:AL9)","v":81682},82443,82632,82981,83712,84619,85045,85509,85956,86403,87011,88277,89990,91174,92242,93946,95266,96337,97604,99064,100756,102765,104379,105905,108372,{"$f":"SUM(BK8:BK9)","v":110818},113928,115572,116819,118810,120699]
[]
[null,null,null,"MYE for  . . . . . .",null,null,null,"Dartford",null,null,null,null,null,null,null,null,null,null,null,null,null,null,null,null,null,null,null,null,null,null,null,null,null,null,null,null,null,null,null,null,"Cummulative Ages",null,null,null,null,null,null,null,null,null,null,null,null,null,null,null,null,null,null,null,null,null,null,null,null,null,null,null,null,"Population Pyramid"]
[null,null,"Base Year",null,null,null,null,null,null,null,null,null,null,null,null,null,null,null,null,null,null,null,null,null,null,null,null,null,null,null,null,null,null,null,null,null,{"$f":"C14","v":1992},1993,1994,1995,1996,1997,1998,1999,2000,2001,2002,2003,2004,2005,2006,2007,2008,2009,2010,2011,2012,2013,2014,2015,2016,2017,2018,2019,2020,2021,2022,2023]
["Sex","Age",1992,1993,1994,1995,1996,1997,1998,1999,2000,2001,2002,2003,2004,2005,2006,2007,2008,2009,2010,2011,2012,2013,2014,2015,2016,2017,2018,2019,2020,2021,2022,2023,null,null,null,null,null,null,null,null,null,null,null,null,null,null,null,null,null,null,null,null,null,null,null,null,null,null,null,null,null,null,null,null,null,null,null,null,null,null,1992,1993,1994,1995,1996,1997,1998,1999,2000,2001,2002,2003,2004,2005,2006,2007,2008,2009,2010,2011,2012,2013,2014,2015,2016,2017,2018,2019,2020,2021,2022,2023,null,{"$f":"INDEX(CC14:CY14,'Population Pyramid'!$L$1)","v":2020}]
[null,"All persons",{"$f":"SUM(C107,C200)","v":81005},{"$f":"SUM(D107,D200)","v":81682},82443,82632,82981,83712,84619,85045,85509,85956,86403,87011,88277,89990,91174,92242,93946,95266,96337,97604,99064,100756,{"$f":"SUM(Y107,Y200)","v":102765},104379,105905,108372,110818,113928,{"$f":"SUM(AE107,AE200)","v":115572},116819,{"$f":"SUM(AG107,AG200)","v":118810},120699,null,"Males",null,null,null,null,null,null,null,null,null,null,null,null,null,null,null,null,null,null,null,null,null,null,null,null,null,null,null,null,null,null,null,null,null,"Males","All Ages",null,{"$f":"C107","v":39641},39966,40342,40478,40653,40977,41459,41650,41869,42161,42493,42870,43417,44224,44802,45375,46200,46885,47544,48187,48866,49696,50495,51188,51815,53105,54241,55728,56635,57141,58107,58873,null,{"$f":"INDEX(CC15:CY15,'Population Pyramid'!$L$1)","v":56635}]
["male",0,586,587,597,589,618,562,576,613,580,537,570,548,589,636,579,663,660,648,700,710,801,741,758,744,775,814,876,895,858,803,866,874,null,0,{"$f":"C16","v":586},587,597,589,618,562,576,613,580,537,570,548,589,636,579,663,660,648,700,710,801,741,758,744,775,814,876,895,858,803,866,874,null,"Males","0-4",null,{"$f":"SUM(C16:C20)","v":2850},2883,2924,2966,2997,2963,2947,2976,2962,2855,2850,2837,2792,2870,2913,3041,3178,3255,3328,3382,3572,3641,3775,3846,3844,3932,4090,4266,4343,4300,4383,4391,null,{"$f":"INDEX(CC16:CY16,'Population Pyramid'!$L$1)","v":4343}]
["male",1,557,581,593,608,576,611,550,571,618,561,518,573,556,580,638,577,678,665,651,681,718,799,765,772,747,779,850,914,891,855,830,868,null,1,{"$f":"AK16+C17","v":1143},{"$f":"AL16+D17","v":1168},{"$f":"AM16+E17","v":1190},{"$f":"AN16+F17","v":1197},{"$f":"AO16+G17","v":1194},{"$f":"AP16+H17","v":1173},{"$f":"AQ16+I17","v":1126},{"$f":"AR16+J17","v":1184},{"$f":"AS16+K17","v":1198},{"$f":"AT16+L17","v":1098},{"$f":"AU16+M17","v":1088},{"$f":"AV16+N17","v":1121},{"$f":"AW16+O17","v":1145},{"$f":"AX16+P17","v":1216},{"$f":"AY16+Q17","v":1217},{"$f":"AZ16+R17","v":1240},{"$f":"BA16+S17","v":1338},{"$f":"BB16+T17","v":1313},{"$f":"BC16+U17","v":1351},{"$f":"BD16+V17","v":1391},{"$f":"BE16+W17","v":1519},{"$f":"BF16+X17","v":1540},{"$f":"BG16+Y17","v":1523},{"$f":"BH16+Z17","v":1516},{"$f":"BI16+AA17","v":1522},{"$f":"BJ16+AB17","v":1593},{"$f":"BK16+AC17","v":1726},{"$f":"BL16+AD17","v":1809},{"$f":"BM16+AE17","v":1749},{"$f":"BN16+AF17","v":1658},{"$f":"BO16+AG17","v":1696},1742,null,"Males","5-9",null,{"$f":"SUM(C21:C25)","v":2625},2739,2854,2858,2885,2914,2939,2973,3012,3064,3010,2998,3054,3022,2931,2872,2909,2900,3002,3119,3166,3293,3406,3438,3543,3809,3917,4111,4219,4182,4292,4460,null,{"$f":"INDEX(CC17:CY17,'Population Pyramid'!$L$1)","v":4219}]
["male",2,559,567,591,594,608,584,623,561,575,635,565,534,559,562,578,646,603,667,680,663,685,721,795,763,751,768,773,860,896,883,885,840,null,2,1702,1735,1781,1791,1802,1757,1749,1745,1773,1733,1653,1655,1704,1778,1795,1886,1941,1980,2031,2054,2204,2261,2318,2279,2273,2361,2499,2669,2645,2541,2581,2582,null,"Males","10-14",null,{"$f":"SUM(C26:C30)","v":2278},2276,2300,2398,2473,2630,2775,2888,2869,2909,2970,3029,3074,3085,3149,3126,3098,3107,3075,2988,2995,3035,3050,3177,3278,3424,3578,3809,3959,4125,4414,4555,null,{"$f":"INDEX(CC18:CY18,'Population Pyramid'!$L$1)","v":3959}]
["male",3,589,568,580,599,599,615,594,624,564,567,626,562,537,545,573,580,653,618,661,681,669,704,742,803,778,774,787,778,882,894,884,902,null,3,2291,2303,2361,2390,2401,2372,2343,2369,2337,2300,2279,2217,2241,2323,2368,2466,2594,2598,2692,2735,2873,2965,3060,3082,3051,3135,3286,3447,3527,3435,3465,3484,null,"Males","15-19",null,{"$f":"SUM(C31:C35)","v":2428},2300,2140,2128,2113,2102,2182,2305,2412,2503,2705,2899,3084,3106,3132,3107,3078,3090,3054,3105,3102,3101,3043,2949,2895,2923,3020,3047,3208,3336,3380,3587,null,{"$f":"INDEX(CC19:CY19,'Population Pyramid'!$L$1)","v":3208}]
["male",4,559,580,563,576,596,591,604,607,625,555,571,620,551,547,545,575,584,657,636,647,699,676,715,764,793,797,804,819,816,865,918,907,null,4,2850,2883,2924,2966,2997,2963,2947,2976,2962,2855,2850,2837,2792,2870,2913,3041,3178,3255,3328,3382,3572,3641,3775,3846,3844,3932,4090,4266,4343,4300,4383,4391,null,"Males","20-24",null,{"$f":"SUM(C36:C40)","v":3286},3236,3051,2765,2538,2428,2386,2146,2303,2491,2421,2368,2329,2490,2635,2832,2999,3072,3020,2964,2915,2921,2997,2886,2886,2912,2810,2840,2791,2786,2742,2631,null,{"$f":"INDEX(CC20:CY20,'Population Pyramid'!$L$1)","v":2791}]
["male",5,579,568,583,565,581,604,595,612,608,611,564,581,627,569,554,543,598,585,669,649,635,718,688,717,761,820,795,825,817,828,904,961,null,5,3429,3451,3507,3531,3578,3567,3542,3588,3570,3466,3414,3418,3419,3439,3467,3584,3776,3840,3997,4031,4207,4359,4463,4563,4605,4752,4885,5091,5160,5128,5287,5352,null,"Males","25-29",null,{"$f":"SUM(C41:C45)","v":3810},3845,4037,4033,3979,3862,3805,3528,3225,2973,2948,2936,2920,3045,3048,3108,3198,3285,3353,3497,3541,3597,3661,3652,3621,3601,3678,3690,3629,3563,3476,3348,null,{"$f":"INDEX(CC21:CY21,'Population Pyramid'!$L$1)","v":3629}]
["male",6,563,587,579,588,574,593,617,600,604,608,617,569,584,628,566,566,543,605,586,680,646,634,718,691,721,777,819,806,829,806,837,906,null,6,3992,4038,4086,4119,4152,4160,4159,4188,4174,4074,4031,3987,4003,4067,4033,4150,4319,4445,4583,4711,4853,4993,5181,5254,5326,5529,5704,5897,5989,5934,6124,6258,null,"Males","30-34",null,{"$f":"SUM(C46:C50)","v":3194},3364,3472,3616,3732,3871,3854,3856,3758,3607,3486,3436,3378,3330,3307,3285,3309,3356,3520,3571,3724,3803,3779,3871,3935,4105,4253,4455,4512,4494,4527,4513,null,{"$f":"INDEX(CC22:CY22,'Population Pyramid'!$L$1)","v":4512}]
["male",7,542,550,574,568,568,561,583,600,603,605,611,632,582,582,628,566,577,547,603,602,663,664,643,724,694,756,802,861,820,832,841,857,null,7,4534,4588,4660,4687,4720,4721,4742,4788,4777,4679,4642,4619,4585,4649,4661,4716,4896,4992,5186,5313,5516,5657,5824,5978,6020,6285,6506,6758,6809,6766,6965,7115,null,"Males","35-39",null,{"$f":"SUM(C51:C55)","v":2745},2791,2907,2947,3077,3200,3375,3464,3607,3727,3811,3721,3731,3756,3721,3631,3691,3605,3585,3533,3445,3483,3588,3864,4000,4150,4288,4421,4562,4550,4621,4726,null,{"$f":"INDEX(CC23:CY23,'Population Pyramid'!$L$1)","v":4562}]
["male",8,474,555,554,581,579,573,571,596,607,611,605,612,646,590,591,625,569,584,568,618,597,677,681,637,724,717,780,824,896,835,855,861,null,8,5008,5143,5214,5268,5299,5294,5313,5384,5384,5290,5247,5231,5231,5239,5252,5341,5465,5576,5754,5931,6113,6334,6505,6615,6744,7002,7286,7582,7705,7601,7820,7976,null,"Males","40-44",null,{"$f":"SUM(C56:C60)","v":2748},2650,2614,2657,2650,2693,2765,2880,2922,3022,3163,3359,3492,3637,3756,3778,3781,3789,3749,3761,3762,3807,3766,3724,3729,3781,3863,4067,4238,4420,4572,4709,null,{"$f":"INDEX(CC24:CY24,'Population Pyramid'!$L$1)","v":4238}]
["male",9,467,479,564,556,583,583,573,565,590,629,613,604,615,653,592,572,622,579,576,570,625,600,676,669,643,739,721,795,857,881,855,875,null,9,5475,5622,5778,5824,5882,5877,5886,5949,5974,5919,5860,5835,5846,5892,5844,5913,6087,6155,6330,6501,6738,6934,7181,7284,7387,7741,8007,8377,8562,8482,8675,8851,null,"Males","45-49",null,{"$f":"SUM(C61:C65)","v":2619},2754,2829,2876,2868,2737,2635,2601,2649,2651,2728,2811,2930,3017,3152,3280,3413,3516,3606,3704,3767,3800,3868,3849,3863,3828,3858,3875,3924,3963,4102,4186,null,{"$f":"INDEX(CC25:CY25,'Population Pyramid'!$L$1)","v":3924}]
["male",10,439,460,481,569,552,579,585,573,572,585,618,627,617,618,671,596,574,625,585,577,577,622,619,712,672,672,764,772,821,882,923,869,null,10,5914,6082,6259,6393,6434,6456,6471,6522,6546,6504,6478,6462,6463,6510,6515,6509,6661,6780,6915,7078,7315,7556,7800,7996,8059,8413,8771,9149,9383,9364,9598,9720,null,"Males","50-54",null,{"$f":"SUM(C66:C70)","v":2158},2177,2187,2226,2365,2558,2675,2756,2789,2789,2671,2565,2551,2607,2668,2756,2838,2979,3106,3127,3264,3380,3482,3598,3713,3848,3847,3858,3815,3790,3757,3776,null,{"$f":"INDEX(CC26:CY26,'Population Pyramid'!$L$1)","v":3815}]
["male",11,485,437,457,483,573,553,578,585,574,573,589,614,621,635,620,662,589,578,629,599,600,584,643,631,732,708,699,804,852,870,973,980,null,11,6399,6519,6716,6876,7007,7009,7049,7107,7120,7077,7067,7076,7084,7145,7135,7171,7250,7358,7544,7677,7915,8140,8443,8627,8791,9121,9470,9953,10235,10234,10571,10700,null,"Males","55-59",null,{"$f":"SUM(C71:C75)","v":2131},2156,2189,2152,2120,2085,2110,2161,2202,2306,2470,2568,2614,2703,2694,2578,2483,2463,2494,2587,2692,2771,2867,2986,3035,3146,3261,3366,3440,3555,3664,3648,null,{"$f":"INDEX(CC27:CY27,'Population Pyramid'!$L$1)","v":3440}]
["male",12,463,477,430,449,481,573,548,588,584,585,591,595,610,622,633,625,680,596,578,623,593,604,587,647,639,756,718,738,806,829,916,989,null,12,6862,6996,7146,7325,7488,7582,7597,7695,7704,7662,7658,7671,7694,7767,7768,7796,7930,7954,8122,8300,8508,8744,9030,9274,9430,9877,10188,10691,11041,11063,11487,11689,null,"Males","60-64",null,{"$f":"SUM(C76:C80)","v":2035},2018,2018,2019,1983,1974,1999,1996,1977,1970,1905,1910,1959,1996,2113,2267,2378,2437,2533,2529,2408,2337,2360,2387,2476,2568,2631,2670,2745,2793,2810,2898,null,{"$f":"INDEX(CC28:CY28,'Population Pyramid'!$L$1)","v":2745}]
["male",13,444,460,475,427,444,485,579,556,582,584,574,605,613,604,618,622,624,680,598,586,629,598,599,594,635,644,746,727,747,789,829,908,null,13,7306,7456,7621,7752,7932,8067,8176,8251,8286,8246,8232,8276,8307,8371,8386,8418,8554,8634,8720,8886,9137,9342,9629,9868,10065,10521,10934,11418,11788,11852,12316,12597,null,"Males","65-69",null,{"$f":"SUM(C81:C85)","v":1746},1733,1731,1753,1768,1785,1778,1764,1748,1715,1718,1739,1746,1736,1726,1697,1709,1779,1814,1948,2071,2196,2201,2293,2256,2200,2125,2145,2127,2136,2161,2184,null,{"$f":"INDEX(CC29:CY29,'Population Pyramid'!$L$1)","v":2127}]
["male",14,447,442,457,470,423,440,485,586,557,582,598,588,613,606,607,621,631,628,685,603,596,627,602,593,600,644,651,768,733,755,773,809,null,14,7753,7898,8078,8222,8355,8507,8661,8837,8843,8828,8830,8864,8920,8977,8993,9039,9185,9262,9405,9489,9733,9969,10231,10461,10665,11165,11585,12186,12521,12607,13089,13406,null,"Males","70-74",null,{"$f":"SUM(C86:C90)","v":1339},1425,1463,1413,1397,1395,1407,1468,1496,1526,1522,1533,1542,1530,1504,1525,1537,1545,1511,1519,1535,1547,1598,1616,1705,1829,1926,1930,1985,1948,1863,1791,null,{"$f":"INDEX(CC30:CY30,'Population Pyramid'!$L$1)","v":1985}]
["male",15,408,433,430,442,457,410,427,486,596,556,601,612,607,628,615,607,621,631,638,702,597,597,625,602,597,613,658,663,767,758,778,788,null,15,8161,8331,8508,8664,8812,8917,9088,9323,9439,9384,9431,9476,9527,9605,9608,9646,9806,9893,10043,10191,10330,10566,10856,11063,11262,11778,12243,12849,13288,13365,13867,14194,null,"Males","75-79",null,{"$f":"SUM(C91:C95)","v":874},857,841,880,919,985,1035,1067,1048,1064,1089,1094,1128,1165,1208,1238,1296,1308,1290,1279,1286,1318,1308,1291,1295,1264,1283,1342,1345,1389,1516,1628,null,{"$f":"INDEX(CC31:CY31,'Population Pyramid'!$L$1)","v":1345}]
["male",16,519,418,439,439,449,473,430,475,506,621,573,614,642,623,648,614,614,633,647,645,695,602,600,625,601,607,626,661,670,777,758,791,null,16,8680,8749,8947,9103,9261,9390,9518,9798,9945,10005,10004,10090,10169,10228,10256,10260,10420,10526,10690,10836,11025,11168,11456,11688,11863,12385,12869,13510,13958,14142,14625,14985,null,"Males","80-84",null,{"$f":"SUM(C96:C100)","v":534},503,519,535,532,548,546,520,564,613,647,686,705,709,707,752,785,848,899,910,922,961,982,992,962,974,984,991,956,962,933,949,null,{"$f":"INDEX(CC32:CY32,'Population Pyramid'!$L$1)","v":956}]
["male",17,385,463,410,433,431,440,455,415,438,497,640,604,651,658,644,669,617,627,642,656,641,684,612,601,623,612,619,636,653,669,783,767,null,17,9065,9212,9357,9536,9692,9830,9973,10213,10383,10502,10644,10694,10820,10886,10900,10929,11037,11153,11332,11492,11666,11852,12068,12289,12486,12997,13488,14146,14611,14811,15408,15752,null,"Males","85+",null,{"$f":"SUM(C101:C106)","v":241},259,266,256,257,247,246,301,326,376,379,381,388,420,438,502,520,551,605,664,699,705,764,769,779,811,829,845,837,849,894,893,null,{"$f":"INDEX(CC33:CY33,'Population Pyramid'!$L$1)","v":837}]
["male",18,501,398,464,403,420,417,444,453,409,424,493,640,613,652,657,637,663,616,606,618,634,645,676,601,580,616,607,605,627,622,638,748,null,18,9566,9610,9821,9939,10112,10247,10417,10666,10792,10926,11137,11334,11433,11538,11557,11566,11700,11769,11938,12110,12300,12497,12744,12890,13066,13613,14095,14751,15238,15433,16046,16500]
["male",19,615,588,397,411,356,362,426,476,463,405,398,429,571,545,568,580,563,583,521,484,535,573,530,520,494,475,510,482,491,510,423,493,null,19,10181,10198,10218,10350,10468,10609,10843,11142,11255,11331,11535,11763,12004,12083,12125,12146,12263,12352,12459,12594,12835,13070,13274,13410,13560,14088,14605,15233,15729,15943,16469,16993,null,"Males","All Ages",null,{"$f":"C200","v":41364},41716,42101,42154,42328,42735,43160,43395,43640,43795,43910,44141,44860,45766,46372,46867,47746,48381,48793,49417,50198,51060,52270,53191,54090,55267,56577,58200,58937,59678,60703,61826,null,{"$f":"INDEX(CC35:CY35,'Population Pyramid'!$L$1)","v":58937}]
["male",20,542,555,482,300,310,280,319,421,450,438,410,386,423,568,535,567,566,523,554,478,477,537,551,525,499,480,458,489,470,488,473,415,null,20,10723,10753,10700,10650,10778,10889,11162,11563,11705,11769,11945,12149,12427,12651,12660,12713,12829,12875,13013,13072,13312,13607,13825,13935,14059,14568,15063,15722,16199,16431,16942,17408,null,"Females","0-4",null,{"$f":"SUM(C109:C113)","v":2822},2794,2807,2769,2789,2795,2789,2854,2786,2667,2554,2586,2667,2718,2797,2891,3052,3155,3226,3402,3525,3568,3675,3696,3658,3778,3885,3963,4007,3986,3950,3974,null,{"$f":"INDEX(CC36:CY36,'Population Pyramid'!$L$1)","v":4007}]
["male",21,668,573,502,495,350,378,365,364,460,496,461,414,406,442,585,561,574,590,534,568,517,497,567,556,540,528,510,502,522,487,511,499,null,21,11391,11326,11202,11145,11128,11267,11527,11927,12165,12265,12406,12563,12833,13093,13245,13274,13403,13465,13547,13640,13829,14104,14392,14491,14599,15096,15573,16224,16721,16918,17453,17907,null,"Females","5-9",null,{"$f":"SUM(C114:C118)","v":2463},2568,2659,2731,2798,2874,2878,2901,2861,2889,2847,2840,2843,2823,2740,2638,2703,2772,2830,2888,3016,3146,3214,3353,3538,3688,3846,4011,4055,4038,4225,4281,null,{"$f":"INDEX(CC37:CY37,'Population Pyramid'!$L$1)","v":4055}]
["male",22,637,640,551,533,522,421,435,381,432,501,509,468,438,462,487,624,605,599,631,572,621,581,572,593,599,591,541,564,553,579,538,554,null,22,12028,11966,11753,11678,11650,11688,11962,12308,12597,12766,12915,13031,13271,13555,13732,13898,14008,14064,14178,14212,14450,14685,14964,15084,15198,15687,16114,16788,17274,17497,17991,18461,null,"Females","10-14",null,{"$f":"SUM(C119:C123)","v":2229},2289,2297,2367,2408,2482,2588,2621,2714,2780,2953,2967,3021,2945,2983,2968,2994,2993,2940,2882,2786,2826,2897,2969,3054,3212,3410,3602,3776,3970,4066,4234,null,{"$f":"INDEX(CC38:CY38,'Population Pyramid'!$L$1)","v":3776}]
["male",23,720,687,724,654,639,637,557,473,449,513,516,549,502,482,512,517,685,640,632,680,605,675,616,603,634,640,641,628,610,605,614,560,null,23,12748,12653,12477,12332,12289,12325,12519,12781,13046,13279,13431,13580,13773,14037,14244,14415,14693,14704,14810,14892,15055,15360,15580,15687,15832,16327,16755,17416,17884,18102,18605,19021,null,"Females","15-19",null,{"$f":"SUM(C124:C128)","v":2298},2205,2183,2130,2165,2212,2327,2394,2427,2444,2427,2568,2702,2918,2963,3076,3057,3037,2935,2974,2950,2918,2941,2909,2822,2746,2778,2875,2954,3052,3187,3377,null,{"$f":"INDEX(CC39:CY39,'Population Pyramid'!$L$1)","v":2954}]
["male",24,719,781,792,783,717,712,710,507,512,543,525,551,560,536,516,563,569,720,669,666,695,631,691,609,614,673,660,657,636,627,606,603,null,24,13467,13434,13269,13115,13006,13037,13229,13288,13558,13822,13956,14131,14333,14573,14760,14978,15262,15424,15479,15558,15750,15991,16271,16296,16446,17000,17415,18073,18520,18729,19211,19624,null,"Females","20-24",null,{"$f":"SUM(C129:C133)","v":3300},3205,2998,2744,2491,2405,2338,2323,2390,2519,2529,2478,2482,2645,2767,2847,2984,3109,3182,3169,3155,3100,3162,3066,3092,3020,3024,2983,2884,2824,2618,2607,null,{"$f":"INDEX(CC40:CY40,'Population Pyramid'!$L$1)","v":2884}]
["male",25,793,755,858,818,804,749,748,623,541,554,560,554,561,604,581,564,583,593,708,703,673,706,668,706,626,622,697,672,681,623,628,604,null,25,14260,14189,14127,13933,13810,13786,13977,13911,14099,14376,14516,14685,14894,15177,15341,15542,15845,16017,16187,16261,16423,16697,16939,17002,17072,17622,18112,18745,19201,19352,19839,20228,null,"Females","25-29",null,{"$f":"SUM(C134:C138)","v":3650},3756,3935,3942,3873,3798,3689,3473,3345,3168,3051,2933,3025,3200,3244,3345,3508,3545,3612,3623,3775,3901,4066,4180,4217,4357,4381,4394,4167,4184,4226,4221,null,{"$f":"INDEX(CC41:CY41,'Population Pyramid'!$L$1)","v":4167}]
["male",26,776,801,774,842,803,790,736,669,604,578,591,577,572,585,628,613,619,632,608,744,721,671,703,692,742,637,674,704,675,694,608,650,null,26,15036,14990,14901,14775,14613,14576,14713,14580,14703,14954,15107,15262,15466,15762,15969,16155,16464,16649,16795,17005,17144,17368,17642,17694,17814,18259,18786,19449,19876,20046,20447,20878,null,"Females","30-34",null,{"$f":"SUM(C139:C143)","v":3165},3269,3406,3535,3688,3737,3837,3905,3888,3722,3664,3633,3516,3509,3458,3381,3364,3384,3432,3601,3773,3959,4105,4303,4382,4483,4760,5113,5267,5232,5342,5379,null,{"$f":"INDEX(CC42:CY42,'Population Pyramid'!$L$1)","v":5267}]
["male",27,787,789,811,756,820,786,767,728,649,594,581,611,575,611,618,655,642,658,648,626,779,742,701,736,726,763,683,706,749,674,713,633,null,27,15823,15779,15712,15531,15433,15362,15480,15308,15352,15548,15688,15873,16041,16373,16587,16810,17106,17307,17443,17631,17923,18110,18343,18430,18540,19022,19469,20155,20625,20720,21160,21511,null,"Females","35-39",null,{"$f":"SUM(C144:C148)","v":2710},2804,2866,2976,3051,3192,3315,3438,3538,3664,3707,3804,3936,3915,3884,3816,3800,3677,3603,3491,3445,3451,3574,3709,4026,4353,4607,4854,4994,5096,5287,5563,null,{"$f":"INDEX(CC43:CY43,'Population Pyramid'!$L$1)","v":4994}]
["male",28,724,777,798,806,740,797,763,767,688,597,605,586,631,594,629,636,698,671,688,706,647,793,759,725,777,774,801,753,752,792,704,731,null,28,16547,16556,16510,16337,16173,16159,16243,16075,16040,16145,16293,16459,16672,16967,17216,17446,17804,17978,18131,18337,18570,18903,19102,19155,19317,19796,20270,20908,21377,21512,21864,22242,null,"Females","40-44",null,{"$f":"SUM(C149:C153)","v":2670},2553,2557,2528,2604,2694,2796,2819,2914,3014,3136,3243,3388,3560,3723,3717,3822,3938,3902,3882,3820,3812,3746,3706,3682,3713,3742,3917,4108,4456,4714,4865,null,{"$f":"INDEX(CC44:CY44,'Population Pyramid'!$L$1)","v":4108}]
["male",29,730,723,796,811,812,740,791,741,743,650,611,608,581,651,592,640,656,731,701,718,721,685,830,793,750,805,823,855,772,780,823,730,null,29,17277,17279,17306,17148,16985,16899,17034,16816,16783,16795,16904,17067,17253,17618,17808,18086,18460,18709,18832,19055,19291,19588,19932,19948,20067,20601,21093,21763,22149,22292,22687,22972,null,"Females","45-49",null,{"$f":"SUM(C154:C158)","v":2701},2850,2857,2892,2887,2697,2557,2555,2570,2611,2691,2744,2822,2945,3059,3228,3303,3434,3534,3680,3751,3871,3957,4026,3981,3928,3927,3818,3857,3817,3918,4028,null,{"$f":"INDEX(CC45:CY45,'Population Pyramid'!$L$1)","v":3857}]
["male",30,690,740,733,790,811,809,729,769,732,717,678,625,613,601,671,599,654,681,757,715,735,709,689,836,790,813,843,867,888,834,793,838,null,30,17967,18019,18039,17938,17796,17708,17763,17585,17515,17512,17582,17692,17866,18219,18479,18685,19114,19390,19589,19770,20026,20297,20621,20784,20857,21414,21936,22630,23037,23126,23480,23810,null,"Females","50-54",null,{"$f":"SUM(C159:C163)","v":2243},2240,2314,2355,2432,2676,2834,2837,2843,2831,2668,2535,2537,2547,2620,2703,2779,2825,2938,3041,3185,3276,3447,3540,3674,3809,3883,4007,3954,3885,3820,3761,null,{"$f":"INDEX(CC46:CY46,'Population Pyramid'!$L$1)","v":3954}]
["male",31,670,671,738,722,774,799,797,726,753,700,704,680,651,628,624,675,623,676,713,777,735,757,723,731,843,820,820,910,897,899,872,780,null,31,18637,18690,18777,18660,18570,18507,18560,18311,18268,18212,18286,18372,18517,18847,19103,19360,19737,20066,20302,20547,20761,21054,21344,21515,21700,22234,22756,23540,23934,24025,24352,24590,null,"Females","55-59",null,{"$f":"SUM(C164:C168)","v":2170},2184,2191,2170,2145,2131,2107,2152,2209,2296,2506,2630,2672,2704,2709,2554,2447,2483,2471,2538,2634,2684,2752,2887,3010,3154,3229,3358,3419,3515,3585,3669,null,{"$f":"INDEX(CC47:CY47,'Population Pyramid'!$L$1)","v":3419}]
["male",32,642,680,676,743,730,782,811,783,699,734,704,693,674,670,652,656,693,645,705,721,791,758,750,735,766,890,859,855,953,933,951,933,null,32,19279,19370,19453,19403,19300,19289,19371,19094,18967,18946,18990,19065,19191,19517,19755,20016,20430,20711,21007,21268,21552,21812,22094,22250,22466,23124,23615,24395,24887,24958,25303,25523,null,"Females","60-64",null,{"$f":"SUM(C169:C173)","v":2126},2108,2104,2079,2044,2033,2056,2068,2047,2039,2006,1994,2025,2076,2187,2401,2489,2506,2516,2504,2411,2346,2392,2398,2453,2524,2577,2653,2763,2820,2901,2942,null,{"$f":"INDEX(CC48:CY48,'Population Pyramid'!$L$1)","v":2763}]
["male",33,631,640,685,672,744,732,783,798,765,681,718,720,724,704,669,667,672,695,653,709,748,826,761,768,751,798,919,877,873,938,966,973,null,33,{"$f":"AK48+C49","v":19910},{"$f":"AL48+D49","v":20010},{"$f":"AM48+E49","v":20138},{"$f":"AN48+F49","v":20075},{"$f":"AO48+G49","v":20044},{"$f":"AP48+H49","v":20021},{"$f":"AQ48+I49","v":20154},{"$f":"AR48+J49","v":19892},{"$f":"AS48+K49","v":19732},{"$f":"AT48+L49","v":19627},{"$f":"AU48+M49","v":19708},{"$f":"AV48+N49","v":19785},{"$f":"AW48+O49","v":19915},{"$f":"AX48+P49","v":20221},{"$f":"AY48+Q49","v":20424},{"$f":"AZ48+R49","v":20683},{"$f":"BA48+S49","v":21102},{"$f":"BB48+T49","v":21406},{"$f":"BC48+U49","v":21660},{"$f":"BD48+V49","v":21977},{"$f":"BE48+W49","v":22300},{"$f":"BF48+X49","v":22638},{"$f":"BG48+Y49","v":22855},{"$f":"BH48+Z49","v":23018},{"$f":"BI48+AA49","v":23217},{"$f":"BJ48+AB49","v":23922},{"$f":"BK48+AC49","v":24534},{"$f":"BL48+AD49","v":25272},{"$f":"BM48+AE49","v":25760},{"$f":"BN48+AF49","v":25896},{"$f":"BO48+AG49","v":26269},26496,null,"Females","65-69",null,{"$f":"SUM(C174:C178)","v":1921},1921,1936,1954,1948,1961,1953,1949,1930,1885,1841,1864,1908,1906,1848,1827,1865,1914,1978,2047,2202,2346,2371,2404,2389,2276,2195,2213,2187,2203,2223,2276,null,{"$f":"INDEX(CC49:CY49,'Population Pyramid'!$L$1)","v":2187}]
["male",34,561,633,640,689,673,749,734,780,809,775,682,718,716,727,691,688,667,659,692,649,715,753,856,801,785,784,812,946,901,890,945,989,null,34,20471,20643,20778,20764,20717,20770,20888,20672,20541,20402,20390,20503,20631,20948,21115,21371,21769,22065,22352,22626,23015,23391,23711,23819,24002,24706,25346,26218,26661,26786,27214,27485,null,"Females","70-74",null,{"$f":"SUM(C179:C183)","v":1658},1778,1832,1770,1762,1705,1708,1712,1733,1731,1766,1755,1754,1739,1698,1676,1713,1732,1717,1669,1706,1758,1791,1819,1871,2045,2165,2173,2256,2248,2088,1971,null,{"$f":"INDEX(CC50:CY50,'Population Pyramid'!$L$1)","v":2256}]
["male",35,571,570,638,639,694,678,756,739,784,781,774,690,713,716,745,705,695,676,668,708,656,724,755,862,809,814,802,859,968,921,925,968,null,35,21042,21213,21416,21403,21411,21448,21644,21411,21325,21183,21164,21193,21344,21664,21860,22076,22464,22741,23020,23334,23671,24115,24466,24681,24811,25520,26148,27077,27629,27707,28139,28453,null,"Females","75-79",null,{"$f":"SUM(C184:C188)","v":1286},1207,1159,1233,1281,1386,1502,1542,1485,1470,1426,1437,1436,1471,1491,1542,1535,1542,1535,1542,1520,1554,1566,1577,1561,1551,1549,1579,1622,1666,1865,1952,null,{"$f":"INDEX(CC51:CY51,'Population Pyramid'!$L$1)","v":1622}]
["male",36,547,557,563,621,620,684,665,766,746,777,780,777,720,728,700,745,738,697,692,664,708,650,743,793,888,823,853,839,891,998,939,917,null,36,21589,21770,21979,22024,22031,22132,22309,22177,22071,21960,21944,21970,22064,22392,22560,22821,23202,23438,23712,23998,24379,24765,25209,25474,25699,26343,27001,27916,28520,28705,29078,29370,null,"Females","80-84",null,{"$f":"SUM(C189:C193)","v":1048},1035,1021,994,981,975,911,883,971,1017,1109,1169,1148,1131,1162,1127,1148,1169,1236,1227,1264,1285,1298,1307,1291,1224,1246,1273,1294,1275,1255,1271,null,{"$f":"INDEX(CC52:CY52,'Population Pyramid'!$L$1)","v":1294}]
["male",37,585,552,563,572,628,628,694,689,744,730,754,752,769,740,749,705,778,743,704,697,658,708,679,755,802,903,877,876,861,880,990,937,null,37,22174,22322,22542,22596,22659,22760,23003,22866,22815,22690,22698,22722,22833,23132,23309,23526,23980,24181,24416,24695,25037,25473,25888,26229,26501,27246,27878,28792,29381,29585,30068,30307,null,"Females","85+",null,{"$f":"SUM(C194:C199)","v":904},950,979,985,981,982,975,969,989,1048,1029,961,978,1014,1039,1130,1183,1166,1206,1257,1280,1259,1316,1342,1389,1406,1373,1414,1373,1411,1433,1455,null,{"$f":"INDEX(CC53:CY53,'Population Pyramid'!$L$1)","v":1373}]
["male",38,526,588,559,567,580,635,633,646,693,745,748,757,758,786,734,750,711,778,755,704,708,675,734,717,764,825,896,922,888,863,890,1008,null,38,22700,22910,23101,23163,23239,23395,23636,23512,23508,23435,23446,23479,23591,23918,24043,24276,24691,24959,25171,25399,25745,26148,26622,26946,27265,28071,28774,29714,30269,30448,30958,31315]
["male",39,516,524,584,548,555,575,627,624,640,694,755,745,771,786,793,726,769,711,766,760,715,726,677,737,737,785,860,925,954,888,877,896,null,39,23216,23434,23685,23711,23794,23970,24263,24136,24148,24129,24201,24224,24362,24704,24836,25002,25460,25670,25937,26159,26460,26874,27299,27683,28002,28856,29634,30639,31223,31336,31835,32211]
["male",40,511,516,532,584,547,554,585,623,630,627,706,748,748,757,774,778,715,779,724,768,751,721,735,707,736,753,798,893,915,952,909,907,null,40,23727,23950,24217,24295,24341,24524,24848,24759,24778,24756,24907,24972,25110,25461,25610,25780,26175,26449,26661,26927,27211,27595,28034,28390,28738,29609,30432,31532,32138,32288,32744,33118]
["male",41,538,510,513,528,580,541,549,577,610,634,632,700,758,764,759,760,785,708,786,719,765,754,729,736,731,740,784,818,885,906,979,941,null,41,24265,24460,24730,24823,24921,25065,25397,25336,25388,25390,25539,25672,25868,26225,26369,26540,26960,27157,27447,27646,27976,28349,28763,29126,29469,30349,31216,32350,33023,33194,33723,34059]
["male",42,520,535,502,503,521,571,532,568,570,623,633,639,690,758,765,759,773,779,709,798,729,792,755,734,762,739,739,801,833,900,921,999,null,42,24785,24995,25232,25326,25442,25636,25929,25904,25958,26013,26172,26311,26558,26983,27134,27299,27733,27936,28156,28444,28705,29141,29518,29860,30231,31088,31955,33151,33856,34094,34644,35058]
["male",43,560,518,536,495,495,518,565,545,568,567,627,639,647,691,747,759,746,767,764,717,797,742,803,744,754,774,760,785,812,844,904,937,null,43,25345,25513,25768,25821,25937,26154,26494,26449,26526,26580,26799,26950,27205,27674,27881,28058,28479,28703,28920,29161,29502,29883,30321,30604,30985,31862,32715,33936,34668,34938,35548,35995]
["male",44,619,571,531,547,507,509,534,567,544,571,565,633,649,667,711,722,762,756,766,759,720,798,744,803,746,775,782,770,793,818,859,925,null,44,25964,26084,26299,26368,26444,26663,27028,27016,27070,27151,27364,27583,27854,28341,28592,28780,29241,29459,29686,29920,30222,30681,31065,31407,31731,32637,33497,34706,35461,35756,36407,36920]
["male",45,632,614,563,527,545,501,505,519,579,553,570,571,647,645,670,699,716,749,749,757,773,732,809,751,797,756,784,797,782,829,840,863,null,45,26596,26698,26862,26895,26989,27164,27533,27535,27649,27704,27934,28154,28501,28986,29262,29479,29957,30208,30435,30677,30995,31413,31874,32158,32528,33393,34281,35503,36243,36585,37247,37783]
["male",46,542,634,615,560,529,548,501,499,529,575,562,576,564,649,655,667,703,724,758,760,778,784,731,798,734,790,743,773,801,794,871,855,null,46,27138,27332,27477,27455,27518,27712,28034,28034,28178,28279,28496,28730,29065,29635,29917,30146,30660,30932,31193,31437,31773,32197,32605,32956,33262,34183,35024,36276,37044,37379,38118,38638]
["male",47,464,546,634,610,554,530,550,508,493,527,567,567,583,574,656,668,671,707,725,760,759,773,791,729,800,735,798,756,770,810,805,879,null,47,27602,27878,28111,28065,28072,28242,28584,28542,28671,28806,29063,29297,29648,30209,30573,30814,31331,31639,31918,32197,32532,32970,33396,33685,34062,34918,35822,37032,37814,38189,38923,39517]
["male",48,494,470,550,636,612,554,534,548,510,496,528,571,562,579,593,652,667,669,712,718,737,770,787,793,730,810,734,816,761,774,820,795,null,48,28096,28348,28661,28701,28684,28796,29118,29090,29181,29302,29591,29868,30210,30788,31166,31466,31998,32308,32630,32915,33269,33740,34183,34478,34792,35728,36556,37848,38575,38963,39743,40312]
["male",49,487,490,467,543,628,604,545,527,538,500,501,526,574,570,578,594,656,667,662,709,720,741,750,778,802,737,799,733,810,756,766,794,null,49,28583,28838,29128,29244,29312,29400,29663,29617,29719,29802,30092,30394,30784,31358,31744,32060,32654,32975,33292,33624,33989,34481,34933,35256,35594,36465,37355,38581,39385,39719,40509,41106]
["male",50,432,482,485,458,535,617,593,557,534,528,497,502,526,584,569,575,603,672,677,660,698,726,741,756,790,806,737,785,726,804,748,768,null,50,29015,29320,29613,29702,29847,30017,30256,30174,30253,30330,30589,30896,31310,31942,32313,32635,33257,33647,33969,34284,34687,35207,35674,36012,36384,37271,38092,39366,40111,40523,41257,41874]
["male",51,398,430,477,487,459,534,610,602,545,527,530,490,499,525,582,574,563,606,662,663,654,698,723,756,761,790,815,732,775,716,800,739,null,51,29413,29750,30090,30189,30306,30551,30866,30776,30798,30857,31119,31386,31809,32467,32895,33209,33820,34253,34631,34947,35341,35905,36397,36768,37145,38061,38907,40098,40886,41239,42057,42613]
["male",52,408,396,426,471,485,455,532,603,597,552,521,521,483,499,530,574,574,555,603,643,674,662,695,721,763,769,774,796,737,760,725,784,null,52,29821,30146,30516,30660,30791,31006,31398,31379,31395,31409,31640,31907,32292,32966,33425,33783,34394,34808,35234,35590,36015,36567,37092,37489,37908,38830,39681,40894,41623,41999,42782,43397]
["male",53,467,404,389,415,465,478,451,532,591,588,529,522,524,481,504,527,571,580,566,599,640,668,660,698,715,766,758,792,789,716,763,725,null,53,30288,30550,30905,31075,31256,31484,31849,31911,31986,31997,32169,32429,32816,33447,33929,34310,34965,35388,35800,36189,36655,37235,37752,38187,38623,39596,40439,41686,42412,42715,43545,44122]
["male",54,453,465,410,395,421,474,489,462,522,594,594,530,519,518,483,506,527,566,598,562,598,626,663,667,684,717,763,753,788,794,721,760,null,54,30741,31015,31315,31470,31677,31958,32338,32373,32508,32591,32763,32959,33335,33965,34412,34816,35492,35954,36398,36751,37253,37861,38415,38854,39307,40313,41202,42439,43200,43509,44266,44882]
["male",55,446,455,460,411,396,419,474,482,458,529,601,589,539,526,521,473,496,523,548,594,569,582,629,656,660,678,705,754,746,790,783,721,null,55,31187,31470,31775,31881,32073,32377,32812,32855,32966,33120,33364,33548,33874,34491,34933,35289,35988,36477,36946,37345,37822,38443,39044,39510,39967,40991,41907,43193,43946,44299,45049,45603]
["male",56,419,444,447,453,409,394,411,480,475,437,525,585,571,537,529,522,456,484,522,546,593,564,579,625,654,648,663,693,737,740,773,777,null,56,31606,31914,32222,32334,32482,32771,33223,33335,33441,33557,33889,34133,34445,35028,35462,35811,36444,36961,37468,37891,38415,39007,39623,40135,40621,41639,42570,43886,44683,45039,45822,46380]
["male",57,444,415,438,442,444,405,387,406,477,474,427,515,578,556,530,520,510,452,484,514,538,582,561,576,606,660,646,657,688,714,728,763,null,57,32050,32329,32660,32776,32926,33176,33610,33741,33918,34031,34316,34648,35023,35584,35992,36331,36954,37413,37952,38405,38953,39589,40184,40711,41227,42299,43216,44543,45371,45753,46550,47143]
["male",58,406,440,409,440,434,439,405,386,406,462,462,420,515,575,554,511,513,502,450,479,501,539,577,563,567,595,649,637,656,683,699,707,null,58,32456,32769,33069,33216,33360,33615,34015,34127,34324,34493,34778,35068,35538,36159,36546,36842,37467,37915,38402,38884,39454,40128,40761,41274,41794,42894,43865,45180,46027,46436,47249,47850]
["male",59,416,402,435,406,437,428,433,407,386,404,455,459,411,509,560,552,508,502,490,454,491,504,521,566,548,565,598,625,613,628,681,680,null,59,32872,33171,33504,33622,33797,34043,34448,34534,34710,34897,35233,35527,35949,36668,37106,37394,37975,38417,38892,39338,39945,40632,41282,41840,42342,43459,44463,45805,46640,47064,47930,48530]
["male",60,445,408,398,427,401,433,424,416,395,381,393,445,445,409,499,558,545,503,499,483,454,487,508,512,556,556,562,586,606,613,600,646,null,60,33317,33579,33902,34049,34198,34476,34872,34950,35105,35278,35626,35972,36394,37077,37605,37952,38520,38920,39391,39821,40399,41119,41790,42352,42898,44015,45025,46391,47246,47677,48530,49176]
["male",61,430,436,395,388,416,394,432,404,405,383,371,381,435,442,398,487,550,544,491,498,471,446,480,506,505,555,544,547,577,595,587,589,null,61,33747,34015,34297,34437,34614,34870,35304,35354,35510,35661,35997,36353,36829,37519,38003,38439,39070,39464,39882,40319,40870,41565,42270,42858,43403,44570,45569,46938,47823,48272,49117,49765]
["male",62,397,421,433,387,376,406,385,424,398,403,370,362,379,424,435,391,476,534,546,482,492,461,446,473,505,504,547,540,519,574,560,561,null,62,34144,34436,34730,34824,34990,35276,35689,35778,35908,36064,36367,36715,37208,37943,38438,38830,39546,39998,40428,40801,41362,42026,42716,43331,43908,45074,46116,47478,48342,48846,49677,50326]
["male",63,375,388,407,423,381,369,399,370,420,397,386,356,357,372,417,422,382,478,535,538,469,489,458,445,470,504,487,531,525,506,563,548,null,63,34519,34824,35137,35247,35371,35645,36088,36148,36328,36461,36753,37071,37565,38315,38855,39252,39928,40476,40963,41339,41831,42515,43174,43776,44378,45578,46603,48009,48867,49352,50240,50874]
["male",64,388,365,385,394,409,372,359,382,359,406,385,366,343,349,364,409,425,378,462,528,522,454,468,451,440,449,491,466,518,505,500,554,null,64,34907,35189,35522,35641,35780,36017,36447,36530,36687,36867,37138,37437,37908,38664,39219,39661,40353,40854,41425,41867,42353,42969,43642,44227,44818,46027,47094,48475,49385,49857,50740,51428]
["male",65,382,372,364,374,383,399,356,352,361,348,399,374,353,342,339,367,392,415,372,453,503,507,441,462,435,433,441,462,450,493,479,484,null,65,{"$f":"AK80+C81","v":35289},{"$f":"AL80+D81","v":35561},{"$f":"AM80+E81","v":35886},{"$f":"AN80+F81","v":36015},{"$f":"AO80+G81","v":36163},{"$f":"AP80+H81","v":36416},{"$f":"AQ80+I81","v":36803},{"$f":"AR80+J81","v":36882},{"$f":"AS80+K81","v":37048},{"$f":"AT80+L81","v":37215},{"$f":"AU80+M81","v":37537},{"$f":"AV80+N81","v":37811},{"$f":"AW80+O81","v":38261},{"$f":"AX80+P81","v":39006},{"$f":"AY80+Q81","v":39558},{"$f":"AZ80+R81","v":40028},{"$f":"BA80+S81","v":40745},{"$f":"BB80+T81","v":41269},{"$f":"BC80+U81","v":41797},{"$f":"BD80+V81","v":42320},{"$f":"BE80+W81","v":42856},{"$f":"BF80+X81","v":43476},{"$f":"BG80+Y81","v":44083},{"$f":"BH80+Z81","v":44689},{"$f":"BI80+AA81","v":45253},{"$f":"BJ80+AB81","v":46460},{"$f":"BK80+AC81","v":47535},{"$f":"BL80+AD81","v":48937},{"$f":"BM80+AE81","v":49835},{"$f":"BN80+AF81","v":50350},{"$f":"BO80+AG81","v":51219},51912]
["male",66,357,379,360,358,366,376,390,350,341,351,333,389,373,342,331,325,360,387,406,369,436,498,497,435,446,437,422,427,454,431,470,452,null,66,35646,35940,36246,36373,36529,36792,37193,37232,37389,37566,37870,38200,38634,39348,39889,40353,41105,41656,42203,42689,43292,43974,44580,45124,45699,46897,47957,49364,50289,50781,51689,52364]
["male",67,330,344,363,343,343,354,357,375,342,332,340,323,383,370,338,326,315,358,373,401,371,439,477,495,426,432,436,416,414,434,414,450,null,67,35976,36284,36609,36716,36872,37146,37550,37607,37731,37898,38210,38523,39017,39718,40227,40679,41420,42014,42576,43090,43663,44413,45057,45619,46125,47329,48393,49780,50703,51215,52103,52814]
["male",68,336,323,336,354,330,337,340,358,358,337,324,335,313,373,355,336,316,308,354,373,398,363,433,473,488,419,421,427,409,392,412,397,null,68,36312,36607,36945,37070,37202,37483,37890,37965,38089,38235,38534,38858,39330,40091,40582,41015,41736,42322,42930,43463,44061,44776,45490,46092,46613,47748,48814,50207,51112,51607,52515,53211]
["male",69,341,315,308,324,346,319,335,329,346,347,322,318,324,309,363,343,326,311,309,352,363,389,353,428,461,479,405,413,400,386,386,401,null,69,36653,36922,37253,37394,37548,37802,38225,38294,38435,38582,38856,39176,39654,40400,40945,41358,42062,42633,43239,43815,44424,45165,45843,46520,47074,48227,49219,50620,51512,51993,52901,53612]
["male",70,331,323,293,295,312,330,306,323,324,335,332,320,315,317,303,350,342,323,298,310,346,351,374,343,411,449,464,388,395,382,376,369,null,70,36984,37245,37546,37689,37860,38132,38531,38617,38759,38917,39188,39496,39969,40717,41248,41708,42404,42956,43537,44125,44770,45516,46217,46863,47485,48676,49683,51008,51907,52375,53277,53981]
["male",71,312,318,297,275,290,293,321,301,315,319,325,325,314,295,311,300,344,337,310,289,302,333,349,360,336,403,432,450,376,384,367,365,null,71,37296,37563,37843,37964,38150,38425,38852,38918,39074,39236,39513,39821,40283,41012,41559,42008,42748,43293,43847,44414,45072,45849,46566,47223,47821,49079,50115,51458,52283,52759,53644,54346]
["male",72,308,293,305,281,259,279,281,311,288,304,320,312,315,314,289,305,281,330,325,305,286,300,318,344,347,319,395,421,432,360,366,348,null,72,37604,37856,38148,38245,38409,38704,39133,39229,39362,39540,39833,40133,40598,41326,41848,42313,43029,43623,44172,44719,45358,46149,46884,47567,48168,49398,50510,51879,52715,53119,54010,54694]
["male",73,208,293,285,290,263,243,269,278,302,281,280,311,305,312,298,277,299,271,324,312,295,280,277,303,329,341,308,374,419,417,348,357,null,73,37812,38149,38433,38535,38672,38947,39402,39507,39664,39821,40113,40444,40903,41638,42146,42590,43328,43894,44496,45031,45653,46429,47161,47870,48497,49739,50818,52253,53134,53536,54358,55051]
["male",74,180,198,283,272,273,250,230,255,267,287,265,265,293,292,303,293,271,284,254,303,306,283,280,266,282,317,327,297,363,405,406,352,null,74,37992,38347,38716,38807,38945,39197,39632,39762,39931,40108,40378,40709,41196,41930,42449,42883,43599,44178,44750,45334,45959,46712,47441,48136,48779,50056,51145,52550,53497,53941,54764,55403]
["male",75,196,171,191,273,257,257,236,214,243,247,275,247,256,280,276,292,289,266,276,254,294,292,273,274,253,269,299,327,291,341,383,390,null,75,38188,38518,38907,39080,39202,39454,39868,39976,40174,40355,40653,40956,41452,42210,42725,43175,43888,44444,45026,45588,46253,47004,47714,48410,49032,50325,51444,52877,53788,54282,55147,55793]
["male",76,188,185,165,177,246,236,244,224,197,234,234,261,244,245,273,266,284,288,261,264,247,292,279,264,269,253,256,289,312,287,333,372,null,76,38376,38703,39072,39257,39448,39690,40112,40200,40371,40589,40887,41217,41696,42455,42998,43441,44172,44732,45287,45852,46500,47296,47993,48674,49301,50578,51700,53166,54100,54569,55480,56165]
["male",77,188,167,157,148,156,222,216,226,211,193,216,216,244,226,235,255,252,269,271,251,258,237,286,271,253,254,251,238,271,288,280,320,null,77,38564,38870,39229,39405,39604,39912,40328,40426,40582,40782,41103,41433,41940,42681,43233,43696,44424,45001,45558,46103,46758,47533,48279,48945,49554,50832,51951,53404,54371,54857,55760,56485]
["male",78,167,184,160,143,134,148,207,208,205,200,179,201,197,232,210,228,253,241,253,263,243,254,226,270,266,239,245,252,233,254,286,275,null,78,38731,39054,39389,39548,39738,40060,40535,40634,40787,40982,41282,41634,42137,42913,43443,43924,44677,45242,45811,46366,47001,47787,48505,49215,49820,51071,52196,53656,54604,55111,56046,56760]
["male",79,135,150,168,139,126,122,132,195,192,190,185,169,187,182,214,197,218,244,229,247,244,243,244,212,254,249,232,236,238,219,234,271,null,79,38866,39204,39557,39687,39864,40182,40667,40829,40979,41172,41467,41803,42324,43095,43657,44121,44895,45486,46040,46613,47245,48030,48749,49427,50074,51320,52428,53892,54842,55330,56280,57031]
["male",80,115,114,137,149,131,119,113,121,175,175,170,168,158,180,172,207,186,209,225,223,236,231,225,235,203,238,236,207,217,220,215,229,null,80,38981,39318,39694,39836,39995,40301,40780,40950,41154,41347,41637,41971,42482,43275,43829,44328,45081,45695,46265,46836,47481,48261,48974,49662,50277,51558,52664,54099,55059,55550,56495,57260]
["male",81,130,101,109,128,128,120,107,105,117,163,158,156,156,152,169,162,193,178,195,204,209,220,212,205,215,185,218,209,190,200,214,202,null,81,39111,39419,39803,39964,40123,40421,40887,41055,41271,41510,41795,42127,42638,43427,43998,44490,45274,45873,46460,47040,47690,48481,49186,49867,50492,51743,52882,54308,55249,55750,56709,57462]
["male",82,109,109,80,99,119,116,104,102,98,107,147,144,144,145,132,161,152,175,170,174,185,193,217,195,189,203,177,222,184,183,179,202,null,82,39220,39528,39883,40063,40242,40537,40991,41157,41369,41617,41942,42271,42782,43572,44130,44651,45426,46048,46630,47214,47875,48674,49403,50062,50681,51946,53059,54530,55433,55933,56888,57664]
["male",83,97,95,103,75,87,115,118,93,92,90,93,135,123,133,117,120,147,150,166,151,155,168,176,201,179,181,187,173,208,172,169,167,null,83,39317,39623,39986,40138,40329,40652,41109,41250,41461,41707,42035,42406,42905,43705,44247,44771,45573,46198,46796,47365,48030,48842,49579,50263,50860,52127,53246,54703,55641,56105,57057,57831]
["male",84,83,84,90,84,67,78,104,99,82,78,79,83,124,99,117,102,107,136,143,158,137,149,152,156,176,167,166,180,157,187,156,149,null,84,39400,39707,40076,40222,40396,40730,41213,41349,41543,41785,42114,42489,43029,43804,44364,44873,45680,46334,46939,47523,48167,48991,49731,50419,51036,52294,53412,54883,55798,56292,57213,57980]
["male",85,241,259,266,256,257,247,246,301,326,70,71,72,77,111,91,107,90,101,127,122,148,125,133,132,136,158,156,146,156,144,176,151,null,85,39641,39966,40342,40478,40653,40977,41459,41650,41869,41855,42185,42561,43106,43915,44455,44980,45770,46435,47066,47645,48315,49116,49864,50551,51172,52452,53568,55029,55954,56436,57389,58131]
["male",86,null,null,null,null,null,null,null,null,null,69,65,57,62,74,93,87,97,85,94,118,110,139,110,103,114,116,138,131,131,138,129,155,null,86,39641,39966,40342,40478,40653,40977,41459,41650,41869,41924,42250,42618,43168,43989,44548,45067,45867,46520,47160,47763,48425,49255,49974,50654,51286,52568,53706,55160,56085,56574,57518,58286]
["male",87,null,null,null,null,null,null,null,null,null,61,59,55,46,52,64,89,80,82,80,93,104,95,120,100,86,106,97,119,118,105,127,119,null,87,39641,39966,40342,40478,40653,40977,41459,41650,41869,41985,42309,42673,43214,44041,44612,45156,45947,46602,47240,47856,48529,49350,50094,50754,51372,52674,53803,55279,56203,56679,57645,58405]
["male",88,null,null,null,null,null,null,null,null,null,49,48,49,48,36,43,62,77,67,79,73,75,90,85,110,84,68,91,87,91,102,91,111,null,88,39641,39966,40342,40478,40653,40977,41459,41650,41869,42034,42357,42722,43262,44077,44655,45218,46024,46669,47319,47929,48604,49440,50179,50864,51456,52742,53894,55366,56294,56781,57736,58516]
["male",89,null,null,null,null,null,null,null,null,null,32,39,37,40,31,35,38,50,67,58,64,69,63,84,69,89,73,58,72,73,82,85,82,null,89,39641,39966,40342,40478,40653,40977,41459,41650,41869,42066,42396,42759,43302,44108,44690,45256,46074,46736,47377,47993,48673,49503,50263,50933,51545,52815,53952,55438,56367,56863,57821,58598]
["male","90+",null,null,null,null,null,null,null,null,null,95,97,111,115,116,112,119,126,149,167,194,193,193,232,255,270,290,289,290,268,278,286,275,null,"90+",39641,39966,40342,40478,40653,40977,41459,41650,41869,42161,42493,42870,43417,44224,44802,45375,46200,46885,47544,48187,48866,49696,50495,51188,51815,53105,54241,55728,56635,57141,58107,58873]
[null,"All Males",{"$f":"SUM(C16:C106)","v":39641},{"$f":"SUM(D16:D106)","v":39966},40342,40478,40653,40977,41459,41650,41869,42161,42493,42870,43417,44224,44802,45375,46200,46885,47544,48187,48866,49696,50495,51188,51815,53105,54241,{"$f":"SUM(AD16:AD106)","v":55728},{"$f":"SUM(AE16:AE106)","v":56635},{"$f":"SUM(AF16:AF106)","v":57141},{"$f":"SUM(AG16:AG106)","v":58107},{"$f":"SUM(AH16:AH106)","v":58873},null,"Females"]
["Sex","Age"]
["female",0,598,545,557,581,583,591,546,547,522,519,485,572,580,560,585,601,668,663,675,737,723,725,727,762,720,739,795,794,807,791,814,777,null,0,{"$f":"C109","v":598},545,557,581,583,591,546,547,522,519,485,572,580,560,585,601,668,663,675,737,723,725,727,762,720,739,795,794,807,791,814,777]
["female",1,535,586,551,513,566,572,574,570,533,501,505,491,569,584,573,575,618,677,656,695,742,719,741,714,760,716,772,789,803,792,783,816,null,1,{"$f":"AK109+C110","v":1133},{"$f":"AL109+D110","v":1131},{"$f":"AM109+E110","v":1108},{"$f":"AN109+F110","v":1094},{"$f":"AO109+G110","v":1149},{"$f":"AP109+H110","v":1163},{"$f":"AQ109+I110","v":1120},{"$f":"AR109+J110","v":1117},{"$f":"AS109+K110","v":1055},{"$f":"AT109+L110","v":1020},{"$f":"AU109+M110","v":990},{"$f":"AV109+N110","v":1063},{"$f":"AW109+O110","v":1149},{"$f":"AX109+P110","v":1144},{"$f":"AY109+Q110","v":1158},{"$f":"AZ109+R110","v":1176},{"$f":"BA109+S110","v":1286},{"$f":"BB109+T110","v":1340},{"$f":"BC109+U110","v":1331},{"$f":"BD109+V110","v":1432},{"$f":"BE109+W110","v":1465},{"$f":"BF109+X110","v":1444},{"$f":"BG109+Y110","v":1468},{"$f":"BH109+Z110","v":1476},{"$f":"BI109+AA110","v":1480},{"$f":"BJ109+AB110","v":1455},{"$f":"BK109+AC110","v":1567},{"$f":"BL109+AD110","v":1583},{"$f":"BM109+AE110","v":1610},{"$f":"BN109+AF110","v":1583},{"$f":"BO109+AG110","v":1597},1593]
["female",2,567,525,572,534,501,552,559,605,552,508,514,505,488,553,590,575,598,626,667,655,726,749,733,749,712,802,720,811,809,774,796,808,null,2,1700,1656,1680,1628,1650,1715,1679,1722,1607,1528,1504,1568,1637,1697,1748,1751,1884,1966,1998,2087,2191,2193,2201,2225,2192,2257,2287,2394,2419,2357,2393,2401]
["female",3,555,579,543,585,546,523,568,577,596,550,507,504,519,495,557,580,577,605,630,681,659,712,760,717,749,728,823,729,836,789,764,795,null,3,2255,2235,2223,2213,2196,2238,2247,2299,2203,2078,2011,2072,2156,2192,2305,2331,2461,2571,2628,2768,2850,2905,2961,2942,2941,2985,3110,3123,3255,3146,3157,3196]
["female",4,567,559,584,556,593,557,542,555,583,589,543,514,511,526,492,560,591,584,598,634,675,663,714,754,717,793,775,840,752,840,793,778,null,4,2822,2794,2807,2769,2789,2795,2789,2854,2786,2667,2554,2586,2667,2718,2797,2891,3052,3155,3226,3402,3525,3568,3675,3696,3658,3778,3885,3963,4007,3986,3950,3974]
["female",5,546,571,558,583,566,601,564,555,555,588,565,531,533,522,520,493,566,591,592,597,636,689,675,724,788,732,809,819,835,756,890,836,null,5,3368,3365,3365,3352,3355,3396,3353,3409,3341,3255,3119,3117,3200,3240,3317,3384,3618,3746,3818,3999,4161,4257,4350,4420,4446,4510,4694,4782,4842,4742,4840,4810]
["female",6,491,541,568,553,582,571,602,561,545,566,588,578,537,536,530,520,508,573,599,593,601,633,691,682,729,809,738,823,817,845,776,913,null,6,3859,3906,3933,3905,3937,3967,3955,3970,3886,3821,3707,3695,3737,3776,3847,3904,4126,4319,4417,4592,4762,4890,5041,5102,5175,5319,5432,5605,5659,5587,5616,5723]
["female",7,498,488,536,565,550,580,575,614,563,550,561,597,596,553,538,537,528,517,573,611,589,604,634,674,686,745,803,767,823,834,852,791,null,7,4357,4394,4469,4470,4487,4547,4530,4584,4449,4371,4268,4292,4333,4329,4385,4441,4654,4836,4990,5203,5351,5494,5675,5776,5861,6064,6235,6372,6482,6421,6468,6514]
["female",8,462,500,491,534,565,551,582,577,619,562,564,557,604,606,543,544,541,533,522,568,613,609,611,648,682,709,766,813,757,835,856,845,null,8,4819,4894,4960,5004,5052,5098,5112,5161,5068,4933,4832,4849,4937,4935,4928,4985,5195,5369,5512,5771,5964,6103,6286,6424,6543,6773,7001,7185,7239,7256,7324,7359]
["female",9,466,468,506,496,535,571,555,594,579,623,569,577,573,606,609,544,560,558,544,519,577,611,603,625,653,693,730,789,823,768,851,896,null,9,5285,5362,5466,5500,5587,5669,5667,5755,5647,5556,5401,5426,5510,5541,5537,5529,5755,5927,6056,6290,6541,6714,6889,7049,7196,7466,7731,7974,8062,8024,8175,8255]
["female",10,456,465,468,502,491,529,567,533,589,588,627,571,583,575,614,610,559,563,558,549,528,586,629,605,639,667,734,779,803,825,800,874,null,10,5741,5827,5934,6002,6078,6198,6234,6288,6236,6144,6028,5997,6093,6116,6151,6139,6314,6490,6614,6839,7069,7300,7518,7654,7835,8133,8465,8753,8865,8849,8975,9129]
["female",11,457,459,469,475,506,496,531,570,531,587,598,626,570,575,583,625,608,576,556,570,548,547,598,634,608,663,717,765,808,823,837,841,null,11,6198,6286,6403,6477,6584,6694,6765,6858,6767,6731,6626,6623,6663,6691,6734,6764,6922,7066,7170,7409,7617,7847,8116,8288,8443,8796,9182,9518,9673,9672,9812,9970]
["female",12,434,458,460,468,478,506,495,514,570,533,601,602,638,567,575,594,632,612,570,564,554,552,546,603,642,620,660,730,775,800,848,860,null,12,6632,6744,6863,6945,7062,7200,7260,7372,7337,7264,7227,7225,7301,7258,7309,7358,7554,7678,7740,7973,8171,8399,8662,8891,9085,9416,9842,10248,10448,10472,10660,10830]
["female",13,466,436,459,459,469,479,507,502,518,569,545,608,607,642,572,580,603,635,615,576,575,566,561,554,601,645,639,672,716,779,788,857,null,13,7098,7180,7322,7404,7531,7679,7767,7874,7855,7833,7772,7833,7908,7900,7881,7938,8157,8313,8355,8549,8746,8965,9223,9445,9686,10061,10481,10920,11164,11251,11448,11687]
["female",14,416,471,441,463,464,472,488,502,506,503,582,560,623,586,639,559,592,607,641,623,581,575,563,573,564,617,660,656,674,743,793,802,null,14,7514,7651,7763,7867,7995,8151,8255,8376,8361,8336,8354,8393,8531,8486,8520,8497,8749,8920,8996,9172,9327,9540,9786,10018,10250,10678,11141,11576,11838,11994,12241,12489]
["female",15,415,422,474,445,465,468,477,490,498,509,526,602,568,638,609,639,587,599,604,646,621,586,579,575,587,561,620,677,673,689,746,800,null,15,7929,8073,8237,8312,8460,8619,8732,8866,8859,8845,8880,8995,9099,9124,9129,9136,9336,9519,9600,9818,9948,10126,10365,10593,10837,11239,11761,12253,12511,12683,12987,13289]
["female",16,426,426,436,485,457,477,480,462,476,497,517,537,611,576,660,617,642,598,598,609,642,619,603,587,569,588,564,618,665,682,710,753,null,16,8355,8499,8673,8797,8917,9096,9212,9328,9335,9342,9397,9532,9710,9700,9789,9753,9978,10117,10198,10427,10590,10745,10968,11180,11406,11827,12325,12871,13176,13365,13697,14042]
["female",17,443,416,417,426,474,446,469,477,461,491,504,536,559,621,596,664,624,644,605,607,623,627,633,621,585,573,596,574,609,676,695,729,null,17,8798,8915,9090,9223,9391,9542,9681,9805,9796,9833,9901,10068,10269,10321,10385,10417,10602,10761,10803,11034,11213,11372,11601,11801,11991,12400,12921,13445,13785,14041,14392,14771]
["female",18,478,452,417,405,413,460,448,513,488,474,473,499,529,574,610,602,648,617,626,588,589,606,638,622,604,558,556,590,542,599,638,658,null,18,9276,9367,9507,9628,9804,10002,10129,10318,10284,10307,10374,10567,10798,10895,10995,11019,11250,11378,11429,11622,11802,11978,12239,12423,12595,12958,13477,14035,14327,14640,15030,15429]
["female",19,536,489,439,369,356,361,453,452,504,473,407,394,435,509,488,554,556,579,502,524,475,480,488,504,477,466,442,416,465,406,398,437,null,19,9812,9856,9946,9997,10160,10363,10582,10770,10788,10780,10781,10961,11233,11404,11483,11573,11806,11957,11931,12146,12277,12458,12727,12927,13072,13424,13919,14451,14792,15046,15428,15866]
["female",20,521,535,423,371,314,315,355,435,438,474,454,408,398,447,529,520,566,538,564,478,502,480,500,467,499,480,469,424,413,454,384,385,null,20,10333,10391,10369,10368,10474,10678,10937,11205,11226,11254,11235,11369,11631,11851,12012,12093,12372,12495,12495,12624,12779,12938,13227,13394,13571,13904,14388,14875,15205,15500,15812,16251]
["female",21,618,538,485,422,383,353,352,390,472,461,494,487,448,437,498,561,584,592,561,592,528,542,555,547,520,532,540,512,489,456,477,428,null,21,10951,10929,10854,10790,10857,11031,11289,11595,11698,11715,11729,11856,12079,12288,12510,12654,12956,13087,13056,13216,13307,13480,13782,13941,14091,14436,14928,15387,15694,15956,16289,16679]
["female",22,688,664,572,555,496,481,448,445,446,521,496,502,537,537,512,548,620,665,652,620,693,608,637,643,625,623,643,626,570,561,532,573,null,22,11639,11593,11426,11345,11353,11512,11737,12040,12144,12236,12225,12358,12616,12825,13022,13202,13576,13752,13708,13836,14000,14088,14419,14584,14716,15059,15571,16013,16264,16517,16821,17252]
["female",23,718,705,724,632,622,576,554,493,510,519,550,513,544,600,576,590,588,677,706,721,689,749,692,685,708,677,659,724,676,622,585,563,null,23,12357,12298,12150,11977,11975,12088,12291,12533,12654,12755,12775,12871,13160,13425,13598,13792,14164,14429,14414,14557,14689,14837,15111,15269,15424,15736,16230,16737,16940,17139,17406,17815]
["female",24,755,763,794,764,676,680,629,560,524,544,535,568,555,624,652,628,626,637,699,758,743,721,778,724,740,708,713,697,736,731,640,658,null,24,13112,13061,12944,12741,12651,12768,12920,13093,13178,13299,13310,13439,13715,14049,14250,14420,14790,15066,15113,15315,15432,15558,15889,15993,16164,16444,16943,17434,17676,17870,18046,18473]
["female",25,733,759,807,774,752,674,682,615,593,555,562,534,633,615,658,677,663,655,676,733,783,783,770,820,745,771,745,744,677,759,774,678,null,25,13845,13820,13751,13515,13403,13442,13602,13708,13771,13854,13872,13973,14348,14664,14908,15097,15453,15721,15789,16048,16215,16341,16659,16813,16909,17215,17688,18178,18353,18629,18820,19151]
["female",26,798,754,797,816,775,764,690,690,613,592,572,575,564,691,613,693,717,686,679,707,755,796,823,808,876,785,830,801,774,760,823,836,null,26,14643,14574,14548,14331,14178,14206,14292,14398,14384,14446,14444,14548,14912,15355,15521,15790,16170,16407,16468,16755,16970,17137,17482,17621,17785,18000,18518,18979,19127,19389,19643,19987]
["female",27,754,810,770,799,818,772,767,683,700,648,591,575,609,611,706,652,746,728,694,694,743,768,807,844,849,926,843,895,849,787,830,886,null,27,15397,15384,15318,15130,14996,14978,15059,15081,15084,15094,15035,15123,15521,15966,16227,16442,16916,17135,17162,17449,17713,17905,18289,18465,18634,18926,19361,19874,19976,20176,20473,20873]
["female",28,681,736,797,741,772,795,737,758,690,678,649,605,592,642,623,676,708,758,760,716,733,788,815,850,892,912,987,911,935,909,844,910,null,28,16078,16120,16115,15871,15768,15773,15796,15839,15774,15772,15684,15728,16113,16608,16850,17118,17624,17893,17922,18165,18446,18693,19104,19315,19526,19838,20348,20785,20911,21085,21317,21783]
["female",29,684,697,764,812,756,793,813,727,749,695,677,644,627,641,644,647,674,718,803,773,761,766,851,858,855,963,976,1043,932,969,955,911,null,29,16762,16817,16879,16683,16524,16566,16609,16566,16523,16467,16361,16372,16740,17249,17494,17765,18298,18611,18725,18938,19207,19459,19955,20173,20381,20801,21324,21828,21843,22054,22272,22694]
["female",30,724,696,718,774,819,765,802,778,723,731,693,694,646,655,645,653,657,712,732,822,796,776,798,843,906,891,1004,1058,1056,976,1006,1005,null,30,17486,17513,17597,17457,17343,17331,17411,17344,17246,17198,17054,17066,17386,17904,18139,18418,18955,19323,19457,19760,20003,20235,20753,21016,21287,21692,22328,22886,22899,23030,23278,23699]
["female",31,669,722,707,712,772,820,762,764,784,702,712,692,699,675,658,639,657,667,710,731,850,821,792,822,877,935,947,1021,1074,1052,1010,1035,null,31,18155,18235,18304,18169,18115,18151,18173,18108,18030,17900,17766,17758,18085,18579,18797,19057,19612,19990,20167,20491,20853,21056,21545,21838,22164,22627,23275,23907,23973,24082,24288,24734]
["female",32,611,649,709,687,692,756,804,762,766,773,721,721,697,721,687,663,662,660,672,693,743,859,859,834,831,922,987,1025,1027,1098,1089,1070,null,32,18766,18884,19013,18856,18807,18907,18977,18870,18796,18673,18487,18479,18782,19300,19484,19720,20274,20650,20839,21184,21596,21915,22404,22672,22995,23549,24262,24932,25000,25180,25377,25804]
["female",33,586,619,657,713,695,702,769,839,798,752,776,740,744,724,739,698,681,651,671,685,693,769,883,886,846,863,941,1031,1038,1039,1143,1118,null,33,{"$f":"AK141+C142","v":19352},{"$f":"AL141+D142","v":19503},{"$f":"AM141+E142","v":19670},{"$f":"AN141+F142","v":19569},{"$f":"AO141+G142","v":19502},{"$f":"AP141+H142","v":19609},{"$f":"AQ141+I142","v":19746},{"$f":"AR141+J142","v":19709},{"$f":"AS141+K142","v":19594},{"$f":"AT141+L142","v":19425},{"$f":"AU141+M142","v":19263},{"$f":"AV141+N142","v":19219},{"$f":"AW141+O142","v":19526},{"$f":"AX141+P142","v":20024},{"$f":"AY141+Q142","v":20223},{"$f":"AZ141+R142","v":20418},{"$f":"BA141+S142","v":20955},{"$f":"BB141+T142","v":21301},{"$f":"BC141+U142","v":21510},{"$f":"BD141+V142","v":21869},{"$f":"BE141+W142","v":22289},{"$f":"BF141+X142","v":22684},{"$f":"BG141+Y142","v":23287},{"$f":"BH141+Z142","v":23558},{"$f":"BI141+AA142","v":23841},{"$f":"BJ141+AB142","v":24412},{"$f":"BK141+AC142","v":25203},{"$f":"BL141+AD142","v":25963},{"$f":"BM141+AE142","v":26038},{"$f":"BN141+AF142","v":26219},{"$f":"BO141+AG142","v":26520},26922]
["female",34,575,583,615,649,710,694,700,762,817,764,762,786,730,734,729,728,707,694,647,670,691,734,773,918,922,872,881,978,1072,1067,1094,1151,null,34,19927,20086,20285,20218,20212,20303,20446,20471,20411,20189,20025,20005,20256,20758,20952,21146,21662,21995,22157,22539,22980,23418,24060,24476,24763,25284,26084,26941,27110,27286,27614,28073]
["female",35,593,590,600,626,658,728,712,711,772,803,760,766,806,755,752,722,728,703,698,645,674,704,763,806,950,941,919,939,982,1111,1095,1128,null,35,20520,20676,20885,20844,20870,21031,21158,21182,21183,20992,20785,20771,21062,21513,21704,21868,22390,22698,22855,23184,23654,24122,24823,25282,25713,26225,27003,27880,28092,28397,28709,29201]
["female",36,576,592,590,597,622,657,729,693,708,787,803,752,769,824,750,749,743,728,695,690,647,672,721,767,825,986,979,961,956,1006,1153,1135,null,36,21096,21268,21475,21441,21492,21688,21887,21875,21891,21779,21588,21523,21831,22337,22454,22617,23133,23426,23550,23874,24301,24794,25544,26049,26538,27211,27982,28841,29048,29403,29862,30336]
["female",37,504,580,591,589,601,620,657,732,677,695,775,806,769,763,841,749,759,743,723,693,705,654,696,739,787,847,1002,1020,984,965,1061,1203,null,37,21600,21848,22066,22030,22093,22308,22544,22607,22568,22474,22363,22329,22600,23100,23295,23366,23892,24169,24273,24567,25006,25448,26240,26788,27325,28058,28984,29861,30032,30368,30923,31539]
["female",38,534,500,577,583,584,596,613,669,719,664,709,773,805,765,782,826,748,753,747,720,706,709,670,709,738,823,868,1030,1037,983,1007,1098,null,38,22134,22348,22643,22613,22677,22904,23157,23276,23287,23138,23072,23102,23405,23865,24077,24192,24640,24922,25020,25287,25712,26157,26910,27497,28063,28881,29852,30891,31069,31351,31930,32637]
["female",39,503,542,508,581,586,591,604,633,662,715,660,707,787,808,759,770,822,750,740,743,713,712,724,688,726,756,839,904,1035,1031,971,999,null,39,22637,22890,23151,23194,23263,23495,23761,23909,23949,23853,23732,23809,24192,24673,24836,24962,25462,25672,25760,26030,26425,26869,27634,28185,28789,29637,30691,31795,32104,32382,32901,33636]
["female",40,482,498,541,503,577,583,590,587,625,651,712,664,731,766,818,770,793,823,752,743,737,731,744,743,676,741,763,863,930,1028,997,966,null,40,23119,23388,23692,23697,23840,24078,24351,24496,24574,24504,24444,24473,24923,25439,25654,25732,26255,26495,26512,26773,27162,27600,28378,28928,29465,30378,31454,32658,33034,33410,33898,34602]
["female",41,482,480,488,533,492,571,574,570,581,619,649,712,670,731,752,800,780,801,815,775,736,740,737,744,752,677,742,782,877,916,1053,1003,null,41,23601,23868,24180,24230,24332,24649,24925,25066,25155,25123,25093,25185,25593,26170,26406,26532,27035,27296,27327,27548,27898,28340,29115,29672,30217,31055,32196,33440,33911,34326,34951,35605]
["female",42,533,502,498,501,549,509,589,586,564,586,612,660,718,684,735,743,776,774,772,807,771,736,737,736,749,772,675,777,814,895,917,1062,null,42,24134,24370,24678,24731,24881,25158,25514,25652,25719,25709,25705,25845,26311,26854,27141,27275,27811,28070,28099,28355,28669,29076,29852,30408,30966,31827,32871,34217,34725,35221,35868,36667]
["female",43,539,530,498,495,492,544,501,565,587,572,594,607,654,729,680,729,744,781,783,771,803,781,740,735,755,762,797,696,782,826,899,919,null,43,24673,24900,25176,25226,25373,25702,26015,26217,26306,26281,26299,26452,26965,27583,27821,28004,28555,28851,28882,29126,29472,29857,30592,31143,31721,32589,33668,34913,35507,36047,36767,37586]
["female",44,634,543,532,496,494,487,542,511,557,586,569,600,615,650,738,675,729,759,780,786,773,824,788,748,750,761,765,799,705,791,848,915,null,44,25307,25443,25708,25722,25867,26189,26557,26728,26863,26867,26868,27052,27580,28233,28559,28679,29284,29610,29662,29912,30245,30681,31380,31891,32471,33350,34433,35712,36212,36838,37615,38501]
["female",45,690,625,536,520,486,485,473,556,515,550,588,570,602,625,661,725,663,732,752,785,793,776,830,790,750,761,781,769,799,720,803,854,null,45,25997,26068,26244,26242,26353,26674,27030,27284,27378,27417,27456,27622,28182,28858,29220,29404,29947,30342,30414,30697,31038,31457,32210,32681,33221,34111,35214,36481,37011,37558,38418,39355]
["female",46,500,700,633,547,530,497,498,486,559,511,558,579,578,595,634,662,726,657,743,752,783,801,785,832,767,740,761,799,767,806,745,828,null,46,26497,26768,26877,26789,26883,27171,27528,27770,27937,27928,28014,28201,28760,29453,29854,30066,30673,30999,31157,31449,31821,32258,32995,33513,33988,34851,35975,37280,37778,38364,39163,40183]
["female",47,494,503,699,635,551,535,503,491,496,551,501,563,587,580,602,648,658,735,665,745,754,773,806,809,829,760,758,754,786,770,815,753,null,47,26991,27271,27576,27424,27434,27706,28031,28261,28433,28479,28515,28764,29347,30033,30456,30714,31331,31734,31822,32194,32575,33031,33801,34322,34817,35611,36733,38034,38564,39134,39978,40936]
["female",48,531,491,496,691,630,548,531,489,502,491,548,491,565,581,585,600,641,659,733,667,758,755,780,807,821,847,764,744,751,778,773,819,null,48,27522,27762,28072,28115,28064,28254,28562,28750,28935,28970,29063,29255,29912,30614,31041,31314,31972,32393,32555,32861,33333,33786,34581,35129,35638,36458,37497,38778,39315,39912,40751,41755]
["female",49,486,531,493,499,690,632,552,533,498,508,496,541,490,564,577,593,615,651,641,731,663,766,756,788,814,820,863,752,754,743,782,774,null,49,28008,28293,28565,28614,28754,28886,29114,29283,29433,29478,29559,29796,30402,31178,31618,31907,32587,33044,33196,33592,33996,34552,35337,35917,36452,37278,38360,39530,40069,40655,41533,42529]
["female",50,436,485,532,496,502,689,635,545,529,504,503,496,546,499,553,586,590,613,643,646,725,671,765,764,789,819,806,845,744,745,752,782,null,50,28444,28778,29097,29110,29256,29575,29749,29828,29962,29982,30062,30292,30948,31677,32171,32493,33177,33657,33839,34238,34721,35223,36102,36681,37241,38097,39166,40375,40813,41400,42285,43311]
["female",51,418,441,488,538,504,508,694,628,545,527,502,504,489,557,504,551,585,587,609,647,647,711,671,750,771,782,806,795,823,746,741,752,null,51,28862,29219,29585,29648,29760,30083,30443,30456,30507,30509,30564,30796,31437,32234,32675,33044,33762,34244,34448,34885,35368,35934,36773,37431,38012,38879,39972,41170,41636,42146,43026,44063]
["female",52,441,416,436,478,528,496,501,674,612,546,518,493,505,501,561,511,537,584,574,600,649,651,715,665,745,769,776,815,800,803,731,732,null,52,29303,29635,30021,30126,30288,30579,30944,31130,31119,31055,31082,31289,31942,32735,33236,33555,34299,34828,35022,35485,36017,36585,37488,38096,38757,39648,40748,41985,42436,42949,43757,44795]
["female",53,461,437,413,430,470,519,491,498,659,605,551,508,493,501,507,555,511,538,579,569,599,649,657,705,671,751,770,788,813,791,788,710,null,53,29764,30072,30434,30556,30758,31098,31435,31628,31778,31660,31633,31797,32435,33236,33743,34110,34810,35366,35601,36054,36616,37234,38145,38801,39428,40399,41518,42773,43249,43740,44545,45505]
["female",54,487,461,445,413,428,464,513,492,498,649,594,534,504,489,495,500,556,503,533,579,565,594,639,656,698,688,725,764,774,800,808,785,null,54,30251,30533,30879,30969,31186,31562,31948,32120,32276,32309,32227,32331,32939,33725,34238,34610,35366,35869,36134,36633,37181,37828,38784,39457,40126,41087,42243,43537,44023,44540,45353,46290]
["female",55,440,478,454,439,407,419,455,491,487,492,634,595,528,505,490,497,493,552,499,533,570,566,584,645,656,693,687,728,744,764,812,810,null,55,30691,31011,31333,31408,31593,31981,32403,32611,32763,32801,32861,32926,33467,34230,34728,35107,35859,36421,36633,37166,37751,38394,39368,40102,40782,41780,42930,44265,44767,45304,46165,47100]
["female",56,420,427,463,437,429,393,402,459,482,480,490,630,587,526,495,484,491,494,538,492,536,572,583,577,652,656,697,668,711,740,755,790,null,56,31111,31438,31796,31845,32022,32374,32805,33070,33245,33281,33351,33556,34054,34756,35223,35591,36350,36915,37171,37658,38287,38966,39951,40679,41434,42436,43627,44933,45478,46044,46920,47890]
["female",57,437,410,421,456,431,422,385,409,462,469,464,491,625,581,521,496,478,486,492,537,494,532,572,572,570,649,633,701,668,696,708,733,null,57,31548,31848,32217,32301,32453,32796,33190,33479,33707,33750,33815,34047,34679,35337,35744,36087,36828,37401,37663,38195,38781,39498,40523,41251,42004,43085,44260,45634,46146,46740,47628,48623]
["female",58,429,434,415,419,456,434,426,385,397,461,461,459,470,622,575,504,490,465,488,493,539,487,529,557,576,581,629,628,675,650,680,675,null,58,31977,32282,32632,32720,32909,33230,33616,33864,34104,34211,34276,34506,35149,35959,36319,36591,37318,37866,38151,38688,39320,39985,41052,41808,42580,43666,44889,46262,46821,47390,48308,49298]
["female",59,444,435,438,419,422,463,439,408,381,394,457,455,462,470,628,573,495,486,454,483,495,527,484,536,556,575,583,633,621,665,630,661,null,59,32421,32717,33070,33139,33331,33693,34055,34272,34485,34605,34733,34961,35611,36429,36947,37164,37813,38352,38605,39171,39815,40512,41536,42344,43136,44241,45472,46895,47442,48055,48938,49959]
["female",60,441,436,424,429,412,416,451,428,415,368,384,448,456,456,460,619,564,485,477,449,479,496,514,492,528,546,562,566,621,606,649,600,null,60,32862,33153,33494,33568,33743,34109,34506,34700,34900,34973,35117,35409,36067,36885,37407,37783,38377,38837,39082,39620,40294,41008,42050,42836,43664,44787,46034,47461,48063,48661,49587,50559]
["female",61,438,424,418,406,418,397,404,447,430,421,361,379,450,444,460,457,602,553,480,474,444,476,503,502,495,518,540,562,571,609,585,633,null,61,33300,33577,33912,33974,34161,34506,34910,35147,35330,35394,35478,35788,36517,37329,37867,38240,38979,39390,39562,40094,40738,41484,42553,43338,44159,45305,46574,48023,48634,49270,50172,51192]
["female",62,428,432,414,409,400,413,389,402,437,425,413,345,382,456,440,450,447,593,543,470,477,445,470,508,493,484,513,534,562,552,607,572,null,62,33728,34009,34326,34383,34561,34919,35299,35549,35767,35819,35891,36133,36899,37785,38307,38690,39426,39983,40105,40564,41215,41929,43023,43846,44652,45789,47087,48557,49196,49822,50779,51764]
["female",63,406,414,431,411,406,399,413,385,391,435,424,405,341,381,446,441,441,438,587,541,461,473,434,467,487,492,481,505,521,543,541,593,null,63,34134,34423,34757,34794,34967,35318,35712,35934,36158,36254,36315,36538,37240,38166,38753,39131,39867,40421,40692,41105,41676,42402,43457,44313,45139,46281,47568,49062,49717,50365,51320,52357]
["female",64,413,402,417,424,408,408,399,406,374,390,424,417,396,339,381,434,435,437,429,570,550,456,471,429,450,484,481,486,488,510,519,544,null,64,34547,34825,35174,35218,35375,35726,36111,36340,36532,36644,36739,36955,37636,38505,39134,39565,40302,40858,41121,41675,42226,42858,43928,44742,45589,46765,48049,49548,50205,50875,51839,52901]
["female",65,380,411,400,412,420,408,405,389,393,362,375,414,410,389,333,379,434,431,431,424,559,547,452,469,427,448,465,466,467,468,495,511,null,65,{"$f":"AK173+C174","v":34927},{"$f":"AL173+D174","v":35236},{"$f":"AM173+E174","v":35574},{"$f":"AN173+F174","v":35630},{"$f":"AO173+G174","v":35795},{"$f":"AP173+H174","v":36134},{"$f":"AQ173+I174","v":36516},{"$f":"AR173+J174","v":36729},{"$f":"AS173+K174","v":36925},{"$f":"AT173+L174","v":37006},{"$f":"AU173+M174","v":37114},{"$f":"AV173+N174","v":37369},{"$f":"AW173+O174","v":38046},{"$f":"AX173+P174","v":38894},{"$f":"AY173+Q174","v":39467},{"$f":"AZ173+R174","v":39944},{"$f":"BA173+S174","v":40736},{"$f":"BB173+T174","v":41289},{"$f":"BC173+U174","v":41552},{"$f":"BD173+V174","v":42099},{"$f":"BE173+W174","v":42785},{"$f":"BF173+X174","v":43405},{"$f":"BG173+Y174","v":44380},{"$f":"BH173+Z174","v":45211},{"$f":"BI173+AA174","v":46016},{"$f":"BJ173+AB174","v":47213},{"$f":"BK173+AC174","v":48514},{"$f":"BL173+AD174","v":50014},{"$f":"BM173+AE174","v":50672},{"$f":"BN173+AF174","v":51343},{"$f":"BO173+AG174","v":52334},53412]
["female",66,414,370,401,384,395,409,397,391,376,384,351,376,414,401,374,329,379,431,426,426,418,561,538,441,463,426,445,453,451,453,451,476,null,66,35341,35606,35975,36014,36190,36543,36913,37120,37301,37390,37465,37745,38460,39295,39841,40273,41115,41720,41978,42525,43203,43966,44918,45652,46479,47639,48959,50467,51123,51796,52785,53888]
["female",67,374,406,371,394,378,396,407,402,385,376,380,349,369,405,386,360,327,383,420,421,419,416,560,531,431,451,416,431,436,444,440,450,null,67,35715,36012,36346,36408,36568,36939,37320,37522,37686,37766,37845,38094,38829,39700,40227,40633,41442,42103,42398,42946,43622,44382,45478,46183,46910,48090,49375,50898,51559,52240,53225,54338]
["female",68,376,371,407,373,391,371,386,395,393,380,365,370,349,365,394,378,355,325,378,415,406,419,414,548,530,428,448,415,427,426,427,431,null,68,36091,36383,36753,36781,36959,37310,37706,37917,38079,38146,38210,38464,39178,40065,40621,41011,41797,42428,42776,43361,44028,44801,45892,46731,47440,48518,49823,51313,51986,52666,53652,54769]
["female",69,377,363,357,391,364,377,358,372,383,383,370,355,366,346,361,381,370,344,323,361,400,403,407,415,538,523,421,448,406,412,410,408,null,69,36468,36746,37110,37172,37323,37687,38064,38289,38462,38529,38580,38819,39544,40411,40982,41392,42167,42772,43099,43722,44428,45204,46299,47146,47978,49041,50244,51761,52392,53078,54062,55177]
["female",70,424,367,348,343,372,353,368,352,369,372,375,362,346,356,347,359,379,359,344,313,368,390,402,395,404,528,510,411,448,399,403,398,null,70,36892,37113,37458,37515,37695,38040,38432,38641,38831,38901,38955,39181,39890,40767,41329,41751,42546,43131,43443,44035,44796,45594,46701,47541,48382,49569,50754,52172,52840,53477,54465,55575]
["female",71,384,416,357,337,334,358,348,366,344,357,373,373,349,335,342,346,353,374,351,343,311,369,383,405,379,402,519,500,412,434,382,387,null,71,37276,37529,37815,37852,38029,38398,38780,39007,39175,39258,39328,39554,40239,41102,41671,42097,42899,43505,43794,44378,45107,45963,47084,47946,48761,49971,51273,52672,53252,53911,54847,55962]
["female",72,388,372,404,352,334,328,357,343,360,329,354,367,364,338,324,341,342,343,367,338,344,317,358,369,395,375,390,516,497,419,424,372,null,72,37664,37901,38219,38204,38363,38726,39137,39350,39535,39587,39682,39921,40603,41440,41995,42438,43241,43848,44161,44716,45451,46280,47442,48315,49156,50346,51663,53188,53749,54330,55271,56334]
["female",73,260,376,361,391,348,328,321,339,327,351,325,346,357,356,332,313,332,331,328,358,334,348,311,345,364,385,367,385,519,482,407,412,null,73,37924,38277,38580,38595,38711,39054,39458,39689,39862,39938,40007,40267,40960,41796,42327,42751,43573,44179,44489,45074,45785,46628,47753,48660,49520,50731,52030,53573,54268,54812,55678,56746]
["female",74,202,247,362,347,374,338,314,312,333,322,339,307,338,354,353,317,307,325,327,317,349,334,337,305,329,355,379,361,380,514,472,402,null,74,38126,38524,38942,38942,39085,39392,39772,40001,40195,40260,40346,40574,41298,42150,42680,43068,43880,44504,44816,45391,46134,46962,48090,48965,49849,51086,52409,53934,54648,55326,56150,57148]
["female",75,243,194,236,345,330,361,321,306,303,316,316,317,300,333,345,340,306,308,320,323,314,349,332,332,302,326,345,374,361,358,509,460,null,75,38369,38718,39178,39287,39415,39753,40093,40307,40498,40576,40662,40891,41598,42483,43025,43408,44186,44812,45136,45714,46448,47311,48422,49297,50151,51412,52754,54308,55009,55684,56659,57608]
["female",76,273,241,191,228,338,314,349,315,297,291,298,305,302,289,322,332,337,305,302,319,315,304,337,328,322,288,316,338,375,350,348,505,null,76,38642,38959,39369,39515,39753,40067,40442,40622,40795,40867,40960,41196,41900,42772,43347,43740,44523,45117,45438,46033,46763,47615,48759,49625,50473,51700,53070,54646,55384,56034,57007,58113]
["female",77,257,259,240,180,219,329,299,328,298,279,282,295,287,290,285,321,313,326,302,299,314,310,301,325,319,311,284,302,332,359,343,334,null,77,38899,39218,39609,39695,39972,40396,40741,40950,41093,41146,41242,41491,42187,43062,43632,44061,44836,45443,45740,46332,47077,47925,49060,49950,50792,52011,53354,54948,55716,56393,57350,58447]
["female",78,276,245,257,233,171,215,313,288,311,286,261,273,291,274,279,278,304,300,319,292,290,304,304,300,325,316,299,276,290,325,348,327,null,78,39175,39463,39866,39928,40143,40611,41054,41238,41404,41432,41503,41764,42478,43336,43911,44339,45140,45743,46059,46624,47367,48229,49364,50250,51117,52327,53653,55224,56006,56718,57698,58774]
["female",79,237,268,235,247,223,167,220,305,276,298,269,247,256,285,260,271,275,303,292,309,287,287,292,292,293,310,305,289,264,274,317,326,null,79,39412,39731,40101,40175,40366,40778,41274,41543,41680,41730,41772,42011,42734,43621,44171,44610,45415,46046,46351,46933,47654,48516,49656,50542,51410,52637,53958,55513,56270,56992,58015,59100]
["female",80,218,218,247,213,227,202,154,209,286,261,294,253,227,244,279,251,272,257,303,287,296,277,281,274,281,278,297,294,277,254,270,311,null,80,39630,39949,40348,40388,40593,40980,41428,41752,41966,41991,42066,42264,42961,43865,44450,44861,45687,46303,46654,47220,47950,48793,49937,50816,51691,52915,54255,55807,56547,57246,58285,59411]
["female",81,226,211,208,234,204,211,199,151,203,273,247,280,244,211,237,262,239,258,251,280,269,288,267,274,261,255,263,293,277,262,244,266,null,81,39856,40160,40556,40622,40797,41191,41627,41903,42169,42264,42313,42544,43205,44076,44687,45123,45926,46561,46905,47500,48219,49081,50204,51090,51952,53170,54518,56100,56824,57508,58529,59677]
["female",82,213,215,191,198,220,195,197,179,139,196,243,226,256,235,204,222,255,223,243,235,269,261,277,252,251,247,239,253,279,269,237,226,null,82,40069,40375,40747,40820,41017,41386,41824,42082,42308,42460,42556,42770,43461,44311,44891,45345,46181,46784,47148,47735,48488,49342,50481,51342,52203,53417,54757,56353,57103,57777,58766,59903]
["female",83,200,208,194,176,176,206,173,180,168,132,195,227,216,237,220,187,210,238,215,220,226,258,246,272,248,230,232,223,246,264,257,232,null,83,40269,40583,40941,40996,41193,41592,41997,42262,42476,42592,42751,42997,43677,44548,45111,45532,46391,47022,47363,47955,48714,49600,50727,51614,52451,53647,54989,56576,57349,58041,59023,60135]
["female",84,191,183,181,173,154,161,188,164,175,155,130,183,205,204,222,205,172,193,224,205,204,201,227,235,250,214,215,210,215,226,247,236,null,84,40460,40766,41122,41169,41347,41753,42185,42426,42651,42747,42881,43180,43882,44752,45333,45737,46563,47215,47587,48160,48918,49801,50954,51849,52701,53861,55204,56786,57564,58267,59270,60371]
["female",85,904,950,979,985,981,982,975,969,989,148,145,116,159,189,179,203,189,163,175,210,186,185,191,213,223,224,202,202,195,205,210,233,null,85,41364,41716,42101,42154,42328,42735,43160,43395,43640,42895,43026,43296,44041,44941,45512,45940,46752,47378,47762,48370,49104,49986,51145,52062,52924,54085,55406,56988,57759,58472,59480,60604]
["female",86,null,null,null,null,null,null,null,null,null,147,137,125,108,148,168,171,191,166,148,165,188,164,172,183,195,200,209,196,181,191,193,197,null,86,41364,41716,42101,42154,42328,42735,43160,43395,43640,43042,43163,43421,44149,45089,45680,46111,46943,47544,47910,48535,49292,50150,51317,52245,53119,54285,55615,57184,57940,58663,59673,60801]
["female",87,null,null,null,null,null,null,null,null,null,130,130,128,112,108,132,165,160,172,154,140,158,169,145,155,168,178,180,194,180,173,177,180,null,87,41364,41716,42101,42154,42328,42735,43160,43395,43640,43172,43293,43549,44261,45197,45812,46276,47103,47716,48064,48675,49450,50319,51462,52400,53287,54463,55795,57378,58120,58836,59850,60981]
["female",88,null,null,null,null,null,null,null,null,null,121,117,106,111,105,101,123,154,143,161,141,124,140,153,128,139,151,165,169,173,158,156,162,null,88,41364,41716,42101,42154,42328,42735,43160,43395,43640,43293,43410,43655,44372,45302,45913,46399,47257,47859,48225,48816,49574,50459,51615,52528,53426,54614,55960,57547,58293,58994,60006,61143]
["female",89,null,null,null,null,null,null,null,null,null,96,106,99,95,97,89,96,114,132,126,156,119,103,130,131,113,104,125,143,137,158,140,136,null,89,41364,41716,42101,42154,42328,42735,43160,43395,43640,43389,43516,43754,44467,45399,46002,46495,47371,47991,48351,48972,49693,50562,51745,52659,53539,54718,56085,57690,58430,59152,60146,61279]
["female","90+",null,null,null,null,null,null,null,null,null,406,394,387,393,367,370,372,375,390,442,445,505,498,525,532,551,549,492,510,507,526,557,547,null,"90+",41364,41716,42101,42154,42328,42735,43160,43395,43640,43795,43910,44141,44860,45766,46372,46867,47746,48381,48793,49417,50198,51060,52270,53191,54090,55267,56577,58200,58937,59678,60703,61826]
[null,"All Females",{"$f":"SUM(C109:C199)","v":41364},{"$f":"SUM(D109:D199)","v":41716},42101,42154,42328,42735,43160,43395,43640,43795,43910,44141,44860,45766,46372,46867,47746,48381,48793,49417,50198,51060,52270,53191,54090,55267,56577,{"$f":"SUM(AD109:AD199)","v":58200},{"$f":"SUM(AE109:AE199)","v":58937},{"$f":"SUM(AF109:AF199)","v":59678},{"$f":"SUM(AG109:AG199)","v":60703},{"$f":"SUM(AH109:AH199)","v":61826}]

{"sheet":"DOV","index":13,"n_rows":200,"n_cols":106,"rows_kept":200,"cut":false,"hidden":true,"merged":[[0,68,21,68]]}
["Mid Year Population Estimates",null,null,null,null,null,null,null,null,null,null,null,null,null,null,null,null,null,null,null,null,null,null,null,null,null,null,null,null,null,null,null,null,null,null,null,null,null,null,null,null,null,null,null,null,null,null,null,null,null,null,null,null,null,null,null,null,null,null,null,null,null,null,null,null,null,null,null,"Insert column here before extending the table"]
["ONS Mid-Year Population Estimates 1991 to 2022 - (1992 to 2001 Revised 7th October 2004) ( 2002 to 2010 revised in light of the 2011 census. Released 30 April 2013)",null,null,null,null,null,null,null,null,null,null,null,null,null,null,null,null,null,null,null,null,null,null,null,null,null,null,null,null,null,null,null,null,null,null,"Selected Ages:",null,{"$f":"Index!C4&\" : \"&Index!C7","v":"0 : 90"},null,null,null,null,null,null,null,null,null,null,null,null,null,null,null,null,null,null,null,null,null,null,null,null,null,null,null,null,null,null,null,null,null,null,"Start year","End Year","Number change","% Change"]
["Revised ONS Mid-Year Population Estimates 2012 to 2020- Released 23 November 2023",null,null,null,null,null,null,null,null,null,null,null,null,null,null,null,null,null,null,null,null,null,null,null,null,null,null,null,null,null,null,null,null,null,null,null,{"$f":"AK13","v":1992},{"$f":"AL13","v":1993},{"$f":"AM13","v":1994},{"$f":"AN13","v":1995},{"$f":"AO13","v":1996},{"$f":"AP13","v":1997},1998,1999,2000,2001,2002,2003,2004,2005,2006,2007,2008,2009,2010,2011,2012,2013,2014,2015,2016,2017,{"$f":"BK13","v":2018},2019,2020,2021,2022,2023,null,null,null,null,{"$f":"INDEX($AR3:$BL3,Index!$B$16)","v":1999},{"$f":"INDEX($AR3:$BM3,Index!$B$19)","v":2019}]
["2022 MYPE released 23 November 2023",null,null,null,null,null,null,null,null,null,null,null,null,null,null,null,null,null,null,null,null,null,null,null,null,null,null,null,null,null,null,null,null,null,null,"Males",{"$f":"OFFSET(AK16,Index!$B$7-1,0)-IF(Index!$B$4-2=-1,0,OFFSET(AK16,Index!$B$4-2,0))","v":50846},{"$f":"OFFSET(AL16,Index!$B$7-1,0)-IF(Index!$B$4-2=-1,0,OFFSET(AL16,Index!$B$4-2,0))","v":50520},{"$f":"OFFSET(AM16,Index!$B$7-1,0)-IF(Index!$B$4-2=-1,0,OFFSET(AM16,Index!$B$4-2,0))","v":50589},{"$f":"OFFSET(AN16,Index!$B$7-1,0)-IF(Index!$B$4-2=-1,0,OFFSET(AN16,Index!$B$4-2,0))","v":50326},{"$f":"OFFSET(AO16,Index!$B$7-1,0)-IF(Index!$B$4-2=-1,0,OFFSET(AO16,Index!$B$4-2,0))","v":49902},{"$f":"OFFSET(AP16,Index!$B$7-1,0)-IF(Index!$B$4-2=-1,0,OFFSET(AP16,Index!$B$4-2,0))","v":49551},{"$f":"OFFSET(AQ16,Index!$B$7-1,0)-IF(Index!$B$4-2=-1,0,OFFSET(AQ16,Index!$B$4-2,0))","v":49956},{"$f":"OFFSET(AR16,Index!$B$7-1,0)-IF(Index!$B$4-2=-1,0,OFFSET(AR16,Index!$B$4-2,0))","v":49911},{"$f":"OFFSET(AS16,Index!$B$7-1,0)-IF(Index!$B$4-2=-1,0,OFFSET(AS16,Index!$B$4-2,0))","v":50287},{"$f":"OFFSET(AT16,Index!$B$7-1,0)-IF(Index!$B$4-2=-1,0,OFFSET(AT16,Index!$B$4-2,0))","v":50367},{"$f":"OFFSET(AU16,Index!$B$7-1,0)-IF(Index!$B$4-2=-1,0,OFFSET(AU16,Index!$B$4-2,0))","v":50544},{"$f":"OFFSET(AV16,Index!$B$7-1,0)-IF(Index!$B$4-2=-1,0,OFFSET(AV16,Index!$B$4-2,0))","v":51021},{"$f":"OFFSET(AW16,Index!$B$7-1,0)-IF(Index!$B$4-2=-1,0,OFFSET(AW16,Index!$B$4-2,0))","v":51628},{"$f":"OFFSET(AX16,Index!$B$7-1,0)-IF(Index!$B$4-2=-1,0,OFFSET(AX16,Index!$B$4-2,0))","v":51936},{"$f":"OFFSET(AY16,Index!$B$7-1,0)-IF(Index!$B$4-2=-1,0,OFFSET(AY16,Index!$B$4-2,0))","v":52336},{"$f":"OFFSET(AZ16,Index!$B$7-1,0)-IF(Index!$B$4-2=-1,0,OFFSET(AZ16,Index!$B$4-2,0))","v":52976},{"$f":"OFFSET(BA16,Index!$B$7-1,0)-IF(Index!$B$4-2=-1,0,OFFSET(BA16,Index!$B$4-2,0))","v":53517},{"$f":"OFFSET(BB16,Index!$B$7-1,0)-IF(Index!$B$4-2=-1,0,OFFSET(BB16,Index!$B$4-2,0))","v":53704},{"$f":"OFFSET(BC16,Index!$B$7-1,0)-IF(Index!$B$4-2=-1,0,OFFSET(BC16,Index!$B$4-2,0))","v":54347},{"$f":"OFFSET(BD16,Index!$B$7-1,0)-IF(Index!$B$4-2=-1,0,OFFSET(BD16,Index!$B$4-2,0))","v":54780},{"$f":"OFFSET(BE16,Index!$B$7-1,0)-IF(Index!$B$4-2=-1,0,OFFSET(BE16,Index!$B$4-2,0))","v":54671},{"$f":"OFFSET(BF16,Index!$B$7-1,0)-IF(Index!$B$4-2=-1,0,OFFSET(BF16,Index!$B$4-2,0))","v":54818},{"$f":"OFFSET(BG16,Index!$B$7-1,0)-IF(Index!$B$4-2=-1,0,OFFSET(BG16,Index!$B$4-2,0))","v":55159},{"$f":"OFFSET(BH16,Index!$B$7-1,0)-IF(Index!$B$4-2=-1,0,OFFSET(BH16,Index!$B$4-2,0))","v":54968},{"$f":"OFFSET(BI16,Index!$B$7-1,0)-IF(Index!$B$4-2=-1,0,OFFSET(BI16,Index!$B$4-2,0))","v":55464},{"$f":"OFFSET(BJ16,Index!$B$7-1,0)-IF(Index!$B$4-2=-1,0,OFFSET(BJ16,Index!$B$4-2,0))","v":55906},{"$f":"OFFSET(BK16,Index!$B$7-1,0)-IF(Index!$B$4-2=-1,0,OFFSET(BK16,Index!$B$4-2,0))","v":56451},{"$f":"OFFSET(BL16,Index!$B$7-1,0)-IF(Index!$B$4-2=-1,0,OFFSET(BL16,Index!$B$4-2,0))","v":56677},{"$f":"OFFSET(BM16,Index!$B$7-1,0)-IF(Index!$B$4-2=-1,0,OFFSET(BM16,Index!$B$4-2,0))","v":56678},{"$f":"OFFSET(BN16,Index!$B$7-1,0)-IF(Index!$B$4-2=-1,0,OFFSET(BN16,Index!$B$4-2,0))","v":56857},{"$f":"OFFSET(BO16,Index!$B$7-1,0)-IF(Index!$B$4-2=-1,0,OFFSET(BO16,Index!$B$4-2,0))","v":57248},{"$f":"OFFSET(BP16,Index!$B$7-1,0)-IF(Index!$B$4-2=-1,0,OFFSET(BP16,Index!$B$4-2,0))","v":57702},null,null,null,null,{"$f":"INDEX($AR4:$BL4,Index!$B$16)","v":49911},{"$f":"INDEX($AR4:$BM4,Index!$B$19)","v":56677},{"$f":"BV4-BU4","v":6766},{"$f":"BW4/BU4","v":0.1355612991124201}]
[null,null,null,null,null,null,null,null,null,null,null,null,null,null,null,null,null,null,null,null,null,null,null,null,null,null,null,null,null,null,null,null,null,null,null,"Females",{"$f":"OFFSET(AK109,Index!$B$7-1,0)-IF(Index!$B$4-2=-1,0,OFFSET(AK109,Index!$B$4-2,0))","v":53760},{"$f":"OFFSET(AL109,Index!$B$7-1,0)-IF(Index!$B$4-2=-1,0,OFFSET(AL109,Index!$B$4-2,0))","v":53543},{"$f":"OFFSET(AM109,Index!$B$7-1,0)-IF(Index!$B$4-2=-1,0,OFFSET(AM109,Index!$B$4-2,0))","v":53786},{"$f":"OFFSET(AN109,Index!$B$7-1,0)-IF(Index!$B$4-2=-1,0,OFFSET(AN109,Index!$B$4-2,0))","v":53758},{"$f":"OFFSET(AO109,Index!$B$7-1,0)-IF(Index!$B$4-2=-1,0,OFFSET(AO109,Index!$B$4-2,0))","v":53669},{"$f":"OFFSET(AP109,Index!$B$7-1,0)-IF(Index!$B$4-2=-1,0,OFFSET(AP109,Index!$B$4-2,0))","v":53800},{"$f":"OFFSET(AQ109,Index!$B$7-1,0)-IF(Index!$B$4-2=-1,0,OFFSET(AQ109,Index!$B$4-2,0))","v":53730},{"$f":"OFFSET(AR109,Index!$B$7-1,0)-IF(Index!$B$4-2=-1,0,OFFSET(AR109,Index!$B$4-2,0))","v":54095},{"$f":"OFFSET(AS109,Index!$B$7-1,0)-IF(Index!$B$4-2=-1,0,OFFSET(AS109,Index!$B$4-2,0))","v":54191},{"$f":"OFFSET(AT109,Index!$B$7-1,0)-IF(Index!$B$4-2=-1,0,OFFSET(AT109,Index!$B$4-2,0))","v":54279},{"$f":"OFFSET(AU109,Index!$B$7-1,0)-IF(Index!$B$4-2=-1,0,OFFSET(AU109,Index!$B$4-2,0))","v":54339},{"$f":"OFFSET(AV109,Index!$B$7-1,0)-IF(Index!$B$4-2=-1,0,OFFSET(AV109,Index!$B$4-2,0))","v":54763},{"$f":"OFFSET(AW109,Index!$B$7-1,0)-IF(Index!$B$4-2=-1,0,OFFSET(AW109,Index!$B$4-2,0))","v":55250},{"$f":"OFFSET(AX109,Index!$B$7-1,0)-IF(Index!$B$4-2=-1,0,OFFSET(AX109,Index!$B$4-2,0))","v":55539},{"$f":"OFFSET(AY109,Index!$B$7-1,0)-IF(Index!$B$4-2=-1,0,OFFSET(AY109,Index!$B$4-2,0))","v":55568},{"$f":"OFFSET(AZ109,Index!$B$7-1,0)-IF(Index!$B$4-2=-1,0,OFFSET(AZ109,Index!$B$4-2,0))","v":56065},{"$f":"OFFSET(BA109,Index!$B$7-1,0)-IF(Index!$B$4-2=-1,0,OFFSET(BA109,Index!$B$4-2,0))","v":56331},{"$f":"OFFSET(BB109,Index!$B$7-1,0)-IF(Index!$B$4-2=-1,0,OFFSET(BB109,Index!$B$4-2,0))","v":56357},{"$f":"OFFSET(BC109,Index!$B$7-1,0)-IF(Index!$B$4-2=-1,0,OFFSET(BC109,Index!$B$4-2,0))","v":56725},{"$f":"OFFSET(BD109,Index!$B$7-1,0)-IF(Index!$B$4-2=-1,0,OFFSET(BD109,Index!$B$4-2,0))","v":56938},{"$f":"OFFSET(BE109,Index!$B$7-1,0)-IF(Index!$B$4-2=-1,0,OFFSET(BE109,Index!$B$4-2,0))","v":56858},{"$f":"OFFSET(BF109,Index!$B$7-1,0)-IF(Index!$B$4-2=-1,0,OFFSET(BF109,Index!$B$4-2,0))","v":57161},{"$f":"OFFSET(BG109,Index!$B$7-1,0)-IF(Index!$B$4-2=-1,0,OFFSET(BG109,Index!$B$4-2,0))","v":57382},{"$f":"OFFSET(BH109,Index!$B$7-1,0)-IF(Index!$B$4-2=-1,0,OFFSET(BH109,Index!$B$4-2,0))","v":57496},{"$f":"OFFSET(BI109,Index!$B$7-1,0)-IF(Index!$B$4-2=-1,0,OFFSET(BI109,Index!$B$4-2,0))","v":57901},{"$f":"OFFSET(BJ109,Index!$B$7-1,0)-IF(Index!$B$4-2=-1,0,OFFSET(BJ109,Index!$B$4-2,0))","v":58429},{"$f":"OFFSET(BK109,Index!$B$7-1,0)-IF(Index!$B$4-2=-1,0,OFFSET(BK109,Index!$B$4-2,0))","v":58697},{"$f":"OFFSET(BL109,Index!$B$7-1,0)-IF(Index!$B$4-2=-1,0,OFFSET(BL109,Index!$B$4-2,0))","v":59225},{"$f":"OFFSET(BM109,Index!$B$7-1,0)-IF(Index!$B$4-2=-1,0,OFFSET(BM109,Index!$B$4-2,0))","v":59456},{"$f":"OFFSET(BN109,Index!$B$7-1,0)-IF(Index!$B$4-2=-1,0,OFFSET(BN109,Index!$B$4-2,0))","v":59692},{"$f":"OFFSET(BO109,Index!$B$7-1,0)-IF(Index!$B$4-2=-1,0,OFFSET(BO109,Index!$B$4-2,0))","v":60298},{"$f":"OFFSET(BP109,Index!$B$7-1,0)-IF(Index!$B$4-2=-1,0,OFFSET(BP109,Index!$B$4-2,0))","v":60889},null,null,null,null,{"$f":"INDEX($AR5:$BL5,Index!$B$16)","v":54095},{"$f":"INDEX($AR5:$BM5,Index!$B$19)","v":59225},{"$f":"BV5-BU5","v":5130},{"$f":"BW5/BU5","v":9.4833163878362145E-2}]
[null,null,null,null,null,null,null,null,null,null,null,null,null,null,null,null,null,null,null,null,null,null,null,null,null,null,null,null,null,null,null,null,null,null,null,"Total",{"$f":"SUM(AK4:AK5)","v":104606},{"$f":"SUM(AL4:AL5)","v":104063},{"$f":"SUM(AM4:AM5)","v":104375},{"$f":"SUM(AN4:AN5)","v":104084},{"$f":"SUM(AO4:AO5)","v":103571},{"$f":"SUM(AP4:AP5)","v":103351},103686,104006,104478,104646,104883,105784,106878,107475,107904,109041,109848,110061,111072,111718,111529,111979,112541,112464,113365,114335,115148,115902,116134,116549,117546,118591,null,null,null,null,{"$f":"INDEX($AR6:$BL6,Index!$B$16)","v":104006},{"$f":"INDEX($AR6:$BM6,Index!$B$19)","v":115902},{"$f":"BV6-BU6","v":11896},{"$f":"BW6/BU6","v":0.11437801665288541}]
[]
[null,null,null,null,null,null,null,null,null,null,null,null,null,null,null,null,null,null,null,null,null,null,null,null,null,null,null,null,null,null,null,null,null,null,null,"Males",{"$f":"IF(AK4<0,\"0\",AK4)","v":50846},{"$f":"IF(AL4<0,\"0\",AL4)","v":50520},50589,50326,49902,49551,49956,49911,50287,50367,50544,51021,51628,51936,52336,52976,53517,53704,54347,54780,54671,54818,55159,54968,55464,55906,{"$f":"IF(BK4<0,\"0\",BK4)","v":56451},56677,56678,{"$f":"IF(BN4<0,\"0\",BN4)","v":56857},57248,{"$f":"IF(BP4<0,\"0\",BP4)","v":57702}]
[null,null,null,null,null,null,null,null,null,null,null,null,null,null,null,null,null,null,null,null,null,null,null,null,null,null,null,null,null,null,null,null,null,null,null,"Females",{"$f":"IF(AK5<0,\"0\",AK5)","v":53760},53543,53786,53758,53669,53800,53730,54095,54191,54279,54339,54763,55250,55539,55568,56065,56331,56357,56725,56938,56858,57161,57382,57496,57901,58429,58697,59225,59456,{"$f":"IF(BN5<0,\"0\",BN5)","v":59692},60298,{"$f":"IF(BP5<0,\"0\",BP5)","v":60889}]
[null,null,null,null,null,null,null,null,null,null,null,null,null,null,null,null,null,null,null,null,null,null,null,null,null,null,null,null,null,null,null,null,null,null,null,"Total",{"$f":"SUM(AK8:AK9)","v":104606},{"$f":"SUM(AL8:AL9)","v":104063},104375,104084,103571,103351,103686,104006,104478,104646,104883,105784,106878,107475,107904,109041,109848,110061,111072,111718,111529,111979,112541,112464,113365,114335,{"$f":"SUM(BK8:BK9)","v":115148},115902,116134,116549,117546,118591]
[]
[null,null,null,"MYE for  . . . . . .",null,null,null,"Dover",null,null,null,null,null,null,null,null,null,null,null,null,null,null,null,null,null,null,null,null,null,null,null,null,null,null,null,null,null,null,null,null,"Cummulative Ages",null,null,null,null,null,null,null,null,null,null,null,null,null,null,null,null,null,null,null,null,null,null,null,null,null,null,null,null,"Population Pyramid"]
[null,null,"Base Year",null,null,null,null,null,null,null,null,null,null,null,null,null,null,null,null,null,null,null,null,null,null,null,null,null,null,null,null,null,null,null,null,null,{"$f":"C14","v":1992},1993,1994,1995,1996,1997,1998,1999,2000,2001,2002,2003,2004,2005,2006,2007,2008,2009,2010,2011,2012,2013,2014,2015,2016,2017,2018,2019,2020,2021,2022,2023]
["Sex","Age",1992,1993,1994,1995,1996,1997,1998,1999,2000,2001,2002,2003,2004,2005,2006,2007,2008,2009,2010,2011,2012,2013,2014,2015,2016,2017,2018,2019,2020,2021,2022,2023,null,null,null,null,null,null,null,null,null,null,null,null,null,null,null,null,null,null,null,null,null,null,null,null,null,null,null,null,null,null,null,null,null,null,null,null,null,null,1992,1993,1994,1995,1996,1997,1998,1999,2000,2001,2002,2003,2004,2005,2006,2007,2008,2009,2010,2011,2012,2013,2014,2015,2016,2017,2018,2019,2020,2021,2022,2023,null,{"$f":"INDEX(CC14:CY14,'Population Pyramid'!$L$1)","v":2020}]
[null,"All persons",{"$f":"SUM(C107,C200)","v":104606},{"$f":"SUM(D107,D200)","v":104063},104375,104084,103571,103351,103686,104006,104478,104646,104883,105784,106878,107475,107904,109041,109848,110061,111072,111718,111529,111979,{"$f":"SUM(Y107,Y200)","v":112541},112464,113365,114335,115148,115902,{"$f":"SUM(AE107,AE200)","v":116134},116549,{"$f":"SUM(AG107,AG200)","v":117546},118591,null,"Males",null,null,null,null,null,null,null,null,null,null,null,null,null,null,null,null,null,null,null,null,null,null,null,null,null,null,null,null,null,null,null,null,null,"Males","All Ages",null,{"$f":"C107","v":50846},50520,50589,50326,49902,49551,49956,49911,50287,50367,50544,51021,51628,51936,52336,52976,53517,53704,54347,54780,54671,54818,55159,54968,55464,55906,56451,56677,56678,56857,57248,57702,null,{"$f":"INDEX(CC15:CY15,'Population Pyramid'!$L$1)","v":56678}]
["male",0,704,691,686,634,596,640,635,589,560,512,549,533,560,555,596,567,594,651,629,657,617,646,557,577,573,558,577,516,563,541,523,543,null,0,{"$f":"C16","v":704},691,686,634,596,640,635,589,560,512,549,533,560,555,596,567,594,651,629,657,617,646,557,577,573,558,577,516,563,541,523,543,null,"Males","0-4",null,{"$f":"SUM(C16:C20)","v":3463},3447,3479,3436,3359,3309,3261,3157,3082,2978,2877,2815,2796,2818,2857,2883,2926,3033,3146,3200,3214,3258,3170,3115,3082,3108,3049,2999,2960,2911,2910,2899,null,{"$f":"INDEX(CC16:CY16,'Population Pyramid'!$L$1)","v":2960}]
["male",1,707,715,698,694,647,613,653,647,595,555,519,565,558,566,546,600,594,594,670,625,682,622,649,577,603,608,570,606,541,590,561,534,null,1,{"$f":"AK16+C17","v":1411},{"$f":"AL16+D17","v":1406},{"$f":"AM16+E17","v":1384},{"$f":"AN16+F17","v":1328},{"$f":"AO16+G17","v":1243},{"$f":"AP16+H17","v":1253},{"$f":"AQ16+I17","v":1288},{"$f":"AR16+J17","v":1236},{"$f":"AS16+K17","v":1155},{"$f":"AT16+L17","v":1067},{"$f":"AU16+M17","v":1068},{"$f":"AV16+N17","v":1098},{"$f":"AW16+O17","v":1118},{"$f":"AX16+P17","v":1121},{"$f":"AY16+Q17","v":1142},{"$f":"AZ16+R17","v":1167},{"$f":"BA16+S17","v":1188},{"$f":"BB16+T17","v":1245},{"$f":"BC16+U17","v":1299},{"$f":"BD16+V17","v":1282},{"$f":"BE16+W17","v":1299},{"$f":"BF16+X17","v":1268},{"$f":"BG16+Y17","v":1206},{"$f":"BH16+Z17","v":1154},{"$f":"BI16+AA17","v":1176},{"$f":"BJ16+AB17","v":1166},{"$f":"BK16+AC17","v":1147},{"$f":"BL16+AD17","v":1122},{"$f":"BM16+AE17","v":1104},{"$f":"BN16+AF17","v":1131},{"$f":"BO16+AG17","v":1084},1077,null,"Males","5-9",null,{"$f":"SUM(C21:C25)","v":3212},3268,3322,3379,3435,3508,3511,3538,3485,3387,3323,3336,3302,3260,3157,3074,2983,2920,2906,2987,2988,3041,3156,3212,3216,3242,3414,3403,3351,3338,3327,3322,null,{"$f":"INDEX(CC17:CY17,'Population Pyramid'!$L$1)","v":3351}]
["male",2,671,692,712,691,695,645,605,652,644,620,546,528,569,566,561,553,609,602,607,680,640,670,637,644,616,623,630,588,608,550,622,586,null,2,2082,2098,2096,2019,1938,1898,1893,1888,1799,1687,1614,1626,1687,1687,1703,1720,1797,1847,1906,1962,1939,1938,1843,1798,1792,1789,1777,1710,1712,1681,1706,1663,null,"Males","10-14",null,{"$f":"SUM(C26:C30)","v":3329},3387,3479,3425,3397,3406,3503,3600,3651,3661,3717,3726,3750,3656,3624,3649,3670,3605,3504,3335,3199,3076,3086,3112,3246,3265,3247,3330,3380,3475,3547,3710,null,{"$f":"INDEX(CC18:CY18,'Population Pyramid'!$L$1)","v":3380}]
["male",3,671,673,696,716,694,706,646,624,646,639,620,566,533,589,576,582,555,614,621,612,673,642,677,633,665,635,632,642,600,606,561,634,null,3,2753,2771,2792,2735,2632,2604,2539,2512,2445,2326,2234,2192,2220,2276,2279,2302,2352,2461,2527,2574,2612,2580,2520,2431,2457,2424,2409,2352,2312,2287,2267,2297,null,"Males","15-19",null,{"$f":"SUM(C31:C35)","v":3474},3356,3254,3240,3242,3348,3503,3412,3432,3380,3434,3513,3633,3644,3600,3722,3684,3615,3605,3698,3633,3609,3529,3312,3220,3152,3094,3139,3118,3156,3141,3192,null,{"$f":"INDEX(CC19:CY19,'Population Pyramid'!$L$1)","v":3118}]
["male",4,710,676,687,701,727,705,722,645,637,652,643,623,576,542,578,581,574,572,619,626,602,678,650,684,625,684,640,647,648,624,643,602,null,4,3463,3447,3479,3436,3359,3309,3261,3157,3082,2978,2877,2815,2796,2818,2857,2883,2926,3033,3146,3200,3214,3258,3170,3115,3082,3108,3049,2999,2960,2911,2910,2899,null,"Males","20-24",null,{"$f":"SUM(C36:C40)","v":3440},3244,3055,2804,2553,2269,2263,2210,2464,2648,2657,2702,2752,2739,2764,2832,2935,2934,2972,2969,2973,2970,3041,2981,2959,2929,2875,2793,2829,2732,2640,2500,null,{"$f":"INDEX(CC20:CY20,'Population Pyramid'!$L$1)","v":2829}]
["male",5,648,706,678,691,701,732,705,709,626,626,651,647,629,579,555,588,592,572,583,624,613,609,686,646,678,633,704,647,648,658,636,653,null,5,4111,4153,4157,4127,4060,4041,3966,3866,3708,3604,3528,3462,3425,3397,3412,3471,3518,3605,3729,3824,3827,3867,3856,3761,3760,3741,3753,3646,3608,3569,3546,3552,null,"Males","25-29",null,{"$f":"SUM(C41:C45)","v":3650},3429,3382,3290,3121,2999,2974,2814,2629,2509,2421,2483,2520,2631,2769,2815,2887,2864,2944,2949,2972,2988,3018,3001,3048,3139,3188,3148,3147,3124,3081,3104,null,{"$f":"INDEX(CC21:CY21,'Population Pyramid'!$L$1)","v":3147}]
["male",6,660,647,704,679,694,701,730,704,702,627,654,670,670,629,595,553,604,597,569,579,631,624,605,672,647,689,658,698,644,650,653,660,null,6,4771,4800,4861,4806,4754,4742,4696,4570,4410,4231,4182,4132,4095,4026,4007,4024,4122,4202,4298,4403,4458,4491,4461,4433,4407,4430,4411,4344,4252,4219,4199,4212,null,"Males","30-34",null,{"$f":"SUM(C46:C50)","v":3614},3664,3665,3678,3678,3573,3526,3379,3287,3139,3028,2942,2887,2792,2697,2656,2685,2705,2800,2884,2828,2853,2880,2881,2913,3037,3236,3329,3324,3342,3387,3338,null,{"$f":"INDEX(CC22:CY22,'Population Pyramid'!$L$1)","v":3324}]
["male",7,629,650,658,701,680,699,695,734,696,692,621,668,683,680,635,596,557,602,588,581,572,641,630,618,659,652,696,662,692,652,645,672,null,7,5400,5450,5519,5507,5434,5441,5391,5304,5106,4923,4803,4800,4778,4706,4642,4620,4679,4804,4886,4984,5030,5132,5091,5051,5066,5082,5107,5006,4944,4871,4844,4884,null,"Males","35-39",null,{"$f":"SUM(C51:C55)","v":3393},3397,3477,3498,3509,3374,3481,3564,3728,3736,3765,3724,3692,3611,3529,3488,3416,3314,3182,3030,2886,2834,2829,2840,2923,2991,3075,3114,3182,3226,3366,3550,null,{"$f":"INDEX(CC23:CY23,'Population Pyramid'!$L$1)","v":3182}]
["male",8,634,628,645,662,694,678,699,699,751,693,706,634,675,682,684,633,594,556,607,585,578,574,656,624,601,667,676,707,664,707,668,644,null,8,6034,6078,6164,6169,6128,6119,6090,6003,5857,5616,5509,5434,5453,5388,5326,5253,5273,5360,5493,5569,5608,5706,5747,5675,5667,5749,5783,5713,5608,5578,5512,5528,null,"Males","40-44",null,{"$f":"SUM(C56:C60)","v":3539},3351,3280,3233,3209,3243,3317,3351,3462,3593,3631,3693,3762,3926,4024,4090,4021,4026,3916,3882,3704,3584,3399,3249,3108,2988,2994,3015,3027,3102,3191,3256,null,{"$f":"INDEX(CC24:CY24,'Population Pyramid'!$L$1)","v":3027}]
["male",9,641,637,637,646,666,698,682,692,710,749,691,717,645,690,688,704,636,593,559,618,594,593,579,652,631,601,680,689,703,671,725,693,null,9,6675,6715,6801,6815,6794,6817,6772,6695,6567,6365,6200,6151,6098,6078,6014,5957,5909,5953,6052,6187,6202,6299,6326,6327,6298,6350,6463,6402,6311,6249,6237,6221,null,"Males","45-49",null,{"$f":"SUM(C61:C65)","v":3714},3883,3920,3851,3733,3479,3341,3280,3279,3301,3413,3541,3621,3692,3797,3812,3875,3898,4098,4200,4236,4151,4120,3924,3888,3755,3652,3496,3344,3202,3099,3065,null,{"$f":"INDEX(CC25:CY25,'Population Pyramid'!$L$1)","v":3344}]
["male",10,638,639,637,640,632,662,688,691,689,701,744,710,720,646,699,706,700,641,590,562,608,596,596,593,653,632,608,687,688,705,673,739,null,10,7313,7354,7438,7455,7426,7479,7460,7386,7256,7066,6944,6861,6818,6724,6713,6663,6609,6594,6642,6749,6810,6895,6922,6920,6951,6982,7071,7089,6999,6954,6910,6960,null,"Males","50-54",null,{"$f":"SUM(C66:C70)","v":2910},2926,3023,3168,3381,3668,3816,3881,3832,3740,3571,3405,3382,3407,3449,3566,3673,3727,3765,3823,3837,3882,3892,4124,4228,4320,4233,4186,3950,3920,3788,3691,null,{"$f":"INDEX(CC26:CY26,'Population Pyramid'!$L$1)","v":3950}]
["male",11,643,642,648,639,642,638,696,715,705,686,704,745,732,726,648,730,725,711,631,601,571,605,606,617,611,655,630,620,707,702,715,690,null,11,7956,7996,8086,8094,8068,8117,8156,8101,7961,7752,7648,7606,7550,7450,7361,7393,7334,7305,7273,7350,7381,7500,7528,7537,7562,7637,7701,7709,7706,7656,7625,7650,null,"Males","55-59",null,{"$f":"SUM(C71:C75)","v":2685},2720,2812,2851,2844,2894,2925,3032,3151,3383,3637,3840,3946,3919,3881,3681,3544,3509,3556,3597,3694,3715,3799,3805,3910,3956,4054,4054,4263,4341,4421,4368,null,{"$f":"INDEX(CC27:CY27,'Population Pyramid'!$L$1)","v":4263}]
["male",12,735,713,723,704,679,685,692,754,774,757,723,756,769,759,749,691,767,749,727,659,602,595,627,634,661,638,678,679,643,750,737,763,null,12,8691,8709,8809,8798,8747,8802,8848,8855,8735,8509,8371,8362,8319,8209,8110,8084,8101,8054,8000,8009,7983,8095,8155,8171,8223,8275,8379,8388,8349,8406,8362,8413,null,"Males","60-64",null,{"$f":"SUM(C76:C80)","v":2585},2619,2601,2607,2564,2556,2609,2740,2786,2797,2839,2924,3063,3209,3429,3741,3970,4056,4061,3978,3686,3592,3593,3637,3651,3772,3823,3899,3894,3945,4031,4168,null,{"$f":"INDEX(CC28:CY28,'Population Pyramid'!$L$1)","v":3894}]
["male",13,658,728,727,717,715,691,715,732,753,764,771,743,770,763,751,771,706,782,760,739,668,617,616,643,650,678,647,688,680,649,762,747,null,13,9349,9437,9536,9515,9462,9493,9563,9587,9488,9273,9142,9105,9089,8972,8861,8855,8807,8836,8760,8748,8651,8712,8771,8814,8873,8953,9026,9076,9029,9055,9124,9160,null,"Males","65-69",null,{"$f":"SUM(C81:C85)","v":2451},2368,2360,2327,2378,2393,2396,2395,2430,2455,2514,2578,2666,2698,2725,2784,2868,3009,3232,3447,3781,3987,4073,4020,3994,3719,3590,3551,3571,3608,3756,3749,null,{"$f":"INDEX(CC29:CY29,'Population Pyramid'!$L$1)","v":3571}]
["male",14,655,665,744,725,729,730,712,708,730,753,775,772,759,762,777,751,772,722,796,774,750,663,641,625,671,662,684,656,662,669,660,771,null,14,10004,10102,10280,10240,10191,10223,10275,10295,10218,10026,9917,9877,9848,9734,9638,9606,9579,9558,9556,9522,9401,9375,9412,9439,9544,9615,9710,9732,9691,9724,9784,9931,null,"Males","70-74",null,{"$f":"SUM(C86:C90)","v":2286},2333,2402,2286,2146,2099,2046,2038,2053,2119,2171,2240,2201,2205,2240,2289,2379,2488,2519,2533,2642,2711,2893,3053,3220,3521,3708,3767,3757,3664,3401,3362,null,{"$f":"INDEX(CC30:CY30,'Population Pyramid'!$L$1)","v":3757}]
["male",15,647,660,669,735,728,734,737,702,726,743,743,783,767,772,763,774,765,778,740,816,768,764,675,635,630,684,672,681,644,683,694,697,null,15,10651,10762,10949,10975,10919,10957,11012,10997,10944,10769,10660,10660,10615,10506,10401,10380,10344,10336,10296,10338,10169,10139,10087,10074,10174,10299,10382,10413,10335,10407,10478,10628,null,"Males","75-79",null,{"$f":"SUM(C91:C95)","v":1550},1504,1450,1579,1695,1757,1812,1838,1741,1660,1616,1622,1654,1708,1754,1803,1841,1796,1852,1893,1970,2047,2155,2164,2227,2299,2385,2509,2628,2765,3063,3232,null,{"$f":"INDEX(CC31:CY31,'Population Pyramid'!$L$1)","v":2628}]
["male",16,701,636,638,659,724,714,694,698,691,725,745,731,776,760,774,765,763,750,779,747,808,757,759,662,644,625,686,677,683,651,684,694,null,16,11352,11398,11587,11634,11643,11671,11706,11695,11635,11494,11405,11391,11391,11266,11175,11145,11107,11086,11075,11085,10977,10896,10846,10736,10818,10924,11068,11090,11018,11058,11162,11322,null,"Males","80-84",null,{"$f":"SUM(C96:C100)","v":985},1015,994,1016,968,954,916,913,1044,1155,1206,1236,1259,1201,1182,1191,1194,1231,1286,1351,1374,1384,1398,1448,1493,1527,1606,1690,1691,1703,1763,1806,null,{"$f":"INDEX(CC32:CY32,'Population Pyramid'!$L$1)","v":1691}]
["male",17,726,724,646,637,648,714,731,659,671,688,709,736,730,753,763,783,739,745,746,787,722,781,763,737,664,639,612,663,662,670,639,685,null,17,12078,12122,12233,12271,12291,12385,12437,12354,12306,12182,12114,12127,12121,12019,11938,11928,11846,11831,11821,11872,11699,11677,11609,11473,11482,11563,11680,11753,11680,11728,11801,12007,null,"Males","85+",null,{"$f":"SUM(C101:C106)","v":566},609,634,658,690,722,756,769,751,726,724,701,742,820,858,900,966,974,1003,1024,1054,1136,1128,1090,1138,1186,1228,1255,1262,1303,1336,1390,null,{"$f":"INDEX(CC33:CY33,'Population Pyramid'!$L$1)","v":1262}]
["male",18,730,671,685,607,612,650,684,678,636,644,696,700,758,728,743,764,780,709,724,735,759,684,742,713,697,623,618,589,642,631,640,620,null,18,12808,12793,12918,12878,12903,13035,13121,13032,12942,12826,12810,12827,12879,12747,12681,12692,12626,12540,12545,12607,12458,12361,12351,12186,12179,12186,12298,12342,12322,12359,12441,12627]
["male",19,670,665,616,602,530,536,657,675,708,580,541,563,602,631,557,636,637,633,616,613,576,623,590,565,585,581,506,529,487,521,484,496,null,19,13478,13458,13534,13480,13433,13571,13778,13707,13650,13406,13351,13390,13481,13378,13238,13328,13263,13173,13161,13220,13034,12984,12941,12751,12764,12767,12804,12871,12809,12880,12925,13123,null,"Males","All Ages",null,{"$f":"C200","v":53760},53543,53786,53758,53669,53800,53730,54095,54191,54279,54339,54763,55250,55539,55568,56065,56331,56357,56725,56938,56858,57161,57382,57496,57901,58429,58697,59225,59456,59692,60298,60889,null,{"$f":"INDEX(CC35:CY35,'Population Pyramid'!$L$1)","v":59456}]
["male",20,678,592,549,485,450,372,451,518,574,631,499,495,526,528,578,532,590,573,574,551,564,559,607,535,536,527,562,489,493,491,498,460,null,20,14156,14050,14083,13965,13883,13943,14229,14225,14224,14037,13850,13885,14007,13906,13816,13860,13853,13746,13735,13771,13598,13543,13548,13286,13300,13294,13366,13360,13302,13371,13423,13583,null,"Females","0-4",null,{"$f":"SUM(C109:C113)","v":3313},3314,3351,3320,3215,3121,3011,2957,2926,2821,2796,2720,2710,2701,2764,2863,2965,2988,3025,3039,2999,2942,2932,2969,2968,2880,2826,2799,2778,2707,2757,2743,null,{"$f":"INDEX(CC36:CY36,'Population Pyramid'!$L$1)","v":2778}]
["male",21,656,618,494,476,405,377,371,429,518,541,600,510,505,528,536,588,548,586,577,576,557,578,593,602,540,560,532,564,529,501,462,493,null,21,14812,14668,14577,14441,14288,14320,14600,14654,14742,14578,14450,14395,14512,14434,14352,14448,14401,14332,14312,14347,14155,14121,14141,13888,13840,13854,13898,13924,13831,13872,13885,14076,null,"Females","5-9",null,{"$f":"SUM(C114:C118)","v":3131},3135,3193,3200,3231,3298,3322,3395,3348,3291,3208,3187,3129,3104,2994,2956,2882,2828,2861,2901,3002,3104,3122,3098,3083,3158,3108,3130,3152,3154,3159,3145,null,{"$f":"INDEX(CC37:CY37,'Population Pyramid'!$L$1)","v":3152}]
["male",22,685,634,583,516,499,431,432,411,435,510,534,603,525,527,573,563,604,571,613,628,598,577,609,612,594,564,565,584,581,549,509,479,null,22,15497,15302,15160,14957,14787,14751,15032,15065,15177,15088,14984,14998,15037,14961,14925,15011,15005,14903,14925,14975,14753,14698,14750,14500,14434,14418,14463,14508,14412,14421,14394,14555,null,"Females","10-14",null,{"$f":"SUM(C119:C123)","v":3108},3126,3147,3167,3194,3231,3262,3318,3424,3518,3586,3581,3612,3602,3493,3417,3370,3323,3293,3223,3132,3086,3019,3029,3070,3107,3216,3276,3265,3331,3476,3453,null,{"$f":"INDEX(CC38:CY38,'Population Pyramid'!$L$1)","v":3265}]
["male",23,757,722,710,663,590,550,480,414,474,492,529,577,621,537,550,591,604,618,590,632,636,620,615,634,631,637,594,582,618,603,560,515,null,23,16254,16024,15870,15620,15377,15301,15512,15479,15651,15580,15513,15575,15658,15498,15475,15602,15609,15521,15515,15607,15389,15318,15365,15134,15065,15055,15057,15090,15030,15024,14954,15070,null,"Females","15-19",null,{"$f":"SUM(C124:C128)","v":2889},2815,2795,2846,2868,2907,2988,3109,3028,3072,3109,3265,3413,3439,3448,3563,3517,3537,3481,3395,3322,3279,3259,3172,3117,3091,3019,2967,2962,2898,2880,3073,null,{"$f":"INDEX(CC39:CY39,'Population Pyramid'!$L$1)","v":2962}]
["male",24,664,678,719,664,609,539,529,438,463,474,495,517,575,619,527,558,589,586,618,582,618,636,617,598,658,641,622,574,608,588,611,553,null,24,16918,16702,16589,16284,15986,15840,16041,15917,16114,16054,16008,16092,16233,16117,16002,16160,16198,16107,16133,16189,16007,15954,15982,15732,15723,15696,15679,15664,15638,15612,15565,15623,null,"Females","20-24",null,{"$f":"SUM(C129:C133)","v":3211},2990,2869,2699,2511,2420,2323,2339,2457,2497,2459,2504,2491,2558,2576,2575,2738,2684,2769,2860,2919,3029,3033,2983,2873,2791,2727,2716,2642,2671,2525,2328,null,{"$f":"INDEX(CC40:CY40,'Population Pyramid'!$L$1)","v":2642}]
["male",25,699,607,663,681,635,585,551,505,436,492,481,517,535,594,631,541,591,581,609,652,584,620,634,590,595,663,635,624,599,598,576,623,null,25,17617,17309,17252,16965,16621,16425,16592,16422,16550,16546,16489,16609,16768,16711,16633,16701,16789,16688,16742,16841,16591,16574,16616,16322,16318,16359,16314,16288,16237,16210,16141,16246,null,"Females","25-29",null,{"$f":"SUM(C134:C138)","v":3664},3605,3601,3556,3501,3458,3289,3121,2952,2787,2628,2567,2580,2681,2706,2833,2848,2903,2919,2943,2885,2910,2927,2964,3070,3251,3397,3457,3438,3345,3240,3198,null,{"$f":"INDEX(CC41:CY41,'Population Pyramid'!$L$1)","v":3438}]
["male",26,772,695,644,667,668,585,571,528,521,446,472,480,510,506,568,627,536,578,590,593,637,594,594,631,603,607,658,631,615,592,604,608,null,26,18389,18004,17896,17632,17289,17010,17163,16950,17071,16992,16961,17089,17278,17217,17201,17328,17325,17266,17332,17434,17228,17168,17210,16953,16921,16966,16972,16919,16852,16802,16745,16854,null,"Females","30-34",null,{"$f":"SUM(C139:C143)","v":3605},3615,3701,3705,3747,3729,3686,3672,3598,3518,3427,3359,3305,3154,3028,2916,2782,2775,2848,2868,2906,2980,3064,3052,3080,3192,3223,3331,3458,3561,3742,3815,null,{"$f":"INDEX(CC42:CY42,'Population Pyramid'!$L$1)","v":3458}]
["male",27,733,714,640,584,604,631,604,576,523,498,463,482,503,518,529,571,624,518,588,585,589,629,591,581,650,589,629,669,615,630,605,591,null,27,19122,18718,18536,18216,17893,17641,17767,17526,17594,17490,17424,17571,17781,17735,17730,17899,17949,17784,17920,18019,17817,17797,17801,17534,17571,17555,17601,17588,17467,17432,17350,17445,null,"Females","35-39",null,{"$f":"SUM(C144:C148)","v":3392},3400,3474,3500,3539,3637,3685,3802,3882,3951,3949,3975,3938,3876,3802,3723,3631,3515,3368,3205,3014,2871,2889,2961,3029,3154,3246,3320,3308,3373,3478,3575,null,{"$f":"INDEX(CC43:CY43,'Population Pyramid'!$L$1)","v":3308}]
["male",28,711,702,708,623,575,596,633,582,563,506,505,477,479,511,513,542,570,616,525,600,564,584,626,573,600,657,588,641,661,634,653,622,null,28,19833,19420,19244,18839,18468,18237,18400,18108,18157,17996,17929,18048,18260,18246,18243,18441,18519,18400,18445,18619,18381,18381,18427,18107,18171,18212,18189,18229,18128,18066,18003,18067,null,"Females","40-44",null,{"$f":"SUM(C149:C153)","v":3635},3484,3399,3406,3405,3489,3553,3566,3618,3666,3811,3921,4001,4099,4198,4169,4148,4041,3980,3922,3803,3714,3624,3496,3320,3174,3059,3064,3196,3288,3353,3491,null,{"$f":"INDEX(CC44:CY44,'Population Pyramid'!$L$1)","v":3196}]
["male",29,735,711,727,735,639,602,615,623,586,567,500,527,493,502,528,534,566,571,632,519,598,561,573,626,600,623,678,583,657,670,643,660,null,29,20568,20131,19971,19574,19107,18839,19015,18731,18743,18563,18429,18575,18753,18748,18771,18975,19085,18971,19077,19138,18979,18942,19000,18733,18771,18835,18867,18812,18785,18736,18646,18727,null,"Females","45-49",null,{"$f":"SUM(C154:C158)","v":3581},3801,3863,3853,3819,3601,3435,3442,3451,3466,3531,3596,3737,3782,3831,3986,4060,4127,4198,4277,4203,4215,4120,4010,3981,3955,3878,3808,3654,3471,3359,3280,null,{"$f":"INDEX(CC45:CY45,'Population Pyramid'!$L$1)","v":3654}]
["male",30,672,745,744,741,745,632,615,580,636,601,568,497,524,485,487,534,543,559,568,617,504,608,562,556,626,628,666,673,605,660,668,635,null,30,21240,20876,20715,20315,19852,19471,19630,19311,19379,19164,18997,19072,19277,19233,19258,19509,19628,19530,19645,19755,19483,19550,19562,19289,19397,19463,19533,19485,19390,19396,19314,19362,null,"Females","50-54",null,{"$f":"SUM(C159:C163)","v":2747},2769,2914,3076,3273,3571,3784,3913,3936,3935,3709,3565,3530,3562,3549,3637,3714,3835,3848,3930,4065,4134,4184,4257,4364,4359,4369,4283,4190,4138,4126,4094,null,{"$f":"INDEX(CC46:CY46,'Population Pyramid'!$L$1)","v":4190}]
["male",31,712,672,761,739,735,741,639,620,581,622,606,562,498,536,494,494,548,542,572,565,613,516,610,567,564,639,669,674,684,598,681,673,null,31,21952,21548,21476,21054,20587,20212,20269,19931,19960,19786,19603,19634,19775,19769,19752,20003,20176,20072,20217,20320,20096,20066,20172,19856,19961,20102,20202,20159,20074,19994,19995,20035,null,"Females","55-59",null,{"$f":"SUM(C164:C168)","v":2749},2746,2806,2815,2777,2781,2810,2940,3111,3349,3704,3959,4043,4083,4082,3881,3697,3598,3678,3676,3759,3833,3967,3987,4079,4235,4287,4371,4433,4557,4579,4637,null,{"$f":"INDEX(CC47:CY47,'Population Pyramid'!$L$1)","v":4433}]
["male",32,723,737,700,778,749,732,772,665,631,606,627,621,579,522,561,506,519,553,545,574,570,605,536,593,595,585,686,665,680,691,610,677,null,32,22675,22285,22176,21832,21336,20944,21041,20596,20591,20392,20230,20255,20354,20291,20313,20509,20695,20625,20762,20894,20666,20671,20708,20449,20556,20687,20888,20824,20754,20685,20605,20712,null,"Females","60-64",null,{"$f":"SUM(C169:C173)","v":2893},2874,2797,2767,2784,2778,2789,2849,2863,2841,2844,2906,3070,3206,3461,3851,4106,4164,4208,4224,3977,3791,3667,3756,3798,3863,3974,4110,4135,4186,4365,4501,null,{"$f":"INDEX(CC48:CY48,'Population Pyramid'!$L$1)","v":4135}]
["male",33,780,709,728,688,765,734,751,749,666,620,622,627,632,589,531,570,505,530,568,552,583,550,616,559,581,593,605,692,677,702,714,638,null,33,{"$f":"AK48+C49","v":23455},{"$f":"AL48+D49","v":22994},{"$f":"AM48+E49","v":22904},{"$f":"AN48+F49","v":22520},{"$f":"AO48+G49","v":22101},{"$f":"AP48+H49","v":21678},{"$f":"AQ48+I49","v":21792},{"$f":"AR48+J49","v":21345},{"$f":"AS48+K49","v":21257},{"$f":"AT48+L49","v":21012},{"$f":"AU48+M49","v":20852},{"$f":"AV48+N49","v":20882},{"$f":"AW48+O49","v":20986},{"$f":"AX48+P49","v":20880},{"$f":"AY48+Q49","v":20844},{"$f":"AZ48+R49","v":21079},{"$f":"BA48+S49","v":21200},{"$f":"BB48+T49","v":21155},{"$f":"BC48+U49","v":21330},{"$f":"BD48+V49","v":21446},{"$f":"BE48+W49","v":21249},{"$f":"BF48+X49","v":21221},{"$f":"BG48+Y49","v":21324},{"$f":"BH48+Z49","v":21008},{"$f":"BI48+AA49","v":21137},{"$f":"BJ48+AB49","v":21280},{"$f":"BK48+AC49","v":21493},{"$f":"BL48+AD49","v":21516},{"$f":"BM48+AE49","v":21431},{"$f":"BN48+AF49","v":21387},{"$f":"BO48+AG49","v":21319},21350,null,"Females","65-69",null,{"$f":"SUM(C174:C178)","v":3046},2972,2901,2864,2835,2805,2791,2781,2797,2813,2788,2806,2835,2844,2782,2796,2875,3046,3207,3470,3857,4125,4212,4204,4212,3973,3777,3708,3786,3807,3902,4009,null,{"$f":"INDEX(CC49:CY49,'Population Pyramid'!$L$1)","v":3786}]
["male",34,727,801,732,732,684,734,749,765,773,690,605,635,654,660,624,552,570,521,547,576,558,574,556,606,547,592,610,625,678,691,714,715,null,34,24182,23795,23636,23252,22785,22412,22541,22110,22030,21702,21457,21517,21640,21540,21468,21631,21770,21676,21877,22022,21807,21795,21880,21614,21684,21872,22103,22141,22109,22078,22033,22065,null,"Females","70-74",null,{"$f":"SUM(C179:C183)","v":2966},3103,3155,3015,2875,2839,2804,2711,2641,2626,2630,2638,2607,2604,2591,2581,2602,2649,2679,2634,2665,2756,2969,3163,3417,3720,3935,4001,3971,3975,3771,3659,null,{"$f":"INDEX(CC50:CY50,'Population Pyramid'!$L$1)","v":3971}]
["male",35,735,725,793,713,711,656,759,744,780,757,718,628,669,664,685,656,571,566,552,552,585,572,577,560,615,571,612,633,633,674,708,739,null,35,24917,24520,24429,23965,23496,23068,23300,22854,22810,22459,22175,22145,22309,22204,22153,22287,22341,22242,22429,22574,22392,22367,22457,22174,22299,22443,22715,22774,22742,22752,22741,22804,null,"Females","75-79",null,{"$f":"SUM(C184:C188)","v":2350},2257,2205,2279,2443,2536,2629,2681,2583,2448,2404,2377,2375,2355,2359,2350,2341,2292,2262,2275,2298,2308,2356,2378,2392,2469,2542,2701,2878,3041,3337,3542,null,{"$f":"INDEX(CC51:CY51,'Population Pyramid'!$L$1)","v":2878}]
["male",36,663,728,722,781,696,689,672,745,759,759,769,757,644,681,684,708,668,590,579,559,559,564,586,571,578,641,592,619,649,649,681,719,null,36,25580,25248,25151,24746,24192,23757,23972,23599,23569,23218,22944,22902,22953,22885,22837,22995,23009,22832,23008,23133,22951,22931,23043,22745,22877,23084,23307,23393,23391,23401,23422,23523,null,"Females","80-84",null,{"$f":"SUM(C189:C193)","v":1810},1786,1803,1865,1809,1752,1718,1680,1730,1881,1980,2089,2094,2029,1919,1938,1928,1895,1946,1914,1900,1876,1849,1809,1869,1874,1947,1989,2032,2038,2059,2152,null,{"$f":"INDEX(CC52:CY52,'Population Pyramid'!$L$1)","v":2032}]
["male",37,654,638,708,696,748,650,677,684,736,767,767,772,770,652,689,720,714,689,596,596,554,558,563,598,579,581,654,593,627,664,667,716,null,37,26234,25886,25859,25442,24940,24407,24649,24283,24305,23985,23711,23674,23723,23537,23526,23715,23723,23521,23604,23729,23505,23489,23606,23343,23456,23665,23961,23986,24018,24065,24089,24239,null,"Females","85+",null,{"$f":"SUM(C194:C199)","v":1670},1751,1812,1825,1843,1847,1851,1819,1846,1799,1776,1748,1780,1860,1985,2030,2127,2157,2155,2182,2152,2208,2189,2208,2179,2183,2167,2194,2178,2151,2190,2194,null,{"$f":"INDEX(CC53:CY53,'Population Pyramid'!$L$1)","v":2178}]
["male",38,683,634,626,688,673,707,643,720,730,739,770,800,801,794,669,721,735,729,713,609,590,552,557,548,597,594,596,667,608,632,673,702,null,38,26917,26520,26485,26130,25613,25114,25292,25003,25035,24724,24481,24474,24524,24331,24195,24436,24458,24250,24317,24338,24095,24041,24163,23891,24053,24259,24557,24653,24626,24697,24762,24941]
["male",39,658,672,628,620,681,672,730,671,723,714,741,767,808,820,802,683,728,740,742,714,598,588,546,563,554,604,621,602,665,607,637,674,null,39,27575,27192,27113,26750,26294,25786,26022,25674,25758,25438,25222,25241,25332,25151,24997,25119,25186,24990,25059,25052,24693,24629,24709,24454,24607,24863,25178,25255,25291,25304,25399,25615]
["male",40,672,666,694,645,639,690,698,707,675,741,730,755,769,821,824,820,690,753,746,761,706,624,595,562,576,569,615,638,613,668,627,671,null,40,28247,27858,27807,27395,26933,26476,26720,26381,26433,26179,25952,25996,26101,25972,25821,25939,25876,25743,25805,25813,25399,25253,25304,25016,25183,25432,25793,25893,25904,25972,26026,26286]
["male",41,647,638,638,669,618,614,678,694,713,675,755,746,770,801,834,830,829,698,775,761,759,700,624,597,569,584,580,611,627,620,671,646,null,41,28894,28496,28445,28064,27551,27090,27398,27075,27146,26854,26707,26742,26871,26773,26655,26769,26705,26441,26580,26574,26158,25953,25928,25613,25752,26016,26373,26504,26531,26592,26697,26932]
["male",42,675,646,643,643,680,633,632,692,701,721,681,752,756,774,819,845,837,847,700,779,731,749,711,625,615,588,589,588,613,624,625,675,null,42,29569,29142,29088,28707,28231,27723,28030,27767,27847,27575,27388,27494,27627,27547,27474,27614,27542,27288,27280,27353,26889,26702,26639,26238,26367,26604,26962,27092,27144,27216,27322,27607]
["male",43,761,676,656,650,647,684,640,641,720,730,730,701,767,766,774,806,859,849,858,722,785,726,747,710,639,609,582,591,578,618,635,623,null,43,30330,29818,29744,29357,28878,28407,28670,28408,28567,28305,28118,28195,28394,28313,28248,28420,28401,28137,28138,28075,27674,27428,27386,26948,27006,27213,27544,27683,27722,27834,27957,28230]
["male",44,784,725,649,626,625,622,669,617,653,726,735,739,700,764,773,789,806,879,837,859,723,785,722,755,709,638,628,587,596,572,633,641,null,44,31114,30543,30393,29983,29503,29029,29339,29025,29220,29031,28853,28934,29094,29077,29021,29209,29207,29016,28975,28934,28397,28213,28108,27703,27715,27851,28172,28270,28318,28406,28590,28871]
["male",45,928,782,729,650,633,634,628,693,629,657,742,741,754,722,788,792,793,819,906,851,870,731,773,725,760,723,644,618,575,619,594,638,null,45,32042,31325,31122,30633,30136,29663,29967,29718,29849,29688,29595,29675,29848,29799,29809,30001,30000,29835,29881,29785,29267,28944,28881,28428,28475,28574,28816,28888,28893,29025,29184,29509]
["male",46,746,923,788,735,654,638,640,620,705,639,664,745,763,766,721,776,788,794,823,920,844,877,727,766,726,770,734,641,615,593,627,593,null,46,32788,32248,31910,31368,30790,30301,30607,30338,30554,30327,30259,30420,30611,30565,30530,30777,30788,30629,30704,30705,30111,29821,29608,29194,29201,29344,29550,29529,29508,29618,29811,30102]
["male",47,723,752,924,799,746,670,661,644,635,706,653,672,749,769,763,723,777,789,803,820,916,827,892,725,775,727,767,731,650,615,588,616,null,47,33511,33000,32834,32167,31536,30971,31268,30982,31189,31033,30912,31092,31360,31334,31293,31500,31565,31418,31507,31525,31027,30648,30500,29919,29976,30071,30317,30260,30158,30233,30399,30718]
["male",48,696,723,753,912,795,745,666,651,652,637,709,667,682,753,771,774,732,772,799,798,812,908,820,873,745,777,727,782,718,662,617,598,null,48,34207,33723,33587,33079,32331,31716,31934,31633,31841,31670,31621,31759,32042,32087,32064,32274,32297,32190,32306,32323,31839,31556,31320,30792,30721,30848,31044,31042,30876,30895,31016,31316]
["male",49,621,703,726,755,905,792,746,672,658,662,645,716,673,682,754,747,785,724,767,811,794,808,908,835,882,758,780,724,786,713,673,620,null,49,34828,34426,34313,33834,33236,32508,32680,32305,32499,32332,32266,32475,32715,32769,32818,33021,33082,32914,33073,33134,32633,32364,32228,31627,31603,31606,31824,31766,31662,31608,31689,31936]
["male",50,624,620,700,721,754,890,783,763,664,654,658,653,727,670,682,773,745,795,727,756,794,794,826,904,837,880,754,765,721,796,711,671,null,50,35452,35046,35013,34555,33990,33398,33463,33068,33163,32986,32924,33128,33442,33439,33500,33794,33827,33709,33800,33890,33427,33158,33054,32531,32440,32486,32578,32531,32383,32404,32400,32607]
["male",51,530,611,613,698,710,749,875,795,757,669,662,650,665,731,677,691,791,747,804,725,761,790,798,835,914,849,878,767,767,722,813,717,null,51,35982,35657,35626,35253,34700,34147,34338,33863,33920,33655,33586,33778,34107,34170,34177,34485,34618,34456,34604,34615,34188,33948,33852,33366,33354,33335,33456,33298,33150,33126,33213,33324]
["male",52,579,532,607,617,703,709,751,877,801,752,667,659,655,681,729,682,687,799,741,807,730,749,811,804,834,926,829,877,756,763,725,813,null,52,36561,36189,36233,35870,35403,34856,35089,34740,34721,34407,34253,34437,34762,34851,34906,35167,35305,35255,35345,35422,34918,34697,34663,34170,34188,34261,34285,34175,33906,33889,33938,34137]
["male",53,591,571,530,600,614,699,702,750,874,809,764,672,662,663,687,735,699,691,799,743,811,718,759,818,821,834,935,838,871,760,772,718,null,53,37152,36760,36763,36470,36017,35555,35791,35490,35595,35216,35017,35109,35424,35514,35593,35902,36004,35946,36144,36165,35729,35415,35422,34988,35009,35095,35220,35013,34777,34649,34710,34855]
["male",54,586,592,573,532,600,621,705,696,736,856,820,771,673,662,674,685,751,695,694,792,741,831,698,763,822,831,837,939,835,879,767,772,null,54,37738,37352,37336,37002,36617,36176,36496,36186,36331,36072,35837,35880,36097,36176,36267,36587,36755,36641,36838,36957,36470,36246,36120,35751,35831,35926,36057,35952,35612,35528,35477,35627]
["male",55,557,590,602,580,543,610,632,695,696,748,857,815,789,672,672,692,696,761,709,704,787,759,832,707,772,826,845,849,951,835,876,769,null,55,38295,37942,37938,37582,37160,36786,37128,36881,37027,36820,36694,36695,36886,36848,36939,37279,37451,37402,37547,37661,37257,37005,36952,36458,36603,36752,36902,36801,36563,36363,36353,36396]
["male",56,532,553,585,601,575,537,602,624,689,698,753,875,819,791,677,664,688,707,768,718,695,790,754,835,729,787,833,851,848,945,841,867,null,56,38827,38495,38523,38183,37735,37323,37730,37505,37716,37518,37447,37570,37705,37639,37616,37943,38139,38109,38315,38379,37952,37795,37706,37293,37332,37539,37735,37652,37411,37308,37194,37263]
["male",57,549,536,558,587,602,578,540,615,628,694,700,757,878,814,803,689,663,682,722,766,700,694,805,759,839,735,788,836,851,858,959,869,null,57,39376,39031,39081,38770,38337,37901,38270,38120,38344,38212,38147,38327,38583,38453,38419,38632,38802,38791,39037,39145,38652,38489,38511,38052,38171,38274,38523,38488,38262,38166,38153,38132]
["male",58,506,538,535,549,577,596,564,535,603,638,693,702,756,885,823,808,695,664,680,736,765,705,696,805,767,842,732,777,829,861,881,975,null,58,39882,39569,39616,39319,38914,38497,38834,38655,38947,38850,38840,39029,39339,39338,39242,39440,39497,39455,39717,39881,39417,39194,39207,38857,38938,39116,39255,39265,39091,39027,39034,39107]
["male",59,541,503,532,534,547,573,587,563,535,605,634,691,704,757,906,828,802,695,677,673,747,767,712,699,803,766,856,741,784,842,864,888,null,59,40423,40072,40148,39853,39461,39070,39421,39218,39482,39455,39474,39720,40043,40095,40148,40268,40299,40150,40394,40554,40164,39961,39919,39556,39741,39882,40111,40006,39875,39869,39898,39995]
["male",60,537,532,498,528,532,547,573,567,563,539,607,642,707,714,758,919,843,796,711,683,667,741,772,717,703,803,774,855,746,793,859,881,null,60,40960,40604,40646,40381,39993,39617,39994,39785,40045,39994,40081,40362,40750,40809,40906,41187,41142,40946,41105,41237,40831,40702,40691,40273,40444,40685,40885,40861,40621,40662,40757,40876]
["male",61,567,541,526,490,522,528,546,588,565,564,543,607,639,715,720,753,931,838,801,707,681,663,744,785,712,716,813,778,855,758,784,837,null,61,41527,41145,41172,40871,40515,40145,40540,40373,40610,40558,40624,40969,41389,41524,41626,41940,42073,41784,41906,41944,41512,41365,41435,41058,41156,41401,41698,41639,41476,41420,41541,41713]
["male",62,506,561,537,523,480,514,520,553,584,564,563,552,609,631,711,727,746,943,841,803,716,679,673,759,785,717,724,808,766,843,757,792,null,62,42033,41706,41709,41394,40995,40659,41060,40926,41194,41122,41187,41521,41998,42155,42337,42667,42819,42727,42747,42747,42228,42044,42108,41817,41941,42118,42422,42447,42242,42263,42298,42505]
["male",63,497,496,547,531,512,474,504,529,553,576,560,556,558,606,631,707,740,742,954,831,788,712,687,683,761,773,729,723,807,756,865,770,null,63,42530,42202,42256,41925,41507,41133,41564,41455,41747,41698,41747,42077,42556,42761,42968,43374,43559,43469,43701,43578,43016,42756,42795,42500,42702,42891,43151,43170,43049,43019,43163,43275]
["male",64,478,489,493,535,518,493,466,503,521,554,566,567,550,543,609,635,710,737,754,954,834,797,717,693,690,763,783,735,720,795,766,888,null,64,43008,42691,42749,42460,42025,41626,42030,41958,42268,42252,42313,42644,43106,43304,43577,44009,44269,44206,44455,44532,43850,43553,43512,43193,43392,43654,43934,43905,43769,43814,43929,44163]
["male",65,499,464,481,490,521,515,479,451,509,518,553,567,559,544,535,622,632,719,742,747,951,848,810,733,703,691,761,769,737,715,801,764,null,65,{"$f":"AK80+C81","v":43507},{"$f":"AL80+D81","v":43155},{"$f":"AM80+E81","v":43230},{"$f":"AN80+F81","v":42950},{"$f":"AO80+G81","v":42546},{"$f":"AP80+H81","v":42141},{"$f":"AQ80+I81","v":42509},{"$f":"AR80+J81","v":42409},{"$f":"AS80+K81","v":42777},{"$f":"AT80+L81","v":42770},{"$f":"AU80+M81","v":42866},{"$f":"AV80+N81","v":43211},{"$f":"AW80+O81","v":43665},{"$f":"AX80+P81","v":43848},{"$f":"AY80+Q81","v":44112},{"$f":"AZ80+R81","v":44631},{"$f":"BA80+S81","v":44901},{"$f":"BB80+T81","v":44925},{"$f":"BC80+U81","v":45197},{"$f":"BD80+V81","v":45279},{"$f":"BE80+W81","v":44801},{"$f":"BF80+X81","v":44401},{"$f":"BG80+Y81","v":44322},{"$f":"BH80+Z81","v":43926},{"$f":"BI80+AA81","v":44095},{"$f":"BJ80+AB81","v":44345},{"$f":"BK80+AC81","v":44695},{"$f":"BL80+AD81","v":44674},{"$f":"BM80+AE81","v":44506},{"$f":"BN80+AF81","v":44529},{"$f":"BO80+AG81","v":44730},44927]
["male",66,465,476,458,470,481,505,504,488,456,500,523,546,565,556,541,533,628,633,704,740,760,951,846,781,741,697,686,750,766,746,722,796,null,66,43972,43631,43688,43420,43027,42646,43013,42897,43233,43270,43389,43757,44230,44404,44653,45164,45529,45558,45901,46019,45561,45352,45168,44707,44836,45042,45381,45424,45272,45275,45452,45723]
["male",67,516,455,479,450,462,475,486,504,487,454,500,521,545,557,560,523,528,624,633,710,731,747,950,847,778,734,684,676,736,756,748,713,null,67,44488,44086,44167,43870,43489,43121,43499,43401,43720,43724,43889,44278,44775,44961,45213,45687,46057,46182,46534,46729,46292,46099,46118,45554,45614,45776,46065,46100,46008,46031,46200,46436]
["male",68,474,507,455,479,448,461,477,487,500,494,444,500,511,539,553,555,525,521,637,631,711,736,741,943,845,762,713,657,668,735,759,734,null,68,44962,44593,44622,44349,43937,43582,43976,43888,44220,44218,44333,44778,45286,45500,45766,46242,46582,46703,47171,47360,47003,46835,46859,46497,46459,46538,46778,46757,46676,46766,46959,47170]
["male",69,497,466,487,438,466,437,450,465,478,489,494,444,486,502,536,551,555,512,516,619,628,705,726,716,927,835,746,699,664,656,726,742,null,69,45459,45059,45109,44787,44403,44019,44426,44353,44698,44707,44827,45222,45772,46002,46302,46793,47137,47215,47687,47979,47631,47540,47585,47213,47386,47373,47524,47456,47340,47422,47685,47912]
["male",70,490,476,449,468,425,458,427,443,457,471,480,482,432,482,493,527,548,540,507,507,619,618,697,697,713,912,819,740,685,659,638,727,null,70,45949,45535,45558,45255,44828,44477,44853,44796,45155,45178,45307,45704,46204,46484,46795,47320,47685,47755,48194,48486,48250,48158,48282,47910,48099,48285,48343,48196,48025,48081,48323,48639]
["male",71,550,485,469,446,453,415,447,414,433,446,464,476,462,414,483,476,518,537,535,499,500,615,608,679,693,709,906,803,733,665,645,637,null,71,46499,46020,46027,45701,45281,44892,45300,45210,45588,45624,45771,46180,46666,46898,47278,47796,48203,48292,48729,48985,48750,48773,48890,48589,48792,48994,49249,48999,48758,48746,48968,49276]
["male",72,567,512,472,450,425,423,392,416,403,431,431,465,458,440,406,470,470,503,534,525,492,495,607,601,655,687,689,892,791,723,667,635,null,72,47066,46532,46499,46151,45706,45315,45692,45626,45991,46055,46202,46645,47124,47338,47684,48266,48673,48795,49263,49510,49242,49268,49497,49190,49447,49681,49938,49891,49549,49469,49635,49911]
["male",73,342,534,504,445,424,405,398,378,392,395,422,415,444,437,430,392,463,465,493,521,515,484,495,581,595,632,677,686,878,766,706,670,null,73,47408,47066,47003,46596,46130,45720,46090,46004,46383,46450,46624,47060,47568,47775,48114,48658,49136,49260,49756,50031,49757,49752,49992,49771,50042,50313,50615,50577,50427,50235,50341,50581]
["male",74,337,326,508,477,419,398,382,387,368,376,374,402,405,432,428,424,380,443,450,481,516,499,486,495,564,581,617,646,670,851,745,693,null,74,47745,47392,47511,47073,46549,46118,46472,46391,46751,46826,46998,47462,47973,48207,48542,49082,49516,49703,50206,50512,50273,50251,50478,50266,50606,50894,51232,51223,51097,51086,51086,51274]
["male",75,324,318,314,480,452,398,387,373,362,352,357,361,392,389,415,405,406,368,433,440,461,499,489,465,490,545,557,612,635,650,832,723,null,75,48069,47710,47825,47553,47001,46516,46859,46764,47113,47178,47355,47823,48365,48596,48957,49487,49922,50071,50639,50952,50734,50750,50967,50731,51096,51439,51789,51835,51732,51736,51918,51997]
["male",76,319,311,314,300,451,433,386,370,352,336,339,340,348,380,372,400,386,390,360,420,425,443,474,461,458,473,530,533,584,614,643,810,null,76,48388,48021,48139,47853,47452,46949,47245,47134,47465,47514,47694,48163,48713,48976,49329,49887,50308,50461,50999,51372,51159,51193,51441,51192,51554,51912,52319,52368,52316,52350,52561,52807]
["male",77,324,297,294,288,278,425,396,359,353,334,315,330,327,334,356,359,385,350,378,344,397,410,423,455,457,439,460,519,498,560,589,621,null,77,48712,48318,48433,48141,47730,47374,47641,47493,47818,47848,48009,48493,49040,49310,49685,50246,50693,50811,51377,51716,51556,51603,51864,51647,52011,52351,52779,52887,52814,52910,53150,53428]
["male",78,303,296,270,271,264,263,400,362,333,319,316,290,312,316,317,338,342,364,335,364,333,383,403,399,437,426,420,435,497,468,544,558,null,78,49015,48614,48703,48412,47994,47637,48041,47855,48151,48167,48325,48783,49352,49626,50002,50584,51035,51175,51712,52080,51889,51986,52267,52046,52448,52777,53199,53322,53311,53378,53694,53986]
["male",79,280,282,258,240,250,238,243,374,341,319,289,301,275,289,294,301,322,324,346,325,354,312,366,384,385,416,418,410,414,473,455,520,null,79,49295,48896,48961,48652,48244,47875,48284,48229,48492,48486,48614,49084,49627,49915,50296,50885,51357,51499,52058,52405,52243,52298,52633,52430,52833,53193,53617,53732,53725,53851,54149,54506]
["male",80,266,251,262,236,213,233,224,243,349,321,292,274,284,258,273,286,280,304,314,321,308,342,304,345,365,368,398,398,388,396,440,425,null,80,49561,49147,49223,48888,48457,48108,48508,48472,48841,48807,48906,49358,49911,50173,50569,51171,51637,51803,52372,52726,52551,52640,52937,52775,53198,53561,54015,54130,54113,54247,54589,54931]
["male",81,222,239,222,235,210,195,208,199,220,318,289,268,252,265,244,254,272,263,284,296,312,294,323,293,334,346,346,379,374,361,368,415,null,81,49783,49386,49445,49123,48667,48303,48716,48671,49061,49125,49195,49626,50163,50438,50813,51425,51909,52066,52656,53022,52863,52934,53260,53068,53532,53907,54361,54509,54487,54608,54957,55346]
["male",82,175,202,201,198,208,193,176,187,181,205,298,259,251,237,240,227,237,250,253,265,282,285,279,305,271,305,330,335,351,345,340,344,null,82,49958,49588,49646,49321,48875,48496,48892,48858,49242,49330,49493,49885,50414,50675,51053,51652,52146,52316,52909,53287,53145,53219,53539,53373,53803,54212,54691,54844,54838,54953,55297,55690]
["male",83,180,159,179,182,179,177,159,145,166,161,187,267,230,226,222,221,206,219,235,252,233,257,274,259,280,253,299,310,300,326,325,324,null,83,50138,49747,49825,49503,49054,48673,49051,49003,49408,49491,49680,50152,50644,50901,51275,51873,52352,52535,53144,53539,53378,53476,53813,53632,54083,54465,54990,55154,55138,55279,55622,56014]
["male",84,142,164,130,165,158,156,149,139,128,150,140,168,242,215,203,203,199,195,200,217,239,206,218,246,243,255,233,268,278,275,290,298,null,84,50280,49911,49955,49668,49212,48829,49200,49142,49536,49641,49820,50320,50886,51116,51478,52076,52551,52730,53344,53756,53617,53682,54031,53878,54326,54720,55223,55422,55416,55554,55912,56312]
["male",85,566,609,634,658,690,722,756,769,751,123,127,123,162,214,186,184,182,179,181,178,198,218,182,191,218,221,229,207,239,251,249,259,null,85,50846,50520,50589,50326,49902,49551,49956,49911,50287,49764,49947,50443,51048,51330,51664,52260,52733,52909,53525,53934,53815,53900,54213,54069,54544,54941,55452,55629,55655,55805,56161,56571]
["male",86,null,null,null,null,null,null,null,null,null,115,109,108,107,140,181,166,165,156,160,153,156,187,195,152,161,184,201,208,178,210,229,217,null,86,50846,50520,50589,50326,49902,49551,49956,49911,50287,49879,50056,50551,51155,51470,51845,52426,52898,53065,53685,54087,53971,54087,54408,54221,54705,55125,55653,55837,55833,56015,56390,56788]
["male",87,null,null,null,null,null,null,null,null,null,111,95,93,99,92,124,147,145,150,133,138,132,147,168,161,130,150,160,181,183,151,175,204,null,87,50846,50520,50589,50326,49902,49551,49956,49911,50287,49990,50151,50644,51254,51562,51969,52573,53043,53215,53818,54225,54103,54234,54576,54382,54835,55275,55813,56018,56016,56166,56565,56992]
["male",88,null,null,null,null,null,null,null,null,null,95,85,84,78,78,79,110,124,127,125,112,119,109,132,141,153,116,130,139,152,159,130,145,null,88,50846,50520,50589,50326,49902,49551,49956,49911,50287,50085,50236,50728,51332,51640,52048,52683,53167,53342,53943,54337,54222,54343,54708,54523,54988,55391,55943,56157,56168,56325,56695,57137]
["male",89,null,null,null,null,null,null,null,null,null,74,81,62,64,67,67,69,97,91,102,113,90,101,87,113,125,131,98,105,122,134,133,109,null,89,50846,50520,50589,50326,49902,49551,49956,49911,50287,50159,50317,50790,51396,51707,52115,52752,53264,53433,54045,54450,54312,54444,54795,54636,55113,55522,56041,56262,56290,56459,56828,57246]
["male","90+",null,null,null,null,null,null,null,null,null,208,227,231,232,229,221,224,253,271,302,330,359,374,364,332,351,384,410,415,388,398,420,456,null,"90+",50846,50520,50589,50326,49902,49551,49956,49911,50287,50367,50544,51021,51628,51936,52336,52976,53517,53704,54347,54780,54671,54818,55159,54968,55464,55906,56451,56677,56678,56857,57248,57702]
[null,"All Males",{"$f":"SUM(C16:C106)","v":50846},{"$f":"SUM(D16:D106)","v":50520},50589,50326,49902,49551,49956,49911,50287,50367,50544,51021,51628,51936,52336,52976,53517,53704,54347,54780,54671,54818,55159,54968,55464,55906,56451,{"$f":"SUM(AD16:AD106)","v":56677},{"$f":"SUM(AE16:AE106)","v":56678},{"$f":"SUM(AF16:AF106)","v":56857},{"$f":"SUM(AG16:AG106)","v":57248},{"$f":"SUM(AH16:AH106)","v":57702},null,"Females"]
["Sex","Age"]
["female",0,661,656,672,616,591,569,581,572,566,486,524,502,521,551,577,599,640,574,571,554,597,562,560,556,571,550,520,520,504,497,582,492,null,0,{"$f":"C109","v":661},656,672,616,591,569,581,572,566,486,524,502,521,551,577,599,640,574,571,554,597,562,560,556,571,550,520,520,504,497,582,492]
["female",1,707,665,664,669,612,601,576,579,580,576,519,530,524,534,566,582,599,649,590,574,550,632,576,578,554,580,561,538,544,517,520,608,null,1,{"$f":"AK109+C110","v":1368},{"$f":"AL109+D110","v":1321},{"$f":"AM109+E110","v":1336},{"$f":"AN109+F110","v":1285},{"$f":"AO109+G110","v":1203},{"$f":"AP109+H110","v":1170},{"$f":"AQ109+I110","v":1157},{"$f":"AR109+J110","v":1151},{"$f":"AS109+K110","v":1146},{"$f":"AT109+L110","v":1062},{"$f":"AU109+M110","v":1043},{"$f":"AV109+N110","v":1032},{"$f":"AW109+O110","v":1045},{"$f":"AX109+P110","v":1085},{"$f":"AY109+Q110","v":1143},{"$f":"AZ109+R110","v":1181},{"$f":"BA109+S110","v":1239},{"$f":"BB109+T110","v":1223},{"$f":"BC109+U110","v":1161},{"$f":"BD109+V110","v":1128},{"$f":"BE109+W110","v":1147},{"$f":"BF109+X110","v":1194},{"$f":"BG109+Y110","v":1136},{"$f":"BH109+Z110","v":1134},{"$f":"BI109+AA110","v":1125},{"$f":"BJ109+AB110","v":1130},{"$f":"BK109+AC110","v":1081},{"$f":"BL109+AD110","v":1058},{"$f":"BM109+AE110","v":1048},{"$f":"BN109+AF110","v":1014},{"$f":"BO109+AG110","v":1102},1100]
["female",2,648,707,681,676,672,617,607,600,580,576,573,523,546,536,539,583,573,604,660,608,572,574,643,597,575,555,587,568,542,560,542,535,null,2,2016,2028,2017,1961,1875,1787,1764,1751,1726,1638,1616,1555,1591,1621,1682,1764,1812,1827,1821,1736,1719,1768,1779,1731,1700,1685,1668,1626,1590,1574,1644,1635]
["female",3,667,646,704,682,679,669,605,604,596,585,582,577,531,547,539,553,588,578,626,661,612,561,593,647,604,583,573,593,581,547,562,536,null,3,2683,2674,2721,2643,2554,2456,2369,2355,2322,2223,2198,2132,2122,2168,2221,2317,2400,2405,2447,2397,2331,2329,2372,2378,2304,2268,2241,2219,2171,2121,2206,2171]
["female",4,630,640,630,677,661,665,642,602,604,598,598,588,588,533,543,546,565,583,578,642,668,613,560,591,664,612,585,580,607,586,551,572,null,4,3313,3314,3351,3320,3215,3121,3011,2957,2926,2821,2796,2720,2710,2701,2764,2863,2965,2988,3025,3039,2999,2942,2932,2969,2968,2880,2826,2799,2778,2707,2757,2743]
["female",5,633,640,649,643,678,677,678,663,601,615,599,610,606,587,537,546,562,570,590,594,655,674,607,568,595,656,609,593,598,619,629,582,null,5,3946,3954,4000,3963,3893,3798,3689,3620,3527,3436,3395,3330,3316,3288,3301,3409,3527,3558,3615,3633,3654,3616,3539,3537,3563,3536,3435,3392,3376,3326,3386,3325]
["female",6,660,633,648,656,651,684,685,679,662,599,626,619,616,624,579,543,543,569,581,592,585,652,676,608,573,620,661,609,600,605,628,649,null,6,4606,4587,4648,4619,4544,4482,4374,4299,4189,4035,4021,3949,3932,3912,3880,3952,4070,4127,4196,4225,4239,4268,4215,4145,4136,4156,4096,4001,3976,3931,4014,3974]
["female",7,608,646,620,642,646,645,668,700,688,682,610,643,623,619,620,594,550,536,571,586,598,597,646,669,610,582,619,674,620,613,631,647,null,7,5214,5233,5268,5261,5190,5127,5042,4999,4877,4717,4631,4592,4555,4531,4500,4546,4620,4663,4767,4811,4837,4865,4861,4814,4746,4738,4715,4675,4596,4544,4645,4621]
["female",8,600,618,649,621,644,649,649,690,700,696,694,620,651,623,633,630,597,558,545,578,574,599,602,644,676,616,600,643,680,634,628,640,null,8,5814,5851,5917,5882,5834,5776,5691,5689,5577,5413,5325,5212,5206,5154,5133,5176,5217,5221,5312,5389,5411,5464,5463,5458,5422,5354,5315,5318,5276,5178,5273,5261]
["female",9,630,598,627,638,612,643,642,663,697,699,679,695,633,651,625,643,630,595,574,551,590,582,591,609,629,684,619,611,654,683,643,627,null,9,6444,6449,6544,6520,6446,6419,6333,6352,6274,6112,6004,5907,5839,5805,5758,5819,5847,5816,5886,5940,6001,6046,6054,6067,6051,6038,5934,5929,5930,5861,5916,5888]
["female",10,611,635,611,645,644,621,654,646,672,701,701,690,689,635,655,637,648,641,603,586,552,593,577,598,606,632,699,629,624,672,700,650,null,10,7055,7084,7155,7165,7090,7040,6987,6998,6946,6813,6705,6597,6528,6440,6413,6456,6495,6457,6489,6526,6553,6639,6631,6665,6657,6670,6633,6558,6554,6533,6616,6538]
["female",11,654,602,628,610,649,639,636,656,653,696,711,704,711,689,644,669,643,657,644,611,585,570,608,582,604,605,631,705,639,643,682,698,null,11,7709,7686,7783,7775,7739,7679,7623,7654,7599,7509,7416,7301,7239,7129,7057,7125,7138,7114,7133,7137,7138,7209,7239,7247,7261,7275,7264,7263,7193,7176,7298,7236]
["female",12,646,633,593,640,629,676,650,665,733,711,717,745,730,731,718,661,679,666,684,658,627,600,582,628,607,618,633,660,713,643,694,721,null,12,8355,8319,8376,8415,8368,8355,8273,8319,8332,8220,8133,8046,7969,7860,7775,7786,7817,7780,7817,7795,7765,7809,7821,7875,7868,7893,7897,7923,7906,7819,7992,7957]
["female",13,606,641,651,601,651,645,677,685,672,737,706,714,771,753,718,731,671,682,671,694,670,644,607,599,631,625,636,634,663,718,671,715,null,13,8961,8960,9027,9016,9019,9000,8950,9004,9004,8957,8839,8760,8740,8613,8493,8517,8488,8462,8488,8489,8435,8453,8428,8474,8499,8518,8533,8557,8569,8537,8663,8672]
["female",14,591,615,664,671,621,650,645,666,694,673,751,728,711,794,758,719,729,677,691,674,698,679,645,622,622,627,617,648,626,655,729,669,null,14,9552,9575,9691,9687,9640,9650,9595,9670,9698,9630,9590,9488,9451,9407,9251,9236,9217,9139,9179,9163,9133,9132,9073,9096,9121,9145,9150,9205,9195,9192,9392,9341]
["female",15,577,593,625,674,680,631,648,652,663,688,679,769,738,727,795,759,723,725,688,691,686,692,690,644,630,635,638,633,657,632,665,744,null,15,10129,10168,10316,10361,10320,10281,10243,10322,10361,10318,10269,10257,10189,10134,10046,9995,9940,9864,9867,9854,9819,9824,9763,9740,9751,9780,9788,9838,9852,9824,10057,10085]
["female",16,618,569,585,613,660,670,613,650,642,669,693,673,762,744,713,802,758,715,729,693,688,688,700,693,654,623,633,639,615,647,645,679,null,16,10747,10737,10901,10974,10980,10951,10856,10972,11003,10987,10962,10930,10951,10878,10759,10797,10698,10579,10596,10547,10507,10512,10463,10433,10405,10403,10421,10477,10467,10471,10702,10764]
["female",17,542,619,579,600,625,668,671,644,620,646,656,689,696,777,720,715,795,746,711,741,678,684,678,676,681,652,631,615,623,600,643,623,null,17,11289,11356,11480,11574,11605,11619,11527,11616,11623,11633,11618,11619,11647,11655,11479,11512,11493,11325,11307,11288,11185,11196,11141,11109,11086,11055,11052,11092,11090,11071,11345,11387]
["female",18,638,519,587,516,532,563,614,634,606,584,622,627,675,653,727,694,691,777,711,687,719,657,662,654,651,670,625,594,597,557,558,606,null,18,11927,11875,12067,12090,12137,12182,12141,12250,12229,12217,12240,12246,12322,12308,12206,12206,12184,12102,12018,11975,11904,11853,11803,11763,11737,11725,11677,11686,11687,11628,11903,11993]
["female",19,514,515,419,443,371,375,442,529,497,485,459,507,542,538,493,593,550,574,642,583,551,558,529,505,501,511,492,486,470,462,369,421,null,19,12441,12390,12486,12533,12508,12557,12583,12779,12726,12702,12699,12753,12864,12846,12699,12799,12734,12676,12660,12558,12455,12411,12332,12268,12238,12236,12169,12172,12157,12090,12272,12414]
["female",20,588,470,440,360,395,352,367,503,501,503,446,433,440,507,475,458,555,489,527,601,538,531,535,496,459,487,504,481,452,435,403,327,null,20,13029,12860,12926,12893,12903,12909,12950,13282,13227,13205,13145,13186,13304,13353,13174,13257,13289,13165,13187,13159,12993,12942,12867,12764,12697,12723,12673,12653,12609,12525,12675,12741]
["female",21,636,604,455,458,388,454,404,453,513,504,498,467,446,471,522,489,483,558,510,538,634,596,574,560,520,500,514,518,488,465,433,420,null,21,13665,13464,13381,13351,13291,13363,13354,13735,13740,13709,13643,13653,13750,13824,13696,13746,13772,13723,13697,13697,13627,13538,13441,13324,13217,13223,13187,13171,13097,12990,13108,13161]
["female",22,627,650,607,512,499,462,506,400,473,538,507,524,491,482,515,534,539,512,600,549,597,671,605,617,609,531,528,554,563,555,486,488,null,22,14292,14114,13988,13863,13790,13825,13860,14135,14213,14247,14150,14177,14241,14306,14211,14280,14311,14235,14297,14246,14224,14209,14046,13941,13826,13754,13715,13725,13660,13545,13594,13649]
["female",23,656,620,695,652,567,552,495,494,446,473,536,551,554,525,499,581,566,577,528,621,571,645,679,641,632,629,559,575,566,612,566,520,null,23,14948,14734,14683,14515,14357,14377,14355,14629,14659,14720,14686,14728,14795,14831,14710,14861,14877,14812,14825,14867,14795,14854,14725,14582,14458,14383,14274,14300,14226,14157,14160,14169]
["female",24,704,646,672,717,662,600,551,489,524,479,472,529,560,573,565,513,595,548,604,551,579,586,640,669,653,644,622,588,573,604,637,573,null,24,15652,15380,15355,15232,15019,14977,14906,15118,15183,15199,15158,15257,15355,15404,15275,15374,15472,15360,15429,15418,15374,15440,15365,15251,15111,15027,14896,14888,14799,14761,14797,14742]
["female",25,684,694,687,672,719,667,599,526,485,539,473,480,538,590,577,575,508,605,574,596,541,570,604,617,669,676,649,646,625,593,615,630,null,25,16336,16074,16042,15904,15738,15644,15505,15644,15668,15738,15631,15737,15893,15994,15852,15949,15980,15965,16003,16014,15915,16010,15969,15868,15780,15703,15545,15534,15424,15354,15412,15372]
["female",26,734,677,708,673,651,717,643,583,526,486,538,479,475,540,582,579,569,526,617,573,575,545,591,600,598,705,700,663,655,632,607,651,null,26,17070,16751,16750,16577,16389,16361,16148,16227,16194,16224,16169,16216,16368,16534,16434,16528,16549,16491,16620,16587,16490,16555,16560,16468,16378,16408,16245,16197,16079,15986,16019,16023]
["female",27,739,742,705,717,676,660,720,650,585,524,485,543,485,488,561,611,589,561,557,616,564,589,553,600,597,635,720,736,680,683,640,610,null,27,17809,17493,17455,17294,17065,17021,16868,16877,16779,16748,16654,16759,16853,17022,16995,17139,17138,17052,17177,17203,17054,17144,17113,17068,16975,17043,16965,16933,16759,16669,16659,16633]
["female",28,776,732,763,727,724,686,656,701,662,596,533,507,550,496,477,570,611,574,577,578,615,581,587,562,612,607,672,733,743,685,687,627,null,28,18585,18225,18218,18021,17789,17707,17524,17578,17441,17344,17187,17266,17403,17518,17472,17709,17749,17626,17754,17781,17669,17725,17700,17630,17587,17650,17637,17666,17502,17354,17346,17260]
["female",29,731,760,738,767,731,728,671,661,694,642,599,558,532,567,509,498,571,637,594,580,590,625,592,585,594,628,656,679,735,752,691,680,null,29,19316,18985,18956,18788,18520,18435,18195,18239,18135,17986,17786,17824,17935,18085,17981,18207,18320,18263,18348,18361,18259,18350,18292,18215,18181,18278,18293,18345,18237,18106,18037,17940]
["female",30,758,720,761,718,752,724,706,699,650,704,649,611,582,522,580,524,498,570,661,597,564,586,618,603,607,626,635,662,712,747,767,714,null,30,20074,19705,19717,19506,19272,19159,18901,18938,18785,18690,18435,18435,18517,18607,18561,18731,18818,18833,19009,18958,18823,18936,18910,18818,18788,18904,18928,19007,18949,18853,18804,18654]
["female",31,713,745,727,751,704,747,715,695,699,642,715,668,626,577,544,577,534,499,568,652,597,573,605,620,615,643,655,680,676,725,759,782,null,31,20787,20450,20444,20257,19976,19906,19616,19633,19484,19332,19150,19103,19143,19184,19105,19308,19352,19332,19577,19610,19420,19509,19515,19438,19403,19547,19583,19687,19625,19578,19563,19436]
["female",32,725,721,769,748,768,725,767,740,700,693,647,708,676,638,574,568,568,544,499,577,634,598,582,612,632,638,643,675,692,684,758,787,null,32,21512,21171,21213,21005,20744,20631,20383,20373,20184,20025,19797,19811,19819,19822,19679,19876,19920,19876,20076,20187,20054,20107,20097,20050,20035,20185,20226,20362,20317,20262,20321,20223]
["female",33,715,723,726,774,755,776,728,779,760,719,685,672,734,676,643,596,574,587,535,504,587,633,603,590,624,649,639,652,701,710,725,788,null,33,{"$f":"AK141+C142","v":22227},{"$f":"AL141+D142","v":21894},{"$f":"AM141+E142","v":21939},{"$f":"AN141+F142","v":21779},{"$f":"AO141+G142","v":21499},{"$f":"AP141+H142","v":21407},{"$f":"AQ141+I142","v":21111},{"$f":"AR141+J142","v":21152},{"$f":"AS141+K142","v":20944},{"$f":"AT141+L142","v":20744},{"$f":"AU141+M142","v":20482},{"$f":"AV141+N142","v":20483},{"$f":"AW141+O142","v":20553},{"$f":"AX141+P142","v":20498},{"$f":"AY141+Q142","v":20322},{"$f":"AZ141+R142","v":20472},{"$f":"BA141+S142","v":20494},{"$f":"BB141+T142","v":20463},{"$f":"BC141+U142","v":20611},{"$f":"BD141+V142","v":20691},{"$f":"BE141+W142","v":20641},{"$f":"BF141+X142","v":20740},{"$f":"BG141+Y142","v":20700},{"$f":"BH141+Z142","v":20640},{"$f":"BI141+AA142","v":20659},{"$f":"BJ141+AB142","v":20834},{"$f":"BK141+AC142","v":20865},{"$f":"BL141+AD142","v":21014},{"$f":"BM141+AE142","v":21018},{"$f":"BN141+AF142","v":20972},{"$f":"BO141+AG142","v":21046},21011]
["female",34,694,706,718,714,768,757,770,759,789,760,731,700,687,741,687,651,608,575,585,538,524,590,656,627,602,636,651,662,677,695,733,744,null,34,22921,22600,22657,22493,22267,22164,21881,21911,21733,21504,21213,21183,21240,21239,21009,21123,21102,21038,21196,21229,21165,21330,21356,21267,21261,21470,21516,21676,21695,21667,21779,21755]
["female",35,688,688,704,709,705,767,757,807,768,790,781,752,726,706,752,699,671,616,580,577,527,550,604,657,628,609,641,658,668,692,711,739,null,35,23609,23288,23361,23202,22972,22931,22638,22718,22501,22294,21994,21935,21966,21945,21761,21822,21773,21654,21776,21806,21692,21880,21960,21924,21889,22079,22157,22334,22363,22359,22490,22494]
["female",36,692,698,710,719,723,722,784,754,798,778,791,791,767,748,716,763,712,671,618,594,588,535,548,604,669,649,617,656,661,680,716,732,null,36,24301,23986,24071,23921,23695,23653,23422,23472,23299,23072,22785,22726,22733,22693,22477,22585,22485,22325,22394,22400,22280,22415,22508,22528,22558,22728,22774,22990,23024,23039,23206,23226]
["female",37,698,677,687,704,711,712,707,800,769,800,788,817,814,770,742,728,768,732,677,621,593,584,539,556,612,688,660,629,658,675,703,730,null,37,24999,24663,24758,24625,24406,24365,24129,24272,24068,23872,23573,23543,23547,23463,23219,23313,23253,23057,23071,23021,22873,22999,23047,23084,23170,23416,23434,23619,23682,23714,23909,23956]
["female",38,642,694,679,690,710,719,715,729,803,774,804,794,821,812,771,743,733,755,731,679,620,587,595,545,563,633,692,681,632,680,665,701,null,38,25641,25357,25437,25315,25116,25084,24844,25001,24871,24646,24377,24337,24368,24275,23990,24056,23986,23812,23802,23700,23493,23586,23642,23629,23733,24049,24126,24300,24314,24394,24574,24657]
["female",39,672,643,694,678,690,717,722,712,744,809,785,821,810,840,821,790,747,741,762,734,686,615,603,599,557,575,636,696,689,646,683,673,null,39,26313,26000,26131,25993,25806,25801,25566,25713,25615,25455,25162,25158,25178,25115,24811,24846,24733,24553,24564,24434,24179,24201,24245,24228,24290,24624,24762,24996,25003,25040,25257,25330]
["female",40,636,671,653,693,684,701,729,738,734,745,818,794,829,823,838,835,791,748,746,772,729,699,623,604,614,582,579,632,701,695,650,704,null,40,26949,26671,26784,26686,26490,26502,26295,26451,26349,26200,25980,25952,26007,25938,25649,25681,25524,25301,25310,25206,24908,24900,24868,24832,24904,25206,25341,25628,25704,25735,25907,26034]
["female",41,695,645,684,670,702,698,715,719,761,739,738,831,790,838,825,850,836,780,757,761,773,727,706,618,605,618,586,587,633,700,703,659,null,41,27644,27316,27468,27356,27192,27200,27010,27170,27110,26939,26718,26783,26797,26776,26474,26531,26360,26081,26067,25967,25681,25627,25574,25450,25509,25824,25927,26215,26337,26435,26610,26693]
["female",42,704,689,642,681,670,702,696,706,708,771,742,752,853,802,846,825,846,847,785,760,754,780,726,717,625,599,621,609,602,649,735,723,null,42,28348,28005,28110,28037,27862,27902,27706,27876,27818,27710,27460,27535,27650,27578,27320,27356,27206,26928,26852,26727,26435,26407,26300,26167,26134,26423,26548,26824,26939,27084,27345,27416]
["female",43,769,713,705,655,695,691,717,697,711,709,788,747,769,866,810,856,822,841,841,788,745,757,799,747,722,650,607,626,624,610,647,740,null,43,29117,28718,28815,28692,28557,28593,28423,28573,28529,28419,28248,28282,28419,28444,28130,28212,28028,27769,27693,27515,27180,27164,27099,26914,26856,27073,27155,27450,27563,27694,27992,28156]
["female",44,831,766,715,707,654,697,696,706,704,702,725,797,760,770,879,803,853,825,851,841,802,751,770,810,754,725,666,610,636,634,618,665,null,44,29948,29484,29530,29399,29211,29290,29119,29279,29233,29121,28973,29079,29179,29214,29009,29015,28881,28594,28544,28356,27982,27915,27869,27724,27610,27798,27821,28060,28199,28328,28610,28821]
["female",45,849,826,755,704,697,645,686,701,705,701,708,732,810,763,781,888,807,862,818,854,832,812,754,757,812,760,734,670,617,640,641,622,null,45,30797,30310,30285,30103,29908,29935,29805,29980,29938,29822,29681,29811,29989,29977,29790,29903,29688,29456,29362,29210,28814,28727,28623,28481,28422,28558,28555,28730,28816,28968,29251,29443]
["female",46,718,841,822,747,696,691,637,681,702,703,716,719,750,802,772,784,890,808,873,830,860,838,807,751,763,819,769,740,665,620,655,657,null,46,31515,31151,31107,30850,30604,30626,30442,30661,30640,30525,30397,30530,30739,30779,30562,30687,30578,30264,30235,30040,29674,29565,29430,29232,29185,29377,29324,29470,29481,29588,29906,30100]
["female",47,712,716,844,825,738,692,686,656,678,713,705,719,731,758,792,765,793,893,812,877,840,866,835,793,747,774,818,780,738,669,623,670,null,47,32227,31867,31951,31675,31342,31318,31128,31317,31318,31238,31102,31249,31470,31537,31354,31452,31371,31157,31047,30917,30514,30431,30265,30025,29932,30151,30142,30250,30219,30257,30529,30770]
["female",48,702,720,723,854,832,740,692,703,650,688,719,712,731,735,752,800,756,797,899,805,869,839,865,832,807,773,778,840,796,753,678,655,null,48,32929,32587,32674,32529,32174,32058,31820,32020,31968,31926,31821,31961,32201,32272,32106,32252,32127,31954,31946,31722,31383,31270,31130,30857,30739,30924,30920,31090,31015,31010,31207,31425]
["female",49,600,698,719,723,856,833,734,701,716,661,683,714,715,724,734,749,814,767,796,911,802,860,859,877,852,829,779,778,838,789,762,676,null,49,33529,33285,33393,33252,33030,32891,32554,32721,32684,32587,32504,32675,32916,32996,32840,33001,32941,32721,32742,32633,32185,32130,31989,31734,31591,31753,31699,31868,31853,31799,31969,32101]
["female",50,571,595,688,712,715,852,823,753,714,715,672,687,705,717,734,731,766,811,772,802,909,817,849,859,883,851,837,779,772,835,806,789,null,50,34100,33880,34081,33964,33745,33743,33377,33474,33398,33302,33176,33362,33621,33713,33574,33732,33707,33532,33514,33435,33094,32947,32838,32593,32474,32604,32536,32647,32625,32634,32775,32890]
["female",51,495,569,602,691,714,720,857,842,746,709,730,671,683,723,728,745,735,767,812,777,798,911,814,861,864,896,855,840,784,769,856,821,null,51,34595,34449,34683,34655,34459,34463,34234,34316,34144,34011,33906,34033,34304,34436,34302,34477,34442,34299,34326,34212,33892,33858,33652,33454,33338,33500,33391,33487,33409,33403,33631,33711]
["female",52,564,498,567,604,686,712,717,889,838,747,707,738,677,679,722,740,743,738,779,814,772,796,907,813,868,882,900,861,855,797,780,866,null,52,35159,34947,35250,35259,35145,35175,34951,35205,34982,34758,34613,34771,34981,35115,35024,35217,35185,35037,35105,35026,34664,34654,34559,34267,34206,34382,34291,34348,34264,34200,34411,34577]
["female",53,555,562,501,566,606,685,711,725,907,846,749,700,752,678,691,716,754,749,739,779,816,784,825,897,837,883,888,914,854,856,820,795,null,53,35714,35509,35751,35825,35751,35860,35662,35930,35889,35604,35362,35471,35733,35793,35715,35933,35939,35786,35844,35805,35480,35438,35384,35164,35043,35265,35179,35262,35118,35056,35231,35372]
["female",54,562,545,556,503,552,602,676,704,731,918,851,769,713,765,674,705,716,770,746,758,770,826,789,827,912,847,889,889,925,881,864,823,null,54,36276,36054,36307,36328,36303,36462,36338,36634,36620,36522,36213,36240,36446,36558,36389,36638,36655,36556,36590,36563,36250,36264,36173,35991,35955,36112,36068,36151,36043,35937,36095,36195]
["female",55,577,573,553,563,517,558,612,674,717,726,919,855,780,723,760,687,709,719,774,751,778,774,836,801,839,911,866,904,893,921,887,892,null,55,36853,36627,36860,36891,36820,37020,36950,37308,37337,37248,37132,37095,37226,37281,37149,37325,37364,37275,37364,37314,37028,37038,37009,36792,36794,37023,36934,37055,36936,36858,36982,37087]
["female",56,557,568,573,549,562,523,551,610,677,726,730,935,860,791,723,774,684,715,725,779,748,777,775,840,812,839,907,877,903,915,926,903,null,56,37410,37195,37433,37440,37382,37543,37501,37918,38014,37974,37862,38030,38086,38072,37872,38099,38048,37990,38089,38093,37776,37815,37784,37632,37606,37862,37841,37932,37839,37773,37908,37990]
["female",57,553,558,569,575,553,567,528,562,612,688,718,741,941,863,789,727,767,681,722,727,791,761,781,784,843,823,832,905,868,912,935,943,null,57,37963,37753,38002,38015,37935,38110,38029,38480,38626,38662,38580,38771,39027,38935,38661,38826,38815,38671,38811,38820,38567,38576,38565,38416,38449,38685,38673,38837,38707,38685,38843,38933]
["female",58,491,552,559,569,576,554,569,528,572,627,703,720,740,951,864,807,725,764,687,722,725,791,774,770,798,859,823,847,914,884,920,940,null,58,38454,38305,38561,38584,38511,38664,38598,39008,39198,39289,39283,39491,39767,39886,39525,39633,39540,39435,39498,39542,39292,39367,39339,39186,39247,39544,39496,39684,39621,39569,39763,39873]
["female",59,571,495,552,559,569,579,550,566,533,582,634,708,722,755,946,886,812,719,770,697,717,730,801,792,787,803,859,838,855,925,911,959,null,59,39025,38800,39113,39143,39080,39243,39148,39574,39731,39871,39917,40199,40489,40641,40471,40519,40352,40154,40268,40239,40009,40097,40140,39978,40034,40347,40355,40522,40476,40494,40674,40832]
["female",60,576,570,501,553,557,568,578,558,578,533,588,646,710,720,756,952,904,816,736,774,697,714,720,804,789,798,815,856,854,862,936,918,null,60,39601,39370,39614,39696,39637,39811,39726,40132,40309,40404,40505,40845,41199,41361,41227,41471,41256,40970,41004,41013,40706,40811,40860,40782,40823,41145,41170,41378,41330,41356,41610,41750]
["female",61,558,577,571,512,558,556,566,583,560,591,529,599,656,719,724,767,951,898,829,728,784,709,713,723,803,801,808,825,849,852,881,964,null,61,40159,39947,40185,40208,40195,40367,40292,40715,40869,40995,41034,41444,41855,42080,41951,42238,42207,41868,41833,41741,41490,41520,41573,41505,41626,41946,41978,42203,42179,42208,42491,42714]
["female",62,598,559,575,570,516,561,557,570,585,558,578,527,598,644,731,736,763,951,915,839,731,788,716,729,726,806,817,810,817,839,865,889,null,62,40757,40506,40760,40778,40711,40928,40849,41285,41454,41553,41612,41971,42453,42724,42682,42974,42970,42819,42748,42580,42221,42308,42289,42234,42352,42752,42795,43013,42996,43047,43356,43603]
["female",63,570,594,557,573,572,518,559,561,573,584,565,585,524,603,649,740,742,766,964,916,849,735,783,732,737,723,810,805,815,823,845,885,null,63,41327,41100,41317,41351,41283,41446,41408,41846,42027,42137,42177,42556,42977,43327,43331,43714,43712,43585,43712,43496,43070,43043,43072,42966,43089,43475,43605,43818,43811,43870,44201,44488]
["female",64,591,574,593,559,581,575,529,577,567,575,584,549,582,520,601,656,746,733,764,967,916,845,735,768,743,735,724,814,800,810,838,845,null,64,41918,41674,41910,41910,41864,42021,41937,42423,42594,42712,42761,43105,43559,43847,43932,44370,44458,44318,44476,44463,43986,43888,43807,43734,43832,44210,44329,44632,44611,44680,45039,45333]
["female",65,597,587,564,584,558,578,578,524,580,562,567,592,560,577,515,592,664,742,730,753,965,915,841,736,766,750,736,742,800,791,820,840,null,65,{"$f":"AK173+C174","v":42515},{"$f":"AL173+D174","v":42261},{"$f":"AM173+E174","v":42474},{"$f":"AN173+F174","v":42494},{"$f":"AO173+G174","v":42422},{"$f":"AP173+H174","v":42599},{"$f":"AQ173+I174","v":42515},{"$f":"AR173+J174","v":42947},{"$f":"AS173+K174","v":43174},{"$f":"AT173+L174","v":43274},{"$f":"AU173+M174","v":43328},{"$f":"AV173+N174","v":43697},{"$f":"AW173+O174","v":44119},{"$f":"AX173+P174","v":44424},{"$f":"AY173+Q174","v":44447},{"$f":"AZ173+R174","v":44962},{"$f":"BA173+S174","v":45122},{"$f":"BB173+T174","v":45060},{"$f":"BC173+U174","v":45206},{"$f":"BD173+V174","v":45216},{"$f":"BE173+W174","v":44951},{"$f":"BF173+X174","v":44803},{"$f":"BG173+Y174","v":44648},{"$f":"BH173+Z174","v":44470},{"$f":"BI173+AA174","v":44598},{"$f":"BJ173+AB174","v":44960},{"$f":"BK173+AC174","v":45065},{"$f":"BL173+AD174","v":45374},{"$f":"BM173+AE174","v":45411},{"$f":"BN173+AF174","v":45471},{"$f":"BO173+AG174","v":45859},46173]
["female",66,592,591,578,562,580,555,576,572,527,575,560,573,594,557,568,510,591,658,742,732,759,964,902,835,748,766,751,734,751,788,798,811,null,66,43107,42852,43052,43056,43002,43154,43091,43519,43701,43849,43888,44270,44713,44981,45015,45472,45713,45718,45948,45948,45710,45767,45550,45305,45346,45726,45816,46108,46162,46259,46657,46984]
["female",67,610,591,595,577,560,576,554,587,569,530,570,565,569,598,554,558,503,589,656,740,743,758,968,907,829,734,769,744,741,746,803,804,null,67,43717,43443,43647,43633,43562,43730,43645,44106,44270,44379,44458,44835,45282,45579,45569,46030,46216,46307,46604,46688,46453,46525,46518,46212,46175,46460,46585,46852,46903,47005,47460,47788]
["female",68,615,598,570,578,562,534,550,536,582,570,523,562,555,564,590,563,557,501,585,655,745,753,758,971,905,822,717,772,729,746,740,800,null,68,44332,44041,44217,44211,44124,44264,44195,44642,44852,44949,44981,45397,45837,46143,46159,46593,46773,46808,47189,47343,47198,47278,47276,47183,47080,47282,47302,47624,47632,47751,48200,48588]
["female",69,632,605,594,563,575,562,533,562,539,576,568,514,557,548,555,573,560,556,494,590,645,735,743,755,964,901,804,716,765,736,741,754,null,69,44964,44646,44811,44774,44699,44826,44728,45204,45391,45525,45549,45911,46394,46691,46714,47166,47333,47364,47683,47933,47843,48013,48019,47938,48044,48183,48106,48340,48397,48487,48941,49342]
["female",70,627,625,600,594,562,579,566,525,546,530,562,563,503,549,546,546,568,554,541,485,600,644,740,732,747,942,886,796,714,761,718,734,null,70,45591,45271,45411,45368,45261,45405,45294,45729,45937,46055,46111,46474,46897,47240,47260,47712,47901,47918,48224,48418,48443,48657,48759,48670,48791,49125,48992,49136,49111,49248,49659,50076]
["female",71,698,619,613,592,598,552,573,552,524,529,513,550,558,492,525,534,536,553,545,544,482,591,645,727,732,741,931,880,794,710,757,712,null,71,46289,45890,46024,45960,45859,45957,45867,46281,46461,46584,46624,47024,47455,47732,47785,48246,48437,48471,48769,48962,48925,49248,49404,49397,49523,49866,49923,50016,49905,49958,50416,50788]
["female",72,727,687,593,600,582,598,544,552,539,519,520,508,537,541,480,521,531,527,546,549,528,482,588,644,715,722,729,908,873,769,704,756,null,72,47016,46577,46617,46560,46441,46555,46411,46833,47000,47103,47144,47532,47992,48273,48265,48767,48968,48998,49315,49511,49453,49730,49992,50041,50238,50588,50652,50924,50778,50727,51120,51544]
["female",73,484,694,679,572,577,560,583,515,536,529,508,515,502,524,529,468,510,519,527,533,537,520,479,581,632,696,705,718,902,850,757,705,null,73,47500,47271,47296,47132,47018,47115,46994,47348,47536,47632,47652,48047,48494,48797,48794,49235,49478,49517,49842,50044,49990,50250,50471,50622,50870,51284,51357,51642,51680,51577,51877,52249]
["female",74,430,478,670,657,556,550,538,567,496,519,527,502,507,498,511,512,457,496,520,523,518,519,517,479,591,619,684,699,688,885,835,752,null,74,47930,47749,47966,47789,47574,47665,47532,47915,48032,48151,48179,48549,49001,49295,49305,49747,49935,50013,50362,50567,50508,50769,50988,51101,51461,51903,52041,52341,52368,52462,52712,53001]
["female",75,471,421,470,645,640,552,543,527,553,480,508,518,492,505,488,495,502,443,481,515,515,504,503,508,489,572,613,660,680,676,872,822,null,75,48401,48170,48436,48434,48214,48217,48075,48442,48585,48631,48687,49067,49493,49800,49793,50242,50437,50456,50843,51082,51023,51273,51491,51609,51950,52475,52654,53001,53048,53138,53584,53823]
["female",76,445,441,398,445,606,611,525,519,490,530,463,492,501,486,499,477,483,484,432,462,495,491,492,495,498,478,560,592,655,669,665,852,null,76,48846,48611,48834,48879,48820,48828,48600,48961,49075,49161,49150,49559,49994,50286,50292,50719,50920,50940,51275,51544,51518,51764,51983,52104,52448,52953,53214,53593,53703,53807,54249,54675]
["female",77,523,434,432,388,437,587,594,525,495,474,512,446,479,484,461,489,456,466,472,413,445,478,481,472,481,491,460,546,576,643,645,646,null,77,49369,49045,49266,49267,49257,49415,49194,49486,49570,49635,49662,50005,50473,50770,50753,51208,51376,51406,51747,51957,51963,52242,52464,52576,52929,53444,53674,54139,54279,54450,54894,55321]
["female",78,485,503,418,411,372,423,560,574,508,482,455,488,435,457,459,447,469,436,454,454,409,442,460,460,476,464,467,450,529,550,616,622,null,78,49854,49548,49684,49678,49629,49838,49754,50060,50078,50117,50117,50493,50908,51227,51212,51655,51845,51842,52201,52411,52372,52684,52924,53036,53405,53908,54141,54589,54808,55000,55510,55943]
["female",79,426,458,487,390,388,363,407,536,537,482,466,433,468,423,452,442,431,463,423,431,434,393,420,443,448,464,442,453,438,503,539,600,null,79,50280,50006,50171,50068,50017,50201,50161,50596,50615,50599,50583,50926,51376,51650,51664,52097,52276,52305,52624,52842,52806,53077,53344,53479,53853,54372,54583,55042,55246,55503,56049,56543]
["female",80,404,398,425,463,368,364,341,388,514,506,464,456,415,451,403,434,430,413,461,396,394,409,382,409,427,442,448,440,444,431,474,533,null,80,50684,50404,50596,50531,50385,50565,50502,50984,51129,51105,51047,51382,51791,52101,52067,52531,52706,52718,53085,53238,53200,53486,53726,53888,54280,54814,55031,55482,55690,55934,56523,57076]
["female",81,391,377,374,394,437,339,350,320,369,484,485,446,441,395,429,381,417,413,396,451,387,383,391,360,392,405,434,440,431,438,404,460,null,81,51075,50781,50970,50925,50822,50904,50852,51304,51498,51589,51532,51828,52232,52496,52496,52912,53123,53131,53481,53689,53587,53869,54117,54248,54672,55219,55465,55922,56121,56372,56927,57536]
["female",82,347,374,362,350,376,419,319,334,293,349,454,459,397,416,373,407,363,384,403,369,420,362,367,375,355,371,394,418,415,410,427,384,null,82,51422,51155,51332,51275,51198,51323,51171,51638,51791,51938,51986,52287,52629,52912,52869,53319,53486,53515,53884,54058,54007,54231,54484,54623,55027,55590,55859,56340,56536,56782,57354,57920]
["female",83,341,316,344,341,317,347,397,275,300,271,329,423,439,365,386,357,376,338,365,365,353,405,335,358,348,337,347,372,388,389,384,403,null,83,51763,51471,51676,51616,51515,51670,51568,51913,52091,52209,52315,52710,53068,53277,53255,53676,53862,53853,54249,54423,54360,54636,54819,54981,55375,55927,56206,56712,56924,57171,57738,58323]
["female",84,327,321,298,317,311,283,311,363,254,271,248,305,402,402,328,359,342,347,321,333,346,317,374,307,347,319,324,319,354,370,370,372,null,84,52090,51792,51974,51933,51826,51953,51879,52276,52345,52480,52563,53015,53470,53679,53583,54035,54204,54200,54570,54756,54706,54953,55193,55288,55722,56246,56530,57031,57278,57541,58108,58695]
["female",85,1670,1751,1812,1825,1843,1847,1851,1819,1846,271,248,223,280,371,380,301,345,325,319,299,302,327,303,349,286,328,309,312,294,321,351,352,null,85,53760,53543,53786,53758,53669,53800,53730,54095,54191,52751,52811,53238,53750,54050,53963,54336,54549,54525,54889,55055,55008,55280,55496,55637,56008,56574,56839,57343,57572,57862,58459,59047]
["female",86,null,null,null,null,null,null,null,null,null,278,236,228,204,264,344,339,280,313,297,291,271,274,308,284,322,253,295,283,296,262,295,309,null,86,53760,53543,53786,53758,53669,53800,53730,54095,54191,53029,53047,53466,53954,54314,54307,54675,54829,54838,55186,55346,55279,55554,55804,55921,56330,56827,57134,57626,57868,58124,58754,59356]
["female",87,null,null,null,null,null,null,null,null,null,230,245,217,208,174,239,311,316,245,281,277,263,254,243,275,251,283,233,266,265,270,241,269,null,87,53760,53543,53786,53758,53669,53800,53730,54095,54191,53259,53292,53683,54162,54488,54546,54986,55145,55083,55467,55623,55542,55808,56047,56196,56581,57110,57367,57892,58133,58394,58995,59625]
["female",88,null,null,null,null,null,null,null,null,null,184,206,215,191,190,164,226,281,280,206,258,244,236,228,239,266,224,246,207,234,235,242,205,null,88,53760,53543,53786,53758,53669,53800,53730,54095,54191,53443,53498,53898,54353,54678,54710,55212,55426,55363,55673,55881,55786,56044,56275,56435,56847,57334,57613,58099,58367,58629,59237,59830]
["female",89,null,null,null,null,null,null,null,null,null,168,161,187,195,154,161,143,201,243,252,183,219,224,208,194,207,232,190,217,180,202,211,211,null,89,53760,53543,53786,53758,53669,53800,53730,54095,54191,53611,53659,54085,54548,54832,54871,55355,55627,55606,55925,56064,56005,56268,56483,56629,57054,57566,57803,58316,58547,58831,59448,60041]
["female","90+",null,null,null,null,null,null,null,null,null,668,680,678,702,707,697,710,704,751,800,874,853,893,899,867,847,863,894,909,909,861,850,848,null,"90+",53760,53543,53786,53758,53669,53800,53730,54095,54191,54279,54339,54763,55250,55539,55568,56065,56331,56357,56725,56938,56858,57161,57382,57496,57901,58429,58697,59225,59456,59692,60298,60889]
[null,"All Females",{"$f":"SUM(C109:C199)","v":53760},{"$f":"SUM(D109:D199)","v":53543},53786,53758,53669,53800,53730,54095,54191,54279,54339,54763,55250,55539,55568,56065,56331,56357,56725,56938,56858,57161,57382,57496,57901,58429,58697,{"$f":"SUM(AD109:AD199)","v":59225},{"$f":"SUM(AE109:AE199)","v":59456},{"$f":"SUM(AF109:AF199)","v":59692},{"$f":"SUM(AG109:AG199)","v":60298},{"$f":"SUM(AH109:AH199)","v":60889}]

{"sheet":"F&H","index":14,"n_rows":250,"n_cols":106,"rows_kept":250,"cut":false,"hidden":true,"merged":[[0,68,21,68]]}
["Mid Year Population Estimates",null,null,null,null,null,null,null,null,null,null,null,null,null,null,null,null,null,null,null,null,null,null,null,null,null,null,null,null,null,null,null,null,null,null,null,null,null,null,null,null,null,null,null,null,null,null,null,null,null,null,null,null,null,null,null,null,null,null,null,null,null,null,null,null,null,null,null,"Insert column here before extending the table"]
["ONS Mid-Year Population Estimates 1991 to 2022 - (1992 to 2001 Revised 7th October 2004) ( 2002 to 2010 revised in light of the 2011 census. Released 30 April 2013)",null,null,null,null,null,null,null,null,null,null,null,null,null,null,null,null,null,null,null,null,null,null,null,null,null,null,null,null,null,null,null,null,null,null,"Selected Ages:",null,{"$f":"Index!C4&\" : \"&Index!C7","v":"0 : 90"},null,null,null,null,null,null,null,null,null,null,null,null,null,null,null,null,null,null,null,null,null,null,null,null,null,null,null,null,null,null,null,null,null,null,"Start year","End Year","Number change","% Change"]
["Revised ONS Mid-Year Population Estimates 2012 to 2020- Released 23 November 2023",null,null,null,null,null,null,null,null,null,null,null,null,null,null,null,null,null,null,null,null,null,null,null,null,null,null,null,null,null,null,null,null,null,null,null,{"$f":"AK13","v":1992},{"$f":"AL13","v":1993},{"$f":"AM13","v":1994},{"$f":"AN13","v":1995},{"$f":"AO13","v":1996},{"$f":"AP13","v":1997},1998,1999,2000,2001,2002,2003,2004,2005,2006,2007,2008,2009,2010,2011,2012,2013,2014,2015,2016,2017,{"$f":"BK13","v":2018},2019,2020,2021,2022,2023,null,null,null,null,{"$f":"INDEX($AR3:$BL3,Index!$B$16)","v":1999},{"$f":"INDEX($AR3:$BM3,Index!$B$19)","v":2019}]
["2022 MYPE released 23 November 2023",null,null,null,null,null,null,null,null,null,null,null,null,null,null,null,null,null,null,null,null,null,null,null,null,null,null,null,null,null,null,null,null,null,null,"Males",{"$f":"OFFSET(AK16,Index!$B$7-1,0)-IF(Index!$B$4-2=-1,0,OFFSET(AK16,Index!$B$4-2,0))","v":44410},{"$f":"OFFSET(AL16,Index!$B$7-1,0)-IF(Index!$B$4-2=-1,0,OFFSET(AL16,Index!$B$4-2,0))","v":44203},{"$f":"OFFSET(AM16,Index!$B$7-1,0)-IF(Index!$B$4-2=-1,0,OFFSET(AM16,Index!$B$4-2,0))","v":44867},{"$f":"OFFSET(AN16,Index!$B$7-1,0)-IF(Index!$B$4-2=-1,0,OFFSET(AN16,Index!$B$4-2,0))","v":44540},{"$f":"OFFSET(AO16,Index!$B$7-1,0)-IF(Index!$B$4-2=-1,0,OFFSET(AO16,Index!$B$4-2,0))","v":45121},{"$f":"OFFSET(AP16,Index!$B$7-1,0)-IF(Index!$B$4-2=-1,0,OFFSET(AP16,Index!$B$4-2,0))","v":45102},{"$f":"OFFSET(AQ16,Index!$B$7-1,0)-IF(Index!$B$4-2=-1,0,OFFSET(AQ16,Index!$B$4-2,0))","v":45093},{"$f":"OFFSET(AR16,Index!$B$7-1,0)-IF(Index!$B$4-2=-1,0,OFFSET(AR16,Index!$B$4-2,0))","v":45643},{"$f":"OFFSET(AS16,Index!$B$7-1,0)-IF(Index!$B$4-2=-1,0,OFFSET(AS16,Index!$B$4-2,0))","v":46121},{"$f":"OFFSET(AT16,Index!$B$7-1,0)-IF(Index!$B$4-2=-1,0,OFFSET(AT16,Index!$B$4-2,0))","v":46123},{"$f":"OFFSET(AU16,Index!$B$7-1,0)-IF(Index!$B$4-2=-1,0,OFFSET(AU16,Index!$B$4-2,0))","v":46736},{"$f":"OFFSET(AV16,Index!$B$7-1,0)-IF(Index!$B$4-2=-1,0,OFFSET(AV16,Index!$B$4-2,0))","v":47488},{"$f":"OFFSET(AW16,Index!$B$7-1,0)-IF(Index!$B$4-2=-1,0,OFFSET(AW16,Index!$B$4-2,0))","v":48299},{"$f":"OFFSET(AX16,Index!$B$7-1,0)-IF(Index!$B$4-2=-1,0,OFFSET(AX16,Index!$B$4-2,0))","v":49123},{"$f":"OFFSET(AY16,Index!$B$7-1,0)-IF(Index!$B$4-2=-1,0,OFFSET(AY16,Index!$B$4-2,0))","v":49903},{"$f":"OFFSET(AZ16,Index!$B$7-1,0)-IF(Index!$B$4-2=-1,0,OFFSET(AZ16,Index!$B$4-2,0))","v":50723},{"$f":"OFFSET(BA16,Index!$B$7-1,0)-IF(Index!$B$4-2=-1,0,OFFSET(BA16,Index!$B$4-2,0))","v":51297},{"$f":"OFFSET(BB16,Index!$B$7-1,0)-IF(Index!$B$4-2=-1,0,OFFSET(BB16,Index!$B$4-2,0))","v":51867},{"$f":"OFFSET(BC16,Index!$B$7-1,0)-IF(Index!$B$4-2=-1,0,OFFSET(BC16,Index!$B$4-2,0))","v":52557},{"$f":"OFFSET(BD16,Index!$B$7-1,0)-IF(Index!$B$4-2=-1,0,OFFSET(BD16,Index!$B$4-2,0))","v":53287},{"$f":"OFFSET(BE16,Index!$B$7-1,0)-IF(Index!$B$4-2=-1,0,OFFSET(BE16,Index!$B$4-2,0))","v":53244},{"$f":"OFFSET(BF16,Index!$B$7-1,0)-IF(Index!$B$4-2=-1,0,OFFSET(BF16,Index!$B$4-2,0))","v":53061},{"$f":"OFFSET(BG16,Index!$B$7-1,0)-IF(Index!$B$4-2=-1,0,OFFSET(BG16,Index!$B$4-2,0))","v":53101},{"$f":"OFFSET(BH16,Index!$B$7-1,0)-IF(Index!$B$4-2=-1,0,OFFSET(BH16,Index!$B$4-2,0))","v":53045},{"$f":"OFFSET(BI16,Index!$B$7-1,0)-IF(Index!$B$4-2=-1,0,OFFSET(BI16,Index!$B$4-2,0))","v":53449},{"$f":"OFFSET(BJ16,Index!$B$7-1,0)-IF(Index!$B$4-2=-1,0,OFFSET(BJ16,Index!$B$4-2,0))","v":53424},{"$f":"OFFSET(BK16,Index!$B$7-1,0)-IF(Index!$B$4-2=-1,0,OFFSET(BK16,Index!$B$4-2,0))","v":53723},{"$f":"OFFSET(BL16,Index!$B$7-1,0)-IF(Index!$B$4-2=-1,0,OFFSET(BL16,Index!$B$4-2,0))","v":53623},{"$f":"OFFSET(BM16,Index!$B$7-1,0)-IF(Index!$B$4-2=-1,0,OFFSET(BM16,Index!$B$4-2,0))","v":53548},{"$f":"OFFSET(BN16,Index!$B$7-1,0)-IF(Index!$B$4-2=-1,0,OFFSET(BN16,Index!$B$4-2,0))","v":53719},{"$f":"OFFSET(BO16,Index!$B$7-1,0)-IF(Index!$B$4-2=-1,0,OFFSET(BO16,Index!$B$4-2,0))","v":53781},{"$f":"OFFSET(BP16,Index!$B$7-1,0)-IF(Index!$B$4-2=-1,0,OFFSET(BP16,Index!$B$4-2,0))","v":54100},null,null,null,null,{"$f":"INDEX($AR4:$BL4,Index!$B$16)","v":45643},{"$f":"INDEX($AR4:$BM4,Index!$B$19)","v":53623},{"$f":"BV4-BU4","v":7980},{"$f":"BW4/BU4","v":0.17483513353635827}]
[null,null,null,null,null,null,null,null,null,null,null,null,null,null,null,null,null,null,null,null,null,null,null,null,null,null,null,null,null,null,null,null,null,null,null,"Females",{"$f":"OFFSET(AK109,Index!$B$7-1,0)-IF(Index!$B$4-2=-1,0,OFFSET(AK109,Index!$B$4-2,0))","v":49064},{"$f":"OFFSET(AL109,Index!$B$7-1,0)-IF(Index!$B$4-2=-1,0,OFFSET(AL109,Index!$B$4-2,0))","v":49198},{"$f":"OFFSET(AM109,Index!$B$7-1,0)-IF(Index!$B$4-2=-1,0,OFFSET(AM109,Index!$B$4-2,0))","v":49204},{"$f":"OFFSET(AN109,Index!$B$7-1,0)-IF(Index!$B$4-2=-1,0,OFFSET(AN109,Index!$B$4-2,0))","v":49440},{"$f":"OFFSET(AO109,Index!$B$7-1,0)-IF(Index!$B$4-2=-1,0,OFFSET(AO109,Index!$B$4-2,0))","v":49852},{"$f":"OFFSET(AP109,Index!$B$7-1,0)-IF(Index!$B$4-2=-1,0,OFFSET(AP109,Index!$B$4-2,0))","v":49778},{"$f":"OFFSET(AQ109,Index!$B$7-1,0)-IF(Index!$B$4-2=-1,0,OFFSET(AQ109,Index!$B$4-2,0))","v":49717},{"$f":"OFFSET(AR109,Index!$B$7-1,0)-IF(Index!$B$4-2=-1,0,OFFSET(AR109,Index!$B$4-2,0))","v":50168},{"$f":"OFFSET(AS109,Index!$B$7-1,0)-IF(Index!$B$4-2=-1,0,OFFSET(AS109,Index!$B$4-2,0))","v":50296},{"$f":"OFFSET(AT109,Index!$B$7-1,0)-IF(Index!$B$4-2=-1,0,OFFSET(AT109,Index!$B$4-2,0))","v":50222},{"$f":"OFFSET(AU109,Index!$B$7-1,0)-IF(Index!$B$4-2=-1,0,OFFSET(AU109,Index!$B$4-2,0))","v":50469},{"$f":"OFFSET(AV109,Index!$B$7-1,0)-IF(Index!$B$4-2=-1,0,OFFSET(AV109,Index!$B$4-2,0))","v":51052},{"$f":"OFFSET(AW109,Index!$B$7-1,0)-IF(Index!$B$4-2=-1,0,OFFSET(AW109,Index!$B$4-2,0))","v":51650},{"$f":"OFFSET(AX109,Index!$B$7-1,0)-IF(Index!$B$4-2=-1,0,OFFSET(AX109,Index!$B$4-2,0))","v":52386},{"$f":"OFFSET(AY109,Index!$B$7-1,0)-IF(Index!$B$4-2=-1,0,OFFSET(AY109,Index!$B$4-2,0))","v":52566},{"$f":"OFFSET(AZ109,Index!$B$7-1,0)-IF(Index!$B$4-2=-1,0,OFFSET(AZ109,Index!$B$4-2,0))","v":53179},{"$f":"OFFSET(BA109,Index!$B$7-1,0)-IF(Index!$B$4-2=-1,0,OFFSET(BA109,Index!$B$4-2,0))","v":53485},{"$f":"OFFSET(BB109,Index!$B$7-1,0)-IF(Index!$B$4-2=-1,0,OFFSET(BB109,Index!$B$4-2,0))","v":53849},{"$f":"OFFSET(BC109,Index!$B$7-1,0)-IF(Index!$B$4-2=-1,0,OFFSET(BC109,Index!$B$4-2,0))","v":54405},{"$f":"OFFSET(BD109,Index!$B$7-1,0)-IF(Index!$B$4-2=-1,0,OFFSET(BD109,Index!$B$4-2,0))","v":54912},{"$f":"OFFSET(BE109,Index!$B$7-1,0)-IF(Index!$B$4-2=-1,0,OFFSET(BE109,Index!$B$4-2,0))","v":54941},{"$f":"OFFSET(BF109,Index!$B$7-1,0)-IF(Index!$B$4-2=-1,0,OFFSET(BF109,Index!$B$4-2,0))","v":54838},{"$f":"OFFSET(BG109,Index!$B$7-1,0)-IF(Index!$B$4-2=-1,0,OFFSET(BG109,Index!$B$4-2,0))","v":55052},{"$f":"OFFSET(BH109,Index!$B$7-1,0)-IF(Index!$B$4-2=-1,0,OFFSET(BH109,Index!$B$4-2,0))","v":55282},{"$f":"OFFSET(BI109,Index!$B$7-1,0)-IF(Index!$B$4-2=-1,0,OFFSET(BI109,Index!$B$4-2,0))","v":55786},{"$f":"OFFSET(BJ109,Index!$B$7-1,0)-IF(Index!$B$4-2=-1,0,OFFSET(BJ109,Index!$B$4-2,0))","v":55671},{"$f":"OFFSET(BK109,Index!$B$7-1,0)-IF(Index!$B$4-2=-1,0,OFFSET(BK109,Index!$B$4-2,0))","v":56005},{"$f":"OFFSET(BL109,Index!$B$7-1,0)-IF(Index!$B$4-2=-1,0,OFFSET(BL109,Index!$B$4-2,0))","v":56036},{"$f":"OFFSET(BM109,Index!$B$7-1,0)-IF(Index!$B$4-2=-1,0,OFFSET(BM109,Index!$B$4-2,0))","v":56039},{"$f":"OFFSET(BN109,Index!$B$7-1,0)-IF(Index!$B$4-2=-1,0,OFFSET(BN109,Index!$B$4-2,0))","v":56321},{"$f":"OFFSET(BO109,Index!$B$7-1,0)-IF(Index!$B$4-2=-1,0,OFFSET(BO109,Index!$B$4-2,0))","v":56575},{"$f":"OFFSET(BP109,Index!$B$7-1,0)-IF(Index!$B$4-2=-1,0,OFFSET(BP109,Index!$B$4-2,0))","v":56895},null,null,null,null,{"$f":"INDEX($AR5:$BL5,Index!$B$16)","v":50168},{"$f":"INDEX($AR5:$BM5,Index!$B$19)","v":56036},{"$f":"BV5-BU5","v":5868},{"$f":"BW5/BU5","v":0.11696699091054058}]
[null,null,null,null,null,null,null,null,null,null,null,null,null,null,null,null,null,null,null,null,null,null,null,null,null,null,null,null,null,null,null,null,null,null,null,"Total",{"$f":"SUM(AK4:AK5)","v":93474},{"$f":"SUM(AL4:AL5)","v":93401},{"$f":"SUM(AM4:AM5)","v":94071},{"$f":"SUM(AN4:AN5)","v":93980},{"$f":"SUM(AO4:AO5)","v":94973},{"$f":"SUM(AP4:AP5)","v":94880},94810,95811,96417,96345,97205,98540,99949,101509,102469,103902,104782,105716,106962,108199,108185,107899,108153,108327,109235,109095,109728,109659,109587,110040,110356,110995,null,null,null,null,{"$f":"INDEX($AR6:$BL6,Index!$B$16)","v":95811},{"$f":"INDEX($AR6:$BM6,Index!$B$19)","v":109659},{"$f":"BV6-BU6","v":13848},{"$f":"BW6/BU6","v":0.14453455240003757}]
[]
[null,null,null,null,null,null,null,null,null,null,null,null,null,null,null,null,null,null,null,null,null,null,null,null,null,null,null,null,null,null,null,null,null,null,null,"Males",{"$f":"IF(AK4<0,\"0\",AK4)","v":44410},{"$f":"IF(AL4<0,\"0\",AL4)","v":44203},44867,44540,45121,45102,45093,45643,46121,46123,46736,47488,48299,49123,49903,50723,51297,51867,52557,53287,53244,53061,53101,53045,53449,53424,{"$f":"IF(BK4<0,\"0\",BK4)","v":53723},53623,53548,{"$f":"IF(BN4<0,\"0\",BN4)","v":53719},53781,{"$f":"IF(BP4<0,\"0\",BP4)","v":54100}]
[null,null,null,null,null,null,null,null,null,null,null,null,null,null,null,null,null,null,null,null,null,null,null,null,null,null,null,null,null,null,null,null,null,null,null,"Females",{"$f":"IF(AK5<0,\"0\",AK5)","v":49064},49198,49204,49440,49852,49778,49717,50168,50296,50222,50469,51052,51650,52386,52566,53179,53485,53849,54405,54912,54941,54838,55052,55282,55786,55671,56005,56036,56039,{"$f":"IF(BN5<0,\"0\",BN5)","v":56321},56575,{"$f":"IF(BP5<0,\"0\",BP5)","v":56895}]
[null,null,null,null,null,null,null,null,null,null,null,null,null,null,null,null,null,null,null,null,null,null,null,null,null,null,null,null,null,null,null,null,null,null,null,"Total",{"$f":"SUM(AK8:AK9)","v":93474},{"$f":"SUM(AL8:AL9)","v":93401},94071,93980,94973,94880,94810,95811,96417,96345,97205,98540,99949,101509,102469,103902,104782,105716,106962,108199,108185,107899,108153,108327,109235,109095,{"$f":"SUM(BK8:BK9)","v":109728},109659,109587,110040,110356,110995]
[]
[null,null,null,"MYE for  . . . . . .",null,null,null,"Folkestone & Hythe",null,null,null,null,null,null,null,null,null,null,null,null,null,null,null,null,null,null,null,null,null,null,null,null,null,null,null,null,null,null,null,null,"Cummulative Ages",null,null,null,null,null,null,null,null,null,null,null,null,null,null,null,null,null,null,null,null,null,null,null,null,null,null,null,null,"Population Pyramid"]
[null,null,"Base Year",null,null,null,null,null,null,null,null,null,null,null,null,null,null,null,null,null,null,null,null,null,null,null,null,null,null,null,null,null,null,null,null,null,{"$f":"C14","v":1992},1993,1994,1995,1996,1997,1998,1999,2000,2001,2002,2003,2004,2005,2006,2007,2008,2009,2010,2011,2012,2013,2014,2015,2016,2017,2018,2019,2020,2021,2022,2023]
["Sex","Age",1992,1993,1994,1995,1996,1997,1998,1999,2000,2001,2002,2003,2004,2005,2006,2007,2008,2009,2010,2011,2012,2013,2014,2015,2016,2017,2018,2019,2020,2021,2022,2023,null,null,null,null,null,null,null,null,null,null,null,null,null,null,null,null,null,null,null,null,null,null,null,null,null,null,null,null,null,null,null,null,null,null,null,null,null,null,1992,1993,1994,1995,1996,1997,1998,1999,2000,2001,2002,2003,2004,2005,2006,2007,2008,2009,2010,2011,2012,2013,2014,2015,2016,2017,2018,2019,2020,2021,2022,2023,null,{"$f":"INDEX(CC14:CY14,'Population Pyramid'!$L$1)","v":2020}]
[null,"All persons",{"$f":"SUM(C107,C200)","v":93474},{"$f":"SUM(D107,D200)","v":93401},94071,93980,94973,94880,94810,95811,96417,96345,97205,98540,99949,101509,102469,103902,104782,105716,106962,108199,108185,107899,{"$f":"SUM(Y107,Y200)","v":108153},108327,109235,109095,109728,109659,{"$f":"SUM(AE107,AE200)","v":109587},110040,{"$f":"SUM(AG107,AG200)","v":110356},110995,null,"Males",null,null,null,null,null,null,null,null,null,null,null,null,null,null,null,null,null,null,null,null,null,null,null,null,null,null,null,null,null,null,null,null,null,"Males","All Ages",null,{"$f":"C107","v":44410},44203,44867,44540,45121,45102,45093,45643,46121,46123,46736,47488,48299,49123,49903,50723,51297,51867,52557,53287,53244,53061,53101,53045,53449,53424,53723,53623,53548,53719,53781,54100,null,{"$f":"INDEX(CC15:CY15,'Population Pyramid'!$L$1)","v":53548}]
["male",0,634,613,566,518,573,564,577,557,550,456,508,490,553,557,598,583,565,628,580,590,578,577,537,508,544,550,522,535,488,498,480,460,null,0,{"$f":"C16","v":634},613,566,518,573,564,577,557,550,456,508,490,553,557,598,583,565,628,580,590,578,577,537,508,544,550,522,535,488,498,480,460,null,"Males","0-4",null,{"$f":"SUM(C16:C20)","v":3016},3059,3030,3002,3031,2950,2915,2879,2895,2704,2689,2645,2676,2696,2784,2827,2914,2967,3014,2999,3013,3013,2893,2840,2796,2773,2769,2721,2672,2637,2551,2559,null,{"$f":"INDEX(CC16:CY16,'Population Pyramid'!$L$1)","v":2672}]
["male",1,594,656,623,574,547,604,583,567,563,543,463,520,482,551,558,610,584,563,641,597,597,581,569,542,513,544,567,519,533,496,510,491,null,1,{"$f":"AK16+C17","v":1228},{"$f":"AL16+D17","v":1269},{"$f":"AM16+E17","v":1189},{"$f":"AN16+F17","v":1092},{"$f":"AO16+G17","v":1120},{"$f":"AP16+H17","v":1168},{"$f":"AQ16+I17","v":1160},{"$f":"AR16+J17","v":1124},{"$f":"AS16+K17","v":1113},{"$f":"AT16+L17","v":999},{"$f":"AU16+M17","v":971},{"$f":"AV16+N17","v":1010},{"$f":"AW16+O17","v":1035},{"$f":"AX16+P17","v":1108},{"$f":"AY16+Q17","v":1156},{"$f":"AZ16+R17","v":1193},{"$f":"BA16+S17","v":1149},{"$f":"BB16+T17","v":1191},{"$f":"BC16+U17","v":1221},{"$f":"BD16+V17","v":1187},{"$f":"BE16+W17","v":1175},{"$f":"BF16+X17","v":1158},{"$f":"BG16+Y17","v":1106},{"$f":"BH16+Z17","v":1050},{"$f":"BI16+AA17","v":1057},{"$f":"BJ16+AB17","v":1094},{"$f":"BK16+AC17","v":1089},{"$f":"BL16+AD17","v":1054},{"$f":"BM16+AE17","v":1021},{"$f":"BN16+AF17","v":994},{"$f":"BO16+AG17","v":990},951,null,"Males","5-9",null,{"$f":"SUM(C21:C25)","v":2795},2878,2967,2986,3072,3123,3135,3224,3202,3186,3156,3154,3145,3114,2987,2975,2873,2872,2880,2948,2935,2962,3057,3120,3125,3105,3138,3091,3006,2883,2917,2833,null,{"$f":"INDEX(CC17:CY17,'Population Pyramid'!$L$1)","v":3006}]
["male",2,574,603,667,634,592,553,617,570,576,548,560,488,545,493,569,551,612,576,572,656,589,600,576,580,552,522,567,574,517,536,502,524,null,2,1802,1872,1856,1726,1712,1721,1777,1694,1689,1547,1531,1498,1580,1601,1725,1744,1761,1767,1793,1843,1764,1758,1682,1630,1609,1616,1656,1628,1538,1530,1492,1475,null,"Males","10-14",null,{"$f":"SUM(C26:C30)","v":2777},2823,2808,2826,2832,2837,2898,3019,3037,3073,3221,3329,3407,3442,3441,3386,3346,3304,3318,3242,3154,3000,2929,2894,2960,2943,3000,3054,3115,3164,3196,3258,null,{"$f":"INDEX(CC18:CY18,'Population Pyramid'!$L$1)","v":3115}]
["male",3,615,568,599,663,637,584,544,616,579,581,557,574,515,560,506,575,562,629,572,571,665,596,611,585,591,557,525,561,570,520,546,527,null,3,2417,2440,2455,2389,2349,2305,2321,2310,2268,2128,2088,2072,2095,2161,2231,2319,2323,2396,2365,2414,2429,2354,2293,2215,2200,2173,2181,2189,2108,2050,2038,2002,null,"Males","15-19",null,{"$f":"SUM(C31:C35)","v":2579},2396,2457,2432,2493,2557,2642,2678,2707,2699,2722,2884,3001,3140,3308,3404,3416,3450,3468,3424,3340,3291,3228,3148,3099,2955,2840,2846,2803,2833,2946,3157,null,{"$f":"INDEX(CC19:CY19,'Population Pyramid'!$L$1)","v":2803}]
["male",4,599,619,575,613,682,645,594,569,627,576,601,573,581,535,553,508,591,571,649,585,584,659,600,625,596,600,588,532,564,587,513,557,null,4,3016,3059,3030,3002,3031,2950,2915,2879,2895,2704,2689,2645,2676,2696,2784,2827,2914,2967,3014,2999,3013,3013,2893,2840,2796,2773,2769,2721,2672,2637,2551,2559,null,"Males","20-24",null,{"$f":"SUM(C36:C40)","v":3099},2959,2827,2674,2574,2403,2242,2171,2255,2298,2290,2281,2333,2446,2512,2645,2814,2905,3039,3209,3150,3047,3037,2960,2948,2856,2836,2723,2757,2831,2618,2483,null,{"$f":"INDEX(CC20:CY20,'Population Pyramid'!$L$1)","v":2757}]
["male",5,590,595,610,570,614,675,636,617,580,629,590,618,587,586,543,570,506,590,581,650,581,577,668,626,642,580,597,579,549,554,603,521,null,5,3606,3654,3640,3572,3645,3625,3551,3496,3475,3333,3279,3263,3263,3282,3327,3397,3420,3557,3595,3649,3594,3590,3561,3466,3438,3353,3366,3300,3221,3191,3154,3080,null,"Males","25-29",null,{"$f":"SUM(C41:C45)","v":3222},3139,3437,3239,3319,3324,3220,2872,2672,2425,2334,2309,2328,2385,2530,2663,2781,2842,2824,2857,2860,2900,2956,2917,3000,3054,3050,3026,2994,2904,2829,2834,null,{"$f":"INDEX(CC21:CY21,'Population Pyramid'!$L$1)","v":2994}]
["male",6,533,614,615,629,594,633,694,657,621,586,650,604,627,597,579,554,573,509,592,581,651,573,592,664,626,647,587,612,570,537,567,614,null,6,4139,4268,4255,4201,4239,4258,4245,4153,4096,3919,3929,3867,3890,3879,3906,3951,3993,4066,4187,4230,4245,4163,4153,4130,4064,4000,3953,3912,3791,3728,3721,3694,null,"Males","30-34",null,{"$f":"SUM(C46:C50)","v":2996},3068,3252,3249,3373,3435,3454,3475,3356,3214,3211,3189,3057,2945,2813,2705,2653,2674,2686,2845,2922,2848,2754,2738,2716,2733,2887,2894,2901,2982,3024,2973,null,{"$f":"INDEX(CC22:CY22,'Population Pyramid'!$L$1)","v":2901}]
["male",7,567,542,617,618,628,588,627,689,673,623,594,665,609,636,609,597,563,595,522,595,580,649,577,602,682,624,656,603,615,559,563,579,null,7,4706,4810,4872,4819,4867,4846,4872,4842,4769,4542,4523,4532,4499,4515,4515,4548,4556,4661,4709,4825,4825,4812,4730,4732,4746,4624,4609,4515,4406,4287,4284,4273,null,"Males","35-39",null,{"$f":"SUM(C51:C55)","v":2764},2661,2824,2830,2928,3004,3094,3236,3344,3449,3535,3583,3623,3629,3540,3585,3475,3318,3227,3066,2893,2797,2773,2764,2925,2921,2875,2854,2835,2828,2935,3089,null,{"$f":"INDEX(CC23:CY23,'Population Pyramid'!$L$1)","v":2835}]
["male",8,564,570,550,617,618,616,576,642,689,663,636,621,686,612,632,618,608,568,602,517,589,581,644,582,592,661,634,669,600,627,549,561,null,8,5270,5380,5422,5436,5485,5462,5448,5484,5458,5205,5159,5153,5185,5127,5147,5166,5164,5229,5311,5342,5414,5393,5374,5314,5338,5285,5243,5184,5006,4914,4833,4834,null,"Males","40-44",null,{"$f":"SUM(C56:C60)","v":3134},2940,2893,2791,2764,2712,2670,2848,3027,3153,3268,3393,3493,3626,3775,3820,3830,3873,3890,3873,3803,3571,3400,3286,3074,2932,2944,2842,2870,3005,3054,3150,null,{"$f":"INDEX(CC24:CY24,'Population Pyramid'!$L$1)","v":2870}]
["male",9,541,557,575,552,618,611,602,619,639,685,686,646,636,683,624,636,623,610,583,605,534,582,576,646,583,593,664,628,672,606,635,558,null,9,5811,5937,5997,5988,6103,6073,6050,6103,6097,5890,5845,5799,5821,5810,5771,5802,5787,5839,5894,5947,5948,5975,5950,5960,5921,5878,5907,5812,5678,5520,5468,5392,null,"Males","45-49",null,{"$f":"SUM(C61:C65)","v":3158},3341,3341,3352,3338,3128,2950,2935,2884,2841,2830,2903,3078,3235,3416,3506,3664,3753,3838,3949,3968,3972,3978,3962,3932,3873,3682,3533,3370,3124,2969,2969,null,{"$f":"INDEX(CC25:CY25,'Population Pyramid'!$L$1)","v":3370}]
["male",10,582,524,536,572,552,599,589,624,609,631,698,680,679,651,677,651,649,635,633,585,603,535,583,574,637,592,590,665,640,671,618,651,null,10,6393,6461,6533,6560,6655,6672,6639,6727,6706,6521,6543,6479,6500,6461,6448,6453,6436,6474,6527,6532,6551,6510,6533,6534,6558,6470,6497,6477,6318,6191,6086,6043,null,"Males","50-54",null,{"$f":"SUM(C66:C70)","v":2499},2553,2654,2791,2954,3194,3373,3452,3507,3467,3291,3195,3150,3067,3024,3079,3117,3213,3410,3576,3641,3764,3846,3917,4071,4064,4073,4076,4006,3946,3883,3633,null,{"$f":"INDEX(CC26:CY26,'Population Pyramid'!$L$1)","v":4006}]
["male",11,560,585,526,543,584,555,599,619,629,599,644,703,695,688,653,687,660,661,647,637,596,598,529,589,588,633,596,593,664,639,662,624,null,11,6953,7046,7059,7103,7239,7227,7238,7346,7335,7120,7187,7182,7195,7149,7101,7140,7096,7135,7174,7169,7147,7108,7062,7123,7146,7103,7093,7070,6982,6830,6748,6667,null,"Males","55-59",null,{"$f":"SUM(C71:C75)","v":2378},2393,2455,2446,2466,2501,2536,2681,2877,3034,3327,3595,3705,3769,3770,3506,3373,3315,3198,3156,3188,3236,3368,3467,3566,3723,3921,3989,4059,4154,4129,4115,null,{"$f":"INDEX(CC27:CY27,'Population Pyramid'!$L$1)","v":4059}]
["male",12,575,564,591,530,547,588,560,612,609,622,612,666,716,683,697,655,683,669,668,649,622,597,599,536,586,588,628,591,603,658,640,674,null,12,7528,7610,7650,7633,7786,7815,7798,7958,7944,7742,7799,7848,7911,7832,7798,7795,7779,7804,7842,7818,7769,7705,7661,7659,7732,7691,7721,7661,7585,7488,7388,7341,null,"Males","60-64",null,{"$f":"SUM(C76:C80)","v":2254},2276,2229,2262,2280,2327,2333,2465,2538,2610,2684,2730,2852,2971,3194,3581,3833,3882,3991,3982,3679,3461,3377,3309,3267,3272,3303,3410,3511,3715,3827,3979,null,{"$f":"INDEX(CC28:CY28,'Population Pyramid'!$L$1)","v":3511}]
["male",13,582,589,578,609,547,556,603,571,624,606,643,619,682,732,685,701,644,683,684,679,645,633,587,599,542,593,590,623,586,604,658,649,null,13,8110,8199,8228,8242,8333,8371,8401,8529,8568,8348,8442,8467,8593,8564,8483,8496,8423,8487,8526,8497,8414,8338,8248,8258,8274,8284,8311,8284,8171,8092,8046,7990,null,"Males","65-69",null,{"$f":"SUM(C81:C85)","v":2285},2219,2228,2257,2231,2217,2242,2238,2310,2333,2437,2503,2590,2657,2673,2725,2774,2884,2976,3237,3608,3913,3965,4008,4012,3739,3526,3446,3338,3246,3264,3326,null,{"$f":"INDEX(CC29:CY29,'Population Pyramid'!$L$1)","v":3338}]
["male",14,478,561,577,572,602,539,547,593,566,615,624,661,635,688,729,692,710,656,686,692,688,637,631,596,607,537,596,582,622,592,618,660,null,14,8588,8760,8805,8814,8935,8910,8948,9122,9134,8963,9066,9128,9228,9252,9212,9188,9133,9143,9212,9189,9102,8975,8879,8854,8881,8821,8907,8866,8793,8684,8664,8650,null,"Males","70-74",null,{"$f":"SUM(C86:C90)","v":2170},2296,2270,2105,2076,2006,1993,2035,2042,2071,2091,2146,2164,2212,2233,2314,2336,2416,2497,2504,2549,2627,2802,2870,3032,3491,3770,3815,3800,3782,3450,3245,null,{"$f":"INDEX(CC30:CY30,'Population Pyramid'!$L$1)","v":3800}]
["male",15,499,472,557,576,572,595,531,554,598,568,628,647,691,647,713,729,696,724,661,693,688,679,644,629,590,600,545,600,575,616,648,681,null,15,9087,9232,9362,9390,9507,9505,9479,9676,9732,9531,9694,9775,9919,9899,9925,9917,9829,9867,9873,9882,9790,9654,9523,9483,9471,9421,9452,9466,9368,9300,9312,9331,null,"Males","75-79",null,{"$f":"SUM(C91:C95)","v":1654},1575,1494,1602,1654,1683,1759,1752,1701,1687,1654,1642,1677,1701,1741,1799,1872,1874,1915,1940,1999,2039,2110,2141,2194,2229,2312,2435,2550,2696,3091,3350,null,{"$f":"INDEX(CC31:CY31,'Population Pyramid'!$L$1)","v":2550}]
["male",16,519,503,475,564,586,576,595,540,556,608,577,627,665,712,655,717,722,697,736,659,698,686,667,646,639,590,600,551,599,577,683,717,null,16,9606,9735,9837,9954,10093,10081,10074,10216,10288,10139,10271,10402,10584,10611,10580,10634,10551,10564,10609,10541,10488,10340,10190,10129,10110,10011,10052,10017,9967,9877,9995,10048,null,"Males","80-84",null,{"$f":"SUM(C96:C100)","v":1025},987,1068,1052,1082,1063,1005,962,1018,1104,1205,1248,1244,1227,1245,1195,1213,1279,1313,1381,1376,1466,1415,1476,1508,1557,1573,1616,1647,1655,1698,1750,null,{"$f":"INDEX(CC32:CY32,'Population Pyramid'!$L$1)","v":1647}]
["male",17,561,489,507,449,540,564,556,621,560,558,585,556,612,659,716,652,718,712,703,736,656,682,680,669,650,611,574,601,556,598,593,696,null,17,10167,10224,10344,10403,10633,10645,10630,10837,10848,10697,10856,10958,11196,11270,11296,11286,11269,11276,11312,11277,11144,11022,10870,10798,10760,10622,10626,10618,10523,10475,10588,10744,null,"Males","85+",null,{"$f":"SUM(C101:C106)","v":605},640,633,644,654,638,632,721,749,775,791,759,776,861,917,1008,1013,1046,1073,1099,1166,1154,1213,1228,1224,1204,1224,1252,1314,1334,1400,1397,null,{"$f":"INDEX(CC33:CY33,'Population Pyramid'!$L$1)","v":1314}]
["male",18,458,505,472,461,422,504,523,522,538,509,549,593,551,631,679,716,650,721,703,698,700,642,675,648,656,615,613,576,589,554,594,577,null,18,10625,10729,10816,10864,11055,11149,11153,11359,11386,11206,11405,11551,11747,11901,11975,12002,11919,11997,12015,11975,11844,11664,11545,11446,11416,11237,11239,11194,11112,11029,11182,11321]
["male",19,542,427,446,382,373,318,437,441,455,456,383,461,482,491,545,590,630,596,665,638,598,602,562,556,564,539,508,518,484,488,428,486,null,19,11167,11156,11262,11246,11428,11467,11590,11800,11841,11662,11788,12012,12229,12392,12520,12592,12549,12593,12680,12613,12442,12266,12107,12002,11980,11776,11747,11712,11596,11517,11610,11807,null,"Males","All Ages",null,{"$f":"C200","v":49064},49198,49204,49440,49852,49778,49717,50168,50296,50222,50469,51052,51650,52386,52566,53179,53485,53849,54405,54912,54941,54838,55052,55282,55786,55671,56005,56036,56039,56321,56575,56895,null,{"$f":"INDEX(CC35:CY35,'Population Pyramid'!$L$1)","v":56039}]
["male",20,591,543,414,422,378,370,352,466,484,458,425,369,436,464,484,524,578,602,580,635,603,569,584,509,543,548,520,473,504,505,453,417,null,20,11758,11699,11676,11668,11806,11837,11942,12266,12325,12120,12213,12381,12665,12856,13004,13116,13127,13195,13260,13248,13045,12835,12691,12511,12523,12324,12267,12185,12100,12022,12063,12224,null,"Females","0-4",null,{"$f":"SUM(C109:C113)","v":2906},2916,2916,2873,2847,2804,2790,2777,2722,2616,2574,2576,2513,2500,2508,2627,2687,2755,2887,2977,2944,2857,2893,2814,2807,2710,2654,2509,2518,2451,2484,2452,null,{"$f":"INDEX(CC36:CY36,'Population Pyramid'!$L$1)","v":2518}]
["male",21,597,600,516,425,456,411,405,381,464,469,505,466,408,501,512,527,561,606,636,606,631,589,589,560,534,520,579,536,519,528,516,478,null,21,12355,12299,12192,12093,12262,12248,12347,12647,12789,12589,12718,12847,13073,13357,13516,13643,13688,13801,13896,13854,13676,13424,13280,13071,13057,12844,12846,12721,12619,12550,12579,12702,null,"Females","5-9",null,{"$f":"SUM(C114:C118)","v":2673},2726,2822,2960,3054,3076,3030,3092,3036,2900,2912,2923,2965,2953,2947,2861,2768,2692,2643,2625,2713,2770,2803,2899,3027,2993,2991,2983,2858,2822,2788,2801,null,{"$f":"INDEX(CC37:CY37,'Population Pyramid'!$L$1)","v":2858}]
["male",22,597,604,621,541,478,498,442,418,410,454,483,518,494,447,525,542,562,591,651,675,584,636,646,623,600,549,550,601,561,549,549,545,null,22,12952,12903,12813,12634,12740,12746,12789,13065,13199,13043,13201,13365,13567,13804,14041,14185,14250,14392,14547,14529,14260,14060,13926,13694,13657,13393,13396,13322,13180,13099,13128,13247,null,"Females","10-14",null,{"$f":"SUM(C119:C123)","v":2685},2779,2753,2761,2781,2813,2850,2990,3084,3206,3206,3268,3293,3253,3144,3163,3154,3101,3107,3086,2932,2844,2760,2657,2705,2740,2811,2898,2974,3040,3052,3013,null,{"$f":"INDEX(CC38:CY38,'Population Pyramid'!$L$1)","v":2974}]
["male",23,639,588,638,647,611,532,536,432,447,433,440,467,504,489,468,532,545,551,595,656,678,587,649,631,606,637,552,567,610,613,525,537,null,23,13591,13491,13451,13281,13351,13278,13325,13497,13646,13476,13641,13832,14071,14293,14509,14717,14795,14943,15142,15185,14938,14647,14575,14325,14263,14030,13948,13889,13790,13712,13653,13784,null,"Females","15-19",null,{"$f":"SUM(C124:C128)","v":2550},2397,2406,2374,2431,2473,2586,2666,2636,2635,2692,2833,2997,3178,3263,3300,3299,3306,3229,3172,3146,3094,3009,2981,2890,2754,2664,2603,2518,2535,2581,2650,null,{"$f":"INDEX(CC39:CY39,'Population Pyramid'!$L$1)","v":2518}]
["male",24,675,624,638,639,651,592,507,474,450,484,437,461,491,545,523,520,568,555,577,637,654,666,569,637,665,602,635,546,563,636,575,506,null,24,14266,14115,14089,13920,14002,13870,13832,13971,14096,13960,14078,14293,14562,14838,15032,15237,15363,15498,15719,15822,15592,15313,15144,14962,14928,14632,14583,14435,14353,14348,14228,14290,null,"Females","20-24",null,{"$f":"SUM(C129:C133)","v":2938},2940,2780,2743,2673,2513,2373,2151,2213,2284,2223,2254,2267,2432,2379,2534,2574,2698,2836,3015,3019,2963,2919,2826,2754,2654,2618,2541,2509,2447,2297,2269,null,{"$f":"INDEX(CC40:CY40,'Population Pyramid'!$L$1)","v":2509}]
["male",25,654,635,751,615,657,644,574,498,487,457,501,448,472,512,558,572,531,595,563,623,589,634,637,558,622,648,596,610,553,553,641,586,null,25,14920,14750,14840,14535,14659,14514,14406,14469,14583,14417,14579,14741,15034,15350,15590,15809,15894,16093,16282,16445,16181,15947,15781,15520,15550,15280,15179,15045,14906,14901,14869,14876,null,"Females","25-29",null,{"$f":"SUM(C134:C138)","v":3291},3293,3347,3339,3363,3333,3252,3059,2899,2670,2511,2421,2416,2490,2581,2637,2734,2763,2786,2753,2742,2706,2801,2936,3075,3054,3124,3054,2923,2926,2897,2822,null,{"$f":"INDEX(CC41:CY41,'Population Pyramid'!$L$1)","v":2923}]
["male",26,610,586,629,653,619,635,614,548,466,444,426,474,449,478,515,562,570,514,571,560,623,579,634,625,565,613,654,598,608,542,519,610,null,26,15530,15336,15469,15188,15278,15149,15020,15017,15049,14861,15005,15215,15483,15828,16105,16371,16464,16607,16853,17005,16804,16526,16415,16145,16115,15893,15833,15643,15514,15443,15388,15486,null,"Females","30-34",null,{"$f":"SUM(C139:C143)","v":2946},2983,3077,3213,3326,3393,3377,3415,3345,3196,3144,3179,3062,3013,2915,2738,2652,2639,2722,2775,2872,2921,2890,2879,2818,2847,2895,3020,3159,3252,3298,3405,null,{"$f":"INDEX(CC42:CY42,'Population Pyramid'!$L$1)","v":3159}]
["male",27,672,624,644,645,681,634,645,585,533,455,450,440,472,446,500,532,585,567,500,581,574,574,573,610,625,559,628,652,578,600,527,506,null,27,16202,15960,16113,15833,15959,15783,15665,15602,15582,15316,15455,15655,15955,16274,16605,16903,17049,17174,17353,17586,17378,17100,16988,16755,16740,16452,16461,16295,16092,16043,15915,15992,null,"Females","35-39",null,{"$f":"SUM(C144:C148)","v":2952},2995,3031,3072,3151,3161,3197,3344,3441,3521,3597,3621,3688,3680,3615,3540,3465,3351,3246,3095,2925,2798,2754,2868,2982,3056,3154,3143,3096,3096,3197,3285,null,{"$f":"INDEX(CC43:CY43,'Population Pyramid'!$L$1)","v":3096}]
["male",28,611,659,655,638,671,699,647,606,571,494,465,454,460,475,466,515,547,591,569,517,579,567,549,563,623,616,553,608,662,565,604,541,null,28,16813,16619,16768,16471,16630,16482,16312,16208,16153,15810,15920,16109,16415,16749,17071,17418,17596,17765,17922,18103,17957,17667,17537,17318,17363,17068,17014,16903,16754,16608,16519,16533,null,"Females","40-44",null,{"$f":"SUM(C149:C153)","v":3146},3028,2991,2941,2988,3013,3054,3120,3206,3297,3366,3453,3544,3674,3736,3897,3898,3909,3846,3788,3686,3622,3469,3333,3290,3150,3048,3064,3135,3249,3353,3441,null,{"$f":"INDEX(CC44:CY44,'Population Pyramid'!$L$1)","v":3135}]
["male",29,675,635,758,688,691,712,740,635,615,575,492,493,475,474,491,482,548,575,621,576,495,546,563,561,565,618,619,558,593,644,538,591,null,29,17488,17254,17526,17159,17321,17194,17052,16843,16768,16385,16412,16602,16890,17223,17562,17900,18144,18340,18543,18679,18452,18213,18100,17879,17928,17686,17633,17461,17347,17252,17057,17124,null,"Females","45-49",null,{"$f":"SUM(C154:C158)","v":3146},3273,3353,3436,3401,3198,3062,3083,3087,3105,3184,3250,3312,3407,3516,3544,3625,3732,3866,3890,3961,3980,4007,3955,3887,3823,3803,3642,3519,3442,3325,3227,null,{"$f":"INDEX(CC45:CY45,'Population Pyramid'!$L$1)","v":3519}]
["male",30,599,640,682,712,692,690,701,672,611,598,580,516,502,499,477,503,478,552,593,620,587,485,523,548,571,563,611,605,565,593,635,547,null,30,18087,17894,18208,17871,18013,17884,17753,17515,17379,16983,16992,17118,17392,17722,18039,18403,18622,18892,19136,19299,19039,18698,18623,18427,18499,18249,18244,18066,17912,17845,17692,17671,null,"Females","50-54",null,{"$f":"SUM(C159:C163)","v":2503},2633,2687,2745,2906,3196,3350,3496,3599,3541,3392,3300,3297,3275,3295,3377,3397,3436,3531,3679,3676,3723,3824,3979,4048,4088,4139,4157,4086,4029,3955,3918,null,{"$f":"INDEX(CC46:CY46,'Population Pyramid'!$L$1)","v":4086}]
["male",31,612,603,691,669,737,700,700,691,659,612,609,605,544,513,504,501,515,478,550,614,622,584,469,528,561,564,585,586,596,577,586,644,null,31,18699,18497,18899,18540,18750,18584,18453,18206,18038,17595,17601,17723,17936,18235,18543,18904,19137,19370,19686,19913,19661,19282,19092,18955,19060,18813,18829,18652,18508,18422,18278,18315,null,"Females","55-59",null,{"$f":"SUM(C164:C168)","v":2445},2466,2536,2602,2621,2585,2679,2793,2885,3085,3447,3651,3794,3875,3845,3630,3535,3438,3418,3404,3520,3500,3562,3672,3822,3864,3963,4024,4158,4243,4240,4246,null,{"$f":"INDEX(CC47:CY47,'Population Pyramid'!$L$1)","v":4158}]
["male",32,628,602,618,664,674,732,689,674,674,647,643,626,640,574,548,521,508,519,495,564,603,613,556,475,534,558,572,587,606,610,570,583,null,32,19327,19099,19517,19204,19424,19316,19142,18880,18712,18242,18244,18349,18576,18809,19091,19425,19645,19889,20181,20477,20264,19895,19648,19430,19594,19371,19401,19239,19114,19032,18848,18898,null,"Females","60-64",null,{"$f":"SUM(C169:C173)","v":2651},2547,2472,2443,2409,2497,2509,2605,2754,2789,2819,2916,3024,3109,3333,3693,3902,3981,4131,4103,3820,3737,3688,3631,3585,3688,3675,3698,3780,3918,3980,4096,null,{"$f":"INDEX(CC48:CY48,'Population Pyramid'!$L$1)","v":3780}]
["male",33,612,615,595,601,658,659,713,717,685,659,705,718,687,677,611,585,573,546,524,529,563,615,613,558,500,543,578,558,584,595,612,566,null,33,{"$f":"AK48+C49","v":19939},{"$f":"AL48+D49","v":19714},{"$f":"AM48+E49","v":20112},{"$f":"AN48+F49","v":19805},{"$f":"AO48+G49","v":20082},{"$f":"AP48+H49","v":19975},{"$f":"AQ48+I49","v":19855},{"$f":"AR48+J49","v":19597},{"$f":"AS48+K49","v":19397},{"$f":"AT48+L49","v":18901},{"$f":"AU48+M49","v":18949},{"$f":"AV48+N49","v":19067},{"$f":"AW48+O49","v":19263},{"$f":"AX48+P49","v":19486},{"$f":"AY48+Q49","v":19702},{"$f":"AZ48+R49","v":20010},{"$f":"BA48+S49","v":20218},{"$f":"BB48+T49","v":20435},{"$f":"BC48+U49","v":20705},{"$f":"BD48+V49","v":21006},{"$f":"BE48+W49","v":20827},{"$f":"BF48+X49","v":20510},{"$f":"BG48+Y49","v":20261},{"$f":"BH48+Z49","v":19988},{"$f":"BI48+AA49","v":20094},{"$f":"BJ48+AB49","v":19914},{"$f":"BK48+AC49","v":19979},{"$f":"BL48+AD49","v":19797},{"$f":"BM48+AE49","v":19698},{"$f":"BN48+AF49","v":19627},{"$f":"BO48+AG49","v":19460},19464,null,"Females","65-69",null,{"$f":"SUM(C174:C178)","v":2917},2870,2758,2714,2653,2583,2522,2511,2505,2497,2586,2621,2711,2811,2787,2843,2942,3056,3094,3396,3730,3930,4074,4175,4151,3902,3822,3723,3671,3588,3674,3664,null,{"$f":"INDEX(CC49:CY49,'Population Pyramid'!$L$1)","v":3671}]
["male",34,545,608,666,603,612,654,651,721,727,698,674,724,684,682,673,595,579,579,524,518,547,551,593,629,550,505,541,558,550,607,621,633,null,34,20484,20322,20778,20408,20694,20629,20506,20318,20124,19599,19623,19791,19947,20168,20375,20605,20797,21014,21229,21524,21374,21061,20854,20617,20644,20419,20520,20355,20248,20234,20081,20097,null,"Females","70-74",null,{"$f":"SUM(C179:C183)","v":2819},2913,3034,2854,2790,2722,2669,2602,2552,2533,2492,2485,2428,2429,2402,2488,2514,2582,2662,2658,2713,2853,2971,3021,3281,3632,3821,3973,4038,3964,3747,3656,null,{"$f":"INDEX(CC50:CY50,'Population Pyramid'!$L$1)","v":4038}]
["male",35,528,521,620,623,611,605,638,658,713,714,734,722,743,689,702,700,620,600,600,543,523,549,531,593,632,538,501,545,571,551,625,635,null,35,21012,20843,21398,21031,21305,21234,21144,20976,20837,20313,20357,20513,20690,20857,21077,21305,21417,21614,21829,22067,21897,21610,21385,21210,21276,20957,21021,20900,20819,20785,20706,20732,null,"Females","75-79",null,{"$f":"SUM(C184:C188)","v":2571},2432,2282,2378,2414,2409,2482,2645,2529,2498,2441,2383,2348,2317,2325,2283,2250,2197,2225,2196,2242,2286,2374,2445,2442,2493,2626,2747,2792,3077,3372,3530,null,{"$f":"INDEX(CC51:CY51,'Population Pyramid'!$L$1)","v":2792}]
["male",36,533,514,531,597,622,605,595,677,664,712,739,741,710,737,691,721,698,613,605,598,546,521,560,549,621,636,552,503,556,588,570,642,null,36,21545,21357,21929,21628,21927,21839,21739,21653,21501,21025,21096,21254,21400,21594,21768,22026,22115,22227,22434,22665,22443,22131,21945,21759,21897,21593,21573,21403,21375,21373,21276,21374,null,"Females","80-84",null,{"$f":"SUM(C189:C193)","v":2060},2033,2026,2005,2013,1994,1862,1757,1795,1866,1941,2019,2094,2034,1993,1941,1937,1943,1895,1936,1911,1864,1841,1847,1844,1855,1864,1957,2060,2021,2071,2166,null,{"$f":"INDEX(CC52:CY52,'Population Pyramid'!$L$1)","v":2060}]
["male",37,554,527,534,527,605,627,608,628,704,684,698,725,718,716,725,711,724,689,611,603,594,550,539,556,552,620,635,550,519,579,587,580,null,37,22099,21884,22463,22155,22532,22466,22347,22281,22205,21709,21794,21979,22118,22310,22493,22737,22839,22916,23045,23268,23037,22681,22484,22315,22449,22213,22208,21953,21894,21952,21863,21954,null,"Females","85+",null,{"$f":"SUM(C194:C199)","v":1865},1974,1933,1987,2031,2015,2073,2062,2008,1983,1942,1899,1897,1956,1982,2083,2152,2270,2281,2364,2389,2390,2413,2364,2378,2368,2333,2300,2245,2221,2264,2254,null,{"$f":"INDEX(CC53:CY53,'Population Pyramid'!$L$1)","v":2245}]
["male",38,560,551,556,536,545,616,639,626,618,701,663,702,742,711,706,718,705,714,689,618,603,583,540,544,568,559,621,626,556,544,579,608,null,38,22659,22435,23019,22691,23077,23082,22986,22907,22823,22410,22457,22681,22860,23021,23199,23455,23544,23630,23734,23886,23640,23264,23024,22859,23017,22772,22829,22579,22450,22496,22442,22562]
["male",39,589,548,583,547,545,551,614,647,645,638,701,693,710,776,716,735,728,702,722,704,627,594,603,522,552,568,566,630,633,566,574,624,null,39,23248,22983,23602,23238,23622,23633,23600,23554,23468,23048,23158,23374,23570,23797,23915,24190,24272,24332,24456,24590,24267,23858,23627,23381,23569,23340,23395,23209,23083,23062,23016,23186]
["male",40,567,554,531,529,540,532,537,621,651,640,654,731,726,744,801,740,770,765,729,749,713,604,595,590,537,547,568,565,632,649,586,596,null,40,23815,23537,24133,23767,24162,24165,24137,24175,24119,23688,23812,24105,24296,24541,24716,24930,25042,25097,25185,25339,24980,24462,24222,23971,24106,23887,23963,23774,23715,23711,23602,23782]
["male",41,611,563,575,529,530,536,529,599,644,659,661,659,738,732,757,814,745,802,788,754,745,707,614,600,586,561,561,560,574,640,653,606,null,41,24426,24100,24708,24296,24692,24701,24666,24774,24763,24347,24473,24764,25034,25273,25473,25744,25787,25899,25973,26093,25725,25169,24836,24571,24692,24448,24524,24334,24289,24351,24255,24388]
["male",42,605,596,569,559,539,533,538,554,605,646,668,654,688,749,737,742,806,747,806,796,756,732,701,610,625,589,566,560,562,574,638,662,null,42,25031,24696,25277,24855,25231,25234,25204,25328,25368,24993,25141,25418,25722,26022,26210,26486,26593,26646,26779,26889,26481,25901,25537,25181,25317,25037,25090,24894,24851,24925,24893,25050]
["male",43,617,610,599,575,566,536,528,534,584,610,668,669,670,701,770,743,748,803,771,809,785,747,749,710,614,627,606,560,551,582,588,665,null,43,25648,25306,25876,25430,25797,25770,25732,25862,25952,25603,25809,26087,26392,26723,26980,27229,27341,27449,27550,27698,27266,26648,26286,25891,25931,25664,25696,25454,25402,25507,25481,25715]
["male",44,734,617,619,599,589,575,538,540,543,598,617,680,671,700,710,781,761,756,796,765,804,781,741,776,712,608,643,597,551,560,589,621,null,44,26382,25923,26495,26029,26386,26345,26270,26402,26495,26201,26426,26767,27063,27423,27690,28010,28102,28205,28346,28463,28070,27429,27027,26667,26643,26272,26339,26051,25953,26067,26070,26336]
["male",45,767,722,600,609,585,574,557,540,534,554,599,637,684,684,708,728,794,763,764,817,760,801,785,748,783,695,607,646,602,555,562,606,null,45,27149,26645,27095,26638,26971,26919,26827,26942,27029,26755,27025,27404,27747,28107,28398,28738,28896,28968,29110,29280,28830,28230,27812,27415,27426,26967,26946,26697,26555,26622,26632,26942]
["male",46,621,764,720,594,610,577,570,593,543,541,548,608,631,695,712,709,733,804,758,769,841,761,798,781,751,794,708,606,634,609,546,562,null,46,27770,27409,27815,27232,27581,27496,27397,27535,27572,27296,27573,28012,28378,28802,29110,29447,29629,29772,29868,30049,29671,28991,28610,28196,28177,27761,27654,27303,27189,27231,27178,27504]
["male",47,595,626,769,731,603,617,579,584,603,538,546,563,633,654,697,720,718,746,818,772,775,844,753,818,804,756,799,716,596,641,611,538,null,47,28365,28035,28584,27963,28184,28113,27976,28119,28175,27834,28119,28575,29011,29456,29807,30167,30347,30518,30686,30821,30446,29835,29363,29014,28981,28517,28453,28019,27785,27872,27789,28042]
["male",48,620,609,633,781,748,610,631,595,601,605,522,545,572,622,653,691,713,719,753,820,784,788,843,763,826,807,754,811,725,601,649,611,null,48,28985,28644,29217,28744,28932,28723,28607,28714,28776,28439,28641,29120,29583,30078,30460,30858,31060,31237,31439,31641,31230,30623,30206,29777,29807,29324,29207,28830,28510,28473,28438,28653]
["male",49,555,620,619,637,792,750,613,623,603,603,615,550,558,580,646,658,706,721,745,771,808,778,799,852,768,821,814,754,813,718,601,652,null,49,29540,29264,29836,29381,29724,29473,29220,29337,29379,29042,29256,29670,30141,30658,31106,31516,31766,31958,32184,32412,32038,31401,31005,30629,30575,30145,30021,29584,29323,29191,29039,29305]
["male",50,548,556,613,624,636,789,751,618,634,613,608,611,566,557,591,649,663,708,720,746,773,799,791,797,845,781,825,823,750,815,723,604,null,50,30088,29820,30449,30005,30360,30262,29971,29955,30013,29655,29864,30281,30707,31215,31697,32165,32429,32666,32904,33158,32811,32200,31796,31426,31420,30926,30846,30407,30073,30006,29762,29909]
["male",51,469,550,554,608,629,634,786,757,632,635,621,625,618,576,570,614,660,655,726,725,746,760,823,792,798,842,765,816,805,731,801,710,null,51,30557,30370,31003,30613,30989,30896,30757,30712,30645,30290,30485,30906,31325,31791,32267,32779,33089,33321,33630,33883,33557,32960,32619,32218,32218,31768,31611,31223,30878,30737,30563,30619]
["male",52,480,464,536,548,599,625,624,816,766,632,648,631,635,625,592,573,627,665,661,732,712,750,766,823,806,799,861,762,820,826,711,802,null,52,31037,30834,31539,31161,31588,31521,31381,31528,31411,30922,31133,31537,31960,32416,32859,33352,33716,33986,34291,34615,34269,33710,33385,33041,33024,32567,32472,31985,31698,31563,31274,31421]
["male",53,503,481,472,537,553,595,627,631,826,760,639,666,654,639,633,611,562,620,672,680,731,718,743,768,842,803,812,870,765,824,825,697,null,53,31540,31315,32011,31698,32141,32116,32008,32159,32237,31682,31772,32203,32614,33055,33492,33963,34278,34606,34963,35295,35000,34428,34128,33809,33866,33370,33284,32855,32463,32387,32099,32118]
["male",54,499,502,479,474,537,551,585,630,649,827,775,662,677,670,638,632,605,565,631,693,679,737,723,737,780,839,810,805,866,750,823,820,null,54,32039,31817,32490,32172,32678,32667,32593,32789,32886,32509,32547,32865,33291,33725,34130,34595,34883,35171,35594,35988,35679,35165,34851,34546,34646,34209,34094,33660,33329,33137,32922,32938]
["male",55,490,501,499,479,479,532,549,603,639,653,842,782,673,687,663,629,628,614,570,623,697,680,737,731,752,782,859,816,806,880,767,848,null,55,32529,32318,32989,32651,33157,33199,33142,33392,33525,33162,33389,33647,33964,34412,34793,35224,35511,35785,36164,36611,36376,35845,35588,35277,35398,34991,34953,34476,34135,34017,33689,33786]
["male",56,476,497,507,506,486,488,535,556,606,650,658,866,779,671,688,685,643,633,618,580,637,680,689,742,723,765,800,853,814,807,888,756,null,56,33005,32815,33496,33157,33643,33687,33677,33948,34131,33812,34047,34513,34743,35083,35481,35909,36154,36418,36782,37191,37013,36525,36277,36019,36121,35756,35753,35329,34949,34824,34577,34542]
["male",57,494,464,489,499,497,475,481,543,569,602,646,677,897,795,676,695,692,657,639,635,583,660,674,686,750,718,770,798,852,825,804,885,null,57,33499,33279,33985,33656,34140,34162,34158,34491,34700,34414,34693,35190,35640,35878,36157,36604,36846,37075,37421,37826,37596,37185,36951,36705,36871,36474,36523,36127,35801,35649,35381,35427]
["male",58,434,497,469,500,506,501,480,483,563,577,603,650,687,915,807,690,707,699,666,638,629,592,656,652,682,768,731,781,793,848,817,805,null,58,33933,33776,34454,34156,34646,34663,34638,34974,35263,34991,35296,35840,36327,36793,36964,37294,37553,37774,38087,38464,38225,37777,37607,37357,37553,37242,37254,36908,36594,36497,36198,36232]
["male",59,484,434,491,462,498,505,491,496,500,552,578,620,669,701,936,807,703,712,705,680,642,624,612,656,659,690,761,741,794,794,853,821,null,59,34417,34210,34945,34618,35144,35168,35129,35470,35763,35543,35874,36460,36996,37494,37900,38101,38256,38486,38792,39144,38867,38401,38219,38013,38212,37932,38015,37649,37388,37291,37051,37053]
["male",60,436,482,429,486,459,491,497,507,510,510,549,581,632,669,720,935,820,722,721,705,666,655,637,602,650,650,686,765,747,801,792,854,null,60,34853,34692,35374,35104,35603,35659,35626,35977,36273,36053,36423,37041,37628,38163,38620,39036,39076,39208,39513,39849,39533,39056,38856,38615,38862,38582,38701,38414,38135,38092,37843,37907]
["male",61,444,437,481,431,479,454,492,520,517,509,509,552,588,655,663,714,951,826,743,724,700,658,653,658,609,655,652,700,753,766,784,794,null,61,35297,35129,35855,35535,36082,36113,36118,36497,36790,36562,36932,37593,38216,38818,39283,39750,40027,40034,40256,40573,40233,39714,39509,39273,39471,39237,39353,39114,38888,38858,38627,38701]
["male",62,440,436,435,478,425,469,447,505,530,529,533,516,557,583,674,670,719,949,840,746,721,707,669,651,661,627,658,666,701,779,785,788,null,62,35737,35565,36290,36013,36507,36582,36565,37002,37320,37091,37465,38109,38773,39401,39957,40420,40746,40983,41096,41319,40954,40421,40178,39924,40132,39864,40011,39780,39589,39637,39412,39489]
["male",63,472,443,432,435,484,427,464,466,506,543,537,542,518,554,588,670,671,723,951,847,745,715,710,676,665,670,634,651,671,699,764,779,null,63,36209,36008,36722,36448,36991,37009,37029,37468,37826,37634,38002,38651,39291,39955,40545,41090,41417,41706,42047,42166,41699,41136,40888,40600,40797,40534,40645,40431,40260,40336,40176,40268]
["male",64,462,478,452,432,433,486,433,467,475,519,556,539,557,510,549,592,672,662,736,960,847,726,708,722,682,670,673,628,639,670,702,764,null,64,36671,36486,37174,36880,37424,37495,37462,37935,38301,38153,38558,39190,39848,40465,41094,41682,42089,42368,42783,43126,42546,41862,41596,41322,41479,41204,41318,41059,40899,41006,40878,41032]
["male",65,481,465,493,456,443,436,492,440,481,470,521,562,545,569,508,565,572,671,669,731,963,857,732,706,733,694,666,669,635,632,671,697,null,65,{"$f":"AK80+C81","v":37152},{"$f":"AL80+D81","v":36951},{"$f":"AM80+E81","v":37667},{"$f":"AN80+F81","v":37336},{"$f":"AO80+G81","v":37867},{"$f":"AP80+H81","v":37931},{"$f":"AQ80+I81","v":37954},{"$f":"AR80+J81","v":38375},{"$f":"AS80+K81","v":38782},{"$f":"AT80+L81","v":38623},{"$f":"AU80+M81","v":39079},{"$f":"AV80+N81","v":39752},{"$f":"AW80+O81","v":40393},{"$f":"AX80+P81","v":41034},{"$f":"AY80+Q81","v":41602},{"$f":"AZ80+R81","v":42247},{"$f":"BA80+S81","v":42661},{"$f":"BB80+T81","v":43039},{"$f":"BC80+U81","v":43452},{"$f":"BD80+V81","v":43857},{"$f":"BE80+W81","v":43509},{"$f":"BF80+X81","v":42719},{"$f":"BG80+Y81","v":42328},{"$f":"BH80+Z81","v":42028},{"$f":"BI80+AA81","v":42212},{"$f":"BJ80+AB81","v":41898},{"$f":"BK80+AC81","v":41984},{"$f":"BL80+AD81","v":41728},{"$f":"BM80+AE81","v":41534},{"$f":"BN80+AF81","v":41638},{"$f":"BO80+AG81","v":41549},41729]
["male",66,450,464,456,484,450,434,431,482,455,492,481,519,552,552,575,517,571,566,682,671,716,983,869,752,712,728,703,665,675,635,629,674,null,66,37602,37415,38123,37820,38317,38365,38385,38857,39237,39115,39560,40271,40945,41586,42177,42764,43232,43605,44134,44528,44225,43702,43197,42780,42924,42626,42687,42393,42209,42273,42178,42403]
["male",67,433,440,437,449,477,440,418,444,486,455,495,483,525,544,550,584,518,560,573,694,663,719,986,846,735,709,711,689,656,675,640,640,null,67,38035,37855,38560,38269,38794,38805,38803,39301,39723,39570,40055,40754,41470,42130,42727,43348,43750,44165,44707,45222,44888,44421,44183,43626,43659,43335,43398,43082,42865,42948,42818,43043]
["male",68,441,418,434,427,439,470,429,444,439,483,458,486,481,523,529,536,586,505,552,585,688,664,720,992,856,744,719,708,669,647,667,649,null,68,38476,38273,38994,38696,39233,39275,39232,39745,40162,40053,40513,41240,41951,42653,43256,43884,44336,44670,45259,45807,45576,45085,44903,44618,44515,44079,44117,43790,43534,43595,43485,43692]
["male",69,480,432,408,441,422,437,472,428,449,433,482,453,487,469,511,523,527,582,500,556,578,690,658,712,976,864,727,715,703,657,657,666,null,69,38956,38705,39402,39137,39655,39712,39704,40173,40611,40486,40995,41693,42438,43122,43767,44407,44863,45252,45759,46363,46154,45775,45561,45330,45491,44943,44844,44505,44237,44252,44142,44358]
["male",70,495,468,419,409,447,404,433,456,441,443,431,473,453,483,460,499,520,518,577,499,547,582,678,642,703,979,857,708,704,707,645,645,null,70,39451,39173,39821,39546,40102,40116,40137,40629,41052,40929,41426,42166,42891,43605,44227,44906,45383,45770,46336,46862,46701,46357,46239,45972,46194,45922,45701,45213,44941,44959,44787,45003]
["male",71,482,474,441,394,402,427,391,415,445,443,437,428,471,439,476,456,499,504,516,556,505,545,573,677,638,695,965,858,690,676,701,618,null,71,39933,39647,40262,39940,40504,40543,40528,41044,41497,41372,41863,42594,43362,44044,44703,45362,45882,46274,46852,47418,47206,46902,46812,46649,46832,46617,46666,46071,45631,45635,45488,45621]
["male",72,539,481,464,431,392,405,421,389,394,438,425,422,419,471,430,485,446,495,487,506,544,500,531,553,655,636,680,960,831,666,642,689,null,72,40472,40128,40726,40371,40896,40948,40949,41433,41891,41810,42288,43016,43781,44515,45133,45847,46328,46769,47339,47924,47750,47402,47343,47202,47487,47253,47346,47031,46462,46301,46130,46310]
["male",73,371,519,458,438,414,383,389,396,376,385,427,410,420,409,466,424,468,438,484,468,497,530,491,518,538,646,633,664,931,816,660,640,null,73,40843,40647,41184,40809,41310,41331,41338,41829,42267,42195,42715,43426,44201,44924,45599,46271,46796,47207,47823,48392,48247,47932,47834,47720,48025,47899,47979,47695,47393,47117,46790,46950]
["male",74,283,354,488,433,421,387,359,379,386,362,371,413,401,410,401,450,403,461,433,475,456,470,529,480,498,535,635,625,644,917,802,653,null,74,41126,41001,41672,41242,41731,41718,41697,42208,42653,42557,43086,43839,44602,45334,46000,46721,47199,47668,48256,48867,48703,48402,48363,48200,48523,48434,48614,48320,48037,48034,47592,47603]
["male",75,352,274,340,455,419,407,368,344,369,371,350,347,395,382,397,381,439,389,444,423,460,442,456,511,473,486,530,618,612,611,893,776,null,75,41478,41275,42012,41697,42150,42125,42065,42552,43022,42928,43436,44186,44997,45716,46397,47102,47638,48057,48700,49290,49163,48844,48819,48711,48996,48920,49144,48938,48649,48645,48485,48379]
["male",76,353,332,260,327,437,385,387,352,327,350,359,335,333,380,375,395,356,419,374,447,400,455,436,444,484,463,477,507,601,592,603,874,null,76,41831,41607,42272,42024,42587,42510,42452,42904,43349,43278,43795,44521,45330,46096,46772,47497,47994,48476,49074,49737,49563,49299,49255,49155,49480,49383,49621,49445,49250,49237,49088,49253]
["male",77,332,320,307,237,301,407,359,375,331,313,342,343,317,330,365,362,379,354,409,358,440,384,436,419,436,466,440,464,489,577,573,602,null,77,42163,41927,42579,42261,42888,42917,42811,43279,43680,43591,44137,44864,45647,46426,47137,47859,48373,48830,49483,50095,50003,49683,49691,49574,49916,49849,50061,49909,49739,49814,49661,49855]
["male",78,362,315,314,298,224,285,385,341,351,312,301,332,325,304,309,360,352,371,341,386,342,437,362,418,407,425,453,420,450,477,565,556,null,78,42525,42242,42893,42559,43112,43202,43196,43620,44031,43903,44438,45196,45972,46730,47446,48219,48725,49201,49824,50481,50345,50120,50053,49992,50323,50274,50514,50329,50189,50291,50226,50411]
["male",79,255,334,273,285,273,199,260,340,323,341,302,285,307,305,295,301,346,341,347,326,357,321,420,349,394,389,412,426,398,439,457,542,null,79,42780,42576,43166,42844,43385,43401,43456,43960,44354,44244,44740,45481,46279,47035,47741,48520,49071,49542,50171,50807,50702,50441,50473,50341,50717,50663,50926,50755,50587,50730,50683,50953]
["male",80,250,229,305,259,261,243,181,250,310,299,320,273,261,292,289,281,283,338,317,333,320,349,300,395,341,374,367,386,398,383,413,429,null,80,43030,42805,43471,43103,43646,43644,43637,44210,44664,44543,45060,45754,46540,47327,48030,48801,49354,49880,50488,51140,51022,50790,50773,50736,51058,51037,51293,51141,50985,51113,51096,51382]
["male",81,217,228,214,274,231,227,210,170,224,295,284,291,249,237,277,260,273,263,314,302,301,301,332,282,373,327,353,329,368,366,360,383,null,81,43247,43033,43685,43377,43877,43871,43847,44380,44888,44838,45344,46045,46789,47564,48307,49061,49627,50143,50802,51442,51323,51091,51105,51018,51431,51364,51646,51470,51353,51479,51456,51765]
["male",82,212,196,206,197,259,208,209,191,154,210,277,260,275,235,217,257,230,246,242,299,282,281,292,308,263,350,306,326,315,332,341,340,null,82,43459,43229,43891,43574,44136,44079,44056,44571,45042,45048,45621,46305,47064,47799,48524,49318,49857,50389,51044,51741,51605,51372,51397,51326,51694,51714,51952,51796,51668,51811,51797,52105]
["male",83,178,177,174,174,173,235,191,180,174,143,191,250,236,253,222,199,239,222,234,222,278,265,249,262,290,245,316,278,316,293,317,310,null,83,43637,43406,44065,43748,44309,44314,44247,44751,45216,45191,45812,46555,47300,48052,48746,49517,50096,50611,51278,51963,51883,51637,51646,51588,51984,51959,52268,52074,51984,52104,52114,52415]
["male",84,168,157,169,148,158,150,214,171,156,157,133,174,223,210,240,198,188,210,206,225,195,270,242,229,241,261,231,297,250,281,267,288,null,84,43805,43563,44234,43896,44467,44464,44461,44922,45372,45348,45945,46729,47523,48262,48986,49715,50284,50821,51484,52188,52078,51907,51888,51817,52225,52220,52499,52371,52234,52385,52381,52703]
["male",85,605,640,633,644,654,638,632,721,749,143,141,117,156,204,194,218,171,171,185,189,210,176,240,212,207,211,235,213,259,230,268,251,null,85,44410,44203,44867,44540,45121,45102,45093,45643,46121,45491,46086,46846,47679,48466,49180,49933,50455,50992,51669,52377,52288,52083,52128,52029,52432,52431,52734,52584,52493,52615,52649,52954]
["male",86,null,null,null,null,null,null,null,null,null,129,132,125,103,143,189,172,193,159,153,157,167,186,154,201,183,181,186,209,192,230,199,231,null,86,44410,44203,44867,44540,45121,45102,45093,45643,46121,45620,46218,46971,47782,48609,49369,50105,50648,51151,51822,52534,52455,52269,52282,52230,52615,52612,52920,52793,52685,52845,52848,53185]
["male",87,null,null,null,null,null,null,null,null,null,137,104,113,111,92,123,163,158,171,132,136,137,145,166,137,169,149,155,168,190,173,211,187,null,87,44410,44203,44867,44540,45121,45102,45093,45643,46121,45757,46322,47084,47893,48701,49492,50268,50806,51322,51954,52670,52592,52414,52448,52367,52784,52761,53075,52961,52875,53018,53059,53372]
["male",88,null,null,null,null,null,null,null,null,null,99,115,90,96,98,86,117,138,128,152,110,131,117,122,149,118,142,118,138,137,167,151,174,null,88,44410,44203,44867,44540,45121,45102,45093,45643,46121,45856,46437,47174,47989,48799,49578,50385,50944,51450,52106,52780,52723,52531,52570,52516,52902,52903,53193,53099,53012,53185,53210,53546]
["male",89,null,null,null,null,null,null,null,null,null,64,89,95,74,79,86,77,98,126,112,128,90,108,91,102,118,94,120,99,121,126,148,124,null,89,44410,44203,44867,44540,45121,45102,45093,45643,46121,45920,46526,47269,48063,48878,49664,50462,51042,51576,52218,52908,52813,52639,52661,52618,53020,52997,53313,53198,53133,53311,53358,53670]
["male","90+",null,null,null,null,null,null,null,null,null,203,210,219,236,245,239,261,255,291,339,379,431,422,440,427,429,427,410,425,415,408,423,430,null,"90+",44410,44203,44867,44540,45121,45102,45093,45643,46121,46123,46736,47488,48299,49123,49903,50723,51297,51867,52557,53287,53244,53061,53101,53045,53449,53424,53723,53623,53548,53719,53781,54100]
[null,"All Males",{"$f":"SUM(C16:C106)","v":44410},{"$f":"SUM(D16:D106)","v":44203},44867,44540,45121,45102,45093,45643,46121,46123,46736,47488,48299,49123,49903,50723,51297,51867,52557,53287,53244,53061,53101,53045,53449,53424,53723,{"$f":"SUM(AD16:AD106)","v":53623},{"$f":"SUM(AE16:AE106)","v":53548},{"$f":"SUM(AF16:AF106)","v":53719},{"$f":"SUM(AG16:AG106)","v":53781},{"$f":"SUM(AH16:AH106)","v":54100},null,"Females"]
["Sex","Age"]
["female",0,566,546,556,548,513,542,548,557,501,456,458,500,496,481,495,600,582,566,596,607,565,536,586,497,553,486,494,449,492,450,490,472,null,0,{"$f":"C109","v":566},546,556,548,513,542,548,557,501,456,458,500,496,481,495,600,582,566,596,607,565,536,586,497,553,486,494,449,492,450,490,472]
["female",1,561,578,558,577,569,520,550,562,561,494,468,475,497,491,485,507,596,581,579,589,603,566,544,589,517,548,483,501,461,492,454,502,null,1,{"$f":"AK109+C110","v":1127},{"$f":"AL109+D110","v":1124},{"$f":"AM109+E110","v":1114},{"$f":"AN109+F110","v":1125},{"$f":"AO109+G110","v":1082},{"$f":"AP109+H110","v":1062},{"$f":"AQ109+I110","v":1098},{"$f":"AR109+J110","v":1119},{"$f":"AS109+K110","v":1062},{"$f":"AT109+L110","v":950},{"$f":"AU109+M110","v":926},{"$f":"AV109+N110","v":975},{"$f":"AW109+O110","v":993},{"$f":"AX109+P110","v":972},{"$f":"AY109+Q110","v":980},{"$f":"AZ109+R110","v":1107},{"$f":"BA109+S110","v":1178},{"$f":"BB109+T110","v":1147},{"$f":"BC109+U110","v":1175},{"$f":"BD109+V110","v":1196},{"$f":"BE109+W110","v":1168},{"$f":"BF109+X110","v":1102},{"$f":"BG109+Y110","v":1130},{"$f":"BH109+Z110","v":1086},{"$f":"BI109+AA110","v":1070},{"$f":"BJ109+AB110","v":1034},{"$f":"BK109+AC110","v":977},{"$f":"BL109+AD110","v":950},{"$f":"BM109+AE110","v":953},{"$f":"BN109+AF110","v":942},{"$f":"BO109+AG110","v":944},974]
["female",2,619,570,586,567,591,575,519,554,569,556,520,479,476,512,504,493,514,599,587,574,594,603,570,554,592,523,557,485,522,468,490,457,null,2,1746,1694,1700,1692,1673,1637,1617,1673,1631,1506,1446,1454,1469,1484,1484,1600,1692,1746,1762,1770,1762,1705,1700,1640,1662,1557,1534,1435,1475,1410,1434,1431]
["female",3,585,629,580,592,574,594,578,527,551,553,572,521,504,493,527,501,492,515,595,603,573,588,614,568,572,589,525,556,488,536,489,513,null,3,2331,2323,2280,2284,2247,2231,2195,2200,2182,2059,2018,1975,1973,1977,2011,2101,2184,2261,2357,2373,2335,2293,2314,2208,2234,2146,2059,1991,1963,1946,1923,1944]
["female",4,575,593,636,589,600,573,595,577,540,557,556,601,540,523,497,526,503,494,530,604,609,564,579,606,573,564,595,518,555,505,561,508,null,4,2906,2916,2916,2873,2847,2804,2790,2777,2722,2616,2574,2576,2513,2500,2508,2627,2687,2755,2887,2977,2944,2857,2893,2814,2807,2710,2654,2509,2518,2451,2484,2452]
["female",5,573,580,598,641,598,594,565,604,580,520,569,568,611,572,525,508,527,498,512,528,603,609,567,586,619,584,581,612,518,558,518,563,null,5,3479,3496,3514,3514,3445,3398,3355,3381,3302,3136,3143,3144,3124,3072,3033,3135,3214,3253,3399,3505,3547,3466,3460,3400,3426,3294,3235,3121,3036,3009,3002,3015]
["female",6,534,573,583,604,649,600,590,585,614,567,533,589,582,608,583,528,506,536,512,521,539,598,594,578,593,609,582,571,602,523,567,518,null,6,4013,4069,4097,4118,4094,3998,3945,3966,3916,3703,3676,3733,3706,3680,3616,3663,3720,3789,3911,4026,4086,4064,4054,3978,4019,3903,3817,3692,3638,3532,3569,3533]
["female",7,505,537,571,589,612,650,596,615,593,614,577,536,612,596,614,588,538,510,541,506,508,538,585,613,596,588,622,580,564,604,526,573,null,7,4518,4606,4668,4707,4706,4648,4541,4581,4509,4317,4253,4269,4318,4276,4230,4251,4258,4299,4452,4532,4594,4602,4639,4591,4615,4491,4439,4272,4202,4136,4095,4106]
["female",8,518,520,544,584,607,624,658,629,612,586,629,590,553,614,606,613,583,542,524,550,516,506,550,567,624,595,605,611,567,567,604,538,null,8,5036,5126,5212,5291,5313,5272,5199,5210,5121,4903,4882,4859,4871,4890,4836,4864,4841,4841,4976,5082,5110,5108,5189,5158,5239,5086,5044,4883,4769,4703,4699,4644]
["female",9,543,516,526,542,588,608,621,659,637,613,604,640,607,563,619,624,614,606,554,520,547,519,507,555,595,617,601,609,607,570,573,609,null,9,5579,5642,5738,5833,5901,5880,5820,5869,5758,5516,5486,5499,5478,5453,5455,5488,5455,5447,5530,5602,5657,5627,5696,5713,5834,5703,5645,5492,5376,5273,5272,5253]
["female",10,562,555,531,547,558,601,615,643,664,648,624,617,645,622,579,624,623,600,614,565,515,560,527,520,563,579,619,592,610,620,575,570,null,10,6141,6197,6269,6380,6459,6481,6435,6512,6422,6164,6110,6116,6123,6075,6034,6112,6078,6047,6144,6167,6172,6187,6223,6233,6397,6282,6264,6084,5986,5893,5847,5823]
["female",11,547,564,559,535,555,557,596,625,639,672,642,650,624,668,620,593,629,633,614,626,555,513,556,516,532,562,586,625,597,616,622,591,null,11,6688,6761,6828,6915,7014,7038,7031,7137,7061,6836,6752,6766,6747,6743,6654,6705,6707,6680,6758,6793,6727,6700,6779,6749,6929,6844,6850,6709,6583,6509,6469,6414]
["female",12,545,547,557,552,533,557,546,614,610,637,677,657,655,626,662,636,600,635,636,614,613,558,510,562,527,529,573,586,634,589,622,630,null,12,7233,7308,7385,7467,7547,7595,7577,7751,7671,7473,7429,7423,7402,7369,7316,7341,7307,7315,7394,7407,7340,7258,7289,7311,7456,7373,7423,7295,7217,7098,7091,7044]
["female",13,558,557,556,569,564,541,557,552,616,616,642,688,671,665,631,671,625,608,634,640,614,605,559,511,563,518,524,572,575,633,595,624,null,13,7791,7865,7941,8036,8111,8136,8134,8303,8287,8089,8071,8111,8073,8034,7947,8012,7932,7923,8028,8047,7954,7863,7848,7822,8019,7891,7947,7867,7792,7731,7686,7668]
["female",14,473,556,550,558,571,557,536,556,555,633,621,656,698,672,652,639,677,625,609,641,635,608,608,548,520,552,509,523,558,582,638,598,null,14,8264,8421,8491,8594,8682,8693,8670,8859,8842,8722,8692,8767,8771,8706,8599,8651,8609,8548,8637,8688,8589,8471,8456,8370,8539,8443,8456,8390,8350,8313,8324,8266]
["female",15,480,473,550,550,558,566,551,549,570,554,637,630,669,715,675,652,637,681,637,615,649,637,611,622,550,518,557,513,521,565,578,637,null,15,8744,8894,9041,9144,9240,9259,9221,9408,9412,9276,9329,9397,9440,9421,9274,9303,9246,9229,9274,9303,9238,9108,9067,8992,9089,8961,9013,8903,8871,8878,8902,8903]
["female",16,494,467,463,540,541,544,548,564,555,575,560,658,645,678,716,688,662,656,692,640,615,634,627,616,621,546,527,558,519,538,570,584,null,16,9238,9361,9504,9684,9781,9803,9769,9972,9967,9851,9889,10055,10085,10099,9990,9991,9908,9885,9966,9943,9853,9742,9694,9608,9710,9507,9540,9461,9390,9416,9472,9487]
["female",17,513,503,476,474,553,549,551,565,555,551,568,559,662,647,691,731,693,676,660,705,639,621,632,628,616,625,550,528,559,511,555,566,null,17,9751,9864,9980,10158,10334,10352,10320,10537,10522,10402,10457,10614,10747,10746,10681,10722,10601,10561,10626,10648,10492,10363,10326,10236,10326,10132,10090,9989,9949,9927,10027,10053]
["female",18,499,505,477,435,432,497,499,502,516,514,518,550,555,667,624,678,721,689,652,656,683,620,603,628,602,563,589,537,506,533,476,502,null,18,10250,10369,10457,10593,10766,10849,10819,11039,11038,10916,10975,11164,11302,11413,11305,11400,11322,11250,11278,11304,11175,10983,10929,10864,10928,10695,10679,10526,10455,10460,10503,10555]
["female",19,564,449,440,375,347,317,437,486,440,441,409,436,466,471,557,551,586,604,588,556,560,582,536,487,501,502,441,467,413,388,402,361,null,19,10814,10818,10897,10968,11113,11166,11256,11525,11478,11357,11384,11600,11768,11884,11862,11951,11908,11854,11866,11860,11735,11565,11465,11351,11429,11197,11120,10993,10868,10848,10905,10916]
["female",20,555,562,413,417,371,351,347,434,474,469,397,392,407,453,450,522,518,557,591,560,531,507,535,450,436,465,489,423,416,367,328,350,null,20,11369,11380,11310,11385,11484,11517,11603,11959,11952,11826,11781,11992,12175,12337,12312,12473,12426,12411,12457,12420,12266,12072,12000,11801,11865,11662,11609,11416,11284,11215,11233,11266]
["female",21,571,576,512,440,456,412,397,369,420,474,471,402,424,440,455,478,525,535,573,626,600,548,517,538,483,444,502,489,453,453,397,356,null,21,11940,11956,11822,11825,11940,11929,12000,12328,12372,12300,12252,12394,12599,12777,12767,12951,12951,12946,13030,13046,12866,12620,12517,12339,12348,12106,12111,11905,11737,11668,11630,11622]
["female",22,565,598,586,570,522,528,474,382,419,445,474,516,407,493,472,498,507,566,550,632,667,603,567,574,600,524,503,523,540,515,485,457,null,22,12505,12554,12408,12395,12462,12457,12474,12710,12791,12745,12726,12910,13006,13270,13239,13449,13458,13512,13580,13678,13533,13223,13084,12913,12948,12630,12614,12428,12277,12183,12115,12079]
["female",23,626,586,635,651,638,579,571,458,422,439,452,485,544,457,508,513,510,510,591,601,641,674,646,608,637,597,549,544,566,543,549,549,null,23,13131,13140,13043,13046,13100,13036,13045,13168,13213,13184,13178,13395,13550,13727,13747,13962,13968,14022,14171,14279,14174,13897,13730,13521,13585,13227,13163,12972,12843,12726,12664,12628]
["female",24,621,618,634,665,686,643,584,508,478,457,429,459,485,589,494,523,514,530,531,596,580,631,654,656,598,624,575,562,534,569,538,557,null,24,13752,13758,13677,13711,13786,13679,13629,13676,13691,13641,13607,13854,14035,14316,14241,14485,14482,14552,14702,14875,14754,14528,14384,14177,14183,13851,13738,13534,13377,13295,13202,13185]
["female",25,671,624,658,648,674,678,621,562,506,485,442,453,486,512,597,507,545,532,529,539,584,585,608,642,642,582,602,591,539,555,577,536,null,25,14423,14382,14335,14359,14460,14357,14250,14238,14197,14126,14049,14307,14521,14828,14838,14992,15027,15084,15231,15414,15338,15113,14992,14819,14825,14433,14340,14125,13916,13850,13779,13721]
["female",26,681,672,646,665,667,668,671,569,546,504,480,441,461,512,515,602,537,539,529,524,528,573,576,609,658,604,599,592,580,556,567,580,null,26,15104,15054,14981,15024,15127,15025,14921,14807,14743,14630,14529,14748,14982,15340,15353,15594,15564,15623,15760,15938,15866,15686,15568,15428,15483,15037,14939,14717,14496,14406,14346,14301]
["female",27,664,675,665,639,664,651,642,655,566,520,504,492,441,490,502,534,604,556,556,528,538,516,564,574,612,666,618,605,598,576,551,574,null,27,15768,15729,15646,15663,15791,15676,15563,15462,15309,15150,15033,15240,15423,15830,15855,16128,16168,16179,16316,16466,16404,16202,16132,16002,16095,15703,15557,15322,15094,14982,14897,14875]
["female",28,651,672,693,678,663,670,652,654,641,556,511,524,509,452,503,500,545,590,576,573,521,526,520,583,578,610,676,609,607,613,567,560,null,28,16419,16401,16339,16341,16454,16346,16215,16116,15950,15706,15544,15764,15932,16282,16358,16628,16713,16769,16892,17039,16925,16728,16652,16585,16673,16313,16233,15931,15701,15595,15464,15435]
["female",29,624,650,685,709,695,666,666,619,640,605,574,511,519,524,464,494,503,546,596,589,571,506,533,528,585,592,629,657,599,626,635,572,null,29,17043,17051,17024,17050,17149,17012,16881,16735,16590,16311,16118,16275,16451,16806,16822,17122,17216,17315,17488,17628,17496,17234,17185,17113,17258,16905,16862,16588,16300,16221,16099,16007]
["female",30,587,626,657,686,716,681,653,652,613,616,602,609,513,536,533,474,518,513,568,603,579,579,506,535,545,596,596,648,661,621,655,655,null,30,17630,17677,17681,17736,17865,17693,17534,17387,17203,16927,16720,16884,16964,17342,17355,17596,17734,17828,18056,18231,18075,17813,17691,17648,17803,17501,17458,17236,16961,16842,16754,16662]
["female",31,615,595,639,661,696,717,674,644,650,609,614,626,621,524,531,557,478,536,525,572,618,589,581,529,537,542,607,589,640,678,618,650,null,31,18245,18272,18320,18397,18561,18410,18208,18031,17853,17536,17334,17510,17585,17866,17886,18153,18212,18364,18581,18803,18693,18402,18272,18177,18340,18043,18065,17825,17601,17520,17372,17312]
["female",32,561,622,597,642,667,694,714,696,652,639,619,630,633,640,531,519,573,491,551,544,585,624,591,576,539,557,556,644,603,658,694,653,null,32,18806,18894,18917,19039,19228,19104,18922,18727,18505,18175,17953,18140,18218,18506,18417,18672,18785,18855,19132,19347,19278,19026,18863,18753,18879,18600,18621,18469,18204,18178,18066,17965]
["female",33,574,553,617,590,638,652,679,720,697,631,665,633,649,646,647,536,532,572,497,562,528,605,630,594,603,550,569,572,654,631,678,727,null,33,{"$f":"AK141+C142","v":19380},{"$f":"AL141+D142","v":19447},{"$f":"AM141+E142","v":19534},{"$f":"AN141+F142","v":19629},{"$f":"AO141+G142","v":19866},{"$f":"AP141+H142","v":19756},{"$f":"AQ141+I142","v":19601},{"$f":"AR141+J142","v":19447},{"$f":"AS141+K142","v":19202},{"$f":"AT141+L142","v":18806},{"$f":"AU141+M142","v":18618},{"$f":"AV141+N142","v":18773},{"$f":"AW141+O142","v":18867},{"$f":"AX141+P142","v":19152},{"$f":"AY141+Q142","v":19064},{"$f":"AZ141+R142","v":19208},{"$f":"BA141+S142","v":19317},{"$f":"BB141+T142","v":19427},{"$f":"BC141+U142","v":19629},{"$f":"BD141+V142","v":19909},{"$f":"BE141+W142","v":19806},{"$f":"BF141+X142","v":19631},{"$f":"BG141+Y142","v":19493},{"$f":"BH141+Z142","v":19347},{"$f":"BI141+AA142","v":19482},{"$f":"BJ141+AB142","v":19150},{"$f":"BK141+AC142","v":19190},{"$f":"BL141+AD142","v":19041},{"$f":"BM141+AE142","v":18858},{"$f":"BN141+AF142","v":18809},{"$f":"BO141+AG142","v":18744},18692]
["female",34,609,587,567,634,609,649,657,703,733,701,644,681,646,667,673,652,551,527,581,494,562,524,582,645,594,602,567,567,601,664,653,720,null,34,19989,20034,20101,20263,20475,20405,20258,20150,19935,19507,19262,19454,19513,19819,19737,19860,19868,19954,20210,20403,20368,20155,20075,19992,20076,19752,19757,19608,19459,19473,19397,19412]
["female",35,599,625,607,587,659,628,664,676,716,749,718,665,708,668,688,679,656,582,551,598,499,559,547,602,658,587,612,574,594,616,668,662,null,35,20588,20659,20708,20850,21134,21033,20922,20826,20651,20256,19980,20119,20221,20487,20425,20539,20524,20536,20761,21001,20867,20714,20622,20594,20734,20339,20369,20182,20053,20089,20065,20074]
["female",36,602,607,631,614,599,667,631,695,689,704,761,746,690,729,671,714,671,677,603,548,589,510,545,563,603,655,608,626,566,609,638,694,null,36,21190,21266,21339,21464,21733,21700,21553,21521,21340,20960,20741,20865,20911,21216,21096,21253,21195,21213,21364,21549,21456,21224,21167,21157,21337,20994,20977,20808,20619,20698,20703,20768]
["female",37,560,609,618,636,626,603,677,664,689,698,708,769,762,718,730,668,716,667,689,596,558,585,520,567,568,612,672,615,636,577,614,652,null,37,21750,21875,21957,22100,22359,22303,22230,22185,22029,21658,21449,21634,21673,21934,21826,21921,21911,21880,22053,22145,22014,21809,21687,21724,21905,21606,21649,21423,21255,21275,21317,21420]
["female",38,589,566,612,625,641,626,604,683,673,694,699,718,787,778,738,742,683,735,671,689,594,550,592,533,589,598,640,671,623,644,615,628,null,38,22339,22441,22569,22725,23000,22929,22834,22868,22702,22352,22148,22352,22460,22712,22564,22663,22594,22615,22724,22834,22608,22359,22279,22257,22494,22204,22289,22094,21878,21919,21932,22048]
["female",39,602,588,563,610,626,637,621,626,674,676,711,723,741,787,788,737,739,690,732,664,685,594,550,603,564,604,622,657,677,650,662,649,null,39,22941,23029,23132,23335,23626,23566,23455,23494,23376,23028,22859,23075,23201,23499,23352,23400,23333,23305,23456,23498,23293,22953,22829,22860,23058,22808,22911,22751,22555,22569,22594,22697]
["female",40,567,591,586,560,606,617,625,637,641,668,687,721,731,749,789,800,735,747,721,734,699,699,610,556,619,557,616,632,665,696,656,679,null,40,23508,23620,23718,23895,24232,24183,24080,24131,24017,23696,23546,23796,23932,24248,24141,24200,24068,24052,24177,24232,23992,23652,23439,23416,23677,23365,23527,23383,23220,23265,23250,23376]
["female",41,581,579,598,598,573,613,624,652,648,645,689,696,742,739,758,796,812,754,760,736,729,701,709,625,578,631,551,616,648,693,694,663,null,41,24089,24199,24316,24493,24805,24796,24704,24783,24665,24341,24235,24492,24674,24987,24899,24996,24880,24806,24937,24968,24721,24353,24148,24041,24255,23996,24078,23999,23868,23958,23944,24039]
["female",42,628,582,584,595,603,573,612,637,653,660,640,708,697,745,740,776,796,800,757,755,722,714,689,726,641,585,648,551,610,670,707,709,null,42,24717,24781,24900,25088,25408,25369,25316,25420,25318,25001,24875,25200,25371,25732,25639,25772,25676,25606,25694,25723,25443,25067,24837,24767,24896,24581,24726,24550,24478,24628,24651,24748]
["female",43,634,631,590,593,601,609,578,609,650,664,686,651,722,713,745,768,781,808,805,760,768,727,724,702,734,638,591,652,560,610,675,703,null,43,25351,25412,25490,25681,26009,25978,25894,26029,25968,25665,25561,25851,26093,26445,26384,26540,26457,26414,26499,26483,26211,25794,25561,25469,25630,25219,25317,25202,25038,25238,25326,25451]
["female",44,736,645,633,595,605,601,615,585,614,660,664,677,652,728,704,757,774,800,803,803,768,781,737,724,718,739,642,613,652,580,621,687,null,44,26087,26057,26123,26276,26614,26579,26509,26614,26582,26325,26225,26528,26745,27173,27088,27297,27231,27214,27302,27286,26979,26575,26298,26193,26348,25958,25959,25815,25690,25818,25947,26138]
["female",45,800,729,644,626,592,599,594,627,589,617,682,668,679,664,740,709,758,779,820,797,805,754,794,737,736,737,741,643,624,662,590,634,null,45,26887,26786,26767,26902,27206,27178,27103,27241,27171,26942,26907,27196,27424,27837,27828,28006,27989,27993,28122,28083,27784,27329,27092,26930,27084,26695,26700,26458,26314,26480,26537,26772]
["female",46,638,795,722,645,623,588,595,625,648,595,619,693,676,690,677,753,719,758,787,829,791,806,768,795,750,754,742,744,651,628,673,602,null,46,27525,27581,27489,27547,27829,27766,27698,27866,27819,27537,27526,27889,28100,28527,28505,28759,28708,28751,28909,28912,28575,28135,27860,27725,27834,27449,27442,27202,26965,27108,27210,27374]
["female",47,547,638,796,726,653,622,591,605,623,637,610,628,709,682,690,684,761,729,760,788,821,799,815,789,790,757,762,736,743,660,640,685,null,47,28072,28219,28285,28273,28482,28388,28289,28471,28442,28174,28136,28517,28809,29209,29195,29443,29469,29480,29669,29700,29396,28934,28675,28514,28624,28206,28204,27938,27708,27768,27850,28059]
["female",48,560,546,639,795,730,658,620,586,623,617,636,616,632,724,685,706,696,764,717,756,788,828,813,813,787,788,758,759,740,766,664,634,null,48,28632,28765,28924,29068,29212,29046,28909,29057,29065,28791,28772,29133,29441,29933,29880,30149,30165,30244,30386,30456,30184,29762,29488,29327,29411,28994,28962,28697,28448,28534,28514,28693]
["female",49,601,565,552,644,803,731,662,640,604,639,637,645,616,647,724,692,691,702,782,720,756,793,817,821,824,787,800,760,761,726,758,672,null,49,29233,29330,29476,29712,30015,29777,29571,29697,29669,29430,29409,29778,30057,30580,30604,30841,30856,30946,31168,31176,30940,30555,30305,30148,30235,29781,29762,29457,29209,29260,29272,29365]
["female",50,521,597,569,561,648,809,731,669,636,612,639,652,653,627,652,730,696,700,691,785,731,755,805,838,831,817,785,812,770,770,726,771,null,50,29754,29927,30045,30273,30663,30586,30302,30366,30305,30042,30048,30430,30710,31207,31256,31571,31552,31646,31859,31961,31671,31310,31110,30986,31066,30598,30547,30269,29979,30030,29998,30136]
["female",51,478,521,592,574,564,649,813,752,684,635,616,649,670,652,625,656,730,704,713,703,786,737,760,814,843,837,830,800,820,784,775,733,null,51,30232,30448,30637,30847,31227,31235,31115,31118,30989,30677,30664,31079,31380,31859,31881,32227,32282,32350,32572,32664,32457,32047,31870,31800,31909,31435,31377,31069,30799,30814,30773,30869]
["female",52,511,484,521,593,579,568,650,821,768,691,647,629,663,681,656,634,664,737,710,721,701,794,752,778,807,846,857,830,801,817,794,782,null,52,30743,30932,31158,31440,31806,31803,31765,31939,31757,31368,31311,31708,32043,32540,32537,32861,32946,33087,33282,33385,33158,32841,32622,32578,32716,32281,32234,31899,31600,31631,31567,31651]
["female",53,505,510,483,518,590,577,568,656,837,775,710,649,645,669,688,668,636,668,743,725,727,709,785,779,785,802,854,863,842,816,826,797,null,53,31248,31442,31641,31958,32396,32380,32333,32595,32594,32143,32021,32357,32688,33209,33225,33529,33582,33755,34025,34110,33885,33550,33407,33357,33501,33083,33088,32762,32442,32447,32393,32448]
["female",54,488,521,522,499,525,593,588,598,674,828,780,721,666,646,674,689,671,627,674,745,731,728,722,770,782,786,813,852,853,842,834,835,null,54,31736,31963,32163,32457,32921,32973,32921,33193,33268,32971,32801,33078,33354,33855,33899,34218,34253,34382,34699,34855,34616,34278,34129,34127,34283,33869,33901,33614,33295,33289,33227,33283]
["female",55,545,489,521,520,499,521,588,583,611,685,855,796,738,675,653,666,691,659,634,681,746,744,732,736,793,792,819,818,856,855,847,831,null,55,32281,32452,32684,32977,33420,33494,33509,33776,33879,33656,33656,33874,34092,34530,34552,34884,34944,35041,35333,35536,35362,35022,34861,34863,35076,34661,34720,34432,34151,34144,34074,34114]
["female",56,484,549,492,525,522,500,517,597,588,614,705,862,803,757,690,675,661,701,676,629,678,742,741,737,759,801,812,818,818,878,850,856,null,56,32765,33001,33176,33502,33942,33994,34026,34373,34467,34270,34361,34736,34895,35287,35242,35559,35605,35742,36009,36165,36040,35764,35602,35600,35835,35462,35532,35250,34969,35022,34924,34970]
["female",57,470,494,560,502,536,530,511,540,601,614,638,709,871,805,771,699,688,666,722,693,637,671,755,739,750,759,804,813,833,832,860,843,null,57,33235,33495,33736,34004,34478,34524,34537,34913,35068,34884,34999,35445,35766,36092,36013,36258,36293,36408,36731,36858,36677,36435,36357,36339,36585,36221,36336,36063,35802,35854,35784,35813]
["female",58,466,471,494,562,500,535,529,520,552,614,623,639,731,894,817,779,708,698,672,739,706,635,685,777,740,757,765,807,829,845,834,874,null,58,33701,33966,34230,34566,34978,35059,35066,35433,35620,35498,35622,36084,36497,36986,36830,37037,37001,37106,37403,37597,37383,37070,37042,37116,37325,36978,37101,36870,36631,36699,36618,36687]
["female",59,480,463,469,493,564,499,534,553,533,558,626,645,651,744,914,811,787,714,714,662,753,708,649,683,780,755,763,768,822,833,849,842,null,59,34181,34429,34699,35059,35542,35558,35600,35986,36153,36056,36248,36729,37148,37730,37744,37848,37788,37820,38117,38259,38136,37778,37691,37799,38105,37733,37864,37638,37453,37532,37467,37529]
["female",60,453,478,463,471,492,559,497,526,572,540,577,636,647,643,754,930,818,782,728,728,670,753,734,658,692,791,755,760,762,840,845,862,null,60,34634,34907,35162,35530,36034,36117,36097,36512,36725,36596,36825,37365,37795,38373,38498,38778,38606,38602,38845,38987,38806,38531,38425,38457,38797,38524,38619,38398,38215,38372,38312,38391]
["female",61,552,458,482,464,478,498,562,520,550,566,542,590,651,658,655,770,948,819,800,740,736,672,765,741,669,692,795,759,759,770,855,840,null,61,35186,35365,35644,35994,36512,36615,36659,37032,37275,37162,37367,37955,38446,39031,39153,39548,39554,39421,39645,39727,39542,39203,39190,39198,39466,39216,39414,39157,38974,39142,39167,39231]
["female",62,513,551,461,484,466,475,499,575,540,556,578,547,597,658,665,654,783,951,850,806,743,749,686,783,753,689,689,797,752,759,756,856,null,62,35699,35916,36105,36478,36978,37090,37158,37607,37815,37718,37945,38502,39043,39689,39818,40202,40337,40372,40495,40533,40285,39952,39876,39981,40219,39905,40103,39954,39726,39901,39923,40087]
["female",63,551,515,552,468,492,470,482,503,575,553,555,578,542,606,655,684,656,779,969,856,805,745,753,696,767,755,683,696,806,752,766,766,null,63,36250,36431,36657,36946,37470,37560,37640,38110,38390,38271,38500,39080,39585,40295,40473,40886,40993,41151,41464,41389,41090,40697,40629,40677,40986,40660,40786,40650,40532,40653,40689,40853]
["female",64,582,545,514,556,481,495,469,481,517,574,567,565,587,544,604,655,697,650,784,973,866,818,750,753,704,761,753,686,701,797,758,772,null,64,36832,36976,37171,37502,37951,38055,38109,38591,38907,38845,39067,39645,40172,40839,41077,41541,41690,41801,42248,42362,41956,41515,41379,41430,41690,41421,41539,41336,41233,41450,41447,41625]
["female",65,534,575,537,511,554,482,493,469,483,525,572,567,560,586,534,609,656,692,655,781,964,868,827,746,751,703,763,754,696,697,794,762,null,65,{"$f":"AK173+C174","v":37366},{"$f":"AL173+D174","v":37551},{"$f":"AM173+E174","v":37708},{"$f":"AN173+F174","v":38013},{"$f":"AO173+G174","v":38505},{"$f":"AP173+H174","v":38537},{"$f":"AQ173+I174","v":38602},{"$f":"AR173+J174","v":39060},{"$f":"AS173+K174","v":39390},{"$f":"AT173+L174","v":39370},{"$f":"AU173+M174","v":39639},{"$f":"AV173+N174","v":40212},{"$f":"AW173+O174","v":40732},{"$f":"AX173+P174","v":41425},{"$f":"AY173+Q174","v":41611},{"$f":"AZ173+R174","v":42150},{"$f":"BA173+S174","v":42346},{"$f":"BB173+T174","v":42493},{"$f":"BC173+U174","v":42903},{"$f":"BD173+V174","v":43143},{"$f":"BE173+W174","v":42920},{"$f":"BF173+X174","v":42383},{"$f":"BG173+Y174","v":42206},{"$f":"BH173+Z174","v":42176},{"$f":"BI173+AA174","v":42441},{"$f":"BJ173+AB174","v":42124},{"$f":"BK173+AC174","v":42302},{"$f":"BL173+AD174","v":42090},{"$f":"BM173+AE174","v":41929},{"$f":"BN173+AF174","v":42147},{"$f":"BO173+AG174","v":42241},42387]
["female",66,598,527,568,528,503,545,478,512,476,477,530,571,565,561,588,538,608,661,684,663,764,973,876,834,736,748,714,773,754,689,701,789,null,66,37964,38078,38276,38541,39008,39082,39080,39572,39866,39847,40169,40783,41297,41986,42199,42688,42954,43154,43587,43806,43684,43356,43082,43010,43177,42872,43016,42863,42683,42836,42942,43176]
["female",67,538,595,528,565,529,504,547,485,509,481,483,521,572,564,550,590,531,601,655,692,647,763,973,857,841,752,755,719,762,736,691,700,null,67,38502,38673,38804,39106,39537,39586,39627,40057,40375,40328,40652,41304,41869,42550,42749,43278,43485,43755,44242,44498,44331,44119,44055,43867,44018,43624,43771,43582,43445,43572,43633,43876]
["female",68,636,546,592,529,548,518,493,551,492,519,486,482,530,571,559,556,583,521,595,669,693,637,758,966,857,848,747,755,720,753,735,688,null,68,39138,39219,39396,39635,40085,40104,40120,40608,40867,40847,41138,41786,42399,43121,43308,43834,44068,44276,44837,45167,45024,44756,44813,44833,44875,44472,44518,44337,44165,44325,44368,44564]
["female",69,611,627,533,581,519,534,511,494,545,495,515,480,484,529,556,550,564,581,505,591,662,689,640,772,966,851,843,722,739,713,753,725,null,69,39749,39846,39929,40216,40604,40638,40631,41102,41412,41342,41653,42266,42883,43650,43864,44384,44632,44857,45342,45758,45686,45445,45453,45605,45841,45323,45361,45059,44904,45038,45121,45289]
["female",70,587,598,614,522,579,512,525,522,499,534,492,514,480,483,514,551,539,561,575,505,590,669,683,638,777,952,847,841,710,721,710,756,null,70,40336,40444,40543,40738,41183,41150,41156,41624,41911,41876,42145,42780,43363,44133,44378,44935,45171,45418,45917,46263,46276,46114,46136,46243,46618,46275,46208,45900,45614,45759,45831,46045]
["female",71,654,576,578,609,518,568,502,514,510,494,530,476,502,473,483,515,542,532,556,572,496,587,655,671,627,774,936,835,827,703,715,689,null,71,40990,41020,41121,41347,41701,41718,41658,42138,42421,42370,42675,43256,43865,44606,44861,45450,45713,45950,46473,46835,46772,46701,46791,46914,47245,47049,47144,46735,46441,46462,46546,46734]
["female",72,697,633,556,564,592,513,558,507,503,505,479,519,478,494,469,483,498,531,523,549,560,494,590,644,665,619,775,934,825,828,709,719,null,72,41687,41653,41677,41911,42293,42231,42216,42645,42924,42875,43154,43775,44343,45100,45330,45933,46211,46481,46996,47384,47332,47195,47381,47558,47910,47668,47919,47669,47266,47290,47255,47453]
["female",73,423,685,617,553,556,584,511,556,500,499,504,470,514,471,475,460,479,492,524,514,554,557,490,587,628,669,606,763,924,815,812,696,null,73,42110,42338,42294,42464,42849,42815,42727,43201,43424,43374,43658,44245,44857,45571,45805,46393,46690,46973,47520,47898,47886,47752,47871,48145,48538,48337,48525,48432,48190,48105,48067,48149]
["female",74,458,421,669,606,545,545,573,503,540,501,487,506,454,508,461,479,456,466,484,518,513,546,553,481,584,618,657,600,752,897,801,796,null,74,42568,42759,42963,43070,43394,43360,43300,43704,43964,43875,44145,44751,45311,46079,46266,46872,47146,47439,48004,48416,48399,48298,48424,48626,49122,48955,49182,49032,48942,49002,48868,48945]
["female",75,531,437,397,642,584,524,525,556,499,536,493,479,502,446,504,453,463,451,458,472,507,514,536,559,460,566,618,657,592,728,898,804,null,75,43099,43196,43360,43712,43978,43884,43825,44260,44463,44411,44638,45230,45813,46525,46770,47325,47609,47890,48462,48888,48906,48812,48960,49185,49582,49521,49800,49689,49534,49730,49766,49749]
["female",76,553,517,425,397,620,562,509,530,543,482,522,476,464,497,436,488,442,456,443,450,458,500,503,521,546,458,558,615,656,589,713,883,null,76,43652,43713,43785,44109,44598,44446,44334,44790,45006,44893,45160,45706,46277,47022,47206,47813,48051,48346,48905,49338,49364,49312,49463,49706,50128,49979,50358,50304,50190,50319,50479,50632]
["female",77,505,520,486,398,379,587,521,504,505,522,474,496,469,456,492,420,475,434,442,431,435,446,499,475,516,531,447,544,601,646,555,689,null,77,44157,44233,44271,44507,44977,45033,44855,45294,45511,45415,45634,46202,46746,47478,47698,48233,48526,48780,49347,49769,49799,49758,49962,50181,50644,50510,50805,50848,50791,50965,51034,51321]
["female",78,483,491,501,463,392,371,563,508,488,481,494,451,486,459,455,474,398,470,422,431,427,409,430,472,467,499,520,428,527,598,630,549,null,78,44640,44724,44772,44970,45369,45404,45418,45802,45999,45896,46128,46653,47232,47937,48153,48707,48924,49250,49769,50200,50226,50167,50392,50653,51111,51009,51325,51276,51318,51563,51664,51870]
["female",79,499,467,473,478,439,365,364,547,494,477,458,481,427,459,438,448,472,386,460,412,415,417,406,418,453,439,483,503,416,516,576,605,null,79,45139,45191,45245,45448,45808,45769,45782,46349,46493,46373,46586,47134,47659,48396,48591,49155,49396,49636,50229,50612,50641,50584,50798,51071,51564,51448,51808,51779,51734,52079,52240,52475]
["female",80,429,478,440,451,450,419,349,356,517,474,467,441,464,405,433,418,431,450,366,447,402,399,400,381,414,439,417,468,490,399,495,543,null,80,45568,45669,45685,45899,46258,46188,46131,46705,47010,46847,47053,47575,48123,48801,49024,49573,49827,50086,50595,51059,51043,50983,51198,51452,51978,51887,52225,52247,52224,52478,52735,53018]
["female",81,435,399,450,417,423,424,388,327,329,489,452,439,428,452,387,404,398,412,428,350,428,384,379,390,373,392,422,401,448,462,377,477,null,81,46003,46068,46135,46316,46681,46612,46519,47032,47339,47336,47505,48014,48551,49253,49411,49977,50225,50498,51023,51409,51471,51367,51577,51842,52351,52279,52647,52648,52672,52940,53112,53495]
["female",82,433,403,380,419,390,394,396,366,299,322,451,417,425,410,434,361,385,388,394,418,337,404,370,364,375,356,370,412,383,426,441,355,null,82,46436,46471,46515,46735,47071,47006,46915,47398,47638,47658,47956,48431,48976,49663,49845,50338,50610,50886,51417,51827,51808,51771,51947,52206,52726,52635,53017,53060,53055,53366,53553,53850]
["female",83,376,413,376,374,402,376,378,367,331,281,308,424,393,401,373,410,339,366,360,375,397,310,390,352,347,346,336,360,393,367,413,417,null,83,46812,46884,46891,47109,47473,47382,47293,47765,47969,47939,48264,48855,49369,50064,50218,50748,50949,51252,51777,52202,52205,52081,52337,52558,53073,52981,53353,53420,53448,53733,53966,54267]
["female",84,387,340,380,344,348,381,351,341,319,300,263,298,384,366,366,348,384,327,347,346,347,367,302,360,335,322,319,316,346,367,345,374,null,84,47199,47224,47271,47453,47821,47763,47644,48106,48288,48239,48527,49153,49753,50430,50584,51096,51333,51579,52124,52548,52552,52448,52639,52918,53408,53303,53672,53736,53794,54100,54311,54641]
["female",85,1865,1974,1933,1987,2031,2015,2073,2062,2008,294,281,236,281,359,336,345,325,358,308,328,330,322,347,268,337,319,300,297,299,323,352,320,null,85,49064,49198,49204,49440,49852,49778,49717,50168,50296,48533,48808,49389,50034,50789,50920,51441,51658,51937,52432,52876,52882,52770,52986,53186,53745,53622,53972,54033,54093,54423,54663,54961]
["female",86,null,null,null,null,null,null,null,null,null,265,259,261,210,267,326,323,313,294,348,291,307,310,293,325,249,303,299,275,270,272,304,338,null,86,49064,49198,49204,49440,49852,49778,49717,50168,50296,48798,49067,49650,50244,51056,51246,51764,51971,52231,52780,53167,53189,53080,53279,53511,53994,53925,54271,54308,54363,54695,54967,55299]
["female",87,null,null,null,null,null,null,null,null,null,231,223,233,238,183,250,296,302,303,274,321,269,278,282,267,294,231,273,276,256,238,245,274,null,87,49064,49198,49204,49440,49852,49778,49717,50168,50296,49029,49290,49883,50482,51239,51496,52060,52273,52534,53054,53488,53458,53358,53561,53778,54288,54156,54544,54584,54619,54933,55212,55573]
["female",88,null,null,null,null,null,null,null,null,null,232,189,201,211,216,150,240,274,280,268,252,291,243,252,263,238,263,210,235,246,229,215,215,null,88,49064,49198,49204,49440,49852,49778,49717,50168,50296,49261,49479,50084,50693,51455,51646,52300,52547,52814,53322,53740,53749,53601,53813,54041,54526,54419,54754,54819,54865,55162,55427,55788]
["female",89,null,null,null,null,null,null,null,null,null,217,198,167,169,180,187,131,224,237,250,253,219,261,225,223,231,212,226,194,194,227,203,191,null,89,49064,49198,49204,49440,49852,49778,49717,50168,50296,49478,49677,50251,50862,51635,51833,52431,52771,53051,53572,53993,53968,53862,54038,54264,54757,54631,54980,55013,55059,55389,55630,55979]
["female","90+",null,null,null,null,null,null,null,null,null,744,792,801,788,751,733,748,714,798,833,919,973,976,1014,1018,1029,1040,1025,1023,980,932,945,916,null,"90+",49064,49198,49204,49440,49852,49778,49717,50168,50296,50222,50469,51052,51650,52386,52566,53179,53485,53849,54405,54912,54941,54838,55052,55282,55786,55671,56005,56036,56039,56321,56575,56895]
[null,"All Females",{"$f":"SUM(C109:C199)","v":49064},{"$f":"SUM(D109:D199)","v":49198},49204,49440,49852,49778,49717,50168,50296,50222,50469,51052,51650,52386,52566,53179,53485,53849,54405,54912,54941,54838,55052,55282,55786,55671,56005,{"$f":"SUM(AD109:AD199)","v":56036},{"$f":"SUM(AE109:AE199)","v":56039},{"$f":"SUM(AF109:AF199)","v":56321},{"$f":"SUM(AG109:AG199)","v":56575},{"$f":"SUM(AH109:AH199)","v":56895}]
[]
[]
[]
[]
[]
[]
[]
[]
[]
[]
[]
[]
[]
[]
[]
[]
[]
[]
[]
[]
[]
[]
[]
[]
[]
[]
[]
[]
[null,null,null,null,null,null,null,null,null,null,null,null,null,null,0.53645692158760894]
[null,null,null,null,null,null,null,null,null,null,null,null,null,null,0.28077444336882867]
[null,null,null,null,null,null,null,null,null,null,null,null,null,null,0.59500484027105516]
[null,null,null,null,null,null,null,null,null,null,null,null,null,null,5.7405614714424007E-2]
[null,null,null,null,null,null,null,null,null,null,null,null,null,null,6.3756050338818968E-2]
[null,null,null,null,null,null,null,null,null,null,null,null,null,null,5.8025169409486932E-2]
[null,null,null,null,null,null,null,null,null,null,null,null,null,null,4.3891577928363991E-2]
[null,null,null,null,null,null,null,null,null,null,null,null,null,null,4.6776379477250725E-2]
[null,null,null,null,null,null,null,null,null,null,null,null,null,null,5.9283639883833492E-2]
[null,null,null,null,null,null,null,null,null,null,null,null,null,null,7.1403678606001941E-2]
[null,null,null,null,null,null,null,null,null,null,null,null,null,null,6.8615682478218781E-2]
[null,null,null,null,null,null,null,null,null,null,null,null,null,null,6.4123910939012582E-2]
[null,null,null,null,null,null,null,null,null,null,null,null,null,null,6.3833494675701846E-2]
[null,null,null,null,null,null,null,null,null,null,null,null,null,null,7.3455953533397872E-2]
[null,null,null,null,null,null,null,null,null,null,null,null,null,null,5.8547918683446276E-2]
[null,null,null,null,null,null,null,null,null,null,null,null,null,null,5.2487899322362051E-2]
[null,null,null,null,null,null,null,null,null,null,null,null,null,null,4.7008712487899319E-2]
[null,null,null,null,null,null,null,null,null,null,null,null,null,null,4.5459825750242017E-2]
[null,null,null,null,null,null,null,null,null,null,null,null,null,null,4.0542110358180061E-2]
[null,null,null,null,null,null,null,null,null,null,null,null,null,null,2.1471442400774442E-2]
[null,null,null,null,null,null,null,null,null,null,null,null,null,null,1.5256534365924493E-2]
[null,null,null,null,null,null,null,null,null,null,null,null,null,null,1]

{"sheet":"GRA","index":15,"n_rows":200,"n_cols":106,"rows_kept":200,"cut":false,"hidden":true,"merged":[[0,68,21,68]]}
["Mid Year Population Estimates",null,null,null,null,null,null,null,null,null,null,null,null,null,null,null,null,null,null,null,null,null,null,null,null,null,null,null,null,null,null,null,null,null,null,null,null,null,null,null,null,null,null,null,null,null,null,null,null,null,null,null,null,null,null,null,null,null,null,null,null,null,null,null,null,null,null,null,"Insert column here before extending the table"]
["ONS Mid-Year Population Estimates 1991 to 2022 - (1992 to 2001 Revised 7th October 2004) ( 2002 to 2010 revised in light of the 2011 census. Released 30 April 2013)",null,null,null,null,null,null,null,null,null,null,null,null,null,null,null,null,null,null,null,null,null,null,null,null,null,null,null,null,null,null,null,null,null,null,"Selected Ages:",null,{"$f":"Index!C4&\" : \"&Index!C7","v":"0 : 90"},null,null,null,null,null,null,null,null,null,null,null,null,null,null,null,null,null,null,null,null,null,null,null,null,null,null,null,null,null,null,null,null,null,null,"Start year","End Year","Number change","% Change"]
["Revised ONS Mid-Year Population Estimates 2012 to 2020- Released 23 November 2023",null,null,null,null,null,null,null,null,null,null,null,null,null,null,null,null,null,null,null,null,null,null,null,null,null,null,null,null,null,null,null,null,null,null,null,{"$f":"AK13","v":1992},{"$f":"AL13","v":1993},{"$f":"AM13","v":1994},{"$f":"AN13","v":1995},{"$f":"AO13","v":1996},{"$f":"AP13","v":1997},1998,1999,2000,2001,2002,2003,2004,2005,2006,2007,2008,2009,2010,2011,2012,2013,2014,2015,2016,2017,{"$f":"BK13","v":2018},2019,2020,2021,2022,2023,null,null,null,null,{"$f":"INDEX($AR3:$BL3,Index!$B$16)","v":1999},{"$f":"INDEX($AR3:$BM3,Index!$B$19)","v":2019}]
["2022 MYPE released 23 November 2023",null,null,null,null,null,null,null,null,null,null,null,null,null,null,null,null,null,null,null,null,null,null,null,null,null,null,null,null,null,null,null,null,null,null,"Males",{"$f":"OFFSET(AK16,Index!$B$7-1,0)-IF(Index!$B$4-2=-1,0,OFFSET(AK16,Index!$B$4-2,0))","v":45642},{"$f":"OFFSET(AL16,Index!$B$7-1,0)-IF(Index!$B$4-2=-1,0,OFFSET(AL16,Index!$B$4-2,0))","v":45573},{"$f":"OFFSET(AM16,Index!$B$7-1,0)-IF(Index!$B$4-2=-1,0,OFFSET(AM16,Index!$B$4-2,0))","v":45679},{"$f":"OFFSET(AN16,Index!$B$7-1,0)-IF(Index!$B$4-2=-1,0,OFFSET(AN16,Index!$B$4-2,0))","v":45597},{"$f":"OFFSET(AO16,Index!$B$7-1,0)-IF(Index!$B$4-2=-1,0,OFFSET(AO16,Index!$B$4-2,0))","v":45413},{"$f":"OFFSET(AP16,Index!$B$7-1,0)-IF(Index!$B$4-2=-1,0,OFFSET(AP16,Index!$B$4-2,0))","v":45548},{"$f":"OFFSET(AQ16,Index!$B$7-1,0)-IF(Index!$B$4-2=-1,0,OFFSET(AQ16,Index!$B$4-2,0))","v":45861},{"$f":"OFFSET(AR16,Index!$B$7-1,0)-IF(Index!$B$4-2=-1,0,OFFSET(AR16,Index!$B$4-2,0))","v":46222},{"$f":"OFFSET(AS16,Index!$B$7-1,0)-IF(Index!$B$4-2=-1,0,OFFSET(AS16,Index!$B$4-2,0))","v":46545},{"$f":"OFFSET(AT16,Index!$B$7-1,0)-IF(Index!$B$4-2=-1,0,OFFSET(AT16,Index!$B$4-2,0))","v":46928},{"$f":"OFFSET(AU16,Index!$B$7-1,0)-IF(Index!$B$4-2=-1,0,OFFSET(AU16,Index!$B$4-2,0))","v":46902},{"$f":"OFFSET(AV16,Index!$B$7-1,0)-IF(Index!$B$4-2=-1,0,OFFSET(AV16,Index!$B$4-2,0))","v":47035},{"$f":"OFFSET(AW16,Index!$B$7-1,0)-IF(Index!$B$4-2=-1,0,OFFSET(AW16,Index!$B$4-2,0))","v":47209},{"$f":"OFFSET(AX16,Index!$B$7-1,0)-IF(Index!$B$4-2=-1,0,OFFSET(AX16,Index!$B$4-2,0))","v":47642},{"$f":"OFFSET(AY16,Index!$B$7-1,0)-IF(Index!$B$4-2=-1,0,OFFSET(AY16,Index!$B$4-2,0))","v":48034},{"$f":"OFFSET(AZ16,Index!$B$7-1,0)-IF(Index!$B$4-2=-1,0,OFFSET(AZ16,Index!$B$4-2,0))","v":48478},{"$f":"OFFSET(BA16,Index!$B$7-1,0)-IF(Index!$B$4-2=-1,0,OFFSET(BA16,Index!$B$4-2,0))","v":48882},{"$f":"OFFSET(BB16,Index!$B$7-1,0)-IF(Index!$B$4-2=-1,0,OFFSET(BB16,Index!$B$4-2,0))","v":49256},{"$f":"OFFSET(BC16,Index!$B$7-1,0)-IF(Index!$B$4-2=-1,0,OFFSET(BC16,Index!$B$4-2,0))","v":49777},{"$f":"OFFSET(BD16,Index!$B$7-1,0)-IF(Index!$B$4-2=-1,0,OFFSET(BD16,Index!$B$4-2,0))","v":50180},{"$f":"OFFSET(BE16,Index!$B$7-1,0)-IF(Index!$B$4-2=-1,0,OFFSET(BE16,Index!$B$4-2,0))","v":50857},{"$f":"OFFSET(BF16,Index!$B$7-1,0)-IF(Index!$B$4-2=-1,0,OFFSET(BF16,Index!$B$4-2,0))","v":51164},{"$f":"OFFSET(BG16,Index!$B$7-1,0)-IF(Index!$B$4-2=-1,0,OFFSET(BG16,Index!$B$4-2,0))","v":52012},{"$f":"OFFSET(BH16,Index!$B$7-1,0)-IF(Index!$B$4-2=-1,0,OFFSET(BH16,Index!$B$4-2,0))","v":52481},{"$f":"OFFSET(BI16,Index!$B$7-1,0)-IF(Index!$B$4-2=-1,0,OFFSET(BI16,Index!$B$4-2,0))","v":52606},{"$f":"OFFSET(BJ16,Index!$B$7-1,0)-IF(Index!$B$4-2=-1,0,OFFSET(BJ16,Index!$B$4-2,0))","v":52342},{"$f":"OFFSET(BK16,Index!$B$7-1,0)-IF(Index!$B$4-2=-1,0,OFFSET(BK16,Index!$B$4-2,0))","v":52301},{"$f":"OFFSET(BL16,Index!$B$7-1,0)-IF(Index!$B$4-2=-1,0,OFFSET(BL16,Index!$B$4-2,0))","v":52568},{"$f":"OFFSET(BM16,Index!$B$7-1,0)-IF(Index!$B$4-2=-1,0,OFFSET(BM16,Index!$B$4-2,0))","v":52415},{"$f":"OFFSET(BN16,Index!$B$7-1,0)-IF(Index!$B$4-2=-1,0,OFFSET(BN16,Index!$B$4-2,0))","v":52227},{"$f":"OFFSET(BO16,Index!$B$7-1,0)-IF(Index!$B$4-2=-1,0,OFFSET(BO16,Index!$B$4-2,0))","v":52092},{"$f":"OFFSET(BP16,Index!$B$7-1,0)-IF(Index!$B$4-2=-1,0,OFFSET(BP16,Index!$B$4-2,0))","v":52460},null,null,null,null,{"$f":"INDEX($AR4:$BL4,Index!$B$16)","v":46222},{"$f":"INDEX($AR4:$BM4,Index!$B$19)","v":52568},{"$f":"BV4-BU4","v":6346},{"$f":"BW4/BU4","v":0.13729392929773701}]
[null,null,null,null,null,null,null,null,null,null,null,null,null,null,null,null,null,null,null,null,null,null,null,null,null,null,null,null,null,null,null,null,null,null,null,"Females",{"$f":"OFFSET(AK109,Index!$B$7-1,0)-IF(Index!$B$4-2=-1,0,OFFSET(AK109,Index!$B$4-2,0))","v":47871},{"$f":"OFFSET(AL109,Index!$B$7-1,0)-IF(Index!$B$4-2=-1,0,OFFSET(AL109,Index!$B$4-2,0))","v":47793},{"$f":"OFFSET(AM109,Index!$B$7-1,0)-IF(Index!$B$4-2=-1,0,OFFSET(AM109,Index!$B$4-2,0))","v":47881},{"$f":"OFFSET(AN109,Index!$B$7-1,0)-IF(Index!$B$4-2=-1,0,OFFSET(AN109,Index!$B$4-2,0))","v":47833},{"$f":"OFFSET(AO109,Index!$B$7-1,0)-IF(Index!$B$4-2=-1,0,OFFSET(AO109,Index!$B$4-2,0))","v":47612},{"$f":"OFFSET(AP109,Index!$B$7-1,0)-IF(Index!$B$4-2=-1,0,OFFSET(AP109,Index!$B$4-2,0))","v":47744},{"$f":"OFFSET(AQ109,Index!$B$7-1,0)-IF(Index!$B$4-2=-1,0,OFFSET(AQ109,Index!$B$4-2,0))","v":48055},{"$f":"OFFSET(AR109,Index!$B$7-1,0)-IF(Index!$B$4-2=-1,0,OFFSET(AR109,Index!$B$4-2,0))","v":48353},{"$f":"OFFSET(AS109,Index!$B$7-1,0)-IF(Index!$B$4-2=-1,0,OFFSET(AS109,Index!$B$4-2,0))","v":48615},{"$f":"OFFSET(AT109,Index!$B$7-1,0)-IF(Index!$B$4-2=-1,0,OFFSET(AT109,Index!$B$4-2,0))","v":48863},{"$f":"OFFSET(AU109,Index!$B$7-1,0)-IF(Index!$B$4-2=-1,0,OFFSET(AU109,Index!$B$4-2,0))","v":48546},{"$f":"OFFSET(AV109,Index!$B$7-1,0)-IF(Index!$B$4-2=-1,0,OFFSET(AV109,Index!$B$4-2,0))","v":48534},{"$f":"OFFSET(AW109,Index!$B$7-1,0)-IF(Index!$B$4-2=-1,0,OFFSET(AW109,Index!$B$4-2,0))","v":48698},{"$f":"OFFSET(AX109,Index!$B$7-1,0)-IF(Index!$B$4-2=-1,0,OFFSET(AX109,Index!$B$4-2,0))","v":49242},{"$f":"OFFSET(AY109,Index!$B$7-1,0)-IF(Index!$B$4-2=-1,0,OFFSET(AY109,Index!$B$4-2,0))","v":49540},{"$f":"OFFSET(AZ109,Index!$B$7-1,0)-IF(Index!$B$4-2=-1,0,OFFSET(AZ109,Index!$B$4-2,0))","v":50018},{"$f":"OFFSET(BA109,Index!$B$7-1,0)-IF(Index!$B$4-2=-1,0,OFFSET(BA109,Index!$B$4-2,0))","v":50512},{"$f":"OFFSET(BB109,Index!$B$7-1,0)-IF(Index!$B$4-2=-1,0,OFFSET(BB109,Index!$B$4-2,0))","v":50932},{"$f":"OFFSET(BC109,Index!$B$7-1,0)-IF(Index!$B$4-2=-1,0,OFFSET(BC109,Index!$B$4-2,0))","v":51299},{"$f":"OFFSET(BD109,Index!$B$7-1,0)-IF(Index!$B$4-2=-1,0,OFFSET(BD109,Index!$B$4-2,0))","v":51586},{"$f":"OFFSET(BE109,Index!$B$7-1,0)-IF(Index!$B$4-2=-1,0,OFFSET(BE109,Index!$B$4-2,0))","v":52147},{"$f":"OFFSET(BF109,Index!$B$7-1,0)-IF(Index!$B$4-2=-1,0,OFFSET(BF109,Index!$B$4-2,0))","v":52673},{"$f":"OFFSET(BG109,Index!$B$7-1,0)-IF(Index!$B$4-2=-1,0,OFFSET(BG109,Index!$B$4-2,0))","v":53422},{"$f":"OFFSET(BH109,Index!$B$7-1,0)-IF(Index!$B$4-2=-1,0,OFFSET(BH109,Index!$B$4-2,0))","v":53923},{"$f":"OFFSET(BI109,Index!$B$7-1,0)-IF(Index!$B$4-2=-1,0,OFFSET(BI109,Index!$B$4-2,0))","v":54217},{"$f":"OFFSET(BJ109,Index!$B$7-1,0)-IF(Index!$B$4-2=-1,0,OFFSET(BJ109,Index!$B$4-2,0))","v":54201},{"$f":"OFFSET(BK109,Index!$B$7-1,0)-IF(Index!$B$4-2=-1,0,OFFSET(BK109,Index!$B$4-2,0))","v":54425},{"$f":"OFFSET(BL109,Index!$B$7-1,0)-IF(Index!$B$4-2=-1,0,OFFSET(BL109,Index!$B$4-2,0))","v":54780},{"$f":"OFFSET(BM109,Index!$B$7-1,0)-IF(Index!$B$4-2=-1,0,OFFSET(BM109,Index!$B$4-2,0))","v":54731},{"$f":"OFFSET(BN109,Index!$B$7-1,0)-IF(Index!$B$4-2=-1,0,OFFSET(BN109,Index!$B$4-2,0))","v":54656},{"$f":"OFFSET(BO109,Index!$B$7-1,0)-IF(Index!$B$4-2=-1,0,OFFSET(BO109,Index!$B$4-2,0))","v":54778},{"$f":"OFFSET(BP109,Index!$B$7-1,0)-IF(Index!$B$4-2=-1,0,OFFSET(BP109,Index!$B$4-2,0))","v":55277},null,null,null,null,{"$f":"INDEX($AR5:$BL5,Index!$B$16)","v":48353},{"$f":"INDEX($AR5:$BM5,Index!$B$19)","v":54780},{"$f":"BV5-BU5","v":6427},{"$f":"BW5/BU5","v":0.13291832978305379}]
[null,null,null,null,null,null,null,null,null,null,null,null,null,null,null,null,null,null,null,null,null,null,null,null,null,null,null,null,null,null,null,null,null,null,null,"Total",{"$f":"SUM(AK4:AK5)","v":93513},{"$f":"SUM(AL4:AL5)","v":93366},{"$f":"SUM(AM4:AM5)","v":93560},{"$f":"SUM(AN4:AN5)","v":93430},{"$f":"SUM(AO4:AO5)","v":93025},{"$f":"SUM(AP4:AP5)","v":93292},93916,94575,95160,95791,95448,95569,95907,96884,97574,98496,99394,100188,101076,101766,103004,103837,105434,106404,106823,106543,106726,107348,107146,106883,106870,107737,null,null,null,null,{"$f":"INDEX($AR6:$BL6,Index!$B$16)","v":94575},{"$f":"INDEX($AR6:$BM6,Index!$B$19)","v":107348},{"$f":"BV6-BU6","v":12773},{"$f":"BW6/BU6","v":0.1350568332011631}]
[]
[null,null,null,null,null,null,null,null,null,null,null,null,null,null,null,null,null,null,null,null,null,null,null,null,null,null,null,null,null,null,null,null,null,null,null,"Males",{"$f":"IF(AK4<0,\"0\",AK4)","v":45642},{"$f":"IF(AL4<0,\"0\",AL4)","v":45573},45679,45597,45413,45548,45861,46222,46545,46928,46902,47035,47209,47642,48034,48478,48882,49256,49777,50180,50857,51164,52012,52481,52606,52342,{"$f":"IF(BK4<0,\"0\",BK4)","v":52301},52568,52415,{"$f":"IF(BN4<0,\"0\",BN4)","v":52227},52092,{"$f":"IF(BP4<0,\"0\",BP4)","v":52460}]
[null,null,null,null,null,null,null,null,null,null,null,null,null,null,null,null,null,null,null,null,null,null,null,null,null,null,null,null,null,null,null,null,null,null,null,"Females",{"$f":"IF(AK5<0,\"0\",AK5)","v":47871},47793,47881,47833,47612,47744,48055,48353,48615,48863,48546,48534,48698,49242,49540,50018,50512,50932,51299,51586,52147,52673,53422,53923,54217,54201,54425,54780,54731,{"$f":"IF(BN5<0,\"0\",BN5)","v":54656},54778,{"$f":"IF(BP5<0,\"0\",BP5)","v":55277}]
[null,null,null,null,null,null,null,null,null,null,null,null,null,null,null,null,null,null,null,null,null,null,null,null,null,null,null,null,null,null,null,null,null,null,null,"Total",{"$f":"SUM(AK8:AK9)","v":93513},{"$f":"SUM(AL8:AL9)","v":93366},93560,93430,93025,93292,93916,94575,95160,95791,95448,95569,95907,96884,97574,98496,99394,100188,101076,101766,103004,103837,105434,106404,106823,106543,{"$f":"SUM(BK8:BK9)","v":106726},107348,107146,106883,106870,107737]
[]
[null,null,null,"MYE for  . . . . . .",null,null,null,"Gravesham",null,null,null,null,null,null,null,null,null,null,null,null,null,null,null,null,null,null,null,null,null,null,null,null,null,null,null,null,null,null,null,null,"Cummulative Ages",null,null,null,null,null,null,null,null,null,null,null,null,null,null,null,null,null,null,null,null,null,null,null,null,null,null,null,null,"Population Pyramid"]
[null,null,"Base Year",null,null,null,null,null,null,null,null,null,null,null,null,null,null,null,null,null,null,null,null,null,null,null,null,null,null,null,null,null,null,null,null,null,{"$f":"C14","v":1992},1993,1994,1995,1996,1997,1998,1999,2000,2001,2002,2003,2004,2005,2006,2007,2008,2009,2010,2011,2012,2013,2014,2015,2016,2017,2018,2019,2020,2021,2022,2023]
["Sex","Age",1992,1993,1994,1995,1996,1997,1998,1999,2000,2001,2002,2003,2004,2005,2006,2007,2008,2009,2010,2011,2012,2013,2014,2015,2016,2017,2018,2019,2020,2021,2022,2023,null,null,null,null,null,null,null,null,null,null,null,null,null,null,null,null,null,null,null,null,null,null,null,null,null,null,null,null,null,null,null,null,null,null,null,null,null,null,1992,1993,1994,1995,1996,1997,1998,1999,2000,2001,2002,2003,2004,2005,2006,2007,2008,2009,2010,2011,2012,2013,2014,2015,2016,2017,2018,2019,2020,2021,2022,2023,null,{"$f":"INDEX(CC14:CY14,'Population Pyramid'!$L$1)","v":2020}]
[null,"All persons",{"$f":"SUM(C107,C200)","v":93513},{"$f":"SUM(D107,D200)","v":93366},93560,93430,93025,93292,93916,94575,95160,95791,95448,95569,95907,96884,97574,98496,99394,100188,101076,101766,103004,103837,{"$f":"SUM(Y107,Y200)","v":105434},106404,106823,106543,106726,107348,{"$f":"SUM(AE107,AE200)","v":107146},106883,{"$f":"SUM(AG107,AG200)","v":106870},107737,null,"Males",null,null,null,null,null,null,null,null,null,null,null,null,null,null,null,null,null,null,null,null,null,null,null,null,null,null,null,null,null,null,null,null,null,"Males","All Ages",null,{"$f":"C107","v":45642},45573,45679,45597,45413,45548,45861,46222,46545,46928,46902,47035,47209,47642,48034,48478,48882,49256,49777,50180,50857,51164,52012,52481,52606,52342,52301,52568,52415,52227,52092,52460,null,{"$f":"INDEX(CC15:CY15,'Population Pyramid'!$L$1)","v":52415}]
["male",0,712,632,656,611,609,628,638,586,542,574,550,584,611,594,652,654,640,653,680,672,777,707,738,692,676,713,702,654,672,626,659,668,null,0,{"$f":"C16","v":712},632,656,611,609,628,638,586,542,574,550,584,611,594,652,654,640,653,680,672,777,707,738,692,676,713,702,654,672,626,659,668,null,"Males","0-4",null,{"$f":"SUM(C16:C20)","v":3374},3317,3291,3236,3155,3091,3103,3189,3113,3049,2948,2908,2939,3008,3091,3187,3248,3283,3424,3401,3519,3564,3682,3682,3573,3479,3517,3474,3428,3337,3382,3392,null,{"$f":"INDEX(CC16:CY16,'Population Pyramid'!$L$1)","v":3428}]
["male",1,670,695,609,645,598,599,605,675,608,532,586,560,592,633,601,657,664,643,670,688,706,758,701,744,679,692,691,707,648,687,611,677,null,1,{"$f":"AK16+C17","v":1382},{"$f":"AL16+D17","v":1327},{"$f":"AM16+E17","v":1265},{"$f":"AN16+F17","v":1256},{"$f":"AO16+G17","v":1207},{"$f":"AP16+H17","v":1227},{"$f":"AQ16+I17","v":1243},{"$f":"AR16+J17","v":1261},{"$f":"AS16+K17","v":1150},{"$f":"AT16+L17","v":1106},{"$f":"AU16+M17","v":1136},{"$f":"AV16+N17","v":1144},{"$f":"AW16+O17","v":1203},{"$f":"AX16+P17","v":1227},{"$f":"AY16+Q17","v":1253},{"$f":"AZ16+R17","v":1311},{"$f":"BA16+S17","v":1304},{"$f":"BB16+T17","v":1296},{"$f":"BC16+U17","v":1350},{"$f":"BD16+V17","v":1360},{"$f":"BE16+W17","v":1483},{"$f":"BF16+X17","v":1465},{"$f":"BG16+Y17","v":1439},{"$f":"BH16+Z17","v":1436},{"$f":"BI16+AA17","v":1355},{"$f":"BJ16+AB17","v":1405},{"$f":"BK16+AC17","v":1393},{"$f":"BL16+AD17","v":1361},{"$f":"BM16+AE17","v":1320},{"$f":"BN16+AF17","v":1313},{"$f":"BO16+AG17","v":1270},1345,null,"Males","5-9",null,{"$f":"SUM(C21:C25)","v":3133},3220,3334,3345,3352,3416,3395,3434,3442,3415,3311,3306,3298,3242,3233,3184,3101,3098,3168,3273,3375,3394,3424,3576,3604,3613,3626,3698,3653,3635,3601,3747,null,{"$f":"INDEX(CC17:CY17,'Population Pyramid'!$L$1)","v":3653}]
["male",2,663,666,699,613,639,607,608,665,672,629,519,586,573,603,640,607,683,667,662,679,696,707,781,707,730,658,721,696,704,659,717,638,null,2,2045,1993,1964,1869,1846,1834,1851,1926,1822,1735,1655,1730,1776,1830,1893,1918,1987,1963,2012,2039,2179,2172,2220,2143,2085,2063,2114,2057,2024,1972,1987,1983,null,"Males","10-14",null,{"$f":"SUM(C26:C30)","v":2926},2935,2899,2971,3044,3153,3261,3410,3449,3502,3570,3506,3483,3505,3425,3371,3425,3359,3350,3357,3277,3211,3239,3260,3310,3392,3436,3434,3575,3620,3740,3863,null,{"$f":"INDEX(CC18:CY18,'Population Pyramid'!$L$1)","v":3575}]
["male",3,671,660,671,698,614,638,618,625,656,650,643,537,591,581,612,654,616,704,690,663,690,703,725,800,705,730,666,719,680,702,657,727,null,3,2716,2653,2635,2567,2460,2472,2469,2551,2478,2385,2298,2267,2367,2411,2505,2572,2603,2667,2702,2702,2869,2875,2945,2943,2790,2793,2780,2776,2704,2674,2644,2710,null,"Males","15-19",null,{"$f":"SUM(C31:C35)","v":3070},2929,2810,2655,2630,2600,2719,2775,2847,3000,3142,3314,3397,3451,3502,3569,3475,3527,3463,3417,3373,3391,3362,3305,3316,3180,3159,3198,3185,3262,3276,3320,null,{"$f":"INDEX(CC19:CY19,'Population Pyramid'!$L$1)","v":3185}]
["male",4,658,664,656,669,695,619,634,638,635,664,650,641,572,597,586,615,645,616,722,699,650,689,737,739,783,686,737,698,724,663,738,682,null,4,3374,3317,3291,3236,3155,3091,3103,3189,3113,3049,2948,2908,2939,3008,3091,3187,3248,3283,3424,3401,3519,3564,3682,3682,3573,3479,3517,3474,3428,3337,3382,3392,null,"Males","20-24",null,{"$f":"SUM(C36:C40)","v":3434},3292,3097,2947,2652,2463,2310,2249,2305,2414,2420,2482,2535,2649,2763,2919,3071,3077,3184,3207,3296,3202,3337,3232,3126,3034,2928,2870,2835,2925,2856,2789,null,{"$f":"INDEX(CC20:CY20,'Population Pyramid'!$L$1)","v":2835}]
["male",5,645,659,667,658,673,703,629,672,647,648,663,662,655,590,610,592,607,648,619,711,711,639,702,753,729,777,698,737,707,719,665,778,null,5,4019,3976,3958,3894,3828,3794,3732,3861,3760,3697,3611,3570,3594,3598,3701,3779,3855,3931,4043,4112,4230,4203,4384,4435,4302,4256,4215,4211,4135,4056,4047,4170,null,"Males","25-29",null,{"$f":"SUM(C41:C45)","v":3757},3694,3774,3688,3551,3496,3435,3176,3009,2889,2787,2736,2696,2751,2827,2916,3041,3113,3184,3291,3399,3516,3584,3597,3563,3460,3391,3417,3258,3133,3056,3140,null,{"$f":"INDEX(CC21:CY21,'Population Pyramid'!$L$1)","v":3258}]
["male",6,672,649,666,671,662,681,713,638,690,663,643,665,667,664,609,623,590,611,664,630,708,718,678,697,741,720,781,697,750,703,747,687,null,6,4691,4625,4624,4565,4490,4475,4445,4499,4450,4360,4254,4235,4261,4262,4310,4402,4445,4542,4707,4742,4938,4921,5062,5132,5043,4976,4996,4908,4885,4759,4794,4857,null,"Males","30-34",null,{"$f":"SUM(C46:C50)","v":3392},3430,3474,3515,3589,3675,3631,3688,3667,3526,3379,3267,3168,3135,3024,2950,3009,3053,3081,3175,3172,3250,3354,3454,3533,3666,3638,3566,3572,3559,3494,3395,null,{"$f":"INDEX(CC22:CY22,'Population Pyramid'!$L$1)","v":3572}]
["male",7,653,678,658,674,675,670,693,758,652,691,664,629,669,680,661,615,636,589,636,673,640,719,708,686,707,734,733,777,692,748,704,762,null,7,5344,5303,5282,5239,5165,5145,5138,5257,5102,5051,4918,4864,4930,4942,4971,5017,5081,5131,5343,5415,5578,5640,5770,5818,5750,5710,5729,5685,5577,5507,5498,5619,null,"Males","35-39",null,{"$f":"SUM(C51:C55)","v":3119},3185,3275,3335,3415,3463,3544,3596,3686,3825,3873,3811,3783,3743,3636,3613,3498,3410,3373,3249,3232,3164,3213,3282,3373,3391,3456,3544,3530,3516,3595,3619,null,{"$f":"INDEX(CC23:CY23,'Population Pyramid'!$L$1)","v":3530}]
["male",8,565,654,677,658,674,674,671,683,751,666,693,664,625,672,687,656,617,634,601,646,685,627,701,729,701,685,745,736,754,697,757,730,null,8,5909,5957,5959,5897,5839,5819,5809,5940,5853,5717,5611,5528,5555,5614,5658,5673,5698,5765,5944,6061,6263,6267,6471,6547,6451,6395,6474,6421,6331,6204,6255,6349,null,"Males","40-44",null,{"$f":"SUM(C56:C60)","v":3221},3054,3017,3047,3028,3094,3202,3288,3380,3523,3556,3612,3700,3741,3832,3933,3922,3896,3827,3768,3756,3682,3612,3570,3422,3273,3259,3336,3362,3406,3411,3513,null,{"$f":"INDEX(CC24:CY24,'Population Pyramid'!$L$1)","v":3362}]
["male",9,598,580,666,684,668,688,689,683,702,747,648,686,682,636,666,698,651,616,648,613,631,691,635,711,726,697,669,751,750,768,728,790,null,9,6507,6537,6625,6581,6507,6507,6498,6623,6555,6464,6259,6214,6237,6250,6324,6371,6349,6381,6592,6674,6894,6958,7106,7258,7177,7092,7143,7172,7081,6972,6983,7139,null,"Males","45-49",null,{"$f":"SUM(C61:C65)","v":3270},3398,3411,3412,3392,3122,2966,2988,3016,3066,3105,3218,3269,3337,3427,3441,3570,3676,3735,3801,3882,3856,3901,3922,3872,3819,3681,3608,3511,3343,3217,3180,null,{"$f":"INDEX(CC25:CY25,'Population Pyramid'!$L$1)","v":3511}]
["male",10,577,596,586,668,684,675,692,691,693,719,752,652,683,692,639,672,707,654,624,667,622,636,675,634,706,712,686,691,754,752,776,739,null,10,7084,7133,7211,7249,7191,7182,7190,7314,7248,7183,7011,6866,6920,6942,6963,7043,7056,7035,7216,7341,7516,7594,7781,7892,7883,7804,7829,7863,7835,7724,7759,7878,null,"Males","50-54",null,{"$f":"SUM(C66:C70)","v":2611},2651,2718,2755,2869,3157,3310,3351,3365,3316,3063,2919,2892,2925,2946,3018,3064,3138,3201,3265,3393,3583,3660,3741,3829,3817,3764,3766,3717,3634,3594,3519,null,{"$f":"INDEX(CC26:CY26,'Population Pyramid'!$L$1)","v":3717}]
["male",11,613,569,589,585,664,674,669,704,687,696,716,742,664,697,692,645,671,704,657,629,660,617,642,674,638,703,711,694,696,755,781,819,null,11,7697,7702,7800,7834,7855,7856,7859,8018,7935,7879,7727,7608,7584,7639,7655,7688,7727,7739,7873,7970,8176,8211,8423,8566,8521,8507,8540,8557,8531,8479,8540,8697,null,"Males","55-59",null,{"$f":"SUM(C71:C75)","v":2549},2579,2597,2586,2544,2502,2554,2606,2674,2741,3009,3160,3152,3115,3092,2871,2737,2720,2770,2788,2852,2920,3018,3115,3214,3275,3431,3472,3515,3566,3521,3461,null,{"$f":"INDEX(CC27:CY27,'Population Pyramid'!$L$1)","v":3515}]
["male",12,586,601,560,580,579,657,667,676,713,680,697,718,739,664,705,677,646,676,724,658,629,664,620,655,673,637,705,709,710,694,765,802,null,12,8283,8303,8360,8414,8434,8513,8526,8694,8648,8559,8424,8326,8323,8303,8360,8365,8373,8415,8597,8628,8805,8875,9043,9221,9194,9144,9245,9266,9241,9173,9305,9499,null,"Males","60-64",null,{"$f":"SUM(C76:C80)","v":2411},2390,2411,2425,2416,2424,2446,2410,2397,2367,2318,2335,2382,2449,2571,2787,2880,2872,2836,2827,2616,2567,2570,2619,2620,2687,2730,2842,2908,2922,2991,3114,null,{"$f":"INDEX(CC28:CY28,'Population Pyramid'!$L$1)","v":2908}]
["male",13,603,579,597,553,576,582,656,680,683,719,681,703,704,738,665,722,677,648,683,717,660,623,665,626,659,681,646,695,709,705,703,784,null,13,8886,8882,8957,8967,9010,9095,9182,9374,9331,9278,9105,9029,9027,9041,9025,9087,9050,9063,9280,9345,9465,9498,9708,9847,9853,9825,9891,9961,9950,9878,10008,10283,null,"Males","65-69",null,{"$f":"SUM(C81:C85)","v":1937},1976,2029,2077,2135,2172,2143,2168,2192,2190,2179,2177,2124,2097,2059,2036,2080,2167,2215,2318,2558,2599,2620,2609,2627,2422,2358,2300,2326,2315,2372,2408,null,{"$f":"INDEX(CC29:CY29,'Population Pyramid'!$L$1)","v":2326}]
["male",14,547,590,567,585,541,565,577,659,673,688,724,691,693,714,724,655,724,677,662,686,706,671,637,671,634,659,688,645,706,714,715,719,null,14,9433,9472,9524,9552,9551,9660,9759,10033,10004,9966,9829,9720,9720,9755,9749,9742,9774,9740,9942,10031,10171,10169,10345,10518,10487,10484,10579,10606,10656,10592,10723,11002,null,"Males","70-74",null,{"$f":"SUM(C86:C90)","v":1551},1674,1672,1618,1560,1605,1648,1704,1762,1825,1837,1816,1838,1868,1860,1833,1850,1837,1837,1813,1806,1872,1946,1976,2039,2207,2280,2301,2283,2280,2100,1992,null,{"$f":"INDEX(CC30:CY30,'Population Pyramid'!$L$1)","v":2283}]
["male",15,572,542,587,563,579,538,565,598,651,680,693,732,700,703,718,738,654,744,691,670,702,709,682,646,674,633,657,696,646,718,705,713,null,15,10005,10014,10111,10115,10130,10198,10324,10631,10655,10646,10522,10452,10420,10458,10467,10480,10428,10484,10633,10701,10873,10878,11027,11164,11161,11117,11236,11302,11302,11310,11428,11715,null,"Males","75-79",null,{"$f":"SUM(C91:C95)","v":1033},955,955,1039,1062,1125,1227,1235,1208,1188,1238,1281,1336,1375,1445,1457,1441,1515,1556,1532,1538,1535,1537,1535,1508,1519,1553,1639,1638,1697,1798,1881,null,{"$f":"INDEX(CC31:CY31,'Population Pyramid'!$L$1)","v":1638}]
["male",16,573,563,529,573,554,572,534,549,603,661,681,694,740,708,721,725,751,668,747,697,676,705,714,685,656,664,643,643,697,667,734,727,null,16,10578,10577,10640,10688,10684,10770,10858,11180,11258,11307,11203,11146,11160,11166,11188,11205,11179,11152,11380,11398,11549,11583,11741,11849,11817,11781,11879,11945,11999,11977,12162,12442,null,"Males","80-84",null,{"$f":"SUM(C96:C100)","v":571},586,589,605,663,629,591,589,647,677,740,788,815,798,792,834,890,942,948,1026,1059,1093,1143,1179,1191,1164,1152,1124,1146,1108,1140,1167,null,{"$f":"INDEX(CC32:CY32,'Population Pyramid'!$L$1)","v":1146}]
["male",17,638,560,551,513,562,541,554,528,537,609,671,691,709,759,723,736,738,757,669,754,702,678,718,708,697,665,669,653,675,706,673,731,null,17,11216,11137,11191,11201,11246,11311,11412,11708,11795,11916,11874,11837,11869,11925,11911,11941,11917,11909,12049,12152,12251,12261,12459,12557,12514,12446,12548,12598,12674,12683,12835,13173,null,"Males","85+",null,{"$f":"SUM(C101:C106)","v":283},308,326,341,356,361,376,366,386,415,427,399,402,453,509,559,580,573,625,672,754,765,810,827,886,944,942,979,973,969,948,960,null,{"$f":"INDEX(CC33:CY33,'Population Pyramid'!$L$1)","v":973}]
["male",18,667,644,557,535,494,547,552,566,549,561,607,664,680,698,744,717,720,725,733,664,735,675,671,711,708,660,650,652,636,653,678,633,null,18,11883,11781,11748,11736,11740,11858,11964,12274,12344,12477,12481,12501,12549,12623,12655,12658,12637,12634,12782,12816,12986,12936,13130,13268,13222,13106,13198,13250,13310,13336,13513,13806]
["male",19,620,620,586,471,441,402,514,534,507,489,490,533,568,583,596,653,612,633,623,632,558,624,577,555,581,558,540,554,531,518,486,516,null,19,12503,12401,12334,12207,12181,12260,12478,12808,12851,12966,12971,13034,13117,13206,13251,13311,13249,13267,13405,13448,13544,13560,13707,13823,13803,13664,13738,13804,13841,13854,13999,14322,null,"Males","All Ages",null,{"$f":"C200","v":47871},47793,47881,47833,47612,47744,48055,48353,48615,48863,48546,48534,48698,49242,49540,50018,50512,50932,51299,51586,52147,52673,53422,53923,54217,54201,54425,54780,54731,54656,54778,55277,null,{"$f":"INDEX(CC35:CY35,'Population Pyramid'!$L$1)","v":54731}]
["male",20,708,588,534,479,373,347,347,463,493,490,441,470,510,543,559,584,614,563,603,575,638,549,615,526,528,529,535,533,521,538,481,443,null,20,13211,12989,12868,12686,12554,12607,12825,13271,13344,13456,13412,13504,13627,13749,13810,13895,13863,13830,14008,14023,14182,14109,14322,14349,14331,14193,14273,14337,14362,14392,14480,14765,null,"Females","0-4",null,{"$f":"SUM(C109:C113)","v":3234},3208,3260,3243,3144,3115,3082,3045,2943,2876,2775,2695,2635,2645,2753,2895,3053,3179,3294,3262,3360,3427,3554,3566,3608,3517,3448,3360,3268,3223,3247,3363,null,{"$f":"INDEX(CC36:CY36,'Population Pyramid'!$L$1)","v":3268}]
["male",21,657,661,502,489,439,374,342,396,460,497,503,442,468,524,554,579,593,620,573,601,608,657,616,617,546,546,551,560,560,541,525,510,null,21,13868,13650,13370,13175,12993,12981,13167,13667,13804,13953,13915,13946,14095,14273,14364,14474,14456,14450,14581,14624,14790,14766,14938,14966,14877,14739,14824,14897,14922,14933,15005,15275,null,"Females","5-9",null,{"$f":"SUM(C114:C118)","v":2962},3024,3058,3126,3155,3184,3184,3286,3282,3204,3133,3123,3040,2952,2961,2887,2834,2808,2839,2987,3042,3155,3352,3490,3452,3478,3475,3536,3552,3506,3523,3596,null,{"$f":"INDEX(CC37:CY37,'Population Pyramid'!$L$1)","v":3552}]
["male",22,644,685,667,562,547,513,448,405,411,477,519,526,461,511,556,578,622,633,657,639,664,639,717,650,662,598,560,589,578,589,576,564,null,22,14512,14335,14037,13737,13540,13494,13615,14072,14215,14430,14434,14472,14556,14784,14920,15052,15078,15083,15238,15263,15454,15405,15655,15616,15539,15337,15384,15486,15500,15522,15581,15839,null,"Females","10-14",null,{"$f":"SUM(C119:C123)","v":2944},2964,2976,2967,3000,3026,3103,3160,3229,3262,3292,3296,3327,3327,3275,3281,3278,3210,3142,3130,3041,2973,2917,2991,3128,3168,3307,3480,3572,3536,3643,3746,null,{"$f":"INDEX(CC38:CY38,'Population Pyramid'!$L$1)","v":3572}]
["male",23,725,647,714,700,605,607,552,451,440,457,487,536,540,495,546,603,612,651,668,694,675,690,700,734,664,687,609,586,601,639,642,617,null,23,15237,14982,14751,14437,14145,14101,14167,14523,14655,14887,14921,15008,15096,15279,15466,15655,15690,15734,15906,15957,16129,16095,16355,16350,16203,16024,15993,16072,16101,16161,16223,16456,null,"Females","15-19",null,{"$f":"SUM(C124:C128)","v":2977},2901,2830,2722,2657,2719,2829,2917,2961,3032,3022,3092,3178,3378,3343,3372,3390,3402,3397,3371,3326,3321,3183,3044,3014,2979,2897,2824,2915,2995,2978,3152,null,{"$f":"INDEX(CC39:CY39,'Population Pyramid'!$L$1)","v":2915}]
["male",24,700,711,680,717,688,622,621,534,501,493,470,508,556,576,548,575,630,610,683,698,711,667,689,705,726,674,673,602,575,618,632,655,null,24,15937,15693,15431,15154,14833,14723,14788,15057,15156,15380,15391,15516,15652,15855,16014,16230,16320,16344,16589,16655,16840,16762,17044,17055,16929,16698,16666,16674,16676,16779,16855,17111,null,"Females","20-24",null,{"$f":"SUM(C129:C133)","v":3354},3146,2884,2727,2499,2318,2250,2287,2329,2493,2522,2556,2632,2721,2844,2967,3096,3183,3248,3212,3298,3286,3394,3285,3128,2981,2946,2901,2739,2741,2620,2463,null,{"$f":"INDEX(CC40:CY40,'Population Pyramid'!$L$1)","v":2739}]
["male",25,731,687,748,679,715,685,631,595,532,539,507,476,508,565,582,582,581,648,647,709,714,702,673,698,727,696,664,670,584,569,613,631,null,25,16668,16380,16179,15833,15548,15408,15419,15652,15688,15919,15898,15992,16160,16420,16596,16812,16901,16992,17236,17364,17554,17464,17717,17753,17656,17394,17330,17344,17260,17348,17468,17742,null,"Females","25-29",null,{"$f":"SUM(C134:C138)","v":3730},3570,3646,3583,3531,3486,3398,3215,3156,3004,2819,2738,2800,2882,2936,3086,3195,3260,3308,3381,3466,3558,3610,3744,3778,3753,3671,3668,3484,3376,3263,3233,null,{"$f":"INDEX(CC41:CY41,'Population Pyramid'!$L$1)","v":3484}]
["male",26,806,719,695,729,656,707,671,598,588,538,540,523,488,542,573,598,592,598,658,663,711,714,748,653,697,717,674,677,659,583,568,626,null,26,17474,17099,16874,16562,16204,16115,16090,16250,16276,16457,16438,16515,16648,16962,17169,17410,17493,17590,17894,18027,18265,18178,18465,18406,18353,18111,18004,18021,17919,17931,18036,18368,null,"Females","30-34",null,{"$f":"SUM(C139:C143)","v":3427},3550,3681,3732,3710,3688,3591,3618,3594,3605,3481,3404,3291,3283,3139,3071,3038,3092,3146,3188,3363,3485,3606,3660,3690,3810,3873,3907,3947,3964,3921,3948,null,{"$f":"INDEX(CC42:CY42,'Population Pyramid'!$L$1)","v":3947}]
["male",27,742,811,738,694,725,661,720,644,589,600,547,554,532,541,566,602,629,598,609,661,662,732,716,748,658,698,698,668,660,658,606,610,null,27,18216,17910,17612,17256,16929,16776,16810,16894,16865,17057,16985,17069,17180,17503,17735,18012,18122,18188,18503,18688,18927,18910,19181,19154,19011,18809,18702,18689,18579,18589,18642,18978,null,"Females","35-39",null,{"$f":"SUM(C144:C148)","v":3021},3082,3124,3155,3260,3447,3606,3710,3806,3817,3806,3698,3754,3781,3779,3705,3635,3476,3419,3306,3209,3232,3347,3418,3530,3607,3748,3853,3917,4000,4143,4126,null,{"$f":"INDEX(CC43:CY43,'Population Pyramid'!$L$1)","v":3917}]
["male",28,713,742,818,742,690,726,660,678,623,582,611,582,564,542,549,581,627,631,621,630,674,691,755,737,735,651,684,684,665,644,642,602,null,28,18929,18652,18430,17998,17619,17502,17470,17572,17488,17639,17596,17651,17744,18045,18284,18593,18749,18819,19124,19318,19601,19601,19936,19891,19746,19460,19386,19373,19244,19233,19284,19580,null,"Females","40-44",null,{"$f":"SUM(C149:C153)","v":3272},3107,3066,3045,2976,2931,3002,3113,3206,3334,3483,3647,3702,3785,3828,3891,3786,3866,3878,3858,3779,3721,3638,3631,3521,3350,3342,3398,3475,3570,3721,3941,null,{"$f":"INDEX(CC44:CY44,'Population Pyramid'!$L$1)","v":3475}]
["male",29,765,735,775,844,765,717,753,661,677,630,582,601,604,561,557,553,612,638,649,628,638,677,692,761,746,698,671,718,690,679,627,671,null,29,19694,19387,19205,18842,18384,18219,18223,18233,18165,18269,18178,18252,18348,18606,18841,19146,19361,19457,19773,19946,20239,20278,20628,20652,20492,20158,20057,20091,19934,19912,19911,20251,null,"Females","45-49",null,{"$f":"SUM(C154:C158)","v":3366},3494,3535,3513,3435,3179,3022,2989,2973,2939,2952,3003,3051,3127,3253,3446,3631,3715,3754,3783,3855,3779,3871,3879,3893,3870,3792,3712,3592,3434,3290,3306,null,{"$f":"INDEX(CC45:CY45,'Population Pyramid'!$L$1)","v":3592}]
["male",30,676,723,727,735,794,724,680,721,662,658,636,577,605,608,560,566,577,626,631,662,629,656,698,697,755,753,707,669,729,681,690,612,null,30,20370,20110,19932,19577,19178,18943,18903,18954,18827,18927,18814,18829,18953,19214,19401,19712,19938,20083,20404,20608,20868,20934,21326,21349,21247,20911,20764,20760,20663,20593,20601,20863,null,"Females","50-54",null,{"$f":"SUM(C159:C163)","v":2653},2715,2748,2860,3043,3355,3480,3517,3492,3383,3096,2962,2883,2884,2891,2898,2944,3004,3079,3223,3388,3566,3631,3727,3748,3772,3713,3784,3819,3777,3727,3678,null,{"$f":"INDEX(CC46:CY46,'Population Pyramid'!$L$1)","v":3819}]
["male",31,696,644,715,710,707,769,705,710,723,668,651,643,589,595,599,567,597,586,633,633,669,629,687,707,714,754,751,714,660,722,692,703,null,31,21066,20754,20647,20287,19885,19712,19608,19664,19550,19595,19465,19472,19542,19809,20000,20279,20535,20669,21037,21241,21537,21563,22013,22056,21961,21665,21515,21474,21323,21315,21293,21566,null,"Females","55-59",null,{"$f":"SUM(C164:C168)","v":2601},2613,2616,2605,2603,2601,2686,2718,2858,3040,3279,3344,3387,3303,3195,2920,2797,2793,2796,2811,2845,2914,2964,3011,3145,3278,3416,3465,3512,3543,3561,3464,null,{"$f":"INDEX(CC47:CY47,'Population Pyramid'!$L$1)","v":3512}]
["male",32,687,706,656,730,727,727,787,742,721,724,668,647,655,591,595,590,574,618,579,629,632,677,631,706,711,710,734,744,715,688,718,687,null,32,21753,21460,21303,21017,20612,20439,20395,20406,20271,20319,20133,20119,20197,20400,20595,20869,21109,21287,21616,21870,22169,22240,22644,22762,22672,22375,22249,22218,22038,22003,22011,22253,null,"Females","60-64",null,{"$f":"SUM(C169:C173)","v":2428},2428,2440,2412,2423,2468,2491,2482,2483,2463,2424,2478,2503,2623,2767,2995,3041,3092,3073,2996,2745,2678,2677,2702,2687,2691,2744,2803,2827,2885,3043,3127,null,{"$f":"INDEX(CC48:CY48,'Population Pyramid'!$L$1)","v":2827}]
["male",33,675,675,692,641,717,724,716,783,760,725,718,658,658,661,607,606,621,584,659,600,639,626,688,645,697,745,699,734,729,736,677,717,null,33,{"$f":"AK48+C49","v":22428},{"$f":"AL48+D49","v":22135},{"$f":"AM48+E49","v":21995},{"$f":"AN48+F49","v":21658},{"$f":"AO48+G49","v":21329},{"$f":"AP48+H49","v":21163},{"$f":"AQ48+I49","v":21111},{"$f":"AR48+J49","v":21189},{"$f":"AS48+K49","v":21031},{"$f":"AT48+L49","v":21044},{"$f":"AU48+M49","v":20851},{"$f":"AV48+N49","v":20777},{"$f":"AW48+O49","v":20855},{"$f":"AX48+P49","v":21061},{"$f":"AY48+Q49","v":21202},{"$f":"AZ48+R49","v":21475},{"$f":"BA48+S49","v":21730},{"$f":"BB48+T49","v":21871},{"$f":"BC48+U49","v":22275},{"$f":"BD48+V49","v":22470},{"$f":"BE48+W49","v":22808},{"$f":"BF48+X49","v":22866},{"$f":"BG48+Y49","v":23332},{"$f":"BH48+Z49","v":23407},{"$f":"BI48+AA49","v":23369},{"$f":"BJ48+AB49","v":23120},{"$f":"BK48+AC49","v":22948},{"$f":"BL48+AD49","v":22952},{"$f":"BM48+AE49","v":22767},{"$f":"BN48+AF49","v":22739},{"$f":"BO48+AG49","v":22688},22970,null,"Females","65-69",null,{"$f":"SUM(C174:C178)","v":2261},2226,2215,2246,2227,2237,2253,2234,2204,2223,2270,2289,2296,2272,2234,2222,2280,2276,2317,2447,2730,2796,2847,2860,2820,2595,2510,2478,2498,2535,2517,2590,null,{"$f":"INDEX(CC49:CY49,'Population Pyramid'!$L$1)","v":2498}]
["male",34,658,682,684,699,644,731,743,732,801,751,706,742,661,680,663,621,640,639,579,651,603,662,650,699,656,704,747,705,739,732,717,676,null,34,23086,22817,22679,22357,21973,21894,21854,21921,21832,21795,21557,21519,21516,21741,21865,22096,22370,22510,22854,23121,23411,23528,23982,24106,24025,23824,23695,23657,23506,23471,23405,23646,null,"Females","70-74",null,{"$f":"SUM(C179:C183)","v":2051},2163,2216,2126,2057,2015,2004,1979,1997,2005,1996,2005,2010,1996,2017,2060,2075,2095,2085,2030,2038,2081,2086,2139,2240,2498,2582,2640,2630,2552,2334,2256,null,{"$f":"INDEX(CC50:CY50,'Population Pyramid'!$L$1)","v":2630}]
["male",35,622,672,700,701,713,661,754,785,749,809,747,693,762,676,685,669,627,635,645,585,656,602,668,705,715,665,707,736,710,740,749,736,null,35,23708,23489,23379,23058,22686,22555,22608,22706,22581,22604,22304,22212,22278,22417,22550,22765,22997,23145,23499,23706,24067,24130,24650,24811,24740,24489,24402,24393,24216,24211,24154,24382,null,"Females","75-79",null,{"$f":"SUM(C184:C188)","v":1550},1492,1512,1584,1668,1743,1840,1848,1770,1721,1702,1717,1692,1720,1717,1716,1764,1790,1790,1839,1859,1877,1863,1868,1839,1844,1852,1847,1891,1975,2219,2288,null,{"$f":"INDEX(CC51:CY51,'Population Pyramid'!$L$1)","v":1891}]
["male",36,640,622,680,702,701,716,666,738,795,758,798,749,707,771,702,706,680,635,631,662,606,634,611,671,692,712,659,726,730,703,745,748,null,36,24348,24111,24059,23760,23387,23271,23274,23444,23376,23362,23102,22961,22985,23188,23252,23471,23677,23780,24130,24368,24673,24764,25261,25482,25432,25201,25061,25119,24946,24914,24899,25130,null,"Females","80-84",null,{"$f":"SUM(C189:C193)","v":1151},1188,1164,1235,1246,1215,1179,1188,1219,1304,1338,1356,1370,1342,1300,1289,1331,1329,1381,1376,1387,1379,1455,1478,1532,1550,1569,1534,1527,1486,1469,1461,null,{"$f":"INDEX(CC52:CY52,'Population Pyramid'!$L$1)","v":1527}]
["male",37,635,630,621,677,693,699,714,666,748,798,752,809,737,720,763,714,717,683,644,625,672,612,630,638,688,684,708,657,701,724,681,734,null,37,24983,24741,24680,24437,24080,23970,23988,24110,24124,24160,23854,23770,23722,23908,24015,24185,24394,24463,24774,24993,25345,25376,25891,26120,26120,25885,25769,25776,25647,25638,25580,25864,null,"Females","85+",null,{"$f":"SUM(C194:C199)","v":889},922,910,952,978,1017,1055,1047,1113,1158,1156,1131,1147,1221,1308,1317,1344,1362,1353,1386,1416,1445,1427,1430,1464,1460,1540,1590,1566,1558,1559,1539,null,{"$f":"INDEX(CC53:CY53,'Population Pyramid'!$L$1)","v":1566}]
["male",38,633,649,644,639,693,713,717,717,679,776,810,757,822,746,736,761,725,735,703,653,625,678,616,638,640,690,693,719,667,690,723,693,null,38,25616,25390,25324,25076,24773,24683,24705,24827,24803,24936,24664,24527,24544,24654,24751,24946,25119,25198,25477,25646,25970,26054,26507,26758,26760,26575,26462,26495,26314,26328,26303,26557]
["male",39,589,612,630,616,615,674,693,690,715,684,766,803,755,830,750,763,749,722,750,724,673,638,688,630,638,640,689,706,722,659,697,708,null,39,26205,26002,25954,25692,25388,25357,25398,25517,25518,25620,25430,25330,25299,25484,25501,25709,25868,25920,26227,26370,26643,26692,27195,27388,27398,27215,27151,27201,27036,26987,27000,27265]
["male",40,572,590,626,633,613,622,684,724,703,725,679,768,789,755,821,760,768,756,735,758,731,690,635,687,628,624,643,717,709,716,672,718,null,40,26777,26592,26580,26325,26001,25979,26082,26241,26221,26345,26109,26098,26088,26239,26322,26469,26636,26676,26962,27128,27374,27382,27830,28075,28026,27839,27794,27918,27745,27703,27672,27983]
["male",41,640,565,583,618,624,607,620,684,726,716,733,678,763,801,753,842,776,781,747,751,755,728,694,662,706,626,618,647,723,707,698,659,null,41,27417,27157,27163,26943,26625,26586,26702,26925,26947,27061,26842,26776,26851,27040,27075,27311,27412,27457,27709,27879,28129,28110,28524,28737,28732,28465,28412,28565,28468,28410,28370,28642]
["male",42,593,641,573,594,628,637,618,618,709,718,725,729,682,759,792,753,841,766,758,747,754,760,743,687,658,688,639,627,654,721,713,703,null,42,28010,27798,27736,27537,27253,27223,27320,27543,27656,27779,27567,27505,27533,27799,27867,28064,28253,28223,28467,28626,28883,28870,29267,29424,29390,29153,29051,29192,29122,29131,29083,29345]
["male",43,674,598,637,575,596,637,645,608,630,719,704,735,738,686,773,790,759,839,756,763,740,759,775,750,696,655,692,645,623,638,701,722,null,43,28684,28396,28373,28112,27849,27860,27965,28151,28286,28498,28271,28240,28271,28485,28640,28854,29012,29062,29223,29389,29623,29629,30042,30174,30086,29808,29743,29837,29745,29769,29784,30067]
["male",44,742,660,598,627,567,591,635,654,612,645,715,702,728,740,693,788,778,754,831,749,776,745,765,784,734,680,667,700,653,624,627,711,null,44,29426,29056,28971,28739,28416,28451,28600,28805,28898,29143,28986,28942,28999,29225,29333,29642,29790,29816,30054,30138,30399,30374,30807,30958,30820,30488,30410,30537,30398,30393,30411,30778]
["male",45,842,750,667,601,619,573,598,643,648,617,635,708,701,732,739,703,787,771,754,813,754,789,758,768,794,720,660,673,691,655,604,617,null,45,30268,29806,29638,29340,29035,29024,29198,29448,29546,29760,29621,29650,29700,29957,30072,30345,30577,30587,30808,30951,31153,31163,31565,31726,31614,31208,31070,31210,31089,31048,31015,31395]
["male",46,624,834,748,658,597,607,571,591,634,650,624,624,693,689,733,718,696,791,765,746,819,740,810,775,773,791,715,669,667,666,640,601,null,46,30892,30640,30386,29998,29632,29631,29769,30039,30180,30410,30245,30274,30393,30646,30805,31063,31273,31378,31573,31697,31972,31903,32375,32501,32387,31999,31785,31879,31756,31714,31655,31996]
["male",47,568,608,819,730,636,580,585,567,576,650,636,622,620,678,677,708,716,702,793,745,749,816,748,809,769,754,791,727,672,667,662,640,null,47,31460,31248,31205,30728,30268,30211,30354,30606,30756,31060,30881,30896,31013,31324,31482,31771,31989,32080,32366,32442,32721,32719,33123,33310,33156,32753,32576,32606,32428,32381,32317,32636]
["male",48,637,570,607,815,728,633,580,596,570,576,634,631,629,615,661,671,705,715,708,793,752,756,837,745,802,765,754,784,714,664,662,656,null,48,32097,31818,31812,31543,30996,30844,30934,31202,31326,31636,31515,31527,31642,31939,32143,32442,32694,32795,33074,33235,33473,33475,33960,34055,33958,33518,33330,33390,33142,33045,32979,33292]
["male",49,599,636,570,608,812,729,632,591,588,573,576,633,626,623,617,641,666,697,715,704,808,755,748,825,734,789,761,755,767,691,649,666,null,49,32696,32454,32382,32151,31808,31573,31566,31793,31914,32209,32091,32160,32268,32562,32760,33083,33360,33492,33789,33939,34281,34230,34708,34880,34692,34307,34091,34145,33909,33736,33628,33958]
["male",50,529,598,632,575,610,811,732,637,594,576,567,579,626,617,618,625,647,661,686,699,706,812,753,752,821,735,779,767,739,755,675,641,null,50,33225,33052,33014,32726,32418,32384,32298,32430,32508,32785,32658,32739,32894,33179,33378,33708,34007,34153,34475,34638,34987,35042,35461,35632,35513,35042,34870,34912,34648,34491,34303,34599]
["male",51,485,515,585,617,571,604,800,730,633,584,574,568,570,599,611,631,621,640,666,676,707,718,819,762,743,811,722,759,752,721,738,664,null,51,33710,33567,33599,33343,32989,32988,33098,33160,33141,33369,33232,33307,33464,33778,33989,34339,34628,34793,35141,35314,35694,35760,36280,36394,36256,35853,35592,35671,35400,35212,35041,35263]
["male",52,522,483,510,579,611,568,603,797,740,629,576,581,560,570,591,601,620,627,633,669,675,700,711,816,749,736,805,724,750,736,727,754,null,52,34232,34050,34109,33922,33600,33556,33701,33957,33881,33998,33808,33888,34024,34348,34580,34940,35248,35420,35774,35983,36369,36460,36991,37210,37005,36589,36397,36395,36150,35948,35768,36017]
["male",53,549,513,479,507,573,604,570,611,796,740,625,567,580,552,572,596,587,626,606,628,678,672,707,710,811,739,730,789,698,740,734,733,null,53,34781,34563,34588,34429,34173,34160,34271,34568,34677,34738,34433,34455,34604,34900,35152,35536,35835,36046,36380,36611,37047,37132,37698,37920,37816,37328,37127,37184,36848,36688,36502,36750]
["male",54,526,542,512,477,504,570,605,576,602,787,721,624,556,587,554,565,589,584,610,593,627,681,670,701,705,796,728,727,778,682,720,727,null,54,35307,35105,35100,34906,34677,34730,34876,35144,35279,35525,35154,35079,35160,35487,35706,36101,36424,36630,36990,37204,37674,37813,38368,38621,38521,38124,37855,37911,37626,37370,37222,37477]
["male",55,550,525,537,514,479,501,570,598,574,587,773,700,610,547,587,534,561,582,576,620,590,620,674,677,697,699,774,733,724,780,667,700,null,55,35857,35630,35637,35420,35156,35231,35446,35742,35853,36112,35927,35779,35770,36034,36293,36635,36985,37212,37566,37824,38264,38433,39042,39298,39218,38823,38629,38644,38350,38150,37889,38177]
["male",56,505,547,520,536,513,478,503,561,587,567,580,757,686,601,534,587,515,562,568,573,606,588,604,666,672,683,684,766,722,704,766,653,null,56,36362,36177,36157,35956,35669,35709,35949,36303,36440,36679,36507,36536,36456,36635,36827,37222,37500,37774,38134,38397,38870,39021,39646,39964,39890,39506,39313,39410,39072,38854,38655,38830]
["male",57,512,497,537,509,522,501,470,487,553,584,566,572,738,682,593,524,577,501,559,560,570,599,581,607,669,650,670,685,758,710,694,752,null,57,36874,36674,36694,36465,36191,36210,36419,36790,36993,37263,37073,37108,37194,37317,37420,37746,38077,38275,38693,38957,39440,39620,40227,40571,40559,40156,39983,40095,39830,39564,39349,39582]
["male",58,495,509,495,527,506,516,490,478,486,536,573,563,572,719,663,579,516,574,497,550,551,564,594,575,593,655,648,655,663,727,690,682,null,58,37369,37183,37189,36992,36697,36726,36909,37268,37479,37799,37646,37671,37766,38036,38083,38325,38593,38849,39190,39507,39991,40184,40821,41146,41152,40811,40631,40750,40493,40291,40039,40264]
["male",59,487,501,508,500,524,506,521,482,474,467,517,568,546,566,715,647,568,501,570,485,535,549,565,590,583,588,655,633,648,645,704,674,null,59,37856,37684,37697,37492,37221,37232,37430,37750,37953,38266,38163,38239,38312,38602,38798,38972,39161,39350,39760,39992,40526,40733,41386,41736,41735,41399,41286,41383,41141,40936,40743,40938]
["male",60,525,481,501,506,498,518,501,507,484,456,459,515,557,533,559,695,628,554,493,565,487,532,547,555,580,571,573,648,627,628,644,697,null,60,38381,38165,38198,37998,37719,37750,37931,38257,38437,38722,38622,38754,38869,39135,39357,39667,39789,39904,40253,40557,41013,41265,41933,42291,42315,41970,41859,42031,41768,41564,41387,41635]
["male",61,499,515,469,495,500,494,504,487,503,477,452,456,508,551,533,548,692,619,542,486,563,477,529,530,550,571,570,572,639,606,618,641,null,61,38880,38680,38667,38493,38219,38244,38435,38744,38940,39199,39074,39210,39377,39686,39890,40215,40481,40523,40795,41043,41576,41742,42462,42821,42865,42541,42429,42603,42407,42170,42005,42276]
["male",62,464,487,509,458,488,495,484,481,482,492,465,439,450,509,540,524,531,679,605,530,478,574,474,530,525,530,568,553,563,613,590,610,null,62,39344,39167,39176,38951,38707,38739,38919,39225,39422,39691,39539,39649,39827,40195,40430,40739,41012,41202,41400,41573,42054,42316,42936,43351,43390,43071,42997,43156,42970,42783,42595,42886]
["male",63,464,459,480,497,445,480,483,464,470,475,481,452,425,442,506,524,509,524,671,586,520,457,558,463,515,508,519,554,530,552,600,581,null,63,39808,39626,39656,39448,39152,39219,39402,39689,39892,40166,40020,40101,40252,40637,40936,41263,41521,41726,42071,42159,42574,42773,43494,43814,43905,43579,43516,43710,43500,43335,43195,43467]
["male",64,459,448,452,469,485,437,474,471,458,467,461,473,442,414,433,496,520,496,525,660,568,527,462,541,450,507,500,515,549,523,539,585,null,64,40267,40074,40108,39917,39637,39656,39876,40160,40350,40633,40481,40574,40694,41051,41369,41759,42041,42222,42596,42819,43142,43300,43956,44355,44355,44086,44016,44225,44049,43858,43734,44052]
["male",65,442,459,441,449,456,476,430,471,468,456,459,444,453,439,405,421,476,511,486,515,659,559,533,458,530,438,505,496,502,539,502,520,null,65,{"$f":"AK80+C81","v":40709},{"$f":"AL80+D81","v":40533},{"$f":"AM80+E81","v":40549},{"$f":"AN80+F81","v":40366},{"$f":"AO80+G81","v":40093},{"$f":"AP80+H81","v":40132},{"$f":"AQ80+I81","v":40306},{"$f":"AR80+J81","v":40631},{"$f":"AS80+K81","v":40818},{"$f":"AT80+L81","v":41089},{"$f":"AU80+M81","v":40940},{"$f":"AV80+N81","v":41018},{"$f":"AW80+O81","v":41147},{"$f":"AX80+P81","v":41490},{"$f":"AY80+Q81","v":41774},{"$f":"AZ80+R81","v":42180},{"$f":"BA80+S81","v":42517},{"$f":"BB80+T81","v":42733},{"$f":"BC80+U81","v":43082},{"$f":"BD80+V81","v":43334},{"$f":"BE80+W81","v":43801},{"$f":"BF80+X81","v":43859},{"$f":"BG80+Y81","v":44489},{"$f":"BH80+Z81","v":44813},{"$f":"BI80+AA81","v":44885},{"$f":"BJ80+AB81","v":44524},{"$f":"BK80+AC81","v":44521},{"$f":"BL80+AD81","v":44721},{"$f":"BM80+AE81","v":44551},{"$f":"BN80+AF81","v":44397},{"$f":"BO80+AG81","v":44236},44572]
["male",66,379,429,432,426,434,443,456,423,455,449,444,444,428,439,433,396,407,473,501,471,507,638,550,525,452,512,427,487,473,477,516,486,null,66,41088,40962,40981,40792,40527,40575,40762,41054,41273,41538,41384,41462,41575,41929,42207,42576,42924,43206,43583,43805,44308,44497,45039,45338,45337,45036,44948,45208,45024,44874,44752,45058]
["male",67,397,373,425,431,417,436,435,452,423,452,432,430,419,415,432,419,386,403,472,487,458,493,622,542,517,448,496,409,478,455,474,507,null,67,41485,41335,41406,41223,40944,41011,41197,41506,41696,41990,41816,41892,41994,42344,42639,42995,43310,43609,44055,44292,44766,44990,45661,45880,45854,45484,45444,45617,45502,45329,45226,45565]
["male",68,348,384,368,414,423,406,430,413,441,406,444,424,416,404,399,415,403,376,396,463,479,449,480,613,533,507,436,486,396,456,442,461,null,68,41833,41719,41774,41637,41367,41417,41627,41919,42137,42396,42260,42316,42410,42748,43038,43410,43713,43985,44451,44755,45245,45439,46141,46493,46387,45991,45880,46103,45898,45785,45668,46026]
["male",69,371,331,363,357,405,411,392,409,405,427,400,435,408,400,390,385,408,404,360,382,455,460,435,471,595,517,494,422,477,388,438,434,null,69,42204,42050,42137,41994,41772,41828,42019,42328,42542,42823,42660,42751,42818,43148,43428,43795,44121,44389,44811,45137,45700,45899,46576,46964,46982,46508,46374,46525,46375,46173,46106,46460]
["male",70,366,361,310,343,347,398,405,382,398,390,413,382,422,401,388,387,378,391,388,350,379,446,458,426,454,575,502,483,410,465,374,422,null,70,42570,42411,42447,42337,42119,42226,42424,42710,42940,43213,43073,43133,43240,43549,43816,44182,44499,44780,45199,45487,46079,46345,47034,47390,47436,47083,46876,47008,46785,46638,46480,46882]
["male",71,389,349,341,299,319,331,381,389,362,389,381,399,364,409,389,374,376,376,379,391,341,371,424,450,406,433,563,495,473,388,449,358,null,71,42959,42760,42788,42636,42438,42557,42805,43099,43302,43602,43454,43532,43604,43958,44205,44556,44875,45156,45578,45878,46420,46716,47458,47840,47842,47516,47439,47503,47258,47026,46929,47240]
["male",72,376,375,334,331,285,306,312,360,370,351,366,366,375,351,393,376,363,365,374,376,384,326,366,414,431,397,421,541,490,460,375,432,null,72,43335,43135,43122,42967,42723,42863,43117,43459,43672,43953,43820,43898,43979,44309,44598,44932,45238,45521,45952,46254,46804,47042,47824,48254,48273,47913,47860,48044,47748,47486,47304,47672]
["male",73,244,358,351,315,315,267,297,300,346,360,334,346,352,363,337,377,367,348,359,353,365,381,330,363,399,422,385,407,514,472,446,358,null,73,43579,43493,43473,43282,43038,43130,43414,43759,44018,44313,44154,44244,44331,44672,44935,45309,45605,45869,46311,46607,47169,47423,48154,48617,48672,48335,48245,48451,48262,47958,47750,48030]
["male",74,176,231,336,330,294,303,253,273,286,335,343,323,325,344,353,319,366,357,337,343,337,348,368,323,349,380,409,375,396,495,456,422,null,74,43755,43724,43809,43612,43332,43433,43667,44032,44304,44648,44497,44567,44656,45016,45288,45628,45971,46226,46648,46950,47506,47771,48522,48940,49021,48715,48654,48826,48658,48453,48206,48452]
["male",75,203,163,217,318,313,283,289,245,264,276,327,327,304,313,336,336,311,356,342,326,333,329,337,356,310,340,366,389,365,374,476,439,null,75,43958,43887,44026,43930,43645,43716,43956,44277,44568,44924,44824,44894,44960,45329,45624,45964,46282,46582,46990,47276,47839,48100,48859,49296,49331,49055,49020,49215,49023,48827,48682,48891]
["male",76,265,194,163,205,293,286,261,265,237,244,260,307,304,287,303,322,323,298,340,333,320,315,319,312,345,291,326,354,377,345,350,461,null,76,44223,44081,44189,44135,43938,44002,44217,44542,44805,45168,45084,45201,45264,45616,45927,46286,46605,46880,47330,47609,48159,48415,49178,49608,49676,49346,49346,49569,49400,49172,49032,49352]
["male",77,205,245,178,140,176,265,264,246,252,226,229,246,295,287,281,280,313,315,284,317,317,311,301,293,298,329,274,323,338,365,327,334,null,77,44428,44326,44367,44275,44114,44267,44481,44788,45057,45394,45313,45447,45559,45903,46208,46566,46918,47195,47614,47926,48476,48726,49479,49901,49974,49675,49620,49892,49738,49537,49359,49686]
["male",78,186,189,230,161,134,167,254,245,228,238,209,217,226,281,269,260,255,304,303,274,304,293,299,286,281,286,317,268,307,323,344,321,null,78,44614,44515,44597,44436,44248,44434,44735,45033,45285,45632,45522,45664,45785,46184,46477,46826,47173,47499,47917,48200,48780,49019,49778,50187,50255,49961,49937,50160,50045,49860,49703,50007]
["male",79,174,164,167,215,146,124,159,234,227,204,213,184,207,207,256,259,239,242,287,282,264,287,281,288,274,273,270,305,251,290,301,326,null,79,44788,44679,44764,44651,44394,44558,44894,45267,45512,45836,45735,45848,45992,46391,46733,47085,47412,47741,48204,48482,49044,49306,50059,50475,50529,50234,50207,50465,50296,50150,50004,50333]
["male",80,140,152,151,144,204,134,118,138,205,207,187,193,171,201,188,241,240,224,221,269,271,255,270,271,274,252,257,254,286,235,279,282,null,80,44928,44831,44915,44795,44598,44692,45012,45405,45717,46043,45922,46041,46163,46592,46921,47326,47652,47965,48425,48751,49315,49561,50329,50746,50803,50486,50464,50719,50582,50385,50283,50615]
["male",81,136,124,141,143,133,176,124,108,124,182,198,172,178,152,189,171,227,220,202,203,252,264,247,254,255,250,232,236,247,268,222,265,null,81,45064,44955,45056,44938,44731,44868,45136,45513,45841,46225,46120,46213,46341,46744,47110,47497,47879,48185,48627,48954,49567,49825,50576,51000,51058,50736,50696,50955,50829,50653,50505,50880]
["male",82,115,125,111,124,128,118,162,109,97,114,173,182,164,160,136,175,153,210,202,191,188,234,246,225,236,243,236,218,224,222,235,213,null,82,45179,45080,45167,45062,44859,44986,45298,45622,45938,46339,46293,46395,46505,46904,47246,47672,48032,48395,48829,49145,49755,50059,50822,51225,51294,50979,50932,51173,51053,50875,50740,51093]
["male",83,101,89,107,100,112,101,96,144,96,87,99,156,163,145,143,123,160,141,193,185,179,172,216,232,210,225,223,219,197,213,211,213,null,83,45280,45169,45274,45162,44971,45087,45394,45766,46034,46426,46392,46551,46668,47049,47389,47795,48192,48536,49022,49330,49934,50231,51038,51457,51504,51204,51155,51392,51250,51088,50951,51306]
["male",84,79,96,79,94,86,100,91,90,125,87,83,85,139,140,136,124,110,147,130,178,169,168,164,197,216,194,204,197,192,170,193,194,null,84,45359,45265,45353,45256,45057,45187,45485,45856,46159,46513,46475,46636,46807,47189,47525,47919,48302,48683,49152,49508,50103,50399,51202,51654,51720,51398,51359,51589,51442,51258,51144,51500]
["male",85,283,308,326,341,356,361,376,366,386,93,71,74,76,129,124,125,109,94,130,114,166,150,159,147,165,203,175,187,171,169,145,174,null,85,45642,45573,45679,45597,45413,45548,45861,46222,46545,46606,46546,46710,46883,47318,47649,48044,48411,48777,49282,49622,50269,50549,51361,51801,51885,51601,51534,51776,51613,51427,51289,51674]
["male",86,null,null,null,null,null,null,null,null,null,70,78,61,69,60,111,114,110,91,82,122,112,149,137,139,132,156,178,153,170,151,150,124,null,86,45642,45573,45679,45597,45413,45548,45861,46222,46545,46676,46624,46771,46952,47378,47760,48158,48521,48868,49364,49744,50381,50698,51498,51940,52017,51757,51712,51929,51783,51578,51439,51798]
["male",87,null,null,null,null,null,null,null,null,null,54,64,59,48,63,51,91,99,99,83,79,107,93,129,118,129,115,134,157,131,141,128,119,null,87,45642,45573,45679,45597,45413,45548,45861,46222,46545,46730,46688,46830,47000,47441,47811,48249,48620,48967,49447,49823,50488,50791,51627,52058,52146,51872,51846,52086,51914,51719,51567,51917]
["male",88,null,null,null,null,null,null,null,null,null,44,48,49,50,47,60,42,78,86,93,76,63,87,85,117,105,109,95,109,128,107,122,110,null,88,45642,45573,45679,45597,45413,45548,45861,46222,46545,46774,46736,46879,47050,47488,47871,48291,48698,49053,49540,49899,50551,50878,51712,52175,52251,51981,51941,52195,52042,51826,51689,52027]
["male",89,null,null,null,null,null,null,null,null,null,40,38,41,43,37,44,54,38,66,73,86,66,51,73,70,103,84,93,82,92,107,90,107,null,89,45642,45573,45679,45597,45413,45548,45861,46222,46545,46814,46774,46920,47093,47525,47915,48345,48736,49119,49613,49985,50617,50929,51785,52245,52354,52065,52034,52277,52134,51933,51779,52134]
["male","90+",null,null,null,null,null,null,null,null,null,114,128,115,116,117,119,133,146,137,164,195,240,235,227,236,252,277,267,291,281,294,313,326,null,"90+",45642,45573,45679,45597,45413,45548,45861,46222,46545,46928,46902,47035,47209,47642,48034,48478,48882,49256,49777,50180,50857,51164,52012,52481,52606,52342,52301,52568,52415,52227,52092,52460]
[null,"All Males",{"$f":"SUM(C16:C106)","v":45642},{"$f":"SUM(D16:D106)","v":45573},45679,45597,45413,45548,45861,46222,46545,46928,46902,47035,47209,47642,48034,48478,48882,49256,49777,50180,50857,51164,52012,52481,52606,52342,52301,{"$f":"SUM(AD16:AD106)","v":52568},{"$f":"SUM(AE16:AE106)","v":52415},{"$f":"SUM(AF16:AF106)","v":52227},{"$f":"SUM(AG16:AG106)","v":52092},{"$f":"SUM(AH16:AH106)","v":52460},null,"Females"]
["Sex","Age"]
["female",0,643,620,644,635,580,600,573,599,550,507,505,474,500,569,611,622,617,629,684,618,687,688,728,723,685,685,641,654,625,626,631,614,null,0,{"$f":"C109","v":643},620,644,635,580,600,573,599,550,507,505,474,500,569,611,622,617,629,684,618,687,688,728,723,685,685,641,654,625,626,631,614]
["female",1,670,651,641,663,640,597,614,577,600,571,511,506,491,506,583,632,632,631,650,686,637,708,713,746,724,686,686,656,614,643,644,667,null,1,{"$f":"AK109+C110","v":1313},{"$f":"AL109+D110","v":1271},{"$f":"AM109+E110","v":1285},{"$f":"AN109+F110","v":1298},{"$f":"AO109+G110","v":1220},{"$f":"AP109+H110","v":1197},{"$f":"AQ109+I110","v":1187},{"$f":"AR109+J110","v":1176},{"$f":"AS109+K110","v":1150},{"$f":"AT109+L110","v":1078},{"$f":"AU109+M110","v":1016},{"$f":"AV109+N110","v":980},{"$f":"AW109+O110","v":991},{"$f":"AX109+P110","v":1075},{"$f":"AY109+Q110","v":1194},{"$f":"AZ109+R110","v":1254},{"$f":"BA109+S110","v":1249},{"$f":"BB109+T110","v":1260},{"$f":"BC109+U110","v":1334},{"$f":"BD109+V110","v":1304},{"$f":"BE109+W110","v":1324},{"$f":"BF109+X110","v":1396},{"$f":"BG109+Y110","v":1441},{"$f":"BH109+Z110","v":1469},{"$f":"BI109+AA110","v":1409},{"$f":"BJ109+AB110","v":1371},{"$f":"BK109+AC110","v":1327},{"$f":"BL109+AD110","v":1310},{"$f":"BM109+AE110","v":1239},{"$f":"BN109+AF110","v":1269},{"$f":"BO109+AG110","v":1275},1281]
["female",2,663,668,650,635,660,636,597,613,589,612,571,524,519,492,520,606,646,638,633,664,712,622,739,699,761,712,673,699,653,600,692,688,null,2,1976,1939,1935,1933,1880,1833,1784,1789,1739,1690,1587,1504,1510,1567,1714,1860,1895,1898,1967,1968,2036,2018,2180,2168,2170,2083,2000,2009,1892,1869,1967,1969]
["female",3,615,656,667,641,625,660,632,610,601,587,600,584,534,546,488,537,619,660,650,641,675,725,632,751,692,763,702,661,716,642,621,733,null,3,2591,2595,2602,2574,2505,2493,2416,2399,2340,2277,2187,2088,2044,2113,2202,2397,2514,2558,2617,2609,2711,2743,2812,2919,2862,2846,2702,2670,2608,2511,2588,2702]
["female",4,643,613,658,669,639,622,666,646,603,599,588,607,591,532,551,498,539,621,677,653,649,684,742,647,746,671,746,690,660,712,659,661,null,4,3234,3208,3260,3243,3144,3115,3082,3045,2943,2876,2775,2695,2635,2645,2753,2895,3053,3179,3294,3262,3360,3427,3554,3566,3608,3517,3448,3360,3268,3223,3247,3363]
["female",5,620,641,617,657,670,639,624,666,645,596,608,596,609,575,540,553,515,546,627,674,659,655,702,753,633,721,672,749,699,667,735,674,null,5,3854,3849,3877,3900,3814,3754,3706,3711,3588,3472,3383,3291,3244,3220,3293,3448,3568,3725,3921,3936,4019,4082,4256,4319,4241,4238,4120,4109,3967,3890,3982,4037]
["female",6,609,611,634,609,648,666,633,631,678,648,580,616,590,591,585,545,565,529,545,636,663,657,669,699,759,635,726,661,771,695,676,746,null,6,4463,4460,4511,4509,4462,4420,4339,4342,4266,4120,3963,3907,3834,3811,3878,3993,4133,4254,4466,4572,4682,4739,4925,5018,5000,4873,4846,4770,4738,4585,4658,4783]
["female",7,569,614,612,629,607,651,670,653,625,666,646,574,620,586,594,579,552,566,531,546,635,657,657,682,710,740,638,727,678,748,695,706,null,7,5032,5074,5123,5138,5069,5071,5009,4995,4891,4786,4609,4481,4454,4397,4472,4572,4685,4820,4997,5118,5317,5396,5582,5700,5710,5613,5484,5497,5416,5333,5353,5489]
["female",8,581,571,618,607,624,605,650,679,652,630,668,649,567,630,598,598,597,561,574,544,542,636,679,668,680,711,729,656,731,671,745,718,null,8,5613,5645,5741,5745,5693,5676,5659,5674,5543,5416,5277,5130,5021,5027,5070,5170,5282,5381,5571,5662,5859,6032,6261,6368,6390,6324,6213,6153,6147,6004,6098,6207]
["female",9,583,587,577,624,606,623,607,657,682,664,631,688,654,570,644,612,605,606,562,587,543,550,645,688,670,671,710,743,673,725,672,752,null,9,6196,6232,6318,6369,6299,6299,6266,6331,6225,6080,5908,5818,5675,5597,5714,5782,5887,5987,6133,6249,6402,6582,6906,7056,7060,6995,6923,6896,6820,6729,6770,6959]
["female",10,598,584,595,583,632,610,624,614,664,681,660,632,687,666,583,646,623,604,615,579,598,556,552,657,687,660,687,727,751,674,740,686,null,10,6794,6816,6913,6952,6931,6909,6890,6945,6889,6761,6568,6450,6362,6263,6297,6428,6510,6591,6748,6828,7000,7138,7458,7713,7747,7655,7610,7623,7571,7403,7510,7645]
["female",11,596,594,584,603,586,637,609,641,621,660,663,664,629,690,666,585,662,633,606,618,571,596,559,587,666,686,674,697,737,741,707,775,null,11,7390,7410,7497,7555,7517,7546,7499,7586,7510,7421,7231,7114,6991,6953,6963,7013,7172,7224,7354,7446,7571,7734,8017,8300,8413,8341,8284,8320,8308,8144,8217,8420]
["female",12,600,592,592,574,603,586,652,636,654,633,661,663,662,638,700,690,583,668,638,608,618,581,600,555,589,668,680,684,707,725,770,745,null,12,7990,8002,8089,8129,8120,8132,8151,8222,8164,8054,7892,7777,7653,7591,7663,7703,7755,7892,7992,8054,8189,8315,8617,8855,9002,9009,8964,9004,9015,8869,8987,9165]
["female",13,579,609,600,603,584,609,600,659,627,656,651,682,657,677,642,707,697,600,683,639,612,615,593,610,558,589,675,687,691,695,742,791,null,13,8569,8611,8689,8732,8704,8741,8751,8881,8791,8710,8543,8459,8310,8268,8305,8410,8452,8492,8675,8693,8801,8930,9210,9465,9560,9598,9639,9691,9706,9564,9729,9956]
["female",14,571,585,605,604,595,584,618,610,663,632,657,655,692,656,684,653,713,705,600,686,642,625,613,582,628,565,591,685,686,701,684,749,null,14,9140,9196,9294,9336,9299,9325,9369,9491,9454,9342,9200,9114,9002,8924,8989,9063,9165,9197,9275,9379,9443,9555,9823,10047,10188,10163,10230,10376,10392,10265,10413,10705]
["female",15,530,564,566,600,589,588,582,629,635,666,634,671,676,717,647,698,656,718,712,618,684,652,625,623,573,634,563,597,675,688,720,685,null,15,9670,9760,9860,9936,9888,9913,9951,10120,10089,10008,9834,9785,9678,9641,9636,9761,9821,9915,9987,9997,10127,10207,10448,10670,10761,10797,10793,10973,11067,10953,11133,11390]
["female",16,627,533,558,569,593,591,586,594,653,638,660,645,687,702,719,657,712,663,730,733,624,689,652,620,628,571,643,568,601,675,676,728,null,16,10297,10293,10418,10505,10481,10504,10537,10714,10742,10646,10494,10430,10365,10343,10355,10418,10533,10578,10717,10730,10751,10896,11100,11290,11389,11368,11436,11541,11668,11628,11809,12118]
["female",17,673,620,522,566,565,590,594,595,591,651,638,653,671,710,699,721,673,733,676,741,747,619,691,666,643,642,580,647,577,607,669,686,null,17,10970,10913,10940,11071,11046,11094,11131,11309,11333,11297,11132,11083,11036,11053,11054,11139,11206,11311,11393,11471,11498,11515,11791,11956,12032,12010,12016,12188,12245,12235,12478,12804]
["female",18,592,664,606,495,525,549,591,583,570,592,610,607,651,691,687,709,725,673,722,669,724,726,605,659,645,620,617,570,622,550,551,635,null,18,11562,11577,11546,11566,11571,11643,11722,11892,11903,11889,11742,11690,11687,11744,11741,11848,11931,11984,12115,12140,12222,12241,12396,12615,12677,12630,12633,12758,12867,12785,13029,13439]
["female",19,555,520,578,492,385,401,476,516,512,485,480,516,493,558,591,587,624,615,557,610,547,635,610,476,525,512,494,442,440,475,362,418,null,19,12117,12097,12124,12058,11956,12044,12198,12408,12415,12374,12222,12206,12180,12302,12332,12435,12555,12599,12672,12750,12769,12876,13006,13091,13202,13142,13127,13200,13307,13260,13391,13857]
["female",20,614,482,407,442,361,275,332,436,477,475,478,446,493,480,526,589,590,614,578,535,599,554,607,553,457,494,503,486,450,444,394,319,null,20,12731,12579,12531,12500,12317,12319,12530,12844,12892,12849,12700,12652,12673,12782,12858,13024,13145,13213,13250,13285,13368,13430,13613,13644,13659,13636,13630,13686,13757,13704,13785,14176]
["female",21,640,612,442,404,445,391,307,409,450,498,493,511,472,525,507,563,624,630,624,609,590,649,589,642,555,475,545,520,498,486,452,412,null,21,13371,13191,12973,12904,12762,12710,12837,13253,13342,13347,13193,13163,13145,13307,13365,13587,13769,13843,13874,13894,13958,14079,14202,14286,14214,14111,14175,14206,14255,14190,14237,14588]
["female",22,647,649,611,491,444,515,452,397,459,500,515,525,558,534,584,560,633,647,675,662,682,660,722,623,693,642,553,608,563,561,541,502,null,22,14018,13840,13584,13395,13206,13225,13289,13650,13801,13847,13708,13688,13703,13841,13949,14147,14402,14490,14549,14556,14640,14739,14924,14909,14907,14753,14728,14814,14818,14751,14778,15090]
["female",23,750,664,704,673,562,533,591,487,427,526,508,533,561,596,592,636,591,659,694,698,718,718,720,747,668,704,665,601,650,603,610,605,null,23,14768,14504,14288,14068,13768,13758,13880,14137,14228,14373,14216,14221,14264,14437,14541,14783,14993,15149,15243,15254,15358,15457,15644,15656,15575,15457,15393,15415,15468,15354,15388,15695]
["female",24,703,739,720,717,687,604,568,558,516,494,528,541,548,586,635,619,658,633,677,708,709,705,756,720,755,666,680,686,578,647,623,625,null,24,15471,15243,15008,14785,14455,14362,14448,14695,14744,14867,14744,14762,14812,15023,15176,15402,15651,15782,15920,15962,16067,16162,16400,16376,16330,16123,16073,16101,16046,16001,16011,16320]
["female",25,741,695,775,714,709,696,623,539,582,554,506,526,565,577,589,651,631,685,663,702,733,715,702,772,729,755,653,708,653,594,664,605,null,25,16212,15938,15783,15499,15164,15058,15071,15234,15326,15421,15250,15288,15377,15600,15765,16053,16282,16467,16583,16664,16800,16877,17102,17148,17059,16878,16726,16809,16699,16595,16675,16925]
["female",26,710,719,700,735,683,691,686,619,550,586,547,512,528,607,589,590,669,642,676,673,704,736,723,715,797,742,748,679,679,659,587,675,null,26,16922,16657,16483,16234,15847,15749,15757,15853,15876,16007,15797,15800,15905,16207,16354,16643,16951,17109,17259,17337,17504,17613,17825,17863,17856,17620,17474,17488,17378,17254,17262,17600]
["female",27,728,700,723,692,710,676,690,676,631,541,583,553,533,548,619,614,614,672,660,663,669,711,751,736,711,784,735,758,673,683,638,589,null,27,17650,17357,17206,16926,16557,16425,16447,16529,16507,16548,16380,16353,16438,16755,16973,17257,17565,17781,17919,18000,18173,18324,18576,18599,18567,18404,18209,18246,18051,17937,17900,18189]
["female",28,746,733,721,738,709,721,697,710,676,645,543,590,577,561,572,644,628,615,668,659,688,698,717,782,723,730,788,716,744,696,671,646,null,28,18396,18090,17927,17664,17266,17146,17144,17239,17183,17193,16923,16943,17015,17316,17545,17901,18193,18396,18587,18659,18861,19022,19293,19381,19290,19134,18997,18962,18795,18633,18571,18835]
["female",29,805,723,727,704,720,702,702,671,717,678,640,557,597,589,567,587,653,646,641,684,672,698,717,739,818,742,747,807,735,744,703,718,null,29,19201,18813,18654,18368,17986,17848,17846,17910,17900,17871,17563,17500,17612,17905,18112,18488,18846,19042,19228,19343,19533,19720,20010,20120,20108,19876,19744,19769,19530,19377,19274,19553]
["female",30,758,812,744,726,704,730,715,704,667,710,671,637,575,614,570,569,595,651,657,651,708,687,717,737,736,810,754,754,809,753,779,744,null,30,19959,19625,19398,19094,18690,18578,18561,18614,18567,18581,18234,18137,18187,18519,18682,19057,19441,19693,19885,19994,20241,20407,20727,20857,20844,20686,20498,20523,20339,20130,20053,20297]
["female",31,713,754,820,736,716,701,730,697,699,681,699,670,650,580,611,588,582,593,666,664,659,727,739,736,743,747,817,773,765,830,751,812,null,31,20672,20379,20218,19830,19406,19279,19291,19311,19266,19262,18933,18807,18837,19099,19293,19645,20023,20286,20551,20658,20900,21134,21466,21593,21587,21433,21315,21296,21104,20960,20804,21109]
["female",32,661,715,759,822,735,720,707,761,710,716,664,705,670,666,594,630,597,582,612,663,669,679,729,738,741,743,777,811,778,785,841,761,null,32,21333,21094,20977,20652,20141,19999,19998,20072,19976,19978,19597,19512,19507,19765,19887,20275,20620,20868,21163,21321,21569,21813,22195,22331,22328,22176,22092,22107,21882,21745,21645,21870]
["female",33,615,650,707,748,811,726,711,732,769,716,717,673,706,691,676,613,651,618,591,624,692,684,698,731,740,754,762,784,799,771,776,824,null,33,{"$f":"AK141+C142","v":21948},{"$f":"AL141+D142","v":21744},{"$f":"AM141+E142","v":21684},{"$f":"AN141+F142","v":21400},{"$f":"AO141+G142","v":20952},{"$f":"AP141+H142","v":20725},{"$f":"AQ141+I142","v":20709},{"$f":"AR141+J142","v":20804},{"$f":"AS141+K142","v":20745},{"$f":"AT141+L142","v":20694},{"$f":"AU141+M142","v":20314},{"$f":"AV141+N142","v":20185},{"$f":"AW141+O142","v":20213},{"$f":"AX141+P142","v":20456},{"$f":"AY141+Q142","v":20563},{"$f":"AZ141+R142","v":20888},{"$f":"BA141+S142","v":21271},{"$f":"BB141+T142","v":21486},{"$f":"BC141+U142","v":21754},{"$f":"BD141+V142","v":21945},{"$f":"BE141+W142","v":22261},{"$f":"BF141+X142","v":22497},{"$f":"BG141+Y142","v":22893},{"$f":"BH141+Z142","v":23062},{"$f":"BI141+AA142","v":23068},{"$f":"BJ141+AB142","v":22930},{"$f":"BK141+AC142","v":22854},{"$f":"BL141+AD142","v":22891},{"$f":"BM141+AE142","v":22681},{"$f":"BN141+AF142","v":22516},{"$f":"BO141+AG142","v":22421},22694]
["female",34,680,619,651,700,744,811,728,724,749,782,730,719,690,732,688,671,613,648,620,586,635,708,723,718,730,756,763,785,796,825,774,807,null,34,22628,22363,22335,22100,21696,21536,21437,21528,21494,21476,21044,20904,20903,21188,21251,21559,21884,22134,22374,22531,22896,23205,23616,23780,23798,23686,23617,23676,23477,23341,23195,23501]
["female",35,583,687,636,660,708,759,825,723,734,740,777,723,738,691,733,703,670,632,654,633,586,655,716,747,739,729,786,782,793,803,861,787,null,35,23211,23050,22971,22760,22404,22295,22262,22251,22228,22216,21821,21627,21641,21879,21984,22262,22554,22766,23028,23164,23482,23860,24332,24527,24537,24415,24403,24458,24270,24144,24056,24288]
["female",36,613,579,683,636,655,705,759,825,739,726,747,780,742,762,703,757,702,662,633,655,645,589,671,736,729,723,735,811,803,822,836,871,null,36,23824,23629,23654,23396,23059,23000,23021,23076,22967,22942,22568,22407,22383,22641,22687,23019,23256,23428,23661,23819,24127,24449,25003,25263,25266,25138,25138,25269,25073,24966,24892,25159]
["female",37,634,610,587,686,646,663,716,775,826,735,731,750,788,749,770,707,754,706,663,635,663,640,616,670,761,720,744,757,798,811,823,817,null,37,24458,24239,24241,24082,23705,23663,23737,23851,23793,23677,23299,23157,23171,23390,23457,23726,24010,24134,24324,24454,24790,25089,25619,25933,26027,25858,25882,26026,25871,25777,25715,25976]
["female",38,592,620,602,580,677,647,659,719,782,832,721,725,764,805,754,784,712,753,705,659,641,689,655,619,685,752,732,753,755,810,802,828,null,38,25050,24859,24843,24662,24382,24310,24396,24570,24575,24509,24020,23882,23935,24195,24211,24510,24722,24887,25029,25113,25431,25778,26274,26552,26712,26610,26614,26779,26626,26587,26517,26804]
["female",39,599,586,616,593,574,673,647,668,725,784,830,720,722,774,819,754,797,723,764,724,674,659,689,646,616,683,751,750,768,754,821,823,null,39,25649,25445,25459,25255,24956,24983,25043,25238,25300,25293,24850,24602,24657,24969,25030,25264,25519,25610,25793,25837,26105,26437,26963,27198,27328,27293,27365,27529,27394,27341,27338,27627]
["female",40,631,606,595,611,593,583,680,671,671,729,781,828,713,725,772,822,751,806,732,755,724,680,683,702,654,611,667,757,760,775,784,855,null,40,26280,26051,26054,25866,25549,25566,25723,25909,25971,26022,25631,25430,25370,25694,25802,26086,26270,26416,26525,26592,26829,27117,27646,27900,27982,27904,28032,28286,28154,28116,28122,28482]
["female",41,649,625,606,588,599,588,582,668,677,659,733,783,819,721,720,788,810,741,800,733,756,725,684,694,713,650,623,665,757,757,771,791,null,41,26929,26676,26660,26454,26148,26154,26305,26577,26648,26681,26364,26213,26189,26415,26522,26874,27080,27157,27325,27325,27585,27842,28330,28594,28695,28554,28655,28951,28911,28873,28893,29273]
["female",42,619,648,624,605,586,594,585,601,668,668,665,726,779,828,732,716,784,822,747,806,743,751,737,700,690,696,656,625,659,744,757,789,null,42,27548,27324,27284,27059,26734,26748,26890,27178,27316,27349,27029,26939,26968,27243,27254,27590,27864,27979,28072,28131,28328,28593,29067,29294,29385,29250,29311,29576,29570,29617,29650,30062]
["female",43,620,606,636,610,592,575,580,588,599,666,652,668,733,779,830,730,716,780,823,751,819,761,762,755,693,700,691,661,629,660,750,763,null,43,28168,27930,27920,27669,27326,27323,27470,27766,27915,28015,27681,27607,27701,28022,28084,28320,28580,28759,28895,28882,29147,29354,29829,30049,30078,29950,30002,30237,30199,30277,30400,30825]
["female",44,753,622,605,631,606,591,575,585,591,612,652,642,658,732,774,835,725,717,776,813,737,804,772,780,771,693,705,690,670,634,659,743,null,44,28921,28552,28525,28300,27932,27914,28045,28351,28506,28627,28333,28249,28359,28754,28858,29155,29305,29476,29671,29695,29884,30158,30601,30829,30849,30643,30707,30927,30869,30911,31059,31568]
["female",45,861,754,626,605,628,609,596,578,582,588,608,657,643,668,725,772,832,730,728,772,808,731,808,769,791,765,686,702,693,667,620,677,null,45,29782,29306,29151,28905,28560,28523,28641,28929,29088,29215,28941,28906,29002,29422,29583,29927,30137,30206,30399,30467,30692,30889,31409,31598,31640,31408,31393,31629,31562,31578,31679,32245]
["female",46,684,859,751,627,604,625,608,603,587,577,586,597,662,629,665,727,759,826,726,725,779,806,728,803,778,796,751,680,707,670,666,627,null,46,30466,30165,29902,29532,29164,29148,29249,29532,29675,29792,29527,29503,29664,30051,30248,30654,30896,31032,31125,31192,31471,31695,32137,32401,32418,32204,32144,32309,32269,32248,32345,32872]
["female",47,618,684,849,741,617,591,611,597,592,592,577,585,587,665,627,661,746,745,813,735,731,773,822,732,797,788,782,760,665,698,659,658,null,47,31084,30849,30751,30273,29781,29739,29860,30129,30267,30384,30104,30088,30251,30716,30875,31315,31642,31777,31938,31927,32202,32468,32959,33133,33215,32992,32926,33069,32934,32946,33004,33530]
["female",48,576,625,690,852,743,619,593,621,596,592,584,586,582,578,662,631,664,749,740,813,730,729,783,808,731,798,793,780,757,658,686,650,null,48,31660,31474,31441,31125,30524,30358,30453,30750,30863,30976,30688,30674,30833,31294,31537,31946,32306,32526,32678,32740,32932,33197,33742,33941,33946,33790,33719,33849,33691,33604,33690,34180]
["female",49,627,572,619,688,843,735,614,590,616,590,597,578,577,587,574,655,630,665,747,738,807,740,730,767,796,723,780,790,770,741,659,694,null,49,32287,32046,32060,31813,31367,31093,31067,31340,31479,31566,31285,31252,31410,31881,32111,32601,32936,33191,33425,33478,33739,33937,34472,34708,34742,34513,34499,34639,34461,34345,34349,34874]
["female",50,533,627,576,626,692,841,735,621,590,606,581,596,583,581,592,567,643,626,653,741,741,807,727,730,779,795,731,789,793,758,741,650,null,50,32820,32673,32636,32439,32059,31934,31802,31961,32069,32172,31866,31848,31993,32462,32703,33168,33579,33817,34078,34219,34480,34744,35199,35438,35521,35308,35230,35428,35254,35103,35090,35524]
["female",51,519,529,617,569,624,688,835,743,630,584,591,571,588,585,589,592,572,646,632,652,740,747,798,729,715,770,793,735,772,774,742,744,null,51,33339,33202,33253,33008,32683,32622,32637,32704,32699,32756,32457,32419,32581,33047,33292,33760,34151,34463,34710,34871,35220,35491,35997,36167,36236,36078,36023,36163,36026,35877,35832,36268]
["female",52,501,512,527,612,567,625,690,837,741,626,586,592,559,579,579,580,585,575,641,622,647,741,734,795,726,731,760,780,729,764,777,746,null,52,33840,33714,33780,33620,33250,33247,33327,33541,33440,33382,33043,33011,33140,33626,33871,34340,34736,35038,35351,35493,35867,36232,36731,36962,36962,36809,36783,36943,36755,36641,36609,37014]
["female",53,549,506,519,533,619,578,635,687,837,734,622,582,580,558,580,573,575,581,563,649,624,646,732,739,788,701,728,755,775,716,759,780,null,53,34389,34220,34299,34153,33869,33825,33962,34228,34277,34116,33665,33593,33720,34184,34451,34913,35311,35619,35914,36142,36491,36878,37463,37701,37750,37510,37511,37698,37530,37357,37368,37794]
["female",54,551,541,509,520,541,623,585,629,694,833,716,621,573,581,551,586,569,576,590,559,636,625,640,734,740,775,701,725,750,765,708,758,null,54,34940,34761,34808,34673,34410,34448,34547,34857,34971,34949,34381,34214,34293,34765,35002,35499,35880,36195,36504,36701,37127,37503,38103,38435,38490,38285,38212,38423,38280,38122,38076,38552]
["female",55,552,549,537,508,519,544,627,582,628,693,831,689,614,563,573,552,584,563,575,593,566,641,623,638,722,732,767,699,713,744,757,699,null,55,35492,35310,35345,35181,34929,34992,35174,35439,35599,35642,35212,34903,34907,35328,35575,36051,36464,36758,37079,37294,37693,38144,38726,39073,39212,39017,38979,39122,38993,38866,38833,39251]
["female",56,513,549,548,521,504,519,548,617,587,634,677,827,683,595,554,568,538,589,556,570,583,565,636,613,634,705,729,749,690,703,729,739,null,56,36005,35859,35893,35702,35433,35511,35722,36056,36186,36276,35889,35730,35590,35923,36129,36619,37002,37347,37635,37864,38276,38709,39362,39686,39846,39722,39708,39871,39683,39569,39562,39990]
["female",57,491,504,546,540,511,496,514,542,615,572,625,671,818,671,591,548,564,536,577,557,572,587,561,638,612,616,705,723,737,673,692,707,null,57,36496,36363,36439,36242,35944,36007,36236,36598,36801,36848,36514,36401,36408,36594,36720,37167,37566,37883,38212,38421,38848,39296,39923,40324,40458,40338,40413,40594,40420,40242,40254,40697]
["female",58,528,489,499,540,536,509,492,489,541,605,553,618,671,806,679,589,544,561,530,564,557,566,580,552,632,598,616,687,700,732,670,684,null,58,37024,36852,36938,36782,36480,36516,36728,37087,37342,37453,37067,37019,37079,37400,37399,37756,38110,38444,38742,38985,39405,39862,40503,40876,41090,40936,41029,41281,41120,40974,40924,41381]
["female",59,517,522,486,496,533,533,505,488,487,536,593,539,601,668,798,663,567,544,558,527,567,555,564,570,545,627,599,607,672,691,713,635,null,59,37541,37374,37424,37278,37013,37049,37233,37575,37829,37989,37660,37558,37680,38068,38197,38419,38677,38988,39300,39512,39972,40417,41067,41446,41635,41563,41628,41888,41792,41665,41637,42016]
["female",60,485,511,511,486,493,534,532,490,481,475,526,587,528,584,645,790,653,566,537,551,519,560,539,560,555,525,617,585,597,660,681,703,null,60,38026,37885,37935,37764,37506,37583,37765,38065,38310,38464,38186,38145,38208,38652,38842,39209,39330,39554,39837,40063,40491,40977,41606,42006,42190,42088,42245,42473,42389,42325,42318,42719]
["female",61,466,481,509,498,479,490,532,522,488,472,466,519,571,520,566,633,771,645,555,531,544,507,558,549,553,559,513,626,577,581,652,666,null,61,38492,38366,38444,38262,37985,38073,38297,38587,38798,38936,38652,38664,38779,39172,39408,39842,40101,40199,40392,40594,41035,41484,42164,42555,42743,42647,42758,43099,42966,42906,42970,43385]
["female",62,499,461,477,503,490,476,486,524,516,483,456,461,513,568,504,539,613,760,637,548,528,546,515,545,538,545,547,503,612,571,569,650,null,62,38991,38827,38921,38765,38475,38549,38783,39111,39314,39419,39108,39125,39292,39740,39912,40381,40714,40959,41029,41142,41563,42030,42679,43100,43281,43192,43305,43602,43578,43477,43539,44035]
["female",63,487,496,457,475,497,480,477,480,522,515,473,447,454,504,560,486,528,600,761,618,535,524,542,510,535,533,538,553,493,589,556,558,null,63,39478,39323,39378,39240,38972,39029,39260,39591,39836,39934,39581,39572,39746,40244,40472,40867,41242,41559,41790,41760,42098,42554,43221,43610,43816,43725,43843,44155,44071,44066,44095,44593]
["female",64,491,479,486,450,464,488,464,466,476,518,503,464,437,447,492,547,476,521,583,748,619,541,523,538,506,529,529,536,548,484,585,550,null,64,39969,39802,39864,39690,39436,39517,39724,40057,40312,40452,40084,40036,40183,40691,40964,41414,41718,42080,42373,42508,42717,43095,43744,44148,44322,44254,44372,44691,44619,44550,44680,45143]
["female",65,456,476,468,477,441,454,477,452,454,471,507,495,460,430,431,482,544,463,501,569,744,608,521,518,527,502,514,519,524,536,478,582,null,65,{"$f":"AK173+C174","v":40425},{"$f":"AL173+D174","v":40278},{"$f":"AM173+E174","v":40332},{"$f":"AN173+F174","v":40167},{"$f":"AO173+G174","v":39877},{"$f":"AP173+H174","v":39971},{"$f":"AQ173+I174","v":40201},{"$f":"AR173+J174","v":40509},{"$f":"AS173+K174","v":40766},{"$f":"AT173+L174","v":40923},{"$f":"AU173+M174","v":40591},{"$f":"AV173+N174","v":40531},{"$f":"AW173+O174","v":40643},{"$f":"AX173+P174","v":41121},{"$f":"AY173+Q174","v":41395},{"$f":"AZ173+R174","v":41896},{"$f":"BA173+S174","v":42262},{"$f":"BB173+T174","v":42543},{"$f":"BC173+U174","v":42874},{"$f":"BD173+V174","v":43077},{"$f":"BE173+W174","v":43461},{"$f":"BF173+X174","v":43703},{"$f":"BG173+Y174","v":44265},{"$f":"BH173+Z174","v":44666},{"$f":"BI173+AA174","v":44849},{"$f":"BJ173+AB174","v":44756},{"$f":"BK173+AC174","v":44886},{"$f":"BL173+AD174","v":45210},{"$f":"BM173+AE174","v":45143},{"$f":"BN173+AF174","v":45086},{"$f":"BO173+AG174","v":45158},45725]
["female",66,434,446,460,461,470,436,452,466,439,449,461,495,485,458,423,421,468,539,450,488,556,734,604,518,507,517,497,510,515,522,530,470,null,66,40859,40724,40792,40628,40347,40407,40653,40975,41205,41372,41052,41026,41128,41579,41818,42317,42730,43082,43324,43565,44017,44437,44869,45184,45356,45273,45383,45720,45658,45608,45688,46195]
["female",67,436,427,440,457,453,464,429,443,456,424,436,454,477,480,458,412,412,460,524,440,486,547,722,591,513,502,506,486,502,510,520,525,null,67,41295,41151,41232,41085,40800,40871,41082,41418,41661,41796,41488,41480,41605,42059,42276,42729,43142,43542,43848,44005,44503,44984,45591,45775,45869,45775,45889,46206,46160,46118,46208,46720]
["female",68,461,429,421,435,443,445,457,428,434,451,417,434,445,466,475,442,410,409,447,511,436,474,530,714,580,505,491,489,484,498,502,516,null,68,41756,41580,41653,41520,41243,41316,41539,41846,42095,42247,41905,41914,42050,42525,42751,43171,43552,43951,44295,44516,44939,45458,46121,46489,46449,46280,46380,46695,46644,46616,46710,47236]
["female",69,474,448,426,416,420,438,438,445,421,428,449,411,429,438,447,465,446,405,395,439,508,433,470,519,693,569,502,474,473,469,487,497,null,69,42230,42028,42079,41936,41663,41754,41977,42291,42516,42675,42354,42325,42479,42963,43198,43636,43998,44356,44690,44955,45447,45891,46591,47008,47142,46849,46882,47169,47117,47085,47197,47733]
["female",70,455,454,439,421,411,416,434,426,436,412,415,432,410,422,430,438,447,440,402,384,429,494,428,465,510,681,563,495,463,464,465,480,null,70,42685,42482,42518,42357,42074,42170,42411,42717,42952,43087,42769,42757,42889,43385,43628,44074,44445,44796,45092,45339,45876,46385,47019,47473,47652,47530,47445,47664,47580,47549,47662,48213]
["female",71,467,444,446,422,414,398,403,421,409,426,401,402,427,399,412,419,431,440,435,397,385,421,481,425,460,512,671,553,486,445,463,465,null,71,43152,42926,42964,42779,42488,42568,42814,43138,43361,43513,43170,43159,43316,43784,44040,44493,44876,45236,45527,45736,46261,46806,47500,47898,48112,48042,48116,48217,48066,47994,48125,48678]
["female",72,494,461,430,428,413,400,387,388,408,399,413,398,388,423,393,405,414,420,438,425,395,372,416,472,417,454,499,674,548,462,442,453,null,72,43646,43387,43394,43207,42901,42968,43201,43526,43769,43912,43583,43557,43704,44207,44433,44898,45290,45656,45965,46161,46656,47178,47916,48370,48529,48496,48615,48891,48614,48456,48567,49131]
["female",73,335,475,444,418,411,395,389,378,383,392,386,403,387,375,416,387,397,407,406,426,418,392,368,413,450,413,444,485,662,537,448,421,null,73,43981,43862,43838,43625,43312,43363,43590,43904,44152,44304,43969,43960,44091,44582,44849,45285,45687,46063,46371,46587,47074,47570,48284,48783,48979,48909,49059,49376,49276,48993,49015,49552]
["female",74,300,329,457,437,408,406,391,366,361,376,381,370,398,377,366,411,386,388,404,398,411,402,393,364,403,438,405,433,471,644,516,437,null,74,44281,44191,44295,44062,43720,43769,43981,44270,44513,44680,44350,44330,44489,44959,45215,45696,46073,46451,46775,46985,47485,47972,48677,49147,49382,49347,49464,49809,49747,49637,49531,49989]
["female",75,315,286,317,441,426,397,392,377,355,360,364,375,354,387,369,364,405,383,382,398,399,398,395,382,363,395,430,393,418,453,626,506,null,75,44596,44477,44612,44503,44146,44166,44373,44647,44868,45040,44714,44705,44843,45346,45584,46060,46478,46834,47157,47383,47884,48370,49072,49529,49745,49742,49894,50202,50165,50090,50157,50495]
["female",76,327,297,274,303,425,411,376,370,363,345,352,353,358,342,364,360,356,394,382,377,384,388,391,388,373,357,375,423,388,405,453,607,null,76,44923,44774,44886,44806,44571,44577,44749,45017,45231,45385,45066,45058,45201,45688,45948,46420,46834,47228,47539,47760,48268,48758,49463,49917,50118,50099,50269,50625,50553,50495,50610,51102]
["female",77,343,310,290,267,295,407,400,356,348,352,331,344,347,343,330,347,350,344,380,374,370,372,376,387,377,363,349,359,403,385,394,433,null,77,45266,45084,45176,45073,44866,44984,45149,45373,45579,45737,45397,45402,45548,46031,46278,46767,47184,47572,47919,48134,48638,49130,49839,50304,50495,50462,50618,50984,50956,50880,51004,51535]
["female",78,272,338,304,280,258,283,393,376,345,332,343,321,328,337,336,324,340,334,336,372,361,362,351,363,377,362,351,335,355,391,368,388,null,78,45538,45422,45480,45353,45124,45267,45542,45749,45924,46069,45740,45723,45876,46368,46614,47091,47524,47906,48255,48506,48999,49492,50190,50667,50872,50824,50969,51319,51311,51271,51372,51923]
["female",79,293,261,327,293,264,245,279,369,359,332,312,324,305,311,318,321,313,335,310,318,345,357,350,348,349,367,347,337,327,341,378,354,null,79,45831,45683,45807,45646,45388,45512,45821,46118,46283,46401,46052,46047,46181,46679,46932,47412,47837,48241,48565,48824,49344,49849,50540,51015,51221,51191,51316,51656,51638,51612,51750,52277]
["female",80,278,278,255,314,279,250,233,265,349,350,316,284,301,291,295,297,318,297,323,286,299,326,351,338,341,341,354,337,318,317,327,338,null,80,46109,45961,46062,45960,45667,45762,46054,46383,46632,46751,46368,46331,46482,46970,47227,47709,48155,48538,48888,49110,49643,50175,50891,51353,51562,51532,51670,51993,51956,51929,52077,52615]
["female",81,243,271,261,242,304,265,239,213,244,331,325,299,260,284,267,283,269,301,282,311,274,283,321,337,320,324,332,336,324,302,303,318,null,81,46352,46232,46323,46202,45971,46027,46293,46596,46876,47082,46693,46630,46742,47254,47494,47992,48424,48839,49170,49421,49917,50458,51212,51690,51882,51856,52002,52329,52280,52231,52380,52933]
["female",82,231,231,249,248,219,286,247,230,199,236,307,287,276,252,267,244,276,256,283,272,302,258,264,304,327,300,311,311,321,298,276,284,null,82,46583,46463,46572,46450,46190,46313,46540,46826,47075,47318,47000,46917,47018,47506,47761,48236,48700,49095,49453,49693,50219,50716,51476,51994,52209,52156,52313,52640,52601,52529,52656,53217]
["female",83,215,207,215,231,228,199,267,232,214,188,216,284,269,263,232,251,236,260,250,271,255,277,259,254,296,309,286,281,297,294,284,260,null,83,46798,46670,46787,46681,46418,46512,46807,47058,47289,47506,47216,47201,47287,47769,47993,48487,48936,49355,49703,49964,50474,50993,51735,52248,52505,52465,52599,52921,52898,52823,52940,53477]
["female",84,184,201,184,200,216,215,193,248,213,199,174,202,264,252,239,214,232,215,243,236,257,235,260,245,248,276,286,269,267,275,279,261,null,84,46982,46871,46971,46881,46634,46727,47000,47306,47502,47705,47390,47403,47551,48021,48232,48701,49168,49570,49946,50200,50731,51228,51995,52493,52753,52741,52885,53190,53165,53098,53219,53738]
["female",85,889,922,910,952,978,1017,1055,1047,1113,175,179,156,179,233,240,222,208,223,193,215,218,239,210,237,221,223,267,260,251,241,255,252,null,85,47871,47793,47881,47833,47612,47744,48055,48353,48615,47880,47569,47559,47730,48254,48472,48923,49376,49793,50139,50415,50949,51467,52205,52730,52974,52964,53152,53450,53416,53339,53474,53990]
["female",86,null,null,null,null,null,null,null,null,null,191,148,151,136,169,211,216,199,192,204,181,193,201,220,189,215,202,202,247,223,226,219,236,null,86,47871,47793,47881,47833,47612,47744,48055,48353,48615,48071,47717,47710,47866,48423,48683,49139,49575,49985,50343,50596,51142,51668,52425,52919,53189,53166,53354,53697,53639,53565,53693,54226]
["female",87,null,null,null,null,null,null,null,null,null,149,169,123,135,131,157,178,206,180,170,182,169,179,186,212,168,193,185,181,223,199,205,196,null,87,47871,47793,47881,47833,47612,47744,48055,48353,48615,48220,47886,47833,48001,48554,48840,49317,49781,50165,50513,50778,51311,51847,52611,53131,53357,53359,53539,53878,53862,53764,53898,54422]
["female",88,null,null,null,null,null,null,null,null,null,141,131,139,108,124,113,143,150,178,150,147,166,155,147,164,192,147,166,165,167,195,174,179,null,88,47871,47793,47881,47833,47612,47744,48055,48353,48615,48361,48017,47972,48109,48678,48953,49460,49931,50343,50663,50925,51477,52002,52758,53295,53549,53506,53705,54043,54029,53959,54072,54601]
["female",89,null,null,null,null,null,null,null,null,null,109,114,127,125,98,110,95,128,124,153,136,129,145,133,116,159,172,140,143,146,139,171,150,null,89,47871,47793,47881,47833,47612,47744,48055,48353,48615,48470,48131,48099,48234,48776,49063,49555,50059,50467,50816,51061,51606,52147,52891,53411,53708,53678,53845,54186,54175,54098,54243,54751]
["female","90+",null,null,null,null,null,null,null,null,null,393,415,435,464,466,477,463,453,465,483,525,541,526,531,512,509,523,580,594,556,558,535,526,null,"90+",47871,47793,47881,47833,47612,47744,48055,48353,48615,48863,48546,48534,48698,49242,49540,50018,50512,50932,51299,51586,52147,52673,53422,53923,54217,54201,54425,54780,54731,54656,54778,55277]
[null,"All Females",{"$f":"SUM(C109:C199)","v":47871},{"$f":"SUM(D109:D199)","v":47793},47881,47833,47612,47744,48055,48353,48615,48863,48546,48534,48698,49242,49540,50018,50512,50932,51299,51586,52147,52673,53422,53923,54217,54201,54425,{"$f":"SUM(AD109:AD199)","v":54780},{"$f":"SUM(AE109:AE199)","v":54731},{"$f":"SUM(AF109:AF199)","v":54656},{"$f":"SUM(AG109:AG199)","v":54778},{"$f":"SUM(AH109:AH199)","v":55277}]

{"sheet":"MAI","index":16,"n_rows":200,"n_cols":106,"rows_kept":200,"cut":false,"hidden":true,"merged":[[0,68,21,68]]}
["Mid Year Population Estimates",null,null,null,null,null,null,null,null,null,null,null,null,null,null,null,null,null,null,null,null,null,null,null,null,null,null,null,null,null,null,null,null,null,null,null,null,null,null,null,null,null,null,null,null,null,null,null,null,null,null,null,null,null,null,null,null,null,null,null,null,null,null,null,null,null,null,null,"Insert column here before extending the table"]
["ONS Mid-Year Population Estimates 1991 to 2022 - (1992 to 2001 Revised 7th October 2004) ( 2002 to 2010 revised in light of the 2011 census. Released 30 April 2013)",null,null,null,null,null,null,null,null,null,null,null,null,null,null,null,null,null,null,null,null,null,null,null,null,null,null,null,null,null,null,null,null,null,null,"Selected Ages:",null,{"$f":"Index!C4&\" : \"&Index!C7","v":"0 : 90"},null,null,null,null,null,null,null,null,null,null,null,null,null,null,null,null,null,null,null,null,null,null,null,null,null,null,null,null,null,null,null,null,null,null,"Start year","End Year","Number change","% Change"]
["Revised ONS Mid-Year Population Estimates 2012 to 2020- Released 23 November 2023",null,null,null,null,null,null,null,null,null,null,null,null,null,null,null,null,null,null,null,null,null,null,null,null,null,null,null,null,null,null,null,null,null,null,null,{"$f":"AK13","v":1992},{"$f":"AL13","v":1993},{"$f":"AM13","v":1994},{"$f":"AN13","v":1995},{"$f":"AO13","v":1996},{"$f":"AP13","v":1997},1998,1999,2000,2001,2002,2003,2004,2005,2006,2007,2008,2009,2010,2011,2012,2013,2014,2015,2016,2017,{"$f":"BK13","v":2018},2019,2020,2021,2022,2023,null,null,null,null,{"$f":"INDEX($AR3:$BL3,Index!$B$16)","v":1999},{"$f":"INDEX($AR3:$BM3,Index!$B$19)","v":2019}]
["2022 MYPE released 23 November 2023",null,null,null,null,null,null,null,null,null,null,null,null,null,null,null,null,null,null,null,null,null,null,null,null,null,null,null,null,null,null,null,null,null,null,"Males",{"$f":"OFFSET(AK16,Index!$B$7-1,0)-IF(Index!$B$4-2=-1,0,OFFSET(AK16,Index!$B$4-2,0))","v":67197},{"$f":"OFFSET(AL16,Index!$B$7-1,0)-IF(Index!$B$4-2=-1,0,OFFSET(AL16,Index!$B$4-2,0))","v":67311},{"$f":"OFFSET(AM16,Index!$B$7-1,0)-IF(Index!$B$4-2=-1,0,OFFSET(AM16,Index!$B$4-2,0))","v":67124},{"$f":"OFFSET(AN16,Index!$B$7-1,0)-IF(Index!$B$4-2=-1,0,OFFSET(AN16,Index!$B$4-2,0))","v":67381},{"$f":"OFFSET(AO16,Index!$B$7-1,0)-IF(Index!$B$4-2=-1,0,OFFSET(AO16,Index!$B$4-2,0))","v":68023},{"$f":"OFFSET(AP16,Index!$B$7-1,0)-IF(Index!$B$4-2=-1,0,OFFSET(AP16,Index!$B$4-2,0))","v":67952},{"$f":"OFFSET(AQ16,Index!$B$7-1,0)-IF(Index!$B$4-2=-1,0,OFFSET(AQ16,Index!$B$4-2,0))","v":67736},{"$f":"OFFSET(AR16,Index!$B$7-1,0)-IF(Index!$B$4-2=-1,0,OFFSET(AR16,Index!$B$4-2,0))","v":67746},{"$f":"OFFSET(AS16,Index!$B$7-1,0)-IF(Index!$B$4-2=-1,0,OFFSET(AS16,Index!$B$4-2,0))","v":68190},{"$f":"OFFSET(AT16,Index!$B$7-1,0)-IF(Index!$B$4-2=-1,0,OFFSET(AT16,Index!$B$4-2,0))","v":68453},{"$f":"OFFSET(AU16,Index!$B$7-1,0)-IF(Index!$B$4-2=-1,0,OFFSET(AU16,Index!$B$4-2,0))","v":68997},{"$f":"OFFSET(AV16,Index!$B$7-1,0)-IF(Index!$B$4-2=-1,0,OFFSET(AV16,Index!$B$4-2,0))","v":69503},{"$f":"OFFSET(AW16,Index!$B$7-1,0)-IF(Index!$B$4-2=-1,0,OFFSET(AW16,Index!$B$4-2,0))","v":69928},{"$f":"OFFSET(AX16,Index!$B$7-1,0)-IF(Index!$B$4-2=-1,0,OFFSET(AX16,Index!$B$4-2,0))","v":70506},{"$f":"OFFSET(AY16,Index!$B$7-1,0)-IF(Index!$B$4-2=-1,0,OFFSET(AY16,Index!$B$4-2,0))","v":71538},{"$f":"OFFSET(AZ16,Index!$B$7-1,0)-IF(Index!$B$4-2=-1,0,OFFSET(AZ16,Index!$B$4-2,0))","v":72812},{"$f":"OFFSET(BA16,Index!$B$7-1,0)-IF(Index!$B$4-2=-1,0,OFFSET(BA16,Index!$B$4-2,0))","v":73935},{"$f":"OFFSET(BB16,Index!$B$7-1,0)-IF(Index!$B$4-2=-1,0,OFFSET(BB16,Index!$B$4-2,0))","v":74791},{"$f":"OFFSET(BC16,Index!$B$7-1,0)-IF(Index!$B$4-2=-1,0,OFFSET(BC16,Index!$B$4-2,0))","v":75863},{"$f":"OFFSET(BD16,Index!$B$7-1,0)-IF(Index!$B$4-2=-1,0,OFFSET(BD16,Index!$B$4-2,0))","v":76868},{"$f":"OFFSET(BE16,Index!$B$7-1,0)-IF(Index!$B$4-2=-1,0,OFFSET(BE16,Index!$B$4-2,0))","v":77637},{"$f":"OFFSET(BF16,Index!$B$7-1,0)-IF(Index!$B$4-2=-1,0,OFFSET(BF16,Index!$B$4-2,0))","v":78645},{"$f":"OFFSET(BG16,Index!$B$7-1,0)-IF(Index!$B$4-2=-1,0,OFFSET(BG16,Index!$B$4-2,0))","v":79890},{"$f":"OFFSET(BH16,Index!$B$7-1,0)-IF(Index!$B$4-2=-1,0,OFFSET(BH16,Index!$B$4-2,0))","v":81332},{"$f":"OFFSET(BI16,Index!$B$7-1,0)-IF(Index!$B$4-2=-1,0,OFFSET(BI16,Index!$B$4-2,0))","v":82310},{"$f":"OFFSET(BJ16,Index!$B$7-1,0)-IF(Index!$B$4-2=-1,0,OFFSET(BJ16,Index!$B$4-2,0))","v":83374},{"$f":"OFFSET(BK16,Index!$B$7-1,0)-IF(Index!$B$4-2=-1,0,OFFSET(BK16,Index!$B$4-2,0))","v":84325},{"$f":"OFFSET(BL16,Index!$B$7-1,0)-IF(Index!$B$4-2=-1,0,OFFSET(BL16,Index!$B$4-2,0))","v":85015},{"$f":"OFFSET(BM16,Index!$B$7-1,0)-IF(Index!$B$4-2=-1,0,OFFSET(BM16,Index!$B$4-2,0))","v":85724},{"$f":"OFFSET(BN16,Index!$B$7-1,0)-IF(Index!$B$4-2=-1,0,OFFSET(BN16,Index!$B$4-2,0))","v":87294},{"$f":"OFFSET(BO16,Index!$B$7-1,0)-IF(Index!$B$4-2=-1,0,OFFSET(BO16,Index!$B$4-2,0))","v":89057},{"$f":"OFFSET(BP16,Index!$B$7-1,0)-IF(Index!$B$4-2=-1,0,OFFSET(BP16,Index!$B$4-2,0))","v":90822},null,null,null,null,{"$f":"INDEX($AR4:$BL4,Index!$B$16)","v":67746},{"$f":"INDEX($AR4:$BM4,Index!$B$19)","v":85015},{"$f":"BV4-BU4","v":17269},{"$f":"BW4/BU4","v":0.25490803885100227}]
[null,null,null,null,null,null,null,null,null,null,null,null,null,null,null,null,null,null,null,null,null,null,null,null,null,null,null,null,null,null,null,null,null,null,null,"Females",{"$f":"OFFSET(AK109,Index!$B$7-1,0)-IF(Index!$B$4-2=-1,0,OFFSET(AK109,Index!$B$4-2,0))","v":70014},{"$f":"OFFSET(AL109,Index!$B$7-1,0)-IF(Index!$B$4-2=-1,0,OFFSET(AL109,Index!$B$4-2,0))","v":70079},{"$f":"OFFSET(AM109,Index!$B$7-1,0)-IF(Index!$B$4-2=-1,0,OFFSET(AM109,Index!$B$4-2,0))","v":69853},{"$f":"OFFSET(AN109,Index!$B$7-1,0)-IF(Index!$B$4-2=-1,0,OFFSET(AN109,Index!$B$4-2,0))","v":70006},{"$f":"OFFSET(AO109,Index!$B$7-1,0)-IF(Index!$B$4-2=-1,0,OFFSET(AO109,Index!$B$4-2,0))","v":70382},{"$f":"OFFSET(AP109,Index!$B$7-1,0)-IF(Index!$B$4-2=-1,0,OFFSET(AP109,Index!$B$4-2,0))","v":70496},{"$f":"OFFSET(AQ109,Index!$B$7-1,0)-IF(Index!$B$4-2=-1,0,OFFSET(AQ109,Index!$B$4-2,0))","v":70341},{"$f":"OFFSET(AR109,Index!$B$7-1,0)-IF(Index!$B$4-2=-1,0,OFFSET(AR109,Index!$B$4-2,0))","v":70195},{"$f":"OFFSET(AS109,Index!$B$7-1,0)-IF(Index!$B$4-2=-1,0,OFFSET(AS109,Index!$B$4-2,0))","v":70443},{"$f":"OFFSET(AT109,Index!$B$7-1,0)-IF(Index!$B$4-2=-1,0,OFFSET(AT109,Index!$B$4-2,0))","v":70663},{"$f":"OFFSET(AU109,Index!$B$7-1,0)-IF(Index!$B$4-2=-1,0,OFFSET(AU109,Index!$B$4-2,0))","v":71341},{"$f":"OFFSET(AV109,Index!$B$7-1,0)-IF(Index!$B$4-2=-1,0,OFFSET(AV109,Index!$B$4-2,0))","v":71743},{"$f":"OFFSET(AW109,Index!$B$7-1,0)-IF(Index!$B$4-2=-1,0,OFFSET(AW109,Index!$B$4-2,0))","v":72314},{"$f":"OFFSET(AX109,Index!$B$7-1,0)-IF(Index!$B$4-2=-1,0,OFFSET(AX109,Index!$B$4-2,0))","v":72847},{"$f":"OFFSET(AY109,Index!$B$7-1,0)-IF(Index!$B$4-2=-1,0,OFFSET(AY109,Index!$B$4-2,0))","v":73769},{"$f":"OFFSET(AZ109,Index!$B$7-1,0)-IF(Index!$B$4-2=-1,0,OFFSET(AZ109,Index!$B$4-2,0))","v":74929},{"$f":"OFFSET(BA109,Index!$B$7-1,0)-IF(Index!$B$4-2=-1,0,OFFSET(BA109,Index!$B$4-2,0))","v":75788},{"$f":"OFFSET(BB109,Index!$B$7-1,0)-IF(Index!$B$4-2=-1,0,OFFSET(BB109,Index!$B$4-2,0))","v":76803},{"$f":"OFFSET(BC109,Index!$B$7-1,0)-IF(Index!$B$4-2=-1,0,OFFSET(BC109,Index!$B$4-2,0))","v":77876},{"$f":"OFFSET(BD109,Index!$B$7-1,0)-IF(Index!$B$4-2=-1,0,OFFSET(BD109,Index!$B$4-2,0))","v":78896},{"$f":"OFFSET(BE109,Index!$B$7-1,0)-IF(Index!$B$4-2=-1,0,OFFSET(BE109,Index!$B$4-2,0))","v":79820},{"$f":"OFFSET(BF109,Index!$B$7-1,0)-IF(Index!$B$4-2=-1,0,OFFSET(BF109,Index!$B$4-2,0))","v":80663},{"$f":"OFFSET(BG109,Index!$B$7-1,0)-IF(Index!$B$4-2=-1,0,OFFSET(BG109,Index!$B$4-2,0))","v":81677},{"$f":"OFFSET(BH109,Index!$B$7-1,0)-IF(Index!$B$4-2=-1,0,OFFSET(BH109,Index!$B$4-2,0))","v":82780},{"$f":"OFFSET(BI109,Index!$B$7-1,0)-IF(Index!$B$4-2=-1,0,OFFSET(BI109,Index!$B$4-2,0))","v":83643},{"$f":"OFFSET(BJ109,Index!$B$7-1,0)-IF(Index!$B$4-2=-1,0,OFFSET(BJ109,Index!$B$4-2,0))","v":84741},{"$f":"OFFSET(BK109,Index!$B$7-1,0)-IF(Index!$B$4-2=-1,0,OFFSET(BK109,Index!$B$4-2,0))","v":85649},{"$f":"OFFSET(BL109,Index!$B$7-1,0)-IF(Index!$B$4-2=-1,0,OFFSET(BL109,Index!$B$4-2,0))","v":86801},{"$f":"OFFSET(BM109,Index!$B$7-1,0)-IF(Index!$B$4-2=-1,0,OFFSET(BM109,Index!$B$4-2,0))","v":87548},{"$f":"OFFSET(BN109,Index!$B$7-1,0)-IF(Index!$B$4-2=-1,0,OFFSET(BN109,Index!$B$4-2,0))","v":89403},{"$f":"OFFSET(BO109,Index!$B$7-1,0)-IF(Index!$B$4-2=-1,0,OFFSET(BO109,Index!$B$4-2,0))","v":91512},{"$f":"OFFSET(BP109,Index!$B$7-1,0)-IF(Index!$B$4-2=-1,0,OFFSET(BP109,Index!$B$4-2,0))","v":93365},null,null,null,null,{"$f":"INDEX($AR5:$BL5,Index!$B$16)","v":70195},{"$f":"INDEX($AR5:$BM5,Index!$B$19)","v":86801},{"$f":"BV5-BU5","v":16606},{"$f":"BW5/BU5","v":0.23656955623619916}]
[null,null,null,null,null,null,null,null,null,null,null,null,null,null,null,null,null,null,null,null,null,null,null,null,null,null,null,null,null,null,null,null,null,null,null,"Total",{"$f":"SUM(AK4:AK5)","v":137211},{"$f":"SUM(AL4:AL5)","v":137390},{"$f":"SUM(AM4:AM5)","v":136977},{"$f":"SUM(AN4:AN5)","v":137387},{"$f":"SUM(AO4:AO5)","v":138405},{"$f":"SUM(AP4:AP5)","v":138448},138077,137941,138633,139116,140338,141246,142242,143353,145307,147741,149723,151594,153739,155764,157457,159308,161567,164112,165953,168115,169974,171816,173272,176697,180569,184187,null,null,null,null,{"$f":"INDEX($AR6:$BL6,Index!$B$16)","v":137941},{"$f":"INDEX($AR6:$BM6,Index!$B$19)","v":171816},{"$f":"BV6-BU6","v":33875},{"$f":"BW6/BU6","v":0.2455760071334846}]
[]
[null,null,null,null,null,null,null,null,null,null,null,null,null,null,null,null,null,null,null,null,null,null,null,null,null,null,null,null,null,null,null,null,null,null,null,"Males",{"$f":"IF(AK4<0,\"0\",AK4)","v":67197},{"$f":"IF(AL4<0,\"0\",AL4)","v":67311},67124,67381,68023,67952,67736,67746,68190,68453,68997,69503,69928,70506,71538,72812,73935,74791,75863,76868,77637,78645,79890,81332,82310,83374,{"$f":"IF(BK4<0,\"0\",BK4)","v":84325},85015,85724,{"$f":"IF(BN4<0,\"0\",BN4)","v":87294},89057,{"$f":"IF(BP4<0,\"0\",BP4)","v":90822}]
[null,null,null,null,null,null,null,null,null,null,null,null,null,null,null,null,null,null,null,null,null,null,null,null,null,null,null,null,null,null,null,null,null,null,null,"Females",{"$f":"IF(AK5<0,\"0\",AK5)","v":70014},70079,69853,70006,70382,70496,70341,70195,70443,70663,71341,71743,72314,72847,73769,74929,75788,76803,77876,78896,79820,80663,81677,82780,83643,84741,85649,86801,87548,{"$f":"IF(BN5<0,\"0\",BN5)","v":89403},91512,{"$f":"IF(BP5<0,\"0\",BP5)","v":93365}]
[null,null,null,null,null,null,null,null,null,null,null,null,null,null,null,null,null,null,null,null,null,null,null,null,null,null,null,null,null,null,null,null,null,null,null,"Total",{"$f":"SUM(AK8:AK9)","v":137211},{"$f":"SUM(AL8:AL9)","v":137390},136977,137387,138405,138448,138077,137941,138633,139116,140338,141246,142242,143353,145307,147741,149723,151594,153739,155764,157457,159308,161567,164112,165953,168115,{"$f":"SUM(BK8:BK9)","v":169974},171816,173272,176697,180569,184187]
[]
[null,null,null,"MYE for  . . . . . .",null,null,null,"Maidstone",null,null,null,null,null,null,null,null,null,null,null,null,null,null,null,null,null,null,null,null,null,null,null,null,null,null,null,null,null,null,null,null,"Cummulative Ages",null,null,null,null,null,null,null,null,null,null,null,null,null,null,null,null,null,null,null,null,null,null,null,null,null,null,null,null,"Population Pyramid"]
[null,null,"Base Year",null,null,null,null,null,null,null,null,null,null,null,null,null,null,null,null,null,null,null,null,null,null,null,null,null,null,null,null,null,null,null,null,null,{"$f":"C14","v":1992},1993,1994,1995,1996,1997,1998,1999,2000,2001,2002,2003,2004,2005,2006,2007,2008,2009,2010,2011,2012,2013,2014,2015,2016,2017,2018,2019,2020,2021,2022,2023]
["Sex","Age",1992,1993,1994,1995,1996,1997,1998,1999,2000,2001,2002,2003,2004,2005,2006,2007,2008,2009,2010,2011,2012,2013,2014,2015,2016,2017,2018,2019,2020,2021,2022,2023,null,null,null,null,null,null,null,null,null,null,null,null,null,null,null,null,null,null,null,null,null,null,null,null,null,null,null,null,null,null,null,null,null,null,null,null,null,null,1992,1993,1994,1995,1996,1997,1998,1999,2000,2001,2002,2003,2004,2005,2006,2007,2008,2009,2010,2011,2012,2013,2014,2015,2016,2017,2018,2019,2020,2021,2022,2023,null,{"$f":"INDEX(CC14:CY14,'Population Pyramid'!$L$1)","v":2020}]
[null,"All persons",{"$f":"SUM(C107,C200)","v":137211},{"$f":"SUM(D107,D200)","v":137390},136977,137387,138405,138448,138077,137941,138633,139116,140338,141246,142242,143353,145307,147741,149723,151594,153739,155764,157457,159308,{"$f":"SUM(Y107,Y200)","v":161567},164112,165953,168115,169974,171816,{"$f":"SUM(AE107,AE200)","v":173272},176697,{"$f":"SUM(AG107,AG200)","v":180569},184187,null,"Males",null,null,null,null,null,null,null,null,null,null,null,null,null,null,null,null,null,null,null,null,null,null,null,null,null,null,null,null,null,null,null,null,null,"Males","All Ages",null,{"$f":"C107","v":67197},67311,67124,67381,68023,67952,67736,67746,68190,68453,68997,69503,69928,70506,71538,72812,73935,74791,75863,76868,77637,78645,79890,81332,82310,83374,84325,85015,85724,87294,89057,90822,null,{"$f":"INDEX(CC15:CY15,'Population Pyramid'!$L$1)","v":85724}]
["male",0,954,932,894,838,875,805,811,866,832,750,763,834,862,869,926,904,936,904,961,1076,1059,1018,980,1041,1028,1035,1068,983,983,1011,1059,1099,null,0,{"$f":"C16","v":954},932,894,838,875,805,811,866,832,750,763,834,862,869,926,904,936,904,961,1076,1059,1018,980,1041,1028,1035,1068,983,983,1011,1059,1099,null,"Males","0-4",null,{"$f":"SUM(C16:C20)","v":4645},4649,4606,4563,4510,4354,4216,4181,4194,4084,4142,4200,4220,4229,4355,4499,4610,4695,4803,5001,5048,5184,5216,5319,5277,5324,5366,5308,5291,5389,5571,5701,null,{"$f":"INDEX(CC16:CY16,'Population Pyramid'!$L$1)","v":5291}]
["male",1,936,941,897,904,832,860,796,824,862,830,788,776,853,860,882,939,940,950,921,1003,1080,1081,1042,1003,1030,1039,1041,1061,1032,1057,1038,1108,null,1,{"$f":"AK16+C17","v":1890},{"$f":"AL16+D17","v":1873},{"$f":"AM16+E17","v":1791},{"$f":"AN16+F17","v":1742},{"$f":"AO16+G17","v":1707},{"$f":"AP16+H17","v":1665},{"$f":"AQ16+I17","v":1607},{"$f":"AR16+J17","v":1690},{"$f":"AS16+K17","v":1694},{"$f":"AT16+L17","v":1580},{"$f":"AU16+M17","v":1551},{"$f":"AV16+N17","v":1610},{"$f":"AW16+O17","v":1715},{"$f":"AX16+P17","v":1729},{"$f":"AY16+Q17","v":1808},{"$f":"AZ16+R17","v":1843},{"$f":"BA16+S17","v":1876},{"$f":"BB16+T17","v":1854},{"$f":"BC16+U17","v":1882},{"$f":"BD16+V17","v":2079},{"$f":"BE16+W17","v":2139},{"$f":"BF16+X17","v":2099},{"$f":"BG16+Y17","v":2022},{"$f":"BH16+Z17","v":2044},{"$f":"BI16+AA17","v":2058},{"$f":"BJ16+AB17","v":2074},{"$f":"BK16+AC17","v":2109},{"$f":"BL16+AD17","v":2044},{"$f":"BM16+AE17","v":2015},{"$f":"BN16+AF17","v":2068},{"$f":"BO16+AG17","v":2097},2207,null,"Males","5-9",null,{"$f":"SUM(C21:C25)","v":4420},4456,4513,4544,4648,4743,4784,4675,4609,4546,4490,4439,4468,4506,4554,4572,4550,4456,4455,4528,4777,4854,4952,5027,5173,5327,5498,5474,5631,5655,5814,5966,null,{"$f":"INDEX(CC17:CY17,'Population Pyramid'!$L$1)","v":5631}]
["male",2,917,948,950,916,917,845,868,802,838,860,846,824,791,862,885,899,960,960,958,944,997,1100,1090,1065,1016,1091,1059,1062,1093,1086,1122,1072,null,2,2807,2821,2741,2658,2624,2510,2475,2492,2532,2440,2397,2434,2506,2591,2693,2742,2836,2814,2840,3023,3136,3199,3112,3109,3074,3165,3168,3106,3108,3154,3219,3279,null,"Males","10-14",null,{"$f":"SUM(C26:C30)","v":4562},4688,4593,4560,4511,4522,4578,4566,4593,4705,4784,4827,4796,4731,4768,4738,4743,4770,4865,4858,4798,4677,4656,4730,4783,4986,5140,5151,5236,5348,5712,5972,null,{"$f":"INDEX(CC18:CY18,'Population Pyramid'!$L$1)","v":5236}]
["male",3,918,922,954,958,934,917,848,848,798,832,883,861,840,781,867,882,906,970,991,977,968,1006,1089,1111,1068,1058,1114,1089,1077,1125,1175,1182,null,3,3725,3743,3695,3616,3558,3427,3323,3340,3330,3272,3280,3295,3346,3372,3560,3624,3742,3784,3831,4000,4104,4205,4201,4220,4142,4223,4282,4195,4185,4279,4394,4461,null,"Males","15-19",null,{"$f":"SUM(C31:C35)","v":4507},4211,4135,4059,4068,4073,4284,4294,4270,4282,4320,4384,4473,4566,4665,4808,4904,4940,4909,4988,4894,4855,4813,4850,4814,4717,4589,4558,4609,4742,4872,5021,null,{"$f":"INDEX(CC19:CY19,'Population Pyramid'!$L$1)","v":4609}]
["male",4,920,906,911,947,952,927,893,841,864,812,862,905,874,857,795,875,868,911,972,1001,944,979,1015,1099,1135,1101,1084,1113,1106,1110,1177,1240,null,4,4645,4649,4606,4563,4510,4354,4216,4181,4194,4084,4142,4200,4220,4229,4355,4499,4610,4695,4803,5001,5048,5184,5216,5319,5277,5324,5366,5308,5291,5389,5571,5701,null,"Males","20-24",null,{"$f":"SUM(C36:C40)","v":4876},4899,4602,4537,4404,4081,3656,3533,3561,3812,3821,3849,3750,3712,3787,3985,4199,4315,4402,4431,4469,4582,4812,4759,4868,4736,4617,4623,4515,4513,4417,4298,null,{"$f":"INDEX(CC20:CY20,'Population Pyramid'!$L$1)","v":4515}]
["male",5,885,919,910,919,960,956,932,901,857,873,829,866,925,891,876,813,889,886,916,976,1012,964,1004,1025,1111,1159,1095,1076,1128,1103,1154,1217,null,5,5530,5568,5516,5482,5470,5310,5148,5082,5051,4957,4971,5066,5145,5120,5231,5312,5499,5581,5719,5977,6060,6148,6220,6344,6388,6483,6461,6384,6419,6492,6725,6918,null,"Males","25-29",null,{"$f":"SUM(C41:C45)","v":5095},5046,5139,5150,5173,5075,4943,4781,4601,4219,4100,4060,4056,4140,4323,4564,4681,4644,4655,4690,4748,4867,5097,5242,5373,5531,5554,5612,5529,5624,5500,5474,null,{"$f":"INDEX(CC21:CY21,'Population Pyramid'!$L$1)","v":5529}]
["male",6,910,885,920,920,931,969,960,907,899,861,887,841,878,935,918,902,817,894,902,920,985,1001,983,1003,1027,1105,1184,1087,1098,1133,1135,1198,null,6,6440,6453,6436,6402,6401,6279,6108,5989,5950,5818,5858,5907,6023,6055,6149,6214,6316,6475,6621,6897,7045,7149,7203,7347,7415,7588,7645,7471,7517,7625,7860,8116,null,"Males","30-34",null,{"$f":"SUM(C46:C50)","v":4896},4967,4954,5024,5173,5229,5205,5168,5143,5008,4995,4903,4774,4678,4550,4465,4301,4476,4607,4770,4907,5041,5084,5289,5307,5509,5621,5789,5849,5981,6187,6317,null,{"$f":"INDEX(CC22:CY22,'Population Pyramid'!$L$1)","v":5849}]
["male",7,878,890,869,908,923,927,969,971,921,904,886,900,860,905,965,927,904,823,905,911,933,991,1009,992,1017,1025,1128,1181,1110,1111,1191,1155,null,7,7318,7343,7305,7310,7324,7206,7077,6960,6871,6722,6744,6807,6883,6960,7114,7141,7220,7298,7526,7808,7978,8140,8212,8339,8432,8613,8773,8652,8627,8736,9051,9271,null,"Males","35-39",null,{"$f":"SUM(C51:C55)","v":4687},4624,4645,4744,4931,4993,4972,5159,5283,5419,5534,5694,5702,5606,5511,5431,5397,5238,5163,4936,4792,4728,4844,4986,5255,5436,5657,5749,5763,5936,6116,6369,null,{"$f":"INDEX(CC23:CY23,'Population Pyramid'!$L$1)","v":5763}]
["male",8,838,897,895,884,925,944,950,972,960,941,929,887,922,856,928,985,933,907,819,915,930,961,989,1009,1010,1020,1031,1113,1170,1118,1144,1217,null,8,8156,8240,8200,8194,8249,8150,8027,7932,7831,7663,7673,7694,7805,7816,8042,8126,8153,8205,8345,8723,8908,9101,9201,9348,9442,9633,9804,9765,9797,9854,10195,10488,null,"Males","40-44",null,{"$f":"SUM(C56:C60)","v":5192},4945,4793,4682,4622,4588,4562,4706,4932,5041,5199,5261,5352,5541,5722,5887,6027,6052,5977,5860,5789,5760,5638,5633,5406,5296,5174,5202,5386,5673,5981,6289,null,{"$f":"INDEX(CC24:CY24,'Population Pyramid'!$L$1)","v":5386}]
["male",9,909,865,919,913,909,947,973,924,972,967,959,945,883,919,867,945,1007,946,913,806,917,937,967,998,1008,1018,1060,1017,1125,1190,1190,1179,null,9,9065,9105,9119,9107,9158,9097,9000,8856,8803,8630,8632,8639,8688,8735,8909,9071,9160,9151,9258,9529,9825,10038,10168,10346,10450,10651,10864,10782,10922,11044,11385,11667,null,"Males","45-49",null,{"$f":"SUM(C61:C65)","v":5351},5592,5545,5543,5501,5070,4816,4682,4629,4611,4602,4678,4857,4993,5137,5314,5424,5587,5804,6019,6082,6119,6228,6216,6148,6087,6099,5901,5791,5697,5652,5656,null,{"$f":"INDEX(CC25:CY25,'Population Pyramid'!$L$1)","v":5791}]
["male",10,889,904,866,923,905,902,942,935,923,973,974,952,951,886,941,878,956,991,952,944,818,916,943,981,1010,1010,1052,1053,1031,1124,1232,1221,null,10,9954,10009,9985,10030,10063,9999,9942,9791,9726,9603,9606,9591,9639,9621,9850,9949,10116,10142,10210,10473,10643,10954,11111,11327,11460,11661,11916,11835,11953,12168,12617,12888,null,"Males","50-54",null,{"$f":"SUM(C66:C70)","v":4063},4172,4341,4535,4797,5274,5493,5452,5470,5392,5029,4746,4609,4521,4531,4607,4787,4923,5107,5245,5458,5545,5694,5888,6086,6152,6281,6371,6293,6329,6310,6336,null,{"$f":"INDEX(CC26:CY26,'Population Pyramid'!$L$1)","v":6293}]
["male",11,964,905,917,887,947,914,917,932,936,950,970,983,963,943,883,979,895,969,998,965,965,838,930,967,985,1036,1034,1045,1087,1039,1176,1264,null,11,10918,10914,10902,10917,11010,10913,10859,10723,10662,10553,10576,10574,10602,10564,10733,10928,11011,11111,11208,11438,11608,11792,12041,12294,12445,12697,12950,12880,13040,13207,13793,14152,null,"Males","55-59",null,{"$f":"SUM(C71:C75)","v":3546},3634,3730,3842,3830,3892,3982,4131,4293,4570,4994,5256,5260,5267,5207,4762,4546,4499,4498,4547,4613,4714,4896,5052,5173,5378,5468,5595,5806,5976,6060,6216,null,{"$f":"INDEX(CC27:CY27,'Population Pyramid'!$L$1)","v":5806}]
["male",12,966,958,895,905,879,935,899,895,943,943,971,961,981,981,971,895,980,911,986,1010,971,965,845,932,973,984,1050,1033,1044,1099,1085,1213,null,12,11884,11872,11797,11822,11889,11848,11758,11618,11605,11496,11547,11535,11583,11545,11704,11823,11991,12022,12194,12448,12579,12757,12886,13226,13418,13681,14000,13913,14084,14306,14878,15365,null,"Males","60-64",null,{"$f":"SUM(C76:C80)","v":3184},3202,3290,3268,3332,3344,3439,3542,3631,3561,3609,3690,3853,4042,4340,4791,5011,5007,5061,4985,4573,4426,4288,4284,4293,4313,4425,4643,4768,4929,5150,5256,null,{"$f":"INDEX(CC28:CY28,'Population Pyramid'!$L$1)","v":4768}]
["male",13,960,970,962,897,905,886,943,893,908,921,939,974,946,979,992,987,900,989,918,1012,1011,949,976,863,949,997,984,1035,1028,1056,1144,1113,null,13,12844,12842,12759,12719,12794,12734,12701,12511,12513,12417,12486,12509,12529,12524,12696,12810,12891,13011,13112,13460,13590,13706,13862,14089,14367,14678,14984,14948,15112,15362,16022,16478,null,"Males","65-69",null,{"$f":"SUM(C81:C85)","v":2731},2660,2657,2736,2808,2874,2899,2924,2913,2975,3028,3129,3230,3311,3231,3303,3421,3628,3805,4123,4552,4759,4797,4840,4741,4340,4147,4041,4033,4111,4153,4265,null,{"$f":"INDEX(CC29:CY29,'Population Pyramid'!$L$1)","v":4033}]
["male",14,783,951,953,948,875,885,877,911,883,918,930,957,955,942,981,999,1012,910,1011,927,1033,1009,962,987,866,959,1020,985,1046,1030,1075,1161,null,14,13627,13793,13712,13667,13669,13619,13578,13422,13396,13335,13416,13466,13484,13466,13677,13809,13903,13921,14123,14387,14623,14715,14824,15076,15233,15637,16004,15933,16158,16392,17097,17639,null,"Males","70-74",null,{"$f":"SUM(C86:C90)","v":2279},2437,2456,2300,2293,2278,2250,2284,2377,2457,2523,2521,2556,2558,2624,2683,2825,2905,2980,2930,3015,3189,3330,3510,3777,4211,4476,4477,4467,4347,4032,3867,null,{"$f":"INDEX(CC30:CY30,'Population Pyramid'!$L$1)","v":4467}]
["male",15,846,782,949,961,942,881,896,878,912,888,935,930,958,987,958,1008,1033,1033,943,1035,929,1034,1013,982,989,868,962,1022,1027,1041,1051,1085,null,15,14473,14575,14661,14628,14611,14500,14474,14300,14308,14223,14351,14396,14442,14453,14635,14817,14936,14954,15066,15422,15552,15749,15837,16058,16222,16505,16966,16955,17185,17433,18148,18724,null,"Males","75-79",null,{"$f":"SUM(C91:C95)","v":1673},1528,1496,1636,1722,1802,1903,1900,1822,1814,1827,1807,1851,1936,2034,2108,2123,2205,2197,2296,2328,2472,2575,2631,2590,2674,2769,2906,3071,3292,3699,3903,null,{"$f":"INDEX(CC31:CY31,'Population Pyramid'!$L$1)","v":3071}]
["male",16,888,828,766,938,936,926,869,901,879,930,908,948,940,974,996,978,1032,1035,1055,960,1044,927,1038,1043,983,969,864,974,1023,1041,1047,1063,null,16,15361,15403,15427,15566,15547,15426,15343,15201,15187,15153,15259,15344,15382,15427,15631,15795,15968,15989,16121,16382,16596,16676,16875,17101,17205,17474,17830,17929,18208,18474,19195,19787,null,"Males","80-84",null,{"$f":"SUM(C96:C100)","v":994},1091,1099,1102,1142,1140,1077,1056,1121,1207,1240,1312,1324,1300,1268,1308,1321,1400,1464,1548,1648,1701,1726,1757,1839,1872,1956,2047,2066,2040,2109,2152,null,{"$f":"INDEX(CC32:CY32,'Population Pyramid'!$L$1)","v":2066}]
["male",17,948,867,818,765,920,928,922,900,883,893,929,909,951,955,1012,1018,1001,1044,1072,1105,983,1047,933,1053,1060,1010,968,872,963,1022,1068,1067,null,17,16309,16270,16245,16331,16467,16354,16265,16101,16070,16046,16188,16253,16333,16382,16643,16813,16969,17033,17193,17487,17579,17723,17808,18154,18265,18484,18798,18801,19171,19496,20263,20854,null,"Males","85+",null,{"$f":"SUM(C101:C106)","v":496},510,530,556,558,620,677,712,748,750,760,747,797,869,931,987,1065,1051,1111,1113,1146,1172,1244,1319,1407,1485,1488,1568,1620,1712,1722,1764,null,{"$f":"INDEX(CC33:CY33,'Population Pyramid'!$L$1)","v":1620}]
["male",18,911,925,823,753,693,841,880,891,856,848,865,904,896,930,937,1017,1015,983,1025,1047,1097,962,1034,921,1040,1041,978,946,852,947,990,1057,null,18,17220,17195,17068,17084,17160,17195,17145,16992,16926,16894,17053,17157,17229,17312,17580,17830,17984,18016,18218,18534,18676,18685,18842,19075,19305,19525,19776,19747,20023,20443,21253,21911]
["male",19,914,809,779,642,577,497,717,724,740,723,683,693,728,720,762,787,823,845,814,841,841,885,795,851,742,829,817,744,744,691,716,749,null,19,18134,18004,17847,17726,17737,17692,17862,17716,17666,17617,17736,17850,17957,18032,18342,18617,18807,18861,19032,19375,19517,19570,19637,19926,20047,20354,20593,20491,20767,21134,21969,22660,null,"Males","All Ages",null,{"$f":"C200","v":70014},70079,69853,70006,70382,70496,70341,70195,70443,70663,71341,71743,72314,72847,73769,74929,75788,76803,77876,78896,79820,80663,81677,82780,83643,84741,85649,86801,87548,89403,91512,93365,null,{"$f":"INDEX(CC35:CY35,'Population Pyramid'!$L$1)","v":87548}]
["male",20,957,966,770,747,632,577,553,731,745,783,646,594,619,673,730,751,772,792,788,765,819,833,876,760,806,724,786,800,714,738,648,658,null,20,19091,18970,18617,18473,18369,18269,18415,18447,18411,18400,18382,18444,18576,18705,19072,19368,19579,19653,19820,20140,20336,20403,20513,20686,20853,21078,21379,21291,21481,21872,22617,23318,null,"Females","0-4",null,{"$f":"SUM(C109:C113)","v":4311},4279,4197,4163,4146,4153,4077,4003,3979,3901,3974,3995,4065,4043,4014,4139,4213,4282,4477,4663,4731,4741,4736,4843,4796,4976,5015,5052,4949,5062,5190,5149,null,{"$f":"INDEX(CC36:CY36,'Population Pyramid'!$L$1)","v":4949}]
["male",21,973,969,864,774,768,657,611,567,681,774,807,692,620,631,725,793,819,815,794,818,825,891,932,944,840,891,781,883,859,813,809,717,null,21,20064,19939,19481,19247,19137,18926,19026,19014,19092,19174,19189,19136,19196,19336,19797,20161,20398,20468,20614,20958,21161,21294,21445,21630,21693,21969,22160,22174,22340,22685,23426,24035,null,"Females","5-9",null,{"$f":"SUM(C114:C118)","v":4095},4109,4123,4159,4217,4236,4210,4226,4209,4182,4268,4250,4179,4196,4264,4227,4238,4271,4250,4268,4371,4504,4584,4684,4865,4894,4947,4979,5128,5183,5515,5670,null,{"$f":"INDEX(CC37:CY37,'Population Pyramid'!$L$1)","v":5128}]
["male",22,981,1023,975,967,901,864,706,721,683,786,821,867,727,698,727,813,877,888,892,883,912,913,994,984,1015,931,967,832,948,970,889,902,null,22,21045,20962,20456,20214,20038,19790,19732,19735,19775,19960,20010,20003,19923,20034,20524,20974,21275,21356,21506,21841,22073,22207,22439,22614,22708,22900,23127,23006,23288,23655,24315,24937,null,"Females","10-14",null,{"$f":"SUM(C119:C123)","v":4255},4303,4234,4268,4197,4161,4180,4115,4134,4198,4271,4333,4376,4341,4376,4473,4510,4466,4505,4545,4459,4431,4474,4460,4460,4519,4686,4774,4915,5134,5382,5594,null,{"$f":"INDEX(CC38:CY38,'Population Pyramid'!$L$1)","v":4915}]
["male",23,1028,984,1034,1062,1079,974,894,713,772,716,812,865,912,775,790,814,862,927,961,963,943,969,972,1073,1078,1111,1008,1085,914,1038,1019,1002,null,23,22073,21946,21490,21276,21117,20764,20626,20448,20547,20676,20822,20868,20835,20809,21314,21788,22137,22283,22467,22804,23016,23176,23411,23687,23786,24011,24135,24091,24202,24693,25334,25939,null,"Females","15-19",null,{"$f":"SUM(C124:C128)","v":4278},4138,4081,3952,3965,4000,4140,4035,3994,3958,3877,3919,3970,4075,4154,4299,4338,4406,4377,4417,4486,4423,4379,4454,4441,4417,4360,4376,4368,4398,4444,4629,null,{"$f":"INDEX(CC39:CY39,'Population Pyramid'!$L$1)","v":4368}]
["male",24,937,957,959,987,1024,1009,892,801,680,753,735,831,872,935,815,814,869,893,967,1002,970,976,1038,998,1129,1079,1075,1023,1080,954,1052,1019,null,24,23010,22903,22449,22263,22141,21773,21518,21249,21227,21429,21557,21699,21707,21744,22129,22602,23006,23176,23434,23806,23986,24152,24449,24685,24915,25090,25210,25114,25282,25647,26386,26958,null,"Females","20-24",null,{"$f":"SUM(C129:C133)","v":4554},4414,4162,4033,3879,3636,3311,3424,3442,3535,3652,3663,3677,3790,3920,4018,4024,4086,4170,4106,4297,4333,4450,4396,4416,4409,4348,4324,4316,4259,4092,3878,null,{"$f":"INDEX(CC40:CY40,'Population Pyramid'!$L$1)","v":4316}]
["male",25,1009,983,1036,1015,1078,1089,1038,914,826,749,773,750,834,886,948,871,842,866,933,981,999,996,1022,1083,1032,1134,1079,1098,1014,1080,949,1070,null,25,24019,23886,23485,23278,23219,22862,22556,22163,22053,22178,22330,22449,22541,22630,23077,23473,23848,24042,24367,24787,24985,25148,25471,25768,25947,26224,26289,26212,26296,26727,27335,28028,null,"Females","25-29",null,{"$f":"SUM(C134:C138)","v":5136},5012,4996,4951,4913,4934,4827,4671,4549,4355,4168,4102,4127,4152,4302,4502,4705,4829,4961,5020,5019,5010,5109,5200,5297,5507,5531,5573,5455,5588,5714,5846,null,{"$f":"INDEX(CC41:CY41,'Population Pyramid'!$L$1)","v":5455}]
["male",26,1088,1021,1010,1034,1026,1031,1050,956,847,779,752,807,776,828,922,1002,901,877,870,955,988,1022,1021,1032,1081,1047,1143,1095,1087,1030,1102,967,null,26,25107,24907,24495,24312,24245,23893,23606,23119,22900,22957,23082,23256,23317,23458,23999,24475,24749,24919,25237,25742,25973,26170,26492,26800,27028,27271,27432,27307,27383,27757,28437,28995,null,"Females","30-34",null,{"$f":"SUM(C139:C143)","v":4902},4948,5009,5218,5425,5392,5315,5334,5285,5202,5271,5145,5052,4913,4773,4616,4576,4642,4719,4917,5019,5182,5283,5389,5459,5584,5690,5927,6059,6340,6527,6665,null,{"$f":"INDEX(CC42:CY42,'Population Pyramid'!$L$1)","v":6059}]
["male",27,1049,1080,1034,1012,1050,1022,998,1028,980,867,793,780,814,767,846,966,1013,895,902,881,931,1007,1045,1034,1092,1102,1048,1148,1147,1133,1074,1147,null,27,26156,25987,25529,25324,25295,24915,24604,24147,23880,23824,23875,24036,24131,24225,24845,25441,25762,25814,26139,26623,26904,27177,27537,27834,28120,28373,28480,28455,28530,28890,29511,30142,null,"Females","35-39",null,{"$f":"SUM(C144:C148)","v":4788},4862,4922,4861,4931,5009,5052,5117,5369,5561,5619,5696,5706,5676,5644,5665,5574,5488,5419,5198,5044,5008,5038,5121,5255,5437,5713,5838,5939,6110,6459,6841,null,{"$f":"INDEX(CC43:CY43,'Population Pyramid'!$L$1)","v":5939}]
["male",28,970,994,1036,1007,964,940,914,962,939,877,886,827,806,834,783,915,986,994,930,929,879,952,1022,1067,1078,1149,1146,1104,1150,1184,1155,1114,null,28,27126,26981,26565,26331,26259,25855,25518,25109,24819,24701,24761,24863,24937,25059,25628,26356,26748,26808,27069,27552,27783,28129,28559,28901,29198,29522,29626,29559,29680,30074,30666,31256,null,"Females","40-44",null,{"$f":"SUM(C149:C153)","v":5380},5174,4934,4894,4878,4862,4931,4913,4905,4964,5134,5214,5352,5510,5787,5940,6003,6029,6014,5991,5961,5911,5818,5767,5584,5426,5314,5374,5442,5744,6053,6404,null,{"$f":"INDEX(CC44:CY44,'Population Pyramid'!$L$1)","v":5442}]
["male",29,979,968,1023,1082,1055,993,943,921,1009,947,896,896,826,825,824,810,939,1012,1020,944,951,890,987,1026,1090,1099,1138,1167,1131,1197,1220,1176,null,29,28105,27949,27588,27413,27314,26848,26461,26030,25828,25648,25657,25759,25763,25884,26452,27166,27687,27820,28089,28496,28734,29019,29546,29927,30288,30621,30764,30726,30811,31271,31886,32432,null,"Females","45-49",null,{"$f":"SUM(C154:C158)","v":5341},5559,5742,5769,5720,5356,5122,4877,4834,4833,4791,4866,4942,4979,5079,5232,5369,5564,5727,5967,6086,6170,6183,6144,6168,6181,6115,6038,6023,5914,5800,5759,null,{"$f":"INDEX(CC45:CY45,'Population Pyramid'!$L$1)","v":6023}]
["male",30,959,957,959,1017,1084,1038,958,934,912,974,937,913,902,843,832,837,823,973,1042,1050,957,1004,929,1038,1034,1098,1156,1163,1139,1162,1246,1279,null,30,29064,28906,28547,28430,28398,27886,27419,26964,26740,26622,26594,26672,26665,26727,27284,28003,28510,28793,29131,29546,29691,30023,30475,30965,31322,31719,31920,31889,31950,32433,33132,33711,null,"Females","50-54",null,{"$f":"SUM(C159:C163)","v":4035},4154,4273,4421,4691,5208,5485,5573,5587,5475,5154,4902,4752,4715,4759,4742,4836,4941,5005,5143,5274,5446,5663,5943,6094,6186,6224,6284,6199,6217,6319,6401,null,{"$f":"INDEX(CC46:CY46,'Population Pyramid'!$L$1)","v":6199}]
["male",31,995,983,984,993,1064,1114,1065,993,1010,954,981,939,923,905,871,817,816,851,968,1005,1049,960,1028,1005,1105,1121,1124,1203,1158,1189,1198,1317,null,31,30059,29889,29531,29423,29462,29000,28484,27957,27750,27576,27575,27611,27588,27632,28155,28820,29326,29644,30099,30551,30740,30983,31503,31970,32427,32840,33044,33092,33108,33622,34330,35028,null,"Females","55-59",null,{"$f":"SUM(C164:C168)","v":3539},3635,3756,3835,3892,3960,4041,4098,4183,4419,4909,5155,5315,5394,5355,5042,4818,4673,4637,4663,4695,4828,4928,5011,5176,5263,5449,5633,5876,6057,6147,6246,null,{"$f":"INDEX(CC47:CY47,'Population Pyramid'!$L$1)","v":5876}]
["male",32,990,995,972,975,983,1045,1100,1057,990,955,1000,1016,932,961,930,898,830,854,879,983,1014,1061,1005,1073,1042,1125,1120,1133,1229,1162,1222,1210,null,32,31049,30884,30503,30398,30445,30045,29584,29014,28740,28531,28575,28627,28520,28593,29085,29718,30156,30498,30978,31534,31754,32044,32508,33043,33469,33965,34164,34225,34337,34784,35552,36238,null,"Females","60-64",null,{"$f":"SUM(C169:C173)","v":3287},3303,3302,3297,3309,3373,3442,3539,3626,3673,3712,3816,3914,4017,4215,4712,4949,5107,5211,5160,4893,4715,4586,4567,4548,4612,4715,4812,4891,5064,5202,5350,null,{"$f":"INDEX(CC48:CY48,'Population Pyramid'!$L$1)","v":4891}]
["male",33,1033,1040,1041,1036,1050,1053,1102,1129,1110,1068,991,1017,1020,937,976,926,917,864,852,878,996,1015,1078,1049,1067,1060,1134,1152,1158,1303,1206,1279,null,33,{"$f":"AK48+C49","v":32082},{"$f":"AL48+D49","v":31924},{"$f":"AM48+E49","v":31544},{"$f":"AN48+F49","v":31434},{"$f":"AO48+G49","v":31495},{"$f":"AP48+H49","v":31098},{"$f":"AQ48+I49","v":30686},{"$f":"AR48+J49","v":30143},{"$f":"AS48+K49","v":29850},{"$f":"AT48+L49","v":29599},{"$f":"AU48+M49","v":29566},{"$f":"AV48+N49","v":29644},{"$f":"AW48+O49","v":29540},{"$f":"AX48+P49","v":29530},{"$f":"AY48+Q49","v":30061},{"$f":"AZ48+R49","v":30644},{"$f":"BA48+S49","v":31073},{"$f":"BB48+T49","v":31362},{"$f":"BC48+U49","v":31830},{"$f":"BD48+V49","v":32412},{"$f":"BE48+W49","v":32750},{"$f":"BF48+X49","v":33059},{"$f":"BG48+Y49","v":33586},{"$f":"BH48+Z49","v":34092},{"$f":"BI48+AA49","v":34536},{"$f":"BJ48+AB49","v":35025},{"$f":"BK48+AC49","v":35298},{"$f":"BL48+AD49","v":35377},{"$f":"BM48+AE49","v":35495},{"$f":"BN48+AF49","v":36087},{"$f":"BO48+AG49","v":36758},37517,null,"Females","65-69",null,{"$f":"SUM(C174:C178)","v":3107},3055,3020,3067,3078,3091,3130,3145,3158,3121,3178,3248,3364,3481,3510,3533,3624,3739,3844,4101,4586,4798,4962,5085,5053,4733,4556,4417,4375,4446,4527,4602,null,{"$f":"INDEX(CC49:CY49,'Population Pyramid'!$L$1)","v":4375}]
["male",34,919,992,998,1003,992,979,980,1055,1121,1057,1086,1018,997,1032,941,987,915,934,866,854,891,1001,1044,1124,1059,1105,1087,1138,1165,1165,1315,1232,null,34,33001,32916,32542,32437,32487,32077,31666,31198,30971,30656,30652,30662,30537,30562,31002,31631,31988,32296,32696,33266,33641,34060,34630,35216,35595,36130,36385,36515,36660,37252,38073,38749,null,"Females","70-74",null,{"$f":"SUM(C179:C183)","v":3045},3229,3286,3104,2993,2860,2803,2788,2806,2843,2878,2920,2942,2977,2948,2989,3081,3196,3290,3339,3361,3484,3598,3670,3884,4379,4613,4772,4891,4873,4570,4372,null,{"$f":"INDEX(CC50:CY50,'Population Pyramid'!$L$1)","v":4891}]
["male",35,922,919,978,1001,1017,987,957,1057,1074,1130,1094,1100,1048,1024,1042,991,1004,937,967,897,871,908,1040,1079,1160,1078,1136,1137,1157,1192,1180,1324,null,35,33923,33835,33520,33438,33504,33064,32623,32255,32045,31786,31746,31762,31585,31586,32044,32622,32992,33233,33663,34163,34512,34968,35670,36295,36755,37208,37521,37652,37817,38444,39253,40073,null,"Females","75-79",null,{"$f":"SUM(C184:C188)","v":2470},2304,2215,2351,2492,2622,2754,2801,2705,2610,2533,2497,2506,2525,2587,2681,2694,2726,2739,2762,2834,2889,3001,3060,3069,3085,3186,3307,3372,3589,4017,4260,null,{"$f":"INDEX(CC51:CY51,'Population Pyramid'!$L$1)","v":3372}]
["male",36,902,923,910,990,1024,1016,976,1019,1099,1108,1154,1122,1131,1074,1048,1071,1014,1012,963,969,883,902,922,1037,1114,1175,1123,1154,1118,1229,1233,1220,null,36,34825,34758,34430,34428,34528,34080,33599,33274,33144,32894,32900,32884,32716,32660,33092,33693,34006,34245,34626,35132,35395,35870,36592,37332,37869,38383,38644,38806,38935,39673,40486,41293,null,"Females","80-84",null,{"$f":"SUM(C189:C193)","v":1944},1976,1942,1973,1928,1858,1720,1657,1767,1906,2041,2181,2207,2158,2058,2027,2053,2075,2173,2226,2295,2321,2347,2387,2437,2475,2511,2575,2593,2597,2619,2726,null,{"$f":"INDEX(CC52:CY52,'Population Pyramid'!$L$1)","v":2593}]
["male",37,939,884,908,900,979,999,984,1018,1012,1105,1129,1188,1148,1143,1095,1084,1123,1025,1030,972,999,906,929,938,1053,1131,1172,1123,1162,1156,1290,1260,null,37,35764,35642,35338,35328,35507,35079,34583,34292,34156,33999,34029,34072,33864,33803,34187,34777,35129,35270,35656,36104,36394,36776,37521,38270,38922,39514,39816,39929,40097,40829,41776,42553,null,"Females","85+",null,{"$f":"SUM(C194:C199)","v":1547},1625,1659,1690,1728,1785,1801,1879,1911,1927,1911,1841,1868,1905,2024,2092,2183,2283,2358,2410,2409,2469,2538,2599,2641,2658,2676,2746,2757,2828,2935,2973,null,{"$f":"INDEX(CC53:CY53,'Population Pyramid'!$L$1)","v":2757}]
["male",38,952,961,910,950,978,1039,1048,1042,1079,1032,1115,1157,1199,1148,1153,1136,1100,1156,1045,1048,973,1006,932,966,949,1071,1157,1162,1154,1178,1189,1341,null,38,36716,36603,36248,36278,36485,36118,35631,35334,35235,35031,35144,35229,35063,34951,35340,35913,36229,36426,36701,37152,37367,37782,38453,39236,39871,40585,40973,41091,41251,42007,42965,43894]
["male",39,972,937,939,903,933,952,1007,1023,1019,1044,1042,1127,1176,1217,1173,1149,1156,1108,1158,1050,1066,1006,1021,966,979,981,1069,1173,1172,1181,1224,1224,null,39,37688,37540,37187,37181,37418,37070,36638,36357,36254,36075,36186,36356,36239,36168,36513,37062,37385,37534,37859,38202,38433,38788,39474,40202,40850,41566,42042,42264,42423,43188,44189,45118]
["male",40,942,934,899,906,886,912,933,986,1048,1033,1061,1050,1104,1173,1239,1204,1169,1150,1123,1171,1076,1076,1047,1051,972,986,993,1087,1176,1210,1205,1252,null,40,38630,38474,38086,38087,38304,37982,37571,37343,37302,37108,37247,37406,37343,37341,37752,38266,38554,38684,38982,39373,39509,39864,40521,41253,41822,42552,43035,43351,43599,44398,45394,46370]
["male",41,985,955,953,908,930,907,921,971,1024,1043,1042,1067,1081,1126,1190,1245,1204,1181,1169,1126,1172,1109,1097,1083,1022,998,1002,1018,1089,1205,1249,1234,null,41,39615,39429,39039,38995,39234,38889,38492,38314,38326,38151,38289,38473,38424,38467,38942,39511,39758,39865,40151,40499,40681,40973,41618,42336,42844,43550,44037,44369,44688,45603,46643,47604]
["male",42,1020,978,943,948,908,919,903,925,977,1026,1047,1034,1081,1078,1107,1196,1261,1205,1177,1177,1145,1200,1126,1137,1105,1035,1027,1004,1038,1131,1246,1295,null,42,40635,40407,39982,39943,40142,39808,39395,39239,39303,39177,39336,39507,39505,39545,40049,40707,41019,41070,41328,41676,41826,42173,42744,43473,43949,44585,45064,45373,45726,46734,47889,48899]
["male",43,1066,1016,980,938,949,901,910,913,951,985,1042,1059,1028,1119,1082,1147,1229,1280,1227,1171,1205,1158,1205,1144,1161,1103,1054,1049,1020,1064,1177,1280,null,43,41701,41423,40962,40881,41091,40709,40305,40152,40254,40162,40378,40566,40533,40664,41131,41854,42248,42350,42555,42847,43031,43331,43949,44617,45110,45688,46118,46422,46746,47798,49066,50179]
["male",44,1179,1062,1018,982,949,949,895,911,932,954,1007,1051,1058,1045,1104,1095,1164,1236,1281,1215,1191,1217,1163,1218,1146,1174,1098,1044,1063,1063,1104,1228,null,44,42880,42485,41980,41863,42040,41658,41200,41063,41186,41116,41385,41617,41591,41709,42235,42949,43412,43586,43836,44062,44222,44548,45112,45835,46256,46862,47216,47466,47809,48861,50170,51407]
["male",45,1370,1169,1043,1012,980,930,937,892,908,941,947,1007,1054,1059,1053,1086,1076,1178,1269,1295,1232,1193,1234,1169,1212,1158,1172,1091,1075,1091,1082,1118,null,45,44250,43654,43023,42875,43020,42588,42137,41955,42094,42057,42332,42624,42645,42768,43288,44035,44488,44764,45105,45357,45454,45741,46346,47004,47468,48020,48388,48557,48884,49952,51252,52525]
["male",46,1036,1354,1136,1023,1013,962,904,910,908,904,941,933,1014,1043,1074,1068,1113,1078,1183,1274,1286,1221,1209,1264,1175,1216,1173,1190,1097,1077,1101,1091,null,46,45286,45008,44159,43898,44033,43550,43041,42865,43002,42961,43273,43557,43659,43811,44362,45103,45601,45842,46288,46631,46740,46962,47555,48268,48643,49236,49561,49747,49981,51029,52353,53616]
["male",47,1007,1036,1339,1134,1032,1005,955,933,920,906,905,933,933,1020,1057,1078,1077,1147,1104,1177,1269,1285,1235,1219,1289,1186,1248,1183,1185,1124,1096,1136,null,47,46293,46044,45498,45032,45065,44555,43996,43798,43922,43867,44178,44490,44592,44831,45419,46181,46678,46989,47392,47808,48009,48247,48790,49487,49932,50422,50809,50930,51166,52153,53449,54752]
["male",48,1031,1005,1031,1343,1142,1027,1004,961,935,929,896,916,941,935,1020,1063,1094,1081,1151,1116,1190,1248,1291,1243,1239,1292,1198,1241,1187,1208,1169,1127,null,48,47324,47049,46529,46375,46207,45582,45000,44759,44857,44796,45074,45406,45533,45766,46439,47244,47772,48070,48543,48924,49199,49495,50081,50730,51171,51714,52007,52171,52353,53361,54618,55879]
["male",49,907,1028,996,1031,1334,1146,1016,986,958,931,913,889,915,936,933,1019,1064,1103,1097,1157,1105,1172,1259,1321,1233,1235,1308,1196,1247,1197,1204,1184,null,49,48231,48077,47525,47406,47541,46728,46016,45745,45815,45727,45987,46295,46448,46702,47372,48263,48836,49173,49640,50081,50304,50667,51340,52051,52404,52949,53315,53367,53600,54558,55822,57063]
["male",50,887,906,1027,989,1041,1333,1137,1005,984,970,932,908,888,910,945,944,1027,1060,1095,1113,1166,1099,1187,1278,1312,1243,1243,1303,1219,1254,1193,1221,null,50,49118,48983,48552,48395,48582,48061,47153,46750,46799,46697,46919,47203,47336,47612,48317,49207,49863,50233,50735,51194,51470,51766,52527,53329,53716,54192,54558,54670,54819,55812,57015,58284]
["male",51,772,883,907,1032,992,1051,1330,1146,1006,992,966,924,896,890,904,948,961,1020,1058,1092,1127,1178,1115,1186,1276,1309,1254,1247,1299,1232,1280,1224,null,51,49890,49866,49459,49427,49574,49112,48483,47896,47805,47689,47885,48127,48232,48502,49221,50155,50824,51253,51793,52286,52597,52944,53642,54515,54992,55501,55812,55917,56118,57044,58295,59508]
["male",52,784,767,864,893,1027,980,1040,1316,1151,1002,987,948,912,885,889,916,973,953,1034,1068,1083,1116,1189,1105,1192,1275,1315,1243,1238,1324,1220,1300,null,52,50674,50633,50323,50320,50601,50092,49523,49212,48956,48691,48872,49075,49144,49387,50110,51071,51797,52206,52827,53354,53680,54060,54831,55620,56184,56776,57127,57160,57356,58368,59515,60808]
["male",53,839,779,765,854,886,1029,970,1030,1304,1144,991,973,946,912,892,895,916,965,957,1019,1060,1083,1115,1196,1117,1190,1273,1306,1242,1258,1330,1242,null,53,51513,51412,51088,51174,51487,51121,50493,50242,50260,49835,49863,50048,50090,50299,51002,51966,52713,53171,53784,54373,54740,55143,55946,56816,57301,57966,58400,58466,58598,59626,60845,62050]
["male",54,781,837,778,767,851,881,1016,955,1025,1284,1153,993,967,924,901,904,910,925,963,953,1022,1069,1088,1123,1189,1135,1196,1272,1295,1261,1287,1349,null,54,52294,52249,51866,51941,52338,52002,51509,51197,51285,51119,51016,51041,51057,51223,51903,52870,53623,54096,54747,55326,55762,56212,57034,57939,58490,59101,59596,59738,59893,60887,62132,63399]
["male",55,762,771,829,774,760,838,873,998,944,1016,1286,1125,989,949,922,886,897,912,928,969,950,1028,1075,1089,1098,1166,1129,1213,1256,1267,1243,1247,null,55,53056,53020,52695,52715,53098,52840,52382,52195,52229,52135,52302,52166,52046,52172,52825,53756,54520,55008,55675,56295,56712,57240,58109,59028,59588,60267,60725,60951,61149,62154,63375,64646]
["male",56,767,744,752,817,767,745,822,869,990,938,994,1278,1120,988,958,916,886,911,899,923,962,937,1025,1063,1081,1099,1170,1131,1198,1234,1282,1254,null,56,53823,53764,53447,53532,53865,53585,53204,53064,53219,53073,53296,53444,53166,53160,53783,54672,55406,55919,56574,57218,57674,58177,59134,60091,60669,61366,61895,62082,62347,63388,64657,65900]
["male",57,659,758,743,754,805,754,737,827,854,973,919,983,1269,1099,968,940,882,876,914,882,926,958,930,1030,1062,1040,1083,1163,1142,1196,1234,1288,null,57,54482,54522,54190,54286,54670,54339,53941,53891,54073,54046,54215,54427,54435,54259,54751,55612,56288,56795,57488,58100,58600,59135,60064,61121,61731,62406,62978,63245,63489,64584,65891,67188]
["male",58,728,656,758,749,753,806,754,695,808,847,963,916,970,1275,1082,949,929,879,883,913,871,931,938,942,1014,1067,1027,1059,1155,1131,1201,1225,null,58,55210,55178,54948,55035,55423,55145,54695,54586,54881,54893,55178,55343,55405,55534,55833,56561,57217,57674,58371,59013,59471,60066,61002,62063,62745,63473,64005,64304,64644,65715,67092,68413]
["male",59,630,705,648,748,745,749,796,742,697,796,832,954,912,956,1277,1071,952,921,874,860,904,860,928,928,918,1006,1059,1029,1055,1148,1100,1202,null,59,55840,55883,55596,55783,56168,55894,55491,55328,55578,55689,56010,56297,56317,56490,57110,57632,58169,58595,59245,59873,60375,60926,61930,62991,63663,64479,65064,65333,65699,66863,68192,69615]
["male",60,719,630,704,649,749,738,747,778,739,680,789,835,939,913,953,1248,1062,944,918,877,861,882,852,910,923,896,985,1037,1018,1057,1124,1082,null,60,56559,56513,56300,56432,56917,56632,56238,56106,56317,56369,56799,57132,57256,57403,58063,58880,59231,59539,60163,60750,61236,61808,62782,63901,64586,65375,66049,66370,66717,67920,69316,70697]
["male",61,670,706,614,676,639,729,723,732,768,736,660,775,823,929,895,956,1241,1052,942,908,872,857,850,845,897,895,884,973,1044,1028,1060,1108,null,61,57229,57219,56914,57108,57556,57361,56961,56838,57085,57105,57459,57907,58079,58332,58958,59836,60472,60591,61105,61658,62108,62665,63632,64746,65483,66270,66933,67343,67761,68948,70376,71805]
["male",62,651,672,698,611,674,640,721,718,719,740,726,657,764,811,923,893,941,1229,1056,937,900,868,858,845,831,886,882,886,959,1048,1024,1048,null,62,57880,57891,57612,57719,58230,58001,57682,57556,57804,57845,58185,58564,58843,59143,59881,60729,61413,61820,62161,62595,63008,63533,64490,65591,66314,67156,67815,68229,68720,69996,71400,72853]
["male",63,572,641,662,690,605,654,625,698,712,705,730,703,636,766,807,903,874,929,1226,1043,925,887,850,842,816,812,872,882,873,942,1024,1017,null,63,58452,58532,58274,58409,58835,58655,58307,58254,58516,58550,58915,59267,59479,59909,60688,61632,62287,62749,63387,63638,63933,64420,65340,66433,67130,67968,68687,69111,69593,70938,72424,73870]
["male",64,572,553,612,642,665,583,623,616,693,700,704,720,691,623,762,791,893,853,919,1220,1015,932,878,842,826,824,802,865,874,854,918,1001,null,64,59024,59085,58886,59051,59500,59238,58930,58870,59209,59250,59619,59987,60170,60532,61450,62423,63180,63602,64306,64858,64948,65352,66218,67275,67956,68792,69489,69976,70467,71792,73342,74871]
["male",65,573,553,555,598,637,649,570,616,609,681,681,687,707,677,606,757,795,894,850,912,1203,1009,932,877,828,825,833,788,855,865,854,935,null,65,{"$f":"AK80+C81","v":59597},{"$f":"AL80+D81","v":59638},{"$f":"AM80+E81","v":59441},{"$f":"AN80+F81","v":59649},{"$f":"AO80+G81","v":60137},{"$f":"AP80+H81","v":59887},{"$f":"AQ80+I81","v":59500},{"$f":"AR80+J81","v":59486},{"$f":"AS80+K81","v":59818},{"$f":"AT80+L81","v":59931},{"$f":"AU80+M81","v":60300},{"$f":"AV80+N81","v":60674},{"$f":"AW80+O81","v":60877},{"$f":"AX80+P81","v":61209},{"$f":"AY80+Q81","v":62056},{"$f":"AZ80+R81","v":63180},{"$f":"BA80+S81","v":63975},{"$f":"BB80+T81","v":64496},{"$f":"BC80+U81","v":65156},{"$f":"BD80+V81","v":65770},{"$f":"BE80+W81","v":66151},{"$f":"BF80+X81","v":66361},{"$f":"BG80+Y81","v":67150},{"$f":"BH80+Z81","v":68152},{"$f":"BI80+AA81","v":68784},{"$f":"BJ80+AB81","v":69617},{"$f":"BK80+AC81","v":70322},{"$f":"BL80+AD81","v":70764},{"$f":"BM80+AE81","v":71322},{"$f":"BN80+AF81","v":72657},{"$f":"BO80+AG81","v":74196},75806]
["male",66,591,561,538,553,590,627,632,558,599,598,674,661,674,699,659,588,749,783,880,840,912,1194,995,918,863,808,822,832,792,855,868,860,null,66,60188,60199,59979,60202,60727,60514,60132,60044,60417,60529,60974,61335,61551,61908,62715,63768,64724,65279,66036,66610,67063,67555,68145,69070,69647,70425,71144,71596,72114,73512,75064,76666]
["male",67,495,566,545,523,536,574,613,603,541,585,574,658,646,662,686,648,587,742,768,874,826,913,1187,988,899,852,787,801,813,788,862,876,null,67,60683,60765,60524,60725,61263,61088,60745,60647,60958,61114,61548,61993,62197,62570,63401,64416,65311,66021,66804,67484,67889,68468,69332,70058,70546,71277,71931,72397,72927,74300,75926,77542]
["male",68,528,476,545,536,516,521,565,597,589,533,581,557,649,637,654,669,637,582,728,769,850,817,879,1172,976,886,846,793,794,810,763,850,null,68,61211,61241,61069,61261,61779,61609,61310,61244,61547,61647,62129,62550,62846,63207,64055,65085,65948,66603,67532,68253,68739,69285,70211,71230,71522,72163,72777,73190,73721,75110,76689,78392]
["male",69,544,504,474,526,529,503,519,550,575,578,518,566,554,636,626,641,653,627,579,728,761,826,804,885,1175,969,859,827,779,793,806,744,null,69,61755,61745,61543,61787,62308,62112,61829,61794,62122,62225,62647,63116,63400,63843,64681,65726,66601,67230,68111,68981,69500,70111,71015,72115,72697,73132,73636,74017,74500,75903,77495,79136]
["male",70,535,521,484,456,506,513,489,507,527,566,569,496,556,537,616,618,625,642,605,573,698,748,808,791,866,1148,975,841,825,773,765,782,null,70,62290,62266,62027,62243,62814,62625,62318,62301,62649,62791,63216,63612,63956,64380,65297,66344,67226,67872,68716,69554,70198,70859,71823,72906,73563,74280,74611,74858,75325,76676,78260,79918]
["male",71,517,515,491,470,439,483,494,462,504,518,541,548,487,540,517,601,601,615,639,586,570,695,730,798,796,851,1134,953,823,801,773,758,null,71,62807,62781,62518,62713,63253,63108,62812,62763,63153,63309,63757,64160,64443,64920,65814,66945,67827,68487,69355,70140,70768,71554,72553,73704,74359,75131,75745,75811,76148,77477,79033,80676]
["male",72,582,493,492,478,452,433,460,473,455,486,512,522,532,475,533,505,596,585,596,627,570,575,680,707,792,785,834,1112,934,808,790,767,null,72,63389,63274,63010,63191,63705,63541,63272,63236,63608,63795,64269,64682,64975,65395,66347,67450,68423,69072,69951,70767,71338,72129,73233,74411,75151,75916,76579,76923,77082,78285,79823,81443]
["male",73,369,556,459,459,456,421,406,448,454,444,472,501,500,518,456,514,500,571,571,586,610,564,560,662,685,770,770,828,1075,919,806,770,null,73,63758,63830,63469,63650,64161,63962,63678,63684,64062,64239,64741,65183,65475,65913,66803,67964,68923,69643,70522,71353,71948,72693,73793,75073,75836,76686,77349,77751,78157,79204,80629,82213]
["male",74,276,352,530,437,440,428,401,394,437,443,429,454,481,488,502,445,503,492,569,558,567,607,552,552,638,657,763,743,810,1046,898,790,null,74,64034,64182,63999,64087,64601,64390,64079,64078,64499,64682,65170,65637,65956,66401,67305,68409,69426,70135,71091,71911,72515,73300,74345,75625,76474,77343,78112,78494,78967,80250,81527,83003]
["male",75,367,262,343,498,422,425,412,393,376,408,414,405,436,468,466,493,419,498,480,558,541,549,593,540,540,618,643,745,719,788,1031,866,null,75,64401,64444,64342,64585,65023,64815,64491,64471,64875,65090,65584,66042,66392,66869,67771,68902,69845,70633,71571,72469,73056,73849,74938,76165,77014,77961,78755,79239,79686,81038,82558,83869]
["male",76,356,351,257,325,478,409,402,390,375,361,382,391,393,423,449,452,478,413,471,469,531,524,532,580,527,517,598,630,729,696,766,1001,null,76,64757,64795,64599,64910,65501,65224,64893,64861,65250,65451,65966,66433,66785,67292,68220,69354,70323,71046,72042,72938,73587,74373,75470,76745,77541,78478,79353,79869,80415,81734,83324,84870]
["male",77,319,334,317,247,317,455,390,378,376,360,348,365,377,379,409,435,428,467,396,452,449,531,499,519,569,513,501,575,596,705,673,738,null,77,65076,65129,64916,65157,65818,65679,65283,65239,65626,65811,66314,66798,67162,67671,68629,69789,70751,71513,72438,73390,74036,74904,75969,77264,78110,78991,79854,80444,81011,82439,83997,85608]
["male",78,320,294,301,292,231,299,417,363,352,356,341,330,338,356,366,388,420,418,453,379,441,444,524,482,500,550,490,486,556,578,675,642,null,78,65396,65423,65217,65449,66049,65978,65700,65602,65978,66167,66655,67128,67500,68027,68995,70177,71171,71931,72891,73769,74477,75348,76493,77746,78610,79541,80344,80930,81567,83017,84672,86250]
["male",79,311,287,278,274,274,214,282,376,343,329,342,316,307,310,344,340,378,409,397,438,366,424,427,510,454,476,537,470,471,525,554,656,null,79,65707,65710,65495,65723,66323,66192,65982,65978,66321,66496,66997,67444,67807,68337,69339,70517,71549,72340,73288,74207,74843,75772,76920,78256,79064,80017,80881,81400,82038,83542,85226,86906]
["male",80,265,300,278,257,260,262,202,273,355,333,297,316,285,294,291,321,321,354,381,373,424,359,396,408,486,431,447,507,441,448,492,528,null,80,65972,66010,65773,65980,66583,66454,66184,66251,66676,66829,67294,67760,68092,68631,69630,70838,71870,72694,73669,74580,75267,76131,77316,78664,79550,80448,81328,81907,82479,83990,85718,87434]
["male",81,202,243,265,252,239,240,244,186,249,319,310,272,304,261,272,275,300,306,320,362,357,406,324,377,381,465,407,428,473,410,438,446,null,81,66174,66253,66038,66232,66822,66694,66428,66437,66925,67148,67604,68032,68396,68892,69902,71113,72170,73000,73989,74942,75624,76537,77640,79041,79931,80913,81735,82335,82952,84400,86156,87880]
["male",82,203,190,227,242,239,224,224,216,172,230,283,282,256,285,241,250,257,281,279,296,346,345,374,311,353,358,449,382,405,461,395,418,null,82,66377,66443,66265,66474,67061,66918,66652,66653,67097,67378,67887,68314,68652,69177,70143,71363,72427,73281,74268,75238,75970,76882,78014,79352,80284,81271,82184,82717,83357,84861,86551,88298]
["male",83,190,195,171,206,223,215,213,191,184,160,206,250,261,233,256,218,245,239,271,265,282,329,332,345,295,342,339,421,364,380,430,366,null,83,66567,66638,66436,66680,67284,67133,66865,66844,67281,67538,68093,68564,68913,69410,70399,71581,72672,73520,74539,75503,76252,77211,78346,79697,80579,81613,82523,83138,83721,85241,86981,88664]
["male",84,134,163,158,145,181,199,194,190,161,165,144,192,218,227,208,244,198,220,213,252,239,262,300,316,324,276,314,309,383,341,354,394,null,84,66701,66801,66594,66825,67465,67332,67059,67034,67442,67703,68237,68756,69131,69637,70607,71825,72870,73740,74752,75755,76491,77473,78646,80013,80903,81889,82837,83447,84104,85582,87335,89058]
["male",85,496,510,530,556,558,620,677,712,748,155,149,132,180,195,212,188,224,175,203,195,224,220,242,270,282,296,252,286,293,341,309,320,null,85,67197,67311,67124,67381,68023,67952,67736,67746,68190,67858,68386,68888,69311,69832,70819,72013,73094,73915,74955,75950,76715,77693,78888,80283,81185,82185,83089,83733,84397,85923,87644,89378]
["male",86,null,null,null,null,null,null,null,null,null,126,137,127,118,172,172,194,165,187,165,175,179,196,200,217,243,263,268,241,260,269,309,271,null,86,67197,67311,67124,67381,68023,67952,67736,67746,68190,67984,68523,69015,69429,70004,70991,72207,73259,74102,75120,76125,76894,77889,79088,80500,81428,82448,83357,83974,84657,86192,87953,89649]
["male",87,null,null,null,null,null,null,null,null,null,108,103,104,107,103,152,153,167,143,166,144,151,167,178,172,196,222,228,236,216,235,242,286,null,87,67197,67311,67124,67381,68023,67952,67736,67746,68190,68092,68626,69119,69536,70107,71143,72360,73426,74245,75286,76269,77045,78056,79266,80672,81624,82670,83585,84210,84873,86427,88195,89935]
["male",88,null,null,null,null,null,null,null,null,null,101,86,82,83,92,86,132,128,141,127,151,125,126,152,158,151,172,190,206,202,180,206,217,null,88,67197,67311,67124,67381,68023,67952,67736,67746,68190,68193,68712,69201,69619,70199,71229,72492,73554,74386,75413,76420,77170,78182,79418,80830,81775,82842,83775,84416,85075,86607,88401,90152]
["male",89,null,null,null,null,null,null,null,null,null,71,79,72,75,68,77,73,118,107,121,112,124,99,99,131,140,121,144,160,174,174,148,183,null,89,67197,67311,67124,67381,68023,67952,67736,67746,68190,68264,68791,69273,69694,70267,71306,72565,73672,74493,75534,76532,77294,78281,79517,80961,81915,82963,83919,84576,85249,86781,88549,90335]
["male","90+",null,null,null,null,null,null,null,null,null,189,206,230,234,239,232,247,263,298,329,336,343,364,373,371,395,411,406,439,475,513,508,487,null,"90+",67197,67311,67124,67381,68023,67952,67736,67746,68190,68453,68997,69503,69928,70506,71538,72812,73935,74791,75863,76868,77637,78645,79890,81332,82310,83374,84325,85015,85724,87294,89057,90822]
[null,"All Males",{"$f":"SUM(C16:C106)","v":67197},{"$f":"SUM(D16:D106)","v":67311},67124,67381,68023,67952,67736,67746,68190,68453,68997,69503,69928,70506,71538,72812,73935,74791,75863,76868,77637,78645,79890,81332,82310,83374,84325,{"$f":"SUM(AD16:AD106)","v":85015},{"$f":"SUM(AE16:AE106)","v":85724},{"$f":"SUM(AF16:AF106)","v":87294},{"$f":"SUM(AG16:AG106)","v":89057},{"$f":"SUM(AH16:AH106)","v":90822},null,"Females"]
["Sex","Age"]
["female",0,859,836,821,809,786,838,769,756,783,743,806,779,823,782,761,860,887,875,908,945,927,937,893,997,936,1016,990,954,888,959,987,907,null,0,{"$f":"C109","v":859},836,821,809,786,838,769,756,783,743,806,779,823,782,761,860,887,875,908,945,927,937,893,997,936,1016,990,954,888,959,987,907]
["female",1,849,866,827,878,833,803,849,769,757,774,786,811,779,820,786,785,850,907,902,930,972,943,951,925,1003,966,1017,1015,986,935,1008,1022,null,1,{"$f":"AK109+C110","v":1708},{"$f":"AL109+D110","v":1702},{"$f":"AM109+E110","v":1648},{"$f":"AN109+F110","v":1687},{"$f":"AO109+G110","v":1619},{"$f":"AP109+H110","v":1641},{"$f":"AQ109+I110","v":1618},{"$f":"AR109+J110","v":1525},{"$f":"AS109+K110","v":1540},{"$f":"AT109+L110","v":1517},{"$f":"AU109+M110","v":1592},{"$f":"AV109+N110","v":1590},{"$f":"AW109+O110","v":1602},{"$f":"AX109+P110","v":1602},{"$f":"AY109+Q110","v":1547},{"$f":"AZ109+R110","v":1645},{"$f":"BA109+S110","v":1737},{"$f":"BB109+T110","v":1782},{"$f":"BC109+U110","v":1810},{"$f":"BD109+V110","v":1875},{"$f":"BE109+W110","v":1899},{"$f":"BF109+X110","v":1880},{"$f":"BG109+Y110","v":1844},{"$f":"BH109+Z110","v":1922},{"$f":"BI109+AA110","v":1939},{"$f":"BJ109+AB110","v":1982},{"$f":"BK109+AC110","v":2007},{"$f":"BL109+AD110","v":1969},{"$f":"BM109+AE110","v":1874},{"$f":"BN109+AF110","v":1894},{"$f":"BO109+AG110","v":1995},1929]
["female",2,884,838,845,821,875,821,787,833,779,758,801,805,824,779,835,810,813,865,942,915,931,1006,937,963,943,1038,995,1034,1035,1036,993,1063,null,2,2592,2540,2493,2508,2494,2462,2405,2358,2319,2275,2393,2395,2426,2381,2382,2455,2550,2647,2752,2790,2830,2886,2781,2885,2882,3020,3002,3003,2909,2930,2988,2992]
["female",3,866,883,829,837,826,872,814,796,846,782,785,812,817,819,810,858,795,834,879,966,940,921,1010,946,973,955,1049,999,1036,1070,1097,1027,null,3,3458,3423,3322,3345,3320,3334,3219,3154,3165,3057,3178,3207,3243,3200,3192,3313,3345,3481,3631,3756,3770,3807,3791,3831,3855,3975,4051,4002,3945,4000,4085,4019]
["female",4,853,856,875,818,826,819,858,849,814,844,796,788,822,843,822,826,868,801,846,907,961,934,945,1012,941,1001,964,1050,1004,1062,1105,1130,null,4,4311,4279,4197,4163,4146,4153,4077,4003,3979,3901,3974,3995,4065,4043,4014,4139,4213,4282,4477,4663,4731,4741,4736,4843,4796,4976,5015,5052,4949,5062,5190,5149]
["female",5,812,853,858,885,826,824,825,873,848,818,865,806,801,822,845,814,828,865,811,864,913,965,930,970,1023,949,1000,981,1050,998,1120,1131,null,5,5123,5132,5055,5048,4972,4977,4902,4876,4827,4719,4839,4801,4866,4865,4859,4953,5041,5147,5288,5527,5644,5706,5666,5813,5819,5925,6015,6033,5999,6060,6310,6280]
["female",6,776,806,849,860,892,825,817,806,873,836,829,872,828,812,843,851,829,828,865,820,879,912,966,939,969,1011,976,1013,1006,1065,1070,1156,null,6,5899,5938,5904,5908,5864,5802,5719,5682,5700,5555,5668,5673,5694,5677,5702,5804,5870,5975,6153,6347,6523,6618,6632,6752,6788,6936,6991,7046,7005,7125,7380,7436]
["female",7,854,775,802,845,860,892,823,826,823,888,839,836,880,836,823,859,863,836,835,880,841,882,933,964,955,969,1019,978,1037,1037,1117,1092,null,7,6753,6713,6706,6753,6724,6694,6542,6508,6523,6443,6507,6509,6574,6513,6525,6663,6733,6811,6988,7227,7364,7500,7565,7716,7743,7905,8010,8024,8042,8162,8497,8528]
["female",8,827,847,771,795,843,856,889,837,826,826,898,830,835,888,850,841,866,874,861,844,896,839,894,925,992,968,979,1022,1006,1045,1104,1129,null,8,7580,7560,7477,7548,7567,7550,7431,7345,7349,7269,7405,7339,7409,7401,7375,7504,7599,7685,7849,8071,8260,8339,8459,8641,8735,8873,8989,9046,9048,9207,9601,9657]
["female",9,826,828,843,774,796,839,856,884,839,814,837,906,835,838,903,862,852,868,878,860,842,906,861,886,926,997,973,985,1029,1038,1104,1162,null,9,8406,8388,8320,8322,8363,8389,8287,8229,8188,8083,8242,8245,8244,8239,8278,8366,8451,8553,8727,8931,9102,9245,9320,9527,9661,9870,9962,10031,10077,10245,10705,10819]
["female",10,838,838,839,855,792,805,852,862,893,851,834,853,906,844,856,919,868,861,880,886,871,849,894,861,894,912,1013,978,1006,1054,1104,1151,null,10,9244,9226,9159,9177,9155,9194,9139,9091,9081,8934,9076,9098,9150,9083,9134,9285,9319,9414,9607,9817,9973,10094,10214,10388,10555,10782,10975,11009,11083,11299,11809,11970]
["female",11,872,844,840,848,863,801,808,829,850,888,854,846,842,915,856,876,938,880,868,902,884,881,867,891,878,908,937,1022,1007,1035,1108,1147,null,11,10116,10070,9999,10025,10018,9995,9947,9920,9931,9822,9930,9944,9992,9998,9990,10161,10257,10294,10475,10719,10857,10975,11081,11279,11433,11690,11912,12031,12090,12334,12917,13117]
["female",12,831,873,839,839,848,855,797,786,827,859,893,853,861,852,935,863,884,957,891,871,910,899,897,883,912,869,907,960,1024,1031,1061,1140,null,12,10947,10943,10838,10864,10866,10850,10744,10706,10758,10681,10823,10797,10853,10850,10925,11024,11141,11251,11366,11590,11767,11874,11978,12162,12345,12559,12819,12991,13114,13365,13978,14257]
["female",13,904,837,873,845,843,853,861,780,782,820,869,902,861,867,849,950,870,891,972,910,885,912,900,900,881,930,895,914,959,1038,1053,1084,null,13,11851,11780,11711,11709,11709,11703,11605,11486,11540,11501,11692,11699,11714,11717,11774,11974,12011,12142,12338,12500,12652,12786,12878,13062,13226,13489,13714,13905,14073,14403,15031,15341]
["female",14,810,911,843,881,851,847,862,858,782,780,821,879,906,863,880,865,950,877,894,976,909,890,916,925,895,900,934,900,919,976,1056,1072,null,14,12661,12691,12554,12590,12560,12550,12467,12344,12322,12281,12513,12578,12620,12580,12654,12839,12961,13019,13232,13476,13561,13676,13794,13987,14121,14389,14648,14805,14992,15379,16087,16413]
["female",15,783,810,906,839,873,846,844,850,847,790,779,816,880,917,890,896,873,964,895,917,990,903,890,922,932,921,910,931,916,926,1014,1091,null,15,13444,13501,13460,13429,13433,13396,13311,13194,13169,13071,13292,13394,13500,13497,13544,13735,13834,13983,14127,14393,14551,14579,14684,14909,15053,15310,15558,15736,15908,16305,17101,17504]
["female",16,835,798,822,922,853,887,862,847,858,851,801,787,818,904,926,905,907,897,973,897,909,995,928,915,935,932,931,924,940,946,956,1030,null,16,14279,14299,14282,14351,14286,14283,14173,14041,14027,13922,14093,14181,14318,14401,14470,14640,14741,14880,15100,15290,15460,15574,15612,15824,15988,16242,16489,16660,16848,17251,18057,18534]
["female",17,886,843,804,832,926,858,897,847,841,849,853,823,805,834,910,947,910,912,901,991,919,926,1013,958,941,946,937,941,920,929,970,964,null,17,15165,15142,15086,15183,15212,15141,15070,14888,14868,14771,14946,15004,15123,15235,15380,15587,15651,15792,16001,16281,16379,16500,16625,16782,16929,17188,17426,17601,17768,18180,19027,19498]
["female",18,882,866,792,733,749,839,795,809,797,809,825,829,814,778,807,879,940,881,902,858,941,876,902,977,921,906,920,917,903,898,900,921,null,18,16047,16008,15878,15916,15961,15980,15865,15697,15665,15580,15771,15833,15937,16013,16187,16466,16591,16673,16903,17139,17320,17376,17527,17759,17850,18094,18346,18518,18671,19078,19927,20419]
["female",19,892,821,757,626,564,570,742,682,651,659,619,664,653,642,621,672,708,752,706,754,727,723,646,682,712,712,662,663,689,699,604,623,null,19,16939,16829,16635,16542,16525,16550,16607,16379,16316,16239,16390,16497,16590,16655,16808,17138,17299,17425,17609,17893,18047,18099,18173,18441,18562,18806,19008,19181,19360,19777,20531,21042]
["female",20,865,856,713,669,577,510,554,675,671,668,630,586,632,640,602,624,659,694,727,664,758,687,740,633,643,723,699,641,637,644,666,608,null,20,17804,17685,17348,17211,17102,17060,17161,17054,16987,16907,17020,17083,17222,17295,17410,17762,17958,18119,18336,18557,18805,18786,18913,19074,19205,19529,19707,19822,19997,20421,21197,21650]
["female",21,904,848,750,700,679,592,504,643,682,690,726,689,626,700,740,690,710,731,762,770,771,826,783,789,709,738,812,788,748,735,687,725,null,21,18708,18533,18098,17911,17781,17652,17665,17697,17669,17597,17746,17772,17848,17995,18150,18452,18668,18850,19098,19327,19576,19612,19696,19863,19914,20267,20519,20610,20745,21156,21884,22375]
["female",22,940,911,824,821,786,756,631,602,697,718,772,796,736,773,837,866,819,800,837,880,900,858,983,921,927,857,854,936,884,831,792,739,null,22,19648,19444,18922,18732,18567,18408,18296,18299,18366,18315,18518,18568,18584,18768,18987,19318,19487,19650,19935,20207,20476,20470,20679,20784,20841,21124,21373,21546,21629,21987,22676,23114]
["female",23,902,909,929,898,907,859,781,702,657,748,751,808,838,812,886,876,926,884,905,890,938,963,940,1062,1061,1012,919,996,1018,987,895,867,null,23,20550,20353,19851,19630,19474,19267,19077,19001,19023,19063,19269,19376,19422,19580,19873,20194,20413,20534,20840,21097,21414,21433,21619,21846,21902,22136,22292,22542,22647,22974,23571,23981]
["female",24,943,890,946,945,930,919,841,802,735,711,773,784,845,865,855,962,910,977,939,902,930,999,1004,991,1076,1079,1064,963,1029,1062,1052,939,null,24,21493,21243,20797,20575,20404,20186,19918,19803,19758,19774,20042,20160,20267,20445,20728,21156,21323,21511,21779,21999,22344,22432,22623,22837,22978,23215,23356,23505,23676,24036,24623,24920]
["female",25,941,922,922,943,959,928,893,828,825,749,718,757,834,844,902,912,1001,932,1008,972,897,942,1037,1041,1010,1088,1078,1082,958,1098,1069,1092,null,25,22434,22165,21719,21518,21363,21114,20811,20631,20583,20523,20760,20917,21101,21289,21630,22068,22324,22443,22787,22971,23241,23374,23660,23878,23988,24303,24434,24587,24634,25134,25692,26012]
["female",26,1063,943,947,953,967,981,935,881,847,824,778,767,796,864,897,939,920,1014,959,1030,1021,935,972,1058,1113,1060,1082,1089,1122,1027,1138,1107,null,26,23497,23108,22666,22471,22330,22095,21746,21512,21430,21347,21538,21684,21897,22153,22527,23007,23244,23457,23746,24001,24262,24309,24632,24936,25101,25363,25516,25676,25756,26161,26830,27119]
["female",27,1066,1085,962,978,998,989,996,985,891,869,853,788,796,820,853,919,938,951,1015,985,1026,1057,972,1018,1074,1147,1082,1091,1100,1159,1085,1196,null,27,24563,24193,23628,23449,23328,23084,22742,22497,22321,22216,22391,22472,22693,22973,23380,23926,24182,24408,24761,24986,25288,25366,25604,25954,26175,26510,26598,26767,26856,27320,27915,28315]
["female",28,991,1048,1073,951,986,1000,964,983,1004,914,894,878,816,798,834,868,931,969,979,1041,1024,1053,1059,1019,1060,1102,1145,1104,1130,1127,1216,1136,null,28,25554,25241,24701,24400,24314,24084,23706,23480,23325,23130,23285,23350,23509,23771,24214,24794,25113,25377,25740,26027,26312,26419,26663,26973,27235,27612,27743,27871,27986,28447,29131,29451]
["female",29,1075,1014,1092,1126,1003,1036,1039,994,982,999,925,912,885,826,816,864,915,963,1000,992,1051,1023,1069,1064,1040,1110,1144,1207,1145,1177,1206,1315,null,29,26629,26255,25793,25526,25317,25120,24745,24474,24307,24129,24210,24262,24394,24597,25030,25658,26028,26340,26740,27019,27363,27442,27732,28037,28275,28722,28887,29078,29131,29624,30337,30766]
["female",30,1032,1082,1041,1112,1154,1014,1045,1029,992,990,1038,949,937,897,829,840,883,951,973,1020,1002,1054,1047,1091,1098,1079,1171,1187,1220,1217,1208,1264,null,30,27661,27337,26834,26638,26471,26134,25790,25503,25299,25119,25248,25211,25331,25494,25859,26498,26911,27291,27713,28039,28365,28496,28779,29128,29373,29801,30058,30265,30351,30841,31545,32030]
["female",31,988,1031,1083,1038,1119,1152,998,1035,1035,1010,1025,1031,926,956,942,836,869,918,977,991,1041,1015,1062,1053,1132,1137,1076,1222,1188,1303,1226,1263,null,31,28649,28368,27917,27676,27590,27286,26788,26538,26334,26129,26273,26242,26257,26450,26801,27334,27780,28209,28690,29030,29406,29511,29841,30181,30505,30938,31134,31487,31539,32144,32771,33293]
["female",32,892,973,1017,1072,1036,1105,1134,997,1061,1057,1021,1046,1038,929,959,960,847,917,940,996,1015,1054,1032,1073,1068,1160,1137,1141,1255,1297,1376,1265,null,32,29541,29341,28934,28748,28626,28391,27922,27535,27395,27186,27294,27288,27295,27379,27760,28294,28627,29126,29630,30026,30421,30565,30873,31254,31573,32098,32271,32628,32794,33441,34147,34558]
["female",33,975,897,978,1025,1089,1042,1109,1146,1025,1081,1075,1030,1067,1047,970,979,974,859,935,968,1000,1043,1100,1047,1096,1074,1186,1189,1177,1296,1397,1432,null,33,{"$f":"AK141+C142","v":30516},{"$f":"AL141+D142","v":30238},{"$f":"AM141+E142","v":29912},{"$f":"AN141+F142","v":29773},{"$f":"AO141+G142","v":29715},{"$f":"AP141+H142","v":29433},{"$f":"AQ141+I142","v":29031},{"$f":"AR141+J142","v":28681},{"$f":"AS141+K142","v":28420},{"$f":"AT141+L142","v":28267},{"$f":"AU141+M142","v":28369},{"$f":"AV141+N142","v":28318},{"$f":"AW141+O142","v":28362},{"$f":"AX141+P142","v":28426},{"$f":"AY141+Q142","v":28730},{"$f":"AZ141+R142","v":29273},{"$f":"BA141+S142","v":29601},{"$f":"BB141+T142","v":29985},{"$f":"BC141+U142","v":30565},{"$f":"BD141+V142","v":30994},{"$f":"BE141+W142","v":31421},{"$f":"BF141+X142","v":31608},{"$f":"BG141+Y142","v":31973},{"$f":"BH141+Z142","v":32301},{"$f":"BI141+AA142","v":32669},{"$f":"BJ141+AB142","v":33172},{"$f":"BK141+AC142","v":33457},{"$f":"BL141+AD142","v":33817},{"$f":"BM141+AE142","v":33971},{"$f":"BN141+AF142","v":34737},{"$f":"BO141+AG142","v":35544},35990]
["female",34,1015,965,890,971,1027,1079,1029,1127,1172,1064,1112,1089,1084,1084,1073,1001,1003,997,894,942,961,1016,1042,1125,1065,1134,1120,1188,1219,1227,1320,1441,null,34,31531,31203,30802,30744,30742,30512,30060,29808,29592,29331,29481,29407,29446,29510,29803,30274,30604,30982,31459,31936,32382,32624,33015,33426,33734,34306,34577,35005,35190,35964,36864,37431]
["female",35,988,1032,983,907,995,1048,1093,1041,1134,1178,1077,1107,1105,1094,1104,1085,1032,1018,1008,930,927,972,1029,1101,1144,1099,1161,1119,1234,1282,1293,1390,null,35,32519,32235,31785,31651,31737,31560,31153,30849,30726,30509,30558,30514,30551,30604,30907,31359,31636,32000,32467,32866,33309,33596,34044,34527,34878,35405,35738,36124,36424,37246,38157,38821]
["female",36,955,1001,1045,1000,927,1014,1061,1070,1062,1156,1196,1097,1118,1114,1102,1123,1097,1035,1038,1020,944,945,953,1015,1107,1179,1108,1186,1159,1277,1352,1364,null,36,33474,33236,32830,32651,32664,32574,32214,31919,31788,31665,31754,31611,31669,31718,32009,32482,32733,33035,33505,33886,34253,34541,34997,35542,35985,36584,36846,37310,37583,38523,39509,40185]
["female",37,975,955,993,1043,1007,923,1009,1064,1086,1075,1174,1199,1120,1133,1138,1104,1147,1136,1050,1039,1051,964,971,996,1016,1118,1206,1130,1185,1200,1308,1448,null,37,34449,34191,33823,33694,33671,33497,33223,32983,32874,32740,32928,32810,32789,32851,33147,33586,33880,34171,34555,34925,35304,35505,35968,36538,37001,37702,38052,38440,38768,39723,40817,41633]
["female",38,904,964,938,971,1029,993,902,1006,1076,1081,1086,1175,1206,1133,1157,1175,1106,1166,1140,1066,1042,1063,994,970,990,1055,1158,1225,1144,1195,1258,1339,null,38,35353,35155,34761,34665,34700,34490,34125,33989,33950,33821,34014,33985,33995,33984,34304,34761,34986,35337,35695,35991,36346,36568,36962,37508,37991,38757,39210,39665,39912,40918,42075,42972]
["female",39,966,910,963,940,973,1031,987,936,1011,1071,1086,1118,1157,1202,1143,1178,1192,1133,1183,1143,1080,1064,1091,1039,998,986,1080,1178,1217,1156,1248,1300,null,39,36319,36065,35724,35605,35673,35521,35112,34925,34961,34892,35100,35103,35152,35186,35447,35939,36178,36470,36878,37134,37426,37632,38053,38547,38989,39743,40290,40843,41129,42074,43323,44272]
["female",40,1008,972,931,976,956,982,1040,985,963,1026,1078,1094,1133,1162,1234,1173,1192,1178,1141,1194,1140,1110,1081,1105,1051,1012,992,1079,1184,1267,1222,1289,null,40,37327,37037,36655,36581,36629,36503,36152,35910,35924,35918,36178,36197,36285,36348,36681,37112,37370,37648,38019,38328,38566,38742,39134,39652,40040,40755,41282,41922,42313,43341,44545,45561]
["female",41,1001,1013,980,946,990,970,987,1019,987,978,1041,1081,1111,1147,1184,1260,1172,1194,1195,1159,1218,1163,1129,1075,1112,1071,1035,992,1110,1254,1300,1269,null,41,38328,38050,37635,37527,37619,37473,37139,36929,36911,36896,37219,37278,37396,37495,37865,38372,38542,38842,39214,39487,39784,39905,40263,40727,41152,41826,42317,42914,43423,44595,45845,46830]
["female",42,1044,1001,1015,982,954,996,971,963,1019,992,999,1029,1069,1111,1157,1206,1263,1175,1205,1213,1169,1224,1183,1139,1057,1110,1082,1045,999,1135,1286,1317,null,42,39372,39051,38650,38509,38573,38469,38110,37892,37930,37888,38218,38307,38465,38606,39022,39578,39805,40017,40419,40700,40953,41129,41446,41866,42209,42936,43399,43959,44422,45730,47131,48147]
["female",43,1162,1029,994,1004,978,948,986,950,962,1010,1005,991,1019,1077,1120,1170,1208,1262,1199,1229,1208,1194,1236,1201,1156,1056,1129,1096,1049,1030,1170,1302,null,43,40534,40080,39644,39513,39551,39417,39096,38842,38892,38898,39223,39298,39484,39683,40142,40748,41013,41279,41618,41929,42161,42323,42682,43067,43365,43992,44528,45055,45471,46760,48301,49449]
["female",44,1165,1159,1014,986,1000,966,947,996,974,958,1011,1019,1020,1013,1092,1131,1168,1220,1274,1196,1226,1220,1189,1247,1208,1177,1076,1162,1100,1058,1075,1227,null,44,41699,41239,40658,40499,40551,40383,40043,39838,39866,39856,40234,40317,40504,40696,41234,41879,42181,42499,42892,43125,43387,43543,43871,44314,44573,45169,45604,46217,46571,47818,49376,50676]
["female",45,1397,1170,1163,1013,997,1002,969,954,998,980,970,1016,1018,1026,1025,1113,1145,1185,1230,1258,1202,1228,1230,1193,1255,1230,1177,1102,1166,1116,1072,1111,null,45,43096,42409,41821,41512,41548,41385,41012,40792,40864,40836,41204,41333,41522,41722,42259,42992,43326,43684,44122,44383,44589,44771,45101,45507,45828,46399,46781,47319,47737,48934,50448,51787]
["female",46,1055,1390,1173,1161,1009,996,994,960,956,986,969,984,1009,999,1032,1036,1131,1151,1190,1238,1249,1190,1241,1247,1181,1259,1232,1199,1110,1178,1135,1097,null,46,44151,43799,42994,42673,42557,42381,42006,41752,41820,41822,42173,42317,42531,42721,43291,44028,44457,44835,45312,45621,45838,45961,46342,46754,47009,47658,48013,48518,48847,50112,51583,52884]
["female",47,977,1059,1379,1178,1168,1007,995,988,934,948,989,954,994,1010,1001,1050,1035,1116,1149,1212,1242,1249,1182,1240,1267,1200,1256,1242,1207,1137,1214,1165,null,47,45128,44858,44373,43851,43725,43388,43001,42740,42754,42770,43162,43271,43525,43731,44292,45078,45492,45951,46461,46833,47080,47210,47524,47994,48276,48858,49269,49760,50054,51249,52797,54049]
["female",48,972,972,1053,1368,1181,1168,998,976,995,937,940,972,941,1008,1015,1007,1060,1049,1119,1154,1222,1267,1248,1214,1236,1257,1194,1279,1255,1222,1144,1220,null,48,46100,45830,45426,45219,44906,44556,43999,43716,43749,43707,44102,44243,44466,44739,45307,46085,46552,47000,47580,47987,48302,48477,48772,49208,49512,50115,50463,51039,51309,52471,53941,55269]
["female",49,940,968,974,1049,1365,1183,1166,999,951,982,923,940,980,936,1006,1026,998,1063,1039,1105,1171,1236,1282,1250,1229,1235,1256,1216,1285,1261,1235,1166,null,49,47040,46798,46400,46268,46271,45739,45165,44715,44700,44689,45025,45183,45446,45675,46313,47111,47550,48063,48619,49092,49473,49713,50054,50458,50741,51350,51719,52255,52594,53732,55176,56435]
["female",50,832,927,956,973,1051,1360,1181,1127,989,951,980,921,934,978,937,986,1020,1002,1063,1059,1108,1184,1226,1286,1273,1217,1230,1268,1213,1297,1282,1256,null,50,47872,47725,47356,47241,47322,47099,46346,45842,45689,45640,46005,46104,46380,46653,47250,48097,48570,49065,49682,50151,50581,50897,51280,51744,52014,52567,52949,53523,53807,55029,56458,57691]
["female",51,762,831,918,955,977,1050,1357,1158,1114,989,948,970,924,930,995,934,996,1028,980,1066,1060,1115,1196,1255,1269,1268,1216,1220,1276,1217,1304,1294,null,51,48634,48556,48274,48196,48299,48149,47703,47000,46803,46629,46953,47074,47304,47583,48245,49031,49566,50093,50662,51217,51641,52012,52476,52999,53283,53835,54165,54743,55083,56246,57762,58985]
["female",52,810,751,811,896,938,963,1034,1319,1149,1087,988,932,970,923,927,976,932,1007,1031,988,1060,1072,1118,1201,1236,1280,1259,1220,1220,1286,1246,1335,null,52,49444,49307,49085,49092,49237,49112,48737,48319,47952,47716,47941,48006,48274,48506,49172,50007,50498,51100,51693,52205,52701,53084,53594,54200,54519,55115,55424,55963,56303,57532,59008,60320]
["female",53,825,818,764,818,902,946,970,1027,1325,1151,1074,992,929,964,931,915,969,936,997,1034,1001,1056,1070,1126,1206,1234,1282,1276,1217,1213,1272,1237,null,53,50269,50125,49849,49910,50139,50058,49707,49346,49277,48867,49015,48998,49203,49470,50103,50922,51467,52036,52690,53239,53702,54140,54664,55326,55725,56349,56706,57239,57520,58745,60280,61557]
["female",54,806,827,824,779,823,889,943,942,1010,1297,1164,1087,995,920,969,931,919,968,934,996,1045,1019,1053,1075,1110,1187,1237,1300,1273,1204,1215,1279,null,54,51075,50952,50673,50689,50962,50947,50650,50288,50287,50164,50179,50085,50198,50390,51072,51853,52386,53004,53624,54235,54747,55159,55717,56401,56835,57536,57943,58539,58793,59949,61495,62836]
["female",55,729,792,814,810,766,804,868,906,933,1004,1275,1146,1084,986,917,969,917,909,973,922,1007,1039,1043,1047,1080,1115,1177,1222,1276,1259,1214,1217,null,55,51804,51744,51487,51499,51728,51751,51518,51194,51220,51168,51454,51231,51282,51376,51989,52822,53303,53913,54597,55157,55754,56198,56760,57448,57915,58651,59120,59761,60069,61208,62709,64053]
["female",56,715,728,782,805,813,765,797,867,896,926,990,1273,1127,1100,984,898,969,922,906,972,914,1003,1023,1048,1036,1082,1135,1172,1222,1289,1248,1217,null,56,52519,52472,52269,52304,52541,52516,52315,52061,52116,52094,52444,52504,52409,52476,52973,53720,54272,54835,55503,56129,56668,57201,57783,58496,58951,59733,60255,60933,61291,62497,63957,65270]
["female",57,734,720,732,783,811,818,766,771,858,889,916,971,1255,1109,1095,983,900,968,911,900,967,906,996,1017,1032,1021,1090,1131,1168,1218,1286,1243,null,57,53253,53192,53001,53087,53352,53334,53081,52832,52974,52983,53360,53475,53664,53585,54068,54703,55172,55803,56414,57029,57635,58107,58779,59513,59983,60754,61345,62064,62459,63715,65243,66513]
["female",58,675,727,713,731,777,808,813,745,759,851,876,891,965,1249,1111,1085,974,899,959,910,900,966,894,988,1032,1022,1017,1086,1138,1161,1235,1316,null,58,53928,53919,53714,53818,54129,54142,53894,53577,53733,53834,54236,54366,54629,54834,55179,55788,56146,56702,57373,57939,58535,59073,59673,60501,61015,61776,62362,63150,63597,64876,66478,67829]
["female",59,686,668,715,706,725,765,797,809,737,749,852,874,884,950,1248,1107,1058,975,888,959,907,914,972,911,996,1023,1030,1022,1072,1130,1164,1253,null,59,54614,54587,54429,54524,54854,54907,54691,54386,54470,54583,55088,55240,55513,55784,56427,56895,57204,57677,58261,58898,59442,59987,60645,61412,62011,62799,63392,64172,64669,66006,67642,69082]
["female",60,631,671,651,696,692,709,744,778,799,733,737,850,869,882,946,1237,1091,1044,974,886,954,904,913,973,898,985,1004,1025,1022,1056,1124,1156,null,60,55245,55258,55080,55220,55546,55616,55435,55164,55269,55316,55825,56090,56382,56666,57373,58132,58295,58721,59235,59784,60396,60891,61558,62385,62909,63784,64396,65197,65691,67062,68766,70238]
["female",61,682,622,664,645,690,682,704,740,752,783,732,727,846,860,872,923,1242,1070,1036,962,898,942,909,912,961,900,977,1000,1020,1026,1044,1110,null,61,55927,55880,55744,55865,56236,56298,56139,55904,56021,56099,56557,56817,57228,57526,58245,59055,59537,59791,60271,60746,61294,61833,62467,63297,63870,64684,65373,66197,66711,68088,69810,71348]
["female",62,705,679,624,659,638,686,677,700,730,745,777,726,720,843,859,867,913,1235,1058,1035,961,882,934,896,902,935,908,970,983,1019,1015,1048,null,62,56632,56559,56368,56524,56874,56984,56816,56604,56751,56844,57334,57543,57948,58369,59104,59922,60450,61026,61329,61781,62255,62715,63401,64193,64772,65619,66281,67167,67694,69107,70825,72396]
["female",63,631,700,674,623,658,633,685,653,694,724,750,764,722,709,840,854,859,910,1236,1040,1032,959,872,923,875,898,926,903,965,994,1012,1020,null,63,57263,57259,57042,57147,57532,57617,57501,57257,57445,57568,58084,58307,58670,59078,59944,60776,61309,61936,62565,62821,63287,63674,64273,65116,65647,66517,67207,68070,68659,70101,71837,73416]
["female",64,638,631,689,674,631,663,632,668,651,688,716,749,757,723,698,831,844,848,907,1237,1048,1028,958,863,912,894,900,914,901,969,1007,1016,null,64,57901,57890,57731,57821,58163,58280,58133,57925,58096,58256,58800,59056,59427,59801,60642,61607,62153,62784,63472,64058,64335,64702,65231,65979,66559,67411,68107,68984,69560,71070,72844,74432]
["female",65,613,631,619,679,670,627,663,619,661,637,677,712,741,743,704,707,809,845,830,917,1215,1049,1018,943,862,891,883,895,907,907,966,996,null,65,{"$f":"AK173+C174","v":58514},{"$f":"AL173+D174","v":58521},{"$f":"AM173+E174","v":58350},{"$f":"AN173+F174","v":58500},{"$f":"AO173+G174","v":58833},{"$f":"AP173+H174","v":58907},{"$f":"AQ173+I174","v":58796},{"$f":"AR173+J174","v":58544},{"$f":"AS173+K174","v":58757},{"$f":"AT173+L174","v":58893},{"$f":"AU173+M174","v":59477},{"$f":"AV173+N174","v":59768},{"$f":"AW173+O174","v":60168},{"$f":"AX173+P174","v":60544},{"$f":"AY173+Q174","v":61346},{"$f":"AZ173+R174","v":62314},{"$f":"BA173+S174","v":62962},{"$f":"BB173+T174","v":63629},{"$f":"BC173+U174","v":64302},{"$f":"BD173+V174","v":64975},{"$f":"BE173+W174","v":65550},{"$f":"BF173+X174","v":65751},{"$f":"BG173+Y174","v":66249},{"$f":"BH173+Z174","v":66922},{"$f":"BI173+AA174","v":67421},{"$f":"BJ173+AB174","v":68302},{"$f":"BK173+AC174","v":68990},{"$f":"BL173+AD174","v":69879},{"$f":"BM173+AE174","v":70467},{"$f":"BN173+AF174","v":71977},{"$f":"BO173+AG174","v":73810},75428]
["female",66,621,597,608,599,658,650,609,646,617,656,642,671,707,738,731,700,711,807,848,821,920,1193,1049,1021,931,855,883,865,901,916,898,967,null,66,59135,59118,58958,59099,59491,59557,59405,59190,59374,59549,60119,60439,60875,61282,62077,63014,63673,64436,65150,65796,66470,66944,67298,67943,68352,69157,69873,70744,71368,72893,74708,76395]
["female",67,614,613,587,603,591,651,645,628,632,602,649,632,657,709,724,720,689,708,807,847,811,910,1197,1045,1027,934,848,888,850,891,916,871,null,67,59749,59731,59545,59702,60082,60208,60050,59818,60006,60151,60768,61071,61532,61991,62801,63734,64362,65144,65957,66643,67281,67854,68495,68988,69379,70091,70721,71632,72218,73784,75624,77266]
["female",68,623,609,614,581,591,586,640,630,621,617,604,637,633,660,691,711,709,678,696,808,834,813,889,1195,1045,1013,934,839,884,852,880,895,null,68,60372,60340,60159,60283,60673,60794,60690,60448,60627,60768,61372,61708,62165,62651,63492,64445,65071,65822,66653,67451,68115,68667,69384,70183,70424,71104,71655,72471,73102,74636,76504,78161]
["female",69,636,605,592,605,568,577,573,622,627,609,606,596,626,631,660,695,706,701,663,708,806,833,809,881,1188,1040,1008,930,833,880,867,873,null,69,61008,60945,60751,60888,61241,61371,61263,61070,61254,61377,61978,62304,62791,63282,64152,65140,65777,66523,67316,68159,68921,69500,70193,71064,71612,72144,72663,73401,73935,75516,77371,79034]
["female",70,705,627,594,582,600,560,566,574,603,624,608,603,595,622,610,646,685,703,690,665,696,797,825,783,877,1195,1032,990,916,837,868,847,null,70,61713,61572,61345,61470,61841,61931,61829,61644,61857,62001,62586,62907,63386,63904,64762,65786,66462,67226,68006,68824,69617,70297,71018,71847,72489,73339,73695,74391,74851,76353,78239,79881]
["female",71,734,699,621,581,577,592,555,553,569,594,613,600,599,597,612,602,649,679,704,684,658,692,791,818,771,867,1189,1017,980,916,828,857,null,71,62447,62271,61966,62051,62418,62523,62384,62197,62426,62595,63199,63507,63985,64501,65374,66388,67111,67905,68710,69508,70275,70989,71809,72665,73260,74206,74884,75408,75831,77269,79067,80738]
["female",72,745,721,675,609,570,568,585,552,544,559,581,611,590,586,583,600,595,646,672,698,673,646,677,781,809,765,848,1173,1009,974,900,797,null,72,63192,62992,62641,62660,62988,63091,62969,62749,62970,63154,63780,64118,64575,65087,65957,66988,67706,68551,69382,70206,70948,71635,72486,73446,74069,74971,75732,76581,76840,78243,79967,81535]
["female",73,454,727,689,659,590,557,555,565,542,535,543,575,597,583,565,573,591,582,637,657,693,666,638,668,774,795,764,845,1150,996,976,908,null,73,63646,63719,63330,63319,63578,63648,63524,63314,63512,63689,64323,64693,65172,65670,66522,67561,68297,69133,70019,70863,71641,72301,73124,74114,74843,75766,76496,77426,77990,79239,80943,82443]
["female",74,407,455,707,673,656,583,542,544,548,531,533,531,561,589,578,568,561,586,587,635,641,683,667,620,653,757,780,747,836,1150,998,963,null,74,64053,64174,64037,63992,64234,64231,64066,63858,64060,64220,64856,65224,65733,66259,67100,68129,68858,69719,70606,71498,72282,72984,73791,74734,75496,76523,77276,78173,78826,80389,81941,83406]
["female",75,475,394,449,682,647,630,566,516,534,536,521,526,516,552,584,575,570,554,571,590,615,629,674,652,612,647,738,766,728,815,1121,1002,null,75,64528,64568,64486,64674,64881,64861,64632,64374,64594,64756,65377,65750,66249,66811,67684,68704,69428,70273,71177,72088,72897,73613,74465,75386,76108,77170,78014,78939,79554,81204,83062,84408]
["female",76,511,461,393,441,661,619,606,550,506,525,520,511,527,512,550,577,554,567,544,567,587,608,614,669,642,600,631,741,745,726,782,1110,null,76,65039,65029,64879,65115,65542,65480,65238,64924,65100,65281,65897,66261,66776,67323,68234,69281,69982,70840,71721,72655,73484,74221,75079,76055,76750,77770,78645,79680,80299,81930,83844,85518]
["female",77,510,490,448,377,432,634,596,574,540,490,522,510,490,524,494,543,575,536,559,541,565,580,598,599,650,636,579,627,728,747,715,759,null,77,65549,65519,65327,65492,65974,66114,65834,65498,65640,65771,66419,66771,67266,67847,68728,69824,70557,71376,72280,73196,74049,74801,75677,76654,77400,78406,79224,80307,81027,82677,84559,86277]
["female",78,507,485,459,424,355,407,600,575,561,516,469,505,493,477,508,490,530,556,527,549,533,555,571,586,592,626,636,567,612,701,726,691,null,78,66056,66004,65786,65916,66329,66521,66434,66073,66201,66287,66888,67276,67759,68324,69236,70314,71087,71932,72807,73745,74582,75356,76248,77240,77992,79032,79860,80874,81639,83378,85285,86968]
["female",79,467,474,466,427,397,332,386,586,564,543,501,445,480,460,451,496,465,513,538,515,534,517,544,554,573,576,602,606,559,600,673,698,null,79,66523,66478,66252,66343,66726,66853,66820,66659,66765,66830,67389,67721,68239,68784,69687,70810,71552,72445,73345,74260,75116,75873,76792,77794,78565,79608,80462,81480,82198,83978,85958,87666]
["female",80,440,450,444,445,404,374,306,369,547,533,509,473,433,445,446,439,470,457,501,520,504,526,502,521,550,553,564,586,581,545,558,656,null,80,66963,66928,66696,66788,67130,67227,67126,67028,67312,67363,67898,68194,68672,69229,70133,71249,72022,72902,73846,74780,75620,76399,77294,78315,79115,80161,81026,82066,82779,84523,86516,88322]
["female",81,430,420,414,420,417,378,360,296,348,497,515,479,460,423,421,428,422,449,452,478,507,478,514,478,517,543,538,540,557,571,529,556,null,81,67393,67348,67110,67208,67547,67605,67486,67324,67660,67860,68413,68673,69132,69652,70554,71677,72444,73351,74298,75258,76127,76877,77808,78793,79632,80704,81564,82606,83336,85094,87045,88878]
["female",82,387,411,395,388,402,401,354,341,270,338,463,489,456,437,401,413,413,402,445,430,456,494,461,500,472,495,516,511,521,534,544,516,null,82,67780,67759,67505,67596,67949,68006,67840,67665,67930,68198,68876,69162,69588,70089,70955,72090,72857,73753,74743,75688,76583,77371,78269,79293,80104,81199,82080,83117,83857,85628,87589,89394]
["female",83,358,366,378,375,359,373,367,312,307,256,316,437,456,426,401,377,388,407,391,433,421,426,469,440,475,446,477,495,484,490,517,526,null,83,68138,68125,67883,67971,68308,68379,68207,67977,68237,68454,69192,69599,70044,70515,71356,72467,73245,74160,75134,76121,77004,77797,78738,79733,80579,81645,82557,83612,84341,86118,88106,89920]
["female",84,329,329,311,345,346,332,333,339,295,282,238,303,402,427,389,370,360,360,384,365,407,397,401,448,423,438,416,443,450,457,471,472,null,84,68467,68454,68194,68316,68654,68711,68540,68316,68532,68736,69430,69902,70446,70942,71745,72837,73605,74520,75518,76486,77411,78194,79139,80181,81002,82083,82973,84055,84791,86575,88577,90392]
["female",85,1547,1625,1659,1690,1728,1785,1801,1879,1911,268,252,218,282,367,391,366,354,338,330,368,343,374,373,388,417,406,419,388,405,423,421,437,null,85,70014,70079,69853,70006,70382,70496,70341,70195,70443,69004,69682,70120,70728,71309,72136,73203,73959,74858,75848,76854,77754,78568,79512,80569,81419,82489,83392,84443,85196,86998,88998,90829]
["female",86,null,null,null,null,null,null,null,null,null,253,241,232,198,270,340,358,338,321,317,311,331,326,355,345,364,388,371,392,368,376,406,399,null,86,70014,70079,69853,70006,70382,70496,70341,70195,70443,69257,69923,70352,70926,71579,72476,73561,74297,75179,76165,77165,78085,78894,79867,80914,81783,82877,83763,84835,85564,87374,89404,91228]
["female",87,null,null,null,null,null,null,null,null,null,261,232,222,221,182,250,304,329,315,306,300,279,282,293,322,312,330,350,341,360,324,344,369,null,87,70014,70079,69853,70006,70382,70496,70341,70195,70443,69518,70155,70574,71147,71761,72726,73865,74626,75494,76471,77465,78364,79176,80160,81236,82095,83207,84113,85176,85924,87698,89748,91597]
["female",88,null,null,null,null,null,null,null,null,null,233,236,219,199,194,165,224,274,305,291,269,257,254,257,254,294,279,286,317,302,333,292,315,null,88,70014,70079,69853,70006,70382,70496,70341,70195,70443,69751,70391,70793,71346,71955,72891,74089,74900,75799,76762,77734,78621,79430,80417,81490,82389,83486,84399,85493,86226,88031,90040,91912]
["female",89,null,null,null,null,null,null,null,null,null,195,204,211,199,167,171,150,212,256,284,262,239,236,232,240,221,260,250,258,292,266,314,262,null,89,70014,70079,69853,70006,70382,70496,70341,70195,70443,69946,70595,71004,71545,72122,73062,74239,75112,76055,77046,77996,78860,79666,80649,81730,82610,83746,84649,85751,86518,88297,90354,92174]
["female","90+",null,null,null,null,null,null,null,null,null,717,746,739,769,725,707,690,676,748,830,900,960,997,1028,1050,1033,995,1000,1050,1030,1106,1158,1191,null,"90+",70014,70079,69853,70006,70382,70496,70341,70195,70443,70663,71341,71743,72314,72847,73769,74929,75788,76803,77876,78896,79820,80663,81677,82780,83643,84741,85649,86801,87548,89403,91512,93365]
[null,"All Females",{"$f":"SUM(C109:C199)","v":70014},{"$f":"SUM(D109:D199)","v":70079},69853,70006,70382,70496,70341,70195,70443,70663,71341,71743,72314,72847,73769,74929,75788,76803,77876,78896,79820,80663,81677,82780,83643,84741,85649,{"$f":"SUM(AD109:AD199)","v":86801},{"$f":"SUM(AE109:AE199)","v":87548},{"$f":"SUM(AF109:AF199)","v":89403},{"$f":"SUM(AG109:AG199)","v":91512},{"$f":"SUM(AH109:AH199)","v":93365}]

{"sheet":"MED","index":17,"n_rows":250,"n_cols":106,"rows_kept":250,"cut":false,"hidden":true,"merged":[[0,68,21,68]]}
["Mid Year Population Estimates",null,null,null,null,null,null,null,null,null,null,null,null,null,null,null,null,null,null,null,null,null,null,null,null,null,null,null,null,null,null,null,null,null,null,null,null,null,null,null,null,null,null,null,null,null,null,null,null,null,null,null,null,null,null,null,null,null,null,null,null,null,null,null,null,null,null,null,"Insert column here before extending the table"]
["ONS Mid-Year Population Estimates 1991 to 2022 - (1992 to 2001 Revised 7th October 2004) ( 2002 to 2010 revised in light of the 2011 census. Released 30 April 2013)",null,null,null,null,null,null,null,null,null,null,null,null,null,null,null,null,null,null,null,null,null,null,null,null,null,null,null,null,null,null,null,null,null,null,"Selected Ages:",null,{"$f":"Index!C4&\" : \"&Index!C7","v":"0 : 90"},null,null,null,null,null,null,null,null,null,null,null,null,null,null,null,null,null,null,null,null,null,null,null,null,null,null,null,null,null,null,null,null,null,null,"Start year","End Year","Number change","% Change"]
["Revised ONS Mid-Year Population Estimates 2012 to 2020- Released 23 November 2023",null,null,null,null,null,null,null,null,null,null,null,null,null,null,null,null,null,null,null,null,null,null,null,null,null,null,null,null,null,null,null,null,null,null,null,{"$f":"AK13","v":1992},{"$f":"AL13","v":1993},{"$f":"AM13","v":1994},{"$f":"AN13","v":1995},{"$f":"AO13","v":1996},{"$f":"AP13","v":1997},1998,1999,2000,2001,2002,2003,2004,2005,2006,2007,2008,2009,2010,2011,2012,2013,2014,2015,2016,2017,{"$f":"BK13","v":2018},2019,2020,2021,2022,2023,null,null,null,null,{"$f":"INDEX($AR3:$BL3,Index!$B$16)","v":1999},{"$f":"INDEX($AR3:$BM3,Index!$B$19)","v":2019}]
["2022 MYPE released 23 November 2023",null,null,null,null,null,null,null,null,null,null,null,null,null,null,null,null,null,null,null,null,null,null,null,null,null,null,null,null,null,null,null,null,null,null,"Males",{"$f":"OFFSET(AK16,Index!$B$7-1,0)-IF(Index!$B$4-2=-1,0,OFFSET(AK16,Index!$B$4-2,0))","v":120622},{"$f":"OFFSET(AL16,Index!$B$7-1,0)-IF(Index!$B$4-2=-1,0,OFFSET(AL16,Index!$B$4-2,0))","v":119884},{"$f":"OFFSET(AM16,Index!$B$7-1,0)-IF(Index!$B$4-2=-1,0,OFFSET(AM16,Index!$B$4-2,0))","v":119748},{"$f":"OFFSET(AN16,Index!$B$7-1,0)-IF(Index!$B$4-2=-1,0,OFFSET(AN16,Index!$B$4-2,0))","v":118766},{"$f":"OFFSET(AO16,Index!$B$7-1,0)-IF(Index!$B$4-2=-1,0,OFFSET(AO16,Index!$B$4-2,0))","v":118782},{"$f":"OFFSET(AP16,Index!$B$7-1,0)-IF(Index!$B$4-2=-1,0,OFFSET(AP16,Index!$B$4-2,0))","v":119298},{"$f":"OFFSET(AQ16,Index!$B$7-1,0)-IF(Index!$B$4-2=-1,0,OFFSET(AQ16,Index!$B$4-2,0))","v":120750},{"$f":"OFFSET(AR16,Index!$B$7-1,0)-IF(Index!$B$4-2=-1,0,OFFSET(AR16,Index!$B$4-2,0))","v":121354},{"$f":"OFFSET(AS16,Index!$B$7-1,0)-IF(Index!$B$4-2=-1,0,OFFSET(AS16,Index!$B$4-2,0))","v":122544},{"$f":"OFFSET(AT16,Index!$B$7-1,0)-IF(Index!$B$4-2=-1,0,OFFSET(AT16,Index!$B$4-2,0))","v":122993},{"$f":"OFFSET(AU16,Index!$B$7-1,0)-IF(Index!$B$4-2=-1,0,OFFSET(AU16,Index!$B$4-2,0))","v":123401},{"$f":"OFFSET(AV16,Index!$B$7-1,0)-IF(Index!$B$4-2=-1,0,OFFSET(AV16,Index!$B$4-2,0))","v":123848},{"$f":"OFFSET(AW16,Index!$B$7-1,0)-IF(Index!$B$4-2=-1,0,OFFSET(AW16,Index!$B$4-2,0))","v":123925},{"$f":"OFFSET(AX16,Index!$B$7-1,0)-IF(Index!$B$4-2=-1,0,OFFSET(AX16,Index!$B$4-2,0))","v":124173},{"$f":"OFFSET(AY16,Index!$B$7-1,0)-IF(Index!$B$4-2=-1,0,OFFSET(AY16,Index!$B$4-2,0))","v":124859},{"$f":"OFFSET(AZ16,Index!$B$7-1,0)-IF(Index!$B$4-2=-1,0,OFFSET(AZ16,Index!$B$4-2,0))","v":126260},{"$f":"OFFSET(BA16,Index!$B$7-1,0)-IF(Index!$B$4-2=-1,0,OFFSET(BA16,Index!$B$4-2,0))","v":127647},{"$f":"OFFSET(BB16,Index!$B$7-1,0)-IF(Index!$B$4-2=-1,0,OFFSET(BB16,Index!$B$4-2,0))","v":128802},{"$f":"OFFSET(BC16,Index!$B$7-1,0)-IF(Index!$B$4-2=-1,0,OFFSET(BC16,Index!$B$4-2,0))","v":130339},{"$f":"OFFSET(BD16,Index!$B$7-1,0)-IF(Index!$B$4-2=-1,0,OFFSET(BD16,Index!$B$4-2,0))","v":131368},{"$f":"OFFSET(BE16,Index!$B$7-1,0)-IF(Index!$B$4-2=-1,0,OFFSET(BE16,Index!$B$4-2,0))","v":132668},{"$f":"OFFSET(BF16,Index!$B$7-1,0)-IF(Index!$B$4-2=-1,0,OFFSET(BF16,Index!$B$4-2,0))","v":134078},{"$f":"OFFSET(BG16,Index!$B$7-1,0)-IF(Index!$B$4-2=-1,0,OFFSET(BG16,Index!$B$4-2,0))","v":135403},{"$f":"OFFSET(BH16,Index!$B$7-1,0)-IF(Index!$B$4-2=-1,0,OFFSET(BH16,Index!$B$4-2,0))","v":136380},{"$f":"OFFSET(BI16,Index!$B$7-1,0)-IF(Index!$B$4-2=-1,0,OFFSET(BI16,Index!$B$4-2,0))","v":136943},{"$f":"OFFSET(BJ16,Index!$B$7-1,0)-IF(Index!$B$4-2=-1,0,OFFSET(BJ16,Index!$B$4-2,0))","v":137397},{"$f":"OFFSET(BK16,Index!$B$7-1,0)-IF(Index!$B$4-2=-1,0,OFFSET(BK16,Index!$B$4-2,0))","v":137142},{"$f":"OFFSET(BL16,Index!$B$7-1,0)-IF(Index!$B$4-2=-1,0,OFFSET(BL16,Index!$B$4-2,0))","v":137522},{"$f":"OFFSET(BM16,Index!$B$7-1,0)-IF(Index!$B$4-2=-1,0,OFFSET(BM16,Index!$B$4-2,0))","v":137769},{"$f":"OFFSET(BN16,Index!$B$7-1,0)-IF(Index!$B$4-2=-1,0,OFFSET(BN16,Index!$B$4-2,0))","v":137187},{"$f":"OFFSET(BO16,Index!$B$7-1,0)-IF(Index!$B$4-2=-1,0,OFFSET(BO16,Index!$B$4-2,0))","v":138487},{"$f":"OFFSET(BP16,Index!$B$7-1,0)-IF(Index!$B$4-2=-1,0,OFFSET(BP16,Index!$B$4-2,0))","v":140334},null,null,null,null,{"$f":"INDEX($AR4:$BL4,Index!$B$16)","v":121354},{"$f":"INDEX($AR4:$BM4,Index!$B$19)","v":137522},{"$f":"BV4-BU4","v":16168},{"$f":"BW4/BU4","v":0.13323005422153369}]
[null,null,null,null,null,null,null,null,null,null,null,null,null,null,null,null,null,null,null,null,null,null,null,null,null,null,null,null,null,null,null,null,null,null,null,"Females",{"$f":"OFFSET(AK109,Index!$B$7-1,0)-IF(Index!$B$4-2=-1,0,OFFSET(AK109,Index!$B$4-2,0))","v":123064},{"$f":"OFFSET(AL109,Index!$B$7-1,0)-IF(Index!$B$4-2=-1,0,OFFSET(AL109,Index!$B$4-2,0))","v":122732},{"$f":"OFFSET(AM109,Index!$B$7-1,0)-IF(Index!$B$4-2=-1,0,OFFSET(AM109,Index!$B$4-2,0))","v":122838},{"$f":"OFFSET(AN109,Index!$B$7-1,0)-IF(Index!$B$4-2=-1,0,OFFSET(AN109,Index!$B$4-2,0))","v":122651},{"$f":"OFFSET(AO109,Index!$B$7-1,0)-IF(Index!$B$4-2=-1,0,OFFSET(AO109,Index!$B$4-2,0))","v":122505},{"$f":"OFFSET(AP109,Index!$B$7-1,0)-IF(Index!$B$4-2=-1,0,OFFSET(AP109,Index!$B$4-2,0))","v":123016},{"$f":"OFFSET(AQ109,Index!$B$7-1,0)-IF(Index!$B$4-2=-1,0,OFFSET(AQ109,Index!$B$4-2,0))","v":124591},{"$f":"OFFSET(AR109,Index!$B$7-1,0)-IF(Index!$B$4-2=-1,0,OFFSET(AR109,Index!$B$4-2,0))","v":125029},{"$f":"OFFSET(AS109,Index!$B$7-1,0)-IF(Index!$B$4-2=-1,0,OFFSET(AS109,Index!$B$4-2,0))","v":125930},{"$f":"OFFSET(AT109,Index!$B$7-1,0)-IF(Index!$B$4-2=-1,0,OFFSET(AT109,Index!$B$4-2,0))","v":126711},{"$f":"OFFSET(AU109,Index!$B$7-1,0)-IF(Index!$B$4-2=-1,0,OFFSET(AU109,Index!$B$4-2,0))","v":126861},{"$f":"OFFSET(AV109,Index!$B$7-1,0)-IF(Index!$B$4-2=-1,0,OFFSET(AV109,Index!$B$4-2,0))","v":127311},{"$f":"OFFSET(AW109,Index!$B$7-1,0)-IF(Index!$B$4-2=-1,0,OFFSET(AW109,Index!$B$4-2,0))","v":127534},{"$f":"OFFSET(AX109,Index!$B$7-1,0)-IF(Index!$B$4-2=-1,0,OFFSET(AX109,Index!$B$4-2,0))","v":127925},{"$f":"OFFSET(AY109,Index!$B$7-1,0)-IF(Index!$B$4-2=-1,0,OFFSET(AY109,Index!$B$4-2,0))","v":128619},{"$f":"OFFSET(AZ109,Index!$B$7-1,0)-IF(Index!$B$4-2=-1,0,OFFSET(AZ109,Index!$B$4-2,0))","v":129564},{"$f":"OFFSET(BA109,Index!$B$7-1,0)-IF(Index!$B$4-2=-1,0,OFFSET(BA109,Index!$B$4-2,0))","v":130577},{"$f":"OFFSET(BB109,Index!$B$7-1,0)-IF(Index!$B$4-2=-1,0,OFFSET(BB109,Index!$B$4-2,0))","v":131428},{"$f":"OFFSET(BC109,Index!$B$7-1,0)-IF(Index!$B$4-2=-1,0,OFFSET(BC109,Index!$B$4-2,0))","v":132399},{"$f":"OFFSET(BD109,Index!$B$7-1,0)-IF(Index!$B$4-2=-1,0,OFFSET(BD109,Index!$B$4-2,0))","v":133517},{"$f":"OFFSET(BE109,Index!$B$7-1,0)-IF(Index!$B$4-2=-1,0,OFFSET(BE109,Index!$B$4-2,0))","v":135476},{"$f":"OFFSET(BF109,Index!$B$7-1,0)-IF(Index!$B$4-2=-1,0,OFFSET(BF109,Index!$B$4-2,0))","v":137006},{"$f":"OFFSET(BG109,Index!$B$7-1,0)-IF(Index!$B$4-2=-1,0,OFFSET(BG109,Index!$B$4-2,0))","v":138574},{"$f":"OFFSET(BH109,Index!$B$7-1,0)-IF(Index!$B$4-2=-1,0,OFFSET(BH109,Index!$B$4-2,0))","v":139657},{"$f":"OFFSET(BI109,Index!$B$7-1,0)-IF(Index!$B$4-2=-1,0,OFFSET(BI109,Index!$B$4-2,0))","v":140561},{"$f":"OFFSET(BJ109,Index!$B$7-1,0)-IF(Index!$B$4-2=-1,0,OFFSET(BJ109,Index!$B$4-2,0))","v":141255},{"$f":"OFFSET(BK109,Index!$B$7-1,0)-IF(Index!$B$4-2=-1,0,OFFSET(BK109,Index!$B$4-2,0))","v":141685},{"$f":"OFFSET(BL109,Index!$B$7-1,0)-IF(Index!$B$4-2=-1,0,OFFSET(BL109,Index!$B$4-2,0))","v":142330},{"$f":"OFFSET(BM109,Index!$B$7-1,0)-IF(Index!$B$4-2=-1,0,OFFSET(BM109,Index!$B$4-2,0))","v":142595},{"$f":"OFFSET(BN109,Index!$B$7-1,0)-IF(Index!$B$4-2=-1,0,OFFSET(BN109,Index!$B$4-2,0))","v":142716},{"$f":"OFFSET(BO109,Index!$B$7-1,0)-IF(Index!$B$4-2=-1,0,OFFSET(BO109,Index!$B$4-2,0))","v":144156},{"$f":"OFFSET(BP109,Index!$B$7-1,0)-IF(Index!$B$4-2=-1,0,OFFSET(BP109,Index!$B$4-2,0))","v":146466},null,null,null,null,{"$f":"INDEX($AR5:$BL5,Index!$B$16)","v":125029},{"$f":"INDEX($AR5:$BM5,Index!$B$19)","v":142330},{"$f":"BV5-BU5","v":17301},{"$f":"BW5/BU5","v":0.13837589679194426}]
[null,null,null,null,null,null,null,null,null,null,null,null,null,null,null,null,null,null,null,null,null,null,null,null,null,null,null,null,null,null,null,null,null,null,null,"Total",{"$f":"SUM(AK4:AK5)","v":243686},{"$f":"SUM(AL4:AL5)","v":242616},{"$f":"SUM(AM4:AM5)","v":242586},{"$f":"SUM(AN4:AN5)","v":241417},{"$f":"SUM(AO4:AO5)","v":241287},{"$f":"SUM(AP4:AP5)","v":242314},245341,246383,248474,249704,250262,251159,251459,252098,253478,255824,258224,260230,262738,264885,268144,271084,273977,276037,277504,278652,278827,279852,280364,279903,282643,286800,null,null,null,null,{"$f":"INDEX($AR6:$BL6,Index!$B$16)","v":246383},{"$f":"INDEX($AR6:$BM6,Index!$B$19)","v":279852},{"$f":"BV6-BU6","v":33469},{"$f":"BW6/BU6","v":0.13584135269072947}]
[]
[null,null,null,null,null,null,null,null,null,null,null,null,null,null,null,null,null,null,null,null,null,null,null,null,null,null,null,null,null,null,null,null,null,null,null,"Males",{"$f":"IF(AK4<0,\"0\",AK4)","v":120622},{"$f":"IF(AL4<0,\"0\",AL4)","v":119884},119748,118766,118782,119298,120750,121354,122544,122993,123401,123848,123925,124173,124859,126260,127647,128802,130339,131368,132668,134078,135403,136380,136943,137397,{"$f":"IF(BK4<0,\"0\",BK4)","v":137142},137522,137769,{"$f":"IF(BN4<0,\"0\",BN4)","v":137187},138487,{"$f":"IF(BP4<0,\"0\",BP4)","v":140334}]
[null,null,null,null,null,null,null,null,null,null,null,null,null,null,null,null,null,null,null,null,null,null,null,null,null,null,null,null,null,null,null,null,null,null,null,"Females",{"$f":"IF(AK5<0,\"0\",AK5)","v":123064},122732,122838,122651,122505,123016,124591,125029,125930,126711,126861,127311,127534,127925,128619,129564,130577,131428,132399,133517,135476,137006,138574,139657,140561,141255,141685,142330,142595,{"$f":"IF(BN5<0,\"0\",BN5)","v":142716},144156,{"$f":"IF(BP5<0,\"0\",BP5)","v":146466}]
[null,null,null,null,null,null,null,null,null,null,null,null,null,null,null,null,null,null,null,null,null,null,null,null,null,null,null,null,null,null,null,null,null,null,null,"Total",{"$f":"SUM(AK8:AK9)","v":243686},{"$f":"SUM(AL8:AL9)","v":242616},242586,241417,241287,242314,245341,246383,248474,249704,250262,251159,251459,252098,253478,255824,258224,260230,262738,264885,268144,271084,273977,276037,277504,278652,{"$f":"SUM(BK8:BK9)","v":278827},279852,280364,279903,282643,286800]
[]
[null,null,null,"MYE for  . . . . . .",null,null,null,"Medway Unitary Authority",null,null,null,null,null,null,null,null,null,null,null,null,null,null,null,null,null,null,null,null,null,null,null,null,null,null,null,null,null,null,null,null,"Cummulative Ages",null,null,null,null,null,null,null,null,null,null,null,null,null,null,null,null,null,null,null,null,null,null,null,null,null,null,null,null,"Population Pyramid"]
[null,null,"Base Year",null,null,null,null,null,null,null,null,null,null,null,null,null,null,null,null,null,null,null,null,null,null,null,null,null,null,null,null,null,null,null,null,null,{"$f":"C14","v":1992},1993,1994,1995,1996,1997,1998,1999,2000,2001,2002,2003,2004,2005,2006,2007,2008,2009,2010,2011,2012,2013,2014,2015,2016,2017,2018,2019,2020,2021,2022,2023]
["Sex","Age",1992,1993,1994,1995,1996,1997,1998,1999,2000,2001,2002,2003,2004,2005,2006,2007,2008,2009,2010,2011,2012,2013,2014,2015,2016,2017,2018,2019,2020,2021,2022,2023,null,null,null,null,null,null,null,null,null,null,null,null,null,null,null,null,null,null,null,null,null,null,null,null,null,null,null,null,null,null,null,null,null,null,null,null,null,null,1992,1993,1994,1995,1996,1997,1998,1999,2000,2001,2002,2003,2004,2005,2006,2007,2008,2009,2010,2011,2012,2013,2014,2015,2016,2017,2018,2019,2020,2021,2022,2023,null,{"$f":"INDEX(CC14:CY14,'Population Pyramid'!$L$1)","v":2020}]
[null,"All persons",{"$f":"SUM(C107,C200)","v":243686},{"$f":"SUM(D107,D200)","v":242616},242586,241417,241287,242314,245341,246383,248474,249704,250262,251159,251459,252098,253478,255824,258224,260230,262738,264885,268144,271084,{"$f":"SUM(Y107,Y200)","v":273977},276037,277504,278652,278827,279852,{"$f":"SUM(AE107,AE200)","v":280364},279903,{"$f":"SUM(AG107,AG200)","v":282643},286800,null,"Males",null,null,null,null,null,null,null,null,null,null,null,null,null,null,null,null,null,null,null,null,null,null,null,null,null,null,null,null,null,null,null,null,null,"Males","All Ages",null,{"$f":"C107","v":120622},119884,119748,118766,118782,119298,120750,121354,122544,122993,123401,123848,123925,124173,124859,126260,127647,128802,130339,131368,132668,134078,135403,136380,136943,137397,137142,137522,137769,137187,138487,140334,null,{"$f":"INDEX(CC15:CY15,'Population Pyramid'!$L$1)","v":137769}]
["male",0,1920,1844,1965,1682,1669,1762,1639,1668,1666,1586,1577,1543,1584,1590,1608,1674,1726,1788,1803,1739,1859,1807,1892,1842,1858,1805,1769,1765,1711,1633,1775,1644,null,0,{"$f":"C16","v":1920},1844,1965,1682,1669,1762,1639,1668,1666,1586,1577,1543,1584,1590,1608,1674,1726,1788,1803,1739,1859,1807,1892,1842,1858,1805,1769,1765,1711,1633,1775,1644,null,"Males","0-4",null,{"$f":"SUM(C16:C20)","v":9624},9418,9421,9098,8850,8760,8684,8475,8516,8474,8236,8095,7994,7842,7922,8117,8291,8477,8721,8819,9070,9139,9335,9405,9450,9282,9209,9067,8948,8837,8860,8865,null,{"$f":"INDEX(CC16:CY16,'Population Pyramid'!$L$1)","v":8948}]
["male",1,1920,1890,1821,1874,1664,1659,1779,1657,1658,1712,1576,1559,1561,1574,1599,1638,1687,1738,1805,1805,1774,1864,1833,1934,1853,1885,1862,1783,1780,1738,1657,1835,null,1,{"$f":"AK16+C17","v":3840},{"$f":"AL16+D17","v":3734},{"$f":"AM16+E17","v":3786},{"$f":"AN16+F17","v":3556},{"$f":"AO16+G17","v":3333},{"$f":"AP16+H17","v":3421},{"$f":"AQ16+I17","v":3418},{"$f":"AR16+J17","v":3325},{"$f":"AS16+K17","v":3324},{"$f":"AT16+L17","v":3298},{"$f":"AU16+M17","v":3153},{"$f":"AV16+N17","v":3102},{"$f":"AW16+O17","v":3145},{"$f":"AX16+P17","v":3164},{"$f":"AY16+Q17","v":3207},{"$f":"AZ16+R17","v":3312},{"$f":"BA16+S17","v":3413},{"$f":"BB16+T17","v":3526},{"$f":"BC16+U17","v":3608},{"$f":"BD16+V17","v":3544},{"$f":"BE16+W17","v":3633},{"$f":"BF16+X17","v":3671},{"$f":"BG16+Y17","v":3725},{"$f":"BH16+Z17","v":3776},{"$f":"BI16+AA17","v":3711},{"$f":"BJ16+AB17","v":3690},{"$f":"BK16+AC17","v":3631},{"$f":"BL16+AD17","v":3548},{"$f":"BM16+AE17","v":3491},{"$f":"BN16+AF17","v":3371},{"$f":"BO16+AG17","v":3432},3479,null,"Males","5-9",null,{"$f":"SUM(C21:C25)","v":8746},9023,9172,9180,9285,9306,9259,9450,9326,9125,9057,8877,8630,8600,8462,8262,8165,8137,8046,8140,8253,8488,8734,9015,9121,9351,9399,9449,9406,9357,9393,9730,null,{"$f":"INDEX(CC17:CY17,'Population Pyramid'!$L$1)","v":9406}]
["male",2,1883,1898,1871,1798,1869,1664,1672,1765,1682,1693,1709,1583,1544,1559,1589,1620,1665,1693,1738,1804,1830,1811,1920,1843,1940,1833,1867,1839,1784,1793,1752,1730,null,2,5723,5632,5657,5354,5202,5085,5090,5090,5006,4991,4862,4685,4689,4723,4796,4932,5078,5219,5346,5348,5463,5482,5645,5619,5651,5523,5498,5387,5275,5164,5184,5209,null,"Males","10-14",null,{"$f":"SUM(C26:C30)","v":8358},8302,8290,8351,8434,8612,8946,9208,9302,9486,9611,9636,9711,9515,9172,8971,8831,8671,8700,8599,8458,8351,8248,8157,8253,8415,8613,8875,9116,9237,9603,9827,null,{"$f":"INDEX(CC18:CY18,'Population Pyramid'!$L$1)","v":9116}]
["male",3,1931,1872,1890,1859,1790,1880,1690,1694,1792,1681,1705,1704,1589,1547,1576,1588,1612,1649,1713,1750,1815,1848,1823,1958,1832,1922,1833,1845,1836,1831,1807,1784,null,3,7654,7504,7547,7213,6992,6965,6780,6784,6798,6672,6567,6389,6278,6270,6372,6520,6690,6868,7059,7098,7278,7330,7468,7577,7483,7445,7331,7232,7111,6995,6991,6993,null,"Males","15-19",null,{"$f":"SUM(C31:C35)","v":8004},7717,7657,7550,7537,7668,7963,8170,8351,8569,8717,8976,9127,9228,9588,9816,9898,10029,10041,9710,9446,9217,9176,9216,8914,8715,8463,8396,8316,8374,8435,8781,null,{"$f":"INDEX(CC19:CY19,'Population Pyramid'!$L$1)","v":8316}]
["male",4,1970,1914,1874,1885,1858,1795,1904,1691,1718,1802,1669,1706,1716,1572,1550,1597,1601,1609,1662,1721,1792,1809,1867,1828,1967,1837,1878,1835,1837,1842,1869,1872,null,4,9624,9418,9421,9098,8850,8760,8684,8475,8516,8474,8236,8095,7994,7842,7922,8117,8291,8477,8721,8819,9070,9139,9335,9405,9450,9282,9209,9067,8948,8837,8860,8865,null,"Males","20-24",null,{"$f":"SUM(C36:C40)","v":9577},9162,8520,7842,7527,7212,7173,6903,7306,7521,7822,7940,7953,8040,8280,8690,8949,9029,9446,9915,10050,10100,9876,9603,9299,9053,8756,8584,8432,8097,7970,7792,null,{"$f":"INDEX(CC20:CY20,'Population Pyramid'!$L$1)","v":8432}]
["male",5,1823,1940,1884,1852,1866,1844,1791,1881,1714,1714,1804,1686,1708,1705,1584,1554,1608,1619,1610,1685,1720,1792,1799,1865,1833,1970,1834,1877,1840,1837,1881,1954,null,5,11447,11358,11305,10950,10716,10604,10475,10356,10230,10188,10040,9781,9702,9547,9506,9671,9899,10096,10331,10504,10790,10931,11134,11270,11283,11252,11043,10944,10788,10674,10741,10819,null,"Males","25-29",null,{"$f":"SUM(C41:C45)","v":11178},10686,10351,9967,9640,9517,9510,8976,8573,8097,7757,7553,7763,7891,8016,8313,8641,8703,8751,8935,9108,9383,9519,9460,9606,9667,9372,9289,9045,8679,8766,8943,null,{"$f":"INDEX(CC21:CY21,'Population Pyramid'!$L$1)","v":9045}]
["male",6,1756,1824,1932,1875,1860,1876,1864,1858,1904,1724,1718,1816,1681,1706,1712,1595,1564,1601,1626,1622,1684,1741,1810,1848,1861,1839,1972,1833,1869,1845,1861,1915,null,6,13203,13182,13237,12825,12576,12480,12339,12214,12134,11912,11758,11597,11383,11253,11218,11266,11463,11697,11957,12126,12474,12672,12944,13118,13144,13091,13015,12777,12657,12519,12602,12734,null,"Males","30-34",null,{"$f":"SUM(C46:C50)","v":10140},10171,10401,10495,10650,10553,10415,10134,10016,9709,9584,9435,8956,8543,8267,8189,8079,8341,8547,8605,8817,8942,9040,9123,9349,9454,9670,9709,9783,9675,9788,9753,null,{"$f":"INDEX(CC22:CY22,'Population Pyramid'!$L$1)","v":9783}]
["male",7,1811,1744,1818,1907,1854,1865,1887,1877,1873,1928,1725,1728,1809,1677,1697,1722,1595,1583,1601,1635,1615,1700,1764,1804,1852,1872,1867,1964,1828,1881,1906,1954,null,7,15014,14926,15055,14732,14430,14345,14226,14091,14007,13840,13483,13325,13192,12930,12915,12988,13058,13280,13558,13761,14089,14372,14708,14922,14996,14963,14882,14741,14485,14400,14508,14688,null,"Males","35-39",null,{"$f":"SUM(C51:C55)","v":8891},8928,9028,8975,9158,9333,9563,10042,10377,10464,10312,10176,9934,9802,9676,9585,9527,9173,8926,8641,8425,8407,8571,8816,8946,9200,9271,9294,9375,9471,9620,10075,null,{"$f":"INDEX(CC23:CY23,'Population Pyramid'!$L$1)","v":9375}]
["male",8,1720,1810,1742,1822,1895,1848,1878,1921,1894,1864,1932,1717,1718,1795,1688,1694,1705,1613,1584,1586,1634,1638,1720,1763,1809,1850,1869,1891,1977,1832,1901,1951,null,8,16734,16736,16797,16554,16325,16193,16104,16012,15901,15704,15415,15042,14910,14725,14603,14682,14763,14893,15142,15347,15723,16010,16428,16685,16805,16813,16751,16632,16462,16232,16409,16639,null,"Males","40-44",null,{"$f":"SUM(C56:C60)","v":8777},8389,8260,8192,8222,8329,8545,8658,8873,9014,9305,9530,9808,10005,10072,10146,10105,9991,9905,9795,9699,9589,9398,9187,8853,8679,8512,8636,8768,8941,9336,9701,null,{"$f":"INDEX(CC24:CY24,'Population Pyramid'!$L$1)","v":8768}]
["male",9,1636,1705,1796,1724,1810,1873,1839,1913,1941,1895,1878,1930,1714,1717,1781,1697,1693,1721,1625,1612,1600,1617,1641,1735,1766,1820,1857,1884,1892,1962,1844,1956,null,9,18370,18441,18593,18278,18135,18066,17943,17925,17842,17599,17293,16972,16624,16442,16384,16379,16456,16614,16767,16959,17323,17627,18069,18420,18571,18633,18608,18516,18354,18194,18253,18595,null,"Males","45-49",null,{"$f":"SUM(C61:C65)","v":8391},8812,8945,8868,8779,8223,7981,7941,8007,8094,8148,8320,8390,8546,8846,8992,9215,9513,9734,9847,10023,10066,10052,10028,9907,9680,9443,9182,9048,8738,8653,8629,null,{"$f":"INDEX(CC25:CY25,'Population Pyramid'!$L$1)","v":9048}]
["male",10,1721,1622,1706,1800,1727,1820,1873,1867,1917,1931,1917,1875,1942,1722,1722,1777,1709,1712,1723,1640,1617,1618,1625,1634,1733,1766,1806,1874,1887,1871,1973,1906,null,10,20091,20063,20299,20078,19862,19886,19816,19792,19759,19530,19210,18847,18566,18164,18106,18156,18165,18326,18490,18599,18940,19245,19694,20054,20304,20399,20414,20390,20241,20065,20226,20501,null,"Males","50-54",null,{"$f":"SUM(C66:C70)","v":6336},6446,6648,6926,7278,8038,8524,8666,8620,8524,8050,7784,7692,7662,7662,7819,7990,8159,8342,8654,8860,9117,9431,9725,9889,9929,9813,9762,9654,9514,9318,9164,null,{"$f":"INDEX(CC26:CY26,'Population Pyramid'!$L$1)","v":9654}]
["male",11,1680,1703,1611,1703,1798,1729,1832,1900,1886,1926,1979,1937,1862,1931,1727,1715,1748,1737,1722,1726,1637,1619,1626,1652,1646,1710,1749,1811,1909,1881,1925,2039,null,11,21771,21766,21910,21781,21660,21615,21648,21692,21645,21456,21189,20784,20428,20095,19833,19871,19913,20063,20212,20325,20577,20864,21320,21706,21950,22109,22163,22201,22150,21946,22151,22540,null,"Males","55-59",null,{"$f":"SUM(C71:C75)","v":5574},5642,5812,5950,5970,6051,6195,6369,6639,7019,7658,8015,8099,8110,8014,7585,7393,7316,7280,7382,7602,7818,7955,8129,8447,8584,8821,8952,9155,9328,9358,9272,null,{"$f":"INDEX(CC27:CY27,'Population Pyramid'!$L$1)","v":9155}]
["male",12,1705,1637,1662,1579,1681,1776,1721,1830,1889,1878,1915,2001,1947,1865,1899,1725,1736,1761,1730,1723,1739,1632,1626,1621,1647,1672,1719,1771,1811,1884,1913,1985,null,12,23476,23403,23572,23360,23341,23391,23369,23522,23534,23334,23104,22785,22375,21960,21732,21596,21649,21824,21942,22048,22316,22496,22946,23327,23597,23781,23882,23972,23961,23830,24064,24525,null,"Males","60-64",null,{"$f":"SUM(C76:C80)","v":4943},5052,5086,5070,5130,5204,5289,5462,5575,5586,5634,5745,5853,6092,6382,6953,7375,7582,7648,7576,7227,7061,6985,7030,7116,7233,7292,7438,7566,7787,7850,8048,null,{"$f":"INDEX(CC28:CY28,'Population Pyramid'!$L$1)","v":7566}]
["male",13,1664,1698,1631,1655,1589,1706,1806,1775,1853,1893,1905,1924,2030,1951,1847,1900,1747,1733,1767,1734,1727,1730,1627,1619,1627,1647,1687,1716,1788,1824,1913,1940,null,13,25140,25101,25203,25015,24930,25097,25175,25297,25387,25227,25009,24709,24405,23911,23579,23496,23396,23557,23709,23782,24043,24226,24573,24946,25224,25428,25569,25688,25749,25654,25977,26465,null,"Males","65-69",null,{"$f":"SUM(C81:C85)","v":4245},4279,4207,4274,4317,4376,4533,4585,4574,4624,4631,4684,4843,4905,4912,4959,5081,5286,5565,5822,6426,6811,7030,7087,6987,6606,6407,6345,6321,6323,6447,6527,null,{"$f":"INDEX(CC29:CY29,'Population Pyramid'!$L$1)","v":6321}]
["male",14,1588,1642,1680,1614,1639,1581,1714,1836,1757,1858,1895,1899,1930,2046,1977,1854,1891,1728,1758,1776,1738,1752,1744,1631,1600,1620,1652,1703,1721,1777,1879,1957,null,14,26728,26743,26883,26629,26569,26678,26889,27133,27144,27085,26904,26608,26335,25957,25556,25350,25287,25285,25467,25558,25781,25978,26317,26577,26824,27048,27221,27391,27470,27431,27856,28422,null,"Males","70-74",null,{"$f":"SUM(C86:C90)","v":3551},3630,3710,3541,3413,3422,3440,3508,3600,3654,3691,3801,3810,3820,3878,3940,4036,4172,4310,4336,4425,4550,4722,4897,5176,5734,6029,6192,6214,6090,5737,5522,null,{"$f":"INDEX(CC30:CY30,'Population Pyramid'!$L$1)","v":6214}]
["male",15,1488,1572,1624,1664,1600,1631,1587,1724,1820,1775,1829,1905,1908,1926,2100,2008,1868,1894,1790,1799,1810,1786,1798,1754,1624,1610,1640,1687,1698,1704,1802,1907,null,15,28216,28315,28507,28293,28169,28309,28476,28857,28964,28860,28733,28513,28243,27883,27656,27358,27155,27179,27257,27357,27591,27764,28115,28331,28448,28658,28861,29078,29168,29135,29658,30329,null,"Males","75-79",null,{"$f":"SUM(C91:C95)","v":2270},2184,2108,2290,2437,2529,2598,2664,2604,2566,2619,2668,2673,2774,2823,2922,3017,3097,3113,3209,3268,3371,3509,3619,3620,3667,3772,3922,4083,4255,4723,4942,null,{"$f":"INDEX(CC31:CY31,'Population Pyramid'!$L$1)","v":4083}]
["male",16,1586,1472,1555,1605,1642,1583,1637,1603,1722,1838,1768,1811,1901,1911,1948,2118,2033,1881,1956,1795,1829,1875,1829,1838,1764,1683,1640,1684,1712,1714,1740,1828,null,16,29802,29787,30062,29898,29811,29892,30113,30460,30686,30698,30501,30324,30144,29794,29604,29476,29188,29060,29213,29152,29420,29639,29944,30169,30212,30341,30501,30762,30880,30849,31398,32157,null,"Males","80-84",null,{"$f":"SUM(C96:C100)","v":1402},1383,1430,1444,1372,1334,1331,1296,1454,1619,1693,1751,1759,1754,1744,1789,1831,1869,1977,2019,2112,2182,2274,2278,2345,2409,2471,2575,2659,2618,2661,2712,null,{"$f":"INDEX(CC32:CY32,'Population Pyramid'!$L$1)","v":2659}]
["male",17,1613,1577,1458,1539,1593,1633,1603,1671,1613,1740,1816,1776,1806,1890,1898,1981,2168,2052,1936,1956,1830,1867,1904,1900,1904,1806,1726,1722,1680,1740,1786,1803,null,17,31415,31364,31520,31437,31404,31525,31716,32131,32299,32438,32317,32100,31950,31684,31502,31457,31356,31112,31149,31108,31250,31506,31848,32069,32116,32147,32227,32484,32560,32589,33184,33960,null,"Males","85+",null,{"$f":"SUM(C101:C106)","v":615},660,702,753,783,831,801,847,831,848,876,862,930,1044,1143,1212,1223,1257,1287,1364,1399,1486,1548,1605,1665,1739,1829,1855,1880,1866,1969,2051,null,{"$f":"INDEX(CC33:CY33,'Population Pyramid'!$L$1)","v":1880}]
["male",18,1588,1639,1592,1461,1554,1615,1709,1697,1720,1703,1771,1862,1828,1842,1918,1943,2037,2237,2168,1990,2007,1816,1858,1888,1867,1904,1760,1705,1708,1679,1659,1744,null,18,33003,33003,33112,32898,32958,33140,33425,33828,34019,34141,34088,33962,33778,33526,33420,33400,33393,33349,33317,33098,33257,33322,33706,33957,33983,34051,33987,34189,34268,34268,34843,35704]
["male",19,1729,1457,1428,1281,1148,1206,1427,1475,1476,1513,1533,1622,1684,1659,1724,1766,1792,1965,2191,2170,1970,1873,1787,1836,1755,1712,1697,1598,1518,1537,1448,1499,null,19,34732,34460,34540,34179,34106,34346,34852,35303,35495,35654,35621,35584,35462,35185,35144,35166,35185,35314,35508,35268,35227,35195,35493,35793,35738,35763,35684,35787,35786,35805,36291,37203,null,"Males","All Ages",null,{"$f":"C200","v":123064},122732,122838,122651,122505,123016,124591,125029,125930,126711,126861,127311,127534,127925,128619,129564,130577,131428,132399,133517,135476,137006,138574,139657,140561,141255,141685,142330,142595,142716,144156,146466,null,{"$f":"INDEX(CC35:CY35,'Population Pyramid'!$L$1)","v":142595}]
["male",20,1839,1757,1327,1234,1132,1057,1243,1497,1605,1547,1548,1545,1568,1703,1722,1715,1797,1826,2028,2198,2124,1984,1884,1742,1799,1753,1700,1713,1618,1526,1507,1451,null,20,36571,36217,35867,35413,35238,35403,36095,36800,37100,37201,37169,37129,37030,36888,36866,36881,36982,37140,37536,37466,37351,37179,37377,37535,37537,37516,37384,37500,37404,37331,37798,38654,null,"Females","0-4",null,{"$f":"SUM(C109:C113)","v":9284},9113,8962,8823,8579,8356,8278,8097,7861,7684,7608,7632,7675,7661,7827,7919,8113,8207,8316,8465,8658,8739,8813,8887,8885,8868,8813,8762,8658,8449,8402,8551,null,{"$f":"INDEX(CC36:CY36,'Population Pyramid'!$L$1)","v":8658}]
["male",21,1794,1721,1505,1233,1240,1216,1194,1254,1506,1509,1552,1506,1527,1573,1683,1754,1725,1771,1827,1986,2133,2055,1901,1894,1737,1775,1734,1681,1726,1614,1521,1516,null,21,38365,37938,37372,36646,36478,36619,37289,38054,38606,38710,38721,38635,38557,38461,38549,38635,38707,38911,39363,39452,39484,39234,39278,39429,39274,39291,39118,39181,39130,38945,39319,40170,null,"Females","5-9",null,{"$f":"SUM(C114:C118)","v":8356},8569,8727,8695,8810,8968,8881,8902,8922,8726,8485,8337,8254,8082,7869,7759,7703,7746,7784,7996,8183,8289,8402,8613,8724,8841,8894,8961,8911,8920,9106,9392,null,{"$f":"INDEX(CC37:CY37,'Population Pyramid'!$L$1)","v":8911}]
["male",22,1945,1853,1746,1649,1422,1464,1474,1231,1343,1560,1621,1639,1568,1593,1686,1812,1837,1771,1876,1925,1958,2120,2009,1888,1953,1750,1768,1769,1658,1682,1573,1505,null,22,40310,39791,39118,38295,37900,38083,38763,39285,39949,40270,40342,40274,40125,40054,40235,40447,40544,40682,41239,41377,41442,41354,41287,41317,41227,41041,40886,40950,40788,40627,40892,41675,null,"Females","10-14",null,{"$f":"SUM(C119:C123)","v":7848},7899,7939,7949,8075,8175,8474,8707,8780,8970,9164,9181,9088,9074,8827,8620,8484,8346,8188,8078,7967,7929,7991,8080,8291,8360,8424,8486,8624,8833,9156,9449,null,{"$f":"INDEX(CC38:CY38,'Population Pyramid'!$L$1)","v":8624}]
["male",23,1902,1909,1889,1830,1774,1562,1596,1388,1355,1449,1621,1646,1639,1560,1619,1760,1838,1822,1846,1939,1921,1997,2116,2004,1853,1957,1723,1745,1730,1613,1673,1582,null,23,42212,41700,41007,40125,39674,39645,40359,40673,41304,41719,41963,41920,41764,41614,41854,42207,42382,42504,43085,43316,43363,43351,43403,43321,43080,42998,42609,42695,42518,42240,42565,43257,null,"Females","15-19",null,{"$f":"SUM(C124:C128)","v":7451},7190,7151,7244,7279,7387,7716,7893,8002,8237,8227,8402,8546,8612,8972,9264,9282,9401,9412,9148,8838,8654,8620,8345,8159,8008,7874,7839,7907,8034,8080,8401,null,{"$f":"INDEX(CC39:CY39,'Population Pyramid'!$L$1)","v":7907}]
["male",24,2097,1922,2053,1896,1959,1913,1666,1533,1497,1456,1480,1604,1651,1611,1570,1649,1752,1839,1869,1867,1914,1944,1966,2075,1957,1818,1831,1676,1700,1662,1696,1738,null,24,44309,43622,43060,42021,41633,41558,42025,42206,42801,43175,43443,43524,43415,43225,43424,43856,44134,44343,44954,45183,45277,45295,45369,45396,45037,44816,44440,44371,44218,43902,44261,44995,null,"Females","20-24",null,{"$f":"SUM(C129:C133)","v":9437},9003,8370,7851,7318,7191,7432,6812,7143,7522,7601,7822,7940,8008,8075,8315,8573,8687,8928,9449,10075,10187,10016,9944,9344,9023,8801,8526,8037,7714,7576,7324,null,{"$f":"INDEX(CC40:CY40,'Population Pyramid'!$L$1)","v":8037}]
["male",25,2132,1964,1931,1970,1857,1844,1843,1551,1532,1507,1450,1507,1614,1660,1620,1644,1704,1778,1850,1886,1849,1926,1905,1903,2030,1894,1737,1834,1659,1673,1731,1746,null,25,46441,45586,44991,43991,43490,43402,43868,43757,44333,44682,44893,45031,45029,44885,45044,45500,45838,46121,46804,47069,47126,47221,47274,47299,47067,46710,46177,46205,45877,45575,45992,46741,null,"Females","25-29",null,{"$f":"SUM(C134:C138)","v":10956},10670,10550,10263,10035,9847,9689,9206,8801,8353,8061,7905,7844,8056,8352,8564,8833,8839,8834,8733,8908,9159,9463,9742,10067,10269,10222,10050,9917,9420,9282,9442,null,{"$f":"INDEX(CC41:CY41,'Population Pyramid'!$L$1)","v":9917}]
["male",26,2255,2075,1987,1891,1971,1887,1890,1826,1526,1537,1542,1474,1508,1613,1673,1672,1681,1660,1805,1855,1895,1839,1960,1869,1877,2001,1858,1724,1846,1629,1707,1750,null,26,48696,47661,46978,45882,45461,45289,45758,45583,45859,46219,46435,46505,46537,46498,46717,47172,47519,47781,48609,48924,49021,49060,49234,49168,48944,48711,48035,47929,47723,47204,47699,48491,null,"Females","30-34",null,{"$f":"SUM(C139:C143)","v":9956},10054,10249,10346,10347,10292,10264,10231,10178,10062,9872,9536,9163,8902,8564,8302,8276,8307,8449,8716,8933,9235,9455,9425,9575,9704,9964,10266,10508,10697,11001,11114,null,{"$f":"INDEX(CC42:CY42,'Population Pyramid'!$L$1)","v":10508}]
["male",27,2240,2170,2029,1930,1834,1901,1870,1794,1819,1478,1554,1563,1505,1524,1621,1755,1705,1708,1645,1802,1875,1900,1854,1920,1868,1897,1979,1838,1715,1840,1671,1744,null,27,50936,49831,49007,47812,47295,47190,47628,47377,47678,47697,47989,48068,48042,48022,48338,48927,49224,49489,50254,50726,50896,50960,51088,51088,50812,50608,50014,49767,49438,49044,49370,50235,null,"Females","35-39",null,{"$f":"SUM(C144:C148)","v":8459},8556,8676,8930,9165,9443,9721,10052,10222,10347,10356,10248,10217,9989,10020,9810,9425,9233,8973,8631,8546,8535,8658,8989,9340,9573,9757,9851,9880,10061,10255,10851,null,{"$f":"INDEX(CC43:CY43,'Population Pyramid'!$L$1)","v":9880}]
["male",28,2281,2189,2145,1995,1938,1879,1946,1863,1800,1755,1480,1539,1592,1530,1532,1700,1835,1741,1746,1647,1809,1902,1902,1842,1962,1901,1892,1993,1856,1724,1917,1726,null,28,53217,52020,51152,49807,49233,49069,49574,49240,49478,49452,49469,49607,49634,49552,49870,50627,51059,51230,52000,52373,52705,52862,52990,52930,52774,52509,51906,51760,51294,50768,51287,51961,null,"Females","40-44",null,{"$f":"SUM(C149:C153)","v":8722},8357,8244,8105,8075,8165,8298,8467,8868,9141,9458,9743,9913,10041,10075,10178,10096,10088,9976,9925,9760,9539,9354,9168,8927,8830,8818,9016,9303,9543,9916,10303,null,{"$f":"INDEX(CC44:CY44,'Population Pyramid'!$L$1)","v":9303}]
["male",29,2270,2288,2259,2181,2040,2006,1961,1942,1896,1820,1731,1470,1544,1564,1570,1542,1716,1816,1705,1745,1680,1816,1898,1926,1869,1974,1906,1900,1969,1813,1740,1977,null,29,55487,54308,53411,51988,51273,51075,51535,51182,51374,51272,51200,51077,51178,51116,51440,52169,52775,53046,53705,54118,54385,54678,54888,54856,54643,54483,53812,53660,53263,52581,53027,53938,null,"Females","45-49",null,{"$f":"SUM(C154:C158)","v":8131},8592,8809,8901,8857,8327,8070,8002,7970,8007,8058,8113,8299,8602,8946,9193,9512,9690,9896,9900,10095,10077,10160,10048,9940,9692,9458,9234,9083,8845,8886,8932,null,{"$f":"INDEX(CC45:CY45,'Population Pyramid'!$L$1)","v":9083}]
["male",30,2175,2233,2317,2219,2198,2062,2036,1930,1957,1855,1857,1797,1492,1555,1589,1597,1588,1761,1849,1713,1764,1709,1817,1912,1968,1907,1994,1922,1917,1911,1881,1801,null,30,57662,56541,55728,54207,53471,53137,53571,53112,53331,53127,53057,52874,52670,52671,53029,53766,54363,54807,55554,55831,56149,56387,56705,56768,56611,56390,55806,55582,55180,54492,54908,55739,null,"Females","50-54",null,{"$f":"SUM(C159:C163)","v":6148},6279,6473,6737,7139,7932,8442,8759,8831,8780,8214,7921,7714,7654,7603,7726,7859,8079,8437,8787,9103,9491,9653,9815,9922,10035,9914,9886,9652,9556,9374,9114,null,{"$f":"INDEX(CC46:CY46,'Population Pyramid'!$L$1)","v":9652}]
["male",31,2068,2048,2146,2205,2128,2076,1945,1960,1901,1903,1880,1856,1785,1479,1561,1615,1588,1631,1786,1870,1708,1751,1739,1829,1876,1973,1932,1993,1905,1922,1978,1946,null,31,59730,58589,57874,56412,55599,55213,55516,55072,55232,55030,54937,54730,54455,54150,54590,55381,55951,56438,57340,57701,57857,58138,58444,58597,58487,58363,57738,57575,57085,56414,56886,57685,null,"Females","55-59",null,{"$f":"SUM(C164:C168)","v":5425},5566,5794,5842,5814,5875,6033,6249,6549,6977,7716,8122,8298,8306,8216,7709,7465,7319,7278,7272,7510,7700,7999,8330,8570,8817,9141,9253,9418,9455,9423,9267,null,{"$f":"INDEX(CC47:CY47,'Population Pyramid'!$L$1)","v":9418}]
["male",32,1949,2034,2032,2083,2229,2150,2090,2024,2032,1967,1902,1918,1839,1785,1520,1597,1650,1592,1635,1772,1891,1750,1795,1774,1828,1920,1968,1921,1982,1907,1953,2019,null,32,61679,60623,59906,58495,57828,57363,57606,57096,57264,56997,56839,56648,56294,55935,56110,56978,57601,58030,58975,59473,59748,59888,60239,60371,60315,60283,59706,59496,59067,58321,58839,59704,null,"Females","60-64",null,{"$f":"SUM(C169:C173)","v":5128},5112,5002,4999,5074,5179,5326,5550,5643,5600,5628,5719,5840,6021,6376,7094,7529,7751,7799,7836,7378,7172,7071,7044,7125,7234,7355,7543,7785,8007,8258,8571,null,{"$f":"INDEX(CC48:CY48,'Population Pyramid'!$L$1)","v":7785}]
["male",33,1991,1896,2003,2020,2075,2175,2128,2088,1993,1985,1964,1912,1927,1821,1788,1585,1655,1676,1591,1649,1799,1912,1751,1826,1798,1853,1923,1965,1977,1983,1947,1982,null,33,{"$f":"AK48+C49","v":63670},{"$f":"AL48+D49","v":62519},{"$f":"AM48+E49","v":61909},{"$f":"AN48+F49","v":60515},{"$f":"AO48+G49","v":59903},{"$f":"AP48+H49","v":59538},{"$f":"AQ48+I49","v":59734},{"$f":"AR48+J49","v":59184},{"$f":"AS48+K49","v":59257},{"$f":"AT48+L49","v":58982},{"$f":"AU48+M49","v":58803},{"$f":"AV48+N49","v":58560},{"$f":"AW48+O49","v":58221},{"$f":"AX48+P49","v":57756},{"$f":"AY48+Q49","v":57898},{"$f":"AZ48+R49","v":58563},{"$f":"BA48+S49","v":59256},{"$f":"BB48+T49","v":59706},{"$f":"BC48+U49","v":60566},{"$f":"BD48+V49","v":61122},{"$f":"BE48+W49","v":61547},{"$f":"BF48+X49","v":61800},{"$f":"BG48+Y49","v":61990},{"$f":"BH48+Z49","v":62197},{"$f":"BI48+AA49","v":62113},{"$f":"BJ48+AB49","v":62136},{"$f":"BK48+AC49","v":61629},{"$f":"BL48+AD49","v":61461},{"$f":"BM48+AE49","v":61044},{"$f":"BN48+AF49","v":60304},{"$f":"BO48+AG49","v":60786},61686,null,"Females","65-69",null,{"$f":"SUM(C174:C178)","v":4905},4767,4792,4745,4708,4702,4751,4723,4733,4832,4933,5061,5220,5265,5144,5128,5233,5418,5646,6002,6727,7164,7342,7447,7516,7046,6766,6647,6607,6658,6683,6818,null,{"$f":"INDEX(CC49:CY49,'Population Pyramid'!$L$1)","v":6607}]
["male",34,1957,1960,1903,1968,2020,2090,2216,2132,2133,1999,1981,1952,1913,1903,1809,1795,1598,1681,1686,1601,1655,1820,1938,1782,1879,1801,1853,1908,2002,1952,2029,2005,null,34,65627,64479,63812,62483,61923,61628,61950,61316,61390,60981,60784,60512,60134,59659,59707,60358,60854,61387,62252,62723,63202,63620,63928,63979,63992,63937,63482,63369,63046,62256,62815,63691,null,"Females","70-74",null,{"$f":"SUM(C179:C183)","v":4661},4809,4884,4660,4470,4370,4243,4278,4319,4299,4327,4357,4290,4296,4365,4468,4614,4754,4802,4710,4710,4843,5040,5256,5547,6200,6587,6778,6850,6818,6454,6160,null,{"$f":"INDEX(CC50:CY50,'Population Pyramid'!$L$1)","v":6850}]
["male",35,1865,1890,1896,1828,1934,2002,2065,2183,2110,2084,1995,1987,1950,1896,1907,1857,1821,1608,1674,1666,1630,1672,1829,1943,1764,1928,1795,1828,1914,1981,1982,2098,null,35,67492,66369,65708,64311,63857,63630,64015,63499,63500,63065,62779,62499,62084,61555,61614,62215,62675,62995,63926,64389,64832,65292,65757,65922,65756,65865,65277,65197,64960,64237,64797,65789,null,"Females","75-79",null,{"$f":"SUM(C184:C188)","v":3647},3550,3435,3677,3796,3904,4076,4120,3927,3786,3672,3614,3628,3682,3685,3717,3781,3762,3774,3884,4000,4130,4268,4264,4192,4191,4284,4462,4627,4901,5400,5748,null,{"$f":"INDEX(CC51:CY51,'Population Pyramid'!$L$1)","v":4627}]
["male",36,1782,1815,1859,1831,1804,1897,1986,2067,2182,2108,2075,1981,1951,1929,1892,1916,1880,1826,1622,1658,1677,1667,1665,1842,1933,1793,1936,1798,1826,1940,2009,2023,null,36,69274,68184,67567,66142,65661,65527,66001,65566,65682,65173,64854,64480,64035,63484,63506,64131,64555,64821,65548,66047,66509,66959,67422,67764,67689,67658,67213,66995,66786,66177,66806,67812,null,"Females","80-84",null,{"$f":"SUM(C189:C193)","v":2568},2610,2733,2784,2848,2772,2710,2638,2786,2879,2966,3100,3114,3046,2939,2902,2817,2782,2860,2925,2985,3021,3071,3059,3144,3216,3325,3466,3493,3395,3431,3499,null,{"$f":"INDEX(CC52:CY52,'Population Pyramid'!$L$1)","v":3493}]
["male",37,1710,1727,1769,1789,1810,1790,1863,1991,2066,2131,2062,2062,1962,1952,1940,1907,1957,1873,1813,1638,1658,1698,1657,1671,1862,1894,1807,1947,1826,1795,1985,2049,null,37,70984,69911,69336,67931,67471,67317,67864,67557,67748,67304,66916,66542,65997,65436,65446,66038,66512,66694,67361,67685,68167,68657,69079,69435,69551,69552,69020,68942,68612,67972,68791,69861,null,"Females","85+",null,{"$f":"SUM(C194:C199)","v":1982},2036,2048,2100,2116,2131,2187,2343,2395,2509,2515,2498,2491,2628,2764,2896,2982,3019,3047,3060,3100,3142,3198,3201,3293,3348,3288,3304,3335,3410,3473,3530,null,{"$f":"INDEX(CC53:CY53,'Population Pyramid'!$L$1)","v":3335}]
["male",38,1780,1723,1764,1778,1822,1800,1818,1951,2052,2109,2105,2022,2040,1987,1944,1940,1907,1954,1847,1821,1647,1702,1707,1646,1686,1873,1892,1822,1955,1810,1808,2040,null,38,72764,71634,71100,69709,69293,69117,69682,69508,69800,69413,69021,68564,68037,67423,67390,67978,68419,68648,69208,69506,69814,70359,70786,71081,71237,71425,70912,70764,70567,69782,70599,71901]
["male",39,1754,1773,1740,1749,1788,1844,1831,1850,1967,2032,2075,2124,2031,2038,1993,1965,1962,1912,1970,1858,1813,1668,1713,1714,1701,1712,1841,1899,1854,1945,1836,1865,null,39,74518,73407,72840,71458,71081,70961,71513,71358,71767,71445,71096,70688,70068,69461,69383,69943,70381,70560,71178,71364,71627,72027,72499,72795,72938,73137,72753,72663,72421,71727,72435,73766]
["male",40,1685,1708,1736,1700,1715,1749,1838,1799,1858,1911,2016,2063,2093,2030,2035,2007,1955,1962,1921,1965,1880,1820,1705,1745,1699,1707,1697,1846,1901,1862,1978,1902,null,40,76203,75115,74576,73158,72796,72710,73351,73157,73625,73356,73112,72751,72161,71491,71418,71950,72336,72522,73099,73329,73507,73847,74204,74540,74637,74844,74450,74509,74322,73589,74413,75668]
["male",41,1627,1613,1640,1655,1636,1676,1716,1801,1740,1789,1928,2007,2050,2064,2031,2064,2025,1945,1974,1930,1983,1872,1833,1713,1756,1698,1697,1700,1826,1919,1867,2025,null,41,77830,76728,76216,74813,74432,74386,75067,74958,75365,75145,75040,74758,74211,73555,73449,74014,74361,74467,75073,75259,75490,75719,76037,76253,76393,76542,76147,76209,76148,75508,76280,77693]
["male",42,1741,1665,1648,1665,1671,1662,1723,1798,1874,1784,1767,1913,1982,2034,2060,2021,2063,2029,1925,1955,1940,1991,1884,1845,1706,1766,1655,1678,1681,1791,1942,1895,null,42,79571,78393,77864,76478,76103,76048,76790,76756,77239,76929,76807,76671,76193,75589,75509,76035,76424,76496,76998,77214,77430,77710,77921,78098,78099,78308,77802,77887,77829,77299,78222,79588]
["male",43,1783,1658,1603,1594,1618,1630,1645,1641,1768,1803,1789,1775,1913,1951,2004,2059,1997,2063,2032,1913,1946,1955,2008,1862,1819,1716,1743,1674,1676,1698,1827,2005,null,43,81354,80051,79467,78072,77721,77678,78435,78397,79007,78732,78596,78446,78106,77540,77513,78094,78421,78559,79030,79127,79376,79665,79929,79960,79918,80024,79545,79561,79505,78997,80049,81593]
["male",44,1941,1745,1633,1578,1582,1612,1623,1619,1633,1727,1805,1772,1770,1926,1942,1995,2065,1992,2053,2032,1950,1951,1968,2022,1873,1792,1720,1738,1684,1671,1722,1874,null,44,83295,81796,81100,79650,79303,79290,80058,80016,80640,80459,80401,80218,79876,79466,79455,80089,80486,80551,81083,81159,81326,81616,81897,81982,81791,81816,81265,81299,81189,80668,81771,83467]
["male",45,2228,1941,1741,1624,1564,1581,1622,1644,1642,1650,1705,1807,1755,1763,1915,1925,1982,2057,1987,2045,2033,1937,1966,1974,2007,1864,1793,1708,1734,1690,1699,1773,null,45,85523,83737,82841,81274,80867,80871,81680,81660,82282,82109,82106,82025,81631,81229,81370,82014,82468,82608,83070,83204,83359,83553,83863,83956,83798,83680,83058,83007,82923,82358,83470,85240]
["male",46,1612,2169,1902,1692,1582,1542,1577,1653,1642,1627,1632,1715,1788,1727,1737,1896,1899,1973,2024,1981,2055,2045,1968,1982,1933,1988,1861,1792,1718,1737,1701,1692,null,46,87135,85906,84743,82966,82449,82413,83257,83313,83924,83736,83738,83740,83419,82956,83107,83910,84367,84581,85094,85185,85414,85598,85831,85938,85731,85668,84919,84799,84641,84095,85171,86932]
["male",47,1610,1588,2135,1879,1685,1575,1541,1567,1634,1623,1598,1621,1701,1767,1734,1704,1900,1893,1965,2022,1961,2074,2051,1963,1998,1929,1954,1849,1814,1708,1736,1697,null,47,88745,87494,86878,84845,84134,83988,84798,84880,85558,85359,85336,85361,85120,84723,84841,85614,86267,86474,87059,87207,87375,87672,87882,87901,87729,87597,86873,86648,86455,85803,86907,88629]
["male",48,1552,1604,1589,2125,1869,1675,1578,1515,1582,1623,1611,1576,1603,1713,1755,1726,1708,1893,1877,1943,2023,1982,2082,2033,1944,1976,1912,1931,1846,1785,1696,1742,null,48,90297,89098,88467,86970,86003,85663,86376,86395,87140,86982,86947,86937,86723,86436,86596,87340,87975,88367,88936,89150,89398,89654,89964,89934,89673,89573,88785,88579,88301,87588,88603,90371]
["male",49,1389,1510,1578,1548,2079,1850,1663,1562,1507,1571,1602,1601,1543,1576,1705,1741,1726,1697,1881,1856,1951,2028,1985,2076,2025,1923,1923,1902,1936,1818,1821,1725,null,49,91686,90608,90045,88518,88082,87513,88039,87957,88647,88553,88549,88538,88266,88012,88301,89081,89701,90064,90817,91006,91349,91682,91949,92010,91698,91496,90708,90481,90237,89406,90424,92096]
["male",50,1325,1383,1505,1575,1548,2070,1857,1684,1566,1499,1562,1598,1589,1545,1562,1695,1725,1731,1693,1879,1875,1962,2013,1995,2079,1994,1890,1912,1915,1915,1798,1795,null,50,93011,91991,91550,90093,89630,89583,89896,89641,90213,90052,90111,90136,89855,89557,89863,90776,91426,91795,92510,92885,93224,93644,93962,94005,93777,93490,92598,92393,92152,91321,92222,93891]
["male",51,1209,1323,1381,1493,1583,1555,2072,1858,1672,1576,1496,1542,1588,1580,1512,1551,1683,1717,1731,1691,1884,1887,1959,2004,1979,2068,1998,1900,1898,1891,1881,1777,null,51,94220,93314,92931,91586,91213,91138,91968,91499,91885,91628,91607,91678,91443,91137,91375,92327,93109,93512,94241,94576,95108,95531,95921,96009,95756,95558,94596,94293,94050,93212,94103,95668]
["male",52,1277,1194,1315,1382,1494,1582,1556,2037,1838,1644,1561,1484,1523,1568,1557,1499,1543,1682,1705,1732,1702,1884,1902,1970,2002,1979,2047,1964,1874,1907,1864,1868,null,52,95497,94508,94246,92968,92707,92720,93524,93536,93723,93272,93168,93162,92966,92705,92932,93826,94652,95194,95946,96308,96810,97415,97823,97979,97758,97537,96643,96257,95924,95119,95967,97536]
["male",53,1292,1265,1188,1297,1364,1477,1569,1534,2008,1824,1632,1539,1465,1522,1539,1542,1501,1532,1693,1691,1702,1706,1875,1906,1954,1959,1939,2055,1934,1886,1909,1829,null,53,96789,95773,95434,94265,94071,94197,95093,95070,95731,95096,94800,94701,94431,94227,94471,95368,96153,96726,97639,97999,98512,99121,99698,99885,99712,99496,98582,98312,97858,97005,97876,99365]
["male",54,1233,1281,1259,1179,1289,1354,1470,1553,1536,1981,1799,1621,1527,1447,1492,1532,1538,1497,1520,1661,1697,1678,1682,1850,1875,1929,1939,1931,2033,1915,1866,1895,null,54,98022,97054,96693,95444,95360,95551,96563,96623,97267,97077,96599,96322,95958,95674,95963,96900,97691,98223,99159,99660,100209,100799,101380,101735,101587,101425,100521,100243,99891,98920,99742,101260]
["male",55,1201,1208,1260,1240,1168,1271,1328,1445,1549,1537,1963,1764,1614,1497,1432,1483,1522,1523,1490,1477,1667,1695,1707,1688,1831,1852,1921,1918,1917,2014,1887,1833,null,55,99223,98262,97953,96684,96528,96822,97891,98068,98816,98614,98562,98086,97572,97171,97395,98383,99213,99746,100649,101137,101876,102494,103087,103423,103418,103277,102442,102161,101808,100934,101629,103093]
["male",56,1133,1191,1196,1248,1225,1165,1265,1331,1425,1537,1502,1921,1729,1616,1469,1408,1475,1521,1498,1482,1462,1669,1675,1704,1676,1803,1829,1874,1890,1893,1978,1849,null,56,100356,99453,99149,97932,97753,97987,99156,99399,100241,100151,100064,100007,99301,98787,98864,99791,100688,101267,102147,102619,103338,104163,104762,105127,105094,105080,104271,104035,103698,102827,103607,104942]
["male",57,1079,1126,1177,1186,1235,1221,1157,1241,1325,1413,1507,1480,1872,1709,1603,1453,1388,1457,1489,1505,1489,1470,1652,1644,1674,1660,1786,1792,1857,1866,1873,1967,null,57,101435,100579,100326,99118,98988,99208,100313,100640,101566,101564,101571,101487,101173,100496,100467,101244,102076,102724,103636,104124,104827,105633,106414,106771,106768,106740,106057,105827,105555,104693,105480,106909]
["male",58,1058,1070,1119,1176,1180,1229,1226,1146,1217,1323,1393,1466,1460,1834,1695,1568,1453,1363,1450,1480,1508,1474,1459,1639,1643,1655,1641,1762,1765,1829,1818,1845,null,58,102493,101649,101445,100294,100168,100437,101539,101786,102783,102887,102964,102953,102633,102330,102162,102812,103529,104087,105086,105604,106335,107107,107873,108410,108411,108395,107698,107589,107320,106522,107298,108754]
["male",59,1103,1047,1060,1100,1162,1165,1219,1206,1123,1209,1293,1384,1424,1454,1815,1673,1555,1452,1353,1438,1476,1510,1462,1454,1623,1614,1644,1606,1726,1726,1802,1778,null,59,103596,102696,102505,101394,101330,101602,102758,102992,103906,104096,104257,104337,104057,103784,103977,104485,105084,105539,106439,107042,107811,108617,109335,109864,110034,110009,109342,109195,109046,108248,109100,110532]
["male",60,1079,1074,1022,1036,1071,1136,1146,1211,1180,1112,1186,1269,1360,1407,1410,1799,1661,1542,1435,1338,1432,1464,1484,1459,1445,1597,1579,1625,1598,1690,1729,1791,null,60,104675,103770,103527,102430,102401,102738,103904,104203,105086,105208,105443,105606,105417,105191,105387,106284,106745,107081,107874,108380,109243,110081,110819,111323,111479,111606,110921,110820,110644,109938,110829,112323]
["male",61,994,1068,1072,1011,1027,1058,1128,1146,1199,1160,1092,1155,1232,1344,1384,1364,1776,1639,1535,1425,1327,1415,1444,1461,1432,1424,1563,1559,1575,1572,1658,1688,null,61,105669,104838,104599,103441,103428,103796,105032,105349,106285,106368,106535,106761,106649,106535,106771,107648,108521,108720,109409,109805,110570,111496,112263,112784,112911,113030,112484,112379,112219,111510,112487,114011]
["male",62,1038,981,1038,1061,994,1015,1043,1087,1130,1179,1134,1079,1119,1209,1316,1351,1352,1762,1611,1522,1410,1317,1411,1434,1449,1413,1387,1539,1533,1543,1525,1643,null,62,106707,105819,105637,104502,104422,104811,106075,106436,107415,107547,107669,107840,107768,107744,108087,108999,109873,110482,111020,111327,111980,112813,113674,114218,114360,114443,113871,113918,113752,113053,114012,115654]
["male",63,943,1014,965,1022,1040,984,1008,1030,1063,1096,1159,1110,1062,1094,1195,1276,1319,1334,1743,1579,1499,1382,1290,1400,1415,1428,1372,1373,1519,1494,1491,1481,null,63,107650,106833,106602,105524,105462,105795,107083,107466,108478,108643,108828,108950,108830,108838,109282,110275,111192,111816,112763,112906,113479,114195,114964,115618,115775,115871,115243,115291,115271,114547,115503,117135]
["male",64,889,915,989,940,998,1011,964,988,1003,1039,1063,1132,1080,1038,1077,1163,1267,1305,1324,1712,1559,1483,1356,1276,1375,1371,1391,1342,1341,1488,1447,1445,null,64,108539,107748,107591,106464,106460,106806,108047,108454,109481,109682,109891,110082,109910,109876,110359,111438,112459,113121,114087,114618,115038,115678,116320,116894,117150,117242,116634,116633,116612,116035,116950,118580]
["male",65,929,884,893,964,926,982,1003,947,963,987,1017,1038,1092,1038,1016,1049,1147,1239,1278,1300,1684,1537,1475,1329,1260,1346,1334,1361,1306,1307,1454,1421,null,65,{"$f":"AK80+C81","v":109468},{"$f":"AL80+D81","v":108632},{"$f":"AM80+E81","v":108484},{"$f":"AN80+F81","v":107428},{"$f":"AO80+G81","v":107386},{"$f":"AP80+H81","v":107788},{"$f":"AQ80+I81","v":109050},{"$f":"AR80+J81","v":109401},{"$f":"AS80+K81","v":110444},{"$f":"AT80+L81","v":110669},{"$f":"AU80+M81","v":110908},{"$f":"AV80+N81","v":111120},{"$f":"AW80+O81","v":111002},{"$f":"AX80+P81","v":110914},{"$f":"AY80+Q81","v":111375},{"$f":"AZ80+R81","v":112487},{"$f":"BA80+S81","v":113606},{"$f":"BB80+T81","v":114360},{"$f":"BC80+U81","v":115365},{"$f":"BD80+V81","v":115918},{"$f":"BE80+W81","v":116722},{"$f":"BF80+X81","v":117215},{"$f":"BG80+Y81","v":117795},{"$f":"BH80+Z81","v":118223},{"$f":"BI80+AA81","v":118410},{"$f":"BJ80+AB81","v":118588},{"$f":"BK80+AC81","v":117968},{"$f":"BL80+AD81","v":117994},{"$f":"BM80+AE81","v":117918},{"$f":"BN80+AF81","v":117342},{"$f":"BO80+AG81","v":118404},120001]
["male",66,837,898,843,861,925,902,953,975,926,945,953,999,1018,1058,997,988,1039,1133,1229,1238,1282,1655,1516,1443,1306,1214,1317,1319,1327,1261,1266,1418,null,66,110305,109530,109327,108289,108311,108690,110003,110376,111370,111614,111861,112119,112020,111972,112372,113475,114645,115493,116594,117156,118004,118870,119311,119666,119716,119802,119285,119313,119245,118603,119670,121419]
["male",67,881,827,877,832,846,907,895,951,940,896,919,919,988,985,1023,988,968,1033,1114,1206,1218,1275,1640,1484,1407,1268,1188,1285,1302,1290,1233,1244,null,67,111186,110357,110204,109121,109157,109597,110898,111327,112310,112510,112780,113038,113008,112957,113395,114463,115613,116526,117708,118362,119222,120145,120951,121150,121123,121070,120473,120598,120547,119893,120903,122663]
["male",68,852,842,789,843,792,822,874,873,910,919,858,891,890,953,954,994,958,954,1018,1084,1180,1190,1244,1609,1454,1358,1243,1162,1246,1257,1273,1211,null,68,112038,111199,110993,109964,109949,110419,111772,112200,113220,113429,113638,113929,113898,113910,114349,115457,116571,117480,118726,119446,120402,121335,122195,122759,122577,122428,121716,121760,121793,121150,122176,123874]
["male",69,746,828,805,774,828,763,808,839,835,877,884,837,855,871,922,940,969,927,926,994,1062,1154,1155,1222,1560,1420,1325,1218,1140,1208,1221,1233,null,69,112784,112027,111798,110738,110777,111182,112580,113039,114055,114306,114522,114766,114753,114781,115271,116397,117540,118407,119652,120440,121464,122489,123350,123981,124137,123848,123041,122978,122933,122358,123397,125107]
["male",70,819,717,782,768,738,802,730,767,823,812,848,868,809,834,835,904,921,948,916,901,965,1045,1124,1128,1191,1524,1399,1287,1183,1103,1157,1167,null,70,113603,112744,112580,111506,111515,111984,113310,113806,114878,115118,115370,115634,115562,115615,116106,117301,118461,119355,120568,121341,122429,123534,124474,125109,125328,125372,124440,124265,124116,123461,124554,126274]
["male",71,812,782,680,748,726,704,773,718,739,805,772,820,826,783,803,815,884,883,936,887,879,947,1023,1094,1096,1168,1479,1357,1268,1134,1073,1117,null,71,114415,113526,113260,112254,112241,112688,114083,114524,115617,115923,116142,116454,116388,116398,116909,118116,119345,120238,121504,122228,123308,124481,125497,126203,126424,126540,125919,125622,125384,124595,125627,127391]
["male",72,869,773,724,640,695,684,676,740,686,705,777,729,772,792,755,773,805,849,865,912,863,854,925,996,1060,1067,1126,1450,1318,1225,1103,1043,null,72,115284,114299,113984,112894,112936,113372,114759,115264,116303,116628,116919,117183,117160,117190,117664,118889,120150,121087,122369,123140,124171,125335,126422,127199,127484,127607,127045,127072,126702,125820,126730,128434]
["male",73,559,828,738,685,608,651,650,665,712,656,668,744,697,745,759,718,738,788,821,837,900,839,824,894,957,1038,1031,1095,1406,1268,1180,1075,null,73,115843,115127,114722,113579,113544,114023,115409,115929,117015,117284,117587,117927,117857,117935,118423,119607,120888,121875,123190,123977,125071,126174,127246,128093,128441,128645,128076,128167,128108,127088,127910,129509]
["male",74,492,530,786,700,646,581,611,618,640,676,626,640,706,666,726,730,688,704,772,799,818,865,826,785,872,937,994,1003,1039,1360,1224,1120,null,74,116335,115657,115508,114279,114190,114604,116020,116547,117655,117960,118213,118567,118563,118601,119149,120337,121576,122579,123962,124776,125889,127039,128072,128878,129313,129582,129070,129170,129147,128448,129134,130629]
["male",75,500,448,489,729,654,592,556,582,577,585,638,603,609,672,633,694,701,673,667,741,773,802,834,799,750,837,912,958,958,1001,1313,1180,null,75,116835,116105,115997,115008,114844,115196,116576,117129,118232,118545,118851,119170,119172,119273,119782,121031,122277,123252,124629,125517,126662,127841,128906,129677,130063,130419,129982,130128,130105,129449,130447,131809]
["male",76,485,453,409,454,686,610,547,517,550,554,558,595,570,586,633,605,671,683,654,633,706,744,785,796,769,718,812,871,921,908,963,1248,null,76,117320,116558,116406,115462,115530,115806,117123,117646,118782,119099,119409,119765,119742,119859,120415,121636,122948,123935,125283,126150,127368,128585,129691,130473,130832,131137,130794,130999,131026,130357,131410,133057]
["male",77,474,438,407,372,421,623,565,513,478,512,532,520,565,542,556,607,577,644,646,631,600,670,722,731,750,737,689,780,834,868,870,904,null,77,117794,116996,116813,115834,115951,116429,117688,118159,119260,119611,119941,120285,120307,120401,120971,122243,123525,124579,125929,126781,127968,129255,130413,131204,131582,131874,131483,131779,131860,131225,132280,133961]
["male",78,452,432,404,374,340,392,569,535,498,439,475,496,476,528,507,527,579,552,624,614,608,575,635,688,696,713,693,661,742,785,833,833,null,78,118246,117428,117217,116208,116291,116821,118257,118694,119758,120050,120416,120781,120783,120929,121478,122770,124104,125131,126553,127395,128576,129830,131048,131892,132278,132587,132176,132440,132602,132010,133113,134794]
["male",79,359,413,399,361,336,312,361,517,501,476,416,454,453,446,494,489,489,545,522,590,581,580,533,605,655,662,666,652,628,693,744,777,null,79,118605,117841,117616,116569,116627,117133,118618,119211,120259,120526,120832,121235,121236,121375,121972,123259,124593,125676,127075,127985,129157,130410,131581,132497,132933,133249,132842,133092,133230,132703,133857,135571]
["male",80,363,327,373,358,317,303,282,335,481,471,440,373,410,430,417,451,451,446,508,484,552,547,534,506,569,621,626,635,619,579,641,696,null,80,118968,118168,117989,116927,116944,117436,118900,119546,120740,120997,121272,121608,121646,121805,122389,123710,125044,126122,127583,128469,129709,130957,132115,133003,133502,133870,133468,133727,133849,133282,134498,136267]
["male",81,321,330,282,345,318,300,291,247,312,442,412,404,343,378,388,393,414,429,416,468,451,511,523,495,477,533,585,586,599,563,545,602,null,81,119289,118498,118271,117272,117262,117736,119191,119793,121052,121439,121684,122012,121989,122183,122777,124103,125458,126551,127999,128937,130160,131468,132638,133498,133979,134403,134053,134313,134448,133845,135043,136869]
["male",82,283,282,301,248,291,283,272,263,226,293,398,381,362,327,360,362,360,381,410,374,431,420,481,489,453,438,489,542,538,539,532,509,null,82,119572,118780,118572,117520,117553,118019,119463,120056,121278,121732,122082,122393,122351,122510,123137,124465,125818,126932,128409,129311,130591,131888,133119,133987,134432,134841,134542,134855,134986,134384,135575,137378]
["male",83,224,259,248,267,219,258,255,234,233,202,269,344,332,318,294,320,320,330,347,375,343,391,382,437,451,412,398,448,498,491,483,466,null,83,119796,119039,118820,117787,117772,118277,119718,120290,121511,121934,122351,122737,122683,122828,123431,124785,126138,127262,128756,129686,130934,132279,133501,134424,134883,135253,134940,135303,135484,134875,136058,137844]
["male",84,211,185,226,226,227,190,231,217,202,211,174,249,312,301,285,263,286,283,296,318,335,313,354,351,395,405,373,364,405,446,460,439,null,84,120007,119224,119046,118013,117999,118467,119949,120507,121713,122145,122525,122986,122995,123129,123716,125048,126424,127545,129052,130004,131269,132592,133855,134775,135278,135658,135313,135667,135889,135321,136518,138283]
["male",85,615,660,702,753,783,831,801,847,831,163,199,159,226,279,258,245,219,257,252,264,285,301,280,321,310,353,371,334,328,372,395,414,null,85,120622,119884,119748,118766,118782,119298,120750,121354,122544,122308,122724,123145,123221,123408,123974,125293,126643,127802,129304,130268,131554,132893,134135,135096,135588,136011,135684,136001,136217,135693,136913,138697]
["male",86,null,null,null,null,null,null,null,null,null,148,133,176,145,202,250,228,208,190,227,224,230,254,278,250,287,269,316,345,298,276,324,348,null,86,120622,119884,119748,118766,118782,119298,120750,121354,122544,122456,122857,123321,123366,123610,124224,125521,126851,127992,129531,130492,131784,133147,134413,135346,135875,136280,136000,136346,136515,135969,137237,139045]
["male",87,null,null,null,null,null,null,null,null,null,123,128,108,147,122,179,220,193,176,162,197,186,200,222,238,217,247,234,274,299,250,247,279,null,87,120622,119884,119748,118766,118782,119298,120750,121354,122544,122579,122985,123429,123513,123732,124403,125741,127044,128168,129693,130689,131970,133347,134635,135584,136092,136527,136234,136620,136814,136219,137484,139324]
["male",88,null,null,null,null,null,null,null,null,null,98,93,109,89,119,106,159,178,156,149,143,165,162,178,182,207,190,214,190,248,241,216,216,null,88,120622,119884,119748,118766,118782,119298,120750,121354,122544,122677,123078,123538,123602,123851,124509,125900,127222,128324,129842,130832,132135,133509,134813,135766,136299,136717,136448,136810,137062,136460,137700,139540]
["male",89,null,null,null,null,null,null,null,null,null,82,80,70,96,73,107,85,145,144,130,136,115,138,134,138,147,179,164,177,159,205,211,179,null,89,120622,119884,119748,118766,118782,119298,120750,121354,122544,122759,123158,123608,123698,123924,124616,125985,127367,128468,129972,130968,132250,133647,134947,135904,136446,136896,136612,136987,137221,136665,137911,139719]
["male","90+",null,null,null,null,null,null,null,null,null,234,243,240,227,249,243,275,280,334,367,400,418,431,456,476,497,501,530,535,548,522,576,615,null,"90+",120622,119884,119748,118766,118782,119298,120750,121354,122544,122993,123401,123848,123925,124173,124859,126260,127647,128802,130339,131368,132668,134078,135403,136380,136943,137397,137142,137522,137769,137187,138487,140334]
[null,"All Males",{"$f":"SUM(C16:C106)","v":120622},{"$f":"SUM(D16:D106)","v":119884},119748,118766,118782,119298,120750,121354,122544,122993,123401,123848,123925,124173,124859,126260,127647,128802,130339,131368,132668,134078,135403,136380,136943,137397,137142,{"$f":"SUM(AD16:AD106)","v":137522},{"$f":"SUM(AE16:AE106)","v":137769},{"$f":"SUM(AF16:AF106)","v":137187},{"$f":"SUM(AG16:AG106)","v":138487},{"$f":"SUM(AH16:AH106)","v":140334},null,"Females"]
["Sex","Age"]
["female",0,1889,1743,1780,1723,1649,1638,1562,1566,1456,1428,1498,1563,1621,1501,1605,1620,1643,1699,1665,1757,1759,1698,1706,1734,1786,1832,1681,1696,1613,1559,1599,1619,null,0,{"$f":"C109","v":1889},1743,1780,1723,1649,1638,1562,1566,1456,1428,1498,1563,1621,1501,1605,1620,1643,1699,1665,1757,1759,1698,1706,1734,1786,1832,1681,1696,1613,1559,1599,1619]
["female",1,1886,1871,1709,1762,1709,1643,1642,1527,1574,1462,1431,1536,1569,1622,1508,1634,1645,1645,1690,1705,1772,1781,1730,1713,1760,1806,1843,1685,1708,1683,1617,1639,null,1,{"$f":"AK109+C110","v":3775},{"$f":"AL109+D110","v":3614},{"$f":"AM109+E110","v":3489},{"$f":"AN109+F110","v":3485},{"$f":"AO109+G110","v":3358},{"$f":"AP109+H110","v":3281},{"$f":"AQ109+I110","v":3204},{"$f":"AR109+J110","v":3093},{"$f":"AS109+K110","v":3030},{"$f":"AT109+L110","v":2890},{"$f":"AU109+M110","v":2929},{"$f":"AV109+N110","v":3099},{"$f":"AW109+O110","v":3190},{"$f":"AX109+P110","v":3123},{"$f":"AY109+Q110","v":3113},{"$f":"AZ109+R110","v":3254},{"$f":"BA109+S110","v":3288},{"$f":"BB109+T110","v":3344},{"$f":"BC109+U110","v":3355},{"$f":"BD109+V110","v":3462},{"$f":"BE109+W110","v":3531},{"$f":"BF109+X110","v":3479},{"$f":"BG109+Y110","v":3436},{"$f":"BH109+Z110","v":3447},{"$f":"BI109+AA110","v":3546},{"$f":"BJ109+AB110","v":3638},{"$f":"BK109+AC110","v":3524},{"$f":"BL109+AD110","v":3381},{"$f":"BM109+AE110","v":3321},{"$f":"BN109+AF110","v":3242},{"$f":"BO109+AG110","v":3216},3258]
["female",2,1838,1866,1860,1693,1747,1709,1661,1613,1551,1580,1477,1426,1535,1559,1630,1513,1661,1630,1637,1706,1733,1789,1803,1754,1748,1742,1832,1809,1693,1729,1703,1681,null,2,5613,5480,5349,5178,5105,4990,4865,4706,4581,4470,4406,4525,4725,4682,4743,4767,4949,4974,4992,5168,5264,5268,5239,5201,5294,5380,5356,5190,5014,4971,4919,4939]
["female",3,1851,1794,1827,1823,1650,1711,1692,1655,1619,1588,1605,1491,1446,1534,1558,1622,1528,1686,1633,1665,1728,1748,1818,1825,1759,1745,1739,1819,1796,1670,1767,1780,null,3,7464,7274,7176,7001,6755,6701,6557,6361,6200,6058,6011,6016,6171,6216,6301,6389,6477,6660,6625,6833,6992,7016,7057,7026,7053,7125,7095,7009,6810,6641,6686,6719]
["female",4,1820,1839,1786,1822,1824,1655,1721,1736,1661,1626,1597,1616,1504,1445,1526,1530,1636,1547,1691,1632,1666,1723,1756,1861,1832,1743,1718,1753,1848,1808,1716,1832,null,4,9284,9113,8962,8823,8579,8356,8278,8097,7861,7684,7608,7632,7675,7661,7827,7919,8113,8207,8316,8465,8658,8739,8813,8887,8885,8868,8813,8762,8658,8449,8402,8551]
["female",5,1715,1796,1813,1760,1801,1817,1651,1760,1751,1644,1653,1604,1624,1522,1449,1539,1511,1650,1559,1699,1641,1681,1740,1773,1850,1827,1753,1751,1743,1826,1845,1779,null,5,10999,10909,10775,10583,10380,10173,9929,9857,9612,9328,9261,9236,9299,9183,9276,9458,9624,9857,9875,10164,10299,10420,10553,10660,10735,10695,10566,10513,10401,10275,10247,10330]
["female",6,1691,1722,1811,1828,1781,1828,1857,1702,1748,1759,1638,1648,1603,1637,1513,1455,1538,1527,1661,1563,1739,1625,1685,1738,1767,1844,1814,1739,1721,1759,1854,1921,null,6,12690,12631,12586,12411,12161,12001,11786,11559,11360,11087,10899,10884,10902,10820,10789,10913,11162,11384,11536,11727,12038,12045,12238,12398,12502,12539,12380,12252,12122,12034,12101,12251]
["female",7,1768,1659,1686,1778,1793,1755,1811,1831,1715,1751,1734,1649,1649,1601,1635,1516,1471,1538,1524,1657,1578,1733,1646,1696,1733,1753,1849,1828,1740,1740,1833,1917,null,7,14458,14290,14272,14189,13954,13756,13597,13390,13075,12838,12633,12533,12551,12421,12424,12429,12633,12922,13060,13384,13616,13778,13884,14094,14235,14292,14229,14080,13862,13774,13934,14168]
["female",8,1617,1761,1656,1672,1768,1792,1758,1848,1839,1730,1736,1718,1654,1665,1604,1651,1517,1493,1544,1525,1668,1576,1740,1673,1695,1711,1760,1863,1834,1748,1778,1922,null,8,16075,16051,15928,15861,15722,15548,15355,15238,14914,14568,14369,14251,14205,14086,14028,14080,14150,14415,14604,14909,15284,15354,15624,15767,15930,16003,15989,15943,15696,15522,15712,16090]
["female",9,1565,1631,1761,1657,1667,1776,1804,1761,1869,1842,1724,1718,1724,1657,1668,1598,1666,1538,1496,1552,1557,1674,1591,1733,1679,1706,1718,1780,1873,1847,1796,1853,null,9,17640,17682,17689,17518,17389,17324,17159,16999,16783,16410,16093,15969,15929,15743,15696,15678,15816,15953,16100,16461,16841,17028,17215,17500,17609,17709,17707,17723,17569,17369,17508,17943]
["female",10,1619,1547,1633,1751,1650,1659,1779,1831,1782,1863,1847,1741,1740,1732,1629,1677,1611,1656,1551,1493,1563,1572,1684,1609,1741,1682,1718,1718,1778,1882,1856,1855,null,10,19259,19229,19322,19269,19039,18983,18938,18830,18565,18273,17940,17710,17669,17475,17325,17355,17427,17609,17651,17954,18404,18600,18899,19109,19350,19391,19425,19441,19347,19251,19364,19798]
["female",11,1543,1590,1524,1628,1738,1640,1649,1781,1837,1782,1893,1871,1744,1737,1755,1631,1688,1616,1674,1561,1518,1577,1593,1695,1616,1738,1690,1725,1730,1794,1921,1921,null,11,20802,20819,20846,20897,20777,20623,20587,20611,20402,20055,19833,19581,19413,19212,19080,18986,19115,19225,19325,19515,19922,20177,20492,20804,20966,21129,21115,21166,21077,21045,21285,21719]
["female",12,1720,1520,1570,1510,1632,1734,1642,1681,1791,1826,1791,1927,1881,1745,1741,1745,1630,1681,1626,1664,1574,1521,1601,1627,1692,1628,1710,1703,1723,1728,1842,1966,null,12,22522,22339,22416,22407,22409,22357,22229,22292,22193,21881,21624,21508,21294,20957,20821,20731,20745,20906,20951,21179,21496,21698,22093,22431,22658,22757,22825,22869,22800,22773,23127,23685]
["female",13,1543,1714,1512,1562,1506,1639,1743,1676,1686,1796,1830,1794,1944,1895,1774,1778,1768,1628,1700,1647,1660,1591,1532,1621,1617,1690,1621,1712,1693,1729,1756,1887,null,13,24065,24053,23928,23969,23915,23996,23972,23968,23879,23677,23454,23302,23238,22852,22595,22509,22513,22534,22651,22826,23156,23289,23625,24052,24275,24447,24446,24581,24493,24502,24883,25572]
["female",14,1423,1528,1700,1498,1549,1503,1661,1738,1684,1703,1803,1848,1779,1965,1928,1789,1787,1765,1637,1713,1652,1668,1581,1528,1625,1622,1685,1628,1700,1700,1781,1820,null,14,25488,25581,25628,25467,25464,25499,25633,25706,25563,25380,25257,25150,25017,24817,24523,24298,24300,24299,24288,24539,24808,24957,25206,25580,25900,26069,26131,26209,26193,26202,26664,27392]
["female",15,1466,1421,1525,1697,1495,1546,1520,1705,1739,1705,1717,1812,1864,1784,1990,1963,1804,1812,1788,1651,1754,1677,1685,1580,1523,1636,1642,1690,1630,1709,1722,1830,null,15,26954,27002,27153,27164,26959,27045,27153,27411,27302,27085,26974,26962,26881,26601,26513,26261,26104,26111,26076,26190,26562,26634,26891,27160,27423,27705,27773,27899,27823,27911,28386,29222]
["female",16,1458,1461,1418,1523,1693,1495,1558,1551,1710,1757,1686,1723,1842,1864,1765,2044,2010,1808,1827,1806,1658,1765,1696,1671,1612,1527,1655,1656,1691,1629,1731,1763,null,16,28412,28463,28571,28687,28652,28540,28711,28962,29012,28842,28660,28685,28723,28465,28278,28305,28114,27919,27903,27996,28220,28399,28587,28831,29035,29232,29428,29555,29514,29540,30117,30985]
["female",17,1478,1441,1446,1407,1508,1682,1507,1527,1546,1719,1736,1664,1716,1841,1871,1769,2091,2055,1825,1854,1806,1690,1748,1714,1677,1627,1534,1633,1621,1688,1654,1742,null,17,29890,29904,30017,30094,30160,30222,30218,30489,30558,30561,30396,30349,30439,30306,30149,30074,30205,29974,29728,29850,30026,30089,30335,30545,30712,30859,30962,31188,31135,31228,31771,32727]
["female",18,1498,1505,1452,1442,1412,1523,1760,1577,1593,1628,1662,1704,1606,1682,1818,1855,1732,2091,2037,1796,1848,1792,1717,1755,1716,1677,1566,1483,1628,1607,1652,1629,null,18,31388,31409,31469,31536,31572,31745,31978,32066,32151,32189,32058,32053,32045,31988,31967,31929,31937,32065,31765,31646,31874,31881,32052,32300,32428,32536,32528,32671,32763,32835,33423,34356]
["female",19,1551,1362,1310,1175,1171,1141,1371,1533,1414,1428,1426,1499,1518,1441,1528,1633,1645,1635,1935,2041,1772,1730,1774,1625,1631,1541,1477,1377,1337,1401,1321,1437,null,19,32939,32771,32779,32711,32743,32886,33349,33599,33565,33617,33484,33552,33563,33429,33495,33562,33582,33700,33700,33687,33646,33611,33826,33925,34059,34077,34005,34048,34100,34236,34744,35793]
["female",20,1682,1539,1198,1137,1055,1112,1246,1381,1444,1427,1440,1458,1521,1529,1474,1574,1675,1686,1729,2004,2144,1858,1781,1845,1592,1666,1612,1531,1458,1365,1384,1351,null,20,34621,34310,33977,33848,33798,33998,34595,34980,35009,35044,34924,35010,35084,34958,34969,35136,35257,35386,35429,35691,35790,35469,35607,35770,35651,35743,35617,35579,35558,35601,36128,37144]
["female",21,1851,1714,1414,1246,1215,1230,1334,1215,1431,1509,1503,1495,1540,1573,1632,1573,1670,1750,1802,1802,2111,2171,1926,1845,1865,1632,1675,1673,1556,1435,1412,1456,null,21,36472,36024,35391,35094,35013,35228,35929,36195,36440,36553,36427,36505,36624,36531,36601,36709,36927,37136,37231,37493,37901,37640,37533,37615,37516,37375,37292,37252,37114,37036,37540,38600]
["female",22,1839,1900,1731,1571,1407,1436,1507,1327,1365,1524,1554,1596,1566,1630,1659,1752,1681,1744,1841,1922,1949,2186,2168,1940,1876,1909,1691,1693,1655,1606,1432,1401,null,22,38311,37924,37122,36665,36420,36664,37436,37522,37805,38077,37981,38101,38190,38161,38260,38461,38608,38880,39072,39415,39850,39826,39701,39555,39392,39284,38983,38945,38769,38642,38972,40001]
["female",23,2009,1893,2019,1889,1746,1623,1664,1386,1452,1504,1572,1626,1639,1609,1644,1715,1792,1718,1799,1898,1997,1958,2201,2156,1921,1913,1943,1732,1690,1660,1616,1458,null,23,40320,39817,39141,38554,38166,38287,39100,38908,39257,39581,39553,39727,39829,39770,39904,40176,40400,40598,40871,41313,41847,41784,41902,41711,41313,41197,40926,40677,40459,40302,40588,41459]
["female",24,2056,1957,2008,2008,1895,1790,1681,1503,1451,1558,1532,1647,1674,1667,1666,1701,1755,1789,1757,1823,1874,2014,1940,2158,2090,1903,1880,1897,1678,1648,1732,1658,null,24,42376,41774,41149,40562,40061,40077,40781,40411,40708,41139,41085,41374,41503,41437,41570,41877,42155,42387,42628,43136,43721,43798,43842,43869,43403,43100,42806,42574,42137,41950,42320,43117]
["female",25,2122,2041,2039,1999,1989,1914,1846,1623,1522,1490,1572,1561,1636,1689,1719,1715,1721,1728,1775,1757,1815,1878,1998,1944,2103,2049,1910,1868,1905,1647,1678,1827,null,25,44498,43815,43188,42561,42050,41991,42627,42034,42230,42629,42657,42935,43139,43126,43289,43592,43876,44115,44403,44893,45536,45676,45840,45813,45506,45149,44716,44442,44042,43597,43998,44944]
["female",26,2181,2083,2073,1998,1971,1966,1917,1792,1646,1539,1516,1549,1550,1662,1730,1738,1743,1730,1711,1746,1776,1863,1911,2034,1948,2113,2063,1902,1863,1873,1695,1739,null,26,46679,45898,45261,44559,44021,43957,44544,43826,43876,44168,44173,44484,44689,44788,45019,45330,45619,45845,46114,46639,47312,47539,47751,47847,47454,47262,46779,46344,45905,45470,45693,46683]
["female",27,2250,2158,2093,2051,1966,1965,1978,1925,1775,1634,1576,1559,1556,1557,1717,1796,1771,1753,1737,1709,1804,1808,1917,1938,2072,1962,2134,2085,1943,1896,1958,1820,null,27,48929,48056,47354,46610,45987,45922,46522,45751,45651,45802,45749,46043,46245,46345,46736,47126,47390,47598,47851,48348,49116,49347,49668,49785,49526,49224,48913,48429,47848,47366,47651,48503]
["female",28,2257,2214,2163,2094,2055,1971,1989,1910,1904,1765,1648,1575,1527,1579,1578,1740,1855,1785,1781,1745,1734,1842,1827,1960,1986,2119,1990,2133,2057,1951,1938,2059,null,28,51186,50270,49517,48704,48042,47893,48511,47661,47555,47567,47397,47618,47772,47924,48314,48866,49245,49383,49632,50093,50850,51189,51495,51745,51512,51343,50903,50562,49905,49317,49589,50562]
["female",29,2146,2174,2182,2121,2054,2031,1959,1956,1954,1925,1749,1661,1575,1569,1608,1575,1743,1843,1830,1776,1779,1768,1810,1866,1958,2026,2125,2062,2149,2053,2013,1997,null,29,53332,52444,51699,50825,50096,49924,50470,49617,49509,49492,49146,49279,49347,49493,49922,50441,50988,51226,51462,51869,52629,52957,53305,53611,53470,53369,53028,52624,52054,51370,51602,52559]
["female",30,2109,2100,2170,2147,2082,2039,2031,2004,1949,1961,1924,1744,1696,1616,1586,1604,1576,1743,1842,1845,1817,1834,1845,1844,1895,1996,2087,2175,2079,2164,2092,2055,null,30,55441,54544,53869,52972,52178,51963,52501,51621,51458,51453,51070,51023,51043,51109,51508,52045,52564,52969,53304,53714,54446,54791,55150,55455,55365,55365,55115,54799,54133,53534,53694,54614]
["female",31,2068,2090,2103,2138,2110,2071,2040,2056,2026,1944,1967,1913,1719,1713,1648,1599,1620,1573,1755,1871,1854,1840,1870,1868,1877,1938,2016,2109,2192,2139,2231,2133,null,31,57509,56634,55972,55110,54288,54034,54541,53677,53484,53397,53037,52936,52762,52822,53156,53644,54184,54542,55059,55585,56300,56631,57020,57323,57242,57303,57131,56908,56325,55673,55925,56747]
["female",32,1985,2018,2064,2061,2102,2082,2049,2042,2068,2014,1934,1948,1905,1731,1725,1655,1632,1639,1570,1755,1860,1884,1884,1885,1922,1915,1967,2029,2162,2186,2207,2298,null,32,59494,58652,58036,57171,56390,56116,56590,55719,55552,55411,54971,54884,54667,54553,54881,55299,55816,56181,56629,57340,58160,58515,58904,59208,59164,59218,59098,58937,58487,57859,58132,59045]
["female",33,1947,1954,2000,2049,2041,2088,2085,2066,2064,2055,1993,1913,1942,1904,1699,1755,1694,1656,1644,1578,1788,1885,1926,1911,1936,1923,1957,1973,2049,2173,2243,2312,null,33,{"$f":"AK141+C142","v":61441},{"$f":"AL141+D142","v":60606},{"$f":"AM141+E142","v":60036},{"$f":"AN141+F142","v":59220},{"$f":"AO141+G142","v":58431},{"$f":"AP141+H142","v":58204},{"$f":"AQ141+I142","v":58675},{"$f":"AR141+J142","v":57785},{"$f":"AS141+K142","v":57616},{"$f":"AT141+L142","v":57466},{"$f":"AU141+M142","v":56964},{"$f":"AV141+N142","v":56797},{"$f":"AW141+O142","v":56609},{"$f":"AX141+P142","v":56457},{"$f":"AY141+Q142","v":56580},{"$f":"AZ141+R142","v":57054},{"$f":"BA141+S142","v":57510},{"$f":"BB141+T142","v":57837},{"$f":"BC141+U142","v":58273},{"$f":"BD141+V142","v":58918},{"$f":"BE141+W142","v":59948},{"$f":"BF141+X142","v":60400},{"$f":"BG141+Y142","v":60830},{"$f":"BH141+Z142","v":61119},{"$f":"BI141+AA142","v":61100},{"$f":"BJ141+AB142","v":61141},{"$f":"BK141+AC142","v":61055},{"$f":"BL141+AD142","v":60910},{"$f":"BM141+AE142","v":60536},{"$f":"BN141+AF142","v":60032},{"$f":"BO141+AG142","v":60375},61357]
["female",34,1847,1892,1912,1951,2012,2012,2059,2063,2071,2088,2054,2018,1901,1938,1906,1689,1754,1696,1638,1667,1614,1792,1930,1917,1945,1932,1937,1980,2026,2035,2228,2316,null,34,63288,62498,61948,61171,60443,60216,60734,59848,59687,59554,59018,58815,58510,58395,58486,58743,59264,59533,59911,60585,61562,62192,62760,63036,63045,63073,62992,62890,62562,62067,62603,63673]
["female",35,1748,1804,1867,1870,1917,1999,2002,2085,2090,2064,2101,2059,2014,1910,1956,1887,1693,1780,1700,1633,1705,1625,1817,1938,1922,1958,1912,1965,2010,2067,2097,2320,null,35,65036,64302,63815,63041,62360,62215,62736,61933,61777,61618,61119,60874,60524,60305,60442,60630,60957,61313,61611,62218,63267,63817,64577,64974,64967,65031,64904,64855,64572,64134,64700,65993]
["female",36,1705,1752,1813,1871,1879,1931,2032,2045,2066,2090,2020,2067,2049,2003,1921,1922,1897,1710,1760,1689,1662,1715,1663,1880,2014,1916,1978,1908,1979,2018,2118,2166,null,36,66741,66054,65628,64912,64239,64146,64768,63978,63843,63708,63139,62941,62573,62308,62363,62552,62854,63023,63371,63907,64929,65532,66240,66854,66981,66947,66882,66763,66551,66152,66818,68159]
["female",37,1588,1693,1751,1806,1865,1884,1952,2019,2069,2075,2073,2002,2087,2034,2035,1936,1896,1903,1723,1745,1715,1663,1734,1696,1919,2033,1909,2019,1940,1986,2048,2145,null,37,68329,67747,67379,66718,66104,66030,66720,65997,65912,65783,65212,64943,64660,64342,64398,64488,64750,64926,65094,65652,66644,67195,67974,68550,68900,68980,68791,68782,68491,68138,68866,70304]
["female",38,1753,1582,1676,1736,1792,1856,1893,1968,2034,2078,2084,2070,1986,2077,2025,2032,1940,1897,1901,1690,1767,1742,1688,1767,1694,1940,2021,1909,2033,1925,2038,2112,null,38,70082,69329,69055,68454,67896,67886,68613,67965,67946,67861,67296,67013,66646,66419,66423,66520,66690,66823,66995,67342,68411,68937,69662,70317,70594,70920,70812,70691,70524,70063,70904,72416]
["female",39,1665,1725,1569,1647,1712,1773,1842,1935,1963,2040,2078,2050,2081,1965,2083,2033,1999,1943,1889,1874,1697,1790,1756,1708,1791,1726,1937,2050,1918,2065,1954,2108,null,39,71747,71054,70624,70101,69608,69659,70455,69900,69909,69901,69374,69063,68727,68384,68506,68553,68689,68766,68884,69216,70108,70727,71418,72025,72385,72646,72749,72741,72442,72128,72858,74524]
["female",40,1642,1659,1711,1560,1627,1699,1768,1841,1945,1939,1997,2069,2049,2067,1967,2051,2021,1995,1947,1897,1890,1719,1789,1781,1714,1795,1736,1956,2061,1922,2113,1993,null,40,73389,72713,72335,71661,71235,71358,72223,71741,71854,71840,71371,71132,70776,70451,70473,70604,70710,70761,70831,71113,71998,72446,73207,73806,74099,74441,74485,74697,74503,74050,74971,76517]
["female",41,1663,1642,1675,1713,1566,1633,1721,1753,1852,1934,1946,1989,2076,2036,2064,1980,2057,2034,2013,1947,1891,1909,1748,1803,1782,1695,1785,1744,1970,2076,1965,2161,null,41,75052,74355,74010,73374,72801,72991,73944,73494,73706,73774,73317,73121,72852,72487,72537,72584,72767,72795,72844,73060,73889,74355,74955,75609,75881,76136,76270,76441,76473,76126,76936,78678]
["female",42,1682,1635,1616,1650,1690,1548,1619,1690,1761,1850,1911,1942,1978,2066,2041,2041,1967,2061,2013,2018,1936,1919,1928,1745,1800,1806,1698,1806,1760,1985,2127,2011,null,42,76734,75990,75626,75024,74491,74539,75563,75184,75467,75624,75228,75063,74830,74553,74578,74625,74734,74856,74857,75078,75825,76274,76883,77354,77681,77942,77968,78247,78233,78111,79063,80689]
["female",43,1794,1652,1613,1591,1628,1666,1537,1632,1691,1743,1848,1905,1922,1962,2068,2038,2030,1954,2066,1991,2033,1946,1931,1906,1748,1785,1814,1701,1811,1753,1968,2136,null,43,78528,77642,77239,76615,76119,76205,77100,76816,77158,77367,77076,76968,76752,76515,76646,76663,76764,76810,76923,77069,77858,78220,78814,79260,79429,79727,79782,79948,80044,79864,81031,82825]
["female",44,1941,1769,1629,1591,1564,1619,1653,1551,1619,1675,1756,1838,1888,1910,1935,2068,2021,2044,1937,2072,2010,2046,1958,1933,1883,1749,1785,1809,1701,1807,1743,2002,null,44,80469,79411,78868,78206,77683,77824,78753,78367,78777,79042,78832,78806,78640,78425,78581,78731,78785,78854,78860,79141,79868,80266,80772,81193,81312,81476,81567,81757,81745,81671,82774,84827]
["female",45,2135,1914,1753,1614,1576,1554,1620,1657,1558,1607,1671,1743,1820,1875,1910,1929,2049,1995,2057,1935,2078,2040,2026,1937,1931,1884,1755,1785,1803,1704,1848,1775,null,45,82604,81325,80621,79820,79259,79378,80373,80024,80335,80649,80503,80549,80460,80300,80491,80660,80834,80849,80917,81076,81946,82306,82798,83130,83243,83360,83322,83542,83548,83375,84622,86602]
["female",46,1598,2118,1906,1743,1605,1573,1548,1615,1667,1559,1595,1673,1737,1817,1869,1903,1914,2053,1988,2049,1956,2073,2035,2017,1927,1909,1890,1771,1747,1799,1723,1875,null,46,84202,83443,82527,81563,80864,80951,81921,81639,82002,82208,82098,82222,82197,82117,82360,82563,82748,82902,82905,83125,83902,84379,84833,85147,85170,85269,85212,85313,85295,85174,86345,88477]
["female",47,1492,1573,2086,1885,1723,1590,1567,1573,1624,1658,1531,1588,1648,1716,1820,1857,1899,1904,2058,1975,2032,1954,2073,2021,2009,1920,1912,1879,1767,1747,1803,1735,null,47,85694,85016,84613,83448,82587,82541,83488,83212,83626,83866,83629,83810,83845,83833,84180,84420,84647,84806,84963,85100,85934,86333,86906,87168,87179,87189,87124,87192,87062,86921,88148,90212]
["female",48,1508,1491,1580,2077,1884,1729,1602,1569,1550,1635,1631,1511,1574,1639,1714,1809,1860,1897,1905,2054,1981,2043,1983,2076,2024,1967,1911,1909,1853,1763,1752,1801,null,48,87202,86507,86193,85525,84471,84270,85090,84781,85176,85501,85260,85321,85419,85472,85894,86229,86507,86703,86868,87154,87915,88376,88889,89244,89203,89156,89035,89101,88915,88684,89900,92013]
["female",49,1398,1496,1484,1582,2069,1881,1733,1588,1571,1548,1630,1598,1520,1555,1633,1695,1790,1841,1888,1887,2048,1967,2043,1997,2049,2012,1990,1890,1913,1832,1760,1746,null,49,88600,88003,87677,87107,86540,86151,86823,86369,86747,87049,86890,86919,86939,87027,87527,87924,88297,88544,88756,89041,89963,90343,90932,91241,91252,91168,91025,90991,90828,90516,91660,93759]
["female",50,1255,1386,1477,1473,1574,2058,1880,1753,1591,1584,1532,1620,1575,1511,1550,1629,1686,1792,1824,1882,1925,2042,1953,2031,1983,2029,1996,1995,1878,1891,1838,1757,null,50,89855,89389,89154,88580,88114,88209,88703,88122,88338,88633,88422,88539,88514,88538,89077,89553,89983,90336,90580,90923,91888,92385,92885,93272,93235,93197,93021,92986,92706,92407,93498,95516]
["female",51,1176,1261,1386,1470,1475,1580,2065,1866,1734,1575,1575,1526,1596,1558,1488,1545,1643,1676,1785,1819,1899,1921,2044,1957,2026,1969,1991,1961,1978,1867,1874,1805,null,51,91031,90650,90540,90050,89589,89789,90768,89988,90072,90208,89997,90065,90110,90096,90565,91098,91626,92012,92365,92742,93787,94306,94929,95229,95261,95166,95012,94947,94684,94274,95372,97321]
["female",52,1197,1172,1260,1389,1468,1478,1588,2058,1872,1735,1555,1556,1502,1587,1547,1484,1554,1630,1663,1793,1825,1905,1926,2044,1967,2034,1966,1968,1922,1942,1841,1858,null,52,92228,91822,91800,91439,91057,91267,92356,92046,91944,91943,91552,91621,91612,91683,92112,92582,93180,93642,94028,94535,95612,96211,96855,97273,97228,97200,96978,96915,96606,96216,97213,99179]
["female",53,1279,1190,1164,1253,1376,1454,1467,1597,2043,1865,1714,1531,1532,1482,1568,1530,1469,1536,1627,1665,1790,1848,1897,1909,2044,1958,2020,1949,1941,1925,1944,1827,null,53,93507,93012,92964,92692,92433,92721,93823,93643,93987,93808,93266,93152,93144,93165,93680,94112,94649,95178,95655,96200,97402,98059,98752,99182,99272,99158,98998,98864,98547,98141,99157,101006]
["female",54,1241,1270,1186,1152,1246,1362,1442,1485,1591,2021,1838,1688,1509,1516,1450,1538,1507,1445,1538,1628,1664,1775,1833,1874,1902,2045,1941,2013,1933,1931,1877,1867,null,54,94748,94282,94150,93844,93679,94083,95265,95128,95578,95829,95104,94840,94653,94681,95130,95650,96156,96623,97193,97828,99066,99834,100585,101056,101174,101203,100939,100877,100480,100072,101034,102873]
["female",55,1177,1228,1252,1172,1138,1231,1351,1428,1466,1598,1999,1815,1659,1475,1506,1437,1532,1487,1434,1533,1618,1674,1755,1810,1862,1880,2012,1908,1992,1908,1899,1849,null,55,95925,95510,95402,95016,94817,95314,96616,96556,97044,97427,97103,96655,96312,96156,96636,97087,97688,98110,98627,99361,100684,101508,102340,102866,103036,103083,102951,102785,102472,101980,102933,104722]
["female",56,1153,1170,1213,1237,1169,1129,1228,1357,1420,1460,1570,1975,1795,1637,1460,1500,1421,1500,1478,1408,1548,1634,1665,1733,1775,1841,1843,1974,1888,1956,1861,1884,null,56,97078,96680,96615,96253,95986,96443,97844,97913,98464,98887,98673,98630,98107,97793,98096,98587,99109,99610,100105,100769,102232,103142,104005,104599,104811,104924,104794,104759,104360,103936,104794,106606]
["female",57,1075,1124,1146,1187,1213,1147,1108,1215,1342,1409,1439,1556,1939,1779,1605,1447,1487,1417,1491,1466,1418,1532,1621,1634,1726,1774,1832,1827,1950,1865,1942,1845,null,57,98153,97804,97761,97440,97199,97590,98952,99128,99806,100296,100112,100186,100046,99572,99701,100034,100596,101027,101596,102235,103650,104674,105626,106233,106537,106698,106626,106586,106310,105801,106736,108451]
["female",58,990,1066,1124,1129,1176,1206,1146,1115,1210,1320,1400,1407,1526,1919,1757,1588,1441,1471,1404,1474,1451,1413,1545,1602,1624,1704,1755,1814,1804,1947,1826,1892,null,58,99143,98870,98885,98569,98375,98796,100098,100243,101016,101616,101512,101593,101572,101491,101458,101622,102037,102498,103000,103709,105101,106087,107171,107835,108161,108402,108381,108400,108114,107748,108562,110343]
["female",59,1030,978,1059,1117,1118,1162,1200,1134,1111,1190,1308,1369,1379,1496,1888,1737,1584,1444,1471,1391,1475,1447,1413,1551,1583,1618,1699,1730,1784,1779,1895,1797,null,59,100173,99848,99944,99686,99493,99958,101298,101377,102127,102806,102820,102962,102951,102987,103346,103359,103621,103942,104471,105100,106576,107534,108584,109386,109744,110020,110080,110130,109898,109527,110457,112140]
["female",60,1059,1016,965,1049,1107,1110,1153,1190,1135,1094,1177,1286,1350,1355,1457,1854,1715,1563,1418,1467,1375,1467,1443,1397,1549,1551,1589,1653,1698,1758,1763,1878,null,60,101232,100864,100909,100735,100600,101068,102451,102567,103262,103900,103997,104248,104301,104342,104803,105213,105336,105505,105889,106567,107951,109001,110027,110783,111293,111571,111669,111783,111596,111285,112220,114018]
["female",61,1023,1037,1003,959,1041,1105,1107,1155,1175,1124,1072,1157,1255,1316,1324,1422,1834,1694,1540,1407,1451,1376,1434,1446,1376,1515,1526,1576,1627,1671,1762,1741,null,61,102255,101901,101912,101694,101641,102173,103558,103722,104437,105024,105069,105405,105556,105658,106127,106635,107170,107199,107429,107974,109402,110377,111461,112229,112669,113086,113195,113359,113223,112956,113982,115759]
["female",62,1039,1009,1016,990,945,1027,1094,1106,1139,1163,1113,1053,1134,1233,1299,1307,1388,1826,1671,1520,1404,1431,1371,1430,1438,1375,1496,1498,1555,1615,1654,1752,null,62,103294,102910,102928,102684,102586,103200,104652,104828,105576,106187,106182,106458,106690,106891,107426,107942,108558,109025,109100,109494,110806,111808,112832,113659,114107,114461,114691,114857,114778,114571,115636,117511]
["female",63,1035,1027,1003,1010,993,948,1025,1096,1103,1128,1144,1101,1026,1099,1214,1305,1304,1381,1803,1652,1508,1402,1428,1357,1419,1418,1349,1465,1467,1525,1594,1637,null,63,104329,103937,103931,103694,103579,104148,105677,105924,106679,107315,107326,107559,107716,107990,108640,109247,109862,110406,110903,111146,112314,113210,114260,115016,115526,115879,116040,116322,116245,116096,117230,119148]
["female",64,972,1023,1015,991,988,989,947,1003,1091,1091,1122,1122,1075,1018,1082,1206,1288,1287,1367,1790,1640,1496,1395,1414,1343,1375,1395,1351,1438,1438,1485,1563,null,64,105301,104960,104946,104685,104567,105137,106624,106927,107770,108406,108448,108681,108791,109008,109722,110453,111150,111693,112270,112936,113954,114706,115655,116430,116869,117254,117435,117673,117683,117534,118715,120711]
["female",65,981,953,1012,999,976,968,977,936,1009,1080,1083,1103,1101,1062,988,1080,1195,1278,1265,1337,1772,1632,1498,1390,1404,1334,1352,1387,1339,1431,1417,1456,null,65,{"$f":"AK173+C174","v":106282},{"$f":"AL173+D174","v":105913},{"$f":"AM173+E174","v":105958},{"$f":"AN173+F174","v":105684},{"$f":"AO173+G174","v":105543},{"$f":"AP173+H174","v":106105},{"$f":"AQ173+I174","v":107601},{"$f":"AR173+J174","v":107863},{"$f":"AS173+K174","v":108779},{"$f":"AT173+L174","v":109486},{"$f":"AU173+M174","v":109531},{"$f":"AV173+N174","v":109784},{"$f":"AW173+O174","v":109892},{"$f":"AX173+P174","v":110070},{"$f":"AY173+Q174","v":110710},{"$f":"AZ173+R174","v":111533},{"$f":"BA173+S174","v":112345},{"$f":"BB173+T174","v":112971},{"$f":"BC173+U174","v":113535},{"$f":"BD173+V174","v":114273},{"$f":"BE173+W174","v":115726},{"$f":"BF173+X174","v":116338},{"$f":"BG173+Y174","v":117153},{"$f":"BH173+Z174","v":117820},{"$f":"BI173+AA174","v":118273},{"$f":"BJ173+AB174","v":118588},{"$f":"BK173+AC174","v":118787},{"$f":"BL173+AD174","v":119060},{"$f":"BM173+AE174","v":119022},{"$f":"BN173+AF174","v":118965},{"$f":"BO173+AG174","v":120132},122167]
["female",66,984,955,931,985,979,954,951,974,921,1004,1060,1079,1080,1086,1037,968,1062,1176,1274,1257,1320,1770,1616,1471,1370,1392,1316,1327,1361,1321,1400,1399,null,66,107266,106868,106889,106669,106522,107059,108552,108837,109700,110490,110591,110863,110972,111156,111747,112501,113407,114147,114809,115530,117046,118108,118769,119291,119643,119980,120103,120387,120383,120286,121532,123566]
["female",67,973,961,941,903,964,955,937,943,956,903,992,1037,1056,1054,1060,1022,959,1040,1155,1253,1241,1312,1735,1603,1462,1343,1357,1313,1304,1347,1292,1387,null,67,108239,107829,107830,107572,107486,108014,109489,109780,110656,111393,111583,111900,112028,112210,112807,113523,114366,115187,115964,116783,118287,119420,120504,120894,121105,121323,121460,121700,121687,121633,122824,124953]
["female",68,965,955,956,919,884,953,940,932,925,929,894,973,1027,1049,1042,1033,1005,937,1035,1143,1252,1223,1289,1707,1576,1439,1325,1326,1297,1280,1329,1284,null,68,109204,108784,108786,108491,108370,108967,110429,110712,111581,112322,112477,112873,113055,113259,113849,114556,115371,116124,116999,117926,119539,120643,121793,122601,122681,122762,122785,123026,122984,122913,124153,126237]
["female",69,1002,943,952,939,905,872,946,938,922,916,904,869,956,1014,1017,1025,1012,987,917,1012,1142,1227,1204,1276,1704,1538,1416,1294,1306,1279,1245,1292,null,69,110206,109727,109738,109430,109275,109839,111375,111650,112503,113238,113381,113742,114011,114273,114866,115581,116383,117111,117916,118938,120681,121870,122997,123877,124385,124300,124201,124320,124290,124192,125398,127529]
["female",70,992,976,920,934,912,881,850,916,931,908,901,899,846,931,994,995,1004,990,975,911,1006,1122,1195,1183,1263,1670,1505,1406,1268,1268,1260,1221,null,70,111198,110703,110658,110364,110187,110720,112225,112566,113434,114146,114282,114641,114857,115204,115860,116576,117387,118101,118891,119849,121687,122992,124192,125060,125648,125970,125706,125726,125558,125460,126658,128750]
["female",71,1092,968,956,896,901,891,870,837,905,904,896,884,880,840,916,969,988,989,981,948,901,989,1106,1178,1150,1254,1645,1500,1382,1248,1232,1224,null,71,112290,111671,111614,111260,111088,111611,113095,113403,114339,115050,115178,115525,115737,116044,116776,117545,118375,119090,119872,120797,122588,123981,125298,126238,126798,127224,127351,127226,126940,126708,127890,129974]
["female",72,1123,1065,939,928,868,879,866,845,818,882,891,876,856,853,815,901,953,974,976,963,924,894,977,1097,1152,1122,1230,1613,1471,1343,1237,1212,null,72,113413,112736,112553,112188,111956,112490,113961,114248,115157,115932,116069,116401,116593,116897,117591,118446,119328,120064,120848,121760,123512,124875,126275,127335,127950,128346,128581,128839,128411,128051,129127,131186]
["female",73,736,1081,1035,907,909,839,853,845,834,791,861,861,852,839,816,804,885,931,950,959,936,910,871,954,1070,1126,1102,1195,1572,1434,1324,1213,null,73,114149,113817,113588,113095,112865,113329,114814,115093,115991,116723,116930,117262,117445,117736,118407,119250,120213,120995,121798,122719,124448,125785,127146,128289,129020,129472,129683,130034,129983,129485,130451,132399]
["female",74,718,719,1034,995,880,880,804,835,831,814,778,837,856,833,824,799,784,870,920,929,943,928,891,844,912,1028,1105,1064,1157,1525,1401,1290,null,74,114867,114536,114622,114090,113745,114209,115618,115928,116822,117537,117708,118099,118301,118569,119231,120049,120997,121865,122718,123648,125391,126713,128037,129133,129932,130500,130788,131098,131140,131010,131852,133689]
["female",75,726,696,702,991,952,852,861,790,790,801,775,756,803,832,807,806,777,764,849,892,924,929,921,860,820,898,1013,1083,1053,1116,1475,1356,null,75,115593,115232,115324,115081,114697,115061,116479,116718,117612,118338,118483,118855,119104,119401,120038,120855,121774,122629,123567,124540,126315,127642,128958,129993,130752,131398,131801,132181,132193,132126,133327,135045]
["female",76,812,705,668,688,952,926,833,839,756,758,760,742,721,765,819,778,800,754,750,828,884,886,904,910,843,798,874,982,1056,1024,1084,1449,null,76,116405,115937,115992,115769,115649,115987,117312,117557,118368,119096,119243,119597,119825,120166,120857,121633,122574,123383,124317,125368,127199,128528,129862,130903,131595,132196,132675,133163,133249,133150,134411,136494]
["female",77,713,772,678,641,659,920,897,802,802,727,735,737,724,710,724,796,746,782,727,720,797,854,857,879,887,832,780,864,955,1009,983,1060,null,77,117118,116709,116670,116410,116308,116907,118209,118359,119170,119823,119978,120334,120549,120876,121581,122429,123320,124165,125044,126088,127996,129382,130719,131782,132482,133028,133455,134027,134204,134159,135394,137554]
["female",78,727,676,725,655,613,628,878,864,758,762,684,720,702,702,667,703,782,707,766,714,701,780,828,822,850,848,808,748,851,927,973,953,null,78,117845,117385,117395,117065,116921,117535,119087,119223,119928,120585,120662,121054,121251,121578,122248,123132,124102,124872,125810,126802,128697,130162,131547,132604,133332,133876,134263,134775,135055,135086,136367,138507]
["female",79,669,701,662,702,620,578,607,825,821,738,718,659,678,673,668,634,676,755,682,730,694,681,758,793,792,815,809,785,712,825,885,930,null,79,118514,118086,118057,117767,117541,118113,119694,120048,120749,121323,121380,121713,121929,122251,122916,123766,124778,125627,126492,127532,129391,130843,132305,133397,134124,134691,135072,135560,135767,135911,137252,139437]
["female",80,630,641,683,632,671,577,552,586,774,782,689,684,640,656,633,632,603,636,714,654,702,652,655,722,777,766,779,792,755,673,807,860,null,80,119144,118727,118740,118399,118212,118690,120246,120634,121523,122105,122069,122397,122569,122907,123549,124398,125381,126263,127206,128186,130093,131495,132960,134119,134901,135457,135851,136352,136522,136584,138059,140297]
["female",81,554,584,594,649,585,622,543,517,558,717,738,673,644,607,608,599,611,569,588,673,628,685,614,617,688,738,728,749,762,718,633,765,null,81,119698,119311,119334,119048,118797,119312,120789,121151,122081,122822,122807,123070,123213,123514,124157,124997,125992,126832,127794,128859,130721,132180,133574,134736,135589,136195,136579,137101,137284,137302,138692,141062]
["female",82,513,508,548,552,608,555,579,514,479,525,659,690,635,608,580,572,552,572,542,560,641,584,657,579,577,654,691,693,708,725,691,599,null,82,120211,119819,119882,119600,119405,119867,121368,121665,122560,123347,123466,123760,123848,124122,124737,125569,126544,127404,128336,129419,131362,132764,134231,135315,136166,136849,137270,137794,137992,138027,139383,141661]
["female",83,441,472,472,518,503,569,508,550,474,433,487,617,629,588,570,559,532,514,537,525,518,612,568,610,544,542,619,648,661,676,668,647,null,83,120652,120291,120354,120118,119908,120436,121876,122215,123034,123780,123953,124377,124477,124710,125307,126128,127076,127918,128873,129944,131880,133376,134799,135925,136710,137391,137889,138442,138653,138703,140051,142308]
["female",84,430,405,436,433,481,449,528,471,501,422,393,436,566,587,548,540,519,491,479,513,496,488,577,531,558,516,508,584,607,603,632,628,null,84,121082,120696,120790,120551,120389,120885,122404,122686,123535,124202,124346,124813,125043,125297,125855,126668,127595,128409,129352,130457,132376,133864,135376,136456,137268,137907,138397,139026,139260,139306,140683,142936]
["female",85,1982,2036,2048,2100,2116,2131,2187,2343,2395,400,390,354,400,516,545,501,500,459,452,442,479,459,453,534,504,505,477,471,530,571,536,592,null,85,123064,122732,122838,122651,122505,123016,124591,125029,125930,124602,124736,125167,125443,125813,126400,127169,128095,128868,129804,130899,132855,134323,135829,136990,137772,138412,138874,139497,139790,139877,141219,143528]
["female",86,null,null,null,null,null,null,null,null,null,399,364,360,314,369,483,501,453,453,420,408,401,447,426,409,499,453,470,440,436,478,507,462,null,86,123064,122732,122838,122651,122505,123016,124591,125029,125930,125001,125100,125527,125757,126182,126883,127670,128548,129321,130224,131307,133256,134770,136255,137399,138271,138865,139344,139937,140226,140355,141726,143990]
["female",87,null,null,null,null,null,null,null,null,null,334,365,319,323,277,339,430,453,406,403,387,370,363,410,371,372,459,406,416,415,385,433,461,null,87,123064,122732,122838,122651,122505,123016,124591,125029,125930,125335,125465,125846,126080,126459,127222,128100,129001,129727,130627,131694,133626,135133,136665,137770,138643,139324,139750,140353,140641,140740,142159,144451]
["female",88,null,null,null,null,null,null,null,null,null,273,290,330,270,286,229,319,383,406,368,372,338,315,338,362,335,339,397,372,368,359,342,395,null,88,123064,122732,122838,122651,122505,123016,124591,125029,125930,125608,125755,126176,126350,126745,127451,128419,129384,130133,130995,132066,133964,135448,137003,138132,138978,139663,140147,140725,141009,141099,142501,144846]
["female",89,null,null,null,null,null,null,null,null,null,247,239,247,283,229,251,195,294,327,356,319,327,292,280,284,319,284,289,350,323,337,311,293,null,89,123064,122732,122838,122651,122505,123016,124591,125029,125930,125855,125994,126423,126633,126974,127702,128614,129678,130460,131351,132385,134291,135740,137283,138416,139297,139947,140436,141075,141332,141436,142812,145139]
["female","90+",null,null,null,null,null,null,null,null,null,856,867,888,901,951,917,950,899,968,1048,1132,1185,1266,1291,1241,1264,1308,1249,1255,1263,1280,1344,1327,null,"90+",123064,122732,122838,122651,122505,123016,124591,125029,125930,126711,126861,127311,127534,127925,128619,129564,130577,131428,132399,133517,135476,137006,138574,139657,140561,141255,141685,142330,142595,142716,144156,146466]
[null,"All Females",{"$f":"SUM(C109:C199)","v":123064},{"$f":"SUM(D109:D199)","v":122732},122838,122651,122505,123016,124591,125029,125930,126711,126861,127311,127534,127925,128619,129564,130577,131428,132399,133517,135476,137006,138574,139657,140561,141255,141685,{"$f":"SUM(AD109:AD199)","v":142330},{"$f":"SUM(AE109:AE199)","v":142595},{"$f":"SUM(AF109:AF199)","v":142716},{"$f":"SUM(AG109:AG199)","v":144156},{"$f":"SUM(AH109:AH199)","v":146466}]
[]
[]
[]
[]
[]
[]
[]
[]
[]
[]
[]
[]
[]
[]
[]
[]
[]
[]
[]
[]
[]
[]
[]
[]
[]
[]
[]
[]
[null,null,null,null,null,null,null,null,null,null,null,null,null,null,0.59646839274232755]
[null,null,null,null,null,null,null,null,null,null,null,null,null,null,0.19275644141954301]
[null,null,null,null,null,null,null,null,null,null,null,null,null,null,0.6422601031881694]
[null,null,null,null,null,null,null,null,null,null,null,null,null,null,6.4719996236297775E-2]
[null,null,null,null,null,null,null,null,null,null,null,null,null,null,7.1259428858186841E-2]
[null,null,null,null,null,null,null,null,null,null,null,null,null,null,6.700958175858987E-2]
[null,null,null,null,null,null,null,null,null,null,null,null,null,null,6.2257907695202848E-2]
[null,null,null,null,null,null,null,null,null,null,null,null,null,null,6.1505167249517774E-2]
[null,null,null,null,null,null,null,null,null,null,null,null,null,null,7.1847507331378305E-2]
[null,null,null,null,null,null,null,null,null,null,null,null,null,null,8.011197014129566E-2]
[null,null,null,null,null,null,null,null,null,null,null,null,null,null,7.7728292063292931E-2]
[null,null,null,null,null,null,null,null,null,null,null,null,null,null,6.5072843320212653E-2]
[null,null,null,null,null,null,null,null,null,null,null,null,null,null,6.0485831229319241E-2]
[null,null,null,null,null,null,null,null,null,null,null,null,null,null,6.5065002273903425E-2]
[null,null,null,null,null,null,null,null,null,null,null,null,null,null,4.5791710445841891E-2]
[null,null,null,null,null,null,null,null,null,null,null,null,null,null,4.0930261734125804E-2]
[null,null,null,null,null,null,null,null,null,null,null,null,null,null,3.3638088666551665E-2]
[null,null,null,null,null,null,null,null,null,null,null,null,null,null,2.8447316009848355E-2]
[null,null,null,null,null,null,null,null,null,null,null,null,null,null,2.441701820690953E-2]
[null,null,null,null,null,null,null,null,null,null,null,null,null,null,1.2467263631659009E-2]
[null,null,null,null,null,null,null,null,null,null,null,null,null,null,7.0647827246067716E-3]
[null,null,null,null,null,null,null,null,null,null,null,null,null,null,1]

{"sheet":"SEV","index":18,"n_rows":250,"n_cols":106,"rows_kept":250,"cut":false,"hidden":true,"merged":[[0,68,21,68]]}
["Mid Year Population Estimates",null,null,null,null,null,null,null,null,null,null,null,null,null,null,null,null,null,null,null,null,null,null,null,null,null,null,null,null,null,null,null,null,null,null,null,null,null,null,null,null,null,null,null,null,null,null,null,null,null,null,null,null,null,null,null,null,null,null,null,null,null,null,null,null,null,null,null,"Insert column here before extending the table"]
["ONS Mid-Year Population Estimates 1991 to 2022 - (1992 to 2001 Revised 7th October 2004) ( 2002 to 2010 revised in light of the 2011 census. Released 30 April 2013)",null,null,null,null,null,null,null,null,null,null,null,null,null,null,null,null,null,null,null,null,null,null,null,null,null,null,null,null,null,null,null,null,null,null,"Selected Ages:",null,{"$f":"Index!C4&\" : \"&Index!C7","v":"0 : 90"},null,null,null,null,null,null,null,null,null,null,null,null,null,null,null,null,null,null,null,null,null,null,null,null,null,null,null,null,null,null,null,null,null,null,"Start year","End Year","Number change","% Change"]
["Revised ONS Mid-Year Population Estimates 2012 to 2020- Released 23 November 2023",null,null,null,null,null,null,null,null,null,null,null,null,null,null,null,null,null,null,null,null,null,null,null,null,null,null,null,null,null,null,null,null,null,null,null,{"$f":"AK13","v":1992},{"$f":"AL13","v":1993},{"$f":"AM13","v":1994},{"$f":"AN13","v":1995},{"$f":"AO13","v":1996},{"$f":"AP13","v":1997},1998,1999,2000,2001,2002,2003,2004,2005,2006,2007,2008,2009,2010,2011,2012,2013,2014,2015,2016,2017,{"$f":"BK13","v":2018},2019,2020,2021,2022,2023,null,null,null,null,{"$f":"INDEX($AR3:$BL3,Index!$B$16)","v":1999},{"$f":"INDEX($AR3:$BM3,Index!$B$19)","v":2019}]
["2022 MYPE released 23 November 2023",null,null,null,null,null,null,null,null,null,null,null,null,null,null,null,null,null,null,null,null,null,null,null,null,null,null,null,null,null,null,null,null,null,null,"Males",{"$f":"OFFSET(AK16,Index!$B$7-1,0)-IF(Index!$B$4-2=-1,0,OFFSET(AK16,Index!$B$4-2,0))","v":53002},{"$f":"OFFSET(AL16,Index!$B$7-1,0)-IF(Index!$B$4-2=-1,0,OFFSET(AL16,Index!$B$4-2,0))","v":52903},{"$f":"OFFSET(AM16,Index!$B$7-1,0)-IF(Index!$B$4-2=-1,0,OFFSET(AM16,Index!$B$4-2,0))","v":52832},{"$f":"OFFSET(AN16,Index!$B$7-1,0)-IF(Index!$B$4-2=-1,0,OFFSET(AN16,Index!$B$4-2,0))","v":52592},{"$f":"OFFSET(AO16,Index!$B$7-1,0)-IF(Index!$B$4-2=-1,0,OFFSET(AO16,Index!$B$4-2,0))","v":52747},{"$f":"OFFSET(AP16,Index!$B$7-1,0)-IF(Index!$B$4-2=-1,0,OFFSET(AP16,Index!$B$4-2,0))","v":53056},{"$f":"OFFSET(AQ16,Index!$B$7-1,0)-IF(Index!$B$4-2=-1,0,OFFSET(AQ16,Index!$B$4-2,0))","v":52896},{"$f":"OFFSET(AR16,Index!$B$7-1,0)-IF(Index!$B$4-2=-1,0,OFFSET(AR16,Index!$B$4-2,0))","v":53138},{"$f":"OFFSET(AS16,Index!$B$7-1,0)-IF(Index!$B$4-2=-1,0,OFFSET(AS16,Index!$B$4-2,0))","v":53020},{"$f":"OFFSET(AT16,Index!$B$7-1,0)-IF(Index!$B$4-2=-1,0,OFFSET(AT16,Index!$B$4-2,0))","v":52868},{"$f":"OFFSET(AU16,Index!$B$7-1,0)-IF(Index!$B$4-2=-1,0,OFFSET(AU16,Index!$B$4-2,0))","v":52751},{"$f":"OFFSET(AV16,Index!$B$7-1,0)-IF(Index!$B$4-2=-1,0,OFFSET(AV16,Index!$B$4-2,0))","v":52891},{"$f":"OFFSET(AW16,Index!$B$7-1,0)-IF(Index!$B$4-2=-1,0,OFFSET(AW16,Index!$B$4-2,0))","v":53155},{"$f":"OFFSET(AX16,Index!$B$7-1,0)-IF(Index!$B$4-2=-1,0,OFFSET(AX16,Index!$B$4-2,0))","v":53718},{"$f":"OFFSET(AY16,Index!$B$7-1,0)-IF(Index!$B$4-2=-1,0,OFFSET(AY16,Index!$B$4-2,0))","v":54290},{"$f":"OFFSET(AZ16,Index!$B$7-1,0)-IF(Index!$B$4-2=-1,0,OFFSET(AZ16,Index!$B$4-2,0))","v":54676},{"$f":"OFFSET(BA16,Index!$B$7-1,0)-IF(Index!$B$4-2=-1,0,OFFSET(BA16,Index!$B$4-2,0))","v":54792},{"$f":"OFFSET(BB16,Index!$B$7-1,0)-IF(Index!$B$4-2=-1,0,OFFSET(BB16,Index!$B$4-2,0))","v":55086},{"$f":"OFFSET(BC16,Index!$B$7-1,0)-IF(Index!$B$4-2=-1,0,OFFSET(BC16,Index!$B$4-2,0))","v":55478},{"$f":"OFFSET(BD16,Index!$B$7-1,0)-IF(Index!$B$4-2=-1,0,OFFSET(BD16,Index!$B$4-2,0))","v":55975},{"$f":"OFFSET(BE16,Index!$B$7-1,0)-IF(Index!$B$4-2=-1,0,OFFSET(BE16,Index!$B$4-2,0))","v":56343},{"$f":"OFFSET(BF16,Index!$B$7-1,0)-IF(Index!$B$4-2=-1,0,OFFSET(BF16,Index!$B$4-2,0))","v":56568},{"$f":"OFFSET(BG16,Index!$B$7-1,0)-IF(Index!$B$4-2=-1,0,OFFSET(BG16,Index!$B$4-2,0))","v":56750},{"$f":"OFFSET(BH16,Index!$B$7-1,0)-IF(Index!$B$4-2=-1,0,OFFSET(BH16,Index!$B$4-2,0))","v":56961},{"$f":"OFFSET(BI16,Index!$B$7-1,0)-IF(Index!$B$4-2=-1,0,OFFSET(BI16,Index!$B$4-2,0))","v":57230},{"$f":"OFFSET(BJ16,Index!$B$7-1,0)-IF(Index!$B$4-2=-1,0,OFFSET(BJ16,Index!$B$4-2,0))","v":57389},{"$f":"OFFSET(BK16,Index!$B$7-1,0)-IF(Index!$B$4-2=-1,0,OFFSET(BK16,Index!$B$4-2,0))","v":57682},{"$f":"OFFSET(BL16,Index!$B$7-1,0)-IF(Index!$B$4-2=-1,0,OFFSET(BL16,Index!$B$4-2,0))","v":57824},{"$f":"OFFSET(BM16,Index!$B$7-1,0)-IF(Index!$B$4-2=-1,0,OFFSET(BM16,Index!$B$4-2,0))","v":57957},{"$f":"OFFSET(BN16,Index!$B$7-1,0)-IF(Index!$B$4-2=-1,0,OFFSET(BN16,Index!$B$4-2,0))","v":58378},{"$f":"OFFSET(BO16,Index!$B$7-1,0)-IF(Index!$B$4-2=-1,0,OFFSET(BO16,Index!$B$4-2,0))","v":58385},{"$f":"OFFSET(BP16,Index!$B$7-1,0)-IF(Index!$B$4-2=-1,0,OFFSET(BP16,Index!$B$4-2,0))","v":58297},null,null,null,null,{"$f":"INDEX($AR4:$BL4,Index!$B$16)","v":53138},{"$f":"INDEX($AR4:$BM4,Index!$B$19)","v":57824},{"$f":"BV4-BU4","v":4686},{"$f":"BW4/BU4","v":8.8185479318002177E-2}]
[null,null,null,null,null,null,null,null,null,null,null,null,null,null,null,null,null,null,null,null,null,null,null,null,null,null,null,null,null,null,null,null,null,null,null,"Females",{"$f":"OFFSET(AK109,Index!$B$7-1,0)-IF(Index!$B$4-2=-1,0,OFFSET(AK109,Index!$B$4-2,0))","v":55843},{"$f":"OFFSET(AL109,Index!$B$7-1,0)-IF(Index!$B$4-2=-1,0,OFFSET(AL109,Index!$B$4-2,0))","v":55914},{"$f":"OFFSET(AM109,Index!$B$7-1,0)-IF(Index!$B$4-2=-1,0,OFFSET(AM109,Index!$B$4-2,0))","v":56106},{"$f":"OFFSET(AN109,Index!$B$7-1,0)-IF(Index!$B$4-2=-1,0,OFFSET(AN109,Index!$B$4-2,0))","v":55786},{"$f":"OFFSET(AO109,Index!$B$7-1,0)-IF(Index!$B$4-2=-1,0,OFFSET(AO109,Index!$B$4-2,0))","v":55997},{"$f":"OFFSET(AP109,Index!$B$7-1,0)-IF(Index!$B$4-2=-1,0,OFFSET(AP109,Index!$B$4-2,0))","v":56358},{"$f":"OFFSET(AQ109,Index!$B$7-1,0)-IF(Index!$B$4-2=-1,0,OFFSET(AQ109,Index!$B$4-2,0))","v":56245},{"$f":"OFFSET(AR109,Index!$B$7-1,0)-IF(Index!$B$4-2=-1,0,OFFSET(AR109,Index!$B$4-2,0))","v":56508},{"$f":"OFFSET(AS109,Index!$B$7-1,0)-IF(Index!$B$4-2=-1,0,OFFSET(AS109,Index!$B$4-2,0))","v":56519},{"$f":"OFFSET(AT109,Index!$B$7-1,0)-IF(Index!$B$4-2=-1,0,OFFSET(AT109,Index!$B$4-2,0))","v":56374},{"$f":"OFFSET(AU109,Index!$B$7-1,0)-IF(Index!$B$4-2=-1,0,OFFSET(AU109,Index!$B$4-2,0))","v":56354},{"$f":"OFFSET(AV109,Index!$B$7-1,0)-IF(Index!$B$4-2=-1,0,OFFSET(AV109,Index!$B$4-2,0))","v":56389},{"$f":"OFFSET(AW109,Index!$B$7-1,0)-IF(Index!$B$4-2=-1,0,OFFSET(AW109,Index!$B$4-2,0))","v":56890},{"$f":"OFFSET(AX109,Index!$B$7-1,0)-IF(Index!$B$4-2=-1,0,OFFSET(AX109,Index!$B$4-2,0))","v":57548},{"$f":"OFFSET(AY109,Index!$B$7-1,0)-IF(Index!$B$4-2=-1,0,OFFSET(AY109,Index!$B$4-2,0))","v":58210},{"$f":"OFFSET(AZ109,Index!$B$7-1,0)-IF(Index!$B$4-2=-1,0,OFFSET(AZ109,Index!$B$4-2,0))","v":58456},{"$f":"OFFSET(BA109,Index!$B$7-1,0)-IF(Index!$B$4-2=-1,0,OFFSET(BA109,Index!$B$4-2,0))","v":58506},{"$f":"OFFSET(BB109,Index!$B$7-1,0)-IF(Index!$B$4-2=-1,0,OFFSET(BB109,Index!$B$4-2,0))","v":58668},{"$f":"OFFSET(BC109,Index!$B$7-1,0)-IF(Index!$B$4-2=-1,0,OFFSET(BC109,Index!$B$4-2,0))","v":59031},{"$f":"OFFSET(BD109,Index!$B$7-1,0)-IF(Index!$B$4-2=-1,0,OFFSET(BD109,Index!$B$4-2,0))","v":59376},{"$f":"OFFSET(BE109,Index!$B$7-1,0)-IF(Index!$B$4-2=-1,0,OFFSET(BE109,Index!$B$4-2,0))","v":59907},{"$f":"OFFSET(BF109,Index!$B$7-1,0)-IF(Index!$B$4-2=-1,0,OFFSET(BF109,Index!$B$4-2,0))","v":60128},{"$f":"OFFSET(BG109,Index!$B$7-1,0)-IF(Index!$B$4-2=-1,0,OFFSET(BG109,Index!$B$4-2,0))","v":60626},{"$f":"OFFSET(BH109,Index!$B$7-1,0)-IF(Index!$B$4-2=-1,0,OFFSET(BH109,Index!$B$4-2,0))","v":60774},{"$f":"OFFSET(BI109,Index!$B$7-1,0)-IF(Index!$B$4-2=-1,0,OFFSET(BI109,Index!$B$4-2,0))","v":61059},{"$f":"OFFSET(BJ109,Index!$B$7-1,0)-IF(Index!$B$4-2=-1,0,OFFSET(BJ109,Index!$B$4-2,0))","v":61100},{"$f":"OFFSET(BK109,Index!$B$7-1,0)-IF(Index!$B$4-2=-1,0,OFFSET(BK109,Index!$B$4-2,0))","v":61483},{"$f":"OFFSET(BL109,Index!$B$7-1,0)-IF(Index!$B$4-2=-1,0,OFFSET(BL109,Index!$B$4-2,0))","v":61751},{"$f":"OFFSET(BM109,Index!$B$7-1,0)-IF(Index!$B$4-2=-1,0,OFFSET(BM109,Index!$B$4-2,0))","v":62094},{"$f":"OFFSET(BN109,Index!$B$7-1,0)-IF(Index!$B$4-2=-1,0,OFFSET(BN109,Index!$B$4-2,0))","v":62445},{"$f":"OFFSET(BO109,Index!$B$7-1,0)-IF(Index!$B$4-2=-1,0,OFFSET(BO109,Index!$B$4-2,0))","v":62788},{"$f":"OFFSET(BP109,Index!$B$7-1,0)-IF(Index!$B$4-2=-1,0,OFFSET(BP109,Index!$B$4-2,0))","v":62965},null,null,null,null,{"$f":"INDEX($AR5:$BL5,Index!$B$16)","v":56508},{"$f":"INDEX($AR5:$BM5,Index!$B$19)","v":61751},{"$f":"BV5-BU5","v":5243},{"$f":"BW5/BU5","v":9.2783322715367739E-2}]
[null,null,null,null,null,null,null,null,null,null,null,null,null,null,null,null,null,null,null,null,null,null,null,null,null,null,null,null,null,null,null,null,null,null,null,"Total",{"$f":"SUM(AK4:AK5)","v":108845},{"$f":"SUM(AL4:AL5)","v":108817},{"$f":"SUM(AM4:AM5)","v":108938},{"$f":"SUM(AN4:AN5)","v":108378},{"$f":"SUM(AO4:AO5)","v":108744},{"$f":"SUM(AP4:AP5)","v":109414},109141,109646,109539,109242,109105,109280,110045,111266,112500,113132,113298,113754,114509,115351,116250,116696,117376,117735,118289,118489,119165,119575,120051,120823,121173,121262,null,null,null,null,{"$f":"INDEX($AR6:$BL6,Index!$B$16)","v":109646},{"$f":"INDEX($AR6:$BM6,Index!$B$19)","v":119575},{"$f":"BV6-BU6","v":9929},{"$f":"BW6/BU6","v":9.0555059008080543E-2}]
[]
[null,null,null,null,null,null,null,null,null,null,null,null,null,null,null,null,null,null,null,null,null,null,null,null,null,null,null,null,null,null,null,null,null,null,null,"Males",{"$f":"IF(AK4<0,\"0\",AK4)","v":53002},{"$f":"IF(AL4<0,\"0\",AL4)","v":52903},52832,52592,52747,53056,52896,53138,53020,52868,52751,52891,53155,53718,54290,54676,54792,55086,55478,55975,56343,56568,56750,56961,57230,57389,{"$f":"IF(BK4<0,\"0\",BK4)","v":57682},57824,57957,{"$f":"IF(BN4<0,\"0\",BN4)","v":58378},58385,{"$f":"IF(BP4<0,\"0\",BP4)","v":58297}]
[null,null,null,null,null,null,null,null,null,null,null,null,null,null,null,null,null,null,null,null,null,null,null,null,null,null,null,null,null,null,null,null,null,null,null,"Females",{"$f":"IF(AK5<0,\"0\",AK5)","v":55843},55914,56106,55786,55997,56358,56245,56508,56519,56374,56354,56389,56890,57548,58210,58456,58506,58668,59031,59376,59907,60128,60626,60774,61059,61100,61483,61751,62094,{"$f":"IF(BN5<0,\"0\",BN5)","v":62445},62788,{"$f":"IF(BP5<0,\"0\",BP5)","v":62965}]
[null,null,null,null,null,null,null,null,null,null,null,null,null,null,null,null,null,null,null,null,null,null,null,null,null,null,null,null,null,null,null,null,null,null,null,"Total",{"$f":"SUM(AK8:AK9)","v":108845},{"$f":"SUM(AL8:AL9)","v":108817},108938,108378,108744,109414,109141,109646,109539,109242,109105,109280,110045,111266,112500,113132,113298,113754,114509,115351,116250,116696,117376,117735,118289,118489,{"$f":"SUM(BK8:BK9)","v":119165},119575,120051,120823,121173,121262]
[]
[null,null,null,"MYE for  . . . . . .",null,null,null,"Sevenoaks",null,null,null,null,null,null,null,null,null,null,null,null,null,null,null,null,null,null,null,null,null,null,null,null,null,null,null,null,null,null,null,null,"Cummulative Ages",null,null,null,null,null,null,null,null,null,null,null,null,null,null,null,null,null,null,null,null,null,null,null,null,null,null,null,null,"Population Pyramid"]
[null,null,"Base Year",null,null,null,null,null,null,null,null,null,null,null,null,null,null,null,null,null,null,null,null,null,null,null,null,null,null,null,null,null,null,null,null,null,{"$f":"C14","v":1992},1993,1994,1995,1996,1997,1998,1999,2000,2001,2002,2003,2004,2005,2006,2007,2008,2009,2010,2011,2012,2013,2014,2015,2016,2017,2018,2019,2020,2021,2022,2023]
["Sex","Age",1992,1993,1994,1995,1996,1997,1998,1999,2000,2001,2002,2003,2004,2005,2006,2007,2008,2009,2010,2011,2012,2013,2014,2015,2016,2017,2018,2019,2020,2021,2022,2023,null,null,null,null,null,null,null,null,null,null,null,null,null,null,null,null,null,null,null,null,null,null,null,null,null,null,null,null,null,null,null,null,null,null,null,null,null,null,1992,1993,1994,1995,1996,1997,1998,1999,2000,2001,2002,2003,2004,2005,2006,2007,2008,2009,2010,2011,2012,2013,2014,2015,2016,2017,2018,2019,2020,2021,2022,2023,null,{"$f":"INDEX(CC14:CY14,'Population Pyramid'!$L$1)","v":2020}]
[null,"All persons",{"$f":"SUM(C107,C200)","v":108845},{"$f":"SUM(D107,D200)","v":108817},108938,108378,108744,109414,109141,109646,109539,109242,109105,109280,110045,111266,112500,113132,113298,113754,114509,115351,116250,116696,{"$f":"SUM(Y107,Y200)","v":117376},117735,118289,118489,119165,119575,{"$f":"SUM(AE107,AE200)","v":120051},120823,{"$f":"SUM(AG107,AG200)","v":121173},121262,null,"Males",null,null,null,null,null,null,null,null,null,null,null,null,null,null,null,null,null,null,null,null,null,null,null,null,null,null,null,null,null,null,null,null,null,"Males","All Ages",null,{"$f":"C107","v":53002},52903,52832,52592,52747,53056,52896,53138,53020,52868,52751,52891,53155,53718,54290,54676,54792,55086,55478,55975,56343,56568,56750,56961,57230,57389,57682,57824,57957,58378,58385,58297,null,{"$f":"INDEX(CC15:CY15,'Population Pyramid'!$L$1)","v":57957}]
["male",0,679,627,632,672,635,623,651,702,641,582,554,624,577,638,673,690,664,664,695,718,694,655,603,671,629,624,608,656,619,662,639,589,null,0,{"$f":"C16","v":679},627,632,672,635,623,651,702,641,582,554,624,577,638,673,690,664,664,695,718,694,655,603,671,629,624,608,656,619,662,639,589,null,"Males","0-4",null,{"$f":"SUM(C16:C20)","v":3564},3495,3464,3409,3375,3359,3370,3412,3335,3259,3173,3211,3151,3136,3262,3405,3433,3479,3524,3631,3659,3680,3675,3617,3531,3406,3360,3422,3379,3439,3395,3369,null,{"$f":"INDEX(CC16:CY16,'Population Pyramid'!$L$1)","v":3379}]
["male",1,675,682,622,670,686,652,630,675,684,671,585,568,633,594,678,680,704,683,683,719,732,732,680,633,709,628,638,624,687,652,674,668,null,1,{"$f":"AK16+C17","v":1354},{"$f":"AL16+D17","v":1309},{"$f":"AM16+E17","v":1254},{"$f":"AN16+F17","v":1342},{"$f":"AO16+G17","v":1321},{"$f":"AP16+H17","v":1275},{"$f":"AQ16+I17","v":1281},{"$f":"AR16+J17","v":1377},{"$f":"AS16+K17","v":1325},{"$f":"AT16+L17","v":1253},{"$f":"AU16+M17","v":1139},{"$f":"AV16+N17","v":1192},{"$f":"AW16+O17","v":1210},{"$f":"AX16+P17","v":1232},{"$f":"AY16+Q17","v":1351},{"$f":"AZ16+R17","v":1370},{"$f":"BA16+S17","v":1368},{"$f":"BB16+T17","v":1347},{"$f":"BC16+U17","v":1378},{"$f":"BD16+V17","v":1437},{"$f":"BE16+W17","v":1426},{"$f":"BF16+X17","v":1387},{"$f":"BG16+Y17","v":1283},{"$f":"BH16+Z17","v":1304},{"$f":"BI16+AA17","v":1338},{"$f":"BJ16+AB17","v":1252},{"$f":"BK16+AC17","v":1246},{"$f":"BL16+AD17","v":1280},{"$f":"BM16+AE17","v":1306},{"$f":"BN16+AF17","v":1314},{"$f":"BO16+AG17","v":1313},1257,null,"Males","5-9",null,{"$f":"SUM(C21:C25)","v":3379},3417,3421,3501,3570,3577,3503,3653,3635,3591,3599,3602,3614,3595,3588,3519,3512,3469,3508,3508,3644,3776,3851,3948,4136,4120,4069,4027,3940,3801,3819,3780,null,{"$f":"INDEX(CC17:CY17,'Population Pyramid'!$L$1)","v":3940}]
["male",2,775,699,699,637,685,713,667,654,664,668,675,615,588,635,627,682,691,722,711,693,763,776,775,693,672,726,648,712,634,693,657,702,null,2,2129,2008,1953,1979,2006,1988,1948,2031,1989,1921,1814,1807,1798,1867,1978,2052,2059,2069,2089,2130,2189,2163,2058,1997,2010,1978,1894,1992,1940,2007,1970,1959,null,"Males","10-14",null,{"$f":"SUM(C26:C30)","v":3803},3769,3655,3549,3461,3438,3546,3566,3694,3738,3740,3730,3749,3740,3763,3749,3662,3647,3582,3550,3535,3541,3492,3597,3637,3818,3995,4024,4117,4194,4219,4139,null,{"$f":"INDEX(CC18:CY18,'Population Pyramid'!$L$1)","v":4117}]
["male",3,686,794,719,713,661,707,729,668,678,657,682,688,653,603,665,656,696,693,736,740,703,788,815,779,715,704,750,667,732,676,719,679,null,3,2815,2802,2672,2692,2667,2695,2677,2699,2667,2578,2496,2495,2451,2470,2643,2708,2755,2762,2825,2870,2892,2951,2873,2776,2725,2682,2644,2659,2672,2683,2689,2638,null,"Males","15-19",null,{"$f":"SUM(C31:C35)","v":3581},3468,3388,3352,3411,3535,3522,3389,3280,3220,3235,3271,3315,3424,3447,3483,3507,3510,3536,3517,3353,3311,3210,3253,3253,3294,3335,3305,3325,3357,3474,3673,null,{"$f":"INDEX(CC19:CY19,'Population Pyramid'!$L$1)","v":3325}]
["male",4,749,693,792,717,708,664,693,713,668,681,677,716,700,666,619,697,678,717,699,761,767,729,802,841,806,724,716,763,707,756,706,731,null,4,3564,3495,3464,3409,3375,3359,3370,3412,3335,3259,3173,3211,3151,3136,3262,3405,3433,3479,3524,3631,3659,3680,3675,3617,3531,3406,3360,3422,3379,3439,3395,3369,null,"Males","20-24",null,{"$f":"SUM(C36:C40)","v":3267},3222,3136,2998,2836,2645,2378,2352,2336,2351,2368,2345,2354,2353,2337,2362,2376,2492,2563,2645,2663,2587,2547,2390,2409,2329,2334,2370,2449,2553,2439,2278,null,{"$f":"INDEX(CC20:CY20,'Population Pyramid'!$L$1)","v":2449}]
["male",5,705,737,687,775,706,695,647,733,733,681,687,693,732,718,688,640,691,676,734,702,777,789,753,816,851,799,769,730,775,726,791,730,null,5,4269,4232,4151,4184,4081,4054,4017,4145,4068,3940,3860,3904,3883,3854,3950,4045,4124,4155,4258,4333,4436,4469,4428,4433,4382,4205,4129,4152,4154,4165,4186,4099,null,"Males","25-29",null,{"$f":"SUM(C41:C45)","v":3459},3355,3300,3150,3140,3172,3125,2927,2789,2669,2533,2500,2545,2707,2714,2827,2807,2746,2697,2701,2754,2834,2911,2890,2855,2886,2792,2769,2707,2735,2591,2601,null,{"$f":"INDEX(CC21:CY21,'Population Pyramid'!$L$1)","v":2707}]
["male",6,675,700,733,691,777,710,688,712,739,738,696,682,701,738,722,693,657,704,674,745,713,799,806,771,828,857,804,770,723,765,731,793,null,6,4944,4932,4884,4875,4858,4764,4705,4857,4807,4678,4556,4586,4584,4592,4672,4738,4781,4859,4932,5078,5149,5268,5234,5204,5210,5062,4933,4922,4877,4930,4917,4892,null,"Males","30-34",null,{"$f":"SUM(C46:C50)","v":3567},3660,3724,3770,3815,3839,3701,3659,3476,3325,3136,3131,3105,3074,3076,2966,2933,2917,2917,2961,2982,3003,2892,2905,2933,2951,3022,3121,3084,3129,3123,2997,null,{"$f":"INDEX(CC22:CY22,'Population Pyramid'!$L$1)","v":3084}]
["male",7,675,661,696,720,695,770,702,702,706,744,744,715,698,707,752,715,701,675,718,680,756,718,807,812,789,834,858,820,775,706,790,726,null,7,5619,5593,5580,5595,5553,5534,5407,5559,5513,5422,5300,5301,5282,5299,5424,5453,5482,5534,5650,5758,5905,5986,6041,6016,5999,5896,5791,5742,5652,5636,5707,5618,null,"Males","35-39",null,{"$f":"SUM(C51:C55)","v":3671},3634,3634,3667,3759,3857,3920,4091,4174,4177,4187,4116,4033,3936,3845,3775,3682,3637,3606,3535,3458,3458,3507,3488,3468,3536,3522,3334,3372,3435,3378,3434,null,{"$f":"INDEX(CC23:CY23,'Population Pyramid'!$L$1)","v":3372}]
["male",8,668,662,649,682,711,697,766,733,712,716,751,763,716,714,707,760,709,707,675,702,692,761,720,819,845,788,841,853,816,784,708,813,null,8,6287,6255,6229,6277,6264,6231,6173,6292,6225,6138,6051,6064,5998,6013,6131,6213,6191,6241,6325,6460,6597,6747,6761,6835,6844,6684,6632,6595,6468,6420,6415,6431,null,"Males","40-44",null,{"$f":"SUM(C56:C60)","v":4161},3920,3818,3724,3671,3724,3706,3781,3880,4004,4103,4128,4254,4398,4571,4517,4478,4412,4242,4171,4090,3954,3964,3939,3839,3782,3745,3761,3735,3721,3824,3757,null,{"$f":"INDEX(CC24:CY24,'Population Pyramid'!$L$1)","v":3735}]
["male",9,656,657,656,633,681,705,700,773,745,712,721,749,767,718,719,711,754,707,707,679,706,709,765,730,823,842,797,854,851,820,799,718,null,9,6943,6912,6885,6910,6945,6936,6873,7065,6970,6850,6772,6813,6765,6731,6850,6924,6945,6948,7032,7139,7303,7456,7526,7565,7667,7526,7429,7449,7319,7240,7214,7149,null,"Males","45-49",null,{"$f":"SUM(C61:C65)","v":4379},4542,4567,4512,4390,4033,3789,3792,3768,3724,3749,3798,3786,3908,4024,4163,4221,4348,4494,4599,4533,4510,4492,4338,4253,4131,4083,4062,4080,3999,3854,3845,null,{"$f":"INDEX(CC25:CY25,'Population Pyramid'!$L$1)","v":4080}]
["male",10,729,648,652,652,630,684,707,722,778,738,723,729,763,769,726,732,695,755,710,710,685,717,712,786,732,829,856,799,849,844,816,808,null,10,7672,7560,7537,7562,7575,7620,7580,7787,7748,7588,7495,7542,7528,7500,7576,7656,7640,7703,7742,7849,7988,8173,8238,8351,8399,8355,8285,8248,8168,8084,8030,7957,null,"Males","50-54",null,{"$f":"SUM(C66:C70)","v":3207},3314,3487,3619,3869,4277,4448,4433,4390,4329,3971,3784,3723,3664,3615,3688,3734,3689,3784,3892,4098,4196,4312,4451,4558,4519,4456,4401,4261,4225,4140,4085,null,{"$f":"INDEX(CC26:CY26,'Population Pyramid'!$L$1)","v":4261}]
["male",11,747,739,652,655,668,644,710,716,737,774,751,723,727,767,775,718,722,690,772,690,703,684,719,729,786,747,838,854,811,848,831,807,null,11,8419,8299,8189,8217,8243,8264,8290,8503,8485,8362,8246,8265,8255,8267,8351,8374,8362,8393,8514,8539,8691,8857,8957,9080,9185,9102,9123,9102,8979,8932,8861,8764,null,"Males","55-59",null,{"$f":"SUM(C71:C75)","v":2987},3114,3122,3144,3084,3095,3203,3358,3440,3621,3980,4130,4157,4157,4122,3804,3621,3618,3604,3549,3590,3597,3594,3714,3773,3964,4092,4166,4285,4328,4317,4295,null,{"$f":"INDEX(CC27:CY27,'Population Pyramid'!$L$1)","v":4285}]
["male",12,779,766,754,664,677,692,665,729,751,750,776,759,727,735,777,783,712,714,694,766,700,703,681,708,728,788,773,835,870,809,860,834,null,12,9198,9065,8943,8881,8920,8956,8955,9232,9236,9112,9022,9024,8982,9002,9128,9157,9074,9107,9208,9305,9391,9560,9638,9788,9913,9890,9896,9937,9849,9741,9721,9598,null,"Males","60-64",null,{"$f":"SUM(C76:C80)","v":2960},2836,2863,2856,2848,2810,2882,2915,2908,2852,2809,2905,3012,3140,3342,3728,3915,3953,3933,3941,3667,3504,3483,3372,3377,3361,3360,3390,3477,3561,3763,3837,null,{"$f":"INDEX(CC28:CY28,'Population Pyramid'!$L$1)","v":3477}]
["male",13,795,795,776,766,683,696,728,675,737,747,745,783,757,733,747,770,781,712,707,689,774,691,694,668,718,749,789,770,831,869,832,852,null,13,9993,9860,9719,9647,9603,9652,9683,9907,9973,9859,9767,9807,9739,9735,9875,9927,9855,9819,9915,9994,10165,10251,10332,10456,10631,10639,10685,10707,10680,10610,10553,10450,null,"Males","65-69",null,{"$f":"SUM(C81:C85)","v":2444},2493,2500,2508,2557,2607,2560,2530,2589,2582,2539,2543,2572,2565,2531,2520,2650,2802,2926,3114,3509,3674,3682,3680,3604,3321,3185,3137,3104,3134,3088,3082,null,{"$f":"INDEX(CC29:CY29,'Population Pyramid'!$L$1)","v":3104}]
["male",14,753,821,821,812,803,722,736,724,691,729,745,736,775,736,738,746,752,776,699,695,673,746,686,706,673,705,739,766,756,824,880,838,null,14,10746,10681,10540,10459,10406,10374,10419,10631,10664,10588,10512,10543,10514,10471,10613,10673,10607,10595,10614,10689,10838,10997,11018,11162,11304,11344,11424,11473,11436,11434,11433,11288,null,"Males","70-74",null,{"$f":"SUM(C86:C90)","v":1928},2042,2096,2041,2029,2067,2119,2146,2141,2165,2236,2189,2225,2263,2251,2221,2266,2294,2329,2295,2322,2404,2551,2670,2860,3171,3330,3322,3301,3228,3006,2873,null,{"$f":"INDEX(CC30:CY30,'Population Pyramid'!$L$1)","v":3301}]
["male",15,687,753,824,817,819,815,727,715,721,691,721,732,737,781,739,747,736,765,776,701,682,667,754,692,721,693,711,738,771,736,837,889,null,15,11433,11434,11364,11276,11225,11189,11146,11346,11385,11279,11233,11275,11251,11252,11352,11420,11343,11360,11390,11390,11520,11664,11772,11854,12025,12037,12135,12211,12207,12170,12270,12177,null,"Males","75-79",null,{"$f":"SUM(C91:C95)","v":1373},1311,1287,1393,1487,1547,1655,1626,1602,1580,1613,1682,1730,1755,1803,1873,1866,1913,1956,1964,1950,1979,1997,2010,1972,1969,2078,2223,2329,2512,2806,2961,null,{"$f":"INDEX(CC31:CY31,'Population Pyramid'!$L$1)","v":2329}]
["male",16,736,667,745,810,816,811,810,731,709,704,682,710,728,741,787,741,748,734,774,788,700,685,667,756,697,729,698,730,726,761,741,838,null,16,12169,12101,12109,12086,12041,12000,11956,12077,12094,11983,11915,11985,11979,11993,12139,12161,12091,12094,12164,12178,12220,12349,12439,12610,12722,12766,12833,12941,12933,12931,13011,13015,null,"Males","80-84",null,{"$f":"SUM(C96:C100)","v":821},830,875,892,913,900,872,905,959,1049,1088,1144,1123,1124,1154,1211,1264,1285,1338,1412,1501,1488,1498,1523,1521,1523,1558,1581,1588,1554,1586,1650,null,{"$f":"INDEX(CC32:CY32,'Population Pyramid'!$L$1)","v":1588}]
["male",17,709,710,658,722,804,807,796,783,702,726,696,679,722,723,749,786,734,744,745,785,778,691,680,683,767,690,742,694,731,739,755,736,null,17,12878,12811,12767,12808,12845,12807,12752,12860,12796,12709,12611,12664,12701,12716,12888,12947,12825,12838,12909,12963,12998,13040,13119,13293,13489,13456,13575,13635,13664,13670,13766,13751,null,"Males","85+",null,{"$f":"SUM(C101:C106)","v":451},481,495,507,532,574,597,603,624,632,692,682,707,779,845,865,865,875,939,990,1035,1072,1092,1176,1251,1308,1366,1409,1424,1473,1563,1641,null,{"$f":"INDEX(CC33:CY33,'Population Pyramid'!$L$1)","v":1424}]
["male",18,816,689,663,585,636,719,691,694,690,624,661,669,652,694,682,719,757,704,711,716,745,743,653,651,647,720,683,674,632,701,711,722,null,18,13694,13500,13430,13393,13481,13526,13443,13554,13486,13333,13272,13333,13353,13410,13570,13666,13582,13542,13620,13679,13743,13783,13772,13944,14136,14176,14258,14309,14296,14371,14477,14473]
["male",19,633,649,498,418,336,383,498,466,458,475,475,481,476,485,490,490,532,563,530,527,448,525,456,471,421,462,501,469,465,420,430,488,null,19,14327,14149,13928,13811,13817,13909,13941,14020,13944,13808,13747,13814,13829,13895,14060,14156,14114,14105,14150,14206,14191,14308,14228,14415,14557,14638,14759,14778,14761,14791,14907,14961,null,"Males","All Ages",null,{"$f":"C200","v":55843},55914,56106,55786,55997,56358,56245,56508,56519,56374,56354,56389,56890,57548,58210,58456,58506,58668,59031,59376,59907,60128,60626,60774,61059,61100,61483,61751,62094,62445,62788,62965,null,{"$f":"INDEX(CC35:CY35,'Population Pyramid'!$L$1)","v":62094}]
["male",20,679,649,620,496,447,394,467,489,506,440,379,361,374,385,397,402,390,440,479,442,465,408,431,344,408,352,397,442,419,431,342,370,null,20,15006,14798,14548,14307,14264,14303,14408,14509,14450,14248,14126,14175,14203,14280,14457,14558,14504,14545,14629,14648,14656,14716,14659,14759,14965,14990,15156,15220,15180,15222,15249,15331,null,"Females","0-4",null,{"$f":"SUM(C109:C113)","v":3372},3394,3401,3374,3399,3376,3354,3289,3220,3097,3094,3051,3066,3114,3255,3329,3368,3352,3427,3413,3514,3519,3577,3556,3503,3354,3387,3383,3269,3245,3275,3161,null,{"$f":"INDEX(CC36:CY36,'Population Pyramid'!$L$1)","v":3269}]
["male",21,675,659,564,580,475,438,371,425,462,462,452,407,408,403,428,435,441,451,466,491,458,461,405,444,403,438,378,438,474,496,423,374,null,21,15681,15457,15112,14887,14739,14741,14779,14934,14912,14710,14578,14582,14611,14683,14885,14993,14945,14996,15095,15139,15114,15177,15064,15203,15368,15428,15534,15658,15654,15718,15672,15705,null,"Females","5-9",null,{"$f":"SUM(C114:C118)","v":3295},3374,3417,3434,3482,3565,3590,3625,3620,3566,3551,3568,3522,3477,3455,3397,3362,3313,3362,3426,3494,3610,3653,3726,3784,3824,3800,3803,3804,3722,3721,3744,null,{"$f":"INDEX(CC37:CY37,'Population Pyramid'!$L$1)","v":3804}]
["male",22,678,703,655,610,624,540,459,430,447,486,509,487,470,468,450,501,483,506,518,551,544,540,533,449,508,471,482,433,492,542,508,431,null,22,16359,16160,15767,15497,15363,15281,15238,15364,15359,15196,15087,15069,15081,15151,15335,15494,15428,15502,15613,15690,15658,15717,15597,15652,15876,15899,16016,16091,16146,16260,16180,16136,null,"Females","10-14",null,{"$f":"SUM(C119:C123)","v":3508},3503,3489,3419,3396,3363,3402,3468,3470,3520,3622,3660,3661,3746,3747,3705,3685,3608,3552,3528,3494,3389,3399,3507,3602,3647,3820,3836,3905,3903,3991,3956,null,{"$f":"INDEX(CC38:CY38,'Population Pyramid'!$L$1)","v":3905}]
["male",23,628,621,678,656,634,628,505,494,443,499,521,551,531,523,514,504,545,525,554,593,577,590,581,586,505,551,508,548,502,554,597,542,null,23,16987,16781,16445,16153,15997,15909,15743,15858,15802,15695,15608,15620,15612,15674,15849,15998,15973,16027,16167,16283,16235,16307,16178,16238,16381,16450,16524,16639,16648,16814,16777,16678,null,"Females","15-19",null,{"$f":"SUM(C124:C128)","v":3387},3335,3231,3111,3164,3179,3165,3119,3103,3116,3048,3058,3194,3261,3318,3434,3464,3528,3564,3461,3348,3368,3242,3166,3205,3214,3146,3209,3307,3408,3422,3592,null,{"$f":"INDEX(CC39:CY39,'Population Pyramid'!$L$1)","v":3307}]
["male",24,607,590,619,656,656,645,576,514,478,464,507,539,571,574,548,520,517,570,546,568,619,588,597,567,585,517,569,509,562,530,569,561,null,24,17594,17371,17064,16809,16653,16554,16319,16372,16280,16159,16115,16159,16183,16248,16397,16518,16490,16597,16713,16851,16854,16895,16775,16805,16966,16967,17093,17148,17210,17344,17346,17239,null,"Females","20-24",null,{"$f":"SUM(C129:C133)","v":3036},2892,2803,2643,2455,2422,2217,2162,2160,2198,2209,2162,2215,2225,2174,2221,2295,2379,2495,2633,2676,2643,2719,2649,2501,2485,2461,2395,2431,2444,2399,2231,null,{"$f":"INDEX(CC40:CY40,'Population Pyramid'!$L$1)","v":2431}]
["male",25,660,559,576,564,630,637,598,547,492,487,453,506,550,597,591,565,522,506,572,545,563,611,594,573,560,575,504,572,509,551,479,526,null,25,18254,17930,17640,17373,17283,17191,16917,16919,16772,16646,16568,16665,16733,16845,16988,17083,17012,17103,17285,17396,17417,17506,17369,17378,17526,17542,17597,17720,17719,17895,17825,17765,null,"Females","25-29",null,{"$f":"SUM(C134:C138)","v":3419},3429,3445,3396,3367,3413,3253,3045,2852,2642,2562,2513,2526,2697,2815,2855,2760,2683,2549,2546,2608,2710,2857,2830,2957,2959,2930,2938,2948,2925,2823,2868,null,{"$f":"INDEX(CC41:CY41,'Population Pyramid'!$L$1)","v":2948}]
["male",26,677,660,585,571,571,655,637,602,527,488,484,432,501,564,593,590,550,534,490,589,558,567,609,578,553,566,560,500,572,515,559,479,null,26,18931,18590,18225,17944,17854,17846,17554,17521,17299,17134,17052,17097,17234,17409,17581,17673,17562,17637,17775,17985,17975,18073,17978,17956,18079,18108,18157,18220,18291,18410,18384,18244,null,"Females","30-34",null,{"$f":"SUM(C139:C143)","v":3755},3738,3830,3845,3953,3916,3926,4020,3910,3769,3657,3560,3501,3431,3296,3226,3155,3135,3226,3307,3328,3236,3202,3140,3157,3210,3344,3436,3450,3564,3596,3600,null,{"$f":"INDEX(CC42:CY42,'Population Pyramid'!$L$1)","v":3450}]
["male",27,707,697,690,601,601,603,674,601,582,519,496,510,445,512,557,589,587,549,520,490,568,583,560,591,589,572,558,564,489,551,520,547,null,27,19638,19287,18915,18545,18455,18449,18228,18122,17881,17653,17548,17607,17679,17921,18138,18262,18149,18186,18295,18475,18543,18656,18538,18547,18668,18680,18715,18784,18780,18961,18904,18791,null,"Females","35-39",null,{"$f":"SUM(C144:C148)","v":3803},3846,3867,3883,3947,4036,4030,4253,4391,4478,4453,4487,4392,4410,4405,4242,4143,4123,3970,3817,3809,3757,3721,3790,3846,3877,3940,3866,3881,3932,3954,3986,null,{"$f":"INDEX(CC43:CY43,'Population Pyramid'!$L$1)","v":3881}]
["male",28,710,713,702,692,619,619,591,603,584,577,514,504,512,483,498,550,576,582,557,525,509,565,591,553,580,590,578,573,558,516,531,532,null,28,20348,20000,19617,19237,19074,19068,18819,18725,18465,18230,18062,18111,18191,18404,18636,18812,18725,18768,18852,19000,19052,19221,19129,19100,19248,19270,19293,19357,19338,19477,19435,19323,null,"Females","40-44",null,{"$f":"SUM(C149:C153)","v":4374},4189,4074,3963,3898,3918,3923,3980,4054,4112,4145,4183,4408,4520,4666,4748,4738,4614,4604,4551,4471,4377,4396,4309,4184,4112,4018,3989,4023,4091,4183,4199,null,{"$f":"INDEX(CC44:CY44,'Population Pyramid'!$L$1)","v":4023}]
["male",29,705,726,747,722,719,658,625,574,604,598,586,548,537,551,475,533,572,575,558,552,556,508,557,595,573,583,592,560,579,602,502,517,null,29,21053,20726,20364,19959,19793,19726,19444,19299,19069,18828,18648,18659,18728,18955,19111,19345,19297,19343,19410,19552,19608,19729,19686,19695,19821,19853,19885,19917,19917,20079,19937,19840,null,"Females","45-49",null,{"$f":"SUM(C154:C158)","v":4382},4551,4626,4674,4567,4303,4121,4066,3990,3957,3916,3930,3908,4029,4149,4228,4322,4414,4485,4578,4746,4843,4817,4772,4689,4546,4464,4423,4331,4160,4124,4070,null,{"$f":"INDEX(CC45:CY45,'Population Pyramid'!$L$1)","v":4331}]
["male",30,726,716,742,746,720,720,646,594,579,596,588,600,571,545,582,500,545,597,576,570,564,533,519,558,596,574,593,615,576,599,610,485,null,30,21779,21442,21106,20705,20513,20446,20090,19893,19648,19424,19236,19259,19299,19500,19693,19845,19842,19940,19986,20122,20172,20262,20205,20253,20417,20427,20478,20532,20493,20678,20547,20325,null,"Females","50-54",null,{"$f":"SUM(C159:C163)","v":3296},3383,3479,3594,3863,4206,4409,4445,4499,4422,4201,4035,3944,3858,3807,3809,3825,3961,4038,4136,4153,4209,4310,4419,4575,4704,4802,4695,4641,4596,4494,4332,null,{"$f":"INDEX(CC46:CY46,'Population Pyramid'!$L$1)","v":4641}]
["male",31,710,755,760,771,779,754,736,671,595,579,589,613,607,586,558,582,515,538,587,596,577,563,559,524,567,592,624,605,597,599,597,597,null,31,22489,22197,21866,21476,21292,21200,20826,20564,20243,20003,19825,19872,19906,20086,20251,20427,20357,20478,20573,20718,20749,20825,20764,20777,20984,21019,21102,21137,21090,21277,21144,20922,null,"Females","55-59",null,{"$f":"SUM(C164:C168)","v":3127},3182,3202,3212,3156,3188,3245,3330,3472,3660,3988,4184,4252,4347,4328,4073,3945,3807,3722,3646,3697,3698,3861,3918,3926,3974,4053,4214,4313,4479,4530,4592,null,{"$f":"INDEX(CC47:CY47,'Population Pyramid'!$L$1)","v":4313}]
["male",32,711,712,742,747,767,777,733,754,716,635,597,634,638,616,604,595,594,540,549,620,605,595,571,588,545,602,613,644,618,597,606,621,null,32,23200,22909,22608,22223,22059,21977,21559,21318,20959,20638,20422,20506,20544,20702,20855,21022,20951,21018,21122,21338,21354,21420,21335,21365,21529,21621,21715,21781,21708,21874,21750,21543,null,"Females","60-64",null,{"$f":"SUM(C169:C173)","v":3130},3103,3107,2984,2958,2982,3024,3037,3052,3020,2995,3057,3194,3306,3532,3864,4007,4129,4248,4216,3949,3809,3636,3535,3454,3480,3478,3598,3731,3782,3837,3976,null,{"$f":"INDEX(CC48:CY48,'Population Pyramid'!$L$1)","v":3731}]
["male",33,723,740,720,758,769,790,785,796,766,730,648,623,645,657,645,627,611,607,577,576,648,620,629,600,597,571,610,622,654,653,644,645,null,33,{"$f":"AK48+C49","v":23923},{"$f":"AL48+D49","v":23649},{"$f":"AM48+E49","v":23328},{"$f":"AN48+F49","v":22981},{"$f":"AO48+G49","v":22828},{"$f":"AP48+H49","v":22767},{"$f":"AQ48+I49","v":22344},{"$f":"AR48+J49","v":22114},{"$f":"AS48+K49","v":21725},{"$f":"AT48+L49","v":21368},{"$f":"AU48+M49","v":21070},{"$f":"AV48+N49","v":21129},{"$f":"AW48+O49","v":21189},{"$f":"AX48+P49","v":21359},{"$f":"AY48+Q49","v":21500},{"$f":"AZ48+R49","v":21649},{"$f":"BA48+S49","v":21562},{"$f":"BB48+T49","v":21625},{"$f":"BC48+U49","v":21699},{"$f":"BD48+V49","v":21914},{"$f":"BE48+W49","v":22002},{"$f":"BF48+X49","v":22040},{"$f":"BG48+Y49","v":21964},{"$f":"BH48+Z49","v":21965},{"$f":"BI48+AA49","v":22126},{"$f":"BJ48+AB49","v":22192},{"$f":"BK48+AC49","v":22325},{"$f":"BL48+AD49","v":22403},{"$f":"BM48+AE49","v":22362},{"$f":"BN48+AF49","v":22527},{"$f":"BO48+AG49","v":22394},22188,null,"Females","65-69",null,{"$f":"SUM(C174:C178)","v":2646},2636,2697,2793,2842,2871,2885,2868,2796,2777,2819,2846,2828,2858,2802,2789,2925,3023,3136,3387,3768,3855,3919,4012,3932,3642,3561,3401,3343,3259,3303,3325,null,{"$f":"INDEX(CC49:CY49,'Population Pyramid'!$L$1)","v":3343}]
["male",34,697,737,760,748,780,798,801,844,820,785,714,661,644,670,687,662,668,635,628,599,588,692,614,635,628,612,582,635,639,681,666,649,null,34,24620,24386,24088,23729,23608,23565,23145,22958,22545,22153,21784,21790,21833,22029,22187,22311,22230,22260,22327,22513,22590,22732,22578,22600,22754,22804,22907,23038,23001,23208,23060,22837,null,"Females","70-74",null,{"$f":"SUM(C179:C183)","v":2369},2495,2546,2485,2423,2365,2379,2448,2533,2570,2583,2605,2642,2549,2569,2596,2582,2591,2605,2591,2580,2729,2782,2891,3136,3457,3542,3643,3688,3656,3388,3303,null,{"$f":"INDEX(CC50:CY50,'Population Pyramid'!$L$1)","v":3688}]
["male",35,734,715,747,777,770,803,809,827,847,815,797,736,705,663,696,709,676,682,634,646,619,614,713,658,663,664,620,589,647,666,664,665,null,35,25354,25101,24835,24506,24378,24368,23954,23785,23392,22968,22581,22526,22538,22692,22883,23020,22906,22942,22961,23159,23209,23346,23291,23258,23417,23468,23527,23627,23648,23874,23724,23502,null,"Females","75-79",null,{"$f":"SUM(C184:C188)","v":2011},1838,1776,1833,1958,2073,2170,2225,2195,2153,2110,2088,2155,2237,2311,2349,2335,2341,2253,2253,2334,2360,2379,2385,2363,2314,2447,2532,2620,2838,3182,3292,null,{"$f":"INDEX(CC51:CY51,'Population Pyramid'!$L$1)","v":2620}]
["male",36,698,730,721,737,783,777,796,800,814,837,822,818,743,735,700,732,705,697,703,660,659,665,660,748,655,676,697,609,627,678,679,688,null,36,26052,25831,25556,25243,25161,25145,24750,24585,24206,23805,23403,23344,23281,23427,23583,23752,23611,23639,23664,23819,23868,24011,23951,24006,24072,24144,24224,24236,24275,24552,24403,24190,null,"Females","80-84",null,{"$f":"SUM(C189:C193)","v":1577},1615,1654,1635,1615,1588,1451,1409,1464,1592,1697,1767,1796,1748,1755,1699,1696,1769,1831,1889,1932,1949,1971,1934,1933,1956,1950,2007,2010,2006,2013,2117,null,{"$f":"INDEX(CC52:CY52,'Population Pyramid'!$L$1)","v":2010}]
["male",37,721,690,727,714,728,783,769,832,825,838,855,840,825,782,774,712,763,725,715,728,697,692,677,672,762,693,699,707,662,663,669,700,null,37,26773,26521,26283,25957,25889,25928,25519,25417,25031,24643,24258,24184,24106,24209,24357,24464,24374,24364,24379,24547,24565,24703,24628,24678,24834,24837,24923,24943,24937,25215,25072,24890,null,"Females","85+",null,{"$f":"SUM(C194:C199)","v":1356},1411,1462,1508,1554,1594,1701,1719,1738,1725,1704,1635,1686,1735,1826,1892,1899,1898,1964,1998,2006,2067,2185,2235,2312,2345,2340,2383,2399,2435,2553,2621,null,{"$f":"INDEX(CC53:CY53,'Population Pyramid'!$L$1)","v":2399}]
["male",38,762,735,704,741,736,749,801,817,857,837,847,877,864,861,808,790,736,788,753,730,752,713,714,680,697,782,716,682,743,681,672,684,null,38,27535,27256,26987,26698,26625,26677,26320,26234,25888,25480,25105,25061,24970,25070,25165,25254,25110,25152,25132,25277,25317,25416,25342,25358,25531,25619,25639,25625,25680,25896,25744,25574]
["male",39,756,764,735,698,742,745,745,815,831,850,866,845,896,895,867,832,802,745,801,771,731,774,743,730,691,721,790,747,693,747,694,697,null,39,28291,28020,27722,27396,27367,27422,27065,27049,26719,26330,25971,25906,25866,25965,26032,26086,25912,25897,25933,26048,26048,26190,26085,26088,26222,26340,26429,26372,26373,26643,26438,26271]
["male",40,737,769,785,747,715,766,763,765,823,834,868,856,841,922,916,890,838,799,749,801,790,745,766,753,723,713,732,791,750,708,767,710,null,40,29028,28789,28507,28143,28082,28188,27828,27814,27542,27164,26839,26762,26707,26887,26948,26976,26750,26696,26682,26849,26838,26935,26851,26841,26945,27053,27161,27163,27123,27351,27205,26981]
["male",41,770,726,762,770,738,708,753,774,766,829,824,882,862,841,937,920,899,841,811,758,823,778,763,766,778,730,702,748,772,765,713,758,null,41,29798,29515,29269,28913,28820,28896,28581,28588,28308,27993,27663,27644,27569,27728,27885,27896,27649,27537,27493,27607,27661,27713,27614,27607,27723,27783,27863,27911,27895,28116,27918,27739]
["male",42,814,766,720,755,772,737,702,783,771,766,848,808,901,873,873,943,919,914,856,838,771,816,792,767,756,787,749,692,757,778,773,715,null,42,30612,30281,29989,29668,29592,29633,29283,29371,29079,28759,28511,28452,28470,28601,28758,28839,28568,28451,28349,28445,28432,28529,28406,28374,28479,28570,28612,28603,28652,28894,28691,28454]
["male",43,858,797,754,701,743,763,722,715,802,788,770,831,816,931,895,884,957,911,911,854,851,773,858,805,771,779,777,754,698,771,790,781,null,43,31470,31078,30743,30369,30335,30396,30005,30086,29881,29547,29281,29283,29286,29532,29653,29723,29525,29362,29260,29299,29283,29302,29264,29179,29250,29349,29389,29357,29350,29665,29481,29235]
["male",44,982,862,797,751,703,750,766,744,718,787,793,751,834,831,950,880,865,947,915,920,855,842,785,848,811,773,785,776,758,699,781,793,null,44,32452,31940,31540,31120,31038,31146,30771,30830,30599,30334,30074,30034,30120,30363,30603,30603,30390,30309,30175,30219,30138,30144,30049,30027,30061,30122,30174,30133,30108,30364,30262,30028]
["male",45,1100,985,868,791,755,704,747,774,743,728,785,796,756,836,843,936,874,870,956,932,910,847,825,796,849,819,791,777,779,749,719,794,null,45,33552,32925,32408,31911,31793,31850,31518,31604,31342,31062,30859,30830,30876,31199,31446,31539,31264,31179,31131,31151,31048,30991,30874,30823,30910,30941,30965,30910,30887,31113,30981,30822]
["male",46,861,1081,971,856,780,745,689,773,787,736,721,799,799,764,825,842,931,880,869,956,930,920,845,835,806,855,819,817,771,781,752,727,null,46,34413,34006,33379,32767,32573,32595,32207,32377,32129,31798,31580,31629,31675,31963,32271,32381,32195,32059,32000,32107,31978,31911,31719,31658,31716,31796,31784,31727,31658,31894,31733,31549]
["male",47,806,861,1075,969,854,783,743,717,769,783,739,726,797,808,769,834,846,947,879,873,945,926,924,846,833,799,854,828,832,779,777,761,null,47,35219,34867,34454,33736,33427,33378,32950,33094,32898,32581,32319,32355,32472,32771,33040,33215,33041,33006,32879,32980,32923,32837,32643,32504,32549,32595,32638,32555,32490,32673,32510,32310]
["male",48,819,805,850,1054,959,846,769,753,712,761,761,721,717,793,794,758,811,845,948,886,865,958,942,922,847,823,798,854,841,845,778,798,null,48,36038,35672,35304,34790,34386,34224,33719,33847,33610,33342,33080,33076,33189,33564,33834,33973,33852,33851,33827,33866,33788,33795,33585,33426,33396,33418,33436,33409,33331,33518,33288,33108]
["male",49,793,810,803,842,1042,955,841,775,757,716,743,756,717,707,793,793,759,806,842,952,883,859,956,939,918,835,821,786,857,845,828,765,null,49,36831,36482,36107,35632,35428,35179,34560,34622,34367,34058,33823,33832,33906,34271,34627,34766,34611,34657,34669,34818,34671,34654,34541,34365,34314,34253,34257,34195,34188,34363,34116,33873]
["male",50,656,784,807,806,836,1037,949,830,785,755,711,749,762,699,705,781,794,749,806,846,944,882,852,950,939,914,823,828,798,854,849,831,null,50,37487,37266,36914,36438,36264,36216,35509,35452,35152,34813,34534,34581,34668,34970,35332,35547,35405,35406,35475,35664,35615,35536,35393,35315,35253,35167,35080,35023,34986,35217,34965,34704]
["male",51,567,645,774,795,807,831,1024,940,833,791,747,712,751,770,704,707,778,785,735,789,852,935,888,855,953,927,919,834,824,792,853,836,null,51,38054,37911,37688,37233,37071,37047,36533,36392,35985,35604,35281,35293,35419,35740,36036,36254,36183,36191,36210,36453,36467,36471,36281,36170,36206,36094,35999,35857,35810,36009,35818,35540]
["male",52,675,590,654,781,806,832,846,1051,926,838,776,735,714,755,763,688,703,767,780,737,799,831,951,881,860,942,927,910,826,832,792,844,null,52,38729,38501,38342,38014,37877,37879,37379,37443,36911,36442,36057,36028,36133,36495,36799,36942,36886,36958,36990,37190,37266,37302,37232,37051,37066,37036,36926,36767,36636,36841,36610,36384]
["male",53,625,678,584,652,781,807,837,814,1037,927,821,772,734,706,750,771,695,705,751,779,739,792,832,937,882,853,932,911,913,827,810,774,null,53,39354,39179,38926,38666,38658,38686,38216,38257,37948,37369,36878,36800,36867,37201,37549,37713,37581,37663,37741,37969,38005,38094,38064,37988,37948,37889,37858,37678,37549,37668,37420,37158]
["male",54,684,617,668,585,639,770,792,798,809,1018,916,816,762,734,693,741,764,683,712,741,764,756,789,828,924,883,855,918,900,920,836,800,null,54,40038,39796,39594,39251,39297,39456,39008,39055,38757,38387,37794,37616,37629,37935,38242,38454,38345,38346,38453,38710,38769,38850,38853,38816,38872,38772,38713,38596,38449,38588,38256,37958]
["male",55,632,676,613,661,583,630,760,783,774,799,1013,891,804,752,737,711,745,765,693,699,747,766,758,785,815,922,870,827,913,897,921,824,null,55,40670,40472,40207,39912,39880,40086,39768,39838,39531,39186,38807,38507,38433,38687,38979,39165,39090,39111,39146,39409,39516,39616,39611,39601,39687,39694,39583,39423,39362,39485,39177,38782]
["male",56,638,636,668,614,663,590,630,732,749,783,775,1007,878,794,739,726,692,740,766,675,687,738,754,748,773,825,926,848,813,919,896,916,null,56,41308,41108,40875,40526,40543,40676,40398,40570,40280,39969,39582,39514,39311,39481,39718,39891,39782,39851,39912,40084,40203,40354,40365,40349,40460,40519,40509,40271,40175,40404,40073,39698]
["male",57,624,635,624,659,611,660,587,624,722,741,762,758,985,888,778,723,721,694,732,758,659,698,733,749,742,757,805,915,844,803,902,874,null,57,41932,41743,41499,41185,41154,41336,40985,41194,41002,40710,40344,40272,40296,40369,40496,40614,40503,40545,40644,40842,40862,41052,41098,41098,41202,41276,41314,41186,41019,41207,40975,40572]
["male",58,570,611,617,603,637,594,642,593,612,711,737,747,747,979,891,766,703,716,693,728,756,652,697,734,728,741,760,816,902,816,795,896,null,58,42502,42354,42116,41788,41791,41930,41627,41787,41614,41421,41081,41019,41043,41348,41387,41380,41206,41261,41337,41570,41618,41704,41795,41832,41930,42017,42074,42002,41921,42023,41770,41468]
["male",59,523,556,600,607,590,621,584,626,583,587,693,727,743,744,977,878,760,703,720,689,741,743,652,698,715,719,731,760,813,893,803,785,null,59,43025,42910,42716,42395,42381,42551,42211,42413,42197,42008,41774,41746,41786,42092,42364,42258,41966,41964,42057,42259,42359,42447,42447,42530,42645,42736,42805,42762,42734,42916,42573,42253]
["male",60,647,519,558,601,612,590,618,596,613,566,576,673,714,731,737,963,870,750,695,722,678,724,728,649,691,698,714,727,743,786,889,782,null,60,43672,43429,43274,42996,42993,43141,42829,43009,42810,42574,42350,42419,42500,42823,43101,43221,42836,42714,42752,42981,43037,43171,43175,43179,43336,43434,43519,43489,43477,43702,43462,43035]
["male",61,636,637,521,552,598,607,580,593,583,600,551,568,665,711,711,733,947,880,736,691,718,682,719,711,637,678,694,705,714,732,792,887,null,61,44308,44066,43795,43548,43591,43748,43409,43602,43393,43174,42901,42987,43165,43534,43812,43954,43783,43594,43488,43672,43755,43853,43894,43890,43973,44112,44213,44194,44191,44434,44254,43922]
["male",62,582,617,624,509,542,588,592,578,578,569,580,547,556,655,707,705,729,933,867,734,693,700,681,701,699,622,669,680,704,708,723,781,null,62,44890,44683,44419,44057,44133,44336,44001,44180,43971,43743,43481,43534,43721,44189,44519,44659,44512,44527,44355,44406,44448,44553,44575,44591,44672,44734,44882,44874,44895,45142,44977,44703]
["male",63,509,559,599,600,493,524,566,575,567,559,567,566,527,537,648,699,689,713,933,872,730,687,678,668,692,677,620,655,678,681,685,706,null,63,45399,45242,45018,44657,44626,44860,44567,44755,44538,44302,44048,44100,44248,44726,45167,45358,45201,45240,45288,45278,45178,45240,45253,45259,45364,45411,45502,45529,45573,45823,45662,45409]
["male",64,586,504,561,594,603,501,526,573,567,558,535,551,550,506,539,628,680,677,702,922,848,711,677,643,658,686,663,623,638,654,674,681,null,64,45985,45746,45579,45251,45229,45361,45093,45328,45105,44860,44583,44651,44798,45232,45706,45986,45881,45917,45990,46200,46026,45951,45930,45902,46022,46097,46165,46152,46211,46477,46336,46090]
["male",65,521,555,500,540,570,586,490,494,557,564,537,523,535,541,500,519,619,674,660,695,913,833,694,678,640,636,668,659,615,630,636,656,null,65,{"$f":"AK80+C81","v":46506},{"$f":"AL80+D81","v":46301},{"$f":"AM80+E81","v":46079},{"$f":"AN80+F81","v":45791},{"$f":"AO80+G81","v":45799},{"$f":"AP80+H81","v":45947},{"$f":"AQ80+I81","v":45583},{"$f":"AR80+J81","v":45822},{"$f":"AS80+K81","v":45662},{"$f":"AT80+L81","v":45424},{"$f":"AU80+M81","v":45120},{"$f":"AV80+N81","v":45174},{"$f":"AW80+O81","v":45333},{"$f":"AX80+P81","v":45773},{"$f":"AY80+Q81","v":46206},{"$f":"AZ80+R81","v":46505},{"$f":"BA80+S81","v":46500},{"$f":"BB80+T81","v":46591},{"$f":"BC80+U81","v":46650},{"$f":"BD80+V81","v":46895},{"$f":"BE80+W81","v":46939},{"$f":"BF80+X81","v":46784},{"$f":"BG80+Y81","v":46624},{"$f":"BH80+Z81","v":46580},{"$f":"BI80+AA81","v":46662},{"$f":"BJ80+AB81","v":46733},{"$f":"BK80+AC81","v":46833},{"$f":"BL80+AD81","v":46811},{"$f":"BM80+AE81","v":46826},{"$f":"BN80+AF81","v":47107},{"$f":"BO80+AG81","v":46972},46746]
["male",66,548,510,536,488,535,556,575,475,488,541,552,516,516,523,532,494,525,607,679,653,693,898,823,681,665,623,637,665,652,619,617,623,null,66,47054,46811,46615,46279,46334,46503,46158,46297,46150,45965,45672,45690,45849,46296,46738,46999,47025,47198,47329,47548,47632,47682,47447,47261,47327,47356,47470,47476,47478,47726,47589,47369]
["male",67,491,527,493,516,473,509,540,559,477,474,534,534,496,507,518,520,490,521,607,654,643,679,881,801,665,648,618,620,650,642,610,613,null,67,47545,47338,47108,46795,46807,47012,46698,46856,46627,46439,46206,46224,46345,46803,47256,47519,47515,47719,47936,48202,48275,48361,48328,48062,47992,48004,48088,48096,48128,48368,48199,47982]
["male",68,439,469,505,481,504,461,498,531,547,471,456,518,523,486,497,500,527,480,509,606,660,628,664,869,786,650,624,590,614,645,613,591,null,68,47984,47807,47613,47276,47311,47473,47196,47387,47174,46910,46662,46742,46868,47289,47753,48019,48042,48199,48445,48808,48935,48989,48992,48931,48778,48654,48712,48686,48742,49013,48812,48573]
["male",69,445,432,466,483,475,495,457,471,520,532,460,452,502,508,484,487,489,520,471,506,600,636,620,651,848,764,638,603,573,598,612,599,null,69,48429,48239,48079,47759,47786,47968,47653,47858,47694,47442,47122,47194,47370,47797,48237,48506,48531,48719,48916,49314,49535,49625,49612,49582,49626,49418,49350,49289,49315,49611,49424,49172]
["male",70,445,428,416,457,468,469,490,432,462,495,519,443,444,485,488,463,469,477,511,452,505,588,626,616,642,827,759,620,605,557,593,610,null,70,48874,48667,48495,48216,48254,48437,48143,48290,48156,47937,47641,47637,47814,48282,48725,48969,49000,49196,49427,49766,50040,50213,50238,50198,50268,50245,50109,49909,49920,50168,50017,49782]
["male",71,482,428,403,391,436,450,452,464,415,444,480,494,442,438,477,476,459,459,475,498,439,491,574,619,601,639,807,746,606,606,544,581,null,71,49356,49095,48898,48607,48690,48887,48595,48754,48571,48381,48121,48131,48256,48720,49202,49445,49459,49655,49902,50264,50479,50704,50812,50817,50869,50884,50916,50655,50526,50774,50561,50363]
["male",72,478,454,409,390,376,421,433,439,443,405,435,458,482,428,419,464,464,457,459,460,482,424,481,561,601,581,625,781,725,594,593,530,null,72,49834,49549,49307,48997,49066,49308,49028,49193,49014,48786,48556,48589,48738,49148,49621,49909,49923,50112,50361,50724,50961,51128,51293,51378,51470,51465,51541,51436,51251,51368,51154,50893]
["male",73,288,457,438,389,379,365,400,425,419,420,388,420,454,469,410,422,461,452,439,453,446,469,410,471,557,585,560,609,771,700,587,585,null,73,50122,50006,49745,49386,49445,49673,49428,49618,49433,49206,48944,49009,49192,49617,50031,50331,50384,50564,50800,51177,51407,51597,51703,51849,52027,52050,52101,52045,52022,52068,51741,51478]
["male",74,235,275,430,414,370,362,344,386,402,401,414,374,403,443,457,396,413,449,445,432,450,432,460,403,459,539,579,566,594,771,689,567,null,74,50357,50281,50175,49800,49815,50035,49772,50004,49835,49607,49358,49383,49595,50060,50488,50727,50797,51013,51245,51609,51857,52029,52163,52252,52486,52589,52680,52611,52616,52839,52430,52045]
["male",75,304,230,264,406,392,365,349,331,365,376,388,398,352,392,426,443,389,397,431,435,431,445,412,442,401,438,524,561,549,573,750,666,null,75,50661,50511,50439,50206,50207,50400,50121,50335,50200,49983,49746,49781,49947,50452,50914,51170,51186,51410,51676,52044,52288,52474,52575,52694,52887,53027,53204,53172,53165,53412,53180,52711]
["male",76,305,301,220,258,395,384,357,314,312,342,360,377,385,333,374,415,428,381,385,421,427,410,430,402,428,389,425,509,545,554,562,735,null,76,50966,50812,50659,50464,50602,50784,50478,50649,50512,50325,50106,50158,50332,50785,51288,51585,51614,51791,52061,52465,52715,52884,53005,53096,53315,53416,53629,53681,53710,53966,53742,53446]
["male",77,276,290,288,207,249,373,363,334,296,290,324,346,369,367,327,364,390,415,367,362,400,405,400,414,388,407,376,409,490,528,543,549,null,77,51242,51102,50947,50671,50851,51157,50841,50983,50808,50615,50430,50504,50701,51152,51615,51949,52004,52206,52428,52827,53115,53289,53405,53510,53703,53823,54005,54090,54200,54494,54285,53995]
["male",78,251,262,276,271,199,239,356,332,315,279,276,307,326,346,355,318,352,378,403,357,351,382,388,385,387,365,392,366,403,471,508,525,null,78,51493,51364,51223,50942,51050,51396,51197,51315,51123,50894,50706,50811,51027,51498,51970,52267,52356,52584,52831,53184,53466,53671,53793,53895,54090,54188,54397,54456,54603,54965,54793,54520]
["male",79,237,228,239,251,252,186,230,315,314,293,265,254,298,317,321,333,307,342,370,389,341,337,367,367,368,370,361,378,342,386,443,486,null,79,51730,51592,51462,51193,51302,51582,51427,51630,51437,51187,50971,51065,51325,51815,52291,52600,52663,52926,53201,53573,53807,54008,54160,54262,54458,54558,54758,54834,54945,55351,55236,55006]
["male",80,232,219,212,223,235,229,169,230,282,302,268,253,232,278,300,303,312,293,333,357,375,313,315,350,359,354,359,345,352,325,364,418,null,80,51962,51811,51674,51416,51537,51811,51596,51860,51719,51489,51239,51318,51557,52093,52591,52903,52975,53219,53534,53930,54182,54321,54475,54612,54817,54912,55117,55179,55297,55676,55600,55424]
["male",81,176,208,190,190,197,209,211,160,208,267,281,253,236,218,267,287,281,278,277,316,338,346,303,296,328,345,336,349,334,329,304,345,null,81,52138,52019,51864,51606,51734,52020,51807,52020,51927,51756,51520,51571,51793,52311,52858,53190,53256,53497,53811,54246,54520,54667,54778,54908,55145,55257,55453,55528,55631,56005,55904,55769]
["male",82,161,160,201,173,178,185,197,203,140,189,240,249,236,212,202,255,266,264,271,260,307,318,316,289,278,305,335,305,334,326,309,292,null,82,52299,52179,52065,51779,51912,52205,52004,52223,52067,51945,51760,51820,52029,52523,53060,53445,53522,53761,54082,54506,54827,54985,55094,55197,55423,55562,55788,55833,55965,56331,56213,56061]
["male",83,129,131,147,177,146,150,160,164,180,129,182,220,228,209,196,188,235,241,240,254,247,289,295,302,273,262,286,314,285,307,307,297,null,83,52428,52310,52212,51956,52058,52355,52164,52387,52247,52074,51942,52040,52257,52732,53256,53633,53757,54002,54322,54760,55074,55274,55389,55499,55696,55824,56074,56147,56250,56638,56520,56358]
["male",84,123,112,125,129,157,127,135,148,149,162,117,169,191,207,189,178,170,209,217,225,234,222,269,286,283,257,242,268,283,267,302,298,null,84,52551,52422,52337,52085,52215,52482,52299,52535,52396,52236,52059,52209,52448,52939,53445,53811,53927,54211,54539,54985,55308,55496,55658,55785,55979,56081,56316,56415,56533,56905,56822,56656]
["male",85,451,481,495,507,532,574,597,603,624,120,147,99,153,171,186,161,156,148,197,200,198,205,191,234,261,243,242,218,257,267,255,277,null,85,53002,52903,52832,52592,52747,53056,52896,53138,53020,52356,52206,52308,52601,53110,53631,53972,54083,54359,54736,55185,55506,55701,55849,56019,56240,56324,56558,56633,56790,57172,57077,56933]
["male",86,null,null,null,null,null,null,null,null,null,104,106,137,88,138,152,157,132,147,135,176,184,185,181,171,216,234,225,225,197,227,250,229,null,86,53002,52903,52832,52592,52747,53056,52896,53138,53020,52460,52312,52445,52689,53248,53783,54129,54215,54506,54871,55361,55690,55886,56030,56190,56456,56558,56783,56858,56987,57399,57327,57162]
["male",87,null,null,null,null,null,null,null,null,null,85,89,84,115,77,127,128,134,108,131,117,157,166,168,169,159,188,211,195,194,188,206,221,null,87,53002,52903,52832,52592,52747,53056,52896,53138,53020,52545,52401,52529,52804,53325,53910,54257,54349,54614,55002,55478,55847,56052,56198,56359,56615,56746,56994,57053,57181,57587,57533,57383]
["male",88,null,null,null,null,null,null,null,null,null,75,74,74,68,102,66,112,98,116,96,124,101,137,146,144,147,145,168,180,168,167,160,182,null,88,53002,52903,52832,52592,52747,53056,52896,53138,53020,52620,52475,52603,52872,53427,53976,54369,54447,54730,55098,55602,55948,56189,56344,56503,56762,56891,57162,57233,57349,57754,57693,57565]
["male",89,null,null,null,null,null,null,null,null,null,65,63,62,64,67,85,55,95,77,97,78,107,85,116,124,128,114,123,155,150,147,156,136,null,89,53002,52903,52832,52592,52747,53056,52896,53138,53020,52685,52538,52665,52936,53494,54061,54424,54542,54807,55195,55680,56055,56274,56460,56627,56890,57005,57285,57388,57499,57901,57849,57701]
["male","90+",null,null,null,null,null,null,null,null,null,183,213,226,219,224,229,252,250,279,283,295,288,294,290,334,340,384,397,436,458,477,536,596,null,"90+",53002,52903,52832,52592,52747,53056,52896,53138,53020,52868,52751,52891,53155,53718,54290,54676,54792,55086,55478,55975,56343,56568,56750,56961,57230,57389,57682,57824,57957,58378,58385,58297]
[null,"All Males",{"$f":"SUM(C16:C106)","v":53002},{"$f":"SUM(D16:D106)","v":52903},52832,52592,52747,53056,52896,53138,53020,52868,52751,52891,53155,53718,54290,54676,54792,55086,55478,55975,56343,56568,56750,56961,57230,57389,57682,{"$f":"SUM(AD16:AD106)","v":57824},{"$f":"SUM(AE16:AE106)","v":57957},{"$f":"SUM(AF16:AF106)","v":58378},{"$f":"SUM(AG16:AG106)","v":58385},{"$f":"SUM(AH16:AH106)","v":58297},null,"Females"]
["Sex","Age"]
["female",0,653,658,646,616,645,593,645,612,587,569,578,573,622,605,663,619,673,620,670,664,666,626,654,670,616,619,622,601,561,603,604,524,null,0,{"$f":"C109","v":653},658,646,616,645,593,645,612,587,569,578,573,622,605,663,619,673,620,670,664,666,626,654,670,616,619,622,601,561,603,604,524]
["female",1,645,676,677,656,643,678,613,657,629,598,587,595,588,645,649,694,647,685,649,690,690,709,667,684,688,623,649,651,615,586,642,636,null,1,{"$f":"AK109+C110","v":1298},{"$f":"AL109+D110","v":1334},{"$f":"AM109+E110","v":1323},{"$f":"AN109+F110","v":1272},{"$f":"AO109+G110","v":1288},{"$f":"AP109+H110","v":1271},{"$f":"AQ109+I110","v":1258},{"$f":"AR109+J110","v":1269},{"$f":"AS109+K110","v":1216},{"$f":"AT109+L110","v":1167},{"$f":"AU109+M110","v":1165},{"$f":"AV109+N110","v":1168},{"$f":"AW109+O110","v":1210},{"$f":"AX109+P110","v":1250},{"$f":"AY109+Q110","v":1312},{"$f":"AZ109+R110","v":1313},{"$f":"BA109+S110","v":1320},{"$f":"BB109+T110","v":1305},{"$f":"BC109+U110","v":1319},{"$f":"BD109+V110","v":1354},{"$f":"BE109+W110","v":1356},{"$f":"BF109+X110","v":1335},{"$f":"BG109+Y110","v":1321},{"$f":"BH109+Z110","v":1354},{"$f":"BI109+AA110","v":1304},{"$f":"BJ109+AB110","v":1242},{"$f":"BK109+AC110","v":1271},{"$f":"BL109+AD110","v":1252},{"$f":"BM109+AE110","v":1176},{"$f":"BN109+AF110","v":1189},{"$f":"BO109+AG110","v":1246},1160]
["female",2,668,664,694,694,677,670,698,622,656,639,608,602,611,608,661,693,693,650,709,661,735,712,734,676,711,711,671,668,687,661,610,662,null,2,1966,1998,2017,1966,1965,1941,1956,1891,1872,1806,1773,1770,1821,1858,1973,2006,2013,1955,2028,2015,2091,2047,2055,2030,2015,1953,1942,1920,1863,1850,1856,1822]
["female",3,703,686,690,704,715,701,685,704,633,664,647,609,620,610,643,670,685,714,661,724,686,750,752,763,688,706,736,698,691,706,688,638,null,3,2669,2684,2707,2670,2680,2642,2641,2595,2505,2470,2420,2379,2441,2468,2616,2676,2698,2669,2689,2739,2777,2797,2807,2793,2703,2659,2678,2618,2554,2556,2544,2460]
["female",4,703,710,694,704,719,734,713,694,715,627,674,672,625,646,639,653,670,683,738,674,737,722,770,763,800,695,709,765,715,689,731,701,null,4,3372,3394,3401,3374,3399,3376,3354,3289,3220,3097,3094,3051,3066,3114,3255,3329,3368,3352,3427,3413,3514,3519,3577,3556,3503,3354,3387,3383,3269,3245,3275,3161]
["female",5,667,706,714,691,712,725,735,709,689,706,650,682,671,629,675,645,659,690,682,744,699,739,733,782,766,793,718,717,773,724,712,730,null,5,4039,4100,4115,4065,4111,4101,4089,3998,3909,3803,3744,3733,3737,3743,3930,3974,4027,4042,4109,4157,4213,4258,4310,4338,4269,4147,4105,4100,4042,3969,3987,3891]
["female",6,691,665,707,715,695,721,724,737,719,681,718,677,695,680,640,681,652,640,700,691,741,705,731,725,802,761,772,717,710,775,722,728,null,6,4730,4765,4822,4780,4806,4822,4813,4735,4628,4484,4462,4410,4432,4423,4570,4655,4679,4682,4809,4848,4954,4963,5041,5063,5071,4908,4877,4817,4752,4744,4709,4619]
["female",7,646,686,663,704,718,698,722,736,745,722,703,741,676,718,694,651,686,647,637,686,705,746,717,740,731,785,780,780,724,698,810,726,null,7,5376,5451,5485,5484,5524,5520,5535,5471,5373,5206,5165,5151,5108,5141,5264,5306,5365,5329,5446,5534,5659,5709,5758,5803,5802,5693,5657,5597,5476,5442,5519,5345]
["female",8,661,644,677,651,700,714,690,736,731,739,742,713,748,700,733,694,655,673,657,644,698,722,742,722,753,729,803,792,795,726,736,824,null,8,6037,6095,6162,6135,6224,6234,6225,6207,6104,5945,5907,5864,5856,5841,5997,6000,6020,6002,6103,6178,6357,6431,6500,6525,6555,6422,6460,6389,6271,6168,6255,6169]
["female",9,630,673,656,673,657,707,719,707,736,718,738,755,732,750,713,726,710,663,686,661,651,698,730,757,732,756,727,797,802,799,741,736,null,9,6667,6768,6818,6808,6881,6941,6944,6914,6840,6663,6645,6619,6588,6591,6710,6726,6730,6665,6789,6839,7008,7129,7230,7282,7287,7178,7187,7186,7073,6967,6996,6905]
["female",10,686,629,677,658,670,654,704,725,701,737,733,740,756,725,740,710,740,710,667,689,664,649,722,743,767,736,782,729,792,815,815,756,null,10,7353,7397,7495,7466,7551,7595,7648,7639,7541,7400,7378,7359,7344,7316,7450,7436,7470,7375,7456,7528,7672,7778,7952,8025,8054,7914,7969,7915,7865,7782,7811,7661]
["female",11,718,693,638,681,666,669,667,713,719,697,749,738,737,780,726,744,699,738,724,671,699,666,634,722,747,780,746,787,745,798,819,820,null,11,8071,8090,8133,8147,8217,8264,8315,8352,8260,8097,8127,8097,8081,8096,8176,8180,8169,8113,8180,8199,8371,8444,8586,8747,8801,8694,8715,8702,8610,8580,8630,8481]
["female",12,722,739,711,648,710,694,667,676,710,724,695,732,726,749,782,713,726,710,735,721,676,699,668,652,718,755,788,759,811,726,790,818,null,12,8793,8829,8844,8795,8927,8958,8982,9028,8970,8821,8822,8829,8807,8845,8958,8893,8895,8823,8915,8920,9047,9143,9254,9399,9519,9449,9503,9461,9421,9306,9420,9299]
["female",13,711,716,734,697,639,685,673,668,669,698,740,700,736,737,751,784,722,722,710,740,708,672,696,692,660,721,774,794,751,808,748,806,null,13,9504,9545,9578,9492,9566,9643,9655,9696,9639,9519,9562,9529,9543,9582,9709,9677,9617,9545,9625,9660,9755,9815,9950,10091,10179,10170,10277,10255,10172,10114,10168,10105]
["female",14,671,726,729,735,711,661,691,686,671,664,705,750,706,755,748,754,798,728,716,707,747,703,679,698,710,655,730,767,806,756,819,756,null,14,10175,10271,10307,10227,10277,10304,10346,10382,10310,10183,10267,10279,10249,10337,10457,10431,10415,10273,10341,10367,10502,10518,10629,10789,10889,10825,11007,11022,10978,10870,10987,10861]
["female",15,740,669,727,721,736,706,647,684,690,674,643,689,753,726,760,760,748,800,719,724,716,735,715,686,698,718,672,732,768,806,748,813,null,15,10915,10940,11034,10948,11013,11010,10993,11066,11000,10857,10910,10968,11002,11063,11217,11191,11163,11073,11060,11091,11218,11253,11344,11475,11587,11543,11679,11754,11746,11676,11735,11674]
["female",16,668,730,661,714,715,735,707,633,688,705,680,659,689,760,720,756,759,755,814,727,712,729,730,706,698,697,726,684,743,784,804,747,null,16,11583,11670,11695,11662,11728,11745,11700,11699,11688,11562,11590,11627,11691,11823,11937,11947,11922,11828,11874,11818,11930,11982,12074,12181,12285,12240,12405,12438,12489,12460,12539,12421]
["female",17,761,670,731,647,714,730,722,690,648,705,695,686,670,707,769,739,750,764,765,796,725,709,720,717,708,704,693,735,684,743,810,818,null,17,12344,12340,12426,12309,12442,12475,12422,12389,12336,12267,12285,12313,12361,12530,12706,12686,12672,12592,12639,12614,12655,12691,12794,12898,12993,12944,13098,13173,13173,13203,13349,13239]
["female",18,709,713,605,639,564,620,606,653,625,603,636,622,639,634,654,733,680,716,724,724,749,684,657,671,670,660,645,639,694,625,692,752,null,18,13053,13053,13031,12948,13006,13095,13028,13042,12961,12870,12921,12935,13000,13164,13360,13419,13352,13308,13363,13338,13404,13375,13451,13569,13663,13604,13743,13812,13867,13828,14041,13991]
["female",19,509,553,507,390,435,388,483,459,452,429,394,402,443,434,415,446,527,493,542,490,446,511,420,386,431,435,410,419,418,450,368,462,null,19,13562,13606,13538,13338,13441,13483,13511,13501,13413,13299,13315,13337,13443,13598,13775,13865,13879,13801,13905,13828,13850,13886,13871,13955,14094,14039,14153,14231,14285,14278,14409,14453]
["female",20,546,510,514,464,370,407,382,360,403,402,351,329,331,359,378,358,367,444,403,464,400,367,454,346,363,340,400,357,378,385,363,314,null,20,14108,14116,14052,13802,13811,13890,13893,13861,13816,13701,13666,13666,13774,13957,14153,14223,14246,14245,14308,14292,14250,14253,14325,14301,14457,14379,14553,14588,14663,14663,14772,14767]
["female",21,648,551,462,499,464,388,394,362,396,437,420,367,351,394,411,437,430,428,482,438,514,485,461,495,402,414,394,448,416,412,417,379,null,21,14756,14667,14514,14301,14275,14278,14287,14223,14212,14138,14086,14033,14125,14351,14564,14660,14676,14673,14790,14730,14764,14738,14786,14796,14859,14793,14947,15036,15079,15075,15189,15146]
["female",22,603,633,524,476,520,495,382,461,419,447,485,475,428,403,450,475,491,502,521,576,529,593,606,542,550,503,510,518,543,493,470,495,null,22,15359,15300,15038,14777,14795,14773,14669,14684,14631,14585,14571,14508,14553,14754,15014,15135,15167,15175,15311,15306,15293,15331,15392,15338,15409,15296,15457,15554,15622,15568,15659,15641]
["female",23,595,600,653,551,526,570,495,475,474,439,484,526,538,483,438,484,501,508,567,588,628,574,651,624,607,610,531,532,546,585,529,514,null,23,15954,15900,15691,15328,15321,15343,15164,15159,15105,15024,15055,15034,15091,15237,15452,15619,15668,15683,15878,15894,15921,15905,16043,15962,16016,15906,15988,16086,16168,16153,16188,16155]
["female",24,644,598,650,653,575,562,564,504,468,473,469,465,567,586,497,467,506,497,522,567,605,624,547,642,579,618,626,540,548,569,620,529,null,24,16598,16498,16341,15981,15896,15905,15728,15663,15573,15497,15524,15499,15658,15823,15949,16086,16174,16180,16400,16461,16526,16529,16590,16604,16595,16524,16614,16626,16716,16722,16808,16684]
["female",25,592,631,627,626,643,578,538,516,497,475,471,491,478,576,593,513,454,488,487,512,550,590,614,524,620,571,592,607,558,537,544,591,null,25,17190,17129,16968,16607,16539,16483,16266,16179,16070,15972,15995,15990,16136,16399,16542,16599,16628,16668,16887,16973,17076,17119,17204,17128,17215,17095,17206,17233,17274,17259,17352,17275]
["female",26,690,602,662,638,650,670,583,542,512,505,478,479,497,529,582,608,501,456,486,502,515,524,601,587,548,609,548,582,587,559,542,533,null,26,17880,17731,17630,17245,17189,17153,16849,16721,16582,16477,16473,16469,16633,16928,17124,17207,17129,17124,17373,17475,17591,17643,17805,17715,17763,17704,17754,17815,17861,17818,17894,17808]
["female",27,708,733,639,690,683,697,691,596,557,496,495,491,505,522,538,583,579,529,478,507,520,525,548,579,597,553,586,564,575,586,538,555,null,27,18588,18464,18269,17935,17872,17850,17540,17317,17139,16973,16968,16960,17138,17450,17662,17790,17708,17653,17851,17982,18111,18168,18353,18294,18360,18257,18340,18379,18436,18404,18432,18363]
["female",28,728,718,763,642,708,710,700,686,591,574,530,491,509,534,544,583,610,564,519,482,521,524,540,569,593,626,578,583,599,602,594,561,null,28,19316,19182,19032,18577,18580,18560,18240,18003,17730,17547,17498,17451,17647,17984,18206,18373,18318,18217,18370,18464,18632,18692,18893,18863,18953,18883,18918,18962,19035,19006,19026,18924]
["female",29,701,745,754,800,683,758,741,705,695,592,588,561,537,536,558,568,616,646,579,543,502,547,554,571,599,600,626,602,629,641,605,628,null,29,20017,19927,19786,19377,19263,19318,18981,18708,18425,18139,18086,18012,18184,18520,18764,18941,18934,18863,18949,19007,19134,19239,19447,19434,19552,19483,19544,19564,19664,19647,19631,19552]
["female",30,752,713,763,749,811,691,754,719,713,707,611,589,610,574,556,557,577,640,664,613,568,545,570,555,602,615,625,645,636,657,692,628,null,30,20769,20640,20549,20126,20074,20009,19735,19427,19138,18846,18697,18601,18794,19094,19320,19498,19511,19503,19613,19620,19702,19784,20017,19989,20154,20098,20169,20209,20300,20304,20323,20180]
["female",31,710,756,723,755,755,827,686,789,737,716,728,656,615,640,597,561,589,588,652,692,651,587,579,571,590,654,666,651,687,678,679,735,null,31,21479,21396,21272,20881,20829,20836,20421,20216,19875,19562,19425,19257,19409,19734,19917,20059,20100,20091,20265,20312,20353,20371,20596,20560,20744,20752,20835,20860,20987,20982,21002,20915]
["female",32,736,740,791,744,782,791,853,765,796,750,725,758,685,671,694,624,596,630,597,680,723,655,617,637,616,617,700,703,686,741,682,675,null,32,22215,22136,22063,21625,21611,21627,21274,20981,20671,20312,20150,20015,20094,20405,20611,20683,20696,20721,20862,20992,21076,21026,21213,21197,21360,21369,21535,21563,21673,21723,21684,21590]
["female",33,760,763,772,816,772,814,814,879,775,808,776,756,812,719,714,734,645,619,661,628,698,734,684,662,649,650,673,721,730,732,801,729,null,33,{"$f":"AK141+C142","v":22975},{"$f":"AL141+D142","v":22899},{"$f":"AM141+E142","v":22835},{"$f":"AN141+F142","v":22441},{"$f":"AO141+G142","v":22383},{"$f":"AP141+H142","v":22441},{"$f":"AQ141+I142","v":22088},{"$f":"AR141+J142","v":21860},{"$f":"AS141+K142","v":21446},{"$f":"AT141+L142","v":21120},{"$f":"AU141+M142","v":20926},{"$f":"AV141+N142","v":20771},{"$f":"AW141+O142","v":20906},{"$f":"AX141+P142","v":21124},{"$f":"AY141+Q142","v":21325},{"$f":"AZ141+R142","v":21417},{"$f":"BA141+S142","v":21341},{"$f":"BB141+T142","v":21340},{"$f":"BC141+U142","v":21523},{"$f":"BD141+V142","v":21620},{"$f":"BE141+W142","v":21774},{"$f":"BF141+X142","v":21760},{"$f":"BG141+Y142","v":21897},{"$f":"BH141+Z142","v":21859},{"$f":"BI141+AA142","v":22009},{"$f":"BJ141+AB142","v":22019},{"$f":"BK141+AC142","v":22208},{"$f":"BL141+AD142","v":22284},{"$f":"BM141+AE142","v":22403},{"$f":"BN141+AF142","v":22455},{"$f":"BO141+AG142","v":22485},22319]
["female",34,797,766,781,781,833,793,819,868,889,788,817,801,779,827,735,750,748,658,652,694,688,715,752,715,700,674,680,716,711,756,742,833,null,34,23772,23665,23616,23222,23216,23234,22907,22728,22335,21908,21743,21572,21685,21951,22060,22167,22089,21998,22175,22314,22462,22475,22649,22574,22709,22693,22888,23000,23114,23211,23227,23152]
["female",35,753,797,765,777,785,841,790,890,894,892,829,842,803,810,865,754,774,777,684,669,724,715,725,768,743,751,717,690,747,764,794,767,null,35,24525,24462,24381,23999,24001,24075,23697,23618,23229,22800,22572,22414,22488,22761,22925,22921,22863,22775,22859,22983,23186,23190,23374,23342,23452,23444,23605,23690,23861,23975,24021,23919]
["female",36,732,769,811,775,796,807,857,824,906,903,897,865,859,823,841,879,774,776,789,696,689,737,743,750,800,774,761,737,722,787,786,810,null,36,25257,25231,25192,24774,24797,24882,24554,24442,24135,23703,23469,23279,23347,23584,23766,23800,23637,23551,23648,23679,23875,23927,24117,24092,24252,24218,24366,24427,24583,24762,24807,24729]
["female",37,766,740,783,809,772,805,810,878,856,941,897,917,889,885,854,863,894,789,804,816,719,699,756,745,781,817,794,778,772,750,798,807,null,37,26023,25971,25975,25583,25569,25687,25364,25320,24991,24644,24366,24196,24236,24469,24620,24663,24531,24340,24452,24495,24594,24626,24873,24837,25033,25035,25160,25205,25355,25512,25605,25536]
["female",38,765,762,738,778,803,768,799,839,894,850,959,898,936,923,899,830,870,909,797,825,833,745,730,764,741,786,841,819,815,788,770,814,null,38,26788,26733,26713,26361,26372,26455,26163,26159,25885,25494,25325,25094,25172,25392,25519,25493,25401,25249,25249,25320,25427,25371,25603,25601,25774,25821,26001,26024,26170,26300,26375,26350]
["female",39,787,778,770,744,791,815,774,822,841,892,871,965,905,969,946,916,831,872,896,811,844,861,767,763,781,749,827,842,825,843,806,788,null,39,27575,27511,27483,27105,27163,27270,26937,26981,26726,26386,26196,26059,26077,26361,26465,26409,26232,26121,26145,26131,26271,26232,26370,26364,26555,26570,26828,26866,26995,27143,27181,27138]
["female",40,804,786,780,765,742,793,805,779,828,857,891,868,965,933,974,941,923,841,873,903,826,858,865,768,787,780,766,832,860,811,855,790,null,40,28379,28297,28263,27870,27905,28063,27742,27760,27554,27243,27087,26927,27042,27294,27439,27350,27155,26962,27018,27034,27097,27090,27235,27132,27342,27350,27594,27698,27855,27954,28036,27928]
["female",41,828,811,798,784,776,755,801,831,802,814,849,886,864,974,941,979,922,935,859,877,908,837,882,882,774,790,803,784,810,881,839,869,null,41,29207,29108,29061,28654,28681,28818,28543,28591,28356,28057,27936,27813,27906,28268,28380,28329,28077,27897,27877,27911,28005,27927,28117,28014,28116,28140,28397,28482,28665,28835,28875,28797]
["female",42,863,827,811,796,787,780,753,817,831,801,818,834,886,884,985,953,969,928,951,859,885,922,836,898,872,787,783,809,769,826,861,823,null,42,30070,29935,29872,29450,29468,29598,29296,29408,29187,28858,28754,28647,28792,29152,29365,29282,29046,28825,28828,28770,28890,28849,28953,28912,28988,28927,29180,29291,29434,29661,29736,29620]
["female",43,918,862,828,804,799,793,779,747,827,816,783,819,852,882,885,978,952,960,953,951,882,876,926,843,896,870,793,766,808,776,840,864,null,43,30988,30797,30700,30254,30267,30391,30075,30155,30014,29674,29537,29466,29644,30034,30250,30260,29998,29785,29781,29721,29772,29725,29879,29755,29884,29797,29973,30057,30242,30437,30576,30484]
["female",44,961,903,857,814,794,797,785,806,766,824,804,776,841,847,881,897,972,950,968,961,970,884,887,918,855,885,873,798,776,797,788,853,null,44,31949,31700,31557,31068,31061,31188,30860,30961,30780,30498,30341,30242,30485,30881,31131,31157,30970,30735,30749,30682,30742,30609,30766,30673,30739,30682,30846,30855,31018,31234,31364,31337]
["female",45,1098,967,909,861,819,805,804,802,786,759,801,808,789,861,849,873,891,952,946,963,980,974,899,889,909,858,891,867,808,775,801,790,null,45,33047,32667,32466,31929,31880,31993,31664,31763,31566,31257,31142,31050,31274,31742,31980,32030,31861,31687,31695,31645,31722,31583,31665,31562,31648,31540,31737,31722,31826,32009,32165,32127]
["female",46,921,1079,960,892,852,808,792,807,803,792,746,800,802,805,859,840,871,892,948,942,981,971,982,915,901,905,856,892,885,791,774,799,null,46,33968,33746,33426,32821,32732,32801,32456,32570,32369,32049,31888,31850,32076,32547,32839,32870,32732,32579,32643,32587,32703,32554,32647,32477,32549,32445,32593,32614,32711,32800,32939,32926]
["female",47,774,916,1069,955,887,850,800,803,798,815,778,745,794,815,808,865,845,854,896,949,938,971,984,987,908,890,919,855,883,878,811,790,null,47,34742,34662,34495,33776,33619,33651,33256,33373,33167,32864,32666,32595,32870,33362,33647,33735,33577,33433,33539,33536,33641,33525,33631,33464,33457,33335,33512,33469,33594,33678,33750,33716]
["female",48,818,770,908,1058,953,880,845,800,796,791,811,782,742,802,831,825,876,839,848,886,963,957,995,994,990,902,882,924,841,868,879,815,null,48,35560,35432,35403,34834,34572,34531,34101,34173,33963,33655,33477,33377,33612,34164,34478,34560,34453,34272,34387,34422,34604,34482,34626,34458,34447,34237,34394,34393,34435,34546,34629,34531]
["female",49,771,819,780,908,1056,960,880,854,807,800,780,795,781,746,802,825,839,877,847,838,884,970,957,987,981,991,916,885,914,848,859,876,null,49,36331,36251,36183,35742,35628,35491,34981,35027,34770,34455,34257,34172,34393,34910,35280,35385,35292,35149,35234,35260,35488,35452,35583,35445,35428,35228,35310,35278,35349,35394,35488,35407]
["female",50,699,762,805,777,904,1050,958,868,846,800,797,785,776,779,744,789,813,852,876,834,814,875,987,954,981,972,976,899,883,928,837,848,null,50,37030,37013,36988,36519,36532,36541,35939,35895,35616,35255,35054,34957,35169,35689,36024,36174,36105,36001,36110,36094,36302,36327,36570,36399,36409,36200,36286,36177,36232,36322,36325,36255]
["female",51,616,682,742,786,763,886,1029,944,863,841,785,784,784,767,779,741,791,807,852,861,833,815,869,973,953,977,961,966,905,888,931,836,null,51,37646,37695,37730,37305,37295,37427,36968,36839,36479,36096,35839,35741,35953,36456,36803,36915,36896,36808,36962,36955,37135,37142,37439,37372,37362,37177,37247,37143,37137,37210,37256,37091]
["female",52,635,608,680,728,777,762,879,1017,941,847,844,779,779,779,745,772,733,795,795,860,855,819,828,854,958,943,974,945,953,897,886,922,null,52,38281,38303,38410,38033,38072,38189,37847,37856,37420,36943,36683,36520,36732,37235,37548,37687,37629,37603,37757,37815,37990,37961,38267,38226,38320,38120,38221,38088,38090,38107,38142,38013]
["female",53,695,639,616,686,733,781,769,846,1021,932,847,834,776,769,777,730,766,733,792,786,856,856,797,848,844,957,941,955,943,943,893,856,null,53,38976,38942,39026,38719,38805,38970,38616,38702,38441,37875,37530,37354,37508,38004,38325,38417,38395,38336,38549,38601,38846,38817,39064,39074,39164,39077,39162,39043,39033,39050,39035,38869]
["female",54,651,692,636,617,686,727,774,770,828,1002,928,853,829,764,762,777,722,774,723,795,795,844,829,790,839,855,950,930,957,940,947,870,null,54,39627,39634,39662,39336,39491,39697,39390,39472,39269,38877,38458,38207,38337,38768,39087,39194,39117,39110,39272,39396,39641,39661,39893,39864,40003,39932,40112,39973,39990,39990,39982,39739]
["female",55,654,640,680,624,606,676,712,767,763,828,995,920,856,831,769,742,766,724,763,723,784,781,835,841,790,844,858,948,920,961,928,931,null,55,40281,40274,40342,39960,40097,40373,40102,40239,40032,39705,39453,39127,39193,39599,39856,39936,39883,39834,40035,40119,40425,40442,40728,40705,40793,40776,40970,40921,40910,40951,40910,40670]
["female",56,673,656,645,677,623,610,674,703,763,747,812,983,910,846,829,781,732,752,716,759,730,780,777,827,831,772,829,862,949,919,941,916,null,56,40954,40930,40987,40637,40720,40983,40776,40942,40795,40452,40265,40110,40103,40445,40685,40717,40615,40586,40751,40878,41155,41222,41505,41532,41624,41548,41799,41783,41859,41870,41851,41586]
["female",57,603,666,647,642,675,618,601,658,702,755,740,802,983,889,855,825,777,728,748,699,757,733,789,759,812,819,754,835,852,938,890,943,null,57,41557,41596,41634,41279,41395,41601,41377,41600,41497,41207,41005,40912,41086,41334,41540,41542,41392,41314,41499,41577,41912,41955,42294,42291,42436,42367,42553,42618,42711,42808,42741,42529]
["female",58,635,587,645,627,627,658,600,595,650,690,763,716,796,987,886,853,824,774,716,751,692,732,728,776,740,807,815,764,831,844,921,877,null,58,42192,42183,42279,41906,42022,42259,41977,42195,42147,41897,41768,41628,41882,42321,42426,42395,42216,42088,42215,42328,42604,42687,43022,43067,43176,43174,43368,43382,43542,43652,43662,43406]
["female",59,562,633,585,642,625,626,658,607,594,640,678,763,707,794,989,872,846,829,779,714,734,672,732,715,753,732,797,805,761,817,850,925,null,59,42754,42816,42864,42548,42647,42885,42635,42802,42741,42537,42446,42391,42589,43115,43415,43267,43062,42917,42994,43042,43338,43359,43754,43782,43929,43906,44165,44187,44303,44469,44512,44331]
["female",60,624,570,629,591,636,625,628,643,599,584,630,671,749,710,802,973,845,849,807,779,716,722,675,712,709,736,739,803,798,760,824,846,null,60,43378,43386,43493,43139,43283,43510,43263,43445,43340,43121,43076,43062,43338,43825,44217,44240,43907,43766,43801,43821,44054,44081,44429,44494,44638,44642,44904,44990,45101,45229,45336,45177]
["female",61,669,613,569,622,589,630,619,620,638,588,570,624,665,744,704,790,974,839,842,803,779,709,722,665,702,697,722,732,806,778,746,820,null,61,44047,43999,44062,43761,43872,44140,43882,44065,43978,43709,43646,43686,44003,44569,44921,45030,44881,44605,44643,44624,44833,44790,45151,45159,45340,45339,45626,45722,45907,46007,46082,45997]
["female",62,697,653,598,555,610,580,615,616,611,633,588,561,621,680,730,698,791,978,833,836,803,770,699,721,657,689,686,713,736,794,770,751,null,62,44744,44652,44660,44316,44482,44720,44497,44681,44589,44342,44234,44247,44624,45249,45651,45728,45672,45583,45476,45460,45636,45560,45850,45880,45997,46028,46312,46435,46643,46801,46852,46748]
["female",63,595,678,645,582,547,598,570,591,613,608,622,588,569,611,687,725,680,789,977,825,821,797,760,676,715,650,687,682,714,735,784,771,null,63,45339,45330,45305,44898,45029,45318,45067,45272,45202,44950,44856,44835,45193,45860,46338,46453,46352,46372,46453,46285,46457,46357,46610,46556,46712,46678,46999,47117,47357,47536,47636,47519]
["female",64,545,589,666,634,576,549,592,567,591,607,585,613,590,561,609,678,717,674,789,973,830,811,780,761,671,708,644,668,677,715,713,788,null,64,45884,45919,45971,45532,45605,45867,45659,45839,45793,45557,45441,45448,45783,46421,46947,47131,47069,47046,47242,47258,47287,47168,47390,47317,47383,47386,47643,47785,48034,48251,48349,48307]
["female",65,556,538,582,659,631,571,550,587,556,589,604,573,604,581,544,600,684,703,666,791,970,809,793,764,734,654,704,651,659,670,700,700,null,65,{"$f":"AK173+C174","v":46440},{"$f":"AL173+D174","v":46457},{"$f":"AM173+E174","v":46553},{"$f":"AN173+F174","v":46191},{"$f":"AO173+G174","v":46236},{"$f":"AP173+H174","v":46438},{"$f":"AQ173+I174","v":46209},{"$f":"AR173+J174","v":46426},{"$f":"AS173+K174","v":46349},{"$f":"AT173+L174","v":46146},{"$f":"AU173+M174","v":46045},{"$f":"AV173+N174","v":46021},{"$f":"AW173+O174","v":46387},{"$f":"AX173+P174","v":47002},{"$f":"AY173+Q174","v":47491},{"$f":"AZ173+R174","v":47731},{"$f":"BA173+S174","v":47753},{"$f":"BB173+T174","v":47749},{"$f":"BC173+U174","v":47908},{"$f":"BD173+V174","v":48049},{"$f":"BE173+W174","v":48257},{"$f":"BF173+X174","v":47977},{"$f":"BG173+Y174","v":48183},{"$f":"BH173+Z174","v":48081},{"$f":"BI173+AA174","v":48117},{"$f":"BJ173+AB174","v":48040},{"$f":"BK173+AC174","v":48347},{"$f":"BL173+AD174","v":48436},{"$f":"BM173+AE174","v":48693},{"$f":"BN173+AF174","v":48921},{"$f":"BO173+AG174","v":49049},49007]
["female",66,562,542,530,566,645,622,565,535,589,547,584,605,551,606,575,532,591,683,702,649,784,957,785,786,751,727,644,689,651,640,663,695,null,66,47002,46999,47083,46757,46881,47060,46774,46961,46938,46693,46629,46626,46938,47608,48066,48263,48344,48432,48610,48698,49041,48934,48968,48867,48868,48767,48991,49125,49344,49561,49712,49702]
["female",67,520,545,528,512,550,625,599,553,527,586,534,567,585,538,599,565,526,586,691,698,645,783,950,768,779,734,721,649,686,654,630,650,null,67,47522,47544,47611,47269,47431,47685,47373,47514,47465,47279,47163,47193,47523,48146,48665,48828,48870,49018,49301,49396,49686,49717,49918,49635,49647,49501,49712,49774,50030,50215,50342,50352]
["female",68,493,522,541,521,503,553,620,592,544,533,577,529,561,578,516,589,544,521,576,682,691,629,768,941,751,772,727,711,643,665,649,623,null,68,48015,48066,48152,47790,47934,48238,47993,48106,48009,47812,47740,47722,48084,48724,49181,49417,49414,49539,49877,50078,50377,50346,50686,50576,50398,50273,50439,50485,50673,50880,50991,50975]
["female",69,515,489,516,535,513,500,551,601,580,522,520,572,527,555,568,503,580,530,501,567,678,677,623,753,917,755,765,701,704,630,661,657,null,69,48530,48555,48668,48325,48447,48738,48544,48707,48589,48334,48260,48294,48611,49279,49749,49920,49994,50069,50378,50645,51055,51023,51309,51329,51315,51028,51204,51186,51377,51510,51652,51632]
["female",70,568,499,481,495,515,496,484,537,582,568,518,515,565,501,545,559,500,574,512,498,556,654,651,616,749,901,744,745,686,690,617,650,null,70,49098,49054,49149,48820,48962,49234,49028,49244,49171,48902,48778,48809,49176,49780,50294,50479,50494,50643,50890,51143,51611,51677,51960,51945,52064,51929,51948,51931,52063,52200,52269,52282]
["female",71,589,562,500,478,492,511,493,488,534,564,552,508,515,553,498,534,550,494,576,503,487,541,637,648,617,730,878,730,729,680,684,614,null,71,49687,49616,49649,49298,49454,49745,49521,49732,49705,49466,49330,49317,49691,50333,50792,51013,51044,51137,51466,51646,52098,52218,52597,52593,52681,52659,52826,52661,52792,52880,52953,52896]
["female",72,501,560,535,459,455,468,487,472,466,525,559,532,500,500,550,489,519,546,487,569,506,486,525,630,638,596,724,865,723,714,673,676,null,72,50188,50176,50184,49757,49909,50213,50008,50204,50171,49991,49889,49849,50191,50833,51342,51502,51563,51683,51953,52215,52604,52704,53122,53223,53319,53255,53550,53526,53515,53594,53626,53572]
["female",73,398,492,550,521,453,454,468,501,460,458,513,548,520,498,487,545,475,510,538,483,554,502,479,517,617,622,587,714,861,722,712,666,null,73,50586,50668,50734,50278,50362,50667,50476,50705,50631,50449,50402,50397,50711,51331,51829,52047,52038,52193,52491,52698,53158,53206,53601,53740,53936,53877,54137,54240,54376,54316,54338,54238]
["female",74,313,382,480,532,508,436,447,450,491,455,441,502,542,497,489,469,538,467,492,538,477,546,490,480,515,608,609,589,689,850,702,697,null,74,50899,51050,51214,50810,50870,51103,50923,51155,51122,50904,50843,50899,51253,51828,52318,52516,52576,52660,52983,53236,53635,53752,54091,54220,54451,54485,54746,54829,55065,55166,55040,54935]
["female",75,399,306,378,470,527,500,429,434,437,476,444,441,488,526,496,483,456,527,456,487,535,465,536,480,474,492,600,602,571,677,832,687,null,75,51298,51356,51592,51280,51397,51603,51352,51589,51559,51380,51287,51340,51741,52354,52814,52999,53032,53187,53439,53723,54170,54217,54627,54700,54925,54977,55346,55431,55636,55843,55872,55622]
["female",76,419,379,297,362,462,518,480,419,419,425,464,430,426,480,522,487,458,434,511,451,475,526,458,519,462,458,487,595,584,568,674,834,null,76,51717,51735,51889,51642,51859,52121,51832,52008,51978,51805,51751,51770,52167,52834,53336,53486,53490,53621,53950,54174,54645,54743,55085,55219,55387,55435,55833,56026,56220,56411,56546,56456]
["female",77,389,400,366,291,347,448,500,467,415,409,415,442,417,412,478,508,474,453,411,496,448,461,515,444,506,447,446,481,579,586,545,671,null,77,52106,52135,52255,51933,52206,52569,52332,52475,52393,52214,52166,52212,52584,53246,53814,53994,53964,54074,54361,54670,55093,55204,55600,55663,55893,55882,56279,56507,56799,56997,57091,57127]
["female",78,400,374,378,356,280,340,432,483,454,401,393,404,433,405,418,471,494,452,439,395,487,433,458,502,434,498,433,431,468,556,579,532,null,78,52506,52509,52633,52289,52486,52909,52764,52958,52847,52615,52559,52616,53017,53651,54232,54465,54458,54526,54800,55065,55580,55637,56058,56165,56327,56380,56712,56938,57267,57553,57670,57659]
["female",79,404,379,357,354,342,267,329,422,470,442,394,371,391,414,397,400,453,475,436,424,389,475,412,440,487,419,481,423,418,451,552,568,null,79,52910,52888,52990,52643,52828,53176,53093,53380,53317,53057,52953,52987,53408,54065,54629,54865,54911,55001,55236,55489,55969,56112,56470,56605,56814,56799,57193,57361,57685,58004,58222,58227]
["female",80,363,396,375,339,342,325,262,321,396,439,414,372,356,370,391,373,371,432,452,423,403,387,463,399,432,474,405,472,411,406,434,534,null,80,53273,53284,53365,52982,53170,53501,53355,53701,53713,53496,53367,53359,53764,54435,55020,55238,55282,55433,55688,55912,56372,56499,56933,57004,57246,57273,57598,57833,58096,58410,58656,58761]
["female",81,352,342,381,353,328,324,307,239,304,397,431,385,357,333,358,367,362,357,404,444,412,393,381,443,390,407,450,400,452,394,399,418,null,81,53625,53626,53746,53335,53498,53825,53662,53940,54017,53893,53798,53744,54121,54768,55378,55605,55644,55790,56092,56356,56784,56892,57314,57447,57636,57680,58048,58233,58548,58804,59055,59179]
["female",82,305,327,318,365,331,308,304,285,233,290,371,405,378,350,325,350,343,343,342,388,428,404,379,369,410,365,391,436,372,434,393,391,null,82,53930,53953,54064,53700,53829,54133,53966,54225,54250,54183,54169,54149,54499,55118,55703,55955,55987,56133,56434,56744,57212,57296,57693,57816,58046,58045,58439,58669,58920,59238,59448,59570]
["female",83,284,294,315,297,345,310,288,289,271,226,274,354,372,356,343,291,340,321,325,327,382,399,384,363,356,380,342,371,416,372,424,372,null,83,54214,54247,54379,53997,54174,54443,54254,54514,54521,54409,54443,54503,54871,55474,56046,56246,56327,56454,56759,57071,57594,57695,58077,58179,58402,58425,58781,59040,59336,59610,59872,59942]
["female",84,273,256,265,281,269,321,290,275,260,240,207,251,333,339,338,318,280,316,308,307,307,366,364,360,345,330,362,328,359,400,363,402,null,84,54487,54503,54644,54278,54443,54764,54544,54789,54781,54649,54650,54754,55204,55813,56384,56564,56607,56770,57067,57378,57901,58061,58441,58539,58747,58755,59143,59368,59695,60010,60235,60344]
["female",85,1356,1411,1462,1508,1554,1594,1701,1719,1738,262,229,191,241,316,312,305,284,254,290,294,275,293,355,354,351,327,309,333,320,352,384,352,null,85,55843,55914,56106,55786,55997,56358,56245,56508,56519,54911,54879,54945,55445,56129,56696,56869,56891,57024,57357,57672,58176,58354,58796,58893,59098,59082,59452,59701,60015,60362,60619,60696]
["female",86,null,null,null,null,null,null,null,null,null,256,250,216,177,216,287,287,286,270,233,267,271,266,271,324,334,328,305,284,305,296,338,371,null,86,55843,55914,56106,55786,55997,56358,56245,56508,56519,55167,55129,55161,55622,56345,56983,57156,57177,57294,57590,57939,58447,58620,59067,59217,59432,59410,59757,59985,60320,60658,60957,61067]
["female",87,null,null,null,null,null,null,null,null,null,211,224,216,197,166,195,261,267,258,252,219,240,268,242,246,295,299,307,288,247,278,283,315,null,87,55843,55914,56106,55786,55997,56358,56245,56508,56519,55378,55353,55377,55819,56511,57178,57417,57444,57552,57842,58158,58687,58888,59309,59463,59727,59709,60064,60273,60567,60936,61240,61382]
["female",88,null,null,null,null,null,null,null,null,null,183,190,195,211,179,154,177,232,231,248,223,202,213,244,218,221,285,253,289,266,239,262,274,null,88,55843,55914,56106,55786,55997,56358,56245,56508,56519,55561,55543,55572,56030,56690,57332,57594,57676,57783,58090,58381,58889,59101,59553,59681,59948,59994,60317,60562,60833,61175,61502,61656]
["female",89,null,null,null,null,null,null,null,null,null,158,157,162,173,177,154,137,158,212,206,222,210,186,194,211,204,205,262,227,273,245,215,247,null,89,55843,55914,56106,55786,55997,56358,56245,56508,56519,55719,55700,55734,56203,56867,57486,57731,57834,57995,58296,58603,59099,59287,59747,59892,60152,60199,60579,60789,61106,61420,61717,61903]
["female","90+",null,null,null,null,null,null,null,null,null,655,654,655,687,681,724,725,672,673,735,773,808,841,879,882,907,901,904,962,988,1025,1071,1062,null,"90+",55843,55914,56106,55786,55997,56358,56245,56508,56519,56374,56354,56389,56890,57548,58210,58456,58506,58668,59031,59376,59907,60128,60626,60774,61059,61100,61483,61751,62094,62445,62788,62965]
[null,"All Females",{"$f":"SUM(C109:C199)","v":55843},{"$f":"SUM(D109:D199)","v":55914},56106,55786,55997,56358,56245,56508,56519,56374,56354,56389,56890,57548,58210,58456,58506,58668,59031,59376,59907,60128,60626,60774,61059,61100,61483,{"$f":"SUM(AD109:AD199)","v":61751},{"$f":"SUM(AE109:AE199)","v":62094},{"$f":"SUM(AF109:AF199)","v":62445},{"$f":"SUM(AG109:AG199)","v":62788},{"$f":"SUM(AH109:AH199)","v":62965}]
[]
[]
[]
[]
[]
[]
[]
[]
[]
[]
[]
[]
[]
[]
[]
[]
[]
[]
[]
[]
[]
[]
[]
[]
[]
[]
[]
[]
[null,null,null,null,null,null,null,null,null,null,null,null,null,null,0.5552293900509756]
[null,null,null,null,null,null,null,null,null,null,null,null,null,null,0.25137985586219019]
[null,null,null,null,null,null,null,null,null,null,null,null,null,null,0.6113728247495166]
[null,null,null,null,null,null,null,null,null,null,null,null,null,null,6.1908947090877131E-2]
[null,null,null,null,null,null,null,null,null,null,null,null,null,null,6.4352258744946392E-2]
[null,null,null,null,null,null,null,null,null,null,null,null,null,null,5.6143434698541043E-2]
[null,null,null,null,null,null,null,null,null,null,null,null,null,null,3.8934786429952538E-2]
[null,null,null,null,null,null,null,null,null,null,null,null,null,null,4.4401476533661451E-2]
[null,null,null,null,null,null,null,null,null,null,null,null,null,null,6.153981367551415E-2]
[null,null,null,null,null,null,null,null,null,null,null,null,null,null,7.720161715591492E-2]
[null,null,null,null,null,null,null,null,null,null,null,null,null,null,7.7482861662858143E-2]
[null,null,null,null,null,null,null,null,null,null,null,null,null,null,6.8693970820882411E-2]
[null,null,null,null,null,null,null,null,null,null,null,null,null,null,6.9326770961504663E-2]
[null,null,null,null,null,null,null,null,null,null,null,null,null,null,7.4740727720161715E-2]
[null,null,null,null,null,null,null,null,null,null,null,null,null,null,5.6143434698541043E-2]
[null,null,null,null,null,null,null,null,null,null,null,null,null,null,4.97099666022148E-2]
[null,null,null,null,null,null,null,null,null,null,null,null,null,null,4.6440499208999828E-2]
[null,null,null,null,null,null,null,null,null,null,null,null,null,null,3.788011952891545E-2]
[null,null,null,null,null,null,null,null,null,null,null,null,null,null,3.1569695904376867E-2]
[null,null,null,null,null,null,null,null,null,null,null,null,null,null,1.7560203902267535E-2]
[null,null,null,null,null,null,null,null,null,null,null,null,null,null,1.2075936016874671E-2]
[null,null,null,null,null,null,null,null,null,null,null,null,null,null,1]

{"sheet":"SWA","index":19,"n_rows":250,"n_cols":106,"rows_kept":250,"cut":false,"hidden":true,"merged":[[0,68,21,68]]}
["Mid Year Population Estimates",null,null,null,null,null,null,null,null,null,null,null,null,null,null,null,null,null,null,null,null,null,null,null,null,null,null,null,null,null,null,null,null,null,null,null,null,null,null,null,null,null,null,null,null,null,null,null,null,null,null,null,null,null,null,null,null,null,null,null,null,null,null,null,null,null,null,null,"Insert column here before extending the table"]
["ONS Mid-Year Population Estimates 1991 to 2022 - (1992 to 2001 Revised 7th October 2004) ( 2002 to 2010 revised in light of the 2011 census. Released 30 April 2013)",null,null,null,null,null,null,null,null,null,null,null,null,null,null,null,null,null,null,null,null,null,null,null,null,null,null,null,null,null,null,null,null,null,null,"Selected Ages:",null,{"$f":"Index!C4&\" : \"&Index!C7","v":"0 : 90"},null,null,null,null,null,null,null,null,null,null,null,null,null,null,null,null,null,null,null,null,null,null,null,null,null,null,null,null,null,null,null,null,null,null,"Start year","End Year","Number change","% Change"]
["Revised ONS Mid-Year Population Estimates 2012 to 2020- Released 23 November 2023",null,null,null,null,null,null,null,null,null,null,null,null,null,null,null,null,null,null,null,null,null,null,null,null,null,null,null,null,null,null,null,null,null,null,null,{"$f":"AK13","v":1992},{"$f":"AL13","v":1993},{"$f":"AM13","v":1994},{"$f":"AN13","v":1995},{"$f":"AO13","v":1996},{"$f":"AP13","v":1997},1998,1999,2000,2001,2002,2003,2004,2005,2006,2007,2008,2009,2010,2011,2012,2013,2014,2015,2016,2017,{"$f":"BK13","v":2018},2019,2020,2021,2022,2023,null,null,null,null,{"$f":"INDEX($AR3:$BL3,Index!$B$16)","v":1999},{"$f":"INDEX($AR3:$BM3,Index!$B$19)","v":2019}]
["2022 MYPE released 23 November 2023",null,null,null,null,null,null,null,null,null,null,null,null,null,null,null,null,null,null,null,null,null,null,null,null,null,null,null,null,null,null,null,null,null,null,"Males",{"$f":"OFFSET(AK16,Index!$B$7-1,0)-IF(Index!$B$4-2=-1,0,OFFSET(AK16,Index!$B$4-2,0))","v":57291},{"$f":"OFFSET(AL16,Index!$B$7-1,0)-IF(Index!$B$4-2=-1,0,OFFSET(AL16,Index!$B$4-2,0))","v":57488},{"$f":"OFFSET(AM16,Index!$B$7-1,0)-IF(Index!$B$4-2=-1,0,OFFSET(AM16,Index!$B$4-2,0))","v":57655},{"$f":"OFFSET(AN16,Index!$B$7-1,0)-IF(Index!$B$4-2=-1,0,OFFSET(AN16,Index!$B$4-2,0))","v":58050},{"$f":"OFFSET(AO16,Index!$B$7-1,0)-IF(Index!$B$4-2=-1,0,OFFSET(AO16,Index!$B$4-2,0))","v":57943},{"$f":"OFFSET(AP16,Index!$B$7-1,0)-IF(Index!$B$4-2=-1,0,OFFSET(AP16,Index!$B$4-2,0))","v":58445},{"$f":"OFFSET(AQ16,Index!$B$7-1,0)-IF(Index!$B$4-2=-1,0,OFFSET(AQ16,Index!$B$4-2,0))","v":58763},{"$f":"OFFSET(AR16,Index!$B$7-1,0)-IF(Index!$B$4-2=-1,0,OFFSET(AR16,Index!$B$4-2,0))","v":59236},{"$f":"OFFSET(AS16,Index!$B$7-1,0)-IF(Index!$B$4-2=-1,0,OFFSET(AS16,Index!$B$4-2,0))","v":59966},{"$f":"OFFSET(AT16,Index!$B$7-1,0)-IF(Index!$B$4-2=-1,0,OFFSET(AT16,Index!$B$4-2,0))","v":60737},{"$f":"OFFSET(AU16,Index!$B$7-1,0)-IF(Index!$B$4-2=-1,0,OFFSET(AU16,Index!$B$4-2,0))","v":61199},{"$f":"OFFSET(AV16,Index!$B$7-1,0)-IF(Index!$B$4-2=-1,0,OFFSET(AV16,Index!$B$4-2,0))","v":61722},{"$f":"OFFSET(AW16,Index!$B$7-1,0)-IF(Index!$B$4-2=-1,0,OFFSET(AW16,Index!$B$4-2,0))","v":61945},{"$f":"OFFSET(AX16,Index!$B$7-1,0)-IF(Index!$B$4-2=-1,0,OFFSET(AX16,Index!$B$4-2,0))","v":62142},{"$f":"OFFSET(AY16,Index!$B$7-1,0)-IF(Index!$B$4-2=-1,0,OFFSET(AY16,Index!$B$4-2,0))","v":62828},{"$f":"OFFSET(AZ16,Index!$B$7-1,0)-IF(Index!$B$4-2=-1,0,OFFSET(AZ16,Index!$B$4-2,0))","v":63946},{"$f":"OFFSET(BA16,Index!$B$7-1,0)-IF(Index!$B$4-2=-1,0,OFFSET(BA16,Index!$B$4-2,0))","v":64953},{"$f":"OFFSET(BB16,Index!$B$7-1,0)-IF(Index!$B$4-2=-1,0,OFFSET(BB16,Index!$B$4-2,0))","v":65616},{"$f":"OFFSET(BC16,Index!$B$7-1,0)-IF(Index!$B$4-2=-1,0,OFFSET(BC16,Index!$B$4-2,0))","v":66742},{"$f":"OFFSET(BD16,Index!$B$7-1,0)-IF(Index!$B$4-2=-1,0,OFFSET(BD16,Index!$B$4-2,0))","v":67418},{"$f":"OFFSET(BE16,Index!$B$7-1,0)-IF(Index!$B$4-2=-1,0,OFFSET(BE16,Index!$B$4-2,0))","v":68253},{"$f":"OFFSET(BF16,Index!$B$7-1,0)-IF(Index!$B$4-2=-1,0,OFFSET(BF16,Index!$B$4-2,0))","v":68983},{"$f":"OFFSET(BG16,Index!$B$7-1,0)-IF(Index!$B$4-2=-1,0,OFFSET(BG16,Index!$B$4-2,0))","v":70034},{"$f":"OFFSET(BH16,Index!$B$7-1,0)-IF(Index!$B$4-2=-1,0,OFFSET(BH16,Index!$B$4-2,0))","v":70948},{"$f":"OFFSET(BI16,Index!$B$7-1,0)-IF(Index!$B$4-2=-1,0,OFFSET(BI16,Index!$B$4-2,0))","v":72256},{"$f":"OFFSET(BJ16,Index!$B$7-1,0)-IF(Index!$B$4-2=-1,0,OFFSET(BJ16,Index!$B$4-2,0))","v":73152},{"$f":"OFFSET(BK16,Index!$B$7-1,0)-IF(Index!$B$4-2=-1,0,OFFSET(BK16,Index!$B$4-2,0))","v":73928},{"$f":"OFFSET(BL16,Index!$B$7-1,0)-IF(Index!$B$4-2=-1,0,OFFSET(BL16,Index!$B$4-2,0))","v":74682},{"$f":"OFFSET(BM16,Index!$B$7-1,0)-IF(Index!$B$4-2=-1,0,OFFSET(BM16,Index!$B$4-2,0))","v":74911},{"$f":"OFFSET(BN16,Index!$B$7-1,0)-IF(Index!$B$4-2=-1,0,OFFSET(BN16,Index!$B$4-2,0))","v":75544},{"$f":"OFFSET(BO16,Index!$B$7-1,0)-IF(Index!$B$4-2=-1,0,OFFSET(BO16,Index!$B$4-2,0))","v":76727},{"$f":"OFFSET(BP16,Index!$B$7-1,0)-IF(Index!$B$4-2=-1,0,OFFSET(BP16,Index!$B$4-2,0))","v":77223},null,null,null,null,{"$f":"INDEX($AR4:$BL4,Index!$B$16)","v":59236},{"$f":"INDEX($AR4:$BM4,Index!$B$19)","v":74682},{"$f":"BV4-BU4","v":15446},{"$f":"BW4/BU4","v":0.26075359578634616}]
[null,null,null,null,null,null,null,null,null,null,null,null,null,null,null,null,null,null,null,null,null,null,null,null,null,null,null,null,null,null,null,null,null,null,null,"Females",{"$f":"OFFSET(AK109,Index!$B$7-1,0)-IF(Index!$B$4-2=-1,0,OFFSET(AK109,Index!$B$4-2,0))","v":58888},{"$f":"OFFSET(AL109,Index!$B$7-1,0)-IF(Index!$B$4-2=-1,0,OFFSET(AL109,Index!$B$4-2,0))","v":59181},{"$f":"OFFSET(AM109,Index!$B$7-1,0)-IF(Index!$B$4-2=-1,0,OFFSET(AM109,Index!$B$4-2,0))","v":59143},{"$f":"OFFSET(AN109,Index!$B$7-1,0)-IF(Index!$B$4-2=-1,0,OFFSET(AN109,Index!$B$4-2,0))","v":59502},{"$f":"OFFSET(AO109,Index!$B$7-1,0)-IF(Index!$B$4-2=-1,0,OFFSET(AO109,Index!$B$4-2,0))","v":59394},{"$f":"OFFSET(AP109,Index!$B$7-1,0)-IF(Index!$B$4-2=-1,0,OFFSET(AP109,Index!$B$4-2,0))","v":59823},{"$f":"OFFSET(AQ109,Index!$B$7-1,0)-IF(Index!$B$4-2=-1,0,OFFSET(AQ109,Index!$B$4-2,0))","v":59930},{"$f":"OFFSET(AR109,Index!$B$7-1,0)-IF(Index!$B$4-2=-1,0,OFFSET(AR109,Index!$B$4-2,0))","v":60843},{"$f":"OFFSET(AS109,Index!$B$7-1,0)-IF(Index!$B$4-2=-1,0,OFFSET(AS109,Index!$B$4-2,0))","v":61672},{"$f":"OFFSET(AT109,Index!$B$7-1,0)-IF(Index!$B$4-2=-1,0,OFFSET(AT109,Index!$B$4-2,0))","v":62386},{"$f":"OFFSET(AU109,Index!$B$7-1,0)-IF(Index!$B$4-2=-1,0,OFFSET(AU109,Index!$B$4-2,0))","v":62973},{"$f":"OFFSET(AV109,Index!$B$7-1,0)-IF(Index!$B$4-2=-1,0,OFFSET(AV109,Index!$B$4-2,0))","v":63626},{"$f":"OFFSET(AW109,Index!$B$7-1,0)-IF(Index!$B$4-2=-1,0,OFFSET(AW109,Index!$B$4-2,0))","v":63945},{"$f":"OFFSET(AX109,Index!$B$7-1,0)-IF(Index!$B$4-2=-1,0,OFFSET(AX109,Index!$B$4-2,0))","v":64374},{"$f":"OFFSET(AY109,Index!$B$7-1,0)-IF(Index!$B$4-2=-1,0,OFFSET(AY109,Index!$B$4-2,0))","v":64740},{"$f":"OFFSET(AZ109,Index!$B$7-1,0)-IF(Index!$B$4-2=-1,0,OFFSET(AZ109,Index!$B$4-2,0))","v":65775},{"$f":"OFFSET(BA109,Index!$B$7-1,0)-IF(Index!$B$4-2=-1,0,OFFSET(BA109,Index!$B$4-2,0))","v":66767},{"$f":"OFFSET(BB109,Index!$B$7-1,0)-IF(Index!$B$4-2=-1,0,OFFSET(BB109,Index!$B$4-2,0))","v":67414},{"$f":"OFFSET(BC109,Index!$B$7-1,0)-IF(Index!$B$4-2=-1,0,OFFSET(BC109,Index!$B$4-2,0))","v":68238},{"$f":"OFFSET(BD109,Index!$B$7-1,0)-IF(Index!$B$4-2=-1,0,OFFSET(BD109,Index!$B$4-2,0))","v":68906},{"$f":"OFFSET(BE109,Index!$B$7-1,0)-IF(Index!$B$4-2=-1,0,OFFSET(BE109,Index!$B$4-2,0))","v":69441},{"$f":"OFFSET(BF109,Index!$B$7-1,0)-IF(Index!$B$4-2=-1,0,OFFSET(BF109,Index!$B$4-2,0))","v":70152},{"$f":"OFFSET(BG109,Index!$B$7-1,0)-IF(Index!$B$4-2=-1,0,OFFSET(BG109,Index!$B$4-2,0))","v":70958},{"$f":"OFFSET(BH109,Index!$B$7-1,0)-IF(Index!$B$4-2=-1,0,OFFSET(BH109,Index!$B$4-2,0))","v":71775},{"$f":"OFFSET(BI109,Index!$B$7-1,0)-IF(Index!$B$4-2=-1,0,OFFSET(BI109,Index!$B$4-2,0))","v":72928},{"$f":"OFFSET(BJ109,Index!$B$7-1,0)-IF(Index!$B$4-2=-1,0,OFFSET(BJ109,Index!$B$4-2,0))","v":73694},{"$f":"OFFSET(BK109,Index!$B$7-1,0)-IF(Index!$B$4-2=-1,0,OFFSET(BK109,Index!$B$4-2,0))","v":74472},{"$f":"OFFSET(BL109,Index!$B$7-1,0)-IF(Index!$B$4-2=-1,0,OFFSET(BL109,Index!$B$4-2,0))","v":75071},{"$f":"OFFSET(BM109,Index!$B$7-1,0)-IF(Index!$B$4-2=-1,0,OFFSET(BM109,Index!$B$4-2,0))","v":75673},{"$f":"OFFSET(BN109,Index!$B$7-1,0)-IF(Index!$B$4-2=-1,0,OFFSET(BN109,Index!$B$4-2,0))","v":76674},{"$f":"OFFSET(BO109,Index!$B$7-1,0)-IF(Index!$B$4-2=-1,0,OFFSET(BO109,Index!$B$4-2,0))","v":77871},{"$f":"OFFSET(BP109,Index!$B$7-1,0)-IF(Index!$B$4-2=-1,0,OFFSET(BP109,Index!$B$4-2,0))","v":78670},null,null,null,null,{"$f":"INDEX($AR5:$BL5,Index!$B$16)","v":60843},{"$f":"INDEX($AR5:$BM5,Index!$B$19)","v":75071},{"$f":"BV5-BU5","v":14228},{"$f":"BW5/BU5","v":0.23384777213483884}]
[null,null,null,null,null,null,null,null,null,null,null,null,null,null,null,null,null,null,null,null,null,null,null,null,null,null,null,null,null,null,null,null,null,null,null,"Total",{"$f":"SUM(AK4:AK5)","v":116179},{"$f":"SUM(AL4:AL5)","v":116669},{"$f":"SUM(AM4:AM5)","v":116798},{"$f":"SUM(AN4:AN5)","v":117552},{"$f":"SUM(AO4:AO5)","v":117337},{"$f":"SUM(AP4:AP5)","v":118268},118693,120079,121638,123123,124172,125348,125890,126516,127568,129721,131720,133030,134980,136324,137694,139135,140992,142723,145184,146846,148400,149753,150584,152218,154598,155893,null,null,null,null,{"$f":"INDEX($AR6:$BL6,Index!$B$16)","v":120079},{"$f":"INDEX($AR6:$BM6,Index!$B$19)","v":149753},{"$f":"BV6-BU6","v":29674},{"$f":"BW6/BU6","v":0.24712064557499647}]
[]
[null,null,null,null,null,null,null,null,null,null,null,null,null,null,null,null,null,null,null,null,null,null,null,null,null,null,null,null,null,null,null,null,null,null,null,"Males",{"$f":"IF(AK4<0,\"0\",AK4)","v":57291},{"$f":"IF(AL4<0,\"0\",AL4)","v":57488},57655,58050,57943,58445,58763,59236,59966,60737,61199,61722,61945,62142,62828,63946,64953,65616,66742,67418,68253,68983,70034,70948,72256,73152,{"$f":"IF(BK4<0,\"0\",BK4)","v":73928},74682,74911,{"$f":"IF(BN4<0,\"0\",BN4)","v":75544},76727,{"$f":"IF(BP4<0,\"0\",BP4)","v":77223}]
[null,null,null,null,null,null,null,null,null,null,null,null,null,null,null,null,null,null,null,null,null,null,null,null,null,null,null,null,null,null,null,null,null,null,null,"Females",{"$f":"IF(AK5<0,\"0\",AK5)","v":58888},59181,59143,59502,59394,59823,59930,60843,61672,62386,62973,63626,63945,64374,64740,65775,66767,67414,68238,68906,69441,70152,70958,71775,72928,73694,74472,75071,75673,{"$f":"IF(BN5<0,\"0\",BN5)","v":76674},77871,{"$f":"IF(BP5<0,\"0\",BP5)","v":78670}]
[null,null,null,null,null,null,null,null,null,null,null,null,null,null,null,null,null,null,null,null,null,null,null,null,null,null,null,null,null,null,null,null,null,null,null,"Total",{"$f":"SUM(AK8:AK9)","v":116179},{"$f":"SUM(AL8:AL9)","v":116669},116798,117552,117337,118268,118693,120079,121638,123123,124172,125348,125890,126516,127568,129721,131720,133030,134980,136324,137694,139135,140992,142723,145184,146846,{"$f":"SUM(BK8:BK9)","v":148400},149753,150584,152218,154598,155893]
[]
[null,null,null,"MYE for  . . . . . .",null,null,null,"Swale",null,null,null,null,null,null,null,null,null,null,null,null,null,null,null,null,null,null,null,null,null,null,null,null,null,null,null,null,null,null,null,null,"Cummulative Ages",null,null,null,null,null,null,null,null,null,null,null,null,null,null,null,null,null,null,null,null,null,null,null,null,null,null,null,null,"Population Pyramid"]
[null,null,"Base Year",null,null,null,null,null,null,null,null,null,null,null,null,null,null,null,null,null,null,null,null,null,null,null,null,null,null,null,null,null,null,null,null,null,{"$f":"C14","v":1992},1993,1994,1995,1996,1997,1998,1999,2000,2001,2002,2003,2004,2005,2006,2007,2008,2009,2010,2011,2012,2013,2014,2015,2016,2017,2018,2019,2020,2021,2022,2023]
["Sex","Age",1992,1993,1994,1995,1996,1997,1998,1999,2000,2001,2002,2003,2004,2005,2006,2007,2008,2009,2010,2011,2012,2013,2014,2015,2016,2017,2018,2019,2020,2021,2022,2023,null,null,null,null,null,null,null,null,null,null,null,null,null,null,null,null,null,null,null,null,null,null,null,null,null,null,null,null,null,null,null,null,null,null,null,null,null,null,1992,1993,1994,1995,1996,1997,1998,1999,2000,2001,2002,2003,2004,2005,2006,2007,2008,2009,2010,2011,2012,2013,2014,2015,2016,2017,2018,2019,2020,2021,2022,2023,null,{"$f":"INDEX(CC14:CY14,'Population Pyramid'!$L$1)","v":2020}]
[null,"All persons",{"$f":"SUM(C107,C200)","v":116179},{"$f":"SUM(D107,D200)","v":116669},116798,117552,117337,118268,118693,120079,121638,123123,124172,125348,125890,126516,127568,129721,131720,133030,134980,136324,137694,139135,{"$f":"SUM(Y107,Y200)","v":140992},142723,145184,146846,148400,149753,{"$f":"SUM(AE107,AE200)","v":150584},152218,{"$f":"SUM(AG107,AG200)","v":154598},155893,null,"Males",null,null,null,null,null,null,null,null,null,null,null,null,null,null,null,null,null,null,null,null,null,null,null,null,null,null,null,null,null,null,null,null,null,"Males","All Ages",null,{"$f":"C107","v":57291},57488,57655,58050,57943,58445,58763,59236,59966,60737,61199,61722,61945,62142,62828,63946,64953,65616,66742,67418,68253,68983,70034,70948,72256,73152,73928,74682,74911,75544,76727,77223,null,{"$f":"INDEX(CC15:CY15,'Population Pyramid'!$L$1)","v":74911}]
["male",0,882,851,805,793,771,756,738,744,756,710,743,709,795,704,843,879,885,887,922,910,901,906,893,835,936,889,913,911,839,799,839,823,null,0,{"$f":"C16","v":882},851,805,793,771,756,738,744,756,710,743,709,795,704,843,879,885,887,922,910,901,906,893,835,936,889,913,911,839,799,839,823,null,"Males","0-4",null,{"$f":"SUM(C16:C20)","v":4251},4211,4168,4084,4013,3905,3798,3908,3929,3915,3891,3850,3857,3713,3825,4018,4225,4359,4566,4549,4564,4590,4654,4555,4665,4641,4631,4603,4610,4490,4565,4546,null,{"$f":"INDEX(CC16:CY16,'Population Pyramid'!$L$1)","v":4610}]
["male",1,809,881,834,791,781,774,748,763,774,788,728,743,697,800,724,882,892,886,901,923,901,921,926,901,841,936,920,923,932,853,853,880,null,1,{"$f":"AK16+C17","v":1691},{"$f":"AL16+D17","v":1732},{"$f":"AM16+E17","v":1639},{"$f":"AN16+F17","v":1584},{"$f":"AO16+G17","v":1552},{"$f":"AP16+H17","v":1530},{"$f":"AQ16+I17","v":1486},{"$f":"AR16+J17","v":1507},{"$f":"AS16+K17","v":1530},{"$f":"AT16+L17","v":1498},{"$f":"AU16+M17","v":1471},{"$f":"AV16+N17","v":1452},{"$f":"AW16+O17","v":1492},{"$f":"AX16+P17","v":1504},{"$f":"AY16+Q17","v":1567},{"$f":"AZ16+R17","v":1761},{"$f":"BA16+S17","v":1777},{"$f":"BB16+T17","v":1773},{"$f":"BC16+U17","v":1823},{"$f":"BD16+V17","v":1833},{"$f":"BE16+W17","v":1802},{"$f":"BF16+X17","v":1827},{"$f":"BG16+Y17","v":1819},{"$f":"BH16+Z17","v":1736},{"$f":"BI16+AA17","v":1777},{"$f":"BJ16+AB17","v":1825},{"$f":"BK16+AC17","v":1833},{"$f":"BL16+AD17","v":1834},{"$f":"BM16+AE17","v":1771},{"$f":"BN16+AF17","v":1652},{"$f":"BO16+AG17","v":1692},1703,null,"Males","5-9",null,{"$f":"SUM(C21:C25)","v":4078},4146,4138,4189,4134,4199,4182,4296,4274,4360,4372,4344,4269,4210,4134,4149,4036,4045,3987,4112,4264,4476,4549,4738,4806,4878,4917,4946,4889,4897,4959,5070,null,{"$f":"INDEX(CC17:CY17,'Population Pyramid'!$L$1)","v":4889}]
["male",2,887,816,879,841,793,784,779,782,773,804,801,749,768,702,794,742,895,907,894,897,942,895,955,927,939,873,953,913,915,956,892,886,null,2,2578,2548,2518,2425,2345,2314,2265,2289,2303,2302,2272,2201,2260,2206,2361,2503,2672,2680,2717,2730,2744,2722,2774,2663,2716,2698,2786,2747,2686,2608,2584,2589,null,"Males","10-14",null,{"$f":"SUM(C26:C30)","v":3935},4018,3940,3998,4062,4140,4191,4257,4323,4403,4470,4579,4628,4597,4604,4555,4592,4511,4515,4472,4396,4191,4196,4176,4356,4498,4679,4718,4850,4911,5067,5211,null,{"$f":"INDEX(CC18:CY18,'Population Pyramid'!$L$1)","v":4850}]
["male",3,804,871,797,865,818,779,764,802,801,789,812,836,763,746,699,792,752,917,914,907,893,967,924,953,974,951,885,981,917,952,994,925,null,3,3382,3419,3315,3290,3163,3093,3029,3091,3104,3091,3084,3037,3023,2952,3060,3295,3424,3597,3631,3637,3637,3689,3698,3616,3690,3649,3671,3728,3603,3560,3578,3514,null,"Males","15-19",null,{"$f":"SUM(C31:C35)","v":3731},3639,3644,3611,3593,3600,3727,3781,3852,3984,4025,4083,4090,4168,4237,4384,4503,4598,4541,4567,4479,4545,4475,4407,4349,4273,4137,4177,4180,4327,4452,4606,null,{"$f":"INDEX(CC19:CY19,'Population Pyramid'!$L$1)","v":4180}]
["male",4,869,792,853,794,850,812,769,817,825,824,807,813,834,761,765,723,801,762,935,912,927,901,956,939,975,992,960,875,1007,930,987,1032,null,4,4251,4211,4168,4084,4013,3905,3798,3908,3929,3915,3891,3850,3857,3713,3825,4018,4225,4359,4566,4549,4564,4590,4654,4555,4665,4641,4631,4603,4610,4490,4565,4546,null,"Males","20-24",null,{"$f":"SUM(C36:C40)","v":4097},4009,3830,3690,3443,3365,3200,3110,3180,3336,3356,3355,3318,3375,3448,3601,3710,3721,3934,3993,4093,4196,4316,4380,4352,4310,4248,4204,4127,4040,4000,3819,null,{"$f":"INDEX(CC20:CY20,'Population Pyramid'!$L$1)","v":4127}]
["male",5,797,858,778,846,786,845,804,832,834,840,835,825,822,819,770,792,716,808,766,945,908,948,909,960,960,1000,1007,956,881,997,977,1029,null,5,5048,5069,4946,4930,4799,4750,4602,4740,4763,4755,4726,4675,4679,4532,4595,4810,4941,5167,5332,5494,5472,5538,5563,5515,5625,5641,5638,5559,5491,5487,5542,5575,null,"Males","25-29",null,{"$f":"SUM(C41:C45)","v":4466},4346,4338,4365,4328,4414,4349,4040,3895,3680,3500,3329,3341,3382,3414,3659,3830,3858,3963,4024,4106,4077,4173,4425,4573,4721,4845,4905,4787,4753,4806,4677,null,{"$f":"INDEX(CC21:CY21,'Population Pyramid'!$L$1)","v":4787}]
["male",6,858,813,867,800,864,813,866,839,849,864,857,843,838,808,836,787,809,732,826,781,946,910,944,924,978,975,1009,1008,974,877,1027,1001,null,6,5906,5882,5813,5730,5663,5563,5468,5579,5612,5619,5583,5518,5517,5340,5431,5597,5750,5899,6158,6275,6418,6448,6507,6439,6603,6616,6647,6567,6465,6364,6569,6576,null,"Males","30-34",null,{"$f":"SUM(C46:C50)","v":4189},4289,4422,4591,4621,4631,4665,4576,4534,4465,4388,4313,4156,3965,3851,3678,3548,3579,3751,3765,3931,4154,4290,4320,4470,4611,4715,4960,5065,5175,5231,5248,null,{"$f":"INDEX(CC22:CY22,'Population Pyramid'!$L$1)","v":5065}]
["male",7,809,858,815,868,801,870,826,873,859,867,870,870,848,849,817,851,795,816,749,819,806,943,909,970,951,980,971,1025,1017,966,900,1063,null,7,6715,6740,6628,6598,6464,6433,6294,6452,6471,6486,6453,6388,6365,6189,6248,6448,6545,6715,6907,7094,7224,7391,7416,7409,7554,7596,7618,7592,7482,7330,7469,7639,null,"Males","35-39",null,{"$f":"SUM(C51:C55)","v":3912},3901,3985,4037,4117,4268,4430,4594,4839,4949,5037,5064,4942,4819,4699,4674,4547,4391,4323,4204,3993,3896,3924,4106,4275,4539,4805,4869,4855,5000,5099,5148,null,{"$f":"INDEX(CC23:CY23,'Population Pyramid'!$L$1)","v":4855}]
["male",8,794,823,857,823,865,810,880,854,878,891,908,884,877,843,862,839,862,809,821,748,836,821,955,921,987,946,983,970,1030,1023,1019,954,null,8,7509,7563,7485,7421,7329,7243,7174,7306,7349,7377,7361,7272,7242,7032,7110,7287,7407,7524,7728,7842,8060,8212,8371,8330,8541,8542,8601,8562,8512,8353,8488,8593,null,"Males","40-44",null,{"$f":"SUM(C56:C60)","v":4380},4168,4042,3936,3874,3970,4044,4043,4127,4251,4369,4518,4731,4940,5097,5167,5229,5141,5026,4923,4912,4738,4669,4529,4472,4305,4180,4344,4518,4660,4937,5133,null,{"$f":"INDEX(CC24:CY24,'Population Pyramid'!$L$1)","v":4518}]
["male",9,820,794,821,852,818,861,806,898,854,898,902,922,884,891,849,880,854,880,825,819,768,854,832,963,930,977,947,987,987,1034,1036,1023,null,9,8329,8357,8306,8273,8147,8104,7980,8204,8203,8275,8263,8194,8126,7923,7959,8167,8261,8404,8553,8661,8828,9066,9203,9293,9471,9519,9548,9549,9499,9387,9524,9616,null,"Males","45-49",null,{"$f":"SUM(C61:C65)","v":4272},4541,4645,4700,4637,4333,4112,4030,3948,3993,4027,4158,4175,4246,4367,4513,4723,4954,5198,5301,5338,5349,5227,5173,5088,5090,4994,4877,4686,4634,4505,4437,null,{"$f":"INDEX(CC25:CY25,'Population Pyramid'!$L$1)","v":4686}]
["male",10,772,829,812,843,858,833,870,830,916,892,912,933,920,891,898,873,898,851,881,828,819,772,861,855,975,928,961,943,1004,991,1063,1061,null,10,9101,9186,9118,9116,9005,8937,8850,9034,9119,9167,9175,9127,9046,8814,8857,9040,9159,9255,9434,9489,9647,9838,10064,10148,10446,10447,10509,10492,10503,10378,10587,10677,null,"Males","50-54",null,{"$f":"SUM(C66:C70)","v":3290},3306,3462,3637,3847,4181,4423,4569,4601,4543,4240,4113,4051,3977,4013,4135,4268,4356,4425,4562,4687,4865,5097,5221,5417,5398,5492,5329,5282,5196,5263,5109,null,{"$f":"INDEX(CC26:CY26,'Population Pyramid'!$L$1)","v":5282}]
["male",11,787,763,816,809,837,849,823,875,844,935,890,926,931,926,893,897,909,910,864,877,849,822,774,870,865,980,936,963,941,1002,1014,1096,null,11,9888,9949,9934,9925,9842,9786,9673,9909,9963,10102,10065,10053,9977,9740,9750,9937,10068,10165,10298,10366,10496,10660,10838,11018,11311,11427,11445,11455,11444,11380,11601,11773,null,"Males","55-59",null,{"$f":"SUM(C71:C75)","v":2884},3048,3146,3163,3155,3247,3232,3400,3609,3847,4248,4460,4579,4609,4569,4232,4062,3992,3975,4053,4264,4337,4460,4542,4613,4733,4894,5099,5270,5395,5425,5463,null,{"$f":"INDEX(CC27:CY27,'Population Pyramid'!$L$1)","v":5270}]
["male",12,781,778,751,807,804,835,837,848,858,852,945,891,928,931,936,898,909,927,935,874,889,848,821,777,888,880,979,950,968,959,1016,1024,null,12,10669,10727,10685,10732,10646,10621,10510,10757,10821,10954,11010,10944,10905,10671,10686,10835,10977,11092,11233,11240,11385,11508,11659,11795,12199,12307,12424,12405,12412,12339,12617,12797,null,"Males","60-64",null,{"$f":"SUM(C76:C80)","v":2727},2696,2671,2750,2739,2760,2922,3031,3057,3114,3218,3229,3344,3514,3758,4161,4431,4515,4529,4525,4167,4043,4031,3987,4051,4224,4288,4344,4375,4511,4639,4792,null,{"$f":"INDEX(CC28:CY28,'Population Pyramid'!$L$1)","v":4375}]
["male",13,863,785,779,758,806,817,844,854,851,874,859,949,898,949,931,959,900,912,933,958,872,884,848,829,791,905,887,976,960,986,985,1033,null,13,11532,11512,11464,11490,11452,11438,11354,11611,11672,11828,11869,11893,11803,11620,11617,11794,11877,12004,12166,12198,12257,12392,12507,12624,12990,13212,13311,13381,13372,13325,13602,13830,null,"Males","65-69",null,{"$f":"SUM(C81:C85)","v":2444},2461,2460,2447,2475,2473,2443,2480,2564,2604,2622,2787,2863,2906,2951,3036,3070,3226,3419,3616,4061,4270,4351,4390,4412,4052,3885,3863,3788,3777,3934,4035,null,{"$f":"INDEX(CC29:CY29,'Population Pyramid'!$L$1)","v":3788}]
["male",14,732,863,782,781,757,806,817,850,854,850,864,880,951,900,946,928,976,911,902,935,967,865,892,845,837,805,916,886,977,973,989,997,null,14,12264,12375,12246,12271,12209,12244,12171,12461,12526,12678,12733,12773,12754,12520,12563,12722,12853,12915,13068,13133,13224,13257,13399,13469,13827,14017,14227,14267,14349,14298,14591,14827,null,"Males","70-74",null,{"$f":"SUM(C86:C90)","v":1963},2052,2120,2070,2040,2065,2076,2119,2164,2196,2229,2231,2243,2296,2324,2359,2488,2608,2666,2697,2799,2846,3013,3230,3406,3751,3953,3950,3964,3975,3650,3477,null,{"$f":"INDEX(CC30:CY30,'Population Pyramid'!$L$1)","v":3964}]
["male",15,733,729,857,779,775,755,800,829,850,863,848,857,873,948,900,949,940,993,911,909,944,980,864,896,848,842,817,917,891,997,979,993,null,15,12997,13104,13103,13050,12984,12999,12971,13290,13376,13541,13581,13630,13627,13468,13463,13671,13793,13908,13979,14042,14168,14237,14263,14365,14675,14859,15044,15184,15240,15295,15570,15820,null,"Males","75-79",null,{"$f":"SUM(C91:C95)","v":1456},1344,1300,1387,1446,1504,1582,1610,1592,1582,1646,1670,1667,1702,1781,1795,1776,1817,1874,1913,1981,2128,2262,2297,2359,2464,2485,2593,2711,2835,3148,3313,null,{"$f":"INDEX(CC31:CY31,'Population Pyramid'!$L$1)","v":2711}]
["male",16,769,727,716,849,769,773,750,818,837,878,844,858,847,867,946,912,962,943,987,932,916,938,959,863,904,854,847,822,913,892,1003,978,null,16,13766,13831,13819,13899,13753,13772,13721,14108,14213,14419,14425,14488,14474,14335,14409,14583,14755,14851,14966,14974,15084,15175,15222,15228,15579,15713,15891,16006,16153,16187,16573,16798,null,"Males","80-84",null,{"$f":"SUM(C96:C100)","v":786},863,880,889,907,901,851,838,901,943,979,1045,1087,1071,1063,1105,1155,1171,1246,1302,1320,1342,1343,1429,1486,1537,1640,1718,1737,1726,1785,1845,null,{"$f":"INDEX(CC32:CY32,'Population Pyramid'!$L$1)","v":1737}]
["male",17,711,745,716,707,842,760,754,734,801,822,870,845,838,835,883,941,906,964,925,966,918,899,940,952,884,892,843,834,833,912,894,999,null,17,14477,14576,14535,14606,14595,14532,14475,14842,15014,15241,15295,15333,15312,15170,15292,15524,15661,15815,15891,15940,16002,16074,16162,16180,16463,16605,16734,16840,16986,17099,17467,17797,null,"Males","85+",null,{"$f":"SUM(C101:C106)","v":430},450,464,506,512,489,536,554,577,572,582,594,604,652,693,725,760,774,804,840,898,940,1004,1043,1106,1127,1140,1183,1217,1242,1262,1294,null,{"$f":"INDEX(CC33:CY33,'Population Pyramid'!$L$1)","v":1217}]
["male",18,811,730,737,685,667,794,739,739,715,759,792,838,801,808,811,871,927,885,938,916,933,922,888,935,931,864,883,824,820,812,890,876,null,18,15288,15306,15272,15291,15262,15326,15214,15581,15729,16000,16087,16171,16113,15978,16103,16395,16588,16700,16829,16856,16935,16996,17050,17115,17394,17469,17617,17664,17806,17911,18357,18673]
["male",19,707,708,618,591,540,518,684,661,649,662,671,685,731,710,697,711,768,813,780,844,768,806,824,761,782,821,747,780,723,714,686,760,null,19,15995,16014,15890,15882,15802,15844,15898,16242,16378,16662,16758,16856,16844,16688,16800,17106,17356,17513,17609,17700,17703,17802,17874,17876,18176,18290,18364,18444,18529,18625,19043,19433,null,"Males","All Ages",null,{"$f":"C200","v":58888},59181,59143,59502,59394,59823,59930,60843,61672,62386,62973,63626,63945,64374,64740,65775,66767,67414,68238,68906,69441,70152,70958,71775,72928,73694,74472,75071,75673,76674,77871,78670,null,{"$f":"INDEX(CC35:CY35,'Population Pyramid'!$L$1)","v":75673}]
["male",20,799,684,620,541,508,479,499,719,626,601,606,603,627,681,660,671,691,724,787,724,804,805,787,785,740,769,796,748,765,700,701,672,null,20,16794,16698,16510,16423,16310,16323,16397,16961,17004,17263,17364,17459,17471,17369,17460,17777,18047,18237,18396,18424,18507,18607,18661,18661,18916,19059,19160,19192,19294,19325,19744,20105,null,"Females","0-4",null,{"$f":"SUM(C109:C113)","v":3985},3937,3940,3928,3856,3893,3771,3883,3901,3843,3788,3719,3661,3665,3651,3781,3897,3992,4128,4218,4298,4353,4346,4335,4354,4342,4287,4356,4341,4354,4373,4367,null,{"$f":"INDEX(CC36:CY36,'Population Pyramid'!$L$1)","v":4341}]
["male",21,798,839,649,642,559,584,526,546,737,706,634,639,616,667,705,695,711,714,789,828,774,848,839,813,834,792,774,849,747,784,705,690,null,21,17592,17537,17159,17065,16869,16907,16923,17507,17741,17969,17998,18098,18087,18036,18165,18472,18758,18951,19185,19252,19281,19455,19500,19474,19750,19851,19934,20041,20041,20109,20449,20795,null,"Females","5-9",null,{"$f":"SUM(C114:C118)","v":3814},3893,3988,4036,4055,4029,4033,4060,4100,4136,4211,4169,4177,4108,4009,3948,3923,3819,3857,3904,3987,4106,4173,4308,4461,4589,4606,4584,4565,4578,4706,4782,null,{"$f":"INDEX(CC37:CY37,'Population Pyramid'!$L$1)","v":4565}]
["male",22,786,821,831,715,701,670,660,551,593,731,745,634,674,654,688,762,727,714,773,825,869,800,904,907,870,866,831,812,858,800,827,723,null,22,18378,18358,17990,17780,17570,17577,17583,18058,18334,18700,18743,18732,18761,18690,18853,19234,19485,19665,19958,20077,20150,20255,20404,20381,20620,20717,20765,20853,20899,20909,21276,21518,null,"Females","10-14",null,{"$f":"SUM(C119:C123)","v":3756},3872,3828,3823,3811,3870,3955,4082,4152,4242,4244,4355,4323,4316,4313,4360,4327,4386,4375,4310,4201,4073,4019,4041,4052,4128,4297,4366,4563,4668,4816,4901,null,{"$f":"INDEX(CC38:CY38,'Population Pyramid'!$L$1)","v":4563}]
["male",23,877,812,856,906,776,796,710,610,590,647,736,746,653,695,694,738,793,763,769,808,847,893,843,974,954,945,922,876,861,879,877,859,null,23,19255,19170,18846,18686,18346,18373,18293,18668,18924,19347,19479,19478,19414,19385,19547,19972,20278,20428,20727,20885,20997,21148,21247,21355,21574,21662,21687,21729,21760,21788,22153,22377,null,"Females","15-19",null,{"$f":"SUM(C124:C128)","v":3568},3428,3389,3374,3390,3488,3650,3607,3657,3723,3780,3863,3977,4040,4112,4141,4297,4218,4189,4238,4251,4256,4279,4231,4152,4066,3960,3943,3940,4005,4013,4159,null,{"$f":"INDEX(CC39:CY39,'Population Pyramid'!$L$1)","v":3940}]
["male",24,837,853,874,886,899,836,805,684,634,651,635,733,748,678,701,735,788,806,816,808,799,850,943,901,954,938,925,919,896,877,890,875,null,24,20092,20023,19720,19572,19245,19209,19098,19352,19558,19998,20114,20211,20162,20063,20248,20707,21066,21234,21543,21693,21796,21998,22190,22256,22528,22600,22612,22648,22656,22665,23043,23252,null,"Females","20-24",null,{"$f":"SUM(C129:C133)","v":3936},3930,3644,3580,3338,3214,3037,2928,2978,3136,3184,3241,3221,3279,3377,3471,3587,3705,3749,3810,3744,3819,3869,3871,3949,3974,3958,3900,3875,3858,3779,3621,null,{"$f":"INDEX(CC40:CY40,'Population Pyramid'!$L$1)","v":3875}]
["male",25,852,821,880,856,870,892,813,746,698,676,625,628,739,747,699,754,743,775,810,832,817,797,856,955,898,964,953,963,884,898,941,898,null,25,20944,20844,20600,20428,20115,20101,19911,20098,20256,20674,20739,20839,20901,20810,20947,21461,21809,22009,22353,22525,22613,22795,23046,23211,23426,23564,23565,23611,23540,23563,23984,24150,null,"Females","25-29",null,{"$f":"SUM(C134:C138)","v":4406},4341,4312,4295,4262,4225,4043,4077,4015,3749,3622,3490,3460,3437,3513,3756,3961,4035,4187,4158,4082,4134,4210,4315,4486,4616,4702,4760,4678,4628,4691,4639,null,{"$f":"INDEX(CC41:CY41,'Population Pyramid'!$L$1)","v":4678}]
["male",26,875,826,845,891,869,878,883,788,758,692,679,616,615,724,787,745,773,739,819,813,835,789,800,887,969,917,972,978,979,881,938,950,null,26,21819,21670,21445,21319,20984,20979,20794,20886,21014,21366,21418,21455,21516,21534,21734,22206,22582,22748,23172,23338,23448,23584,23846,24098,24395,24481,24537,24589,24519,24444,24922,25100,null,"Females","30-34",null,{"$f":"SUM(C139:C143)","v":4191},4281,4390,4425,4443,4461,4477,4602,4559,4604,4558,4564,4383,4268,4004,3959,3807,3815,3907,4053,4237,4375,4390,4525,4659,4662,4830,4999,5093,5278,5392,5437,null,{"$f":"INDEX(CC42:CY42,'Population Pyramid'!$L$1)","v":5093}]
["male",27,904,869,833,855,879,874,878,861,760,708,680,674,606,602,725,791,746,777,752,819,821,848,829,855,924,980,951,973,982,990,897,930,null,27,22723,22539,22278,22174,21863,21853,21672,21747,21774,22074,22098,22129,22122,22136,22459,22997,23328,23525,23924,24157,24269,24432,24675,24953,25319,25461,25488,25562,25501,25434,25819,26030,null,"Females","35-39",null,{"$f":"SUM(C144:C148)","v":3797},3827,3861,4048,4087,4194,4275,4483,4663,4850,4930,5046,5040,4907,4869,4842,4790,4609,4428,4253,4164,4012,4071,4171,4349,4597,4801,4839,4965,5063,5174,5413,null,{"$f":"INDEX(CC43:CY43,'Population Pyramid'!$L$1)","v":4965}]
["male",28,937,906,882,859,853,899,883,801,847,769,706,695,691,606,600,759,803,762,800,767,830,822,851,854,889,941,986,964,972,983,1019,909,null,28,23660,23445,23160,23033,22716,22752,22555,22548,22621,22843,22804,22824,22813,22742,23059,23756,24131,24287,24724,24924,25099,25254,25526,25807,26208,26402,26474,26526,26473,26417,26838,26939,null,"Females","40-44",null,{"$f":"SUM(C149:C153)","v":4272},4081,3902,3750,3753,3784,3799,3902,4068,4168,4372,4548,4704,4934,5086,5178,5272,5258,5191,5095,4984,4927,4806,4658,4564,4442,4296,4322,4454,4672,4932,5169,null,{"$f":"INDEX(CC44:CY44,'Population Pyramid'!$L$1)","v":4454}]
["male",29,898,924,898,904,857,871,892,844,832,835,810,716,690,703,603,610,765,805,782,793,803,821,837,874,893,919,983,1027,970,1001,1011,990,null,29,24558,24369,24058,23937,23573,23623,23447,23392,23453,23678,23614,23540,23503,23445,23662,24366,24896,25092,25506,25717,25902,26075,26363,26681,27101,27321,27457,27553,27443,27418,27849,27929,null,"Females","45-49",null,{"$f":"SUM(C154:C158)","v":4286},4524,4625,4668,4593,4277,4060,3896,3808,3835,3878,3949,4048,4228,4303,4513,4690,4921,5074,5262,5333,5354,5327,5260,5241,5158,5101,4959,4795,4719,4643,4564,null,{"$f":"INDEX(CC45:CY45,'Population Pyramid'!$L$1)","v":4795}]
["male",30,882,912,975,933,926,887,913,886,858,833,843,792,731,714,703,643,632,788,804,795,778,828,859,849,904,916,926,1029,1025,985,1047,1047,null,30,25440,25281,25033,24870,24499,24510,24360,24278,24311,24511,24457,24332,24234,24159,24365,25009,25528,25880,26310,26512,26680,26903,27222,27530,28005,28237,28383,28582,28468,28403,28896,28976,null,"Females","50-54",null,{"$f":"SUM(C159:C163)","v":3073},3197,3348,3539,3766,4212,4447,4565,4642,4625,4342,4139,4038,3892,3928,3932,4055,4154,4377,4484,4685,4803,5040,5176,5368,5411,5481,5443,5371,5334,5333,5301,null,{"$f":"INDEX(CC46:CY46,'Population Pyramid'!$L$1)","v":5371}]
["male",31,894,878,903,962,917,932,879,884,892,888,826,846,806,741,712,732,658,643,823,814,809,810,831,883,889,938,946,940,1052,1085,1012,1043,null,31,26334,26159,25936,25832,25416,25442,25239,25162,25203,25399,25283,25178,25040,24900,25077,25741,26186,26523,27133,27326,27489,27713,28053,28413,28894,29175,29329,29522,29520,29488,29908,30019,null,"Females","55-59",null,{"$f":"SUM(C164:C168)","v":2771},2845,2937,2988,2985,3036,3156,3367,3583,3843,4295,4523,4609,4645,4643,4343,4140,4023,3935,3978,3992,4122,4254,4466,4620,4760,4942,5155,5304,5430,5521,5564,null,{"$f":"INDEX(CC47:CY47,'Population Pyramid'!$L$1)","v":5304}]
["male",32,786,882,868,912,962,923,939,880,905,897,886,850,859,806,749,715,747,673,652,819,832,820,841,840,908,909,956,1018,989,1079,1103,1054,null,32,27120,27041,26804,26744,26378,26365,26178,26042,26108,26296,26169,26028,25899,25706,25826,26456,26933,27196,27785,28145,28321,28533,28894,29253,29802,30084,30285,30540,30509,30567,31011,31073,null,"Females","60-64",null,{"$f":"SUM(C169:C173)","v":2838},2793,2740,2722,2693,2703,2792,2933,3021,3090,3126,3256,3418,3652,3821,4281,4505,4642,4658,4638,4338,4167,4067,3977,3992,4046,4137,4190,4402,4531,4742,4866,null,{"$f":"INDEX(CC48:CY48,'Population Pyramid'!$L$1)","v":4402}]
["male",33,837,778,884,907,915,989,950,936,909,918,919,891,860,849,811,768,726,766,688,656,828,844,867,859,887,926,938,989,1002,1000,1063,1083,null,33,{"$f":"AK48+C49","v":27957},{"$f":"AL48+D49","v":27819},{"$f":"AM48+E49","v":27688},{"$f":"AN48+F49","v":27651},{"$f":"AO48+G49","v":27293},{"$f":"AP48+H49","v":27354},{"$f":"AQ48+I49","v":27128},{"$f":"AR48+J49","v":26978},{"$f":"AS48+K49","v":27017},{"$f":"AT48+L49","v":27214},{"$f":"AU48+M49","v":27088},{"$f":"AV48+N49","v":26919},{"$f":"AW48+O49","v":26759},{"$f":"AX48+P49","v":26555},{"$f":"AY48+Q49","v":26637},{"$f":"AZ48+R49","v":27224},{"$f":"BA48+S49","v":27659},{"$f":"BB48+T49","v":27962},{"$f":"BC48+U49","v":28473},{"$f":"BD48+V49","v":28801},{"$f":"BE48+W49","v":29149},{"$f":"BF48+X49","v":29377},{"$f":"BG48+Y49","v":29761},{"$f":"BH48+Z49","v":30112},{"$f":"BI48+AA49","v":30689},{"$f":"BJ48+AB49","v":31010},{"$f":"BK48+AC49","v":31223},{"$f":"BL48+AD49","v":31529},{"$f":"BM48+AE49","v":31511},{"$f":"BN48+AF49","v":31567},{"$f":"BO48+AG49","v":32074},32156,null,"Females","65-69",null,{"$f":"SUM(C174:C178)","v":2795},2733,2712,2735,2766,2752,2720,2679,2677,2657,2717,2809,2893,2954,2990,3037,3155,3335,3559,3733,4218,4459,4595,4632,4635,4286,4087,3929,3817,3853,3907,4026,null,{"$f":"INDEX(CC49:CY49,'Population Pyramid'!$L$1)","v":3817}]
["male",34,790,839,792,877,901,900,984,990,970,929,914,934,900,855,876,820,785,709,784,681,684,852,892,889,882,922,949,984,997,1026,1006,1021,null,34,28747,28658,28480,28528,28194,28254,28112,27968,27987,28143,28002,27853,27659,27410,27513,28044,28444,28671,29257,29482,29833,30229,30653,31001,31571,31932,32172,32513,32508,32593,33080,33177,null,"Females","70-74",null,{"$f":"SUM(C179:C183)","v":2555},2724,2801,2675,2582,2546,2518,2506,2517,2542,2546,2527,2538,2524,2535,2561,2652,2741,2787,2821,2891,2990,3185,3417,3556,4014,4230,4344,4370,4369,4007,3763,null,{"$f":"INDEX(CC50:CY50,'Population Pyramid'!$L$1)","v":4370}]
["male",35,829,792,864,811,884,928,932,1006,1003,991,949,939,934,911,884,900,824,798,735,797,689,709,855,890,887,908,942,986,996,1036,1012,1000,null,35,29576,29450,29344,29339,29078,29182,29044,28974,28990,29134,28951,28792,28593,28321,28397,28944,29268,29469,29992,30279,30522,30938,31508,31891,32458,32840,33114,33499,33504,33629,34092,34177,null,"Females","75-79",null,{"$f":"SUM(C184:C188)","v":2125},2014,1944,2048,2128,2199,2339,2375,2310,2214,2184,2190,2176,2218,2220,2235,2232,2248,2232,2269,2297,2397,2488,2540,2552,2611,2710,2871,2999,3119,3550,3734,null,{"$f":"INDEX(CC51:CY51,'Population Pyramid'!$L$1)","v":2999}]
["male",36,810,831,802,862,820,887,952,940,1036,1009,1006,985,954,929,914,905,933,826,827,743,824,698,736,905,924,923,914,956,955,1003,1073,1048,null,36,30386,30281,30146,30201,29898,30069,29996,29914,30026,30143,29957,29777,29547,29250,29311,29849,30201,30295,30819,31022,31346,31636,32244,32796,33382,33763,34028,34455,34459,34632,35165,35225,null,"Females","80-84",null,{"$f":"SUM(C189:C193)","v":1501},1538,1552,1604,1641,1647,1539,1468,1564,1632,1715,1796,1841,1786,1728,1743,1749,1731,1774,1818,1840,1895,1867,1849,1879,1917,1961,2031,2098,2128,2140,2220,null,{"$f":"INDEX(CC52:CY52,'Population Pyramid'!$L$1)","v":2098}]
["male",37,749,791,807,792,842,817,878,935,961,1044,1038,1034,983,952,925,931,913,932,852,849,757,833,717,744,922,969,955,940,964,971,1007,1089,null,37,31135,31072,30953,30993,30740,30886,30874,30849,30987,31187,30995,30811,30530,30202,30236,30780,31114,31227,31671,31871,32103,32469,32961,33540,34304,34732,34983,35395,35423,35603,36172,36314,null,"Females","85+",null,{"$f":"SUM(C194:C199)","v":1219},1223,1230,1264,1245,1293,1319,1430,1457,1497,1481,1442,1438,1521,1638,1694,1728,1782,1831,1864,1899,1910,1972,2003,2059,2075,2086,2080,2043,2087,2152,2144,null,{"$f":"INDEX(CC53:CY53,'Population Pyramid'!$L$1)","v":2043}]
["male",38,771,744,784,809,785,849,821,886,940,963,1065,1035,1020,990,986,942,921,914,964,846,855,770,840,743,785,936,1017,978,958,997,1003,1014,null,38,31906,31816,31737,31802,31525,31735,31695,31735,31927,32150,32060,31846,31550,31192,31222,31722,32035,32141,32635,32717,32958,33239,33801,34283,35089,35668,36000,36373,36381,36600,37175,37328]
["male",39,753,743,728,763,786,787,847,827,899,942,979,1071,1051,1037,990,996,956,921,945,969,868,886,776,824,757,803,977,1009,982,993,1004,997,null,39,32659,32559,32465,32565,32311,32522,32542,32562,32826,33092,33039,32917,32601,32229,32212,32718,32991,33062,33580,33686,33826,34125,34577,35107,35846,36471,36977,37382,37363,37593,38179,38325]
["male",40,733,760,760,747,781,810,815,833,849,912,938,977,1072,1041,1023,990,1014,982,904,949,966,884,881,796,840,779,798,995,1010,970,1036,1025,null,40,33392,33319,33225,33312,33092,33332,33357,33395,33675,34004,33977,33894,33673,33270,33235,33708,34005,34044,34484,34635,34792,35009,35458,35903,36686,37250,37775,38377,38373,38563,39215,39350]
["male",41,828,744,772,776,746,798,822,801,852,853,902,929,994,1047,1036,1032,1020,1027,1002,896,967,967,905,877,843,856,802,802,995,1017,986,1039,null,41,34220,34063,33997,34088,33838,34130,34179,34196,34527,34857,34879,34823,34667,34317,34271,34740,35025,35071,35486,35531,35759,35976,36363,36780,37529,38106,38577,39179,39368,39580,40201,40389]
["male",42,904,853,765,794,787,773,823,821,808,845,846,922,915,1002,1070,1034,1036,1024,1034,989,928,962,976,915,887,843,871,820,827,1012,1032,994,null,42,35124,34916,34762,34882,34625,34903,35002,35017,35335,35702,35725,35745,35582,35319,35341,35774,36061,36095,36520,36520,36687,36938,37339,37695,38416,38949,39448,39999,40195,40592,41233,41383]
["male",43,920,896,853,781,796,801,788,798,813,825,856,839,915,944,1020,1085,1054,1045,1025,1060,997,935,962,981,933,870,844,862,818,844,1040,1039,null,43,36044,35812,35615,35663,35421,35704,35790,35815,36148,36527,36581,36584,36497,36263,36361,36859,37115,37140,37545,37580,37684,37873,38301,38676,39349,39819,40292,40861,41013,41436,42273,42422]
["male",44,995,915,892,838,764,788,796,790,805,816,827,851,835,906,948,1026,1105,1063,1061,1029,1054,990,945,960,969,957,865,865,868,817,843,1036,null,44,37039,36727,36507,36501,36185,36492,36586,36605,36953,37343,37408,37435,37332,37169,37309,37885,38220,38203,38606,38609,38738,38863,39246,39636,40318,40776,41157,41726,41881,42253,43116,43458]
["male",45,1111,1008,928,897,839,782,796,813,796,829,803,845,852,845,936,968,1046,1099,1077,1079,1019,1065,989,958,981,975,975,888,846,882,847,868,null,45,38150,37735,37435,37398,37024,37274,37382,37418,37749,38172,38211,38280,38184,38014,38245,38853,39266,39302,39683,39688,39757,39928,40235,40594,41299,41751,42132,42614,42727,43135,43963,44326]
["male",46,820,1086,989,912,874,823,760,766,816,807,812,825,834,869,854,958,968,1050,1107,1064,1086,1035,1079,990,969,1002,994,972,885,868,927,871,null,46,38970,38821,38424,38310,37898,38097,38142,38184,38565,38979,39023,39105,39018,38883,39099,39811,40234,40352,40790,40752,40843,40963,41314,41584,42268,42753,43126,43586,43612,44003,44890,45197]
["male",47,829,829,1081,993,909,865,808,764,760,826,803,832,845,842,871,854,964,970,1059,1107,1062,1089,1023,1096,998,976,999,1019,944,871,864,930,null,47,39799,39650,39505,39303,38807,38962,38950,38948,39325,39805,39826,39937,39863,39725,39970,40665,41198,41322,41849,41859,41905,42052,42337,42680,43266,43729,44125,44605,44556,44874,45754,46127]
["male",48,803,822,829,1070,963,903,848,820,764,764,829,815,835,849,848,871,864,963,994,1037,1121,1034,1091,1031,1097,1024,995,999,1017,983,861,881,null,48,40602,40472,40334,40373,39770,39865,39798,39768,40089,40569,40655,40752,40698,40574,40818,41536,42062,42285,42843,42896,43026,43086,43428,43711,44363,44753,45120,45604,45573,45857,46615,47008]
["male",49,709,796,818,828,1052,960,900,867,812,767,780,841,809,841,858,862,881,872,961,1014,1050,1126,1045,1098,1043,1113,1031,999,994,1030,1006,887,null,49,41311,41268,41152,41201,40822,40825,40698,40635,40901,41336,41435,41593,41507,41415,41676,42398,42943,43157,43804,43910,44076,44212,44473,44809,45406,45866,46151,46603,46567,46887,47621,47895]
["male",50,699,717,797,827,842,1041,961,888,878,804,752,773,842,820,826,871,881,881,903,980,1019,1040,1110,1052,1105,1043,1103,1028,1004,1009,1039,1003,null,50,42010,41985,41949,42028,41664,41866,41659,41523,41779,42140,42187,42366,42349,42235,42502,43269,43824,44038,44707,44890,45095,45252,45583,45861,46511,46909,47254,47631,47571,47896,48660,48898]
["male",51,626,695,711,788,819,839,1033,952,899,870,791,753,769,838,829,832,893,887,886,911,971,1019,1046,1115,1065,1097,1044,1103,1035,1018,1001,1019,null,51,42636,42680,42660,42816,42483,42705,42692,42475,42678,43010,42978,43119,43118,43073,43331,44101,44717,44925,45593,45801,46066,46271,46629,46976,47576,48006,48298,48734,48606,48914,49661,49917]
["male",52,634,627,693,713,789,815,840,1041,946,906,847,798,749,782,838,833,838,895,884,893,911,974,1016,1035,1136,1071,1102,1034,1107,1045,1027,1014,null,52,43270,43307,43353,43529,43272,43520,43532,43516,43624,43916,43825,43917,43867,43855,44169,44934,45555,45820,46477,46694,46977,47245,47645,48011,48712,49077,49400,49768,49713,49959,50688,50931]
["male",53,636,633,627,684,715,777,818,855,1029,935,912,864,807,741,776,826,835,852,893,877,900,930,984,1043,1055,1137,1090,1098,1041,1090,1058,1022,null,53,43906,43940,43980,44213,43987,44297,44350,44371,44653,44851,44737,44781,44674,44596,44945,45760,46390,46672,47370,47571,47877,48175,48629,49054,49767,50214,50490,50866,50754,51049,51746,51953]
["male",54,695,634,634,625,682,709,771,833,849,1028,938,925,884,796,744,773,821,841,859,901,886,902,941,976,1056,1050,1153,1066,1095,1034,1138,1051,null,54,44601,44574,44614,44838,44669,45006,45121,45204,45502,45879,45675,45706,45558,45392,45689,46533,47211,47513,48229,48472,48763,49077,49570,50030,50823,51264,51643,51932,51849,52083,52884,53004]
["male",55,601,699,637,639,623,686,707,777,835,873,1026,942,917,875,794,731,795,837,839,861,912,880,912,928,978,1029,1051,1168,1064,1102,1024,1120,null,55,45202,45273,45251,45477,45292,45692,45828,45981,46337,46752,46701,46648,46475,46267,46483,47264,48006,48350,49068,49333,49675,49957,50482,50958,51801,52293,52694,53100,52913,53185,53908,54124]
["male",56,614,594,690,629,625,618,668,714,777,839,895,1026,942,899,874,803,713,791,827,834,867,912,903,914,917,984,1014,1039,1167,1082,1127,1054,null,56,45816,45867,45941,46106,45917,46310,46496,46695,47114,47591,47596,47674,47417,47166,47357,48067,48719,49141,49895,50167,50542,50869,51385,51872,52718,53277,53708,54139,54080,54267,55035,55178]
["male",57,622,611,588,694,628,624,616,684,701,770,839,873,1037,938,901,864,807,700,790,842,834,877,912,885,904,920,988,1022,1036,1160,1070,1101,null,57,46438,46478,46529,46800,46545,46934,47112,47379,47815,48361,48435,48547,48454,48104,48258,48931,49526,49841,50685,51009,51376,51746,52297,52757,53622,54197,54696,55161,55116,55427,56105,56279]
["male",58,517,619,611,586,688,627,614,608,686,697,785,833,857,1046,950,891,856,810,698,802,850,818,907,914,890,912,916,973,1024,1055,1161,1053,null,58,46955,47097,47140,47386,47233,47561,47726,47987,48501,49058,49220,49380,49311,49150,49208,49822,50382,50651,51383,51811,52226,52564,53204,53671,54512,55109,55612,56134,56140,56482,57266,57332]
["male",59,530,525,620,615,591,692,627,617,610,668,703,786,826,851,1050,943,891,854,821,714,801,850,826,901,924,888,925,897,979,996,1043,1135,null,59,47485,47622,47760,48001,47824,48253,48353,48604,49111,49726,49923,50166,50137,50001,50258,50765,51273,51505,52204,52525,53027,53414,54030,54572,55436,55997,56537,57031,57119,57478,58309,58467]
["male",60,567,515,511,604,595,576,675,633,618,619,667,686,779,820,847,1046,954,897,850,816,718,788,857,818,896,906,879,922,881,977,996,1047,null,60,48052,48137,48271,48605,48419,48829,49028,49237,49729,50345,50590,50852,50916,50821,51105,51811,52227,52402,53054,53341,53745,54202,54887,55390,56332,56903,57416,57953,58000,58455,59305,59514]
["male",61,589,566,512,517,602,595,577,671,637,626,628,658,680,774,824,844,1054,950,887,833,827,728,780,846,825,890,898,869,904,874,966,979,null,61,48641,48703,48783,49122,49021,49424,49605,49908,50366,50971,51218,51510,51596,51595,51929,52655,53281,53352,53941,54174,54572,54930,55667,56236,57157,57793,58314,58822,58904,59329,60271,60493]
["male",62,525,588,562,512,516,593,590,579,663,639,624,630,650,675,782,817,833,1051,937,887,827,825,723,769,833,832,873,896,857,902,887,977,null,62,49166,49291,49345,49634,49537,50017,50195,50487,51029,51610,51842,52140,52246,52270,52711,53472,54114,54403,54878,55061,55399,55755,56390,57005,57990,58625,59187,59718,59761,60231,61158,61470]
["male",63,512,521,580,545,496,504,581,574,568,660,632,619,621,642,674,782,813,816,1059,927,879,829,831,726,776,820,815,855,890,867,910,885,null,63,49678,49812,49925,50179,50033,50521,50776,51061,51597,52270,52474,52759,52867,52912,53385,54254,54927,55219,55937,55988,56278,56584,57221,57731,58766,59445,60002,60573,60651,61098,62068,62355]
["male",64,534,506,506,572,530,492,499,574,571,570,667,636,614,603,631,672,777,801,796,1062,916,873,840,828,721,776,823,802,843,891,880,904,null,64,50212,50318,50431,50751,50563,51013,51275,51635,52168,52840,53141,53395,53481,53515,54016,54926,55704,56020,56733,57050,57194,57457,58061,58559,59487,60221,60825,61375,61494,61989,62948,63259]
["male",65,530,531,502,508,552,526,485,500,579,566,565,649,624,611,600,628,665,776,804,789,1052,913,869,841,825,704,765,825,798,815,878,861,null,65,{"$f":"AK80+C81","v":50742},{"$f":"AL80+D81","v":50849},{"$f":"AM80+E81","v":50933},{"$f":"AN80+F81","v":51259},{"$f":"AO80+G81","v":51115},{"$f":"AP80+H81","v":51539},{"$f":"AQ80+I81","v":51760},{"$f":"AR80+J81","v":52135},{"$f":"AS80+K81","v":52747},{"$f":"AT80+L81","v":53406},{"$f":"AU80+M81","v":53706},{"$f":"AV80+N81","v":54044},{"$f":"AW80+O81","v":54105},{"$f":"AX80+P81","v":54126},{"$f":"AY80+Q81","v":54616},{"$f":"AZ80+R81","v":55554},{"$f":"BA80+S81","v":56369},{"$f":"BB80+T81","v":56796},{"$f":"BC80+U81","v":57537},{"$f":"BD80+V81","v":57839},{"$f":"BE80+W81","v":58246},{"$f":"BF80+X81","v":58370},{"$f":"BG80+Y81","v":58930},{"$f":"BH80+Z81","v":59400},{"$f":"BI80+AA81","v":60312},{"$f":"BJ80+AB81","v":60925},{"$f":"BK80+AC81","v":61590},{"$f":"BL80+AD81","v":62200},{"$f":"BM80+AE81","v":62292},{"$f":"BN80+AF81","v":62804},{"$f":"BO80+AG81","v":63826},64120]
["male",66,509,525,512,489,494,538,520,477,495,569,555,558,626,621,608,589,619,670,775,794,791,1045,911,857,838,809,695,753,796,773,815,870,null,66,51251,51374,51445,51748,51609,52077,52280,52612,53242,53975,54261,54602,54731,54747,55224,56143,56988,57466,58312,58633,59037,59415,59841,60257,61150,61734,62285,62953,63088,63577,64641,64990]
["male",67,488,499,507,494,470,486,521,515,477,499,557,550,539,616,617,609,579,617,664,766,803,768,1035,907,838,822,805,684,749,781,772,804,null,67,51739,51873,51952,52242,52079,52563,52801,53127,53719,54474,54818,55152,55270,55363,55841,56752,57567,58083,58976,59399,59840,60183,60876,61164,61988,62556,63090,63637,63837,64358,65413,65794]
["male",68,448,469,479,494,482,453,477,516,507,469,489,550,539,532,602,607,609,570,616,660,767,786,758,1031,887,830,808,796,676,728,771,747,null,68,52187,52342,52431,52736,52561,53016,53278,53643,54226,54943,55307,55702,55809,55895,56443,57359,58176,58653,59592,60059,60607,60969,61634,62195,62875,63386,63898,64433,64513,65086,66184,66541]
["male",69,469,437,460,462,477,470,440,472,506,501,456,480,535,526,524,603,598,593,560,607,648,758,778,754,1024,887,812,805,769,680,698,753,null,69,52656,52779,52891,53198,53038,53486,53718,54115,54732,55444,55763,56182,56344,56421,56967,57962,58774,59246,60152,60666,61255,61727,62412,62949,63899,64273,64710,65238,65282,65766,66882,67294]
["male",70,440,454,432,442,453,460,457,439,472,496,488,453,468,523,511,517,588,599,581,541,595,627,761,767,744,993,870,792,787,765,666,691,null,70,53096,53233,53323,53640,53491,53946,54175,54554,55204,55940,56251,56635,56812,56944,57478,58479,59362,59845,60733,61207,61850,62354,63173,63716,64643,65266,65580,66030,66069,66531,67548,67985]
["male",71,472,416,427,420,421,442,447,447,432,458,484,478,449,455,525,499,496,575,592,568,520,589,625,747,758,728,974,850,764,761,750,649,null,71,53568,53649,53750,54060,53912,54388,54622,55001,55636,56398,56735,57113,57261,57399,58003,58978,59858,60420,61325,61775,62370,62943,63798,64463,65401,65994,66554,66880,66833,67292,68298,68634]
["male",72,472,452,404,408,407,411,423,453,434,414,445,472,461,440,444,509,484,481,568,581,558,510,584,619,733,721,709,937,835,744,740,737,null,72,54040,54101,54154,54468,54319,54799,55045,55454,56070,56812,57180,57585,57722,57839,58447,59487,60342,60901,61893,62356,62928,63453,64382,65082,66134,66715,67263,67817,67668,68036,69038,69371]
["male",73,309,445,435,398,390,389,397,403,432,417,406,433,449,443,421,433,494,471,471,553,575,554,514,585,605,720,704,685,922,821,715,717,null,73,54349,54546,54589,54866,54709,55188,55442,55857,56502,57229,57586,58018,58171,58282,58868,59920,60836,61372,62364,62909,63503,64007,64896,65667,66739,67435,67967,68502,68590,68857,69753,70088]
["male",74,270,285,422,402,369,363,352,377,394,411,406,395,416,435,423,401,426,482,454,454,551,566,529,512,566,589,696,686,656,884,779,683,null,74,54619,54831,55011,55268,55078,55551,55794,56234,56896,57640,57992,58413,58587,58717,59291,60321,61262,61854,62818,63363,64054,64573,65425,66179,67305,68024,68663,69188,69246,69741,70532,70771]
["male",75,291,252,270,403,386,351,351,345,356,369,395,386,377,394,416,397,377,406,458,441,443,534,553,513,498,542,563,661,640,630,853,756,null,75,54910,55083,55281,55671,55464,55902,56145,56579,57252,58009,58387,58799,58964,59111,59707,60718,61639,62260,63276,63804,64497,65107,65978,66692,67803,68566,69226,69849,69886,70371,71385,71527]
["male",76,306,269,232,252,379,368,329,333,329,336,351,366,361,360,371,403,374,353,394,442,435,427,504,535,508,488,528,544,642,614,625,824,null,76,55216,55352,55513,55923,55843,56270,56474,56912,57581,58345,58738,59165,59325,59471,60078,61121,62013,62613,63670,64246,64932,65534,66482,67227,68311,69054,69754,70393,70528,70985,72010,72351]
["male",77,298,293,260,225,247,350,359,304,318,308,322,327,350,343,344,358,376,365,339,379,424,418,413,483,515,484,463,513,528,621,588,597,null,77,55514,55645,55773,56148,56090,56620,56833,57216,57899,58653,59060,59492,59675,59814,60422,61479,62389,62978,64009,64625,65356,65952,66895,67710,68826,69538,70217,70906,71056,71606,72598,72948]
["male",78,272,275,284,243,216,238,324,326,287,302,296,307,301,339,335,329,343,361,342,327,361,403,402,389,466,498,464,438,486,511,591,570,null,78,55786,55920,56057,56391,56306,56858,57157,57542,58186,58955,59356,59799,59976,60153,60757,61808,62732,63339,64351,64952,65717,66355,67297,68099,69292,70036,70681,71344,71542,72117,73189,73518]
["male",79,289,255,254,264,218,197,219,302,302,267,282,284,278,266,315,308,306,332,341,324,318,346,390,377,372,452,467,437,415,459,491,566,null,79,56075,56175,56311,56655,56524,57055,57376,57844,58488,59222,59638,60083,60254,60419,61072,62116,63038,63671,64692,65276,66035,66701,67687,68476,69664,70488,71148,71781,71957,72576,73680,74084]
["male",80,206,270,234,224,237,199,184,207,278,270,245,257,266,258,253,294,289,282,306,317,304,306,327,375,362,353,424,438,420,391,433,460,null,80,56281,56445,56545,56879,56761,57254,57560,58051,58766,59492,59883,60340,60520,60677,61325,62410,63327,63953,64998,65593,66339,67007,68014,68851,70026,70841,71572,72219,72377,72967,74113,74544]
["male",81,173,186,231,204,206,214,180,171,195,243,246,230,239,237,239,239,271,261,269,292,296,285,285,311,359,346,332,395,398,392,351,406,null,81,56454,56631,56776,57083,56967,57468,57740,58222,58961,59735,60129,60570,60759,60914,61564,62649,63598,64214,65267,65885,66635,67292,68299,69162,70385,71187,71904,72614,72775,73359,74464,74950]
["male",82,167,152,160,201,176,180,196,158,154,174,215,224,209,214,210,216,229,249,239,256,271,282,254,271,287,341,330,309,362,355,367,321,null,82,56621,56783,56936,57284,57143,57648,57936,58380,59115,59909,60344,60794,60968,61128,61774,62865,63827,64463,65506,66141,66906,67574,68553,69433,70672,71528,72234,72923,73137,73714,74831,75271]
["male",83,127,147,134,142,171,152,158,173,135,139,152,193,200,188,191,190,190,211,235,221,243,247,254,244,252,264,311,291,284,333,331,344,null,83,56748,56930,57070,57426,57314,57800,58094,58553,59250,60048,60496,60987,61168,61316,61965,63055,64017,64674,65741,66362,67149,67821,68807,69677,70924,71792,72545,73214,73421,74047,75162,75615]
["male",84,113,108,121,118,117,156,133,129,139,117,121,141,173,174,170,166,176,168,197,216,206,222,223,228,226,233,243,285,273,255,303,314,null,84,56861,57038,57191,57544,57431,57956,58227,58682,59389,60165,60617,61128,61341,61490,62135,63221,64193,64842,65938,66578,67355,68043,69030,69905,71150,72025,72788,73499,73694,74302,75465,75929]
["male",85,430,450,464,506,512,489,536,554,577,116,98,107,126,147,157,156,155,154,147,179,189,185,200,197,209,208,197,216,257,249,229,280,null,85,57291,57488,57655,58050,57943,58445,58763,59236,59966,60281,60715,61235,61467,61637,62292,63377,64348,64996,66085,66757,67544,68228,69230,70102,71359,72233,72985,73715,73951,74551,75694,76209]
["male",86,null,null,null,null,null,null,null,null,null,89,103,85,91,118,128,138,138,138,139,126,155,170,173,181,171,184,185,177,180,225,217,198,null,86,57291,57488,57655,58050,57943,58445,58763,59236,59966,60370,60818,61320,61558,61755,62420,63515,64486,65134,66224,66883,67699,68398,69403,70283,71530,72417,73170,73892,74131,74776,75911,76407]
["male",87,null,null,null,null,null,null,null,null,null,80,82,92,65,76,101,112,118,111,128,118,112,138,149,149,168,150,157,164,160,158,197,189,null,87,57291,57488,57655,58050,57943,58445,58763,59236,59966,60450,60900,61412,61623,61831,62521,63627,64604,65245,66352,67001,67811,68536,69552,70432,71698,72567,73327,74056,74291,74934,76108,76596]
["male",88,null,null,null,null,null,null,null,null,null,81,61,70,70,54,60,88,98,105,87,104,110,95,123,124,137,137,124,142,141,132,139,167,null,88,57291,57488,57655,58050,57943,58445,58763,59236,59966,60531,60961,61482,61693,61885,62581,63715,64702,65350,66439,67105,67921,68631,69675,70556,71835,72704,73451,74198,74432,75066,76247,76763]
["male",89,null,null,null,null,null,null,null,null,null,54,66,45,65,59,45,45,76,88,87,78,84,98,81,105,112,114,114,108,121,112,112,108,null,89,57291,57488,57655,58050,57943,58445,58763,59236,59966,60585,61027,61527,61758,61944,62626,63760,64778,65438,66526,67183,68005,68729,69756,70661,71947,72818,73565,74306,74553,75178,76359,76871]
["male","90+",null,null,null,null,null,null,null,null,null,152,172,195,187,198,202,186,175,178,216,235,248,254,278,287,309,334,363,376,358,366,368,352,null,"90+",57291,57488,57655,58050,57943,58445,58763,59236,59966,60737,61199,61722,61945,62142,62828,63946,64953,65616,66742,67418,68253,68983,70034,70948,72256,73152,73928,74682,74911,75544,76727,77223]
[null,"All Males",{"$f":"SUM(C16:C106)","v":57291},{"$f":"SUM(D16:D106)","v":57488},57655,58050,57943,58445,58763,59236,59966,60737,61199,61722,61945,62142,62828,63946,64953,65616,66742,67418,68253,68983,70034,70948,72256,73152,73928,{"$f":"SUM(AD16:AD106)","v":74682},{"$f":"SUM(AE16:AE106)","v":74911},{"$f":"SUM(AF16:AF106)","v":75544},{"$f":"SUM(AG16:AG106)","v":76727},{"$f":"SUM(AH16:AH106)","v":77223},null,"Females"]
["Sex","Age"]
["female",0,761,773,806,785,741,806,722,737,726,730,687,700,707,766,729,762,819,784,897,859,842,842,814,853,842,870,817,847,834,780,833,813,null,0,{"$f":"C109","v":761},773,806,785,741,806,722,737,726,730,687,700,707,766,729,762,819,784,897,859,842,842,814,853,842,870,817,847,834,780,833,813]
["female",1,782,754,794,776,761,723,777,764,774,735,744,695,706,701,774,758,776,827,801,889,874,856,853,823,872,848,871,831,876,852,799,851,null,1,{"$f":"AK109+C110","v":1543},{"$f":"AL109+D110","v":1527},{"$f":"AM109+E110","v":1600},{"$f":"AN109+F110","v":1561},{"$f":"AO109+G110","v":1502},{"$f":"AP109+H110","v":1529},{"$f":"AQ109+I110","v":1499},{"$f":"AR109+J110","v":1501},{"$f":"AS109+K110","v":1500},{"$f":"AT109+L110","v":1465},{"$f":"AU109+M110","v":1431},{"$f":"AV109+N110","v":1395},{"$f":"AW109+O110","v":1413},{"$f":"AX109+P110","v":1467},{"$f":"AY109+Q110","v":1503},{"$f":"AZ109+R110","v":1520},{"$f":"BA109+S110","v":1595},{"$f":"BB109+T110","v":1611},{"$f":"BC109+U110","v":1698},{"$f":"BD109+V110","v":1748},{"$f":"BE109+W110","v":1716},{"$f":"BF109+X110","v":1698},{"$f":"BG109+Y110","v":1667},{"$f":"BH109+Z110","v":1676},{"$f":"BI109+AA110","v":1714},{"$f":"BJ109+AB110","v":1718},{"$f":"BK109+AC110","v":1688},{"$f":"BL109+AD110","v":1678},{"$f":"BM109+AE110","v":1710},{"$f":"BN109+AF110","v":1632},{"$f":"BO109+AG110","v":1632},1664]
["female",2,785,788,754,804,770,769,720,828,788,772,751,761,706,720,710,786,773,795,826,809,908,889,857,877,842,884,855,902,849,930,871,812,null,2,2328,2315,2354,2365,2272,2298,2219,2329,2288,2237,2182,2156,2119,2187,2213,2306,2368,2406,2524,2557,2624,2587,2524,2553,2556,2602,2543,2580,2559,2562,2503,2476]
["female",3,824,800,791,774,812,781,779,755,843,795,797,754,780,714,716,726,789,786,815,851,813,915,904,885,892,854,887,882,910,871,976,892,null,3,3152,3115,3145,3139,3084,3079,2998,3084,3131,3032,2979,2910,2899,2901,2929,3032,3157,3192,3339,3408,3437,3502,3428,3438,3448,3456,3430,3462,3469,3433,3479,3368]
["female",4,833,822,795,789,772,814,773,799,770,811,809,809,762,764,722,749,740,800,789,810,861,851,918,897,906,886,857,894,872,921,894,999,null,4,3985,3937,3940,3928,3856,3893,3771,3883,3901,3843,3788,3719,3661,3665,3651,3781,3897,3992,4128,4218,4298,4353,4346,4335,4354,4342,4287,4356,4341,4354,4373,4367]
["female",5,820,830,819,797,783,780,817,784,810,789,826,804,819,763,764,742,752,755,800,807,817,859,859,924,912,911,906,859,918,915,961,932,null,5,4805,4767,4759,4725,4639,4673,4588,4667,4711,4632,4614,4523,4480,4428,4415,4523,4649,4747,4928,5025,5115,5212,5205,5259,5266,5253,5193,5215,5259,5269,5334,5299]
["female",6,763,822,827,823,800,786,787,854,802,827,811,830,813,822,759,772,754,758,759,805,803,831,865,855,935,923,915,915,875,915,921,984,null,6,5568,5589,5586,5548,5439,5459,5375,5521,5513,5459,5425,5353,5293,5250,5174,5295,5403,5505,5687,5830,5918,6043,6070,6114,6201,6176,6108,6130,6134,6184,6255,6283]
["female",7,773,766,822,832,826,809,791,793,867,820,840,824,845,815,823,767,777,746,755,766,810,811,824,883,880,949,915,915,926,885,952,959,null,7,6341,6355,6408,6380,6265,6268,6166,6314,6380,6279,6265,6177,6138,6065,5997,6062,6180,6251,6442,6596,6728,6854,6894,6997,7081,7125,7023,7045,7060,7069,7207,7242]
["female",8,702,763,755,818,822,823,805,792,808,880,832,864,828,863,805,838,775,782,751,755,785,815,810,830,894,896,960,925,918,935,915,971,null,8,7043,7118,7163,7198,7087,7091,6971,7106,7188,7159,7097,7041,6966,6928,6802,6900,6955,7033,7193,7351,7513,7669,7704,7827,7975,8021,7983,7970,7978,8004,8122,8213]
["female",9,756,712,765,766,824,831,833,837,813,820,902,847,872,845,858,829,865,778,792,771,772,790,815,816,840,910,910,970,928,928,957,936,null,9,7799,7830,7928,7964,7911,7922,7804,7943,8001,7979,7999,7888,7838,7773,7660,7729,7820,7811,7985,8122,8285,8459,8519,8643,8815,8931,8893,8940,8906,8932,9079,9149]
["female",10,774,750,708,760,760,824,826,842,850,848,833,893,848,875,860,876,834,863,791,797,773,776,810,836,826,844,903,896,994,952,950,965,null,10,8573,8580,8636,8724,8671,8746,8630,8785,8851,8827,8832,8781,8686,8648,8520,8605,8654,8674,8776,8919,9058,9235,9329,9479,9641,9775,9796,9836,9900,9884,10029,10114]
["female",11,777,790,758,730,773,780,839,838,848,859,862,849,888,845,859,864,899,857,883,799,815,764,777,819,828,836,869,907,918,993,971,980,null,11,9350,9370,9394,9454,9444,9526,9469,9623,9699,9686,9694,9630,9574,9493,9379,9469,9553,9531,9659,9718,9873,9999,10106,10298,10469,10611,10665,10743,10818,10877,11000,11094]
["female",12,801,786,797,767,740,783,788,841,831,852,877,873,843,878,854,875,876,906,880,892,813,818,766,773,831,837,836,883,929,915,1010,980,null,12,10151,10156,10191,10221,10184,10309,10257,10464,10530,10538,10571,10503,10417,10371,10233,10344,10429,10437,10539,10610,10686,10817,10872,11071,11300,11448,11501,11626,11747,11792,12010,12074]
["female",13,755,799,779,793,759,735,775,774,839,834,839,886,860,853,883,856,875,886,926,883,904,818,830,780,782,828,850,831,885,928,940,1027,null,13,10906,10955,10970,11014,10943,11044,11032,11238,11369,11372,11410,11389,11277,11224,11116,11200,11304,11323,11465,11493,11590,11635,11702,11851,12082,12276,12351,12457,12632,12720,12950,13101]
["female",14,649,747,786,773,779,748,727,787,784,849,833,854,884,865,857,889,843,874,895,939,896,897,836,833,785,783,839,849,837,880,945,949,null,14,11555,11702,11756,11787,11722,11792,11759,12025,12153,12221,12243,12243,12161,12089,11973,12089,12147,12197,12360,12432,12486,12532,12538,12684,12867,13059,13190,13306,13469,13600,13895,14050]
["female",15,670,652,746,791,772,784,750,744,784,793,840,844,853,896,875,855,902,845,868,888,929,898,903,833,843,785,806,847,858,830,888,941,null,15,12225,12354,12502,12578,12494,12576,12509,12769,12937,13014,13083,13087,13014,12985,12848,12944,13049,13042,13228,13320,13415,13430,13441,13517,13710,13844,13996,14153,14327,14430,14783,14991]
["female",16,723,668,648,747,787,771,780,756,746,781,787,829,832,846,885,884,860,908,854,874,898,940,898,914,834,856,775,810,837,854,854,893,null,16,12948,13022,13150,13325,13281,13347,13289,13525,13683,13795,13870,13916,13846,13831,13733,13828,13909,13950,14082,14194,14313,14370,14339,14431,14544,14700,14771,14963,15164,15284,15637,15884]
["female",17,730,714,653,641,736,778,758,760,752,764,798,779,839,839,853,886,890,856,898,858,892,886,926,897,910,826,844,771,820,856,857,862,null,17,13678,13736,13803,13966,14017,14125,14047,14285,14435,14559,14668,14695,14685,14670,14586,14714,14799,14806,14980,15052,15205,15256,15265,15328,15454,15526,15615,15734,15984,16140,16494,16746]
["female",18,719,738,695,622,598,691,751,709,715,723,734,787,756,810,804,834,869,863,823,886,821,844,869,900,854,885,818,822,747,798,817,803,null,18,14397,14474,14498,14588,14615,14816,14798,14994,15150,15282,15402,15482,15441,15480,15390,15548,15668,15669,15803,15938,16026,16100,16134,16228,16308,16411,16433,16556,16731,16938,17311,17549]
["female",19,726,656,647,573,497,464,611,638,660,662,621,624,697,649,695,682,776,746,746,732,711,688,683,687,711,714,717,693,678,667,597,660,null,19,15123,15130,15145,15161,15112,15280,15409,15632,15810,15944,16023,16106,16138,16129,16085,16230,16444,16415,16549,16670,16737,16788,16817,16915,17019,17125,17150,17249,17409,17605,17908,18209]
["female",20,693,687,548,556,478,447,441,584,642,626,629,572,587,647,650,661,654,738,685,716,682,717,653,648,659,688,693,728,646,661,622,555,null,20,15816,15817,15693,15717,15590,15727,15850,16216,16452,16570,16652,16678,16725,16776,16735,16891,17098,17153,17234,17386,17419,17505,17470,17563,17678,17813,17843,17977,18055,18266,18530,18764]
["female",21,788,737,626,582,580,536,504,483,590,641,646,646,591,608,672,668,674,682,733,727,718,715,761,713,705,714,743,694,757,682,659,621,null,21,16604,16554,16319,16299,16170,16263,16354,16699,17042,17211,17298,17324,17316,17384,17407,17559,17772,17835,17967,18113,18137,18220,18231,18276,18383,18527,18586,18671,18812,18948,19189,19385]
["female",22,774,816,737,709,649,676,600,549,527,635,673,678,673,624,660,730,729,716,769,766,751,778,806,841,796,806,783,812,772,807,765,722,null,22,17378,17370,17056,17008,16819,16939,16954,17248,17569,17846,17971,18002,17989,18008,18067,18289,18501,18551,18736,18879,18888,18998,19037,19117,19179,19333,19369,19483,19584,19755,19954,20107]
["female",23,861,822,871,844,788,754,746,602,585,585,649,685,662,704,666,693,793,754,775,815,789,808,813,855,905,853,853,829,849,826,905,804,null,23,18239,18192,17927,17852,17607,17693,17700,17850,18154,18431,18620,18687,18651,18712,18733,18982,19294,19305,19511,19694,19677,19806,19850,19972,20084,20186,20222,20312,20433,20581,20859,20911]
["female",24,820,868,862,889,843,801,746,710,634,649,587,660,708,696,729,719,737,815,787,786,804,801,836,814,884,913,886,837,851,882,828,919,null,24,19059,19060,18789,18741,18450,18494,18446,18560,18788,19080,19207,19347,19359,19408,19462,19701,20031,20120,20298,20480,20481,20607,20686,20786,20968,21099,21108,21149,21284,21463,21687,21830]
["female",25,861,834,901,866,870,844,779,762,725,666,654,601,668,717,717,775,752,760,849,787,796,820,835,868,887,892,924,897,850,840,898,851,null,25,19920,19894,19690,19607,19320,19338,19225,19322,19513,19746,19861,19948,20027,20125,20179,20476,20783,20880,21147,21267,21277,21427,21521,21654,21855,21991,22032,22046,22134,22303,22585,22681]
["female",26,850,852,835,886,827,838,804,788,764,711,666,676,629,682,746,789,801,773,794,874,805,792,825,872,896,909,900,927,907,874,866,943,null,26,20770,20746,20525,20493,20147,20176,20029,20110,20277,20457,20527,20624,20656,20807,20925,21265,21584,21653,21941,22141,22082,22219,22346,22526,22751,22900,22932,22973,23041,23177,23451,23624]
["female",27,897,834,834,832,857,804,796,821,798,759,725,682,687,638,704,767,831,827,801,798,866,821,807,854,912,915,949,923,968,937,932,882,null,27,21667,21580,21359,21325,21004,20980,20825,20931,21075,21216,21252,21306,21343,21445,21629,22032,22415,22480,22742,22939,22948,23040,23153,23380,23663,23815,23881,23896,24009,24114,24383,24506]
["female",28,936,910,846,864,855,878,805,881,826,787,764,750,707,695,641,753,804,866,865,806,806,871,852,844,905,945,972,981,946,994,965,953,null,28,22603,22490,22205,22189,21859,21858,21630,21812,21901,22003,22016,22056,22050,22140,22270,22785,23219,23346,23607,23745,23754,23911,24005,24224,24568,24760,24853,24877,24955,25108,25348,25459]
["female",29,862,911,896,847,853,861,859,825,902,826,813,781,769,705,705,672,773,809,878,893,809,830,891,877,886,955,957,1032,1007,983,1030,1010,null,29,23465,23401,23101,23036,22712,22719,22489,22637,22803,22829,22829,22837,22819,22845,22975,23457,23992,24155,24485,24638,24563,24741,24896,25101,25454,25715,25810,25909,25962,26091,26378,26469]
["female",30,852,859,907,901,844,865,869,906,845,898,862,840,776,775,710,739,686,792,835,872,907,815,850,931,935,930,976,1007,1044,1023,1010,1051,null,30,24317,24260,24008,23937,23556,23584,23358,23543,23648,23727,23691,23677,23595,23620,23685,24196,24678,24947,25320,25510,25470,25556,25746,26032,26389,26645,26786,26916,27006,27114,27388,27520]
["female",31,834,869,875,922,914,865,886,894,919,871,906,879,859,787,769,747,753,689,815,867,895,904,819,866,960,941,956,1001,1031,1116,1028,1016,null,31,25151,25129,24883,24859,24470,24449,24244,24437,24567,24598,24597,24556,24454,24407,24454,24943,25431,25636,26135,26377,26365,26460,26565,26898,27349,27586,27742,27917,28037,28230,28416,28536]
["female",32,920,842,879,887,924,927,877,914,914,928,890,931,886,865,790,774,770,754,714,834,870,906,922,869,876,975,959,968,1017,1070,1130,1055,null,32,26071,25971,25762,25746,25394,25376,25121,25351,25481,25526,25487,25487,25340,25272,25244,25717,26201,26390,26849,27211,27235,27366,27487,27767,28225,28561,28701,28885,29054,29300,29546,29591]
["female",33,795,909,831,878,877,919,923,920,938,952,951,928,933,887,864,798,784,782,746,722,841,889,910,948,901,896,1022,998,980,1063,1120,1155,null,33,{"$f":"AK141+C142","v":26866},{"$f":"AL141+D142","v":26880},{"$f":"AM141+E142","v":26593},{"$f":"AN141+F142","v":26624},{"$f":"AO141+G142","v":26271},{"$f":"AP141+H142","v":26295},{"$f":"AQ141+I142","v":26044},{"$f":"AR141+J142","v":26271},{"$f":"AS141+K142","v":26419},{"$f":"AT141+L142","v":26478},{"$f":"AU141+M142","v":26438},{"$f":"AV141+N142","v":26415},{"$f":"AW141+O142","v":26273},{"$f":"AX141+P142","v":26159},{"$f":"AY141+Q142","v":26108},{"$f":"AZ141+R142","v":26515},{"$f":"BA141+S142","v":26985},{"$f":"BB141+T142","v":27172},{"$f":"BC141+U142","v":27595},{"$f":"BD141+V142","v":27933},{"$f":"BE141+W142","v":28076},{"$f":"BF141+X142","v":28255},{"$f":"BG141+Y142","v":28397},{"$f":"BH141+Z142","v":28715},{"$f":"BI141+AA142","v":29126},{"$f":"BJ141+AB142","v":29457},{"$f":"BK141+AC142","v":29723},{"$f":"BL141+AD142","v":29883},{"$f":"BM141+AE142","v":30034},{"$f":"BN141+AF142","v":30363},{"$f":"BO141+AG142","v":30666},30746]
["female",34,790,802,898,837,884,885,922,968,943,955,949,986,929,954,871,901,814,798,797,758,724,861,889,911,987,920,917,1025,1021,1006,1104,1160,null,34,27656,27682,27491,27461,27155,27180,26966,27239,27362,27433,27387,27401,27202,27113,26979,27416,27799,27970,28392,28691,28800,29116,29286,29626,30113,30377,30640,30908,31055,31369,31770,31906]
["female",35,780,793,799,891,831,891,885,955,1006,967,959,984,983,943,946,889,906,820,810,796,771,726,886,906,936,1019,936,943,1036,1043,1031,1146,null,35,28436,28475,28290,28352,27986,28071,27851,28194,28368,28400,28346,28385,28185,28056,27925,28305,28705,28790,29202,29487,29571,29842,30172,30532,31049,31396,31576,31851,32091,32412,32801,33052]
["female",36,779,777,786,792,877,826,885,901,962,1024,991,974,982,990,938,951,890,924,813,809,810,784,729,899,937,954,998,954,954,1048,1045,1037,null,36,29215,29252,29076,29144,28863,28897,28736,29095,29330,29424,29337,29359,29167,29046,28863,29256,29595,29714,30015,30296,30381,30626,30901,31431,31986,32350,32574,32805,33045,33460,33846,34089]
["female",37,713,791,787,802,804,881,836,906,918,972,1049,1003,977,997,995,976,965,891,929,821,818,809,798,741,911,961,971,999,960,970,1100,1064,null,37,29928,30043,29863,29946,29667,29778,29572,30001,30248,30396,30386,30362,30144,30043,29858,30232,30560,30605,30944,31117,31199,31435,31699,32172,32897,33311,33545,33804,34005,34430,34946,35153]
["female",38,755,709,781,782,795,798,869,839,933,944,982,1087,1011,972,989,1020,995,975,898,929,842,826,822,793,757,900,962,979,1011,976,1006,1138,null,38,30683,30752,30644,30728,30462,30576,30441,30840,31181,31340,31368,31449,31155,31015,30847,31252,31555,31580,31842,32046,32041,32261,32521,32965,33654,34211,34507,34783,35016,35406,35952,36291]
["female",39,770,757,708,781,780,798,800,882,844,943,949,998,1087,1005,1001,1006,1034,999,978,898,923,867,836,832,808,763,934,964,1004,1026,992,1028,null,39,31453,31509,31352,31509,31242,31374,31241,31722,32025,32283,32317,32447,32242,32020,31848,32258,32589,32579,32820,32944,32964,33128,33357,33797,34462,34974,35441,35747,36020,36432,36944,37319]
["female",40,753,768,750,708,774,781,797,818,871,856,959,948,1007,1097,1017,1017,1010,1044,1025,982,921,941,893,842,865,813,789,955,972,1012,1061,1034,null,40,32206,32277,32102,32217,32016,32155,32038,32540,32896,33139,33276,33395,33249,33117,32865,33275,33599,33623,33845,33926,33885,34069,34250,34639,35327,35787,36230,36702,36992,37444,38005,38353]
["female",41,767,759,769,754,708,779,782,800,828,882,868,957,960,1021,1094,1029,1032,1008,1050,1011,982,928,953,892,845,873,835,786,956,990,1031,1060,null,41,32973,33036,32871,32971,32724,32934,32820,33340,33724,34021,34144,34352,34209,34138,33959,34304,34631,34631,34895,34937,34867,34997,35203,35531,36172,36660,37065,37488,37948,38434,39036,39413]
["female",42,865,769,763,775,754,715,778,782,801,829,887,877,957,965,1048,1094,1053,1044,1010,1055,1006,974,940,976,907,860,884,830,797,979,994,1039,null,42,33838,33805,33634,33746,33478,33649,33598,34122,34525,34850,35031,35229,35166,35103,35007,35398,35684,35675,35905,35992,35873,35971,36143,36507,37079,37520,37949,38318,38745,39413,40030,40452]
["female",43,939,866,762,761,766,750,707,777,794,802,856,897,872,967,966,1056,1106,1062,1041,1017,1061,1024,993,948,976,921,873,880,849,818,997,1010,null,43,34777,34671,34396,34507,34244,34399,34305,34899,35319,35652,35887,36126,36038,36070,35973,36454,36790,36737,36946,37009,36934,36995,37136,37455,38055,38441,38822,39198,39594,40231,41027,41462]
["female",44,948,919,858,752,751,759,735,725,774,799,802,869,908,884,961,982,1071,1100,1065,1030,1014,1060,1027,1000,971,975,915,871,880,873,849,1026,null,44,35725,35590,35254,35259,34995,35158,35040,35624,36093,36451,36689,36995,36946,36954,36934,37436,37861,37837,38011,38039,37948,38055,38163,38455,39026,39416,39737,40069,40474,41104,41876,42488]
["female",45,1123,970,923,878,767,773,774,765,726,790,794,808,865,909,885,967,994,1070,1091,1075,1021,1038,1064,1019,992,960,983,930,884,883,876,852,null,45,36848,36560,36177,36137,35762,35931,35814,36389,36819,37241,37483,37803,37811,37863,37819,38403,38855,38907,39102,39114,38969,39093,39227,39474,40018,40376,40720,40999,41358,41987,42752,43340]
["female",46,805,1115,963,917,874,763,770,748,769,742,798,792,817,872,917,899,978,1007,1074,1097,1080,1032,1033,1070,1037,1000,968,996,936,886,891,885,null,46,37653,37675,37140,37054,36636,36694,36584,37137,37588,37983,38281,38595,38628,38735,38736,39302,39833,39914,40176,40211,40049,40125,40260,40544,41055,41376,41688,41995,42294,42873,43643,44225]
["female",47,829,809,1095,966,900,869,754,759,752,770,749,813,801,832,870,920,913,980,1008,1079,1117,1089,1035,1035,1093,1040,1015,968,993,953,888,915,null,47,38482,38484,38235,38020,37536,37563,37338,37896,38340,38753,39030,39408,39429,39567,39606,40222,40746,40894,41184,41290,41166,41214,41295,41579,42148,42416,42703,42963,43287,43826,44531,45140]
["female",48,801,831,814,1091,972,897,872,771,775,752,778,751,812,802,836,873,926,924,976,1021,1088,1108,1096,1037,1051,1106,1042,1017,971,1002,970,914,null,48,39283,39315,39049,39111,38508,38460,38210,38667,39115,39505,39808,40159,40241,40369,40442,41095,41672,41818,42160,42311,42254,42322,42391,42616,43199,43522,43745,43980,44258,44828,45501,46054]
["female",49,728,799,830,816,1080,975,890,853,786,781,759,785,753,813,795,854,879,940,925,990,1027,1087,1099,1099,1068,1052,1093,1048,1011,995,1018,998,null,49,40011,40114,39879,39927,39588,39435,39100,39520,39901,40286,40567,40944,40994,41182,41237,41949,42551,42758,43085,43301,43281,43409,43490,43715,44267,44574,44838,45028,45269,45823,46519,47052]
["female",50,613,726,791,822,815,1070,972,884,868,784,794,754,795,754,812,790,865,881,959,933,974,1013,1100,1111,1111,1055,1058,1107,1058,1031,1004,1013,null,50,40624,40840,40670,40749,40403,40505,40072,40404,40769,41070,41361,41698,41789,41936,42049,42739,43416,43639,44044,44234,44255,44422,44590,44826,45378,45629,45896,46135,46327,46854,47523,48065]
["female",51,588,615,726,794,820,822,1064,973,892,889,781,804,760,790,765,824,790,875,894,962,949,983,1024,1104,1113,1110,1074,1048,1110,1074,1036,1010,null,51,41212,41455,41396,41543,41223,41327,41136,41377,41661,41959,42142,42502,42549,42726,42814,43563,44206,44514,44938,45196,45204,45405,45614,45930,46491,46739,46970,47183,47437,47928,48559,49075]
["female",52,637,583,616,723,785,814,819,1054,979,896,891,783,803,770,789,761,826,792,884,891,977,933,1002,1022,1103,1102,1103,1057,1059,1119,1084,1036,null,52,41849,42038,42012,42266,42008,42141,41955,42431,42640,42855,43033,43285,43352,43496,43603,44324,45032,45306,45822,46087,46181,46338,46616,46952,47594,47841,48073,48240,48496,49047,49643,50111]
["female",53,634,635,581,616,720,781,810,838,1061,980,898,898,787,792,774,795,771,835,801,896,880,977,930,1007,1019,1103,1121,1099,1052,1055,1137,1098,null,53,42483,42673,42593,42882,42728,42922,42765,43269,43701,43835,43931,44183,44139,44288,44377,45119,45803,46141,46623,46983,47061,47315,47546,47959,48613,48944,49194,49339,49548,50102,50780,51209]
["female",54,601,638,634,584,626,725,782,816,842,1076,978,900,893,786,788,762,803,771,839,802,905,897,984,932,1022,1041,1125,1132,1092,1055,1072,1144,null,54,43084,43311,43227,43466,43354,43647,43547,44085,44543,44911,44909,45083,45032,45074,45165,45881,46606,46912,47462,47785,47966,48212,48530,48891,49635,49985,50319,50471,50640,51157,51852,52353]
["female",55,566,596,626,625,578,619,713,796,823,846,1082,978,900,894,793,790,759,805,771,836,808,890,910,987,956,1022,1053,1120,1134,1106,1081,1082,null,55,43650,43907,43853,44091,43932,44266,44260,44881,45366,45757,45991,46061,45932,45968,45958,46671,47365,47717,48233,48621,48774,49102,49440,49878,50591,51007,51372,51591,51774,52263,52933,53435]
["female",56,577,567,597,629,620,578,623,733,804,838,839,1092,966,898,884,800,789,764,816,779,817,802,902,920,999,961,1025,1060,1131,1137,1127,1086,null,56,44227,44474,44450,44720,44552,44844,44883,45614,46170,46595,46830,47153,46898,46866,46842,47471,48154,48481,49049,49400,49591,49904,50342,50798,51590,51968,52397,52651,52905,53400,54060,54521]
["female",57,575,575,566,595,625,616,576,635,726,799,832,815,1090,963,912,879,794,789,766,809,786,837,826,894,914,999,961,1025,1033,1118,1149,1137,null,57,44802,45049,45016,45315,45177,45460,45459,46249,46896,47394,47662,47968,47988,47829,47754,48350,48948,49270,49815,50209,50377,50741,51168,51692,52504,52967,53358,53676,53938,54518,55209,55658]
["female",58,534,576,575,570,597,629,618,594,635,730,799,841,809,1095,949,923,873,787,796,770,804,785,841,842,898,902,1002,962,1028,1047,1131,1134,null,58,45336,45625,45591,45885,45774,46089,46077,46843,47531,48124,48461,48809,48797,48924,48703,49273,49821,50057,50611,50979,51181,51526,52009,52534,53402,53869,54360,54638,54966,55565,56340,56792]
["female",59,519,531,573,569,565,594,626,609,595,630,743,797,844,795,1105,951,925,878,786,784,777,808,775,823,853,876,901,988,978,1022,1033,1125,null,59,45855,46156,46164,46454,46339,46683,46703,47452,48126,48754,49204,49606,49641,49719,49808,50224,50746,50935,51397,51763,51958,52334,52784,53357,54255,54745,55261,55626,55944,56587,57373,57917]
["female",60,551,513,523,564,560,559,591,638,616,612,634,746,809,855,791,1097,950,925,882,780,780,784,813,774,826,858,879,888,986,992,1036,1036,null,60,46406,46669,46687,47018,46899,47242,47294,48090,48742,49366,49838,50352,50450,50574,50599,51321,51696,51860,52279,52543,52738,53118,53597,54131,55081,55603,56140,56514,56930,57579,58409,58953]
["female",61,599,548,515,522,564,562,570,609,642,624,626,640,740,810,857,788,1103,955,927,865,789,788,787,818,788,827,851,874,886,980,975,1022,null,61,47005,47217,47202,47540,47463,47804,47864,48699,49384,49990,50464,50992,51190,51384,51456,52109,52799,52815,53206,53408,53527,53906,54384,54949,55869,56430,56991,57388,57816,58559,59384,59975]
["female",62,571,588,539,506,512,555,556,576,607,644,621,620,634,738,809,862,797,1102,945,934,869,781,798,783,816,777,815,835,877,877,997,958,null,62,47576,47805,47741,48046,47975,48359,48420,49275,49991,50634,51085,51612,51824,52122,52265,52971,53596,53917,54151,54342,54396,54687,55182,55732,56685,57207,57806,58223,58693,59436,60381,60933]
["female",63,576,573,585,546,509,515,556,565,589,613,631,621,616,631,728,807,851,800,1109,955,940,876,793,805,780,812,785,819,830,871,877,993,null,63,48152,48378,48326,48592,48484,48874,48976,49840,50580,51247,51716,52233,52440,52753,52993,53778,54447,54717,55260,55297,55336,55563,55975,56537,57465,58019,58591,59042,59523,60307,61258,61926]
["female",64,541,571,578,584,548,512,519,545,567,597,614,629,619,618,636,727,804,860,795,1104,960,938,876,797,782,772,807,774,823,811,857,857,null,64,48693,48949,48904,49176,49032,49386,49495,50385,51147,51844,52330,52862,53059,53371,53629,54505,55251,55577,56055,56401,56296,56501,56851,57334,58247,58791,59398,59816,60346,61118,62115,62783]
["female",65,589,534,562,569,579,549,508,516,543,560,591,622,621,607,605,635,727,800,847,784,1110,957,937,874,799,777,755,786,763,822,828,858,null,65,{"$f":"AK173+C174","v":49282},{"$f":"AL173+D174","v":49483},{"$f":"AM173+E174","v":49466},{"$f":"AN173+F174","v":49745},{"$f":"AO173+G174","v":49611},{"$f":"AP173+H174","v":49935},{"$f":"AQ173+I174","v":50003},{"$f":"AR173+J174","v":50901},{"$f":"AS173+K174","v":51690},{"$f":"AT173+L174","v":52404},{"$f":"AU173+M174","v":52921},{"$f":"AV173+N174","v":53484},{"$f":"AW173+O174","v":53680},{"$f":"AX173+P174","v":53978},{"$f":"AY173+Q174","v":54234},{"$f":"AZ173+R174","v":55140},{"$f":"BA173+S174","v":55978},{"$f":"BB173+T174","v":56377},{"$f":"BC173+U174","v":56902},{"$f":"BD173+V174","v":57185},{"$f":"BE173+W174","v":57406},{"$f":"BF173+X174","v":57458},{"$f":"BG173+Y174","v":57788},{"$f":"BH173+Z174","v":58208},{"$f":"BI173+AA174","v":59046},{"$f":"BJ173+AB174","v":59568},{"$f":"BK173+AC174","v":60153},{"$f":"BL173+AD174","v":60602},{"$f":"BM173+AE174","v":61109},{"$f":"BN173+AF174","v":61940},{"$f":"BO173+AG174","v":62943},63641]
["female",66,560,573,529,556,560,570,541,515,512,532,563,584,605,616,609,599,630,722,798,836,773,1100,972,940,870,794,780,759,778,772,813,822,null,66,49842,50056,49995,50301,50171,50505,50544,51416,52202,52936,53484,54068,54285,54594,54843,55739,56608,57099,57700,58021,58179,58558,58760,59148,59916,60362,60933,61361,61887,62712,63756,64463]
["female",67,519,549,569,524,550,555,566,545,523,510,541,561,579,603,611,603,595,622,708,805,837,777,1093,961,942,868,790,766,751,772,773,820,null,67,50361,50605,50564,50825,50721,51060,51110,51961,52725,53446,54025,54629,54864,55197,55454,56342,57203,57721,58408,58826,59016,59335,59853,60109,60858,61230,61723,62127,62638,63484,64529,65283]
["female",68,558,517,533,552,528,548,556,558,549,519,509,537,559,577,595,604,603,594,618,702,807,829,777,1097,942,920,852,769,759,741,760,768,null,68,50919,51122,51097,51377,51249,51608,51666,52519,53274,53965,54534,55166,55423,55774,56049,56946,57806,58315,59026,59528,59823,60164,60630,61206,61800,62150,62575,62896,63397,64225,65289,66051]
["female",69,569,560,519,534,549,530,549,545,550,536,513,505,529,551,570,596,600,597,588,606,691,796,816,760,1082,927,910,849,766,746,733,758,null,69,51488,51682,51616,51911,51798,52138,52215,53064,53824,54501,55047,55671,55952,56325,56619,57542,58406,58912,59614,60134,60514,60960,61446,61966,62882,63077,63485,63745,64163,64971,66022,66809]
["female",70,580,556,548,513,521,541,523,524,527,540,533,507,505,521,546,561,589,592,598,581,601,690,790,810,755,1075,927,888,854,762,738,720,null,70,52068,52238,52164,52424,52319,52679,52738,53588,54351,55041,55580,56178,56457,56846,57165,58103,58995,59504,60212,60715,61115,61650,62236,62776,63637,64152,64412,64633,65017,65733,66760,67529]
["female",71,596,567,548,536,507,513,525,510,514,524,531,530,503,499,509,542,557,589,576,596,577,593,690,788,806,747,1059,912,881,845,746,711,null,71,52664,52805,52712,52960,52826,53192,53263,54098,54865,55565,56111,56708,56960,57345,57674,58645,59552,60093,60788,61311,61692,62243,62926,63564,64443,64899,65471,65545,65898,66578,67506,68240]
["female",72,636,582,549,535,517,491,499,511,505,499,522,509,524,504,482,499,538,545,571,559,584,565,579,692,768,784,737,1051,904,863,813,727,null,72,53300,53387,53261,53495,53343,53683,53762,54609,55370,56064,56633,57217,57484,57849,58156,59144,60090,60638,61359,61870,62276,62808,63505,64256,65211,65683,66208,66596,66802,67441,68319,68967]
["female",73,419,616,569,538,517,505,482,481,498,495,481,510,499,514,499,475,498,523,533,566,564,572,560,574,666,752,769,729,1030,884,842,782,null,73,53719,54003,53830,54033,53860,54188,54244,55090,55868,56559,57114,57727,57983,58363,58655,59619,60588,61161,61892,62436,62840,63380,64065,64830,65877,66435,66977,67325,67832,68325,69161,69749]
["female",74,324,403,587,553,520,496,489,480,473,484,479,471,507,486,499,484,470,492,509,519,565,570,566,553,561,656,738,764,701,1015,868,823,null,74,54043,54406,54417,54586,54380,54684,54733,55570,56341,57043,57593,58198,58490,58849,59154,60103,61058,61653,62401,62955,63405,63950,64631,65383,66438,67091,67715,68089,68533,69340,70029,70572]
["female",75,461,315,397,570,542,510,485,470,478,450,480,466,459,500,459,481,469,459,476,504,508,559,559,558,542,552,642,721,738,687,988,849,null,75,54504,54721,54814,55156,54922,55194,55218,56040,56819,57493,58073,58664,58949,59349,59613,60584,61527,62112,62877,63459,63913,64509,65190,65941,66980,67643,68357,68810,69271,70027,71017,71421]
["female",76,431,448,307,382,543,531,496,457,459,464,439,481,451,449,481,450,471,461,448,467,500,502,536,540,546,530,533,627,692,711,660,948,null,76,54935,55169,55121,55538,55465,55725,55714,56497,57278,57957,58512,59145,59400,59798,60094,61034,61998,62573,63325,63926,64413,65011,65726,66481,67526,68173,68890,69437,69963,70738,71677,72369]
["female",77,440,417,428,299,366,529,513,476,446,444,444,423,456,438,428,473,434,464,442,431,461,484,494,516,524,539,510,520,598,669,686,646,null,77,55375,55586,55549,55837,55831,56254,56227,56973,57724,58401,58956,59568,59856,60236,60522,61507,62432,63037,63767,64357,64874,65495,66220,66997,68050,68712,69400,69957,70561,71407,72363,73015]
["female",78,425,426,403,411,287,351,504,485,454,422,423,421,407,439,422,419,455,422,450,431,415,453,467,471,487,517,522,494,491,584,653,668,null,78,55800,56012,55952,56248,56118,56605,56731,57458,58178,58823,59379,59989,60263,60675,60944,61926,62887,63459,64217,64788,65289,65948,66687,67468,68537,69229,69922,70451,71052,71991,73016,73683]
["female",79,368,408,409,386,390,278,341,487,473,434,398,399,403,392,430,412,403,442,416,436,413,399,432,455,453,473,503,509,480,468,563,623,null,79,56168,56420,56361,56634,56508,56883,57072,57945,58651,59257,59777,60388,60666,61067,61374,62338,63290,63901,64633,65224,65702,66347,67119,67923,68990,69702,70425,70960,71532,72459,73579,74306]
["female",80,362,351,385,395,367,362,263,314,461,458,422,374,382,388,378,404,395,386,422,408,415,412,382,417,436,441,451,475,483,461,455,552,null,80,56530,56771,56746,57029,56875,57245,57335,58259,59112,59715,60199,60762,61048,61455,61752,62742,63685,64287,65055,65632,66117,66759,67501,68340,69426,70143,70876,71435,72015,72920,74034,74858]
["female",81,305,350,342,374,372,344,341,239,301,433,430,390,357,368,376,361,381,382,367,407,398,398,387,369,395,419,431,442,453,474,450,443,null,81,56835,57121,57088,57403,57247,57589,57676,58498,59413,60148,60629,61152,61405,61823,62128,63103,64066,64669,65422,66039,66515,67157,67888,68709,69821,70562,71307,71877,72468,73394,74484,75301]
["female",82,315,284,304,324,350,351,327,311,226,273,415,409,353,340,349,345,342,357,353,352,382,381,385,365,357,385,402,413,420,437,448,419,null,82,57150,57405,57392,57727,57597,57940,58003,58809,59639,60421,61044,61561,61758,62163,62477,63448,64408,65026,65775,66391,66897,67538,68273,69074,70178,70947,71709,72290,72888,73831,74932,75720]
["female",83,287,284,259,281,290,322,315,313,282,210,257,385,390,328,317,334,324,316,339,331,340,371,362,361,350,343,354,374,392,390,420,418,null,83,57437,57689,57651,58008,57887,58262,58318,59122,59921,60631,61301,61946,62148,62491,62794,63782,64732,65342,66114,66722,67237,67909,68635,69435,70528,71290,72063,72664,73280,74221,75352,76138]
["female",84,232,269,262,230,262,268,293,291,294,258,191,238,359,362,308,299,307,290,293,320,305,333,351,337,341,329,323,327,350,366,367,388,null,84,57669,57958,57913,58238,58149,58530,58611,59413,60215,60889,61492,62184,62507,62853,63102,64081,65039,65632,66407,67042,67542,68242,68986,69772,70869,71619,72386,72991,73630,74587,75719,76526]
["female",85,1219,1223,1230,1264,1245,1293,1319,1430,1457,215,231,176,229,328,336,289,277,290,260,271,301,274,313,317,312,316,307,302,299,319,332,333,null,85,58888,59181,59143,59502,59394,59823,59930,60843,61672,61104,61723,62360,62736,63181,63438,64370,65316,65922,66667,67313,67843,68516,69299,70089,71181,71935,72693,73293,73929,74906,76051,76859]
["female",86,null,null,null,null,null,null,null,null,null,232,190,207,154,204,292,312,259,253,266,239,238,283,272,285,290,292,289,284,264,274,293,300,null,86,58888,59181,59143,59502,59394,59823,59930,60843,61672,61336,61913,62567,62890,63385,63730,64682,65575,66175,66933,67552,68081,68799,69571,70374,71471,72227,72982,73577,74193,75180,76344,77159]
["female",87,null,null,null,null,null,null,null,null,null,204,201,177,180,140,179,259,283,233,224,242,221,209,253,251,267,268,268,262,259,242,253,266,null,87,58888,59181,59143,59502,59394,59823,59930,60843,61672,61540,62114,62744,63070,63525,63909,64941,65858,66408,67157,67794,68302,69008,69824,70625,71738,72495,73250,73839,74452,75422,76597,77425]
["female",88,null,null,null,null,null,null,null,null,null,159,184,165,155,147,123,160,242,264,225,197,222,202,192,217,236,226,249,243,221,227,217,222,null,88,58888,59181,59143,59502,59394,59823,59930,60843,61672,61699,62298,62909,63225,63672,64032,65101,66100,66672,67382,67991,68524,69210,70016,70842,71974,72721,73499,74082,74673,75649,76814,77647]
["female",89,null,null,null,null,null,null,null,null,null,155,135,163,149,128,132,109,135,212,236,202,175,199,171,174,194,208,187,214,212,194,201,191,null,89,58888,59181,59143,59502,59394,59823,59930,60843,61672,61854,62433,63072,63374,63800,64164,65210,66235,66884,67618,68193,68699,69409,70187,71016,72168,72929,73686,74296,74885,75843,77015,77838]
["female","90+",null,null,null,null,null,null,null,null,null,532,540,554,571,574,576,565,532,530,620,713,742,743,771,759,760,765,786,775,788,831,856,832,null,"90+",58888,59181,59143,59502,59394,59823,59930,60843,61672,62386,62973,63626,63945,64374,64740,65775,66767,67414,68238,68906,69441,70152,70958,71775,72928,73694,74472,75071,75673,76674,77871,78670]
[null,"All Females",{"$f":"SUM(C109:C199)","v":58888},{"$f":"SUM(D109:D199)","v":59181},59143,59502,59394,59823,59930,60843,61672,62386,62973,63626,63945,64374,64740,65775,66767,67414,68238,68906,69441,70152,70958,71775,72928,73694,74472,{"$f":"SUM(AD109:AD199)","v":75071},{"$f":"SUM(AE109:AE199)","v":75673},{"$f":"SUM(AF109:AF199)","v":76674},{"$f":"SUM(AG109:AG199)","v":77871},{"$f":"SUM(AH109:AH199)","v":78670}]
[]
[]
[]
[]
[]
[]
[]
[]
[]
[]
[]
[]
[]
[]
[]
[]
[]
[]
[]
[]
[]
[]
[]
[]
[]
[]
[]
[]
[null,null,null,null,null,null,null,null,null,null,null,null,null,null,0.57278911564625845]
[null,null,null,null,null,null,null,null,null,null,null,null,null,null,0.22369223551489562]
[null,null,null,null,null,null,null,null,null,null,null,null,null,null,0.62624130111814846]
[null,null,null,null,null,null,null,null,null,null,null,null,null,null,6.5321760888263358E-2]
[null,null,null,null,null,null,null,null,null,null,null,null,null,null,6.7604973023692241E-2]
[null,null,null,null,null,null,null,null,null,null,null,null,null,null,6.2194073031511456E-2]
[null,null,null,null,null,null,null,null,null,null,null,null,null,null,5.0371412932989287E-2]
[null,null,null,null,null,null,null,null,null,null,null,null,null,null,5.4108999921807802E-2]
[null,null,null,null,null,null,null,null,null,null,null,null,null,null,6.8543279380717803E-2]
[null,null,null,null,null,null,null,null,null,null,null,null,null,null,7.8817733990147784E-2]
[null,null,null,null,null,null,null,null,null,null,null,null,null,null,7.3563218390804597E-2]
[null,null,null,null,null,null,null,null,null,null,null,null,null,null,6.3304402220658376E-2]
[null,null,null,null,null,null,null,null,null,null,null,null,null,null,6.3148017827820785E-2]
[null,null,null,null,null,null,null,null,null,null,null,null,null,null,7.2077566658847445E-2]
[null,null,null,null,null,null,null,null,null,null,null,null,null,null,5.3452185471889908E-2]
[null,null,null,null,null,null,null,null,null,null,null,null,null,null,4.5242004847916177E-2]
[null,null,null,null,null,null,null,null,null,null,null,null,null,null,3.9690358902181561E-2]
[null,null,null,null,null,null,null,null,null,null,null,null,null,null,3.4029243881460627E-2]
[null,null,null,null,null,null,null,null,null,null,null,null,null,null,2.8790366721401204E-2]
[null,null,null,null,null,null,null,null,null,null,null,null,null,null,1.355852685901947E-2]
[null,null,null,null,null,null,null,null,null,null,null,null,null,null,8.9295488310266631E-3]
[null,null,null,null,null,null,null,null,null,null,null,null,null,null,1]

{"sheet":"THA","index":20,"n_rows":250,"n_cols":106,"rows_kept":250,"cut":false,"hidden":true,"merged":[[0,68,21,68]]}
["Mid Year Population Estimates",null,null,null,null,null,null,null,null,null,null,null,null,null,null,null,null,null,null,null,null,null,null,null,null,null,null,null,null,null,null,null,null,null,null,null,null,null,null,null,null,null,null,null,null,null,null,null,null,null,null,null,null,null,null,null,null,null,null,null,null,null,null,null,null,null,null,null,"Insert column here before extending the table"]
["ONS Mid-Year Population Estimates 1991 to 2022 - (1992 to 2001 Revised 7th October 2004) ( 2002 to 2010 revised in light of the 2011 census. Released 30 April 2013)",null,null,null,null,null,null,null,null,null,null,null,null,null,null,null,null,null,null,null,null,null,null,null,null,null,null,null,null,null,null,null,null,null,null,"Selected Ages:",null,{"$f":"Index!C4&\" : \"&Index!C7","v":"0 : 90"},null,null,null,null,null,null,null,null,null,null,null,null,null,null,null,null,null,null,null,null,null,null,null,null,null,null,null,null,null,null,null,null,null,null,"Start year","End Year","Number change","% Change"]
["Revised ONS Mid-Year Population Estimates 2012 to 2020- Released 23 November 2023",null,null,null,null,null,null,null,null,null,null,null,null,null,null,null,null,null,null,null,null,null,null,null,null,null,null,null,null,null,null,null,null,null,null,null,{"$f":"AK13","v":1992},{"$f":"AL13","v":1993},{"$f":"AM13","v":1994},{"$f":"AN13","v":1995},{"$f":"AO13","v":1996},{"$f":"AP13","v":1997},1998,1999,2000,2001,2002,2003,2004,2005,2006,2007,2008,2009,2010,2011,2012,2013,2014,2015,2016,2017,{"$f":"BK13","v":2018},2019,2020,2021,2022,2023,null,null,null,null,{"$f":"INDEX($AR3:$BL3,Index!$B$16)","v":1999},{"$f":"INDEX($AR3:$BM3,Index!$B$19)","v":2019}]
["2022 MYPE released 23 November 2023",null,null,null,null,null,null,null,null,null,null,null,null,null,null,null,null,null,null,null,null,null,null,null,null,null,null,null,null,null,null,null,null,null,null,"Males",{"$f":"OFFSET(AK16,Index!$B$7-1,0)-IF(Index!$B$4-2=-1,0,OFFSET(AK16,Index!$B$4-2,0))","v":59043},{"$f":"OFFSET(AL16,Index!$B$7-1,0)-IF(Index!$B$4-2=-1,0,OFFSET(AL16,Index!$B$4-2,0))","v":58721},{"$f":"OFFSET(AM16,Index!$B$7-1,0)-IF(Index!$B$4-2=-1,0,OFFSET(AM16,Index!$B$4-2,0))","v":58525},{"$f":"OFFSET(AN16,Index!$B$7-1,0)-IF(Index!$B$4-2=-1,0,OFFSET(AN16,Index!$B$4-2,0))","v":58553},{"$f":"OFFSET(AO16,Index!$B$7-1,0)-IF(Index!$B$4-2=-1,0,OFFSET(AO16,Index!$B$4-2,0))","v":58740},{"$f":"OFFSET(AP16,Index!$B$7-1,0)-IF(Index!$B$4-2=-1,0,OFFSET(AP16,Index!$B$4-2,0))","v":59280},{"$f":"OFFSET(AQ16,Index!$B$7-1,0)-IF(Index!$B$4-2=-1,0,OFFSET(AQ16,Index!$B$4-2,0))","v":59376},{"$f":"OFFSET(AR16,Index!$B$7-1,0)-IF(Index!$B$4-2=-1,0,OFFSET(AR16,Index!$B$4-2,0))","v":59863},{"$f":"OFFSET(AS16,Index!$B$7-1,0)-IF(Index!$B$4-2=-1,0,OFFSET(AS16,Index!$B$4-2,0))","v":59870},{"$f":"OFFSET(AT16,Index!$B$7-1,0)-IF(Index!$B$4-2=-1,0,OFFSET(AT16,Index!$B$4-2,0))","v":60002},{"$f":"OFFSET(AU16,Index!$B$7-1,0)-IF(Index!$B$4-2=-1,0,OFFSET(AU16,Index!$B$4-2,0))","v":60617},{"$f":"OFFSET(AV16,Index!$B$7-1,0)-IF(Index!$B$4-2=-1,0,OFFSET(AV16,Index!$B$4-2,0))","v":60959},{"$f":"OFFSET(AW16,Index!$B$7-1,0)-IF(Index!$B$4-2=-1,0,OFFSET(AW16,Index!$B$4-2,0))","v":61396},{"$f":"OFFSET(AX16,Index!$B$7-1,0)-IF(Index!$B$4-2=-1,0,OFFSET(AX16,Index!$B$4-2,0))","v":61736},{"$f":"OFFSET(AY16,Index!$B$7-1,0)-IF(Index!$B$4-2=-1,0,OFFSET(AY16,Index!$B$4-2,0))","v":61965},{"$f":"OFFSET(AZ16,Index!$B$7-1,0)-IF(Index!$B$4-2=-1,0,OFFSET(AZ16,Index!$B$4-2,0))","v":62557},{"$f":"OFFSET(BA16,Index!$B$7-1,0)-IF(Index!$B$4-2=-1,0,OFFSET(BA16,Index!$B$4-2,0))","v":63171},{"$f":"OFFSET(BB16,Index!$B$7-1,0)-IF(Index!$B$4-2=-1,0,OFFSET(BB16,Index!$B$4-2,0))","v":63544},{"$f":"OFFSET(BC16,Index!$B$7-1,0)-IF(Index!$B$4-2=-1,0,OFFSET(BC16,Index!$B$4-2,0))","v":64105},{"$f":"OFFSET(BD16,Index!$B$7-1,0)-IF(Index!$B$4-2=-1,0,OFFSET(BD16,Index!$B$4-2,0))","v":64652},{"$f":"OFFSET(BE16,Index!$B$7-1,0)-IF(Index!$B$4-2=-1,0,OFFSET(BE16,Index!$B$4-2,0))","v":65206},{"$f":"OFFSET(BF16,Index!$B$7-1,0)-IF(Index!$B$4-2=-1,0,OFFSET(BF16,Index!$B$4-2,0))","v":65794},{"$f":"OFFSET(BG16,Index!$B$7-1,0)-IF(Index!$B$4-2=-1,0,OFFSET(BG16,Index!$B$4-2,0))","v":66635},{"$f":"OFFSET(BH16,Index!$B$7-1,0)-IF(Index!$B$4-2=-1,0,OFFSET(BH16,Index!$B$4-2,0))","v":67159},{"$f":"OFFSET(BI16,Index!$B$7-1,0)-IF(Index!$B$4-2=-1,0,OFFSET(BI16,Index!$B$4-2,0))","v":67541},{"$f":"OFFSET(BJ16,Index!$B$7-1,0)-IF(Index!$B$4-2=-1,0,OFFSET(BJ16,Index!$B$4-2,0))","v":67765},{"$f":"OFFSET(BK16,Index!$B$7-1,0)-IF(Index!$B$4-2=-1,0,OFFSET(BK16,Index!$B$4-2,0))","v":67754},{"$f":"OFFSET(BL16,Index!$B$7-1,0)-IF(Index!$B$4-2=-1,0,OFFSET(BL16,Index!$B$4-2,0))","v":67626},{"$f":"OFFSET(BM16,Index!$B$7-1,0)-IF(Index!$B$4-2=-1,0,OFFSET(BM16,Index!$B$4-2,0))","v":67298},{"$f":"OFFSET(BN16,Index!$B$7-1,0)-IF(Index!$B$4-2=-1,0,OFFSET(BN16,Index!$B$4-2,0))","v":67687},{"$f":"OFFSET(BO16,Index!$B$7-1,0)-IF(Index!$B$4-2=-1,0,OFFSET(BO16,Index!$B$4-2,0))","v":67692},{"$f":"OFFSET(BP16,Index!$B$7-1,0)-IF(Index!$B$4-2=-1,0,OFFSET(BP16,Index!$B$4-2,0))","v":67555},null,null,null,null,{"$f":"INDEX($AR4:$BL4,Index!$B$16)","v":59863},{"$f":"INDEX($AR4:$BM4,Index!$B$19)","v":67626},{"$f":"BV4-BU4","v":7763},{"$f":"BW4/BU4","v":0.12967943470925281}]
[null,null,null,null,null,null,null,null,null,null,null,null,null,null,null,null,null,null,null,null,null,null,null,null,null,null,null,null,null,null,null,null,null,null,null,"Females",{"$f":"OFFSET(AK109,Index!$B$7-1,0)-IF(Index!$B$4-2=-1,0,OFFSET(AK109,Index!$B$4-2,0))","v":66359},{"$f":"OFFSET(AL109,Index!$B$7-1,0)-IF(Index!$B$4-2=-1,0,OFFSET(AL109,Index!$B$4-2,0))","v":65947},{"$f":"OFFSET(AM109,Index!$B$7-1,0)-IF(Index!$B$4-2=-1,0,OFFSET(AM109,Index!$B$4-2,0))","v":65855},{"$f":"OFFSET(AN109,Index!$B$7-1,0)-IF(Index!$B$4-2=-1,0,OFFSET(AN109,Index!$B$4-2,0))","v":65712},{"$f":"OFFSET(AO109,Index!$B$7-1,0)-IF(Index!$B$4-2=-1,0,OFFSET(AO109,Index!$B$4-2,0))","v":65693},{"$f":"OFFSET(AP109,Index!$B$7-1,0)-IF(Index!$B$4-2=-1,0,OFFSET(AP109,Index!$B$4-2,0))","v":66090},{"$f":"OFFSET(AQ109,Index!$B$7-1,0)-IF(Index!$B$4-2=-1,0,OFFSET(AQ109,Index!$B$4-2,0))","v":66147},{"$f":"OFFSET(AR109,Index!$B$7-1,0)-IF(Index!$B$4-2=-1,0,OFFSET(AR109,Index!$B$4-2,0))","v":66613},{"$f":"OFFSET(AS109,Index!$B$7-1,0)-IF(Index!$B$4-2=-1,0,OFFSET(AS109,Index!$B$4-2,0))","v":66583},{"$f":"OFFSET(AT109,Index!$B$7-1,0)-IF(Index!$B$4-2=-1,0,OFFSET(AT109,Index!$B$4-2,0))","v":66748},{"$f":"OFFSET(AU109,Index!$B$7-1,0)-IF(Index!$B$4-2=-1,0,OFFSET(AU109,Index!$B$4-2,0))","v":67058},{"$f":"OFFSET(AV109,Index!$B$7-1,0)-IF(Index!$B$4-2=-1,0,OFFSET(AV109,Index!$B$4-2,0))","v":67181},{"$f":"OFFSET(AW109,Index!$B$7-1,0)-IF(Index!$B$4-2=-1,0,OFFSET(AW109,Index!$B$4-2,0))","v":67386},{"$f":"OFFSET(AX109,Index!$B$7-1,0)-IF(Index!$B$4-2=-1,0,OFFSET(AX109,Index!$B$4-2,0))","v":67565},{"$f":"OFFSET(AY109,Index!$B$7-1,0)-IF(Index!$B$4-2=-1,0,OFFSET(AY109,Index!$B$4-2,0))","v":67636},{"$f":"OFFSET(AZ109,Index!$B$7-1,0)-IF(Index!$B$4-2=-1,0,OFFSET(AZ109,Index!$B$4-2,0))","v":68080},{"$f":"OFFSET(BA109,Index!$B$7-1,0)-IF(Index!$B$4-2=-1,0,OFFSET(BA109,Index!$B$4-2,0))","v":68579},{"$f":"OFFSET(BB109,Index!$B$7-1,0)-IF(Index!$B$4-2=-1,0,OFFSET(BB109,Index!$B$4-2,0))","v":68793},{"$f":"OFFSET(BC109,Index!$B$7-1,0)-IF(Index!$B$4-2=-1,0,OFFSET(BC109,Index!$B$4-2,0))","v":69403},{"$f":"OFFSET(BD109,Index!$B$7-1,0)-IF(Index!$B$4-2=-1,0,OFFSET(BD109,Index!$B$4-2,0))","v":69750},{"$f":"OFFSET(BE109,Index!$B$7-1,0)-IF(Index!$B$4-2=-1,0,OFFSET(BE109,Index!$B$4-2,0))","v":70524},{"$f":"OFFSET(BF109,Index!$B$7-1,0)-IF(Index!$B$4-2=-1,0,OFFSET(BF109,Index!$B$4-2,0))","v":71122},{"$f":"OFFSET(BG109,Index!$B$7-1,0)-IF(Index!$B$4-2=-1,0,OFFSET(BG109,Index!$B$4-2,0))","v":72060},{"$f":"OFFSET(BH109,Index!$B$7-1,0)-IF(Index!$B$4-2=-1,0,OFFSET(BH109,Index!$B$4-2,0))","v":72509},{"$f":"OFFSET(BI109,Index!$B$7-1,0)-IF(Index!$B$4-2=-1,0,OFFSET(BI109,Index!$B$4-2,0))","v":72832},{"$f":"OFFSET(BJ109,Index!$B$7-1,0)-IF(Index!$B$4-2=-1,0,OFFSET(BJ109,Index!$B$4-2,0))","v":72915},{"$f":"OFFSET(BK109,Index!$B$7-1,0)-IF(Index!$B$4-2=-1,0,OFFSET(BK109,Index!$B$4-2,0))","v":73094},{"$f":"OFFSET(BL109,Index!$B$7-1,0)-IF(Index!$B$4-2=-1,0,OFFSET(BL109,Index!$B$4-2,0))","v":72998},{"$f":"OFFSET(BM109,Index!$B$7-1,0)-IF(Index!$B$4-2=-1,0,OFFSET(BM109,Index!$B$4-2,0))","v":72647},{"$f":"OFFSET(BN109,Index!$B$7-1,0)-IF(Index!$B$4-2=-1,0,OFFSET(BN109,Index!$B$4-2,0))","v":72971},{"$f":"OFFSET(BO109,Index!$B$7-1,0)-IF(Index!$B$4-2=-1,0,OFFSET(BO109,Index!$B$4-2,0))","v":72991},{"$f":"OFFSET(BP109,Index!$B$7-1,0)-IF(Index!$B$4-2=-1,0,OFFSET(BP109,Index!$B$4-2,0))","v":72884},null,null,null,null,{"$f":"INDEX($AR5:$BL5,Index!$B$16)","v":66613},{"$f":"INDEX($AR5:$BM5,Index!$B$19)","v":72998},{"$f":"BV5-BU5","v":6385},{"$f":"BW5/BU5","v":9.5852160989596619E-2}]
[null,null,null,null,null,null,null,null,null,null,null,null,null,null,null,null,null,null,null,null,null,null,null,null,null,null,null,null,null,null,null,null,null,null,null,"Total",{"$f":"SUM(AK4:AK5)","v":125402},{"$f":"SUM(AL4:AL5)","v":124668},{"$f":"SUM(AM4:AM5)","v":124380},{"$f":"SUM(AN4:AN5)","v":124265},{"$f":"SUM(AO4:AO5)","v":124433},{"$f":"SUM(AP4:AP5)","v":125370},125523,126476,126453,126750,127675,128140,128782,129301,129601,130637,131750,132337,133508,134402,135730,136916,138695,139668,140373,140680,140848,140624,139945,140658,140683,140439,null,null,null,null,{"$f":"INDEX($AR6:$BL6,Index!$B$16)","v":126476},{"$f":"INDEX($AR6:$BM6,Index!$B$19)","v":140624},{"$f":"BV6-BU6","v":14148},{"$f":"BW6/BU6","v":0.11186312027578355}]
[]
[null,null,null,null,null,null,null,null,null,null,null,null,null,null,null,null,null,null,null,null,null,null,null,null,null,null,null,null,null,null,null,null,null,null,null,"Males",{"$f":"IF(AK4<0,\"0\",AK4)","v":59043},{"$f":"IF(AL4<0,\"0\",AL4)","v":58721},58525,58553,58740,59280,59376,59863,59870,60002,60617,60959,61396,61736,61965,62557,63171,63544,64105,64652,65206,65794,66635,67159,67541,67765,{"$f":"IF(BK4<0,\"0\",BK4)","v":67754},67626,67298,{"$f":"IF(BN4<0,\"0\",BN4)","v":67687},67692,{"$f":"IF(BP4<0,\"0\",BP4)","v":67555}]
[null,null,null,null,null,null,null,null,null,null,null,null,null,null,null,null,null,null,null,null,null,null,null,null,null,null,null,null,null,null,null,null,null,null,null,"Females",{"$f":"IF(AK5<0,\"0\",AK5)","v":66359},65947,65855,65712,65693,66090,66147,66613,66583,66748,67058,67181,67386,67565,67636,68080,68579,68793,69403,69750,70524,71122,72060,72509,72832,72915,73094,72998,72647,{"$f":"IF(BN5<0,\"0\",BN5)","v":72971},72991,{"$f":"IF(BP5<0,\"0\",BP5)","v":72884}]
[null,null,null,null,null,null,null,null,null,null,null,null,null,null,null,null,null,null,null,null,null,null,null,null,null,null,null,null,null,null,null,null,null,null,null,"Total",{"$f":"SUM(AK8:AK9)","v":125402},{"$f":"SUM(AL8:AL9)","v":124668},124380,124265,124433,125370,125523,126476,126453,126750,127675,128140,128782,129301,129601,130637,131750,132337,133508,134402,135730,136916,138695,139668,140373,140680,{"$f":"SUM(BK8:BK9)","v":140848},140624,139945,140658,140683,140439]
[]
[null,null,null,"MYE for  . . . . . .",null,null,null,"Thanet",null,null,null,null,null,null,null,null,null,null,null,null,null,null,null,null,null,null,null,null,null,null,null,null,null,null,null,null,null,null,null,null,"Cummulative Ages",null,null,null,null,null,null,null,null,null,null,null,null,null,null,null,null,null,null,null,null,null,null,null,null,null,null,null,null,"Population Pyramid"]
[null,null,"Base Year",null,null,null,null,null,null,null,null,null,null,null,null,null,null,null,null,null,null,null,null,null,null,null,null,null,null,null,null,null,null,null,null,null,{"$f":"C14","v":1992},1993,1994,1995,1996,1997,1998,1999,2000,2001,2002,2003,2004,2005,2006,2007,2008,2009,2010,2011,2012,2013,2014,2015,2016,2017,2018,2019,2020,2021,2022,2023]
["Sex","Age",1992,1993,1994,1995,1996,1997,1998,1999,2000,2001,2002,2003,2004,2005,2006,2007,2008,2009,2010,2011,2012,2013,2014,2015,2016,2017,2018,2019,2020,2021,2022,2023,null,null,null,null,null,null,null,null,null,null,null,null,null,null,null,null,null,null,null,null,null,null,null,null,null,null,null,null,null,null,null,null,null,null,null,null,null,null,1992,1993,1994,1995,1996,1997,1998,1999,2000,2001,2002,2003,2004,2005,2006,2007,2008,2009,2010,2011,2012,2013,2014,2015,2016,2017,2018,2019,2020,2021,2022,2023,null,{"$f":"INDEX(CC14:CY14,'Population Pyramid'!$L$1)","v":2020}]
[null,"All persons",{"$f":"SUM(C107,C200)","v":125402},{"$f":"SUM(D107,D200)","v":124668},124380,124265,124433,125370,125523,126476,126453,126750,127675,128140,128782,129301,129601,130637,131750,132337,133508,134402,135730,136916,{"$f":"SUM(Y107,Y200)","v":138695},139668,140373,140680,140848,140624,{"$f":"SUM(AE107,AE200)","v":139945},140658,{"$f":"SUM(AG107,AG200)","v":140683},140439,null,"Males",null,null,null,null,null,null,null,null,null,null,null,null,null,null,null,null,null,null,null,null,null,null,null,null,null,null,null,null,null,null,null,null,null,"Males","All Ages",null,{"$f":"C107","v":59043},58721,58525,58553,58740,59280,59376,59863,59870,60002,60617,60959,61396,61736,61965,62557,63171,63544,64105,64652,65206,65794,66635,67159,67541,67765,67754,67626,67298,67687,67692,67555,null,{"$f":"INDEX(CC15:CY15,'Population Pyramid'!$L$1)","v":67298}]
["male",0,818,766,721,710,746,761,751,733,713,631,707,718,695,751,739,796,815,843,814,873,895,863,803,798,880,795,821,804,748,696,725,708,null,0,{"$f":"C16","v":818},766,721,710,746,761,751,733,713,631,707,718,695,751,739,796,815,843,814,873,895,863,803,798,880,795,821,804,748,696,725,708,null,"Males","0-4",null,{"$f":"SUM(C16:C20)","v":3946},3930,3836,3865,3825,3792,3767,3840,3815,3651,3656,3629,3553,3567,3629,3742,3888,4030,4065,4201,4273,4317,4273,4264,4272,4134,4024,3992,3924,3826,3840,3826,null,{"$f":"INDEX(CC16:CY16,'Population Pyramid'!$L$1)","v":3924}]
["male",1,790,811,748,758,702,756,760,770,727,694,669,709,702,708,754,749,796,822,826,812,858,901,866,805,790,866,778,788,787,783,726,744,null,1,{"$f":"AK16+C17","v":1608},{"$f":"AL16+D17","v":1577},{"$f":"AM16+E17","v":1469},{"$f":"AN16+F17","v":1468},{"$f":"AO16+G17","v":1448},{"$f":"AP16+H17","v":1517},{"$f":"AQ16+I17","v":1511},{"$f":"AR16+J17","v":1503},{"$f":"AS16+K17","v":1440},{"$f":"AT16+L17","v":1325},{"$f":"AU16+M17","v":1376},{"$f":"AV16+N17","v":1427},{"$f":"AW16+O17","v":1397},{"$f":"AX16+P17","v":1459},{"$f":"AY16+Q17","v":1493},{"$f":"AZ16+R17","v":1545},{"$f":"BA16+S17","v":1611},{"$f":"BB16+T17","v":1665},{"$f":"BC16+U17","v":1640},{"$f":"BD16+V17","v":1685},{"$f":"BE16+W17","v":1753},{"$f":"BF16+X17","v":1764},{"$f":"BG16+Y17","v":1669},{"$f":"BH16+Z17","v":1603},{"$f":"BI16+AA17","v":1670},{"$f":"BJ16+AB17","v":1661},{"$f":"BK16+AC17","v":1599},{"$f":"BL16+AD17","v":1592},{"$f":"BM16+AE17","v":1535},{"$f":"BN16+AF17","v":1479},{"$f":"BO16+AG17","v":1451},1452,null,"Males","5-9",null,{"$f":"SUM(C21:C25)","v":3871},3906,3977,3958,3960,4061,4077,4150,4195,4165,4112,4158,4116,4124,3991,3936,3809,3781,3749,3836,3923,4041,4154,4163,4276,4374,4351,4218,4138,4147,4030,4014,null,{"$f":"INDEX(CC17:CY17,'Population Pyramid'!$L$1)","v":4138}]
["male",2,757,802,832,771,775,724,777,807,771,726,720,677,717,703,704,762,763,812,832,832,830,861,900,894,803,789,864,769,780,792,795,742,null,2,2365,2379,2301,2239,2223,2241,2288,2310,2211,2051,2096,2104,2114,2162,2197,2307,2374,2477,2472,2517,2583,2625,2569,2497,2473,2450,2463,2361,2315,2271,2246,2194,null,"Males","10-14",null,{"$f":"SUM(C26:C30)","v":3914},3946,3969,4030,4101,4213,4272,4440,4403,4493,4671,4675,4671,4617,4472,4441,4470,4456,4469,4451,4301,4154,4113,4110,4101,4195,4286,4280,4230,4293,4417,4393,null,{"$f":"INDEX(CC18:CY18,'Population Pyramid'!$L$1)","v":4230}]
["male",3,831,748,806,835,778,780,721,797,805,784,753,755,678,722,710,723,777,775,818,850,829,849,855,900,903,792,779,854,768,784,809,806,null,3,3196,3127,3107,3074,3001,3021,3009,3107,3016,2835,2849,2859,2792,2884,2907,3030,3151,3252,3290,3367,3412,3474,3424,3397,3376,3242,3242,3215,3083,3055,3055,3000,null,"Males","15-19",null,{"$f":"SUM(C31:C35)","v":3836},3746,3613,3531,3577,3613,3756,3794,3927,3991,4044,4178,4215,4189,4305,4478,4501,4564,4612,4539,4457,4500,4455,4355,4217,4076,3907,3832,3884,3883,3893,4063,null,{"$f":"INDEX(CC19:CY19,'Population Pyramid'!$L$1)","v":3884}]
["male",4,750,803,729,791,824,771,758,733,799,816,807,770,761,683,722,712,737,778,775,834,861,843,849,867,896,892,782,777,841,771,785,826,null,4,3946,3930,3836,3865,3825,3792,3767,3840,3815,3651,3656,3629,3553,3567,3629,3742,3888,4030,4065,4201,4273,4317,4273,4264,4272,4134,4024,3992,3924,3826,3840,3826,null,"Males","20-24",null,{"$f":"SUM(C36:C40)","v":3657},3514,3423,3349,3192,3097,2952,2709,2679,2878,2973,2971,3092,3208,3271,3355,3480,3508,3557,3706,3890,3964,4149,4071,3890,3746,3616,3474,3333,3344,3226,3038,null,{"$f":"INDEX(CC20:CY20,'Population Pyramid'!$L$1)","v":3333}]
["male",5,775,749,805,731,799,836,779,812,748,803,831,832,788,774,692,731,720,731,782,778,820,857,855,840,863,898,883,777,775,849,775,806,null,5,4721,4679,4641,4596,4624,4628,4546,4652,4563,4454,4487,4461,4341,4341,4321,4473,4608,4761,4847,4979,5093,5174,5128,5104,5135,5032,4907,4769,4699,4675,4615,4632,null,"Males","25-29",null,{"$f":"SUM(C41:C45)","v":3842},3782,3748,3742,3841,3908,3817,3558,3275,2918,2824,2802,2859,2953,3090,3187,3263,3265,3349,3404,3421,3512,3594,3689,3832,3914,3920,3869,3727,3611,3492,3390,null,{"$f":"INDEX(CC21:CY21,'Population Pyramid'!$L$1)","v":3727}]
["male",6,787,785,767,822,749,826,858,802,805,755,797,847,835,794,768,720,723,736,736,816,765,826,857,872,836,860,879,867,767,772,851,772,null,6,5508,5464,5408,5418,5373,5454,5404,5454,5368,5209,5284,5308,5176,5135,5089,5193,5331,5497,5583,5795,5858,6000,5985,5976,5971,5892,5786,5636,5466,5447,5466,5404,null,"Males","30-34",null,{"$f":"SUM(C46:C50)","v":3520},3585,3730,3876,3897,3989,3962,3915,3833,3748,3652,3466,3357,3306,3153,3037,3068,3100,3148,3249,3398,3482,3520,3590,3620,3669,3758,3793,3814,3914,3979,3959,null,{"$f":"INDEX(CC22:CY22,'Population Pyramid'!$L$1)","v":3814}]
["male",7,765,805,795,785,833,767,846,854,831,816,765,799,861,853,789,795,734,729,736,749,797,754,843,847,880,842,860,874,854,773,788,879,null,7,6273,6269,6203,6203,6206,6221,6250,6308,6199,6025,6049,6107,6037,5988,5878,5988,6065,6226,6319,6544,6655,6754,6828,6823,6851,6734,6646,6510,6320,6220,6254,6283,null,"Males","35-39",null,{"$f":"SUM(C51:C55)","v":3450},3438,3411,3418,3507,3612,3700,3913,4061,4121,4185,4213,4140,4014,4033,3965,3870,3771,3687,3408,3323,3294,3348,3441,3644,3712,3780,3788,3817,3952,4035,4141,null,{"$f":"INDEX(CC23:CY23,'Population Pyramid'!$L$1)","v":3817}]
["male",8,758,780,816,789,785,832,758,884,887,861,850,800,813,870,868,806,811,752,730,738,780,813,769,838,855,901,841,862,881,855,768,795,null,8,7031,7049,7019,6992,6991,7053,7008,7192,7086,6886,6899,6907,6850,6858,6746,6794,6876,6978,7049,7282,7435,7567,7597,7661,7706,7635,7487,7372,7201,7075,7022,7078,null,"Males","40-44",null,{"$f":"SUM(C56:C60)","v":3930},3705,3657,3607,3553,3605,3693,3673,3708,3864,4012,4104,4291,4457,4420,4431,4421,4370,4278,4258,4211,4080,4019,3964,3734,3683,3680,3704,3766,3932,3972,4041,null,{"$f":"INDEX(CC24:CY24,'Population Pyramid'!$L$1)","v":3766}]
["male",9,786,787,794,831,794,800,836,798,924,930,869,880,819,833,874,884,821,833,765,755,761,791,830,766,842,873,888,838,861,898,848,762,null,9,7817,7836,7813,7823,7785,7853,7844,7990,8010,7816,7768,7787,7669,7691,7620,7678,7697,7811,7814,8037,8196,8358,8427,8427,8548,8508,8375,8210,8062,7973,7870,7840,null,"Males","45-49",null,{"$f":"SUM(C61:C65)","v":3971},4117,4150,4140,4147,3932,3703,3762,3684,3610,3660,3784,3871,3932,4101,4162,4267,4363,4509,4553,4531,4508,4504,4394,4450,4380,4312,4277,4160,3989,3907,3856,null,{"$f":"INDEX(CC25:CY25,'Population Pyramid'!$L$1)","v":4160}]
["male",10,755,780,818,812,846,801,803,874,842,956,951,882,893,828,850,893,894,853,850,787,777,785,825,834,794,862,883,894,834,866,910,851,null,10,8572,8616,8631,8635,8631,8654,8647,8864,8852,8772,8719,8669,8562,8519,8470,8571,8591,8664,8664,8824,8973,9143,9252,9261,9342,9370,9258,9104,8896,8839,8780,8691,null,"Males","50-54",null,{"$f":"SUM(C66:C70)","v":3111},3223,3362,3516,3727,3989,4139,4243,4231,4221,4050,3875,3858,3855,3743,3829,3925,3959,4051,4187,4267,4417,4529,4719,4764,4732,4722,4646,4530,4546,4464,4357,null,{"$f":"INDEX(CC26:CY26,'Population Pyramid'!$L$1)","v":4530}]
["male",11,831,777,800,842,838,872,817,842,897,874,972,965,903,906,834,855,905,927,872,868,809,777,787,855,851,802,857,874,893,836,865,915,null,11,9403,9393,9431,9477,9469,9526,9464,9706,9749,9646,9691,9634,9465,9425,9304,9426,9496,9591,9536,9692,9782,9920,10039,10116,10193,10172,10115,9978,9789,9675,9645,9606,null,"Males","55-59",null,{"$f":"SUM(C71:C75)","v":2899},2931,2991,3033,3056,3143,3269,3467,3677,3924,4207,4394,4495,4470,4498,4243,4031,4010,3965,3887,3957,4002,4073,4163,4306,4438,4541,4641,4795,4856,4790,4695,null,{"$f":"INDEX(CC27:CY27,'Population Pyramid'!$L$1)","v":4795}]
["male",12,789,842,781,813,876,877,898,877,898,913,909,1012,979,899,923,847,878,920,940,897,876,827,795,809,858,871,816,847,881,884,851,868,null,12,10192,10235,10212,10290,10345,10403,10362,10583,10647,10559,10600,10646,10444,10324,10227,10273,10374,10511,10476,10589,10658,10747,10834,10925,11051,11043,10931,10825,10670,10559,10496,10474,null,"Males","60-64",null,{"$f":"SUM(C76:C80)","v":3137},3089,3035,2964,2964,3036,3121,3208,3219,3252,3335,3437,3557,3711,3909,4217,4481,4543,4607,4661,4366,4156,4111,4107,4001,4049,4151,4207,4239,4371,4498,4558,null,{"$f":"INDEX(CC28:CY28,'Population Pyramid'!$L$1)","v":4239}]
["male",13,817,772,833,771,796,880,879,953,864,917,928,912,1005,987,901,935,864,888,932,953,898,873,840,811,806,859,880,806,833,882,893,858,null,13,11009,11007,11045,11061,11141,11283,11241,11536,11511,11476,11528,11558,11449,11311,11128,11208,11238,11399,11408,11542,11556,11620,11674,11736,11857,11902,11811,11631,11503,11441,11389,11332,null,"Males","65-69",null,{"$f":"SUM(C81:C85)","v":3425},3272,3233,3207,3112,3079,3076,3051,3020,3013,3058,3122,3183,3197,3185,3216,3300,3452,3622,3849,4276,4529,4644,4747,4754,4429,4185,4102,4042,3968,3996,4079,null,{"$f":"INDEX(CC29:CY29,'Population Pyramid'!$L$1)","v":4042}]
["male",14,722,775,737,792,745,783,875,894,902,833,911,904,891,997,964,911,929,868,875,946,941,892,866,801,792,801,850,859,789,825,898,901,null,14,11731,11782,11782,11853,11886,12066,12116,12430,12413,12309,12439,12462,12340,12308,12092,12119,12167,12267,12283,12488,12497,12512,12540,12537,12649,12703,12661,12490,12292,12266,12287,12233,null,"Males","70-74",null,{"$f":"SUM(C86:C90)","v":3490},3573,3559,3282,3100,2931,2816,2870,2892,2875,2861,2845,2789,2741,2761,2842,2890,2925,2950,2955,3018,3179,3376,3538,3755,4155,4324,4404,4385,4374,4085,3830,null,{"$f":"INDEX(CC30:CY30,'Population Pyramid'!$L$1)","v":4385}]
["male",15,738,706,760,736,779,742,771,877,890,909,833,907,908,874,1002,983,910,944,882,891,950,956,878,885,794,817,799,846,858,789,832,908,null,15,12469,12488,12542,12589,12665,12808,12887,13307,13303,13218,13272,13369,13248,13182,13094,13102,13077,13211,13165,13379,13447,13468,13418,13422,13443,13520,13460,13336,13150,13055,13119,13141,null,"Males","75-79",null,{"$f":"SUM(C91:C95)","v":2569},2417,2263,2423,2565,2681,2743,2768,2609,2511,2443,2378,2406,2414,2400,2367,2392,2330,2337,2357,2434,2458,2526,2571,2593,2657,2779,2917,3019,3187,3500,3633,null,{"$f":"INDEX(CC31:CY31,'Population Pyramid'!$L$1)","v":3019}]
["male",16,726,723,704,759,739,790,747,774,878,880,899,839,899,911,860,1006,983,911,959,889,886,941,953,871,866,783,811,797,840,861,804,842,null,16,13195,13211,13246,13348,13404,13598,13634,14081,14181,14098,14171,14208,14147,14093,13954,14108,14060,14122,14124,14268,14333,14409,14371,14293,14309,14303,14271,14133,13990,13916,13923,13983,null,"Males","80-84",null,{"$f":"SUM(C96:C100)","v":1623},1659,1658,1725,1701,1639,1553,1447,1577,1708,1804,1877,1862,1823,1773,1764,1711,1727,1718,1723,1712,1753,1762,1755,1775,1826,1841,1898,1953,1964,2012,2095,null,{"$f":"INDEX(CC32:CY32,'Population Pyramid'!$L$1)","v":1953}]
["male",17,791,719,723,705,756,733,784,712,745,855,853,886,817,870,907,859,1001,978,918,969,877,898,939,948,876,841,769,786,789,844,854,803,null,17,13986,13930,13969,14053,14160,14331,14418,14793,14926,14953,15024,15094,14964,14963,14861,14967,15061,15100,15042,15237,15210,15307,15310,15241,15185,15144,15040,14919,14779,14760,14777,14786,null,"Males","85+",null,{"$f":"SUM(C101:C106)","v":852},888,910,887,915,960,960,1055,1065,1059,1070,1051,1081,1158,1231,1345,1404,1390,1432,1428,1448,1448,1485,1518,1557,1596,1577,1584,1542,1530,1556,1587,null,{"$f":"INDEX(CC33:CY33,'Population Pyramid'!$L$1)","v":1542}]
["male",18,854,796,725,717,696,748,757,758,684,727,835,826,874,790,838,883,829,1000,962,908,941,853,892,895,906,852,814,736,766,746,795,829,null,18,14840,14726,14694,14770,14856,15079,15175,15551,15610,15680,15859,15920,15838,15753,15699,15850,15890,16100,16004,16145,16151,16160,16202,16136,16091,15996,15854,15655,15545,15506,15572,15615]
["male",19,727,802,701,614,607,600,697,673,730,620,624,720,717,744,698,747,778,731,891,882,803,852,793,756,775,783,714,667,631,643,608,681,null,19,15567,15528,15395,15384,15463,15679,15872,16224,16340,16300,16483,16640,16555,16497,16397,16597,16668,16831,16895,17027,16954,17012,16995,16892,16866,16779,16568,16322,16176,16149,16180,16296,null,"Males","All Ages",null,{"$f":"C200","v":66359},65947,65855,65712,65693,66090,66147,66613,66583,66748,67058,67181,67386,67565,67636,68080,68579,68793,69403,69750,70524,71122,72060,72509,72832,72915,73094,72998,72647,72971,72991,72884,null,{"$f":"INDEX(CC35:CY35,'Population Pyramid'!$L$1)","v":72647}]
["male",20,776,663,668,562,467,470,483,575,561,651,576,553,649,674,692,655,703,727,710,827,860,798,828,743,709,735,708,619,640,603,593,546,null,20,16343,16191,16063,15946,15930,16149,16355,16799,16901,16951,17059,17193,17204,17171,17089,17252,17371,17558,17605,17854,17814,17810,17823,17635,17575,17514,17276,16941,16816,16752,16773,16842,null,"Females","0-4",null,{"$f":"SUM(C109:C113)","v":3715},3705,3686,3626,3582,3559,3481,3623,3523,3383,3313,3192,3176,3167,3257,3403,3549,3695,3929,3932,4022,3959,3946,3940,3909,3826,3797,3629,3526,3481,3502,3423,null,{"$f":"INDEX(CC36:CY36,'Population Pyramid'!$L$1)","v":3526}]
["male",21,711,720,567,646,569,502,497,517,559,570,653,576,572,655,665,687,656,691,746,718,817,848,838,792,727,699,712,704,602,629,599,580,null,21,17054,16911,16630,16592,16499,16651,16852,17316,17460,17521,17712,17769,17776,17826,17754,17939,18027,18249,18351,18572,18631,18658,18661,18427,18302,18213,17988,17645,17418,17381,17372,17422,null,"Females","5-9",null,{"$f":"SUM(C114:C118)","v":3624},3699,3751,3746,3802,3850,3898,3951,3937,3897,3905,3859,3850,3844,3704,3603,3437,3423,3391,3494,3621,3792,3874,4008,4025,4047,3998,3940,3871,3797,3729,3788,null,{"$f":"INDEX(CC37:CY37,'Population Pyramid'!$L$1)","v":3871}]
["male",22,703,710,700,609,684,635,531,484,525,565,586,651,606,597,657,690,725,666,694,758,722,827,849,817,804,725,697,744,695,661,654,589,null,22,17757,17621,17330,17201,17183,17286,17383,17800,17985,18086,18298,18420,18382,18423,18411,18629,18752,18915,19045,19330,19353,19485,19510,19244,19106,18938,18685,18389,18113,18042,18026,18011,null,"Females","10-14",null,{"$f":"SUM(C119:C123)","v":3764},3760,3773,3758,3791,3857,3983,4069,4085,4208,4221,4255,4208,4185,4151,4144,4148,4129,4164,4039,3884,3699,3643,3583,3654,3742,3879,3940,3989,4024,4064,4022,null,{"$f":"INDEX(CC38:CY38,'Population Pyramid'!$L$1)","v":3989}]
["male",23,727,714,749,765,688,764,684,524,512,569,581,598,656,615,627,686,701,729,673,705,773,740,870,859,795,792,729,682,731,714,667,657,null,23,18484,18335,18079,17966,17871,18050,18067,18324,18497,18655,18879,19018,19038,19038,19038,19315,19453,19644,19718,20035,20126,20225,20380,20103,19901,19730,19414,19071,18844,18756,18693,18668,null,"Females","15-19",null,{"$f":"SUM(C124:C128)","v":3557},3491,3395,3410,3463,3584,3673,3713,3683,3744,3830,3960,4012,3974,4003,4061,4198,4127,4113,4107,4118,4163,4195,4076,3886,3723,3565,3466,3386,3381,3395,3568,null,{"$f":"INDEX(CC39:CY39,'Population Pyramid'!$L$1)","v":3386}]
["male",24,740,707,739,767,784,726,757,609,522,523,577,593,609,667,630,637,695,695,734,698,718,751,764,860,855,795,770,725,665,737,713,666,null,24,19224,19042,18818,18733,18655,18776,18824,18933,19019,19178,19456,19611,19647,19705,19668,19952,20148,20339,20452,20733,20844,20976,21144,20963,20756,20525,20184,19796,19509,19493,19406,19334,null,"Females","20-24",null,{"$f":"SUM(C129:C133)","v":3737},3552,3423,3343,3230,3166,3106,2894,3001,3112,3194,3252,3323,3380,3366,3418,3576,3678,3670,3687,3811,4005,4223,4125,4038,3794,3665,3554,3391,3288,3060,2852,null,{"$f":"INDEX(CC40:CY40,'Population Pyramid'!$L$1)","v":3391}]
["male",25,746,707,730,733,775,788,715,675,583,526,533,595,617,625,661,638,643,686,674,718,699,711,763,753,843,831,765,753,710,677,707,680,null,25,19970,19749,19548,19466,19430,19564,19539,19608,19602,19704,19989,20206,20264,20330,20329,20590,20791,21025,21126,21451,21543,21687,21907,21716,21599,21356,20949,20549,20219,20170,20113,20014,null,"Females","25-29",null,{"$f":"SUM(C134:C138)","v":4025},3992,4103,4054,4094,4177,4114,3882,3620,3361,3226,3129,3204,3358,3471,3578,3653,3741,3789,3883,3990,4045,4173,4202,4251,4344,4392,4281,4185,4106,3969,3826,null,{"$f":"INDEX(CC41:CY41,'Population Pyramid'!$L$1)","v":4185}]
["male",26,731,762,737,744,739,798,775,687,628,550,532,525,587,629,617,657,650,646,678,656,711,712,708,773,737,833,817,730,734,710,663,661,null,26,20701,20511,20285,20210,20169,20362,20314,20295,20230,20254,20521,20731,20851,20959,20946,21247,21441,21671,21804,22107,22254,22399,22615,22489,22336,22189,21766,21279,20953,20880,20776,20675,null,"Females","30-34",null,{"$f":"SUM(C139:C143)","v":3737},3790,3880,4040,4079,4088,4080,4168,4104,4086,4094,4024,3870,3747,3603,3516,3421,3446,3574,3645,3798,3952,4014,4061,4092,4242,4329,4398,4432,4569,4599,4623,null,{"$f":"INDEX(CC42:CY42,'Population Pyramid'!$L$1)","v":4432}]
["male",27,802,728,775,751,764,758,801,735,642,573,571,543,548,607,639,622,682,649,662,683,673,705,705,738,771,734,820,800,709,730,688,648,null,27,21503,21239,21060,20961,20933,21120,21115,21030,20872,20827,21092,21274,21399,21566,21585,21869,22123,22320,22466,22790,22927,23104,23320,23227,23107,22923,22586,22079,21662,21610,21464,21323,null,"Females","35-39",null,{"$f":"SUM(C144:C148)","v":3723},3679,3679,3698,3752,3901,3989,4126,4298,4383,4396,4386,4445,4426,4408,4315,4248,4091,3973,3800,3735,3628,3738,3875,3976,4081,4262,4235,4200,4362,4559,4690,null,{"$f":"INDEX(CC43:CY43,'Population Pyramid'!$L$1)","v":4200}]
["male",28,793,760,700,768,745,765,728,718,713,595,570,563,537,558,606,645,626,660,670,660,688,682,713,693,756,764,761,800,783,706,713,683,null,28,22296,21999,21760,21729,21678,21885,21843,21748,21585,21422,21662,21837,21936,22124,22191,22514,22749,22980,23136,23450,23615,23786,24033,23920,23863,23687,23347,22879,22445,22316,22177,22006,null,"Females","40-44",null,{"$f":"SUM(C149:C153)","v":4038},3834,3772,3712,3754,3786,3777,3862,3971,4099,4216,4339,4430,4568,4646,4689,4665,4660,4658,4641,4551,4546,4388,4339,4224,4128,4007,4047,4111,4199,4319,4480,null,{"$f":"INDEX(CC44:CY44,'Population Pyramid'!$L$1)","v":4111}]
["male",29,770,825,806,746,818,799,798,743,709,674,618,576,570,534,567,625,662,624,665,687,650,702,705,732,725,752,757,786,791,788,721,718,null,29,23066,22824,22566,22475,22496,22684,22641,22491,22294,22096,22280,22413,22506,22658,22758,23139,23411,23604,23801,24137,24265,24488,24738,24652,24588,24439,24104,23665,23236,23104,22898,22724,null,"Females","45-49",null,{"$f":"SUM(C154:C158)","v":4066},4334,4429,4465,4381,4112,3927,3913,3871,3904,3984,4023,4058,4138,4201,4339,4490,4642,4749,4805,4849,4844,4928,4921,4936,4881,4862,4661,4579,4399,4279,4168,null,{"$f":"INDEX(CC45:CY45,'Population Pyramid'!$L$1)","v":4579}]
["male",30,720,750,831,796,737,810,783,763,708,707,677,619,579,590,562,570,628,664,639,676,711,666,700,730,747,719,758,744,765,810,805,747,null,30,23786,23574,23397,23271,23233,23494,23424,23254,23002,22803,22957,23032,23085,23248,23320,23709,24039,24268,24440,24813,24976,25154,25438,25382,25335,25158,24862,24409,24001,23914,23703,23471,null,"Females","50-54",null,{"$f":"SUM(C159:C163)","v":3153},3219,3355,3457,3704,4114,4384,4591,4641,4598,4320,4138,4103,4078,4109,4144,4130,4107,4209,4339,4494,4675,4808,4920,4969,5020,5031,5139,5098,5199,5072,4920,null,{"$f":"INDEX(CC46:CY46,'Population Pyramid'!$L$1)","v":5098}]
["male",31,749,749,784,849,810,748,812,790,759,677,707,681,643,609,588,572,576,615,680,634,689,713,686,697,723,757,721,758,745,781,796,811,null,31,24535,24323,24181,24120,24043,24242,24236,24044,23761,23480,23664,23713,23728,23857,23908,24281,24615,24883,25120,25447,25665,25867,26124,26079,26058,25915,25583,25167,24746,24695,24499,24282,null,"Females","55-59",null,{"$f":"SUM(C164:C168)","v":3212},3231,3264,3366,3350,3354,3471,3594,3713,4001,4430,4677,4816,4829,4708,4395,4236,4172,4165,4245,4323,4299,4287,4441,4609,4702,4848,4965,5033,5069,5186,5202,null,{"$f":"INDEX(CC47:CY47,'Population Pyramid'!$L$1)","v":5033}]
["male",32,672,721,722,761,835,797,719,811,794,748,689,709,707,660,631,604,589,605,631,690,666,713,728,693,707,755,761,725,770,773,797,810,null,32,25207,25044,24903,24881,24878,25039,24955,24855,24555,24228,24353,24422,24435,24517,24539,24885,25204,25488,25751,26137,26331,26580,26852,26772,26765,26670,26344,25892,25516,25468,25296,25092,null,"Females","60-64",null,{"$f":"SUM(C169:C173)","v":3775},3583,3457,3370,3316,3362,3380,3513,3594,3572,3576,3675,3796,3894,4179,4583,4857,4931,4930,4852,4574,4462,4473,4483,4490,4521,4525,4534,4599,4712,4738,4860,null,{"$f":"INDEX(CC48:CY48,'Population Pyramid'!$L$1)","v":4599}]
["male",33,712,674,731,737,776,853,799,746,821,797,757,680,733,694,662,636,617,586,606,625,697,671,710,740,708,725,768,790,728,785,781,800,null,33,{"$f":"AK48+C49","v":25919},{"$f":"AL48+D49","v":25718},{"$f":"AM48+E49","v":25634},{"$f":"AN48+F49","v":25618},{"$f":"AO48+G49","v":25654},{"$f":"AP48+H49","v":25892},{"$f":"AQ48+I49","v":25754},{"$f":"AR48+J49","v":25601},{"$f":"AS48+K49","v":25376},{"$f":"AT48+L49","v":25025},{"$f":"AU48+M49","v":25110},{"$f":"AV48+N49","v":25102},{"$f":"AW48+O49","v":25168},{"$f":"AX48+P49","v":25211},{"$f":"AY48+Q49","v":25201},{"$f":"AZ48+R49","v":25521},{"$f":"BA48+S49","v":25821},{"$f":"BB48+T49","v":26074},{"$f":"BC48+U49","v":26357},{"$f":"BD48+V49","v":26762},{"$f":"BE48+W49","v":27028},{"$f":"BF48+X49","v":27251},{"$f":"BG48+Y49","v":27562},{"$f":"BH48+Z49","v":27512},{"$f":"BI48+AA49","v":27473},{"$f":"BJ48+AB49","v":27395},{"$f":"BK48+AC49","v":27112},{"$f":"BL48+AD49","v":26682},{"$f":"BM48+AE49","v":26244},{"$f":"BN48+AF49","v":26253},{"$f":"BO48+AG49","v":26077},25892,null,"Females","65-69",null,{"$f":"SUM(C174:C178)","v":4387},4232,4114,3983,3878,3769,3650,3541,3515,3495,3536,3557,3617,3638,3570,3591,3725,3824,3938,4226,4698,4943,5070,5136,5100,4773,4579,4578,4524,4499,4518,4496,null,{"$f":"INDEX(CC49:CY49,'Population Pyramid'!$L$1)","v":4524}]
["male",34,667,691,662,733,739,781,849,805,751,819,822,777,695,753,710,655,658,630,592,624,635,719,696,730,735,713,750,776,806,765,800,791,null,34,26586,26409,26296,26351,26393,26673,26603,26406,26127,25844,25932,25879,25863,25964,25911,26176,26479,26704,26949,27386,27663,27970,28258,28242,28208,28108,27862,27458,27050,27018,26877,26683,null,"Females","70-74",null,{"$f":"SUM(C179:C183)","v":4427},4569,4634,4396,4220,4040,3905,3835,3769,3701,3628,3564,3435,3353,3270,3334,3349,3392,3481,3419,3435,3563,3741,3866,4166,4597,4826,4880,4907,4880,4536,4341,null,{"$f":"INDEX(CC50:CY50,'Population Pyramid'!$L$1)","v":4907}]
["male",35,698,678,693,663,736,750,782,868,819,765,821,832,773,711,781,723,685,668,643,569,641,645,738,715,762,742,734,748,779,829,775,797,null,35,27284,27087,26989,27014,27129,27423,27385,27274,26946,26609,26753,26711,26636,26675,26692,26899,27164,27372,27592,27955,28304,28615,28996,28957,28970,28850,28596,28206,27829,27847,27652,27480,null,"Females","75-79",null,{"$f":"SUM(C184:C188)","v":3783},3563,3376,3504,3605,3772,3908,3988,3835,3682,3524,3401,3313,3302,3250,3210,3172,3011,2963,2898,2949,2987,3048,3108,3064,3122,3240,3406,3522,3724,4134,4272,null,{"$f":"INDEX(CC51:CY51,'Population Pyramid'!$L$1)","v":3522}]
["male",36,679,685,679,689,661,742,749,799,858,836,774,836,836,791,727,810,753,702,681,641,593,649,654,741,726,766,733,736,743,793,867,805,null,36,27963,27772,27668,27703,27790,28165,28134,28073,27804,27445,27527,27547,27472,27466,27419,27709,27917,28074,28273,28596,28897,29264,29650,29698,29696,29616,29329,28942,28572,28640,28519,28285,null,"Females","80-84",null,{"$f":"SUM(C189:C193)","v":2964},2909,2929,2903,2878,2766,2597,2494,2576,2719,2910,3027,3054,2937,2861,2748,2647,2653,2630,2613,2588,2537,2466,2434,2391,2422,2432,2500,2533,2512,2546,2616,null,{"$f":"INDEX(CC52:CY52,'Population Pyramid'!$L$1)","v":2533}]
["male",37,671,669,684,690,697,675,752,788,814,864,859,773,844,845,793,756,833,765,721,693,653,600,676,664,758,725,792,751,740,773,826,889,null,37,28634,28441,28352,28393,28487,28840,28886,28861,28618,28309,28386,28320,28316,28311,28212,28465,28750,28839,28994,29289,29550,29864,30326,30362,30454,30341,30121,29693,29312,29413,29345,29174,null,"Females","85+",null,{"$f":"SUM(C194:C199)","v":2672},2805,2835,2881,2814,2833,2824,2856,2847,2803,2755,2723,2676,2747,2879,3009,3078,3071,3077,3125,3084,3023,3045,2991,3052,2950,2857,2845,2761,2770,2786,2737,null,{"$f":"INDEX(CC53:CY53,'Population Pyramid'!$L$1)","v":2761}]
["male",38,734,670,672,692,704,713,685,756,803,824,885,871,797,849,870,809,764,850,774,721,708,675,599,702,680,773,740,792,761,775,793,854,null,38,29368,29111,29024,29085,29191,29553,29571,29617,29421,29133,29271,29191,29113,29160,29082,29274,29514,29689,29768,30010,30258,30539,30925,31064,31134,31114,30861,30485,30073,30188,30138,30028]
["male",39,668,736,683,684,709,732,732,702,767,832,846,901,890,818,862,867,835,786,868,784,728,725,681,619,718,706,781,761,794,782,774,796,null,39,30036,29847,29707,29769,29900,30285,30303,30319,30188,29965,30117,30092,30003,29978,29944,30141,30349,30475,30636,30794,30986,31264,31606,31683,31852,31820,31642,31246,30867,30970,30912,30824]
["male",40,727,671,740,696,698,733,759,738,737,790,850,849,905,895,838,869,874,826,796,857,802,740,745,692,635,736,718,786,780,815,787,781,null,40,30763,30518,30447,30465,30598,31018,31062,31057,30925,30755,30967,30941,30908,30873,30782,31010,31223,31301,31432,31651,31788,32004,32351,32375,32487,32556,32360,32032,31647,31785,31699,31605]
["male",41,759,722,673,740,698,707,736,768,746,749,812,862,865,930,909,855,870,876,834,808,871,817,754,774,702,639,763,736,784,817,833,807,null,41,31522,31240,31120,31205,31296,31725,31798,31825,31671,31504,31779,31803,31773,31803,31691,31865,32093,32177,32266,32459,32659,32821,33105,33149,33189,33195,33123,32768,32431,32602,32532,32412]
["male",42,740,743,705,666,732,701,706,752,774,761,755,829,886,882,908,903,864,869,880,848,813,869,821,771,780,714,664,757,731,788,815,841,null,42,32262,31983,31825,31871,32028,32426,32504,32577,32445,32265,32534,32632,32659,32685,32599,32768,32957,33046,33146,33307,33472,33690,33926,33920,33969,33909,33787,33525,33162,33390,33347,33253]
["male",43,791,755,761,720,685,754,722,696,756,798,786,754,867,883,887,909,911,877,870,876,853,806,876,843,778,803,722,687,772,743,791,818,null,43,33053,32738,32586,32591,32713,33180,33226,33273,33201,33063,33320,33386,33526,33568,33486,33677,33868,33923,34016,34183,34325,34496,34802,34763,34747,34712,34509,34212,33934,34133,34138,34071]
["male",44,913,814,778,785,740,710,770,719,695,766,809,810,768,867,878,895,902,922,898,869,872,848,823,884,839,791,813,738,699,769,746,794,null,44,33966,33552,33364,33376,33453,33890,33996,33992,33896,33829,34129,34196,34294,34435,34364,34572,34770,34845,34914,35052,35197,35344,35625,35647,35586,35503,35322,34950,34633,34902,34884,34865]
["male",45,963,901,797,763,780,726,696,739,718,697,771,821,828,781,851,877,896,902,933,895,874,875,856,834,894,844,810,821,736,719,780,755,null,45,34929,34453,34161,34139,34233,34616,34692,34731,34614,34526,34900,35017,35122,35216,35215,35449,35666,35747,35847,35947,36071,36219,36481,36481,36480,36347,36132,35771,35369,35621,35664,35620]
["male",46,769,950,893,783,755,773,713,733,729,720,687,777,826,837,789,842,886,909,909,943,883,872,899,873,855,904,852,813,820,748,725,787,null,46,35698,35403,35054,34922,34988,35389,35405,35464,35343,35246,35587,35794,35948,36053,36004,36291,36552,36656,36756,36890,36954,37091,37380,37354,37335,37251,36984,36584,36189,36369,36389,36407]
["male",47,753,765,942,896,782,759,773,737,731,741,727,695,788,813,836,802,844,893,909,905,958,887,877,899,885,855,905,866,814,818,756,731,null,47,36451,36168,35996,35818,35770,36148,36178,36201,36074,35987,36314,36489,36736,36866,36840,37093,37396,37549,37665,37795,37912,37978,38257,38253,38220,38106,37889,37450,37003,37187,37145,37138]
["male",48,748,749,758,934,891,774,745,777,735,729,746,735,694,799,822,829,803,851,905,900,910,962,887,906,899,879,862,917,874,829,816,773,null,48,37199,36917,36754,36752,36661,36922,36923,36978,36809,36716,37060,37224,37430,37665,37662,37922,38199,38400,38570,38695,38822,38940,39144,39159,39119,38985,38751,38367,37877,38016,37961,37911]
["male",49,738,752,760,764,939,900,776,776,771,723,729,756,735,702,803,812,838,808,853,910,906,912,985,882,917,898,883,860,916,875,830,810,null,49,37937,37669,37514,37516,37600,37822,37699,37754,37580,37439,37789,37980,38165,38367,38465,38734,39037,39208,39423,39605,39728,39852,40129,40041,40036,39883,39634,39227,38793,38891,38791,38721]
["male",50,685,740,766,769,771,946,905,770,768,772,742,724,777,740,716,819,807,829,827,857,938,920,928,985,894,931,907,887,867,912,884,826,null,50,38622,38409,38280,38285,38371,38768,38604,38524,38348,38211,38531,38704,38942,39107,39181,39553,39844,40037,40250,40462,40666,40772,41057,41026,40930,40814,40541,40114,39660,39803,39675,39547]
["male",51,570,687,741,769,772,772,935,917,777,765,793,751,719,803,737,717,832,798,852,830,838,944,950,941,988,893,950,912,891,863,911,873,null,51,39192,39096,39021,39054,39143,39540,39539,39441,39125,38976,39324,39455,39661,39910,39918,40270,40676,40835,41102,41292,41504,41716,42007,41967,41918,41707,41491,41026,40551,40666,40586,40420]
["male",52,623,566,685,740,767,765,762,971,930,794,773,790,760,728,798,742,727,832,804,851,823,853,952,960,948,984,909,952,906,896,862,911,null,52,39815,39662,39706,39794,39910,40305,40301,40412,40055,39770,40097,40245,40421,40638,40716,41012,41403,41667,41906,42143,42327,42569,42959,42927,42866,42691,42400,41978,41457,41562,41448,41331]
["male",53,614,608,555,672,732,763,764,785,957,930,808,788,809,766,728,805,751,738,828,812,861,826,865,965,972,948,992,901,961,917,887,859,null,53,40429,40270,40261,40466,40642,41068,41065,41197,41012,40700,40905,41033,41230,41404,41444,41817,42154,42405,42734,42955,43188,43395,43824,43892,43838,43639,43392,42879,42418,42479,42335,42190]
["male",54,619,622,615,566,685,743,773,800,799,960,934,822,793,818,764,746,808,762,740,837,807,874,834,868,962,976,964,994,905,958,920,888,null,54,41048,40892,40876,41032,41327,41811,41838,41997,41811,41660,41839,41855,42023,42222,42208,42563,42962,43167,43474,43792,43995,44269,44658,44760,44800,44615,44356,43873,43323,43437,43255,43078]
["male",55,609,612,609,606,559,681,739,783,815,811,986,940,843,808,827,768,753,826,765,734,843,802,878,848,880,963,973,955,998,915,943,914,null,55,41657,41504,41485,41638,41886,42492,42577,42780,42626,42471,42825,42795,42866,43030,43035,43331,43715,43993,44239,44526,44838,45071,45536,45608,45680,45578,45329,44828,44321,44352,44198,43992]
["male",56,565,612,614,620,617,569,693,760,787,827,814,1002,957,852,814,826,761,758,823,774,732,837,820,884,843,881,961,976,953,1005,893,934,null,56,42222,42116,42099,42258,42503,43061,43270,43540,43413,43298,43639,43797,43823,43882,43849,44157,44476,44751,45062,45300,45570,45908,46356,46492,46523,46459,46290,45804,45274,45357,45091,44926]
["male",57,587,554,609,613,615,617,566,696,769,797,834,827,1024,967,860,824,836,756,764,830,776,733,843,841,886,842,897,969,980,954,1002,885,null,57,42809,42670,42708,42871,43118,43678,43836,44236,44182,44095,44473,44624,44847,44849,44709,44981,45312,45507,45826,46130,46346,46641,47199,47333,47409,47301,47187,46773,46254,46311,46093,45811]
["male",58,563,594,564,624,631,634,627,596,707,778,797,833,829,1019,966,855,818,848,766,766,840,787,737,854,844,882,843,909,961,1000,959,1007,null,58,43372,43264,43272,43495,43749,44312,44463,44832,44889,44873,45270,45457,45676,45868,45675,45836,46130,46355,46592,46896,47186,47428,47936,48187,48253,48183,48030,47682,47215,47311,47052,46818]
["male",59,575,559,595,570,634,642,644,632,599,711,776,792,842,824,1031,970,863,822,847,783,766,843,795,736,853,870,867,832,903,982,993,955,null,59,43947,43823,43867,44065,44383,44954,45107,45464,45488,45584,46046,46249,46518,46692,46706,46806,46993,47177,47439,47679,47952,48271,48731,48923,49106,49053,48897,48514,48118,48293,48045,47773]
["male",60,607,570,561,593,577,648,652,659,636,611,710,765,804,832,824,1037,996,872,835,848,797,764,837,813,748,860,881,867,840,918,976,958,null,60,44554,44393,44428,44658,44960,45602,45759,46123,46124,46195,46756,47014,47322,47524,47530,47843,47989,48049,48274,48527,48749,49035,49568,49736,49854,49913,49778,49381,48958,49211,49021,48731]
["male",61,590,609,579,568,605,590,669,652,667,648,621,715,764,807,827,834,1052,991,883,849,853,797,767,837,820,758,858,887,873,836,920,980,null,61,45144,45002,45007,45226,45565,46192,46428,46775,46791,46843,47377,47729,48086,48331,48357,48677,49041,49040,49157,49376,49602,49832,50335,50573,50674,50671,50636,50268,49831,50047,49941,49711]
["male",62,679,598,623,591,580,618,597,659,655,676,666,616,719,759,805,822,831,1049,990,889,840,848,801,776,843,822,762,868,885,883,834,913,null,62,45823,45600,45630,45817,46145,46810,47025,47434,47446,47519,48043,48345,48805,49090,49162,49499,49872,50089,50147,50265,50442,50680,51136,51349,51517,51493,51398,51136,50716,50930,50775,50624]
["male",63,650,668,596,615,591,583,620,592,663,657,678,668,605,708,755,787,813,827,1064,987,900,841,855,814,772,835,825,761,867,891,877,831,null,63,46473,46268,46226,46432,46736,47393,47645,48026,48109,48176,48721,49013,49410,49798,49917,50286,50685,50916,51211,51252,51342,51521,51991,52163,52289,52328,52223,51897,51583,51821,51652,51455]
["male",64,611,644,676,597,611,597,583,646,598,660,660,673,665,605,698,737,789,804,835,1088,976,906,851,867,818,774,825,824,774,843,891,876,null,64,47084,46912,46902,47029,47347,47990,48228,48672,48707,48836,49381,49686,50075,50403,50615,51023,51474,51720,52046,52340,52318,52427,52842,53030,53107,53102,53048,52721,52357,52664,52543,52331]
["male",65,652,608,658,676,601,612,602,587,639,602,658,659,672,665,594,689,746,778,810,829,1113,989,915,849,875,821,759,824,820,762,838,886,null,65,{"$f":"AK80+C81","v":47736},{"$f":"AL80+D81","v":47520},{"$f":"AM80+E81","v":47560},{"$f":"AN80+F81","v":47705},{"$f":"AO80+G81","v":47948},{"$f":"AP80+H81","v":48602},{"$f":"AQ80+I81","v":48830},{"$f":"AR80+J81","v":49259},{"$f":"AS80+K81","v":49346},{"$f":"AT80+L81","v":49438},{"$f":"AU80+M81","v":50039},{"$f":"AV80+N81","v":50345},{"$f":"AW80+O81","v":50747},{"$f":"AX80+P81","v":51068},{"$f":"AY80+Q81","v":51209},{"$f":"AZ80+R81","v":51712},{"$f":"BA80+S81","v":52220},{"$f":"BB80+T81","v":52498},{"$f":"BC80+U81","v":52856},{"$f":"BD80+V81","v":53169},{"$f":"BE80+W81","v":53431},{"$f":"BF80+X81","v":53416},{"$f":"BG80+Y81","v":53757},{"$f":"BH80+Z81","v":53879},{"$f":"BI80+AA81","v":53982},{"$f":"BJ80+AB81","v":53923},{"$f":"BK80+AC81","v":53807},{"$f":"BL80+AD81","v":53545},{"$f":"BM80+AE81","v":53177},{"$f":"BN80+AF81","v":53426},{"$f":"BO80+AG81","v":53381},53217]
["male",66,697,655,610,651,672,591,613,602,586,640,612,656,650,654,654,607,683,742,783,803,828,1102,1000,932,845,858,813,757,823,831,761,821,null,66,48433,48175,48170,48356,48620,49193,49443,49861,49932,50078,50651,51001,51397,51722,51863,52319,52903,53240,53639,53972,54259,54518,54757,54811,54827,54781,54620,54302,54000,54257,54142,54038]
["male",67,699,693,639,606,645,667,588,609,594,584,631,612,648,650,653,648,596,698,746,795,807,832,1100,1026,920,845,864,811,748,834,811,749,null,67,49132,48868,48809,48962,49265,49860,50031,50470,50526,50662,51282,51613,52045,52372,52516,52967,53499,53938,54385,54767,55066,55350,55857,55837,55747,55626,55484,55113,54748,55091,54953,54787]
["male",68,648,672,669,617,583,626,649,608,599,595,580,629,602,634,639,638,638,596,691,736,801,808,833,1096,1016,904,855,867,812,753,839,797,null,68,49780,49540,49478,49579,49848,50486,50680,51078,51125,51257,51862,52242,52647,53006,53155,53605,54137,54534,55076,55503,55867,56158,56690,56933,56763,56530,56339,55980,55560,55844,55792,55584]
["male",69,729,644,657,657,611,583,624,645,602,592,577,566,611,594,645,634,637,638,592,686,727,798,796,844,1098,1001,894,843,839,788,747,826,null,69,50509,50184,50135,50236,50459,51069,51304,51723,51727,51849,52439,52808,53258,53600,53800,54239,54774,55172,55668,56189,56594,56956,57486,57777,57861,57531,57233,56823,56399,56632,56539,56410]
["male",70,794,697,614,630,639,587,562,620,633,585,578,581,563,595,592,643,620,618,633,579,682,722,796,811,834,1098,977,891,826,831,784,733,null,70,51303,50881,50749,50866,51098,51656,51866,52343,52360,52434,53017,53389,53821,54195,54392,54882,55394,55790,56301,56768,57276,57678,58282,58588,58695,58629,58210,57714,57225,57463,57323,57143]
["male",71,810,768,663,586,609,618,562,561,598,620,568,562,565,539,591,582,627,601,611,625,574,684,726,792,807,812,1054,962,856,808,813,754,null,71,52113,51649,51412,51452,51707,52274,52428,52904,52958,53054,53585,53951,54386,54734,54983,55464,56021,56391,56912,57393,57850,58362,59008,59380,59502,59441,59264,58676,58081,58271,58136,57897]
["male",72,885,780,748,635,561,601,595,568,551,590,613,557,546,551,530,579,572,608,587,604,624,579,676,716,783,799,788,1023,937,836,791,785,null,72,52998,52429,52160,52087,52268,52875,53023,53472,53509,53644,54198,54508,54932,55285,55513,56043,56593,56999,57499,57997,58474,58941,59684,60096,60285,60240,60052,59699,59018,59107,58927,58682]
["male",73,522,838,740,723,603,542,572,574,554,537,579,599,543,531,532,519,569,544,598,559,598,614,578,659,702,765,765,781,1002,912,808,767,null,73,53520,53267,52900,52810,52871,53417,53595,54046,54063,54181,54777,55107,55475,55816,56045,56562,57162,57543,58097,58556,59072,59555,60262,60755,60987,61005,60817,60480,60020,60019,59735,59449]
["male",74,479,490,794,708,688,583,525,547,556,543,523,546,572,525,516,519,502,554,521,588,540,580,600,560,629,681,740,747,764,987,889,791,null,74,53999,53757,53694,53518,53559,54000,54120,54593,54619,54724,55300,55653,56047,56341,56561,57081,57664,58097,58618,59144,59612,60135,60862,61315,61616,61686,61557,61227,60784,61006,60624,60240]
["male",75,530,458,457,740,674,646,565,520,521,529,528,502,524,553,511,502,501,487,540,514,570,519,565,567,545,609,659,713,724,746,954,847,null,75,54529,54215,54151,54258,54233,54646,54685,55113,55140,55253,55828,56155,56571,56894,57072,57583,58165,58584,59158,59658,60182,60654,61427,61882,62161,62295,62216,61940,61508,61752,61578,61087]
["male",76,546,501,431,436,692,639,610,534,504,501,507,500,481,515,526,494,497,487,472,529,504,557,513,556,560,528,582,635,682,699,704,911,null,76,55075,54716,54582,54694,54925,55285,55295,55647,55644,55754,56335,56655,57052,57409,57598,58077,58662,59071,59630,60187,60686,61211,61940,62438,62721,62823,62798,62575,62190,62451,62282,61998]
["male",77,529,505,477,392,421,651,594,589,507,480,489,486,488,456,492,496,476,467,462,451,511,483,537,495,540,544,517,564,615,640,668,673,null,77,55604,55221,55059,55086,55346,55936,55889,56236,56151,56234,56824,57141,57540,57865,58090,58573,59138,59538,60092,60638,61197,61694,62477,62933,63261,63367,63315,63139,62805,63091,62950,62671]
["male",78,507,483,458,444,367,397,601,557,556,480,459,470,465,454,431,466,471,452,443,435,432,481,460,504,477,516,529,494,535,595,616,633,null,78,56111,55704,55517,55530,55713,56333,56490,56793,56707,56714,57283,57611,58005,58319,58521,59039,59609,59990,60535,61073,61629,62175,62937,63437,63738,63883,63844,63633,63340,63686,63566,63304]
["male",79,457,470,440,411,411,348,373,568,521,521,460,420,448,436,440,409,447,437,420,428,417,418,451,449,471,460,492,511,463,507,558,569,null,79,56568,56174,55957,55941,56124,56681,56863,57361,57228,57235,57743,58031,58453,58755,58961,59448,60056,60427,60955,61501,62046,62593,63388,63886,64209,64343,64336,64144,63803,64193,64124,63873]
["male",80,442,425,431,400,381,369,321,349,503,480,490,424,389,421,413,420,385,421,411,392,403,400,390,415,417,448,426,458,491,432,488,519,null,80,57010,56599,56388,56341,56505,57050,57184,57710,57731,57715,58233,58455,58842,59176,59374,59868,60441,60848,61366,61893,62449,62993,63778,64301,64626,64791,64762,64602,64294,64625,64612,64392]
["male",81,354,403,375,398,370,347,335,282,330,459,428,453,392,353,382,385,394,353,388,383,372,381,381,364,393,394,423,404,418,466,417,464,null,81,57364,57002,56763,56739,56875,57397,57519,57992,58061,58174,58661,58908,59234,59529,59756,60253,60835,61201,61754,62276,62821,63374,64159,64665,65019,65185,65185,65006,64712,65091,65029,64856]
["male",82,279,318,360,336,362,329,315,297,253,309,410,387,412,362,319,357,351,350,322,349,344,364,350,343,357,376,354,396,375,385,432,389,null,82,57643,57320,57123,57075,57237,57726,57834,58289,58314,58483,59071,59295,59646,59891,60075,60610,61186,61551,62076,62625,63165,63738,64509,65008,65376,65561,65539,65402,65087,65476,65461,65245]
["male",83,291,246,284,326,301,326,292,258,263,224,282,361,358,368,331,292,321,319,319,300,318,321,341,323,319,326,338,334,367,350,357,394,null,83,57934,57566,57407,57401,57538,58052,58126,58547,58577,58707,59353,59656,60004,60259,60406,60902,61507,61870,62395,62925,63483,64059,64850,65331,65695,65887,65877,65736,65454,65826,65818,65639]
["male",84,257,267,208,265,287,268,290,261,228,236,194,252,311,319,328,310,260,284,278,299,275,287,300,310,289,282,300,306,302,331,318,329,null,84,58191,57833,57615,57666,57825,58320,58416,58808,58805,58943,59547,59908,60315,60578,60734,61212,61767,62154,62673,63224,63758,64346,65150,65641,65984,66169,66177,66042,65756,66157,66136,65968]
["male",85,852,888,910,887,915,960,960,1055,1065,201,199,177,224,266,281,297,275,234,265,237,275,265,269,280,292,265,249,270,270,262,300,281,null,85,59043,58721,58525,58553,58740,59280,59376,59863,59870,59144,59746,60085,60539,60844,61015,61509,62042,62388,62938,63461,64033,64611,65419,65921,66276,66434,66426,66312,66026,66419,66436,66249]
["male",86,null,null,null,null,null,null,null,null,null,176,183,174,152,208,240,262,266,236,211,243,215,235,230,254,246,272,238,225,231,238,233,279,null,86,59043,58721,58525,58553,58740,59280,59376,59863,59870,59320,59929,60259,60691,61052,61255,61771,62308,62624,63149,63704,64248,64846,65649,66175,66522,66706,66664,66537,66257,66657,66669,66528]
["male",87,null,null,null,null,null,null,null,null,null,170,150,161,151,133,190,202,235,231,204,188,206,185,207,209,221,207,235,215,199,202,204,203,null,87,59043,58721,58525,58553,58740,59280,59376,59863,59870,59490,60079,60420,60842,61185,61445,61973,62543,62855,63353,63892,64454,65031,65856,66384,66743,66913,66899,66752,66456,66859,66873,66731]
["male",88,null,null,null,null,null,null,null,null,null,124,150,121,139,129,107,172,165,209,189,172,160,178,169,175,177,191,180,203,173,174,174,182,null,88,59043,58721,58525,58553,58740,59280,59376,59863,59870,59614,60229,60541,60981,61314,61552,62145,62708,63064,63542,64064,64614,65209,66025,66559,66920,67104,67079,66955,66629,67033,67047,66913]
["male",89,null,null,null,null,null,null,null,null,null,108,98,125,98,115,100,89,157,127,193,148,139,138,153,138,153,165,164,151,170,142,145,148,null,89,59043,58721,58525,58553,58740,59280,59376,59863,59870,59722,60327,60666,61079,61429,61652,62234,62865,63191,63735,64212,64753,65347,66178,66697,67073,67269,67243,67106,66799,67175,67192,67061]
["male","90+",null,null,null,null,null,null,null,null,null,280,290,293,317,307,313,323,306,353,370,440,453,447,457,462,468,496,511,520,499,512,500,494,null,"90+",59043,58721,58525,58553,58740,59280,59376,59863,59870,60002,60617,60959,61396,61736,61965,62557,63171,63544,64105,64652,65206,65794,66635,67159,67541,67765,67754,67626,67298,67687,67692,67555]
[null,"All Males",{"$f":"SUM(C16:C106)","v":59043},{"$f":"SUM(D16:D106)","v":58721},58525,58553,58740,59280,59376,59863,59870,60002,60617,60959,61396,61736,61965,62557,63171,63544,64105,64652,65206,65794,66635,67159,67541,67765,67754,{"$f":"SUM(AD16:AD106)","v":67626},{"$f":"SUM(AE16:AE106)","v":67298},{"$f":"SUM(AF16:AF106)","v":67687},{"$f":"SUM(AG16:AG106)","v":67692},{"$f":"SUM(AH16:AH106)","v":67555},null,"Females"]
["Sex","Age"]
["female",0,751,747,701,681,715,691,694,705,639,600,625,594,631,664,720,754,747,749,834,757,824,784,769,803,740,726,756,662,699,656,666,600,null,0,{"$f":"C109","v":751},747,701,681,715,691,694,705,639,600,625,594,631,664,720,754,747,749,834,757,824,784,769,803,740,726,756,662,699,656,666,600]
["female",1,749,739,741,679,672,715,680,725,686,633,607,631,588,638,653,732,744,763,767,815,758,811,772,775,793,747,724,744,668,707,663,681,null,1,{"$f":"AK109+C110","v":1500},{"$f":"AL109+D110","v":1486},{"$f":"AM109+E110","v":1442},{"$f":"AN109+F110","v":1360},{"$f":"AO109+G110","v":1387},{"$f":"AP109+H110","v":1406},{"$f":"AQ109+I110","v":1374},{"$f":"AR109+J110","v":1430},{"$f":"AS109+K110","v":1325},{"$f":"AT109+L110","v":1233},{"$f":"AU109+M110","v":1232},{"$f":"AV109+N110","v":1225},{"$f":"AW109+O110","v":1219},{"$f":"AX109+P110","v":1302},{"$f":"AY109+Q110","v":1373},{"$f":"AZ109+R110","v":1486},{"$f":"BA109+S110","v":1491},{"$f":"BB109+T110","v":1512},{"$f":"BC109+U110","v":1601},{"$f":"BD109+V110","v":1572},{"$f":"BE109+W110","v":1582},{"$f":"BF109+X110","v":1595},{"$f":"BG109+Y110","v":1541},{"$f":"BH109+Z110","v":1578},{"$f":"BI109+AA110","v":1533},{"$f":"BJ109+AB110","v":1473},{"$f":"BK109+AC110","v":1480},{"$f":"BL109+AD110","v":1406},{"$f":"BM109+AE110","v":1367},{"$f":"BN109+AF110","v":1363},{"$f":"BO109+AG110","v":1329},1281]
["female",2,749,755,746,752,690,685,721,718,714,688,661,615,644,597,650,652,743,753,802,760,833,753,819,786,764,793,746,704,737,680,723,685,null,2,2249,2241,2188,2112,2077,2091,2095,2148,2039,1921,1893,1840,1863,1899,2023,2138,2234,2265,2403,2332,2415,2348,2360,2364,2297,2266,2226,2110,2104,2043,2052,1966]
["female",3,731,737,762,745,758,698,683,743,736,722,675,672,623,639,590,660,651,763,764,818,788,826,744,822,785,769,789,736,698,736,699,735,null,3,2980,2978,2950,2857,2835,2789,2778,2891,2775,2643,2568,2512,2486,2538,2613,2798,2885,3028,3167,3150,3203,3174,3104,3186,3082,3035,3015,2846,2802,2779,2751,2701]
["female",4,735,727,736,769,747,770,703,732,748,740,745,680,690,629,644,605,664,667,762,782,819,785,842,754,827,791,782,783,724,702,751,722,null,4,3715,3705,3686,3626,3582,3559,3481,3623,3523,3383,3313,3192,3176,3167,3257,3403,3549,3695,3929,3932,4022,3959,3946,3940,3909,3826,3797,3629,3526,3481,3502,3423]
["female",5,740,735,735,738,785,759,782,728,720,761,756,769,696,705,639,652,618,687,668,776,781,824,791,827,768,816,783,757,761,718,705,762,null,5,4455,4440,4421,4364,4367,4318,4263,4351,4243,4144,4069,3961,3872,3872,3896,4055,4167,4382,4597,4708,4803,4783,4737,4767,4677,4642,4580,4386,4287,4199,4207,4185]
["female",6,753,739,740,742,741,799,763,812,751,733,784,770,794,716,709,664,660,637,700,673,787,781,819,785,821,776,813,777,760,757,720,704,null,6,5208,5179,5161,5106,5108,5117,5026,5163,4994,4877,4853,4731,4666,4588,4605,4719,4827,5019,5297,5381,5590,5564,5556,5552,5498,5418,5393,5163,5047,4956,4927,4889]
["female",7,748,751,745,743,747,748,807,781,821,750,738,790,794,802,720,715,683,670,650,705,686,779,788,833,798,820,772,808,776,759,772,736,null,7,5956,5930,5906,5849,5855,5865,5833,5944,5815,5627,5591,5521,5460,5390,5325,5434,5510,5689,5947,6086,6276,6343,6344,6385,6296,6238,6165,5971,5823,5715,5699,5625]
["female",8,709,755,764,758,758,768,767,836,798,839,764,751,809,798,819,736,727,687,682,653,712,695,771,782,845,800,821,782,801,769,769,801,null,8,6665,6685,6670,6607,6613,6633,6600,6780,6613,6466,6355,6272,6269,6188,6144,6170,6237,6376,6629,6739,6988,7038,7115,7167,7141,7038,6986,6753,6624,6484,6468,6426]
["female",9,674,719,767,765,771,776,779,794,847,814,863,779,757,823,817,836,749,742,691,687,655,713,705,781,793,835,809,816,773,794,763,785,null,9,7339,7404,7437,7372,7384,7409,7379,7574,7460,7280,7218,7051,7026,7011,6961,7006,6986,7118,7320,7426,7643,7751,7820,7948,7934,7873,7795,7569,7397,7278,7231,7211]
["female",10,756,682,738,777,777,798,796,803,799,865,823,884,785,767,833,833,854,779,751,706,707,666,729,705,785,801,835,828,806,775,799,765,null,10,8095,8086,8175,8149,8161,8207,8175,8377,8259,8145,8041,7935,7811,7778,7794,7839,7840,7897,8071,8132,8350,8417,8549,8653,8719,8674,8630,8397,8203,8053,8030,7976]
["female",11,753,754,688,746,785,787,790,812,816,817,893,836,890,798,763,839,855,861,805,754,705,705,689,741,716,789,805,829,822,813,780,800,null,11,8848,8840,8863,8895,8946,8994,8965,9189,9075,8962,8934,8771,8701,8576,8557,8678,8695,8758,8876,8886,9055,9122,9238,9394,9435,9463,9435,9226,9025,8866,8810,8776]
["female",12,825,774,770,710,766,804,798,850,822,837,831,895,844,886,806,776,839,877,881,812,767,727,712,686,733,727,780,797,818,830,812,797,null,12,9673,9614,9633,9605,9712,9798,9763,10039,9897,9799,9765,9666,9545,9462,9363,9454,9534,9635,9757,9698,9822,9849,9950,10080,10168,10190,10215,10023,9843,9696,9622,9573]
["female",13,734,816,765,763,698,764,797,802,851,841,834,814,898,851,882,814,780,839,885,894,819,783,730,721,702,730,730,764,789,832,846,818,null,13,10407,10430,10398,10368,10410,10562,10560,10841,10748,10640,10599,10480,10443,10313,10245,10268,10314,10474,10642,10592,10641,10632,10680,10801,10870,10920,10945,10787,10632,10528,10468,10391]
["female",14,696,734,812,762,765,704,802,802,797,848,840,826,791,883,867,882,820,773,842,873,886,818,783,730,718,695,729,722,754,774,827,842,null,14,11103,11164,11210,11130,11175,11266,11362,11643,11545,11488,11439,11306,11234,11196,11112,11150,11134,11247,11484,11465,11527,11450,11463,11531,11588,11615,11674,11509,11386,11302,11295,11233]
["female",15,667,693,731,805,758,767,711,784,800,790,854,836,845,785,883,864,892,817,782,859,873,874,833,780,740,722,689,728,713,756,783,829,null,15,11770,11857,11941,11935,11933,12033,12073,12427,12345,12278,12293,12142,12079,11981,11995,12014,12026,12064,12266,12324,12400,12324,12296,12311,12328,12337,12363,12237,12099,12058,12078,12062]
["female",16,721,668,691,728,804,763,766,734,780,804,797,852,844,837,800,888,876,882,826,781,873,865,884,838,778,744,722,682,724,719,747,787,null,16,12491,12525,12632,12663,12737,12796,12839,13161,13125,13082,13090,12994,12923,12818,12795,12902,12902,12946,13092,13105,13273,13189,13180,13149,13106,13081,13085,12919,12823,12777,12825,12849]
["female",17,732,716,657,688,733,807,754,785,713,794,799,811,851,826,838,788,896,879,877,815,770,879,885,863,839,768,744,728,680,704,716,753,null,17,13223,13241,13289,13351,13470,13603,13593,13946,13838,13876,13889,13805,13774,13644,13633,13690,13798,13825,13969,13920,14043,14068,14065,14012,13945,13849,13829,13647,13503,13481,13541,13602]
["female",18,773,716,682,613,643,693,783,732,749,718,784,782,807,842,805,830,790,863,877,861,804,781,878,853,836,810,744,727,687,645,670,689,null,18,13996,13957,13971,13964,14113,14296,14376,14678,14587,14594,14673,14587,14581,14486,14438,14520,14588,14688,14846,14781,14847,14849,14943,14865,14781,14659,14573,14374,14190,14126,14211,14291]
["female",19,664,698,634,576,525,554,659,678,641,638,596,679,665,684,677,691,744,686,751,791,798,764,715,742,693,679,666,601,582,557,479,510,null,19,14660,14655,14605,14540,14638,14850,15035,15356,15228,15232,15269,15266,15246,15170,15115,15211,15332,15374,15597,15572,15645,15613,15658,15607,15474,15338,15239,14975,14772,14683,14690,14801]
["female",20,704,607,592,531,484,454,503,569,640,646,616,575,652,627,651,654,681,705,641,709,782,799,772,671,713,664,650,621,541,551,523,472,null,20,15364,15262,15197,15071,15122,15304,15538,15925,15868,15878,15885,15841,15898,15797,15766,15865,16013,16079,16238,16281,16427,16412,16430,16278,16187,16002,15889,15596,15313,15234,15213,15273]
["female",21,718,707,562,607,565,552,504,547,594,643,677,648,598,668,643,672,675,696,717,676,746,819,847,776,685,711,696,658,643,572,532,517,null,21,16082,15969,15759,15678,15687,15856,16042,16472,16462,16521,16562,16489,16496,16465,16409,16537,16688,16775,16955,16957,17173,17231,17277,17054,16872,16713,16585,16254,15956,15806,15745,15790]
["female",22,720,718,699,625,661,649,615,527,573,638,653,686,653,657,699,685,749,735,726,745,718,811,885,877,801,711,762,728,684,680,598,553,null,22,16802,16687,16458,16303,16348,16505,16657,16999,17035,17159,17215,17175,17149,17122,17108,17222,17437,17510,17681,17702,17891,18042,18162,17931,17673,17424,17347,16982,16640,16486,16343,16343]
["female",23,795,727,768,773,707,748,712,603,574,584,667,684,723,683,681,721,733,783,771,764,782,791,884,911,934,805,778,796,748,724,706,625,null,23,17597,17414,17226,17076,17055,17253,17369,17602,17609,17743,17882,17859,17872,17805,17789,17943,18170,18293,18452,18466,18673,18833,19046,18842,18607,18229,18125,17778,17388,17210,17049,16968]
["female",24,800,793,802,807,813,763,772,648,620,601,581,659,697,745,692,686,738,759,815,793,783,785,835,890,905,903,779,751,775,761,701,685,null,24,18397,18207,18028,17883,17868,18016,18141,18250,18229,18344,18463,18518,18569,18550,18481,18629,18908,19052,19267,19259,19456,19618,19881,19732,19512,19132,18904,18529,18163,17971,17750,17653]
["female",25,798,789,852,825,833,849,783,705,624,640,615,589,665,718,740,719,695,765,768,822,801,816,827,854,874,899,915,784,749,785,765,707,null,25,19195,18996,18880,18708,18701,18865,18924,18955,18853,18984,19078,19107,19234,19268,19221,19348,19603,19817,20035,20081,20257,20434,20708,20586,20386,20031,19819,19313,18912,18756,18515,18360]
["female",26,784,780,801,836,824,840,834,757,676,609,639,619,594,685,740,756,728,719,775,773,842,808,828,841,847,875,899,890,770,758,751,762,null,26,19979,19776,19681,19544,19525,19705,19758,19712,19529,19593,19717,19726,19828,19953,19961,20104,20331,20536,20810,20854,21099,21242,21536,21427,21233,20906,20718,20203,19682,19514,19266,19122]
["female",27,863,776,781,793,825,829,827,790,736,619,624,643,633,613,693,755,749,739,740,774,795,835,835,825,830,866,872,878,889,785,769,758,null,27,20842,20552,20462,20337,20350,20534,20585,20502,20265,20212,20341,20369,20461,20566,20654,20859,21080,21275,21550,21628,21894,22077,22371,22252,22063,21772,21590,21081,20571,20299,20035,19880]
["female",28,792,866,798,801,812,845,842,819,780,718,612,641,659,653,629,711,762,753,741,762,784,795,844,841,852,849,865,869,879,880,792,785,null,28,21634,21418,21260,21138,21162,21379,21427,21321,21045,20930,20953,21010,21120,21219,21283,21570,21842,22028,22291,22390,22678,22872,23215,23093,22915,22621,22455,21950,21450,21179,20827,20665]
["female",29,788,781,871,799,800,814,828,811,804,775,736,637,653,689,669,637,719,765,765,752,768,791,839,841,848,855,841,860,898,898,892,814,null,29,22422,22199,22131,21937,21962,22193,22255,22132,21849,21705,21689,21647,21773,21908,21952,22207,22561,22793,23056,23142,23446,23663,24054,23934,23763,23476,23296,22810,22348,22077,21719,21479]
["female",30,811,799,808,883,812,813,817,831,798,813,772,735,659,676,698,653,654,716,801,784,768,780,796,852,851,860,868,853,866,926,912,905,null,30,23233,22998,22939,22820,22774,23006,23072,22963,22647,22518,22461,22382,22432,22584,22650,22860,23215,23509,23857,23926,24214,24443,24850,24786,24614,24336,24164,23663,23214,23003,22631,22384]
["female",31,773,810,806,806,881,814,805,818,830,800,819,775,757,664,674,706,652,672,728,815,791,765,780,804,834,865,891,888,857,891,944,937,null,31,24006,23808,23745,23626,23655,23820,23877,23781,23477,23318,23280,23157,23189,23248,23324,23566,23867,24181,24585,24741,25005,25208,25630,25590,25448,25201,25055,24551,24071,23894,23575,23321]
["female",32,700,748,790,779,782,861,786,807,817,846,818,832,784,766,678,687,704,639,661,715,834,807,764,802,821,850,885,904,908,875,910,967,null,32,24706,24556,24535,24405,24437,24681,24663,24588,24294,24164,24098,23989,23973,24014,24002,24253,24571,24820,25246,25456,25839,26015,26394,26392,26269,26051,25940,25455,24979,24769,24485,24288]
["female",33,735,711,763,806,793,801,870,836,803,814,848,822,840,783,771,689,707,710,663,666,739,850,826,761,813,822,868,890,916,947,880,922,null,33,{"$f":"AK141+C142","v":25441},{"$f":"AL141+D142","v":25267},{"$f":"AM141+E142","v":25298},{"$f":"AN141+F142","v":25211},{"$f":"AO141+G142","v":25230},{"$f":"AP141+H142","v":25482},{"$f":"AQ141+I142","v":25533},{"$f":"AR141+J142","v":25424},{"$f":"AS141+K142","v":25097},{"$f":"AT141+L142","v":24978},{"$f":"AU141+M142","v":24946},{"$f":"AV141+N142","v":24811},{"$f":"AW141+O142","v":24813},{"$f":"AX141+P142","v":24797},{"$f":"AY141+Q142","v":24773},{"$f":"AZ141+R142","v":24942},{"$f":"BA141+S142","v":25278},{"$f":"BB141+T142","v":25530},{"$f":"BC141+U142","v":25909},{"$f":"BD141+V142","v":26122},{"$f":"BE141+W142","v":26578},{"$f":"BF141+X142","v":26865},{"$f":"BG141+Y142","v":27220},{"$f":"BH141+Z142","v":27153},{"$f":"BI141+AA142","v":27082},{"$f":"BJ141+AB142","v":26873},{"$f":"BK141+AC142","v":26808},{"$f":"BL141+AD142","v":26345},{"$f":"BM141+AE142","v":25895},{"$f":"BN141+AF142","v":25716},{"$f":"BO141+AG142","v":25365},25210]
["female",34,718,722,713,766,811,799,802,876,856,813,837,860,830,858,782,781,704,709,721,665,666,750,848,842,773,845,817,863,885,930,953,892,null,34,26159,25989,26011,25977,26041,26281,26335,26300,25953,25791,25783,25671,25643,25655,25555,25723,25982,26239,26630,26787,27244,27615,28068,27995,27855,27718,27625,27208,26780,26646,26318,26102]
["female",35,717,723,718,717,772,821,802,822,889,870,825,842,868,850,867,787,798,710,726,722,684,667,761,860,872,787,861,816,869,909,934,947,null,35,26876,26712,26729,26694,26813,27102,27137,27122,26842,26661,26608,26513,26511,26505,26422,26510,26780,26949,27356,27509,27928,28282,28829,28855,28727,28505,28486,28024,27649,27555,27252,27049]
["female",36,739,716,731,723,729,791,834,832,839,888,909,852,870,879,858,866,791,800,721,731,731,697,694,786,857,863,808,870,808,920,937,958,null,36,27615,27428,27460,27417,27542,27893,27971,27954,27681,27549,27517,27365,27381,27384,27280,27376,27571,27749,28077,28240,28659,28979,29523,29641,29584,29368,29294,28894,28457,28475,28189,28007]
["female",37,717,741,721,742,733,751,810,864,854,864,892,914,864,877,890,859,888,812,803,717,741,757,721,715,791,868,874,805,865,826,939,960,null,37,28332,28169,28181,28159,28275,28644,28781,28818,28535,28413,28409,28279,28245,28261,28170,28235,28459,28561,28880,28957,29400,29736,30244,30356,30375,30236,30168,29699,29322,29301,29128,28967]
["female",38,760,736,768,743,768,759,779,813,877,881,870,902,933,878,897,893,865,908,809,810,734,763,768,715,719,814,883,857,803,888,850,955,null,38,29092,28905,28949,28902,29043,29403,29560,29631,29412,29294,29279,29181,29178,29139,29067,29128,29324,29469,29689,29767,30134,30499,31012,31071,31094,31050,31051,30556,30125,30189,29978,29922]
["female",39,790,763,741,773,750,779,764,795,839,880,900,876,910,942,896,910,906,861,914,820,845,744,794,799,737,749,836,887,855,819,899,870,null,39,29882,29668,29690,29675,29793,30182,30324,30426,30251,30174,30179,30057,30088,30081,29963,30038,30230,30330,30603,30587,30979,31243,31806,31870,31831,31799,31887,31443,30980,31008,30877,30792]
["female",40,727,779,762,736,770,750,776,777,807,860,887,915,882,916,951,906,909,924,891,925,815,868,767,792,804,759,772,847,884,873,821,906,null,40,30609,30447,30452,30411,30563,30932,31100,31203,31058,31034,31066,30972,30970,30997,30914,30944,31139,31254,31494,31512,31794,32111,32573,32662,32635,32558,32659,32290,31864,31881,31698,31698]
["female",41,738,711,765,750,725,762,737,795,791,816,872,880,928,915,930,962,914,912,939,888,937,829,893,797,804,802,767,775,860,897,903,855,null,41,31347,31158,31217,31161,31288,31694,31837,31998,31849,31850,31938,31852,31898,31912,31844,31906,32053,32166,32433,32400,32731,32940,33466,33459,33439,33360,33426,33065,32724,32778,32601,32553]
["female",42,778,733,718,767,753,730,763,774,812,796,827,884,891,937,927,939,958,920,928,953,887,950,851,902,803,831,803,764,785,863,921,927,null,42,32125,31891,31935,31928,32041,32424,32600,32772,32661,32646,32765,32736,32789,32849,32771,32845,33011,33086,33361,33353,33618,33890,34317,34361,34242,34191,34229,33829,33509,33641,33522,33480]
["female",43,830,783,737,726,774,764,735,779,780,826,809,832,891,900,935,934,945,957,930,939,979,904,974,873,921,814,832,808,771,791,881,932,null,43,32955,32674,32672,32654,32815,33188,33335,33551,33441,33472,33574,33568,33680,33749,33706,33779,33956,34043,34291,34292,34597,34794,35291,35234,35163,35005,35061,34637,34280,34432,34403,34412]
["female",44,965,828,790,733,732,780,766,737,781,801,821,828,838,900,903,948,939,947,970,936,933,995,903,975,892,922,833,853,811,775,793,860,null,44,33920,33502,33462,33387,33547,33968,34101,34288,34222,34273,34395,34396,34518,34649,34609,34727,34895,34990,35261,35228,35530,35789,36194,36209,36055,35927,35894,35490,35091,35207,35196,35272]
["female",45,1007,968,831,797,737,740,782,780,748,786,809,814,829,844,894,905,952,942,955,976,958,962,1001,917,995,899,938,844,848,822,791,787,null,45,34927,34470,34293,34184,34284,34708,34883,35068,34970,35059,35204,35210,35347,35493,35503,35632,35847,35932,36216,36204,36488,36751,37195,37126,37050,36826,36832,36334,35939,36029,35987,36059]
["female",46,831,1010,975,835,804,746,746,785,777,753,799,808,815,823,843,914,923,971,937,967,998,953,976,1024,914,999,900,928,854,855,827,809,null,46,35758,35480,35268,35019,35088,35454,35629,35853,35747,35812,36003,36018,36162,36316,36346,36546,36770,36903,37153,37171,37486,37704,38171,38150,37964,37825,37732,37262,36793,36884,36814,36868]
["female",47,779,839,1021,982,840,815,751,762,796,787,765,807,821,832,818,851,925,933,978,930,976,1009,964,981,1047,925,1018,906,928,876,853,824,null,47,36537,36319,36289,36001,35928,36269,36380,36615,36543,36599,36768,36825,36983,37148,37164,37397,37695,37836,38131,38101,38462,38713,39135,39131,39011,38750,38750,38168,37721,37760,37667,37692]
["female",48,757,777,838,1026,984,844,816,762,777,794,796,783,817,818,831,826,865,925,944,978,947,978,1001,987,992,1060,941,1040,911,932,876,860,null,48,37294,37096,37127,37027,36912,37113,37196,37377,37320,37393,37564,37608,37800,37966,37995,38223,38560,38761,39075,39079,39409,39691,40136,40118,40003,39810,39691,39208,38632,38692,38543,38552]
["female",49,692,740,764,825,1016,967,832,824,773,784,815,811,776,821,815,843,825,871,935,954,970,942,986,1012,988,998,1065,943,1038,914,932,888,null,49,37986,37836,37891,37852,37928,38080,38028,38201,38093,38177,38379,38419,38576,38787,38810,39066,39385,39632,40010,40033,40379,40633,41122,41130,40991,40808,40756,40151,39670,39606,39475,39440]
["female",50,640,693,740,766,825,1025,966,859,834,774,796,820,815,796,834,823,827,826,880,950,950,978,960,997,1011,1008,1012,1083,960,1046,924,939,null,50,38626,38529,38631,38618,38753,39105,38994,39060,38927,38951,39175,39239,39391,39583,39644,39889,40212,40458,40890,40983,41329,41611,42082,42127,42002,41816,41768,41234,40630,40652,40399,40379]
["female",51,602,634,694,739,767,827,1028,997,864,844,784,795,834,819,800,822,832,819,829,887,959,947,994,968,999,1000,1019,1026,1086,963,1023,915,null,51,39228,39163,39325,39357,39520,39932,40022,40057,39791,39795,39959,40034,40225,40402,40444,40711,41044,41277,41719,41870,42288,42558,43076,43095,43001,42816,42787,42260,41716,41615,41422,41294]
["female",52,679,600,640,702,747,772,835,1066,1002,864,850,794,800,840,816,802,833,841,812,844,892,974,954,999,976,1004,994,1019,1024,1094,971,1019,null,52,39907,39763,39965,40059,40267,40704,40857,41123,40793,40659,40809,40828,41025,41242,41260,41513,41877,42118,42531,42714,43180,43532,44030,44094,43977,43820,43781,43279,42740,42709,42393,42313]
["female",53,611,675,606,645,714,761,785,853,1072,1017,877,851,799,821,847,831,802,828,844,809,873,916,982,964,1014,986,1001,1004,1031,1044,1100,961,null,53,40518,40438,40571,40704,40981,41465,41642,41976,41865,41676,41686,41679,41824,42063,42107,42344,42679,42946,43375,43523,44053,44448,45012,45058,44991,44806,44782,44283,43771,43753,43493,43274]
["female",54,621,617,675,605,651,729,770,816,869,1099,1013,878,855,802,812,866,836,793,844,849,820,860,918,992,969,1022,1005,1007,997,1052,1054,1086,null,54,41139,41055,41246,41309,41632,42194,42412,42792,42734,42775,42699,42557,42679,42865,42919,43210,43515,43739,44219,44372,44873,45308,45930,46050,45960,45828,45787,45290,44768,44805,44547,44360]
["female",55,669,631,632,689,625,671,750,775,827,889,1108,1019,888,851,805,821,859,842,813,863,864,827,875,930,993,964,1026,1018,1006,1004,1055,1056,null,55,41808,41686,41878,41998,42257,42865,43162,43567,43561,43664,43807,43576,43567,43716,43724,44031,44374,44581,45032,45235,45737,46135,46805,46980,46953,46792,46813,46308,45774,45809,45602,45416]
["female",56,647,680,639,647,690,637,681,744,780,842,901,1112,1028,884,841,808,810,864,849,814,871,866,834,888,937,1005,971,1033,1018,996,1023,1050,null,56,42455,42366,42517,42645,42947,43502,43843,44311,44341,44506,44708,44688,44595,44600,44565,44839,45184,45445,45881,46049,46608,47001,47639,47868,47890,47797,47784,47341,46792,46805,46625,46466]
["female",57,623,661,699,654,664,706,650,690,751,788,832,907,1151,1016,886,836,809,808,877,863,822,875,858,862,904,942,994,973,1044,1038,991,1021,null,57,43078,43027,43216,43299,43611,44208,44493,45001,45092,45294,45540,45595,45746,45616,45451,45675,45993,46253,46758,46912,47430,47876,48497,48730,48794,48739,48778,48314,47836,47843,47616,47487]
["female",58,626,626,664,705,658,669,710,661,698,761,806,830,921,1158,1029,898,847,813,807,892,868,834,875,879,880,904,938,997,970,1053,1060,1007,null,58,43704,43653,43880,44004,44269,44877,45203,45662,45790,46055,46346,46425,46667,46774,46480,46573,46840,47066,47565,47804,48298,48710,49372,49609,49674,49643,49716,49311,48806,48896,48676,48494]
["female",59,647,633,630,671,713,671,680,724,657,721,783,809,828,920,1147,1032,911,845,819,813,898,897,845,882,895,887,919,944,995,978,1057,1068,null,59,44351,44286,44510,44675,44982,45548,45883,46386,46447,46776,47129,47234,47495,47694,47627,47605,47751,47911,48384,48617,49196,49607,50217,50491,50569,50530,50635,50255,49801,49874,49733,49562]
["female",60,653,649,640,635,675,720,674,694,725,662,738,793,824,842,937,1157,1050,913,847,848,826,896,914,880,879,883,899,926,944,1002,951,1055,null,60,45004,44935,45150,45310,45657,46268,46557,47080,47172,47438,47867,48027,48319,48536,48564,48762,48801,48824,49231,49465,50022,50503,51131,51371,51448,51413,51534,51181,50745,50876,50684,50617]
["female",61,764,666,661,651,646,685,730,693,698,728,665,742,811,826,853,940,1174,1048,909,851,874,838,900,931,904,893,909,917,935,955,994,947,null,61,45768,45601,45811,45961,46303,46953,47287,47773,47870,48166,48532,48769,49130,49362,49417,49702,49975,49872,50140,50316,50896,51341,52031,52302,52352,52306,52443,52098,51680,51831,51678,51564]
["female",62,739,756,674,661,650,641,683,741,707,715,741,674,738,822,822,844,950,1169,1058,910,876,883,858,902,929,916,878,917,921,934,938,990,null,62,46507,46357,46485,46622,46953,47594,47970,48514,48577,48881,49273,49443,49868,50184,50239,50546,50925,51041,51198,51226,51772,52224,52889,53204,53281,53222,53321,53015,52601,52765,52616,52554]
["female",63,785,730,748,671,656,646,633,710,748,708,718,744,668,739,821,824,853,944,1175,1058,930,892,892,871,894,930,906,874,917,915,932,947,null,63,47292,47087,47233,47293,47609,48240,48603,49224,49325,49589,49991,50187,50536,50923,51060,51370,51778,51985,52373,52284,52702,53116,53781,54075,54175,54152,54227,53889,53518,53680,53548,53501]
["female",64,834,782,734,752,689,670,660,675,716,759,714,722,755,665,746,818,830,857,941,1185,1068,953,909,899,884,899,933,900,882,906,923,921,null,64,48126,47869,47967,48045,48298,48910,49263,49899,50041,50348,50705,50909,51291,51588,51806,52188,52608,52842,53314,53469,53770,54069,54690,54974,55059,55051,55160,54789,54400,54586,54471,54422]
["female",65,828,826,770,736,749,691,670,658,690,733,757,730,721,743,663,762,830,838,854,951,1200,1075,967,940,907,897,900,938,901,874,910,916,null,65,{"$f":"AK173+C174","v":48954},{"$f":"AL173+D174","v":48695},{"$f":"AM173+E174","v":48737},{"$f":"AN173+F174","v":48781},{"$f":"AO173+G174","v":49047},{"$f":"AP173+H174","v":49601},{"$f":"AQ173+I174","v":49933},{"$f":"AR173+J174","v":50557},{"$f":"AS173+K174","v":50731},{"$f":"AT173+L174","v":51081},{"$f":"AU173+M174","v":51462},{"$f":"AV173+N174","v":51639},{"$f":"AW173+O174","v":52012},{"$f":"AX173+P174","v":52331},{"$f":"AY173+Q174","v":52469},{"$f":"AZ173+R174","v":52950},{"$f":"BA173+S174","v":53438},{"$f":"BB173+T174","v":53680},{"$f":"BC173+U174","v":54168},{"$f":"BD173+V174","v":54420},{"$f":"BE173+W174","v":54970},{"$f":"BF173+X174","v":55144},{"$f":"BG173+Y174","v":55657},{"$f":"BH173+Z174","v":55914},{"$f":"BI173+AA174","v":55966},{"$f":"BJ173+AB174","v":55948},{"$f":"BK173+AC174","v":56060},{"$f":"BL173+AD174","v":55727},{"$f":"BM173+AE174","v":55301},{"$f":"BN173+AF174","v":55460},{"$f":"BO173+AG174","v":55381},55338]
["female",66,868,821,833,772,744,759,704,685,666,692,737,741,733,720,735,673,757,832,849,862,948,1195,1078,975,942,893,892,913,937,908,880,904,null,66,49822,49516,49570,49553,49791,50360,50637,51242,51397,51773,52199,52380,52745,53051,53204,53623,54195,54512,55017,55282,55918,56339,56735,56889,56908,56841,56952,56640,56238,56368,56261,56242]
["female",67,869,860,822,824,776,747,759,704,682,667,694,740,749,722,727,739,681,744,836,853,863,955,1198,1069,971,943,896,887,913,939,890,860,null,67,50691,50376,50392,50377,50567,51107,51396,51946,52079,52440,52893,53120,53494,53773,53931,54362,54876,55256,55853,56135,56781,57294,57933,57958,57879,57784,57848,57527,57151,57307,57151,57102]
["female",68,900,846,852,816,810,776,756,748,724,679,666,689,731,741,707,722,741,670,737,828,853,858,962,1190,1077,963,944,899,876,898,942,893,null,68,51591,51222,51244,51193,51377,51883,52152,52694,52803,53119,53559,53809,54225,54514,54638,55084,55617,55926,56590,56963,57634,58152,58895,59148,58956,58747,58792,58426,58027,58205,58093,57995]
["female",69,922,879,837,835,799,796,761,746,753,724,682,657,683,712,738,695,716,740,662,732,834,860,865,962,1203,1077,947,941,897,880,896,923,null,69,52513,52101,52081,52028,52176,52679,52913,53440,53556,53843,54241,54466,54908,55226,55376,55779,56333,56666,57252,57695,58468,59012,59760,60110,60159,59824,59739,59367,58924,59085,58989,58918]
["female",70,996,900,851,819,813,774,770,774,744,745,708,683,644,670,701,730,701,708,731,660,726,824,865,860,955,1196,1082,937,930,890,863,877,null,70,53509,53001,52932,52847,52989,53453,53683,54214,54300,54588,54949,55149,55552,55896,56077,56509,57034,57374,57983,58355,59194,59836,60625,60970,61114,61020,60821,60304,59854,59975,59852,59795]
["female",71,981,963,879,840,806,815,763,766,769,745,745,701,676,643,653,698,720,693,700,720,666,721,817,851,847,935,1182,1061,927,917,877,850,null,71,54490,53964,53811,53687,53795,54268,54446,54980,55069,55333,55694,55850,56228,56539,56730,57207,57754,58067,58683,59075,59860,60557,61442,61821,61961,61955,62003,61365,60781,60892,60729,60645]
["female",72,1073,964,951,866,830,790,794,749,743,749,734,738,688,658,620,646,685,703,691,679,710,657,722,811,847,833,908,1175,1042,903,905,862,null,72,55563,54928,54762,54553,54625,55058,55240,55729,55812,56082,56428,56588,56916,57197,57350,57853,58439,58770,59374,59754,60570,61214,62164,62632,62808,62788,62911,62540,61823,61795,61634,61507]
["female",73,714,1042,952,935,852,820,777,788,751,721,740,715,724,675,640,624,636,663,696,683,671,701,645,721,800,839,821,892,1146,1029,885,882,null,73,56277,55970,55714,55488,55477,55878,56017,56517,56563,56803,57168,57303,57640,57872,57990,58477,59075,59433,60070,60437,61241,61915,62809,63353,63608,63627,63732,63432,62969,62824,62519,62389]
["female",74,663,700,1001,936,919,841,801,758,762,741,701,727,703,707,656,636,607,625,663,677,662,660,692,623,717,794,833,815,862,1141,1006,870,null,74,56940,56670,56715,56424,56396,56719,56818,57275,57325,57544,57869,58030,58343,58579,58646,59113,59682,60058,60733,61114,61903,62575,63501,63976,64325,64421,64565,64247,63831,63965,63525,63259]
["female",75,722,643,680,965,913,890,811,768,724,750,720,677,713,680,683,636,621,586,613,639,669,631,645,673,605,704,783,814,791,838,1119,974,null,75,57662,57313,57395,57389,57309,57609,57629,58043,58049,58294,58589,58707,59056,59259,59329,59749,60303,60644,61346,61753,62572,63206,64146,64649,64930,65125,65348,65061,64622,64803,64644,64233]
["female",76,782,691,627,649,908,889,863,793,754,689,739,694,650,701,669,666,619,593,577,595,629,644,623,631,650,597,682,758,798,780,813,1085,null,76,58444,58004,58022,58038,58217,58498,58492,58836,58803,58983,59328,59401,59706,59960,59998,60415,60922,61237,61923,62348,63201,63850,64769,65280,65580,65722,66030,65819,65420,65583,65457,65318]
["female",77,772,738,663,587,614,866,849,837,761,723,676,718,670,629,683,659,660,601,574,559,586,620,621,608,633,631,584,683,739,772,761,783,null,77,59216,58742,58685,58625,58831,59364,59341,59673,59564,59706,60004,60119,60376,60589,60681,61074,61582,61838,62497,62907,63787,64470,65390,65888,66213,66353,66614,66502,66159,66355,66218,66101]
["female",78,791,743,708,632,573,589,826,801,822,737,688,653,677,640,601,665,629,641,575,548,539,569,604,603,585,620,608,563,654,706,753,725,null,78,60007,59485,59393,59257,59404,59953,60167,60474,60386,60443,60692,60772,61053,61229,61282,61739,62211,62479,63072,63455,64326,65039,65994,66491,66798,66973,67222,67065,66813,67061,66971,66826]
["female",79,716,748,698,671,597,538,559,789,774,783,701,659,603,652,614,584,643,590,624,557,526,523,555,593,591,570,583,588,540,628,688,705,null,79,60723,60233,60091,59928,60001,60491,60726,61263,61160,61226,61393,61431,61656,61881,61896,62323,62854,63069,63696,64012,64852,65562,66549,67084,67389,67543,67805,67653,67353,67689,67659,67531]
["female",80,694,679,697,651,630,570,505,552,728,740,739,668,628,567,615,581,551,620,565,607,543,512,504,533,561,567,557,559,566,520,600,658,null,80,61417,60912,60788,60579,60631,61061,61231,61815,61888,61966,62132,62099,62284,62448,62511,62904,63405,63689,64261,64619,65395,66074,67053,67617,67950,68110,68362,68212,67919,68209,68259,68189]
["female",81,606,646,633,653,617,579,535,457,528,666,690,704,622,599,540,589,546,537,578,541,564,516,496,483,503,531,530,533,544,548,495,568,null,81,62023,61558,61421,61232,61248,61640,61766,62272,62416,62632,62822,62803,62906,63047,63051,63493,63951,64226,64839,65160,65959,66590,67549,68100,68453,68641,68892,68745,68463,68757,68754,68757]
["female",82,587,566,598,589,607,581,535,509,427,496,634,644,648,587,577,510,554,516,518,535,521,542,486,476,453,472,495,506,509,516,500,467,null,82,62610,62124,62019,61821,61855,62221,62301,62781,62843,63128,63456,63447,63554,63634,63628,64003,64505,64742,65357,65695,66480,67132,68035,68576,68906,69113,69387,69251,68972,69273,69254,69224]
["female",83,527,547,511,545,531,548,527,478,460,397,464,585,603,610,563,544,485,523,486,483,504,495,519,453,455,429,448,478,471,487,492,462,null,83,63137,62671,62530,62366,62386,62769,62828,63259,63303,63525,63920,64032,64157,64244,64191,64547,64990,65265,65843,66178,66984,67627,68554,69029,69361,69542,69835,69729,69443,69760,69746,69686]
["female",84,550,471,490,465,493,488,495,498,433,420,383,426,553,574,566,524,511,457,483,447,456,472,461,489,419,423,402,424,443,441,459,461,null,84,63687,63142,63020,62831,62879,63257,63323,63757,63736,63945,64303,64458,64710,64818,64757,65071,65501,65722,66326,66625,67440,68099,69015,69518,69780,69965,70237,70153,69886,70201,70205,70147]
["female",85,2672,2805,2835,2881,2814,2833,2824,2856,2847,418,386,361,385,495,546,511,489,465,441,443,414,419,446,429,454,381,394,378,396,426,417,429,null,85,66359,65947,65855,65712,65693,66090,66147,66613,66583,64363,64689,64819,65095,65313,65303,65582,65990,66187,66767,67068,67854,68518,69461,69947,70234,70346,70631,70531,70282,70627,70622,70576]
["female",86,null,null,null,null,null,null,null,null,null,367,376,349,323,354,446,510,472,432,411,405,394,386,386,401,405,403,346,361,336,348,382,364,null,86,66359,65947,65855,65712,65693,66090,66147,66613,66583,64730,65065,65168,65418,65667,65749,66092,66462,66619,67178,67473,68248,68904,69847,70348,70639,70749,70977,70892,70618,70975,71004,70940]
["female",87,null,null,null,null,null,null,null,null,null,337,321,348,309,297,324,382,473,412,388,362,363,359,358,359,363,367,365,320,334,308,317,357,null,87,66359,65947,65855,65712,65693,66090,66147,66613,66583,65067,65386,65516,65727,65964,66073,66474,66935,67031,67566,67835,68611,69263,70205,70707,71002,71116,71342,71212,70952,71283,71321,71297]
["female",88,null,null,null,null,null,null,null,null,null,323,295,290,299,275,252,303,334,443,362,347,317,336,322,313,341,325,314,339,280,300,276,285,null,88,66359,65947,65855,65712,65693,66090,66147,66613,66583,65390,65681,65806,66026,66239,66325,66777,67269,67474,67928,68182,68928,69599,70527,71020,71343,71441,71656,71551,71232,71583,71597,71582]
["female",89,null,null,null,null,null,null,null,null,null,287,277,241,246,267,242,231,265,282,399,320,311,260,301,287,276,307,287,276,305,246,271,222,null,89,66359,65947,65855,65712,65693,66090,66147,66613,66583,65677,65958,66047,66272,66506,66567,67008,67534,67756,68327,68502,69239,69859,70828,71307,71619,71748,71943,71827,71537,71829,71868,71804]
["female","90+",null,null,null,null,null,null,null,null,null,1071,1100,1134,1114,1059,1069,1072,1045,1037,1076,1248,1285,1263,1232,1202,1213,1167,1151,1171,1110,1142,1123,1080,null,"90+",66359,65947,65855,65712,65693,66090,66147,66613,66583,66748,67058,67181,67386,67565,67636,68080,68579,68793,69403,69750,70524,71122,72060,72509,72832,72915,73094,72998,72647,72971,72991,72884]
[null,"All Females",{"$f":"SUM(C109:C199)","v":66359},{"$f":"SUM(D109:D199)","v":65947},65855,65712,65693,66090,66147,66613,66583,66748,67058,67181,67386,67565,67636,68080,68579,68793,69403,69750,70524,71122,72060,72509,72832,72915,73094,{"$f":"SUM(AD109:AD199)","v":72998},{"$f":"SUM(AE109:AE199)","v":72647},{"$f":"SUM(AF109:AF199)","v":72971},{"$f":"SUM(AG109:AG199)","v":72991},{"$f":"SUM(AH109:AH199)","v":72884}]
[]
[]
[]
[]
[null,null,null,null,null,null,null,null,null,null,null,null,null,null,35416]
[null,null,null,null,null,null,null,null,null,null,null,null,null,null,19891]
[null,null,null,null,null,null,null,null,null,null,null,null,null,null,39212]
[null,null,null,null,null,null,null,null,null,null,null,null,null,null,3850]
[null,null,null,null,null,null,null,null,null,null,null,null,null,null,4208]
[null,null,null,null,null,null,null,null,null,null,null,null,null,null,4012]
[null,null,null,null,null,null,null,null,null,null,null,null,null,null,3323]
[null,null,null,null,null,null,null,null,null,null,null,null,null,null,3204]
[null,null,null,null,null,null,null,null,null,null,null,null,null,null,3870]
[null,null,null,null,null,null,null,null,null,null,null,null,null,null,4445]
[null,null,null,null,null,null,null,null,null,null,null,null,null,null,4430]
[null,null,null,null,null,null,null,null,null,null,null,null,null,null,4058]
[null,null,null,null,null,null,null,null,null,null,null,null,null,null,4103]
[null,null,null,null,null,null,null,null,null,null,null,null,null,null,4816]
[null,null,null,null,null,null,null,null,null,null,null,null,null,null,3796]
[null,null,null,null,null,null,null,null,null,null,null,null,null,null,3617]
[null,null,null,null,null,null,null,null,null,null,null,null,null,null,3435]
[null,null,null,null,null,null,null,null,null,null,null,null,null,null,3313]
[null,null,null,null,null,null,null,null,null,null,null,null,null,null,3054]
[null,null,null,null,null,null,null,null,null,null,null,null,null,null,1562]
[null,null,null,null,null,null,null,null,null,null,null,null,null,null,1114]
[null,null,null,null,null,null,null,null,null,null,null,null,null,null,67386]
[]
[]
[null,null,null,null,null,null,null,null,null,null,null,null,null,null,0.52556910931053924]
[null,null,null,null,null,null,null,null,null,null,null,null,null,null,0.29518000771673641]
[null,null,null,null,null,null,null,null,null,null,null,null,null,null,0.58190128513341055]
[null,null,null,null,null,null,null,null,null,null,null,null,null,null,5.7133529219719231E-2]
[null,null,null,null,null,null,null,null,null,null,null,null,null,null,6.244620544326715E-2]
[null,null,null,null,null,null,null,null,null,null,null,null,null,null,5.9537589410263263E-2]
[null,null,null,null,null,null,null,null,null,null,null,null,null,null,4.9312913661591427E-2]
[null,null,null,null,null,null,null,null,null,null,null,null,null,null,4.7546968212981926E-2]
[null,null,null,null,null,null,null,null,null,null,null,null,null,null,5.7430326774107379E-2]
[null,null,null,null,null,null,null,null,null,null,null,null,null,null,6.5963256462766753E-2]
[null,null,null,null,null,null,null,null,null,null,null,null,null,null,6.5740658296975632E-2]
[null,null,null,null,null,null,null,null,null,null,null,null,null,null,6.0220223785356006E-2]
[null,null,null,null,null,null,null,null,null,null,null,null,null,null,6.0888018282729349E-2]
[null,null,null,null,null,null,null,null,null,null,null,null,null,null,7.1468851096666966E-2]
[null,null,null,null,null,null,null,null,null,null,null,null,null,null,5.6332175822871221E-2]
[null,null,null,null,null,null,null,null,null,null,null,null,null,null,5.3675837711097261E-2]
[null,null,null,null,null,null,null,null,null,null,null,null,null,null,5.0974979966165082E-2]
[null,null,null,null,null,null,null,null,null,null,null,null,null,null,4.9164514884397353E-2]
[null,null,null,null,null,null,null,null,null,null,null,null,null,null,4.5320986555070789E-2]
[null,null,null,null,null,null,null,null,null,null,null,null,null,null,2.317988899771466E-2]
[null,null,null,null,null,null,null,null,null,null,null,null,null,null,1.6531623779420059E-2]
[null,null,null,null,null,null,null,null,null,null,null,null,null,null,1]

{"sheet":"TON","index":21,"n_rows":250,"n_cols":106,"rows_kept":250,"cut":false,"hidden":true,"merged":[[0,68,21,68]]}
["Mid Year Population Estimates",null,null,null,null,null,null,null,null,null,null,null,null,null,null,null,null,null,null,null,null,null,null,null,null,null,null,null,null,null,null,null,null,null,null,null,null,null,null,null,null,null,null,null,null,null,null,null,null,null,null,null,null,null,null,null,null,null,null,null,null,null,null,null,null,null,null,null,"Insert column here before extending the table"]
["ONS Mid-Year Population Estimates 1991 to 2022 - (1992 to 2001 Revised 7th October 2004) ( 2002 to 2010 revised in light of the 2011 census. Released 30 April 2013)",null,null,null,null,null,null,null,null,null,null,null,null,null,null,null,null,null,null,null,null,null,null,null,null,null,null,null,null,null,null,null,null,null,null,"Selected Ages:",null,{"$f":"Index!C4&\" : \"&Index!C7","v":"0 : 90"},null,null,null,null,null,null,null,null,null,null,null,null,null,null,null,null,null,null,null,null,null,null,null,null,null,null,null,null,null,null,null,null,null,null,"Start year","End Year","Number change","% Change"]
["Revised ONS Mid-Year Population Estimates 2012 to 2020- Released 23 November 2023",null,null,null,null,null,null,null,null,null,null,null,null,null,null,null,null,null,null,null,null,null,null,null,null,null,null,null,null,null,null,null,null,null,null,null,{"$f":"AK13","v":1992},{"$f":"AL13","v":1993},{"$f":"AM13","v":1994},{"$f":"AN13","v":1995},{"$f":"AO13","v":1996},{"$f":"AP13","v":1997},1998,1999,2000,2001,2002,2003,2004,2005,2006,2007,2008,2009,2010,2011,2012,2013,2014,2015,2016,2017,{"$f":"BK13","v":2018},2019,2020,2021,2022,2023,null,null,null,null,{"$f":"INDEX($AR3:$BL3,Index!$B$16)","v":1999},{"$f":"INDEX($AR3:$BM3,Index!$B$19)","v":2019}]
["2022 MYPE released 23 November 2023",null,null,null,null,null,null,null,null,null,null,null,null,null,null,null,null,null,null,null,null,null,null,null,null,null,null,null,null,null,null,null,null,null,null,"Males",{"$f":"OFFSET(AK16,Index!$B$7-1,0)-IF(Index!$B$4-2=-1,0,OFFSET(AK16,Index!$B$4-2,0))","v":50143},{"$f":"OFFSET(AL16,Index!$B$7-1,0)-IF(Index!$B$4-2=-1,0,OFFSET(AL16,Index!$B$4-2,0))","v":50078},{"$f":"OFFSET(AM16,Index!$B$7-1,0)-IF(Index!$B$4-2=-1,0,OFFSET(AM16,Index!$B$4-2,0))","v":50315},{"$f":"OFFSET(AN16,Index!$B$7-1,0)-IF(Index!$B$4-2=-1,0,OFFSET(AN16,Index!$B$4-2,0))","v":50926},{"$f":"OFFSET(AO16,Index!$B$7-1,0)-IF(Index!$B$4-2=-1,0,OFFSET(AO16,Index!$B$4-2,0))","v":51289},{"$f":"OFFSET(AP16,Index!$B$7-1,0)-IF(Index!$B$4-2=-1,0,OFFSET(AP16,Index!$B$4-2,0))","v":51482},{"$f":"OFFSET(AQ16,Index!$B$7-1,0)-IF(Index!$B$4-2=-1,0,OFFSET(AQ16,Index!$B$4-2,0))","v":51668},{"$f":"OFFSET(AR16,Index!$B$7-1,0)-IF(Index!$B$4-2=-1,0,OFFSET(AR16,Index!$B$4-2,0))","v":52219},{"$f":"OFFSET(AS16,Index!$B$7-1,0)-IF(Index!$B$4-2=-1,0,OFFSET(AS16,Index!$B$4-2,0))","v":52341},{"$f":"OFFSET(AT16,Index!$B$7-1,0)-IF(Index!$B$4-2=-1,0,OFFSET(AT16,Index!$B$4-2,0))","v":52751},{"$f":"OFFSET(AU16,Index!$B$7-1,0)-IF(Index!$B$4-2=-1,0,OFFSET(AU16,Index!$B$4-2,0))","v":53122},{"$f":"OFFSET(AV16,Index!$B$7-1,0)-IF(Index!$B$4-2=-1,0,OFFSET(AV16,Index!$B$4-2,0))","v":53552},{"$f":"OFFSET(AW16,Index!$B$7-1,0)-IF(Index!$B$4-2=-1,0,OFFSET(AW16,Index!$B$4-2,0))","v":54116},{"$f":"OFFSET(AX16,Index!$B$7-1,0)-IF(Index!$B$4-2=-1,0,OFFSET(AX16,Index!$B$4-2,0))","v":54778},{"$f":"OFFSET(AY16,Index!$B$7-1,0)-IF(Index!$B$4-2=-1,0,OFFSET(AY16,Index!$B$4-2,0))","v":55687},{"$f":"OFFSET(AZ16,Index!$B$7-1,0)-IF(Index!$B$4-2=-1,0,OFFSET(AZ16,Index!$B$4-2,0))","v":56548},{"$f":"OFFSET(BA16,Index!$B$7-1,0)-IF(Index!$B$4-2=-1,0,OFFSET(BA16,Index!$B$4-2,0))","v":57227},{"$f":"OFFSET(BB16,Index!$B$7-1,0)-IF(Index!$B$4-2=-1,0,OFFSET(BB16,Index!$B$4-2,0))","v":57999},{"$f":"OFFSET(BC16,Index!$B$7-1,0)-IF(Index!$B$4-2=-1,0,OFFSET(BC16,Index!$B$4-2,0))","v":58779},{"$f":"OFFSET(BD16,Index!$B$7-1,0)-IF(Index!$B$4-2=-1,0,OFFSET(BD16,Index!$B$4-2,0))","v":59318},{"$f":"OFFSET(BE16,Index!$B$7-1,0)-IF(Index!$B$4-2=-1,0,OFFSET(BE16,Index!$B$4-2,0))","v":59895},{"$f":"OFFSET(BF16,Index!$B$7-1,0)-IF(Index!$B$4-2=-1,0,OFFSET(BF16,Index!$B$4-2,0))","v":60274},{"$f":"OFFSET(BG16,Index!$B$7-1,0)-IF(Index!$B$4-2=-1,0,OFFSET(BG16,Index!$B$4-2,0))","v":60995},{"$f":"OFFSET(BH16,Index!$B$7-1,0)-IF(Index!$B$4-2=-1,0,OFFSET(BH16,Index!$B$4-2,0))","v":61466},{"$f":"OFFSET(BI16,Index!$B$7-1,0)-IF(Index!$B$4-2=-1,0,OFFSET(BI16,Index!$B$4-2,0))","v":62090},{"$f":"OFFSET(BJ16,Index!$B$7-1,0)-IF(Index!$B$4-2=-1,0,OFFSET(BJ16,Index!$B$4-2,0))","v":62806},{"$f":"OFFSET(BK16,Index!$B$7-1,0)-IF(Index!$B$4-2=-1,0,OFFSET(BK16,Index!$B$4-2,0))","v":63500},{"$f":"OFFSET(BL16,Index!$B$7-1,0)-IF(Index!$B$4-2=-1,0,OFFSET(BL16,Index!$B$4-2,0))","v":64113},{"$f":"OFFSET(BM16,Index!$B$7-1,0)-IF(Index!$B$4-2=-1,0,OFFSET(BM16,Index!$B$4-2,0))","v":64185},{"$f":"OFFSET(BN16,Index!$B$7-1,0)-IF(Index!$B$4-2=-1,0,OFFSET(BN16,Index!$B$4-2,0))","v":64406},{"$f":"OFFSET(BO16,Index!$B$7-1,0)-IF(Index!$B$4-2=-1,0,OFFSET(BO16,Index!$B$4-2,0))","v":64926},{"$f":"OFFSET(BP16,Index!$B$7-1,0)-IF(Index!$B$4-2=-1,0,OFFSET(BP16,Index!$B$4-2,0))","v":65626},null,null,null,null,{"$f":"INDEX($AR4:$BL4,Index!$B$16)","v":52219},{"$f":"INDEX($AR4:$BM4,Index!$B$19)","v":64113},{"$f":"BV4-BU4","v":11894},{"$f":"BW4/BU4","v":0.22777150079472988}]
[null,null,null,null,null,null,null,null,null,null,null,null,null,null,null,null,null,null,null,null,null,null,null,null,null,null,null,null,null,null,null,null,null,null,null,"Females",{"$f":"OFFSET(AK109,Index!$B$7-1,0)-IF(Index!$B$4-2=-1,0,OFFSET(AK109,Index!$B$4-2,0))","v":51563},{"$f":"OFFSET(AL109,Index!$B$7-1,0)-IF(Index!$B$4-2=-1,0,OFFSET(AL109,Index!$B$4-2,0))","v":51578},{"$f":"OFFSET(AM109,Index!$B$7-1,0)-IF(Index!$B$4-2=-1,0,OFFSET(AM109,Index!$B$4-2,0))","v":51947},{"$f":"OFFSET(AN109,Index!$B$7-1,0)-IF(Index!$B$4-2=-1,0,OFFSET(AN109,Index!$B$4-2,0))","v":52572},{"$f":"OFFSET(AO109,Index!$B$7-1,0)-IF(Index!$B$4-2=-1,0,OFFSET(AO109,Index!$B$4-2,0))","v":52981},{"$f":"OFFSET(AP109,Index!$B$7-1,0)-IF(Index!$B$4-2=-1,0,OFFSET(AP109,Index!$B$4-2,0))","v":53189},{"$f":"OFFSET(AQ109,Index!$B$7-1,0)-IF(Index!$B$4-2=-1,0,OFFSET(AQ109,Index!$B$4-2,0))","v":53499},{"$f":"OFFSET(AR109,Index!$B$7-1,0)-IF(Index!$B$4-2=-1,0,OFFSET(AR109,Index!$B$4-2,0))","v":54157},{"$f":"OFFSET(AS109,Index!$B$7-1,0)-IF(Index!$B$4-2=-1,0,OFFSET(AS109,Index!$B$4-2,0))","v":54543},{"$f":"OFFSET(AT109,Index!$B$7-1,0)-IF(Index!$B$4-2=-1,0,OFFSET(AT109,Index!$B$4-2,0))","v":55020},{"$f":"OFFSET(AU109,Index!$B$7-1,0)-IF(Index!$B$4-2=-1,0,OFFSET(AU109,Index!$B$4-2,0))","v":55551},{"$f":"OFFSET(AV109,Index!$B$7-1,0)-IF(Index!$B$4-2=-1,0,OFFSET(AV109,Index!$B$4-2,0))","v":55942},{"$f":"OFFSET(AW109,Index!$B$7-1,0)-IF(Index!$B$4-2=-1,0,OFFSET(AW109,Index!$B$4-2,0))","v":56325},{"$f":"OFFSET(AX109,Index!$B$7-1,0)-IF(Index!$B$4-2=-1,0,OFFSET(AX109,Index!$B$4-2,0))","v":56941},{"$f":"OFFSET(AY109,Index!$B$7-1,0)-IF(Index!$B$4-2=-1,0,OFFSET(AY109,Index!$B$4-2,0))","v":57849},{"$f":"OFFSET(AZ109,Index!$B$7-1,0)-IF(Index!$B$4-2=-1,0,OFFSET(AZ109,Index!$B$4-2,0))","v":58921},{"$f":"OFFSET(BA109,Index!$B$7-1,0)-IF(Index!$B$4-2=-1,0,OFFSET(BA109,Index!$B$4-2,0))","v":59740},{"$f":"OFFSET(BB109,Index!$B$7-1,0)-IF(Index!$B$4-2=-1,0,OFFSET(BB109,Index!$B$4-2,0))","v":60460},{"$f":"OFFSET(BC109,Index!$B$7-1,0)-IF(Index!$B$4-2=-1,0,OFFSET(BC109,Index!$B$4-2,0))","v":61275},{"$f":"OFFSET(BD109,Index!$B$7-1,0)-IF(Index!$B$4-2=-1,0,OFFSET(BD109,Index!$B$4-2,0))","v":61769},{"$f":"OFFSET(BE109,Index!$B$7-1,0)-IF(Index!$B$4-2=-1,0,OFFSET(BE109,Index!$B$4-2,0))","v":62151},{"$f":"OFFSET(BF109,Index!$B$7-1,0)-IF(Index!$B$4-2=-1,0,OFFSET(BF109,Index!$B$4-2,0))","v":62732},{"$f":"OFFSET(BG109,Index!$B$7-1,0)-IF(Index!$B$4-2=-1,0,OFFSET(BG109,Index!$B$4-2,0))","v":63608},{"$f":"OFFSET(BH109,Index!$B$7-1,0)-IF(Index!$B$4-2=-1,0,OFFSET(BH109,Index!$B$4-2,0))","v":64246},{"$f":"OFFSET(BI109,Index!$B$7-1,0)-IF(Index!$B$4-2=-1,0,OFFSET(BI109,Index!$B$4-2,0))","v":65000},{"$f":"OFFSET(BJ109,Index!$B$7-1,0)-IF(Index!$B$4-2=-1,0,OFFSET(BJ109,Index!$B$4-2,0))","v":65874},{"$f":"OFFSET(BK109,Index!$B$7-1,0)-IF(Index!$B$4-2=-1,0,OFFSET(BK109,Index!$B$4-2,0))","v":66649},{"$f":"OFFSET(BL109,Index!$B$7-1,0)-IF(Index!$B$4-2=-1,0,OFFSET(BL109,Index!$B$4-2,0))","v":67389},{"$f":"OFFSET(BM109,Index!$B$7-1,0)-IF(Index!$B$4-2=-1,0,OFFSET(BM109,Index!$B$4-2,0))","v":67606},{"$f":"OFFSET(BN109,Index!$B$7-1,0)-IF(Index!$B$4-2=-1,0,OFFSET(BN109,Index!$B$4-2,0))","v":67957},{"$f":"OFFSET(BO109,Index!$B$7-1,0)-IF(Index!$B$4-2=-1,0,OFFSET(BO109,Index!$B$4-2,0))","v":68738},{"$f":"OFFSET(BP109,Index!$B$7-1,0)-IF(Index!$B$4-2=-1,0,OFFSET(BP109,Index!$B$4-2,0))","v":69580},null,null,null,null,{"$f":"INDEX($AR5:$BL5,Index!$B$16)","v":54157},{"$f":"INDEX($AR5:$BM5,Index!$B$19)","v":67389},{"$f":"BV5-BU5","v":13232},{"$f":"BW5/BU5","v":0.24432667983824805}]
[null,null,null,null,null,null,null,null,null,null,null,null,null,null,null,null,null,null,null,null,null,null,null,null,null,null,null,null,null,null,null,null,null,null,null,"Total",{"$f":"SUM(AK4:AK5)","v":101706},{"$f":"SUM(AL4:AL5)","v":101656},{"$f":"SUM(AM4:AM5)","v":102262},{"$f":"SUM(AN4:AN5)","v":103498},{"$f":"SUM(AO4:AO5)","v":104270},{"$f":"SUM(AP4:AP5)","v":104671},105167,106376,106884,107771,108673,109494,110441,111719,113536,115469,116967,118459,120054,121087,122046,123006,124603,125712,127090,128680,130149,131502,131791,132363,133664,135206,null,null,null,null,{"$f":"INDEX($AR6:$BL6,Index!$B$16)","v":106376},{"$f":"INDEX($AR6:$BM6,Index!$B$19)","v":131502},{"$f":"BV6-BU6","v":25126},{"$f":"BW6/BU6","v":0.23619989471309319}]
[]
[null,null,null,null,null,null,null,null,null,null,null,null,null,null,null,null,null,null,null,null,null,null,null,null,null,null,null,null,null,null,null,null,null,null,null,"Males",{"$f":"IF(AK4<0,\"0\",AK4)","v":50143},{"$f":"IF(AL4<0,\"0\",AL4)","v":50078},50315,50926,51289,51482,51668,52219,52341,52751,53122,53552,54116,54778,55687,56548,57227,57999,58779,59318,59895,60274,60995,61466,62090,62806,{"$f":"IF(BK4<0,\"0\",BK4)","v":63500},64113,64185,{"$f":"IF(BN4<0,\"0\",BN4)","v":64406},64926,{"$f":"IF(BP4<0,\"0\",BP4)","v":65626}]
[null,null,null,null,null,null,null,null,null,null,null,null,null,null,null,null,null,null,null,null,null,null,null,null,null,null,null,null,null,null,null,null,null,null,null,"Females",{"$f":"IF(AK5<0,\"0\",AK5)","v":51563},51578,51947,52572,52981,53189,53499,54157,54543,55020,55551,55942,56325,56941,57849,58921,59740,60460,61275,61769,62151,62732,63608,64246,65000,65874,66649,67389,67606,{"$f":"IF(BN5<0,\"0\",BN5)","v":67957},68738,{"$f":"IF(BP5<0,\"0\",BP5)","v":69580}]
[null,null,null,null,null,null,null,null,null,null,null,null,null,null,null,null,null,null,null,null,null,null,null,null,null,null,null,null,null,null,null,null,null,null,null,"Total",{"$f":"SUM(AK8:AK9)","v":101706},{"$f":"SUM(AL8:AL9)","v":101656},102262,103498,104270,104671,105167,106376,106884,107771,108673,109494,110441,111719,113536,115469,116967,118459,120054,121087,122046,123006,124603,125712,127090,128680,{"$f":"SUM(BK8:BK9)","v":130149},131502,131791,132363,133664,135206]
[]
[null,null,null,"MYE for  . . . . . .",null,null,null,"Tonbridge & Malling",null,null,null,null,null,null,null,null,null,null,null,null,null,null,null,null,null,null,null,null,null,null,null,null,null,null,null,null,null,null,null,null,"Cummulative Ages",null,null,null,null,null,null,null,null,null,null,null,null,null,null,null,null,null,null,null,null,null,null,null,null,null,null,null,null,"Population Pyramid"]
[null,null,"Base Year",null,null,null,null,null,null,null,null,null,null,null,null,null,null,null,null,null,null,null,null,null,null,null,null,null,null,null,null,null,null,null,null,null,{"$f":"C14","v":1992},1993,1994,1995,1996,1997,1998,1999,2000,2001,2002,2003,2004,2005,2006,2007,2008,2009,2010,2011,2012,2013,2014,2015,2016,2017,2018,2019,2020,2021,2022,2023]
["Sex","Age",1992,1993,1994,1995,1996,1997,1998,1999,2000,2001,2002,2003,2004,2005,2006,2007,2008,2009,2010,2011,2012,2013,2014,2015,2016,2017,2018,2019,2020,2021,2022,2023,null,null,null,null,null,null,null,null,null,null,null,null,null,null,null,null,null,null,null,null,null,null,null,null,null,null,null,null,null,null,null,null,null,null,null,null,null,null,1992,1993,1994,1995,1996,1997,1998,1999,2000,2001,2002,2003,2004,2005,2006,2007,2008,2009,2010,2011,2012,2013,2014,2015,2016,2017,2018,2019,2020,2021,2022,2023,null,{"$f":"INDEX(CC14:CY14,'Population Pyramid'!$L$1)","v":2020}]
[null,"All persons",{"$f":"SUM(C107,C200)","v":101706},{"$f":"SUM(D107,D200)","v":101656},102262,103498,104270,104671,105167,106376,106884,107771,108673,109494,110441,111719,113536,115469,116967,118459,120054,121087,122046,123006,{"$f":"SUM(Y107,Y200)","v":124603},125712,127090,128680,130149,131502,{"$f":"SUM(AE107,AE200)","v":131791},132363,{"$f":"SUM(AG107,AG200)","v":133664},135206,null,"Males",null,null,null,null,null,null,null,null,null,null,null,null,null,null,null,null,null,null,null,null,null,null,null,null,null,null,null,null,null,null,null,null,null,"Males","All Ages",null,{"$f":"C107","v":50143},50078,50315,50926,51289,51482,51668,52219,52341,52751,53122,53552,54116,54778,55687,56548,57227,57999,58779,59318,59895,60274,60995,61466,62090,62806,63500,64113,64185,64406,64926,65626,null,{"$f":"INDEX(CC15:CY15,'Population Pyramid'!$L$1)","v":64185}]
["male",0,694,679,702,688,656,731,709,655,641,624,692,645,702,668,675,719,750,733,756,734,733,729,723,707,664,754,794,745,711,689,699,668,null,0,{"$f":"C16","v":694},679,702,688,656,731,709,655,641,624,692,645,702,668,675,719,750,733,756,734,733,729,723,707,664,754,794,745,711,689,699,668,null,"Males","0-4",null,{"$f":"SUM(C16:C20)","v":3597},3559,3581,3656,3606,3620,3600,3498,3454,3445,3488,3493,3503,3499,3549,3614,3720,3784,3896,3960,3950,3892,3912,3919,3871,3903,3944,4034,3944,3951,3915,3817,null,{"$f":"INDEX(CC16:CY16,'Population Pyramid'!$L$1)","v":3944}]
["male",1,720,716,717,760,707,682,754,686,684,662,654,721,676,717,688,698,748,777,751,781,772,766,777,754,756,710,792,842,750,746,725,752,null,1,{"$f":"AK16+C17","v":1414},{"$f":"AL16+D17","v":1395},{"$f":"AM16+E17","v":1419},{"$f":"AN16+F17","v":1448},{"$f":"AO16+G17","v":1363},{"$f":"AP16+H17","v":1413},{"$f":"AQ16+I17","v":1463},{"$f":"AR16+J17","v":1341},{"$f":"AS16+K17","v":1325},{"$f":"AT16+L17","v":1286},{"$f":"AU16+M17","v":1346},{"$f":"AV16+N17","v":1366},{"$f":"AW16+O17","v":1378},{"$f":"AX16+P17","v":1385},{"$f":"AY16+Q17","v":1363},{"$f":"AZ16+R17","v":1417},{"$f":"BA16+S17","v":1498},{"$f":"BB16+T17","v":1510},{"$f":"BC16+U17","v":1507},{"$f":"BD16+V17","v":1515},{"$f":"BE16+W17","v":1505},{"$f":"BF16+X17","v":1495},{"$f":"BG16+Y17","v":1500},{"$f":"BH16+Z17","v":1461},{"$f":"BI16+AA17","v":1420},{"$f":"BJ16+AB17","v":1464},{"$f":"BK16+AC17","v":1586},{"$f":"BL16+AD17","v":1587},{"$f":"BM16+AE17","v":1461},{"$f":"BN16+AF17","v":1435},{"$f":"BO16+AG17","v":1424},1420,null,"Males","5-9",null,{"$f":"SUM(C21:C25)","v":3256},3348,3435,3552,3687,3768,3737,3851,3815,3766,3765,3756,3788,3794,3714,3751,3759,3773,3812,3943,4001,4072,4131,4186,4260,4305,4422,4453,4384,4354,4366,4433,null,{"$f":"INDEX(CC17:CY17,'Population Pyramid'!$L$1)","v":4384}]
["male",2,705,725,723,733,763,701,683,741,678,717,681,668,738,694,714,732,725,763,811,791,797,777,774,825,771,766,754,834,849,813,791,754,null,2,2119,2120,2142,2181,2126,2114,2146,2082,2003,2003,2027,2034,2116,2079,2077,2149,2223,2273,2318,2306,2302,2272,2274,2286,2191,2230,2340,2421,2310,2248,2215,2174,null,"Males","10-14",null,{"$f":"SUM(C26:C30)","v":3274},3304,3264,3239,3226,3265,3427,3656,3746,3916,3930,3947,3958,4004,4058,4087,4175,4130,4148,4079,4019,3990,4038,4046,4207,4306,4266,4402,4467,4511,4643,4740,null,{"$f":"INDEX(CC18:CY18,'Population Pyramid'!$L$1)","v":4467}]
["male",3,740,705,736,736,744,764,700,704,738,702,745,698,671,736,718,741,742,765,784,845,803,796,802,812,854,793,788,787,844,851,823,816,null,3,2859,2825,2878,2917,2870,2878,2846,2786,2741,2705,2772,2732,2787,2815,2795,2890,2965,3038,3102,3151,3105,3068,3076,3098,3045,3023,3128,3208,3154,3099,3038,2990,null,"Males","15-19",null,{"$f":"SUM(C31:C35)","v":3421},3318,3258,3233,3309,3340,3450,3465,3470,3491,3547,3714,3847,3884,3942,4025,4026,4129,4219,4257,4258,4268,4190,4132,4040,4061,4021,4038,4062,4082,4112,4197,null,{"$f":"INDEX(CC19:CY19,'Population Pyramid'!$L$1)","v":4062}]
["male",4,738,734,703,739,736,742,754,712,713,740,716,761,716,684,754,724,755,746,794,809,845,824,836,821,826,880,816,826,790,852,877,827,null,4,3597,3559,3581,3656,3606,3620,3600,3498,3454,3445,3488,3493,3503,3499,3549,3614,3720,3784,3896,3960,3950,3892,3912,3919,3871,3903,3944,4034,3944,3951,3915,3817,null,"Males","20-24",null,{"$f":"SUM(C36:C40)","v":3404},3182,3000,2921,2676,2423,2212,2191,2239,2302,2324,2335,2337,2397,2542,2594,2659,2818,2897,2930,3003,3033,3167,3084,2978,2938,2969,2896,2939,2972,2924,2868,null,{"$f":"INDEX(CC20:CY20,'Population Pyramid'!$L$1)","v":2939}]
["male",5,694,757,750,724,761,752,760,783,715,729,752,727,747,719,675,768,734,779,776,815,819,857,841,847,836,855,904,829,832,808,871,892,null,5,4291,4316,4331,4380,4367,4372,4360,4281,4169,4174,4240,4220,4250,4218,4224,4382,4454,4563,4672,4775,4769,4749,4753,4766,4707,4758,4848,4863,4776,4759,4786,4709,null,"Males","25-29",null,{"$f":"SUM(C41:C45)","v":3735},3664,3668,3747,3796,3746,3655,3389,3131,2911,2751,2586,2576,2554,2653,2743,2784,2800,2781,2825,2957,3062,3170,3239,3301,3368,3445,3429,3325,3289,3346,3430,null,{"$f":"INDEX(CC21:CY21,'Population Pyramid'!$L$1)","v":3325}]
["male",6,643,678,755,744,718,754,743,772,777,719,745,750,749,755,732,672,781,752,793,781,800,829,856,844,855,853,870,914,833,854,842,897,null,6,4934,4994,5086,5124,5085,5126,5103,5053,4946,4893,4985,4970,4999,4973,4956,5054,5235,5315,5465,5556,5569,5578,5609,5610,5562,5611,5718,5777,5609,5613,5628,5606,null,"Males","30-34",null,{"$f":"SUM(C46:C50)","v":3962},3953,4063,4140,4165,4084,4022,3970,3910,3834,3780,3718,3695,3559,3420,3260,3095,3080,3076,3096,3100,3122,3109,3201,3281,3419,3516,3689,3701,3790,3927,3970,null,{"$f":"INDEX(CC22:CY22,'Population Pyramid'!$L$1)","v":3701}]
["male",7,642,641,676,775,752,724,763,774,770,765,719,759,753,761,750,751,681,779,749,783,799,795,826,855,860,869,877,900,912,850,860,867,null,7,5576,5635,5762,5899,5837,5850,5866,5827,5716,5658,5704,5729,5752,5734,5706,5805,5916,6094,6214,6339,6368,6373,6435,6465,6422,6480,6595,6677,6521,6463,6488,6473,null,"Males","35-39",null,{"$f":"SUM(C51:C55)","v":3526},3548,3618,3764,3934,4080,4087,4314,4381,4423,4425,4454,4383,4374,4418,4465,4410,4295,4182,3988,3767,3565,3537,3525,3704,3834,3877,3891,3843,3868,3908,4136,null,{"$f":"INDEX(CC23:CY23,'Population Pyramid'!$L$1)","v":3843}]
["male",8,667,639,646,685,794,761,733,786,778,768,779,731,791,767,777,770,776,687,795,775,792,800,804,839,852,866,896,902,910,927,867,890,null,8,6243,6274,6408,6584,6631,6611,6599,6613,6494,6426,6483,6460,6543,6501,6483,6575,6692,6781,7009,7114,7160,7173,7239,7304,7274,7346,7491,7579,7431,7390,7355,7363,null,"Males","40-44",null,{"$f":"SUM(C56:C60)","v":3864},3681,3602,3553,3487,3521,3611,3755,3878,4112,4287,4370,4476,4601,4685,4712,4783,4788,4816,4855,4788,4743,4681,4553,4427,4204,4139,4076,4036,4132,4171,4280,null,{"$f":"INDEX(CC24:CY24,'Population Pyramid'!$L$1)","v":4036}]
["male",9,610,633,608,624,662,777,738,736,775,785,770,789,748,792,780,790,787,776,699,789,791,791,804,801,857,862,875,908,897,915,926,887,null,9,6853,6907,7016,7208,7293,7388,7337,7349,7269,7211,7253,7249,7291,7293,7263,7365,7479,7557,7708,7903,7951,7964,8043,8105,8131,8208,8366,8487,8328,8305,8281,8250,null,"Males","45-49",null,{"$f":"SUM(C61:C65)","v":3979},4152,4157,4175,4093,3808,3633,3576,3517,3490,3582,3670,3829,4018,4217,4430,4512,4585,4726,4716,4814,4929,4935,4877,4958,4957,4887,4838,4735,4542,4406,4357,null,{"$f":"INDEX(CC25:CY25,'Population Pyramid'!$L$1)","v":4735}]
["male",10,631,620,634,621,640,673,804,782,742,796,769,771,809,769,797,776,804,796,788,701,784,803,816,801,809,866,864,887,926,897,928,953,null,10,7484,7527,7650,7829,7933,8061,8141,8131,8011,8007,8022,8020,8100,8062,8060,8141,8283,8353,8496,8604,8735,8767,8859,8906,8940,9074,9230,9374,9254,9202,9209,9203,null,"Males","50-54",null,{"$f":"SUM(C66:C70)","v":3018},3115,3219,3274,3539,3894,4048,4089,4036,3992,3689,3542,3494,3525,3554,3645,3756,3917,4044,4230,4403,4494,4570,4773,4759,4823,4906,4856,4876,4845,4863,4785,null,{"$f":"INDEX(CC26:CY26,'Population Pyramid'!$L$1)","v":4876}]
["male",11,647,615,609,630,617,635,666,789,763,746,776,769,766,822,777,806,802,806,810,799,690,796,811,804,811,822,873,894,887,923,894,925,null,11,8131,8142,8259,8459,8550,8696,8807,8920,8774,8753,8798,8789,8866,8884,8837,8947,9085,9159,9306,9403,9425,9563,9670,9710,9751,9896,10103,10268,10141,10125,10103,10128,null,"Males","55-59",null,{"$f":"SUM(C71:C75)","v":2967},2976,3037,3026,2911,2910,3021,3056,3161,3371,3674,3844,3873,3911,3850,3623,3500,3472,3473,3523,3616,3659,3796,3877,4074,4228,4366,4446,4583,4595,4620,4697,null,{"$f":"INDEX(CC27:CY27,'Population Pyramid'!$L$1)","v":4583}]
["male",12,677,651,620,620,634,622,642,654,790,763,749,785,780,762,835,800,813,812,828,810,803,689,808,823,823,819,826,868,882,881,953,915,null,12,8808,8793,8879,9079,9184,9318,9449,9574,9564,9516,9547,9574,9646,9646,9672,9747,9898,9971,10134,10213,10228,10252,10478,10533,10574,10715,10929,11136,11023,11006,11056,11043,null,"Males","60-64",null,{"$f":"SUM(C76:C80)","v":2460},2490,2554,2657,2711,2751,2740,2772,2734,2639,2656,2782,2863,2962,3181,3481,3651,3709,3748,3673,3487,3368,3307,3356,3382,3459,3523,3634,3707,3873,3959,4016,null,{"$f":"INDEX(CC28:CY28,'Population Pyramid'!$L$1)","v":3707}]
["male",13,665,673,641,627,621,625,613,637,662,820,773,761,777,798,775,866,816,827,836,855,820,820,717,833,849,884,815,856,878,873,904,982,null,13,9473,9466,9520,9706,9805,9943,10062,10211,10226,10336,10320,10335,10423,10444,10447,10613,10714,10798,10970,11068,11048,11072,11195,11366,11423,11599,11744,11992,11901,11879,11960,12025,null,"Males","65-69",null,{"$f":"SUM(C81:C85)","v":1932},1976,2057,2115,2165,2199,2263,2357,2481,2498,2510,2499,2511,2503,2469,2519,2625,2733,2795,2973,3257,3398,3496,3502,3484,3241,3154,3141,3127,3088,3196,3228,null,{"$f":"INDEX(CC29:CY29,'Population Pyramid'!$L$1)","v":3127}]
["male",14,654,745,760,741,714,710,702,794,789,791,863,861,826,853,874,839,940,889,886,914,922,882,886,785,915,915,888,897,894,937,964,965,null,14,10127,10211,10280,10447,10519,10653,10764,11005,11015,11127,11183,11196,11249,11297,11321,11452,11654,11687,11856,11982,11970,11954,12081,12151,12338,12514,12632,12889,12795,12816,12924,12990,null,"Males","70-74",null,{"$f":"SUM(C86:C90)","v":1675},1748,1738,1669,1675,1669,1708,1745,1814,1894,1950,2024,2099,2168,2216,2259,2279,2323,2342,2295,2322,2411,2474,2598,2752,3004,3164,3208,3239,3187,2965,2871,null,{"$f":"INDEX(CC30:CY30,'Population Pyramid'!$L$1)","v":3239}]
["male",15,652,657,745,763,742,718,704,795,807,774,777,874,872,828,861,875,848,957,902,897,925,919,892,889,792,916,917,877,890,879,948,960,null,15,10779,10868,11025,11210,11261,11371,11468,11800,11822,11901,11960,12070,12121,12125,12182,12327,12502,12644,12758,12879,12895,12873,12973,13040,13130,13430,13549,13766,13685,13695,13872,13950,null,"Males","75-79",null,{"$f":"SUM(C91:C95)","v":1061},1023,1035,1155,1221,1301,1353,1395,1348,1336,1330,1353,1409,1497,1587,1626,1719,1801,1841,1898,1993,2011,2052,2043,1994,2022,2131,2192,2283,2383,2611,2721,null,{"$f":"INDEX(CC31:CY31,'Population Pyramid'!$L$1)","v":2283}]
["male",16,656,660,667,757,770,743,722,689,785,787,780,781,869,887,822,872,870,864,966,911,897,918,923,905,879,800,903,908,875,881,889,951,null,16,11435,11528,11692,11967,12031,12114,12190,12489,12607,12688,12740,12851,12990,13012,13004,13199,13372,13508,13724,13790,13792,13791,13896,13945,14009,14230,14452,14674,14560,14576,14761,14901,null,"Males","80-84",null,{"$f":"SUM(C96:C100)","v":661},661,645,654,681,681,664,682,759,859,913,944,946,951,964,985,1010,1099,1208,1259,1274,1324,1408,1473,1519,1601,1588,1640,1645,1616,1620,1649,null,{"$f":"INDEX(CC32:CY32,'Population Pyramid'!$L$1)","v":1645}]
["male",17,733,645,648,663,753,761,726,718,691,774,787,788,789,875,899,820,877,879,879,983,918,902,918,933,905,870,815,909,913,886,879,883,null,17,12168,12173,12340,12630,12784,12875,12916,13207,13298,13462,13527,13639,13779,13887,13903,14019,14249,14387,14603,14773,14710,14693,14814,14878,14914,15100,15267,15583,15473,15462,15640,15784,null,"Males","85+",null,{"$f":"SUM(C101:C106)","v":351},380,384,396,407,422,437,458,467,472,521,521,529,577,668,729,764,763,775,818,886,933,1022,1082,1099,1133,1182,1250,1289,1328,1374,1431,null,{"$f":"INDEX(CC33:CY33,'Population Pyramid'!$L$1)","v":1289}]
["male",18,751,712,620,597,606,698,720,695,663,662,722,740,744,736,828,843,791,855,840,839,917,872,848,858,876,833,826,775,853,860,827,825,null,18,12919,12885,12960,13227,13390,13573,13636,13902,13961,14124,14249,14379,14523,14623,14731,14862,15040,15242,15443,15612,15627,15565,15662,15736,15790,15933,16093,16358,16326,16322,16467,16609]
["male",19,629,644,578,453,438,420,578,568,524,494,481,531,573,558,532,615,640,574,632,627,601,657,609,547,588,642,560,569,531,576,569,578,null,19,13548,13529,13538,13680,13828,13993,14214,14470,14485,14618,14730,14910,15096,15181,15263,15477,15680,15816,16075,16239,16228,16222,16271,16283,16378,16575,16653,16927,16857,16898,17036,17187,null,"Males","All Ages",null,{"$f":"C200","v":51563},51578,51947,52572,52981,53189,53499,54157,54543,55020,55551,55942,56325,56941,57849,58921,59740,60460,61275,61769,62151,62732,63608,64246,65000,65874,66649,67389,67606,67957,68738,69580,null,{"$f":"INDEX(CC35:CY35,'Population Pyramid'!$L$1)","v":67606}]
["male",20,651,556,526,459,342,326,335,442,454,448,435,435,428,479,496,484,539,582,498,565,534,532,604,487,487,513,551,514,528,490,521,509,null,20,14199,14085,14064,14139,14170,14319,14549,14912,14939,15066,15165,15345,15524,15660,15759,15961,16219,16398,16573,16804,16762,16754,16875,16770,16865,17088,17204,17441,17385,17388,17557,17696,null,"Females","0-4",null,{"$f":"SUM(C109:C113)","v":3507},3537,3609,3616,3563,3454,3410,3447,3367,3293,3310,3305,3356,3423,3468,3540,3551,3570,3592,3493,3530,3558,3618,3617,3706,3752,3754,3770,3774,3715,3667,3588,null,{"$f":"INDEX(CC36:CY36,'Population Pyramid'!$L$1)","v":3774}]
["male",21,694,639,493,519,462,362,339,382,450,464,461,437,436,430,502,517,489,539,589,513,615,561,559,597,527,504,548,577,543,549,483,535,null,21,14893,14724,14557,14658,14632,14681,14888,15294,15389,15530,15626,15782,15960,16090,16261,16478,16708,16937,17162,17317,17377,17315,17434,17367,17392,17592,17752,18018,17928,17937,18040,18231,null,"Females","5-9",null,{"$f":"SUM(C114:C118)","v":3192},3253,3319,3420,3516,3617,3658,3792,3765,3771,3699,3697,3607,3590,3614,3699,3696,3741,3762,3769,3769,3815,3869,3931,3945,4069,4122,4112,4111,4126,4207,4257,null,{"$f":"INDEX(CC37:CY37,'Population Pyramid'!$L$1)","v":4111}]
["male",22,657,669,617,546,556,507,392,383,422,476,488,468,465,471,499,525,561,542,595,635,553,658,634,609,658,572,572,606,637,611,609,565,null,22,15550,15393,15174,15204,15188,15188,15280,15677,15811,16006,16114,16250,16425,16561,16760,17003,17269,17479,17757,17952,17930,17973,18068,17976,18050,18164,18324,18624,18565,18548,18649,18796,null,"Females","10-14",null,{"$f":"SUM(C119:C123)","v":3012},3068,3081,3092,3101,3185,3262,3378,3473,3586,3730,3815,3906,3970,3939,3912,3985,3950,3924,4045,4036,3947,3975,3962,3981,3992,4079,4179,4200,4194,4291,4419,null,{"$f":"INDEX(CC38:CY38,'Population Pyramid'!$L$1)","v":4200}]
["male",23,696,630,673,673,598,592,535,458,426,455,478,495,495,505,516,525,541,600,586,609,678,609,723,682,634,709,586,604,634,667,614,635,null,23,16246,16023,15847,15877,15786,15780,15815,16135,16237,16461,16592,16745,16920,17066,17276,17528,17810,18079,18343,18561,18608,18582,18791,18658,18684,18873,18910,19228,19199,19215,19263,19431,null,"Females","15-19",null,{"$f":"SUM(C124:C128)","v":3055},2824,2753,2678,2694,2691,2845,2924,2982,3020,3055,3152,3224,3352,3492,3618,3728,3859,3993,3930,3795,3886,3809,3809,3848,3820,3742,3724,3617,3628,3674,3797,null,{"$f":"INDEX(CC39:CY39,'Population Pyramid'!$L$1)","v":3617}]
["male",24,706,688,691,724,718,636,611,526,487,459,462,500,513,512,529,543,529,555,629,608,623,673,647,709,672,640,712,595,597,655,697,624,null,24,16952,16711,16538,16601,16504,16416,16426,16661,16724,16920,17054,17245,17433,17578,17805,18071,18339,18634,18972,19169,19231,19255,19438,19367,19356,19513,19622,19823,19796,19870,19960,20055,null,"Females","20-24",null,{"$f":"SUM(C129:C133)","v":3091},2957,2797,2789,2630,2433,2189,2137,2184,2272,2310,2264,2224,2248,2371,2442,2550,2688,2814,2894,3009,3111,3239,3217,3156,3061,3048,3006,2966,2911,2916,2909,null,{"$f":"INDEX(CC40:CY40,'Population Pyramid'!$L$1)","v":2966}]
["male",25,730,693,725,731,747,736,655,562,525,513,464,454,507,511,531,533,536,535,580,638,636,643,673,659,700,669,654,698,598,615,668,721,null,25,17682,17404,17263,17332,17251,17152,17081,17223,17249,17433,17518,17699,17940,18089,18336,18604,18875,19169,19552,19807,19867,19898,20111,20026,20056,20182,20276,20521,20394,20485,20628,20776,null,"Females","25-29",null,{"$f":"SUM(C134:C138)","v":3814},3724,3739,3765,3732,3652,3585,3408,3238,3043,2892,2714,2697,2667,2741,2843,2891,2975,3016,2999,3038,3062,3197,3277,3418,3674,3787,3792,3750,3763,3684,3566,null,{"$f":"INDEX(CC41:CY41,'Population Pyramid'!$L$1)","v":3750}]
["male",26,726,735,724,751,757,755,750,637,577,534,524,485,466,523,538,528,548,539,510,565,660,637,641,662,649,691,689,651,689,617,623,696,null,26,18408,18139,17987,18083,18008,17907,17831,17860,17826,17967,18042,18184,18406,18612,18874,19132,19423,19708,20062,20372,20527,20535,20752,20688,20705,20873,20965,21172,21083,21102,21251,21472,null,"Females","30-34",null,{"$f":"SUM(C139:C143)","v":3915},4011,4132,4251,4361,4359,4299,4376,4291,4145,4074,4056,3985,3856,3764,3680,3525,3410,3457,3491,3532,3511,3600,3729,3749,3834,3891,4027,4069,4315,4503,4632,null,{"$f":"INDEX(CC42:CY42,'Population Pyramid'!$L$1)","v":4069}]
["male",27,746,720,747,740,753,756,753,716,622,566,539,522,486,478,558,573,535,558,559,498,585,649,632,634,652,655,712,698,628,699,643,621,null,27,19154,18859,18734,18823,18761,18663,18584,18576,18448,18533,18581,18706,18892,19090,19432,19705,19958,20266,20621,20870,21112,21184,21384,21322,21357,21528,21677,21870,21711,21801,21894,22093,null,"Females","35-39",null,{"$f":"SUM(C144:C148)","v":3543},3560,3650,3787,3890,4014,4148,4339,4527,4773,4887,4829,4747,4712,4700,4658,4690,4613,4472,4368,4222,4003,4006,4034,4213,4294,4410,4556,4494,4365,4551,4761,null,{"$f":"INDEX(CC43:CY43,'Population Pyramid'!$L$1)","v":4494}]
["male",28,786,723,722,762,744,736,750,729,710,631,566,547,550,490,509,580,582,555,564,567,525,598,620,640,650,673,673,694,691,642,731,670,null,28,19940,19582,19456,19585,19505,19399,19334,19305,19158,19164,19147,19253,19442,19580,19941,20285,20540,20821,21185,21437,21637,21782,22004,21962,22007,22201,22350,22564,22402,22443,22625,22763,null,"Females","40-44",null,{"$f":"SUM(C149:C153)","v":3745},3563,3483,3474,3531,3582,3590,3773,3904,4040,4183,4357,4572,4740,4882,5002,5025,5035,5002,4994,4933,5018,4914,4798,4691,4632,4463,4455,4547,4610,4675,4843,null,{"$f":"INDEX(CC44:CY44,'Population Pyramid'!$L$1)","v":4547}]
["male",29,747,793,750,763,795,763,747,745,697,667,658,578,567,552,517,529,583,613,568,557,551,535,604,644,650,680,717,688,719,716,681,722,null,29,20687,20375,20206,20348,20300,20162,20081,20050,19855,19831,19805,19831,20009,20132,20458,20814,21123,21434,21753,21994,22188,22317,22608,22606,22657,22881,23067,23252,23121,23159,23306,23485,null,"Females","45-49",null,{"$f":"SUM(C154:C158)","v":4017},4134,4145,4154,4060,3718,3598,3528,3520,3573,3637,3718,3833,3970,4092,4323,4492,4637,4833,4955,5051,5091,5095,5098,5073,5037,5071,5032,4916,4783,4655,4577,null,{"$f":"INDEX(CC45:CY45,'Population Pyramid'!$L$1)","v":4916}]
["male",30,849,768,836,780,787,811,776,701,734,688,729,682,615,580,569,538,551,592,608,594,562,566,522,626,652,673,702,747,699,747,742,702,null,30,21536,21143,21042,21128,21087,20973,20857,20751,20589,20519,20534,20513,20624,20712,21027,21352,21674,22026,22361,22588,22750,22883,23130,23232,23309,23554,23769,23999,23820,23906,24048,24187,null,"Females","50-54",null,{"$f":"SUM(C159:C163)","v":3065},3219,3351,3414,3571,3946,4032,4060,4055,3992,3731,3560,3465,3437,3493,3555,3682,3872,4036,4131,4292,4454,4628,4805,4972,5020,5096,5071,5041,5004,4960,4962,null,{"$f":"INDEX(CC46:CY46,'Population Pyramid'!$L$1)","v":5041}]
["male",31,789,855,792,854,786,787,811,785,730,746,706,757,724,635,602,606,557,582,618,625,642,573,587,569,644,702,697,746,774,710,777,806,null,31,22325,21998,21834,21982,21873,21760,21668,21536,21319,21265,21240,21270,21348,21347,21629,21958,22231,22608,22979,23213,23392,23456,23717,23801,23953,24256,24466,24745,24594,24616,24825,24993,null,"Females","55-59",null,{"$f":"SUM(C164:C168)","v":2799},2831,2894,2953,2971,2996,3165,3242,3312,3453,3790,3907,3893,3936,3866,3644,3466,3366,3351,3452,3516,3634,3739,3935,4023,4192,4315,4504,4720,4843,4899,4952,null,{"$f":"INDEX(CC47:CY47,'Population Pyramid'!$L$1)","v":4720}]
["male",32,778,806,884,829,885,803,805,826,794,744,774,736,786,736,661,636,608,574,616,624,637,670,602,622,625,675,709,717,760,790,761,833,null,32,23103,22804,22718,22811,22758,22563,22473,22362,22113,22009,22014,22006,22134,22083,22290,22594,22839,23182,23595,23837,24029,24126,24319,24423,24578,24931,25175,25462,25354,25406,25586,25826,null,"Females","60-64",null,{"$f":"SUM(C169:C173)","v":2494},2523,2557,2649,2708,2743,2774,2830,2856,2844,2867,3029,3130,3207,3377,3701,3861,3871,3901,3809,3542,3406,3320,3259,3344,3395,3579,3707,3764,3863,4012,4109,null,{"$f":"INDEX(CC48:CY48,'Population Pyramid'!$L$1)","v":3764}]
["male",33,763,755,784,876,814,857,768,830,834,814,713,786,753,811,768,695,662,626,597,634,625,666,708,661,659,662,705,742,711,794,811,795,null,33,{"$f":"AK48+C49","v":23866},{"$f":"AL48+D49","v":23559},{"$f":"AM48+E49","v":23502},{"$f":"AN48+F49","v":23687},{"$f":"AO48+G49","v":23572},{"$f":"AP48+H49","v":23420},{"$f":"AQ48+I49","v":23241},{"$f":"AR48+J49","v":23192},{"$f":"AS48+K49","v":22947},{"$f":"AT48+L49","v":22823},{"$f":"AU48+M49","v":22727},{"$f":"AV48+N49","v":22792},{"$f":"AW48+O49","v":22887},{"$f":"AX48+P49","v":22894},{"$f":"AY48+Q49","v":23058},{"$f":"AZ48+R49","v":23289},{"$f":"BA48+S49","v":23501},{"$f":"BB48+T49","v":23808},{"$f":"BC48+U49","v":24192},{"$f":"BD48+V49","v":24471},{"$f":"BE48+W49","v":24654},{"$f":"BF48+X49","v":24792},{"$f":"BG48+Y49","v":25027},{"$f":"BH48+Z49","v":25084},{"$f":"BI48+AA49","v":25237},{"$f":"BJ48+AB49","v":25593},{"$f":"BK48+AC49","v":25880},{"$f":"BL48+AD49","v":26204},{"$f":"BM48+AE49","v":26065},{"$f":"BN48+AF49","v":26200},{"$f":"BO48+AG49","v":26397},26621,null,"Females","65-69",null,{"$f":"SUM(C174:C178)","v":2325},2268,2290,2313,2344,2390,2441,2447,2516,2563,2603,2625,2700,2733,2729,2772,2911,3039,3115,3313,3612,3737,3728,3792,3710,3461,3311,3253,3187,3272,3314,3447,null,{"$f":"INDEX(CC49:CY49,'Population Pyramid'!$L$1)","v":3187}]
["male",34,783,769,767,801,893,826,862,828,818,842,858,757,817,797,820,785,717,706,637,619,634,647,690,723,701,707,703,737,757,749,836,834,null,34,24649,24328,24269,24488,24465,24246,24103,24020,23765,23665,23585,23549,23704,23691,23878,24074,24218,24514,24829,25090,25288,25439,25717,25807,25938,26300,26583,26941,26822,26949,27233,27455,null,"Females","70-74",null,{"$f":"SUM(C179:C183)","v":1985},2149,2206,2130,2112,2116,2085,2102,2129,2183,2219,2289,2307,2375,2413,2475,2510,2569,2590,2613,2635,2743,2945,3012,3163,3501,3612,3556,3655,3544,3323,3158,null,{"$f":"INDEX(CC50:CY50,'Population Pyramid'!$L$1)","v":3655}]
["male",35,738,807,792,794,819,911,840,934,854,824,859,892,790,845,853,867,793,750,732,645,651,647,690,715,752,736,721,727,740,762,767,871,null,35,25387,25135,25061,25282,25284,25157,24943,24954,24619,24489,24444,24441,24494,24536,24731,24941,25011,25264,25561,25735,25939,26086,26407,26522,26690,27036,27304,27668,27562,27711,28000,28326,null,"Females","75-79",null,{"$f":"SUM(C184:C188)","v":1687},1551,1513,1622,1691,1772,1948,1937,1865,1841,1856,1817,1825,1887,1976,2012,2054,2119,2149,2187,2236,2286,2337,2363,2378,2393,2529,2715,2762,2901,3213,3322,null,{"$f":"INDEX(CC51:CY51,'Population Pyramid'!$L$1)","v":2762}]
["male",36,661,731,800,787,788,803,899,840,932,864,846,876,894,821,876,867,887,815,785,753,655,642,662,716,749,773,750,750,744,752,802,819,null,36,26048,25866,25861,26069,26072,25960,25842,25794,25551,25353,25290,25317,25388,25357,25607,25808,25898,26079,26346,26488,26594,26728,27069,27238,27439,27809,28054,28418,28306,28463,28802,29145,null,"Females","80-84",null,{"$f":"SUM(C189:C193)","v":1262},1307,1333,1348,1350,1333,1223,1183,1263,1303,1373,1496,1561,1500,1483,1510,1541,1550,1621,1662,1695,1759,1773,1789,1825,1866,1911,1949,1981,2020,2050,2132,null,{"$f":"INDEX(CC52:CY52,'Population Pyramid'!$L$1)","v":1981}]
["male",37,662,647,726,799,779,778,789,910,845,929,900,841,912,912,833,900,891,890,830,799,755,674,673,696,742,795,807,766,752,769,765,847,null,37,26710,26513,26587,26868,26851,26738,26631,26704,26396,26282,26190,26158,26300,26269,26440,26708,26789,26969,27176,27287,27349,27402,27742,27934,28181,28604,28861,29184,29058,29232,29567,29992,null,"Females","85+",null,{"$f":"SUM(C194:C199)","v":1055},1099,1095,1117,1156,1188,1247,1254,1296,1325,1335,1312,1293,1338,1449,1535,1582,1596,1647,1664,1708,1711,1816,1819,1805,1881,1929,1981,2052,2100,2144,2149,null,{"$f":"INDEX(CC53:CY53,'Population Pyramid'!$L$1)","v":2052}]
["male",38,719,664,654,743,814,786,787,839,920,877,948,904,863,913,931,870,932,900,915,861,820,775,698,684,735,779,795,834,781,778,766,795,null,38,27429,27177,27241,27611,27665,27524,27418,27543,27316,27159,27138,27062,27163,27182,27371,27578,27721,27869,28091,28148,28169,28177,28440,28618,28916,29383,29656,30018,29839,30010,30333,30787]
["male",39,746,699,646,641,734,802,772,791,830,929,872,941,924,883,925,961,907,940,920,930,886,827,814,714,726,751,804,814,826,807,808,804,null,39,28175,27876,27887,28252,28399,28326,28190,28334,28146,28088,28010,28003,28087,28065,28296,28539,28628,28809,29011,29078,29055,29004,29254,29332,29642,30134,30460,30832,30665,30817,31141,31591]
["male",40,708,742,712,657,653,753,822,815,817,837,940,873,951,950,904,954,970,907,965,923,944,891,866,841,756,740,751,811,827,847,812,829,null,40,28883,28618,28599,28909,29052,29079,29012,29149,28963,28925,28950,28876,29038,29015,29200,29493,29598,29716,29976,30001,29999,29895,30120,30173,30398,30874,31211,31643,31492,31664,31953,32420]
["male",41,722,716,754,731,668,667,771,816,823,829,856,940,865,949,965,911,965,978,921,990,926,963,890,875,886,768,782,769,832,845,852,845,null,41,29605,29334,29353,29640,29720,29746,29783,29965,29786,29754,29806,29816,29903,29964,30165,30404,30563,30694,30897,30991,30925,30858,31010,31048,31284,31642,31993,32412,32324,32509,32805,33265]
["male",42,719,712,707,743,723,655,654,746,811,846,838,865,941,880,963,991,915,985,997,933,989,958,982,889,886,881,789,811,782,834,850,866,null,42,30324,30046,30060,30383,30443,30401,30437,30711,30597,30600,30644,30681,30844,30844,31128,31395,31478,31679,31894,31924,31914,31816,31992,31937,32170,32523,32782,33223,33106,33343,33655,34131]
["male",43,803,715,713,708,737,719,650,694,753,822,851,846,879,947,889,953,990,920,1012,999,927,992,956,989,903,903,890,782,822,788,864,854,null,43,31127,30761,30773,31091,31180,31120,31087,31405,31350,31422,31495,31527,31723,31791,32017,32348,32468,32599,32906,32923,32841,32808,32948,32926,33073,33426,33672,34005,33928,34131,34519,34985]
["male",44,912,796,716,714,706,727,714,684,674,778,802,846,840,875,964,903,943,998,921,1010,1002,939,987,959,996,912,927,903,773,818,793,886,null,44,32039,31557,31489,31805,31886,31847,31801,32089,32024,32200,32297,32373,32563,32666,32981,33251,33411,33597,33827,33933,33843,33747,33935,33885,34069,34338,34599,34908,34701,34949,35312,35871]
["male",45,1002,900,787,716,711,697,717,709,678,673,777,812,855,853,886,971,903,953,997,914,1030,978,958,976,979,992,907,924,904,780,840,833,null,45,33041,32457,32276,32521,32597,32544,32518,32798,32702,32873,33074,33185,33418,33519,33867,34222,34314,34550,34824,34847,34873,34725,34893,34861,35048,35330,35506,35832,35605,35729,36152,36704]
["male",46,789,990,896,790,718,712,695,739,720,693,670,770,807,875,850,893,974,897,963,1001,947,1016,975,962,984,987,996,922,930,920,782,845,null,46,33830,33447,33172,33311,33315,33256,33213,33537,33422,33566,33744,33955,34225,34394,34717,35115,35288,35447,35787,35848,35820,35741,35868,35823,36032,36317,36502,36754,36535,36649,36934,37549]
["male",47,697,788,985,893,788,719,713,693,731,713,682,674,778,816,888,847,894,974,889,964,1005,940,1043,977,965,1003,999,1000,917,935,922,811,null,47,34527,34235,34157,34204,34103,33975,33926,34230,34153,34279,34426,34629,35003,35210,35605,35962,36182,36421,36676,36812,36825,36681,36911,36800,36997,37320,37501,37754,37452,37584,37856,38360]
["male",48,783,700,790,985,896,790,722,706,684,732,720,696,686,780,816,897,857,908,979,870,968,1034,931,1029,990,974,1020,997,999,917,929,922,null,48,35310,34935,34947,35189,34999,34765,34648,34936,34837,35011,35146,35325,35689,35990,36421,36859,37039,37329,37655,37682,37793,37715,37842,37829,37987,38294,38521,38751,38451,38501,38785,39282]
["male",49,708,774,699,791,980,890,786,729,704,679,733,718,703,694,777,822,884,853,898,967,864,961,1028,933,1040,1001,965,995,985,990,933,946,null,49,36018,35709,35646,35980,35979,35655,35434,35665,35541,35690,35879,36043,36392,36684,37198,37681,37923,38182,38553,38649,38657,38676,38870,38762,39027,39295,39486,39746,39436,39491,39718,40228]
["male",50,617,712,773,703,798,974,885,772,717,698,671,726,725,708,697,797,824,884,868,900,959,887,957,1026,928,1041,1008,961,996,958,992,919,null,50,36635,36421,36419,36683,36777,36629,36319,36437,36258,36388,36550,36769,37117,37392,37895,38478,38747,39066,39421,39549,39616,39563,39827,39788,39955,40336,40494,40707,40432,40449,40710,41147]
["male",51,521,598,697,755,691,782,951,891,753,720,685,669,724,719,719,696,786,815,890,871,908,954,893,969,1017,932,1014,1006,967,971,971,987,null,51,37156,37019,37116,37438,37468,37411,37270,37328,37011,37108,37235,37438,37841,38111,38614,39174,39533,39881,40311,40420,40524,40517,40720,40757,40972,41268,41508,41713,41399,41420,41681,42134]
["male",52,660,524,607,707,761,702,791,955,874,763,711,676,674,733,714,712,702,793,797,880,863,923,958,911,944,1008,914,1001,1015,946,960,983,null,52,37816,37543,37723,38145,38229,38113,38061,38283,37885,37871,37946,38114,38515,38844,39328,39886,40235,40674,41108,41300,41387,41440,41678,41668,41916,42276,42422,42714,42414,42366,42641,43117]
["male",53,644,642,516,597,695,742,690,766,942,876,765,708,674,689,724,710,725,713,786,798,877,857,910,960,908,944,1010,897,996,996,950,946,null,53,38460,38185,38239,38742,38924,38855,38751,39049,38827,38747,38711,38822,39189,39533,40052,40596,40960,41387,41894,42098,42264,42297,42588,42628,42824,43220,43432,43611,43410,43362,43591,44063]
["male",54,576,639,626,512,594,694,731,705,750,935,857,763,697,676,700,730,719,712,703,781,796,873,852,907,962,898,960,991,902,974,990,950,null,54,39036,38824,38865,39254,39518,39549,39482,39754,39577,39682,39568,39585,39886,40209,40752,41326,41679,42099,42597,42879,43060,43170,43440,43535,43786,44118,44392,44602,44312,44336,44581,45013]
["male",55,599,579,637,626,516,597,701,700,704,739,921,853,748,687,667,691,721,720,715,703,780,788,859,825,897,943,900,944,976,923,968,1001,null,55,39635,39403,39502,39880,40034,40146,40183,40454,40281,40421,40489,40438,40634,40896,41419,42017,42400,42819,43312,43582,43840,43958,44299,44360,44683,45061,45292,45546,45288,45259,45549,46014]
["male",56,615,598,583,641,623,520,596,687,710,690,731,921,848,748,687,653,685,723,719,716,717,776,788,833,823,888,943,886,952,951,913,952,null,56,40250,40001,40085,40521,40657,40666,40779,41141,40991,41111,41220,41359,41482,41644,42106,42670,43085,43542,44031,44298,44557,44734,45087,45193,45506,45949,46235,46432,46240,46210,46462,46966]
["male",57,637,605,595,582,637,613,518,580,679,694,676,722,911,857,754,684,663,684,720,705,723,689,762,800,835,806,894,924,868,944,952,911,null,57,40887,40606,40680,41103,41294,41279,41297,41721,41670,41805,41896,42081,42393,42501,42860,43354,43748,44226,44751,45003,45280,45423,45849,45993,46341,46755,47129,47356,47108,47154,47414,47877]
["male",58,564,634,596,582,567,625,593,506,574,678,689,666,708,911,843,751,680,662,679,721,685,728,679,741,773,819,817,892,913,868,934,929,null,58,41451,41240,41276,41685,41861,41904,41890,42227,42244,42483,42585,42747,43101,43412,43703,44105,44428,44888,45430,45724,45965,46151,46528,46734,47114,47574,47946,48248,48021,48022,48348,48806]
["male",59,552,560,626,595,568,555,613,583,494,570,657,682,658,708,899,844,751,683,640,678,711,678,708,678,746,772,812,800,874,909,853,904,null,59,42003,41800,41902,42280,42429,42459,42503,42810,42738,43053,43242,43429,43759,44120,44602,44949,45179,45571,46070,46402,46676,46829,47236,47412,47860,48346,48758,49048,48895,48931,49201,49710]
["male",60,505,532,551,616,581,552,533,598,561,485,563,655,668,633,706,902,837,739,678,628,667,715,679,709,667,745,760,805,792,881,880,833,null,60,42508,42332,42453,42896,43010,43011,43036,43408,43299,43538,43805,44084,44427,44753,45308,45851,46016,46310,46748,47030,47343,47544,47915,48121,48527,49091,49518,49853,49687,49812,50081,50543]
["male",61,520,498,528,551,612,570,542,534,586,545,474,558,643,660,629,696,887,831,731,664,629,658,706,685,706,663,752,757,804,766,857,860,null,61,43028,42830,42981,43447,43622,43581,43578,43942,43885,44083,44279,44642,45070,45413,45937,46547,46903,47141,47479,47694,47972,48202,48621,48806,49233,49754,50270,50610,50491,50578,50938,51403]
["male",62,497,500,479,512,532,593,545,533,532,575,535,469,556,645,651,613,667,877,819,717,660,618,651,698,684,694,655,749,741,776,747,825,null,62,43525,43330,43460,43959,44154,44174,44123,44475,44417,44658,44814,45111,45626,46058,46588,47160,47570,48018,48298,48411,48632,48820,49272,49504,49917,50448,50925,51359,51232,51354,51685,52228]
["male",63,480,487,501,478,512,525,593,545,521,520,571,530,467,557,636,647,606,666,868,792,726,661,614,641,689,677,680,648,736,724,774,740,null,63,44005,43817,43961,44437,44666,44699,44716,45020,44938,45178,45385,45641,46093,46615,47224,47807,48176,48684,49166,49203,49358,49481,49886,50145,50606,51125,51605,52007,51968,52078,52459,52968]
["male",64,458,473,495,500,474,511,527,562,534,514,513,570,529,467,559,623,654,596,652,872,805,716,657,623,636,680,676,675,634,726,701,758,null,64,44463,44290,44456,44937,45140,45210,45243,45582,45472,45692,45898,46211,46622,47082,47783,48430,48830,49280,49818,50075,50163,50197,50543,50768,51242,51805,52281,52682,52602,52804,53160,53726]
["male",65,423,445,462,482,494,461,502,524,565,524,504,505,550,513,473,556,613,642,590,639,860,775,690,645,607,623,674,665,658,618,716,699,null,65,{"$f":"AK80+C81","v":44886},{"$f":"AL80+D81","v":44735},{"$f":"AM80+E81","v":44918},{"$f":"AN80+F81","v":45419},{"$f":"AO80+G81","v":45634},{"$f":"AP80+H81","v":45671},{"$f":"AQ80+I81","v":45745},{"$f":"AR80+J81","v":46106},{"$f":"AS80+K81","v":46037},{"$f":"AT80+L81","v":46216},{"$f":"AU80+M81","v":46402},{"$f":"AV80+N81","v":46716},{"$f":"AW80+O81","v":47172},{"$f":"AX80+P81","v":47595},{"$f":"AY80+Q81","v":48256},{"$f":"AZ80+R81","v":48986},{"$f":"BA80+S81","v":49443},{"$f":"BB80+T81","v":49922},{"$f":"BC80+U81","v":50408},{"$f":"BD80+V81","v":50714},{"$f":"BE80+W81","v":51023},{"$f":"BF80+X81","v":50972},{"$f":"BG80+Y81","v":51233},{"$f":"BH80+Z81","v":51413},{"$f":"BI80+AA81","v":51849},{"$f":"BJ80+AB81","v":52428},{"$f":"BK80+AC81","v":52955},{"$f":"BL80+AD81","v":53347},{"$f":"BM80+AE81","v":53260},{"$f":"BN80+AF81","v":53422},{"$f":"BO80+AG81","v":53876},54425]
["male",66,412,399,424,443,464,476,442,501,527,552,505,486,487,552,501,468,549,609,636,594,632,841,776,683,636,593,611,662,653,637,608,708,null,66,45298,45134,45342,45862,46098,46147,46187,46607,46564,46768,46907,47202,47659,48147,48757,49454,49992,50531,51044,51308,51655,51813,52009,52096,52485,53021,53566,54009,53913,54059,54484,55133]
["male",67,397,411,396,414,435,457,472,445,486,516,544,494,481,479,541,490,463,543,592,629,576,617,824,757,671,631,590,605,649,628,647,594,null,67,45695,45545,45738,46276,46533,46604,46659,47052,47050,47284,47451,47696,48140,48626,49298,49944,50455,51074,51636,51937,52231,52430,52833,52853,53156,53652,54156,54614,54562,54687,55131,55727]
["male",68,347,391,403,385,398,428,443,462,444,469,503,526,486,476,479,527,482,458,537,575,618,572,624,809,759,652,628,588,588,631,604,634,null,68,46042,45936,46141,46661,46931,47032,47102,47514,47494,47753,47954,48222,48626,49102,49777,50471,50937,51532,52173,52512,52849,53002,53457,53662,53915,54304,54784,55202,55150,55318,55735,56361]
["male",69,353,330,372,391,374,377,404,425,459,437,454,488,507,483,475,478,518,481,440,536,571,593,582,608,811,742,651,621,579,574,621,593,null,69,46395,46266,46513,47052,47305,47409,47506,47939,47953,48190,48408,48710,49133,49585,50252,50949,51455,52013,52613,53048,53420,53595,54039,54270,54726,55046,55435,55823,55729,55892,56356,56954]
["male",70,383,340,317,359,394,373,371,391,421,437,437,440,470,493,486,476,461,515,475,429,532,557,592,577,607,793,716,652,605,573,547,614,null,70,46778,46606,46830,47411,47699,47782,47877,48330,48374,48627,48845,49150,49603,50078,50738,51425,51916,52528,53088,53477,53952,54152,54631,54847,55333,55839,56151,56475,56334,56465,56903,57568]
["male",71,398,376,321,305,348,384,363,359,381,414,433,426,428,470,484,468,465,460,513,465,415,525,546,587,551,598,790,702,635,609,562,538,null,71,47176,46982,47151,47716,48047,48166,48240,48689,48755,49041,49278,49576,50031,50548,51222,51893,52381,52988,53601,53942,54367,54677,55177,55434,55884,56437,56941,57177,56969,57074,57465,58106]
["male",72,410,382,369,304,297,336,366,344,349,376,403,428,412,414,462,464,457,460,460,508,449,408,513,541,567,538,581,770,694,612,596,539,null,72,47586,47364,47520,48020,48344,48502,48606,49033,49104,49417,49681,50004,50443,50962,51684,52357,52838,53448,54061,54450,54816,55085,55690,55975,56451,56975,57522,57947,57663,57686,58061,58645]
["male",73,273,390,362,357,292,289,327,342,337,341,360,386,407,400,407,448,458,449,449,449,499,428,401,498,530,552,532,566,751,677,597,591,null,73,47859,47754,47882,48377,48636,48791,48933,49375,49441,49758,50041,50390,50850,51362,52091,52805,53296,53897,54510,54899,55315,55513,56091,56473,56981,57527,58054,58513,58414,58363,58658,59236]
["male",74,211,260,369,344,344,287,281,309,326,326,317,344,382,391,377,403,438,439,445,444,427,493,422,395,497,523,545,518,554,716,663,589,null,74,48070,48014,48251,48721,48980,49078,49214,49684,49767,50084,50358,50734,51232,51753,52468,53208,53734,54336,54955,55343,55742,56006,56513,56868,57478,58050,58599,59031,58968,59079,59321,59825]
["male",75,237,197,249,350,324,329,273,275,298,312,320,308,326,369,378,357,392,426,415,436,438,411,478,421,387,476,507,535,504,536,697,639,null,75,48307,48211,48500,49071,49304,49407,49487,49959,50065,50396,50678,51042,51558,52122,52846,53565,54126,54762,55370,55779,56180,56417,56991,57289,57865,58526,59106,59566,59472,59615,60018,60464]
["male",76,243,223,191,240,328,305,313,261,252,282,290,316,298,316,363,361,350,370,415,401,425,429,403,458,402,381,466,496,518,490,529,674,null,76,48550,48434,48691,49311,49632,49712,49800,50220,50317,50678,50968,51358,51856,52438,53209,53926,54476,55132,55785,56180,56605,56846,57394,57747,58267,58907,59572,60062,59990,60105,60547,61138]
["male",77,218,231,204,187,226,312,291,302,249,239,269,270,293,284,303,350,350,339,363,410,395,408,430,376,451,384,369,451,483,489,470,514,null,77,48768,48665,48895,49498,49858,50024,50091,50522,50566,50917,51237,51628,52149,52722,53512,54276,54826,55471,56148,56590,57000,57254,57824,58123,58718,59291,59941,60513,60473,60594,61017,61652]
["male",78,182,202,214,192,169,202,285,288,279,239,228,251,254,288,266,303,338,337,333,344,408,374,386,419,353,441,368,361,427,462,478,451,null,78,48950,48867,49109,49690,50027,50226,50376,50810,50845,51156,51465,51879,52403,53010,53778,54579,55164,55808,56481,56934,57408,57628,58210,58542,59071,59732,60309,60874,60900,61056,61495,62103]
["male",79,181,170,177,186,174,153,191,269,270,264,223,208,238,240,277,255,289,329,315,307,327,389,355,369,401,340,421,349,351,406,437,443,null,79,49131,49037,49286,49876,50201,50379,50567,51079,51115,51420,51688,52087,52641,53250,54055,54834,55453,56137,56796,57241,57735,58017,58565,58911,59472,60072,60730,61223,61251,61462,61932,62546]
["male",80,166,163,159,168,172,162,144,176,235,246,244,212,192,219,232,260,249,271,305,291,295,313,373,342,350,392,333,407,334,335,394,408,null,80,49297,49200,49445,50044,50373,50541,50711,51255,51350,51666,51932,52299,52833,53469,54287,55094,55702,56408,57101,57532,58030,58330,58938,59253,59822,60464,61063,61630,61585,61797,62326,62954]
["male",81,127,145,145,135,144,148,148,128,156,223,233,229,196,181,208,216,247,240,262,288,277,279,304,367,324,337,361,318,394,309,323,360,null,81,49424,49345,49590,50179,50517,50689,50859,51383,51506,51889,52165,52528,53029,53650,54495,55310,55949,56648,57363,57820,58307,58609,59242,59620,60146,60801,61424,61948,61979,62106,62649,63314]
["male",82,135,105,128,133,132,130,133,143,122,140,203,206,207,183,176,188,199,239,229,248,259,259,263,283,349,306,317,346,313,379,283,296,null,82,49559,49450,49718,50312,50649,50819,50992,51526,51628,52029,52368,52734,53236,53833,54671,55498,56148,56887,57592,58068,58566,58868,59505,59903,60495,61107,61741,62294,62292,62485,62932,63610]
["male",83,136,124,109,116,124,126,126,122,135,121,123,185,184,191,175,161,172,189,230,217,241,246,240,252,261,322,290,303,320,292,353,262,null,83,49695,49574,49827,50428,50773,50945,51118,51648,51763,52150,52491,52919,53420,54024,54846,55659,56320,57076,57822,58285,58807,59114,59745,60155,60756,61429,62031,62597,62612,62777,63285,63872]
["male",84,97,124,104,102,109,115,113,113,111,129,110,112,167,177,173,160,143,160,182,215,202,227,228,229,235,244,287,266,284,301,267,323,null,84,49792,49698,49931,50530,50882,51060,51231,51761,51874,52279,52601,53031,53587,54201,55019,55819,56463,57236,58004,58500,59009,59341,59973,60384,60991,61673,62318,62863,62896,63078,63552,64195]
["male",85,351,380,384,396,407,422,437,458,467,104,113,89,86,144,152,160,145,122,148,157,193,190,218,207,216,212,233,259,243,265,276,259,null,85,50143,50078,50315,50926,51289,51482,51668,52219,52341,52383,52714,53120,53673,54345,55171,55979,56608,57358,58152,58657,59202,59531,60191,60591,61207,61885,62551,63122,63139,63343,63828,64454]
["male",86,null,null,null,null,null,null,null,null,null,86,90,108,73,71,130,144,141,129,104,144,133,173,173,194,173,189,189,206,228,209,234,249,null,86,50143,50078,50315,50926,51289,51482,51668,52219,52341,52469,52804,53228,53746,54416,55301,56123,56749,57487,58256,58801,59335,59704,60364,60785,61380,62074,62740,63328,63367,63552,64062,64703]
["male",87,null,null,null,null,null,null,null,null,null,58,76,77,95,61,59,118,131,120,105,92,124,111,156,154,167,139,172,163,181,193,174,196,null,87,50143,50078,50315,50926,51289,51482,51668,52219,52341,52527,52880,53305,53841,54477,55360,56241,56880,57607,58361,58893,59459,59815,60520,60939,61547,62213,62912,63491,63548,63745,64236,64899]
["male",88,null,null,null,null,null,null,null,null,null,56,50,65,76,79,68,48,99,111,103,92,78,108,101,141,130,155,133,149,133,161,175,158,null,88,50143,50078,50315,50926,51289,51482,51668,52219,52341,52583,52930,53370,53917,54556,55428,56289,56979,57718,58464,58985,59537,59923,60621,61080,61677,62368,63045,63640,63681,63906,64411,65057]
["male",89,null,null,null,null,null,null,null,null,null,46,43,43,47,70,67,62,38,82,98,81,82,67,87,85,124,114,131,121,125,121,137,154,null,89,50143,50078,50315,50926,51289,51482,51668,52219,52341,52629,52973,53413,53964,54626,55495,56351,57017,57800,58562,59066,59619,59990,60708,61165,61801,62482,63176,63761,63806,64027,64548,65211]
["male","90+",null,null,null,null,null,null,null,null,null,122,149,139,152,152,192,197,210,199,217,252,276,284,287,301,289,324,324,352,379,379,378,415,null,"90+",50143,50078,50315,50926,51289,51482,51668,52219,52341,52751,53122,53552,54116,54778,55687,56548,57227,57999,58779,59318,59895,60274,60995,61466,62090,62806,63500,64113,64185,64406,64926,65626]
[null,"All Males",{"$f":"SUM(C16:C106)","v":50143},{"$f":"SUM(D16:D106)","v":50078},50315,50926,51289,51482,51668,52219,52341,52751,53122,53552,54116,54778,55687,56548,57227,57999,58779,59318,59895,60274,60995,61466,62090,62806,63500,{"$f":"SUM(AD16:AD106)","v":64113},{"$f":"SUM(AE16:AE106)","v":64185},{"$f":"SUM(AF16:AF106)","v":64406},{"$f":"SUM(AG16:AG106)","v":64926},{"$f":"SUM(AH16:AH106)","v":65626},null,"Females"]
["Sex","Age"]
["female",0,724,706,715,684,634,623,667,653,623,635,617,637,673,669,681,667,663,678,684,608,667,687,677,673,709,725,708,665,692,701,679,639,null,0,{"$f":"C109","v":724},706,715,684,634,623,667,653,623,635,617,637,673,669,681,667,663,678,684,608,667,687,677,673,709,725,708,665,692,701,679,639]
["female",1,679,725,706,699,686,642,632,717,640,633,655,647,658,696,691,722,688,683,700,687,652,691,715,706,701,725,777,740,676,706,721,702,null,1,{"$f":"AK109+C110","v":1403},{"$f":"AL109+D110","v":1431},{"$f":"AM109+E110","v":1421},{"$f":"AN109+F110","v":1383},{"$f":"AO109+G110","v":1320},{"$f":"AP109+H110","v":1265},{"$f":"AQ109+I110","v":1299},{"$f":"AR109+J110","v":1370},{"$f":"AS109+K110","v":1263},{"$f":"AT109+L110","v":1268},{"$f":"AU109+M110","v":1272},{"$f":"AV109+N110","v":1284},{"$f":"AW109+O110","v":1331},{"$f":"AX109+P110","v":1365},{"$f":"AY109+Q110","v":1372},{"$f":"AZ109+R110","v":1389},{"$f":"BA109+S110","v":1351},{"$f":"BB109+T110","v":1361},{"$f":"BC109+U110","v":1384},{"$f":"BD109+V110","v":1295},{"$f":"BE109+W110","v":1319},{"$f":"BF109+X110","v":1378},{"$f":"BG109+Y110","v":1392},{"$f":"BH109+Z110","v":1379},{"$f":"BI109+AA110","v":1410},{"$f":"BJ109+AB110","v":1450},{"$f":"BK109+AC110","v":1485},{"$f":"BL109+AD110","v":1405},{"$f":"BM109+AE110","v":1368},{"$f":"BN109+AF110","v":1407},{"$f":"BO109+AG110","v":1400},1341]
["female",2,708,701,748,737,725,704,666,676,718,634,652,669,656,675,723,707,744,709,710,733,713,672,734,736,735,734,743,808,763,701,728,746,null,2,2111,2132,2169,2120,2045,1969,1965,2046,1981,1902,1924,1953,1987,2040,2095,2096,2095,2070,2094,2028,2032,2050,2126,2115,2145,2184,2228,2213,2131,2108,2128,2087]
["female",3,687,718,719,767,751,735,710,698,674,713,656,676,693,682,680,741,719,767,728,730,754,756,717,760,784,748,755,777,821,779,728,744,null,3,2798,2850,2888,2887,2796,2704,2675,2744,2655,2615,2580,2629,2680,2722,2775,2837,2814,2837,2822,2758,2786,2806,2843,2875,2929,2932,2983,2990,2952,2887,2856,2831]
["female",4,709,687,721,729,767,750,735,703,712,678,730,676,676,701,693,703,737,733,770,735,744,752,775,742,777,820,771,780,822,828,811,757,null,4,3507,3537,3609,3616,3563,3454,3410,3447,3367,3293,3310,3305,3356,3423,3468,3540,3551,3570,3592,3493,3530,3558,3618,3617,3706,3752,3754,3770,3774,3715,3667,3588]
["female",5,661,706,692,726,736,767,748,760,711,710,681,750,661,686,715,716,721,735,737,782,734,753,782,793,772,809,832,783,782,836,849,843,null,5,4168,4243,4301,4342,4299,4221,4158,4207,4078,4003,3991,4055,4017,4109,4183,4256,4272,4305,4329,4275,4264,4311,4400,4410,4478,4561,4586,4553,4556,4551,4516,4431]
["female",6,624,651,697,690,720,729,757,782,768,732,720,708,771,683,688,740,726,725,743,746,784,742,788,801,796,805,823,845,787,786,856,861,null,6,4792,4894,4998,5032,5019,4950,4915,4989,4846,4735,4711,4763,4788,4792,4871,4996,4998,5030,5072,5021,5048,5053,5188,5211,5274,5366,5409,5398,5343,5337,5372,5292]
["female",7,637,626,651,699,693,718,730,786,768,760,736,711,706,780,688,721,762,737,737,764,742,776,750,808,820,805,825,828,858,785,803,867,null,7,5429,5520,5649,5731,5712,5668,5645,5775,5614,5495,5447,5474,5494,5572,5559,5717,5760,5767,5809,5785,5790,5829,5938,6019,6094,6171,6234,6226,6201,6122,6175,6159]
["female",8,626,637,633,657,701,696,720,736,786,774,779,743,717,719,794,715,745,782,745,731,769,745,781,740,801,836,810,829,847,873,813,851,null,8,6055,6157,6282,6388,6413,6364,6365,6511,6400,6269,6226,6217,6211,6291,6353,6432,6505,6549,6554,6516,6559,6574,6719,6759,6895,7007,7044,7055,7048,6995,6988,7010]
["female",9,644,633,646,648,666,707,703,728,732,795,783,785,752,722,729,807,742,762,800,746,740,799,768,789,756,814,832,827,837,846,886,835,null,9,6699,6790,6928,7036,7079,7071,7068,7239,7132,7064,7009,7002,6963,7013,7082,7239,7247,7311,7354,7262,7299,7373,7487,7548,7651,7821,7876,7882,7885,7841,7874,7845]
["female",10,576,623,623,638,641,654,690,704,734,749,798,794,808,775,728,750,834,749,771,820,765,746,793,785,820,781,829,846,823,849,863,929,null,10,7275,7413,7551,7674,7720,7725,7758,7943,7866,7813,7807,7796,7771,7788,7810,7989,8081,8060,8125,8082,8064,8119,8280,8333,8471,8602,8705,8728,8708,8690,8737,8774]
["female",11,650,569,622,628,639,642,653,714,711,742,748,796,791,798,796,725,756,847,773,780,839,773,764,789,804,820,817,861,848,822,895,906,null,11,7925,7982,8173,8302,8359,8367,8411,8657,8577,8555,8555,8592,8562,8586,8606,8714,8837,8907,8898,8862,8903,8892,9044,9122,9275,9422,9522,9589,9556,9512,9632,9680]
["female",12,640,642,568,624,634,641,647,666,700,721,751,747,800,813,802,807,742,771,854,787,771,844,786,768,789,818,838,829,865,843,833,911,null,12,8565,8624,8741,8926,8993,9008,9058,9323,9277,9276,9306,9339,9362,9399,9408,9521,9579,9678,9752,9649,9674,9736,9830,9890,10064,10240,10360,10418,10421,10355,10465,10591]
["female",13,611,630,637,563,618,631,636,644,680,705,730,742,769,802,816,815,818,743,785,862,793,780,835,795,774,793,814,828,838,855,836,827,null,13,9176,9254,9378,9489,9611,9639,9694,9967,9957,9981,10036,10081,10131,10201,10224,10336,10397,10421,10537,10511,10467,10516,10665,10685,10838,11033,11174,11246,11259,11210,11301,11418]
["female",14,535,604,631,639,569,617,636,650,648,669,703,736,738,782,797,815,835,840,741,796,868,804,797,825,794,780,781,815,826,825,864,846,null,14,9711,9858,10009,10128,10180,10256,10330,10617,10605,10650,10739,10817,10869,10983,11021,11151,11232,11261,11278,11307,11335,11320,11462,11510,11632,11813,11955,12061,12085,12035,12165,12264]
["female",15,527,526,598,629,635,557,608,649,655,650,676,716,737,734,787,797,819,858,865,747,791,883,798,802,837,792,777,784,804,823,833,873,null,15,10238,10384,10607,10757,10815,10813,10938,11266,11260,11300,11415,11533,11606,11717,11808,11948,12051,12119,12143,12054,12126,12203,12260,12312,12469,12605,12732,12845,12889,12858,12998,13137]
["female",16,604,512,515,591,621,622,546,610,651,665,657,687,704,756,743,797,798,824,878,877,762,799,895,816,797,836,797,772,785,795,823,830,null,16,10842,10896,11122,11348,11436,11435,11484,11876,11911,11965,12072,12220,12310,12473,12551,12745,12849,12943,13021,12931,12888,13002,13155,13128,13266,13441,13529,13617,13674,13653,13821,13967]
["female",17,641,600,519,524,598,623,627,565,610,654,683,655,702,728,779,772,825,824,851,898,887,795,805,909,826,788,856,825,770,800,823,812,null,17,11483,11496,11641,11872,12034,12058,12111,12441,12521,12619,12755,12875,13012,13201,13330,13517,13674,13767,13872,13829,13775,13797,13960,14037,14092,14229,14385,14442,14444,14453,14644,14779]
["female",18,622,622,574,478,480,543,593,605,536,593,618,650,628,673,691,749,732,796,781,816,803,824,741,768,857,794,760,795,755,723,748,783,null,18,12105,12118,12215,12350,12514,12601,12704,13046,13057,13212,13373,13525,13640,13874,14021,14266,14406,14563,14653,14645,14578,14621,14701,14805,14949,15023,15145,15237,15199,15176,15392,15562]
["female",19,661,564,547,456,360,346,471,495,530,458,421,444,453,461,492,503,554,557,618,592,552,585,570,514,531,610,552,548,503,487,447,499,null,19,12766,12682,12762,12806,12874,12947,13175,13541,13587,13670,13794,13969,14093,14335,14513,14769,14960,15120,15271,15237,15130,15206,15271,15319,15480,15633,15697,15785,15702,15663,15839,16061]
["female",20,573,601,475,473,385,301,325,398,426,427,412,360,362,395,402,416,464,505,506,533,515,539,589,497,468,477,545,504,503,474,448,411,null,20,13339,13283,13237,13279,13259,13248,13500,13939,14013,14097,14206,14329,14455,14730,14915,15185,15424,15625,15777,15770,15645,15745,15860,15816,15948,16110,16242,16289,16205,16137,16287,16472]
["female",21,598,541,520,473,466,384,303,371,425,421,453,441,385,417,452,428,462,487,560,515,594,562,610,612,544,493,509,578,543,528,501,504,null,21,13937,13824,13757,13752,13725,13632,13803,14310,14438,14518,14659,14770,14840,15147,15367,15613,15886,16112,16337,16285,16239,16307,16470,16428,16492,16603,16751,16867,16748,16665,16788,16976]
["female",22,605,577,505,553,505,497,394,404,411,450,454,483,460,450,500,539,494,568,586,611,620,657,638,684,690,638,572,576,655,617,623,609,null,22,14542,14401,14262,14305,14230,14129,14197,14714,14849,14968,15113,15253,15300,15597,15867,16152,16380,16680,16923,16896,16859,16964,17108,17112,17182,17241,17323,17443,17403,17282,17411,17585]
["female",23,647,615,642,610,645,597,564,456,458,489,485,503,492,488,483,543,568,542,601,608,684,659,724,697,726,732,697,633,628,663,679,678,null,23,15189,15016,14904,14915,14875,14726,14761,15170,15307,15457,15598,15756,15792,16085,16350,16695,16948,17222,17524,17504,17543,17623,17832,17809,17908,17973,18020,18076,18031,17945,18090,18263]
["female",24,668,623,655,680,629,654,603,508,464,485,506,477,525,498,534,516,562,586,561,627,596,694,678,727,728,721,725,715,637,629,665,707,null,24,15857,15639,15559,15595,15504,15380,15364,15678,15771,15942,16104,16233,16317,16583,16884,17211,17510,17808,18085,18131,18139,18317,18510,18536,18636,18694,18745,18791,18668,18574,18755,18970]
["female",25,681,683,690,709,730,661,681,578,530,504,478,508,473,515,529,552,523,581,578,583,636,590,722,678,707,742,740,732,703,656,653,674,null,25,16538,16322,16249,16304,16234,16041,16045,16256,16301,16446,16582,16741,16790,17098,17413,17763,18033,18389,18663,18714,18775,18907,19232,19214,19343,19436,19485,19523,19371,19230,19408,19644]
["female",26,749,676,701,704,709,730,654,665,578,552,507,479,510,491,552,552,582,549,610,581,586,632,584,728,669,737,754,751,730,715,664,679,null,26,17287,16998,16950,17008,16943,16771,16699,16921,16879,16998,17089,17220,17300,17589,17965,18315,18615,18938,19273,19295,19361,19539,19816,19942,20012,20173,20239,20274,20101,19945,20072,20323]
["female",27,795,780,723,746,739,732,761,651,698,583,563,525,519,523,528,578,561,604,576,611,581,583,608,601,746,731,740,759,760,769,728,670,null,27,18082,17778,17673,17754,17682,17503,17460,17572,17577,17581,17652,17745,17819,18112,18493,18893,19176,19542,19849,19906,19942,20122,20424,20543,20758,20904,20979,21033,20861,20714,20800,20993]
["female",28,783,793,806,757,763,747,731,747,683,698,604,579,561,538,555,569,618,606,615,598,618,618,635,625,646,771,746,770,778,817,782,734,null,28,18865,18571,18479,18511,18445,18250,18191,18319,18260,18279,18256,18324,18380,18650,19048,19462,19794,20148,20464,20504,20560,20740,21059,21168,21404,21675,21725,21803,21639,21531,21582,21727]
["female",29,806,792,819,849,791,782,758,767,749,706,740,623,634,600,577,592,607,635,637,626,617,639,648,645,650,693,807,780,779,806,857,809,null,29,19671,19363,19298,19360,19236,19032,18949,19086,19009,18985,18996,18947,19014,19250,19625,20054,20401,20783,21101,21130,21177,21379,21707,21813,22054,22368,22532,22583,22418,22337,22439,22536]
["female",30,789,811,812,832,865,797,780,791,786,749,742,757,656,661,634,617,644,631,671,664,656,646,672,709,694,687,704,838,821,836,850,889,null,30,20460,20174,20110,20192,20101,19829,19729,19877,19795,19734,19738,19704,19670,19911,20259,20671,21045,21414,21772,21794,21833,22025,22379,22522,22748,23055,23236,23421,23239,23173,23289,23425]
["female",31,797,812,849,846,858,894,822,817,780,812,796,766,800,684,696,675,640,662,655,711,710,658,657,732,748,724,742,756,859,868,898,888,null,31,21257,20986,20959,21038,20959,20723,20551,20694,20575,20546,20534,20470,20470,20595,20955,21346,21685,22076,22427,22505,22543,22683,23036,23254,23496,23779,23978,24177,24098,24041,24187,24313]
["female",32,781,821,847,890,880,887,928,876,828,794,841,831,791,821,725,725,704,639,709,688,714,755,681,707,792,792,743,784,804,881,912,962,null,32,22038,21807,21806,21928,21839,21610,21479,21570,21403,21340,21375,21301,21261,21416,21680,22071,22389,22715,23136,23193,23257,23438,23717,23961,24288,24571,24721,24961,24902,24922,25099,25275]
["female",33,779,791,824,860,898,883,889,955,921,843,815,876,859,822,860,765,739,721,673,722,703,729,796,733,751,856,827,788,780,872,920,949,null,33,{"$f":"AK141+C142","v":22817},{"$f":"AL141+D142","v":22598},{"$f":"AM141+E142","v":22630},{"$f":"AN141+F142","v":22788},{"$f":"AO141+G142","v":22737},{"$f":"AP141+H142","v":22493},{"$f":"AQ141+I142","v":22368},{"$f":"AR141+J142","v":22525},{"$f":"AS141+K142","v":22324},{"$f":"AT141+L142","v":22183},{"$f":"AU141+M142","v":22190},{"$f":"AV141+N142","v":22177},{"$f":"AW141+O142","v":22120},{"$f":"AX141+P142","v":22238},{"$f":"AY141+Q142","v":22540},{"$f":"AZ141+R142","v":22836},{"$f":"BA141+S142","v":23128},{"$f":"BB141+T142","v":23436},{"$f":"BC141+U142","v":23809},{"$f":"BD141+V142","v":23915},{"$f":"BE141+W142","v":23960},{"$f":"BF141+X142","v":24167},{"$f":"BG141+Y142","v":24513},{"$f":"BH141+Z142","v":24694},{"$f":"BI141+AA142","v":25039},{"$f":"BJ141+AB142","v":25427},{"$f":"BK141+AC142","v":25548},{"$f":"BL141+AD142","v":25749},{"$f":"BM141+AE142","v":25682},{"$f":"BN141+AF142","v":25794},{"$f":"BO141+AG142","v":26019},26224]
["female",34,769,776,800,823,860,898,880,937,976,947,880,826,879,868,849,898,798,757,749,706,749,723,794,848,764,775,875,861,805,858,923,944,null,34,23586,23374,23430,23611,23597,23391,23248,23462,23300,23130,23070,23003,22999,23106,23389,23734,23926,24193,24558,24621,24709,24890,25307,25542,25803,26202,26423,26610,26487,26652,26942,27168]
["female",35,720,747,762,795,803,839,879,930,947,971,950,881,859,916,894,879,934,800,774,780,740,751,753,801,908,803,831,919,877,830,882,954,null,35,24306,24121,24192,24406,24400,24230,24127,24392,24247,24101,24020,23884,23858,24022,24283,24613,24860,24993,25332,25401,25449,25641,26060,26343,26711,27005,27254,27529,27364,27482,27824,28122]
["female",36,720,719,748,768,803,803,840,888,948,971,1000,972,922,886,945,939,902,945,838,811,793,770,788,788,829,941,838,862,916,901,887,931,null,36,25026,24840,24940,25174,25203,25033,24967,25280,25195,25072,25020,24856,24780,24908,25228,25552,25762,25938,26170,26212,26242,26411,26848,27131,27540,27946,28092,28391,28280,28383,28711,29053]
["female",37,663,707,711,740,762,805,790,875,911,982,981,981,985,920,912,959,947,915,967,849,816,795,794,793,825,865,974,849,868,913,915,908,null,37,25689,25547,25651,25914,25965,25838,25757,26155,26106,26054,26001,25837,25765,25828,26140,26511,26709,26853,27137,27061,27058,27206,27642,27924,28365,28811,29066,29240,29148,29296,29626,29961]
["female",38,695,690,733,746,772,792,843,833,883,951,1009,991,986,1006,931,931,973,958,928,993,860,829,808,819,814,846,900,982,847,887,966,983,null,38,26384,26237,26384,26660,26737,26630,26600,26988,26989,27005,27010,26828,26751,26834,27071,27442,27682,27811,28065,28054,27918,28035,28450,28743,29179,29657,29966,30222,29995,30183,30592,30944]
["female",39,745,697,696,738,750,775,796,813,838,898,947,1004,995,984,1018,950,934,995,965,935,1013,858,863,833,837,839,867,944,986,834,901,985,null,39,27129,26934,27080,27398,27487,27405,27396,27801,27827,27903,27957,27832,27746,27818,28089,28392,28616,28806,29030,28989,28931,28893,29313,29576,30016,30496,30833,31166,30981,31017,31493,31929]
["female",40,683,737,694,692,727,740,764,802,821,863,903,930,989,1004,990,1045,965,939,1010,974,967,1029,855,884,858,863,863,885,953,989,867,957,null,40,27812,27671,27774,28090,28214,28145,28160,28603,28648,28766,28860,28762,28735,28822,29079,29437,29581,29745,30040,29963,29898,29922,30168,30460,30874,31359,31696,32051,31934,32006,32360,32886]
["female",41,677,675,733,689,689,715,731,779,807,807,859,919,930,984,1008,989,1059,981,930,1031,984,1000,1028,887,895,882,878,890,912,957,1028,926,null,41,28489,28346,28507,28779,28903,28860,28891,29382,29455,29573,29719,29681,29665,29806,30087,30426,30640,30726,30970,30994,30882,30922,31196,31347,31769,32241,32574,32941,32846,32963,33388,33812]
["female",42,714,668,674,737,687,687,712,760,781,815,822,869,926,944,980,1017,1007,1059,998,953,1016,991,1003,1025,896,905,887,877,898,910,961,1044,null,42,29203,29014,29181,29516,29590,29547,29603,30142,30236,30388,30541,30550,30591,30750,31067,31443,31647,31785,31968,31947,31898,31913,32199,32372,32665,33146,33461,33818,33744,33873,34349,34856]
["female",43,775,709,667,678,740,687,688,732,770,789,792,839,880,924,966,976,1028,1010,1053,992,957,1018,996,992,1041,919,910,895,876,886,919,975,null,43,29978,29723,29848,30194,30330,30234,30291,30874,31006,31177,31333,31389,31471,31674,32033,32419,32675,32795,33021,32939,32855,32931,33195,33364,33706,34065,34371,34713,34620,34759,35268,35831]
["female",44,896,774,715,678,688,753,695,700,725,766,807,800,847,884,938,975,966,1046,1011,1044,1009,980,1032,1010,1001,1063,925,908,908,868,900,941,null,44,30874,30497,30563,30872,31018,30987,30986,31574,31731,31943,32140,32189,32318,32558,32971,33394,33641,33841,34032,33983,33864,33911,34227,34374,34707,35128,35296,35621,35528,35627,36168,36772]
["female",45,1020,888,772,718,680,686,755,674,715,722,763,802,802,847,867,942,995,976,1042,1013,1033,1014,980,1047,1006,1004,1055,928,919,893,869,930,null,45,31894,31385,31335,31590,31698,31673,31741,32248,32446,32665,32903,32991,33120,33405,33838,34336,34636,34817,35074,34996,34897,34925,35207,35421,35713,36132,36351,36549,36447,36520,37037,37702]
["female",46,791,1018,888,773,722,683,689,744,669,734,736,771,810,812,840,881,928,1001,978,1028,1021,1043,1013,965,1033,1025,1002,1070,932,924,909,886,null,46,32685,32403,32223,32363,32420,32356,32430,32992,33115,33399,33639,33762,33930,34217,34678,35217,35564,35818,36052,36024,35918,35968,36220,36386,36746,37157,37353,37619,37379,37444,37946,38588]
["female",47,693,781,1020,883,771,721,682,678,739,673,739,740,754,819,814,854,883,934,1003,979,1030,1033,1051,1022,963,1033,1017,994,1063,927,923,926,null,47,33378,33184,33243,33246,33191,33077,33112,33670,33854,34072,34378,34502,34684,35036,35492,36071,36447,36752,37055,37003,36948,37001,37271,37408,37709,38190,38370,38613,38442,38371,38869,39514]
["female",48,770,695,772,1020,876,765,717,696,698,736,664,739,740,749,821,818,864,866,942,993,976,1036,1017,1039,1022,960,1038,1001,1005,1033,920,909,null,48,34148,33879,34015,34266,34067,33842,33829,34366,34552,34808,35042,35241,35424,35785,36313,36889,37311,37618,37997,37996,37924,38037,38288,38447,38731,39150,39408,39614,39447,39404,39789,40423]
["female",49,743,752,693,760,1011,863,755,736,699,708,735,666,727,743,750,828,822,860,868,942,991,965,1034,1025,1049,1015,959,1039,997,1006,1034,926,null,49,34891,34631,34708,35026,35078,34705,34584,35102,35251,35516,35777,35907,36151,36528,37063,37717,38133,38478,38865,38938,38915,39002,39322,39472,39780,40165,40367,40653,40444,40410,40823,41349]
["female",50,633,740,738,699,752,1007,855,776,725,699,703,733,669,712,746,749,832,826,871,867,937,994,976,1035,1011,1040,1007,968,1033,983,1007,1038,null,50,35524,35371,35446,35725,35830,35712,35439,35878,35976,36215,36480,36640,36820,37240,37809,38466,38965,39304,39736,39805,39852,39996,40298,40507,40791,41205,41374,41621,41477,41393,41830,42387]
["female",51,601,637,750,742,712,753,1010,849,775,718,691,685,725,659,701,745,748,838,819,870,854,940,998,984,1047,1004,1039,1002,966,1018,978,1002,null,51,36125,36008,36196,36467,36542,36465,36449,36727,36751,36933,37171,37325,37545,37899,38510,39211,39713,40142,40555,40675,40706,40936,41296,41491,41838,42209,42413,42623,42443,42411,42808,43389]
["female",52,661,603,637,755,738,718,754,984,841,775,724,672,682,709,663,706,748,750,830,813,875,852,949,973,994,1050,1014,1045,994,974,1011,972,null,52,36786,36611,36833,37222,37280,37183,37203,37711,37592,37708,37895,37997,38227,38608,39173,39917,40461,40892,41385,41488,41581,41788,42245,42464,42832,43259,43427,43668,43437,43385,43819,44361]
["female",53,592,644,593,628,747,720,711,744,971,847,768,720,666,681,704,662,708,743,759,822,816,869,851,953,956,991,1043,1019,1028,995,974,1005,null,53,37378,37255,37426,37850,38027,37903,37914,38455,38563,38555,38663,38717,38893,39289,39877,40579,41169,41635,42144,42310,42397,42657,43096,43417,43788,44250,44470,44687,44465,44380,44793,45366]
["female",54,578,595,633,590,622,748,702,707,743,953,845,750,723,676,679,693,646,715,757,759,810,799,854,860,964,935,993,1037,1020,1034,990,945,null,54,37956,37850,38059,38440,38649,38651,38616,39162,39306,39508,39508,39467,39616,39965,40556,41272,41815,42350,42901,43069,43207,43456,43950,44277,44752,45185,45463,45724,45485,45414,45783,46311]
["female",55,587,575,596,634,591,623,751,709,707,737,959,841,733,713,656,690,684,642,710,759,766,814,793,848,846,947,940,989,1039,1004,1043,993,null,55,38543,38425,38655,39074,39240,39274,39367,39871,40013,40245,40467,40308,40349,40678,41212,41962,42499,42992,43611,43828,43973,44270,44743,45125,45598,46132,46403,46713,46524,46418,46826,47304]
["female",56,565,589,571,598,625,588,616,742,696,707,742,958,828,738,714,655,690,677,637,703,748,763,790,782,833,840,944,919,986,1029,991,1033,null,56,39108,39014,39226,39672,39865,39862,39983,40613,40709,40952,41209,41266,41177,41416,41926,42617,43189,43669,44248,44531,44721,45033,45533,45907,46431,46972,47347,47632,47510,47447,47817,48337]
["female",57,591,564,592,579,604,625,593,608,738,683,688,746,932,830,733,721,641,689,667,637,700,735,762,811,784,814,846,941,913,968,1026,979,null,57,39699,39578,39818,40251,40469,40487,40576,41221,41447,41635,41897,42012,42109,42246,42659,43338,43830,44358,44915,45168,45421,45768,46295,46718,47215,47786,48193,48573,48423,48415,48843,49316]
["female",58,525,577,555,581,568,592,609,573,604,727,679,674,729,936,836,731,720,648,694,662,638,683,728,764,810,787,804,864,931,911,937,1010,null,58,40224,40155,40373,40832,41037,41079,41185,41794,42051,42362,42576,42686,42838,43182,43495,44069,44550,45006,45609,45830,46059,46451,47023,47482,48025,48573,48997,49437,49354,49326,49780,50326]
["female",59,531,526,580,561,583,568,596,610,567,599,722,688,671,719,927,847,731,710,643,691,664,639,666,730,750,804,781,791,851,931,902,937,null,59,40755,40681,40953,41393,41620,41647,41781,42404,42618,42961,43298,43374,43509,43901,44422,44916,45281,45716,46252,46521,46723,47090,47689,48212,48775,49377,49778,50228,50205,50257,50682,51263]
["female",60,556,527,524,577,557,581,557,586,606,558,603,712,698,664,727,930,851,736,708,642,687,664,653,670,714,749,805,772,773,845,921,883,null,60,41311,41208,41477,41970,42177,42228,42338,42990,43224,43519,43901,44086,44207,44565,45149,45846,46132,46452,46960,47163,47410,47754,48342,48882,49489,50126,50583,51000,50978,51102,51603,52146]
["female",61,487,550,530,532,579,557,588,552,584,604,553,607,698,699,668,734,919,838,730,706,624,680,660,645,665,708,753,792,763,762,830,913,null,61,41798,41758,42007,42502,42756,42785,42926,43542,43808,44123,44454,44693,44905,45264,45817,46580,47051,47290,47690,47869,48034,48434,49002,49527,50154,50834,51336,51792,51741,51864,52433,53059]
["female",62,488,481,545,523,526,571,550,565,554,570,603,553,607,692,698,664,734,924,825,734,705,622,680,651,633,665,708,752,777,760,748,827,null,62,42286,42239,42552,43025,43282,43356,43476,44107,44362,44693,45057,45246,45512,45956,46515,47244,47785,48214,48515,48603,48739,49056,49682,50178,50787,51499,52044,52544,52518,52624,53181,53886]
["female",63,499,480,482,536,520,523,562,554,566,550,562,597,545,610,673,696,659,726,918,809,726,711,635,668,658,625,677,708,752,768,749,749,null,63,42785,42719,43034,43561,43802,43879,44038,44661,44928,45243,45619,45843,46057,46566,47188,47940,48444,48940,49433,49412,49465,49767,50317,50846,51445,52124,52721,53252,53270,53392,53930,54635]
["female",64,464,485,476,481,526,511,517,573,546,562,546,560,582,542,611,677,698,647,720,918,800,729,692,625,674,648,636,683,699,728,764,737,null,64,43249,43204,43510,44042,44328,44390,44555,45234,45474,45805,46165,46403,46639,47108,47799,48617,49142,49587,50153,50330,50265,50496,51009,51471,52119,52772,53357,53935,53969,54120,54694,55372]
["female",65,506,452,473,472,475,518,501,505,567,529,565,535,557,579,533,598,671,703,636,706,920,803,704,693,617,671,644,633,677,692,719,762,null,65,{"$f":"AK173+C174","v":43755},{"$f":"AL173+D174","v":43656},{"$f":"AM173+E174","v":43983},{"$f":"AN173+F174","v":44514},{"$f":"AO173+G174","v":44803},{"$f":"AP173+H174","v":44908},{"$f":"AQ173+I174","v":45056},{"$f":"AR173+J174","v":45739},{"$f":"AS173+K174","v":46041},{"$f":"AT173+L174","v":46334},{"$f":"AU173+M174","v":46730},{"$f":"AV173+N174","v":46938},{"$f":"AW173+O174","v":47196},{"$f":"AX173+P174","v":47687},{"$f":"AY173+Q174","v":48332},{"$f":"AZ173+R174","v":49215},{"$f":"BA173+S174","v":49813},{"$f":"BB173+T174","v":50290},{"$f":"BC173+U174","v":50789},{"$f":"BD173+V174","v":51036},{"$f":"BE173+W174","v":51185},{"$f":"BF173+X174","v":51299},{"$f":"BG173+Y174","v":51713},{"$f":"BH173+Z174","v":52164},{"$f":"BI173+AA174","v":52736},{"$f":"BJ173+AB174","v":53443},{"$f":"BK173+AC174","v":54001},{"$f":"BL173+AD174","v":54568},{"$f":"BM173+AE174","v":54646},{"$f":"BN173+AF174","v":54812},{"$f":"BO173+AG174","v":55413},56134]
["female",66,447,498,452,476,474,482,518,493,498,560,514,561,537,556,571,530,598,666,711,637,697,906,806,698,689,616,682,654,618,670,687,719,null,66,44202,44154,44435,44990,45277,45390,45574,46232,46539,46894,47244,47499,47733,48243,48903,49745,50411,50956,51500,51673,51882,52205,52519,52862,53425,54059,54683,55222,55264,55482,56100,56853]
["female",67,447,442,497,456,480,479,482,505,486,490,554,510,558,538,557,564,526,601,657,719,630,690,915,798,697,693,610,665,635,619,675,686,null,67,44649,44596,44932,45446,45757,45869,46056,46737,47025,47384,47798,48009,48291,48781,49460,50309,50937,51557,52157,52392,52512,52895,53434,53660,54122,54752,55293,55887,55899,56101,56775,57539]
["female",68,449,440,437,483,448,470,476,480,496,491,480,545,506,550,527,556,555,518,593,665,710,627,687,913,794,689,694,607,659,628,615,673,null,68,45098,45036,45369,45929,46205,46339,46532,47217,47521,47875,48278,48554,48797,49331,49987,50865,51492,52075,52750,53057,53222,53522,54121,54573,54916,55441,55987,56494,56558,56729,57390,58212]
["female",69,476,436,431,426,467,441,464,464,469,493,490,474,542,510,541,524,561,551,518,586,655,711,616,690,913,792,681,694,598,663,618,607,null,69,45574,45472,45800,46355,46672,46780,46996,47681,47990,48368,48768,49028,49339,49841,50528,51389,52053,52626,53268,53643,53877,54233,54737,55263,55829,56233,56668,57188,57156,57392,58008,58819]
["female",70,469,467,423,427,424,459,439,452,461,468,489,492,466,536,504,543,513,547,547,518,573,646,719,605,686,891,773,676,685,597,657,615,null,70,46043,45939,46223,46782,47096,47239,47435,48133,48451,48836,49257,49520,49805,50377,51032,51932,52566,53173,53815,54161,54450,54879,55456,55868,56515,57124,57441,57864,57841,57989,58665,59434]
["female",71,437,450,457,416,418,411,453,431,440,456,458,484,481,462,528,499,539,501,542,545,515,558,650,710,609,674,884,773,684,672,590,657,null,71,46480,46389,46680,47198,47514,47650,47888,48564,48891,49292,49715,50004,50286,50839,51560,52431,53105,53674,54357,54706,54965,55437,56106,56578,57124,57798,58325,58637,58525,58661,59255,60091]
["female",72,501,429,442,446,409,409,399,434,425,426,451,457,475,473,459,523,486,527,502,531,533,506,559,654,700,594,663,866,770,672,667,584,null,72,46981,46818,47122,47644,47923,48059,48287,48998,49316,49718,50166,50461,50761,51312,52019,52954,53591,54201,54859,55237,55498,55943,56665,57232,57824,58392,58988,59503,59295,59333,59922,60675]
["female",73,327,494,418,441,440,407,405,389,424,413,419,440,447,462,461,455,524,477,522,501,515,525,503,544,643,703,591,658,860,751,660,653,null,73,47308,47312,47540,48085,48363,48466,48692,49387,49740,50131,50585,50901,51208,51774,52480,53409,54115,54678,55381,55738,56013,56468,57168,57776,58467,59095,59579,60161,60155,60084,60582,61328]
["female",74,251,309,466,400,421,430,389,396,379,420,402,416,438,442,461,455,448,517,477,518,499,508,514,499,525,639,701,583,656,852,749,649,null,74,47559,47621,48006,48485,48784,48896,49081,49783,50119,50551,50987,51317,51646,52216,52941,53864,54563,55195,55858,56256,56512,56976,57682,58275,58992,59734,60280,60744,60811,60936,61331,61977]
["female",75,336,240,296,445,396,419,423,382,388,374,404,387,397,423,431,453,440,441,495,463,512,500,502,502,492,514,626,686,580,641,832,747,null,75,47895,47861,48302,48930,49180,49315,49504,50165,50507,50925,51391,51704,52043,52639,53372,54317,55003,55636,56353,56719,57024,57476,58184,58777,59484,60248,60906,61430,61391,61577,62163,62724]
["female",76,329,330,246,302,445,401,426,395,375,367,363,396,378,382,414,425,444,435,430,480,451,491,494,485,493,475,502,611,663,569,626,821,null,76,48224,48191,48548,49232,49625,49716,49930,50560,50882,51292,51754,52100,52421,53021,53786,54742,55447,56071,56783,57199,57475,57967,58678,59262,59977,60723,61408,62041,62054,62146,62789,63545]
["female",77,334,324,334,243,297,432,404,380,384,369,348,346,389,373,380,413,417,437,415,418,468,444,481,480,475,475,470,497,592,648,559,608,null,77,48558,48515,48882,49475,49922,50148,50334,50940,51266,51661,52102,52446,52810,53394,54166,55155,55864,56508,57198,57617,57943,58411,59159,59742,60452,61198,61878,62538,62646,62794,63348,64153]
["female",78,350,323,320,326,244,289,418,381,363,379,369,336,337,381,373,367,400,409,423,410,412,446,434,469,475,461,479,458,480,576,622,532,null,78,48908,48838,49202,49801,50166,50437,50752,51321,51629,52040,52471,52782,53147,53775,54539,55522,56264,56917,57621,58027,58355,58857,59593,60211,60927,61659,62357,62996,63126,63370,63970,64685]
["female",79,338,334,317,306,309,231,277,399,355,352,372,352,324,328,378,354,353,397,386,416,393,405,426,427,443,468,452,463,447,467,574,614,null,79,49246,49172,49519,50107,50475,50668,51029,51720,51984,52392,52843,53134,53471,54103,54917,55876,56617,57314,58007,58443,58748,59262,60019,60638,61370,62127,62809,63459,63573,63837,64544,65299]
["female",80,287,321,318,298,287,287,224,269,369,341,332,356,332,305,325,362,352,350,384,378,414,389,390,408,404,438,453,437,445,431,467,568,null,80,49533,49493,49837,50405,50762,50955,51253,51989,52353,52733,53175,53490,53803,54408,55242,56238,56969,57664,58391,58821,59162,59651,60409,61046,61774,62565,63262,63896,64018,64268,65011,65867]
["female",81,260,266,301,301,274,263,254,210,244,339,327,318,347,312,299,318,345,333,343,365,354,391,368,375,388,381,411,439,419,431,397,435,null,81,49793,49759,50138,50706,51036,51218,51507,52199,52597,53072,53502,53808,54150,54720,55541,56556,57314,57997,58734,59186,59516,60042,60777,61421,62162,62946,63673,64335,64437,64699,65408,66302]
["female",82,262,250,256,288,299,261,250,243,194,237,323,319,309,313,295,287,297,330,315,336,346,347,368,356,358,375,364,393,419,408,423,372,null,82,50055,50009,50394,50994,51335,51479,51757,52442,52791,53309,53825,54127,54459,55033,55836,56843,57611,58327,59049,59522,59862,60389,61145,61777,62520,63321,64037,64728,64856,65107,65831,66674]
["female",83,227,240,238,233,263,266,234,241,224,180,220,294,307,281,292,272,276,282,320,290,315,335,324,357,345,344,354,348,368,399,387,393,null,83,50282,50249,50632,51227,51598,51745,51991,52683,53015,53489,54045,54421,54766,55314,56128,57115,57887,58609,59369,59812,60177,60724,61469,62134,62865,63665,64391,65076,65224,65506,66218,67067]
["female",84,226,230,220,228,227,256,261,220,232,206,171,209,266,289,272,271,271,255,259,293,266,297,323,293,330,328,329,332,330,351,376,364,null,84,50508,50479,50852,51455,51825,52001,52252,52903,53247,53695,54216,54630,55032,55603,56400,57386,58158,58864,59628,60105,60443,61021,61792,62427,63195,63993,64720,65408,65554,65857,66594,67431]
["female",85,1055,1099,1095,1117,1156,1188,1247,1254,1296,212,187,172,204,235,269,252,263,250,242,244,270,237,284,298,256,311,301,310,302,323,332,351,null,85,51563,51578,51947,52572,52981,53189,53499,54157,54543,53907,54403,54802,55236,55838,56669,57638,58421,59114,59870,60349,60713,61258,62076,62725,63451,64304,65021,65718,65856,66180,66926,67782]
["female",86,null,null,null,null,null,null,null,null,null,176,200,177,159,188,211,263,241,244,233,215,225,248,212,257,264,228,279,278,287,293,301,307,null,86,51563,51578,51947,52572,52981,53189,53499,54157,54543,54083,54603,54979,55395,56026,56880,57901,58662,59358,60103,60564,60938,61506,62288,62982,63715,64532,65300,65996,66143,66473,67227,68089]
["female",87,null,null,null,null,null,null,null,null,null,191,168,185,159,141,178,177,234,207,219,216,206,206,233,198,239,232,211,240,252,266,273,264,null,87,51563,51578,51947,52572,52981,53189,53499,54157,54543,54274,54771,55164,55554,56167,57058,58078,58896,59565,60322,60780,61144,61712,62521,63180,63954,64764,65511,66236,66395,66739,67500,68353]
["female",88,null,null,null,null,null,null,null,null,null,163,166,148,150,137,121,171,162,208,184,193,196,187,184,190,183,219,224,183,222,222,249,245,null,88,51563,51578,51947,52572,52981,53189,53499,54157,54543,54437,54937,55312,55704,56304,57179,58249,59058,59773,60506,60973,61340,61899,62705,63370,64137,64983,65735,66419,66617,66961,67749,68598]
["female",89,null,null,null,null,null,null,null,null,null,116,135,142,118,128,118,111,154,126,186,168,172,170,166,151,166,165,190,211,165,203,178,207,null,89,51563,51578,51947,52572,52981,53189,53499,54157,54543,54553,55072,55454,55822,56432,57297,58360,59212,59899,60692,61141,61512,62069,62871,63521,64303,65148,65925,66630,66782,67164,67927,68805]
["female","90+",null,null,null,null,null,null,null,null,null,467,479,488,503,509,552,561,528,561,583,628,639,663,737,725,697,726,724,759,824,793,811,775,null,"90+",51563,51578,51947,52572,52981,53189,53499,54157,54543,55020,55551,55942,56325,56941,57849,58921,59740,60460,61275,61769,62151,62732,63608,64246,65000,65874,66649,67389,67606,67957,68738,69580]
[null,"All Females",{"$f":"SUM(C109:C199)","v":51563},{"$f":"SUM(D109:D199)","v":51578},51947,52572,52981,53189,53499,54157,54543,55020,55551,55942,56325,56941,57849,58921,59740,60460,61275,61769,62151,62732,63608,64246,65000,65874,66649,{"$f":"SUM(AD109:AD199)","v":67389},{"$f":"SUM(AE109:AE199)","v":67606},{"$f":"SUM(AF109:AF199)","v":67957},{"$f":"SUM(AG109:AG199)","v":68738},{"$f":"SUM(AH109:AH199)","v":69580}]
[]
[]
[]
[]
[]
[]
[]
[]
[]
[]
[]
[]
[]
[]
[]
[]
[]
[]
[]
[]
[]
[]
[]
[]
[]
[]
[]
[]
[null,null,null,null,null,null,null,null,null,null,null,null,null,null,0.56640923213493122]
[null,null,null,null,null,null,null,null,null,null,null,null,null,null,0.22753661784287615]
[null,null,null,null,null,null,null,null,null,null,null,null,null,null,0.6219795827785175]
[null,null,null,null,null,null,null,null,null,null,null,null,null,null,6.4039059032401244E-2]
[null,null,null,null,null,null,null,null,null,null,null,null,null,null,6.9347536617842875E-2]
[null,null,null,null,null,null,null,null,null,null,null,null,null,null,5.7239236573457614E-2]
[null,null,null,null,null,null,null,null,null,null,null,null,null,null,3.948513093652907E-2]
[null,null,null,null,null,null,null,null,null,null,null,null,null,null,4.7882822902796274E-2]
[null,null,null,null,null,null,null,null,null,null,null,null,null,null,7.0750110963160237E-2]
[null,null,null,null,null,null,null,null,null,null,null,null,null,null,8.4278739458499771E-2]
[null,null,null,null,null,null,null,null,null,null,null,null,null,null,8.1171770972037288E-2]
[null,null,null,null,null,null,null,null,null,null,null,null,null,null,6.8051486906347089E-2]
[null,null,null,null,null,null,null,null,null,null,null,null,null,null,6.151797603195739E-2]
[null,null,null,null,null,null,null,null,null,null,null,null,null,null,6.91167332445628E-2]
[null,null,null,null,null,null,null,null,null,null,null,null,null,null,5.5570350643586328E-2]
[null,null,null,null,null,null,null,null,null,null,null,null,null,null,4.7936085219707054E-2]
[null,null,null,null,null,null,null,null,null,null,null,null,null,null,4.0958721704394144E-2]
[null,null,null,null,null,null,null,null,null,null,null,null,null,null,3.2401242787394584E-2]
[null,null,null,null,null,null,null,null,null,null,null,null,null,null,2.7714158899245452E-2]
[null,null,null,null,null,null,null,null,null,null,null,null,null,null,1.4025743453173546E-2]
[null,null,null,null,null,null,null,null,null,null,null,null,null,null,8.9303151353750561E-3]
[null,null,null,null,null,null,null,null,null,null,null,null,null,null,1]

{"sheet":"TUN","index":22,"n_rows":200,"n_cols":106,"rows_kept":200,"cut":false,"hidden":true,"merged":[[0,68,21,68]]}
["Mid Year Population Estimates",null,null,null,null,null,null,null,null,null,null,null,null,null,null,null,null,null,null,null,null,null,null,null,null,null,null,null,null,null,null,null,null,null,null,null,null,null,null,null,null,null,null,null,null,null,null,null,null,null,null,null,null,null,null,null,null,null,null,null,null,null,null,null,null,null,null,null,"Insert column here before extending the table"]
["ONS Mid-Year Population Estimates 1991 to 2022 - (1992 to 2001 Revised 7th October 2004) ( 2002 to 2010 revised in light of the 2011 census. Released 30 April 2013)",null,null,null,null,null,null,null,null,null,null,null,null,null,null,null,null,null,null,null,null,null,null,null,null,null,null,null,null,null,null,null,null,null,null,"Selected Ages:",null,{"$f":"Index!C4&\" : \"&Index!C7","v":"0 : 90"},null,null,null,null,null,null,null,null,null,null,null,null,null,null,null,null,null,null,null,null,null,null,null,null,null,null,null,null,null,null,null,null,null,null,"Start year","End Year","Number change","% Change"]
["Revised ONS Mid-Year Population Estimates 2012 to 2020- Released 23 November 2023",null,null,null,null,null,null,null,null,null,null,null,null,null,null,null,null,null,null,null,null,null,null,null,null,null,null,null,null,null,null,null,null,null,null,null,{"$f":"AK13","v":1992},{"$f":"AL13","v":1993},{"$f":"AM13","v":1994},{"$f":"AN13","v":1995},{"$f":"AO13","v":1996},{"$f":"AP13","v":1997},1998,1999,2000,2001,2002,2003,2004,2005,2006,2007,2008,2009,2010,2011,2012,2013,2014,2015,2016,2017,{"$f":"BK13","v":2018},2019,2020,2021,2022,2023,null,null,null,null,{"$f":"INDEX($AR3:$BL3,Index!$B$16)","v":1999},{"$f":"INDEX($AR3:$BM3,Index!$B$19)","v":2019}]
["2022 MYPE released 23 November 2023",null,null,null,null,null,null,null,null,null,null,null,null,null,null,null,null,null,null,null,null,null,null,null,null,null,null,null,null,null,null,null,null,null,null,"Males",{"$f":"OFFSET(AK16,Index!$B$7-1,0)-IF(Index!$B$4-2=-1,0,OFFSET(AK16,Index!$B$4-2,0))","v":48213},{"$f":"OFFSET(AL16,Index!$B$7-1,0)-IF(Index!$B$4-2=-1,0,OFFSET(AL16,Index!$B$4-2,0))","v":48252},{"$f":"OFFSET(AM16,Index!$B$7-1,0)-IF(Index!$B$4-2=-1,0,OFFSET(AM16,Index!$B$4-2,0))","v":48762},{"$f":"OFFSET(AN16,Index!$B$7-1,0)-IF(Index!$B$4-2=-1,0,OFFSET(AN16,Index!$B$4-2,0))","v":49175},{"$f":"OFFSET(AO16,Index!$B$7-1,0)-IF(Index!$B$4-2=-1,0,OFFSET(AO16,Index!$B$4-2,0))","v":48984},{"$f":"OFFSET(AP16,Index!$B$7-1,0)-IF(Index!$B$4-2=-1,0,OFFSET(AP16,Index!$B$4-2,0))","v":48764},{"$f":"OFFSET(AQ16,Index!$B$7-1,0)-IF(Index!$B$4-2=-1,0,OFFSET(AQ16,Index!$B$4-2,0))","v":49207},{"$f":"OFFSET(AR16,Index!$B$7-1,0)-IF(Index!$B$4-2=-1,0,OFFSET(AR16,Index!$B$4-2,0))","v":49473},{"$f":"OFFSET(AS16,Index!$B$7-1,0)-IF(Index!$B$4-2=-1,0,OFFSET(AS16,Index!$B$4-2,0))","v":49876},{"$f":"OFFSET(AT16,Index!$B$7-1,0)-IF(Index!$B$4-2=-1,0,OFFSET(AT16,Index!$B$4-2,0))","v":50050},{"$f":"OFFSET(AU16,Index!$B$7-1,0)-IF(Index!$B$4-2=-1,0,OFFSET(AU16,Index!$B$4-2,0))","v":50254},{"$f":"OFFSET(AV16,Index!$B$7-1,0)-IF(Index!$B$4-2=-1,0,OFFSET(AV16,Index!$B$4-2,0))","v":50477},{"$f":"OFFSET(AW16,Index!$B$7-1,0)-IF(Index!$B$4-2=-1,0,OFFSET(AW16,Index!$B$4-2,0))","v":50929},{"$f":"OFFSET(AX16,Index!$B$7-1,0)-IF(Index!$B$4-2=-1,0,OFFSET(AX16,Index!$B$4-2,0))","v":51304},{"$f":"OFFSET(AY16,Index!$B$7-1,0)-IF(Index!$B$4-2=-1,0,OFFSET(AY16,Index!$B$4-2,0))","v":51924},{"$f":"OFFSET(AZ16,Index!$B$7-1,0)-IF(Index!$B$4-2=-1,0,OFFSET(AZ16,Index!$B$4-2,0))","v":53035},{"$f":"OFFSET(BA16,Index!$B$7-1,0)-IF(Index!$B$4-2=-1,0,OFFSET(BA16,Index!$B$4-2,0))","v":54278},{"$f":"OFFSET(BB16,Index!$B$7-1,0)-IF(Index!$B$4-2=-1,0,OFFSET(BB16,Index!$B$4-2,0))","v":55205},{"$f":"OFFSET(BC16,Index!$B$7-1,0)-IF(Index!$B$4-2=-1,0,OFFSET(BC16,Index!$B$4-2,0))","v":55953},{"$f":"OFFSET(BD16,Index!$B$7-1,0)-IF(Index!$B$4-2=-1,0,OFFSET(BD16,Index!$B$4-2,0))","v":56563},{"$f":"OFFSET(BE16,Index!$B$7-1,0)-IF(Index!$B$4-2=-1,0,OFFSET(BE16,Index!$B$4-2,0))","v":56515},{"$f":"OFFSET(BF16,Index!$B$7-1,0)-IF(Index!$B$4-2=-1,0,OFFSET(BF16,Index!$B$4-2,0))","v":56413},{"$f":"OFFSET(BG16,Index!$B$7-1,0)-IF(Index!$B$4-2=-1,0,OFFSET(BG16,Index!$B$4-2,0))","v":56533},{"$f":"OFFSET(BH16,Index!$B$7-1,0)-IF(Index!$B$4-2=-1,0,OFFSET(BH16,Index!$B$4-2,0))","v":56235},{"$f":"OFFSET(BI16,Index!$B$7-1,0)-IF(Index!$B$4-2=-1,0,OFFSET(BI16,Index!$B$4-2,0))","v":56385},{"$f":"OFFSET(BJ16,Index!$B$7-1,0)-IF(Index!$B$4-2=-1,0,OFFSET(BJ16,Index!$B$4-2,0))","v":56521},{"$f":"OFFSET(BK16,Index!$B$7-1,0)-IF(Index!$B$4-2=-1,0,OFFSET(BK16,Index!$B$4-2,0))","v":55980},{"$f":"OFFSET(BL16,Index!$B$7-1,0)-IF(Index!$B$4-2=-1,0,OFFSET(BL16,Index!$B$4-2,0))","v":56022},{"$f":"OFFSET(BM16,Index!$B$7-1,0)-IF(Index!$B$4-2=-1,0,OFFSET(BM16,Index!$B$4-2,0))","v":56010},{"$f":"OFFSET(BN16,Index!$B$7-1,0)-IF(Index!$B$4-2=-1,0,OFFSET(BN16,Index!$B$4-2,0))","v":56111},{"$f":"OFFSET(BO16,Index!$B$7-1,0)-IF(Index!$B$4-2=-1,0,OFFSET(BO16,Index!$B$4-2,0))","v":56534},{"$f":"OFFSET(BP16,Index!$B$7-1,0)-IF(Index!$B$4-2=-1,0,OFFSET(BP16,Index!$B$4-2,0))","v":57027},null,null,null,null,{"$f":"INDEX($AR4:$BL4,Index!$B$16)","v":49473},{"$f":"INDEX($AR4:$BM4,Index!$B$19)","v":56022},{"$f":"BV4-BU4","v":6549},{"$f":"BW4/BU4","v":0.13237523497665393}]
[null,null,null,null,null,null,null,null,null,null,null,null,null,null,null,null,null,null,null,null,null,null,null,null,null,null,null,null,null,null,null,null,null,null,null,"Females",{"$f":"OFFSET(AK109,Index!$B$7-1,0)-IF(Index!$B$4-2=-1,0,OFFSET(AK109,Index!$B$4-2,0))","v":53146},{"$f":"OFFSET(AL109,Index!$B$7-1,0)-IF(Index!$B$4-2=-1,0,OFFSET(AL109,Index!$B$4-2,0))","v":52973},{"$f":"OFFSET(AM109,Index!$B$7-1,0)-IF(Index!$B$4-2=-1,0,OFFSET(AM109,Index!$B$4-2,0))","v":53390},{"$f":"OFFSET(AN109,Index!$B$7-1,0)-IF(Index!$B$4-2=-1,0,OFFSET(AN109,Index!$B$4-2,0))","v":53602},{"$f":"OFFSET(AO109,Index!$B$7-1,0)-IF(Index!$B$4-2=-1,0,OFFSET(AO109,Index!$B$4-2,0))","v":53180},{"$f":"OFFSET(AP109,Index!$B$7-1,0)-IF(Index!$B$4-2=-1,0,OFFSET(AP109,Index!$B$4-2,0))","v":52796},{"$f":"OFFSET(AQ109,Index!$B$7-1,0)-IF(Index!$B$4-2=-1,0,OFFSET(AQ109,Index!$B$4-2,0))","v":53300},{"$f":"OFFSET(AR109,Index!$B$7-1,0)-IF(Index!$B$4-2=-1,0,OFFSET(AR109,Index!$B$4-2,0))","v":53558},{"$f":"OFFSET(AS109,Index!$B$7-1,0)-IF(Index!$B$4-2=-1,0,OFFSET(AS109,Index!$B$4-2,0))","v":53810},{"$f":"OFFSET(AT109,Index!$B$7-1,0)-IF(Index!$B$4-2=-1,0,OFFSET(AT109,Index!$B$4-2,0))","v":53999},{"$f":"OFFSET(AU109,Index!$B$7-1,0)-IF(Index!$B$4-2=-1,0,OFFSET(AU109,Index!$B$4-2,0))","v":53952},{"$f":"OFFSET(AV109,Index!$B$7-1,0)-IF(Index!$B$4-2=-1,0,OFFSET(AV109,Index!$B$4-2,0))","v":53913},{"$f":"OFFSET(AW109,Index!$B$7-1,0)-IF(Index!$B$4-2=-1,0,OFFSET(AW109,Index!$B$4-2,0))","v":54202},{"$f":"OFFSET(AX109,Index!$B$7-1,0)-IF(Index!$B$4-2=-1,0,OFFSET(AX109,Index!$B$4-2,0))","v":54573},{"$f":"OFFSET(AY109,Index!$B$7-1,0)-IF(Index!$B$4-2=-1,0,OFFSET(AY109,Index!$B$4-2,0))","v":55128},{"$f":"OFFSET(AZ109,Index!$B$7-1,0)-IF(Index!$B$4-2=-1,0,OFFSET(AZ109,Index!$B$4-2,0))","v":55892},{"$f":"OFFSET(BA109,Index!$B$7-1,0)-IF(Index!$B$4-2=-1,0,OFFSET(BA109,Index!$B$4-2,0))","v":56973},{"$f":"OFFSET(BB109,Index!$B$7-1,0)-IF(Index!$B$4-2=-1,0,OFFSET(BB109,Index!$B$4-2,0))","v":57569},{"$f":"OFFSET(BC109,Index!$B$7-1,0)-IF(Index!$B$4-2=-1,0,OFFSET(BC109,Index!$B$4-2,0))","v":58087},{"$f":"OFFSET(BD109,Index!$B$7-1,0)-IF(Index!$B$4-2=-1,0,OFFSET(BD109,Index!$B$4-2,0))","v":58683},{"$f":"OFFSET(BE109,Index!$B$7-1,0)-IF(Index!$B$4-2=-1,0,OFFSET(BE109,Index!$B$4-2,0))","v":58887},{"$f":"OFFSET(BF109,Index!$B$7-1,0)-IF(Index!$B$4-2=-1,0,OFFSET(BF109,Index!$B$4-2,0))","v":58751},{"$f":"OFFSET(BG109,Index!$B$7-1,0)-IF(Index!$B$4-2=-1,0,OFFSET(BG109,Index!$B$4-2,0))","v":58695},{"$f":"OFFSET(BH109,Index!$B$7-1,0)-IF(Index!$B$4-2=-1,0,OFFSET(BH109,Index!$B$4-2,0))","v":58534},{"$f":"OFFSET(BI109,Index!$B$7-1,0)-IF(Index!$B$4-2=-1,0,OFFSET(BI109,Index!$B$4-2,0))","v":58813},{"$f":"OFFSET(BJ109,Index!$B$7-1,0)-IF(Index!$B$4-2=-1,0,OFFSET(BJ109,Index!$B$4-2,0))","v":59038},{"$f":"OFFSET(BK109,Index!$B$7-1,0)-IF(Index!$B$4-2=-1,0,OFFSET(BK109,Index!$B$4-2,0))","v":58960},{"$f":"OFFSET(BL109,Index!$B$7-1,0)-IF(Index!$B$4-2=-1,0,OFFSET(BL109,Index!$B$4-2,0))","v":59136},{"$f":"OFFSET(BM109,Index!$B$7-1,0)-IF(Index!$B$4-2=-1,0,OFFSET(BM109,Index!$B$4-2,0))","v":59261},{"$f":"OFFSET(BN109,Index!$B$7-1,0)-IF(Index!$B$4-2=-1,0,OFFSET(BN109,Index!$B$4-2,0))","v":59539},{"$f":"OFFSET(BO109,Index!$B$7-1,0)-IF(Index!$B$4-2=-1,0,OFFSET(BO109,Index!$B$4-2,0))","v":59641},{"$f":"OFFSET(BP109,Index!$B$7-1,0)-IF(Index!$B$4-2=-1,0,OFFSET(BP109,Index!$B$4-2,0))","v":59993},null,null,null,null,{"$f":"INDEX($AR5:$BL5,Index!$B$16)","v":53558},{"$f":"INDEX($AR5:$BM5,Index!$B$19)","v":59136},{"$f":"BV5-BU5","v":5578},{"$f":"BW5/BU5","v":0.10414877329250533}]
[null,null,null,null,null,null,null,null,null,null,null,null,null,null,null,null,null,null,null,null,null,null,null,null,null,null,null,null,null,null,null,null,null,null,null,"Total",{"$f":"SUM(AK4:AK5)","v":101359},{"$f":"SUM(AL4:AL5)","v":101225},{"$f":"SUM(AM4:AM5)","v":102152},{"$f":"SUM(AN4:AN5)","v":102777},{"$f":"SUM(AO4:AO5)","v":102164},{"$f":"SUM(AP4:AP5)","v":101560},102507,103031,103686,104049,104206,104390,105131,105877,107052,108927,111251,112774,114040,115246,115402,115164,115228,114769,115198,115559,114940,115158,115271,115650,116175,117020,null,null,null,null,{"$f":"INDEX($AR6:$BL6,Index!$B$16)","v":103031},{"$f":"INDEX($AR6:$BM6,Index!$B$19)","v":115158},{"$f":"BV6-BU6","v":12127},{"$f":"BW6/BU6","v":0.11770243907173569}]
[]
[null,null,null,null,null,null,null,null,null,null,null,null,null,null,null,null,null,null,null,null,null,null,null,null,null,null,null,null,null,null,null,null,null,null,null,"Males",{"$f":"IF(AK4<0,\"0\",AK4)","v":48213},{"$f":"IF(AL4<0,\"0\",AL4)","v":48252},48762,49175,48984,48764,49207,49473,49876,50050,50254,50477,50929,51304,51924,53035,54278,55205,55953,56563,56515,56413,56533,56235,56385,56521,{"$f":"IF(BK4<0,\"0\",BK4)","v":55980},56022,56010,{"$f":"IF(BN4<0,\"0\",BN4)","v":56111},56534,{"$f":"IF(BP4<0,\"0\",BP4)","v":57027}]
[null,null,null,null,null,null,null,null,null,null,null,null,null,null,null,null,null,null,null,null,null,null,null,null,null,null,null,null,null,null,null,null,null,null,null,"Females",{"$f":"IF(AK5<0,\"0\",AK5)","v":53146},52973,53390,53602,53180,52796,53300,53558,53810,53999,53952,53913,54202,54573,55128,55892,56973,57569,58087,58683,58887,58751,58695,58534,58813,59038,58960,59136,59261,{"$f":"IF(BN5<0,\"0\",BN5)","v":59539},59641,{"$f":"IF(BP5<0,\"0\",BP5)","v":59993}]
[null,null,null,null,null,null,null,null,null,null,null,null,null,null,null,null,null,null,null,null,null,null,null,null,null,null,null,null,null,null,null,null,null,null,null,"Total",{"$f":"SUM(AK8:AK9)","v":101359},{"$f":"SUM(AL8:AL9)","v":101225},102152,102777,102164,101560,102507,103031,103686,104049,104206,104390,105131,105877,107052,108927,111251,112774,114040,115246,115402,115164,115228,114769,115198,115559,{"$f":"SUM(BK8:BK9)","v":114940},115158,115271,115650,116175,117020]
[]
[null,null,null,"MYE for  . . . . . .",null,null,null,"Tunbridge Wells",null,null,null,null,null,null,null,null,null,null,null,null,null,null,null,null,null,null,null,null,null,null,null,null,null,null,null,null,null,null,null,null,"Cummulative Ages",null,null,null,null,null,null,null,null,null,null,null,null,null,null,null,null,null,null,null,null,null,null,null,null,null,null,null,null,"Population Pyramid"]
[null,null,"Base Year",null,null,null,null,null,null,null,null,null,null,null,null,null,null,null,null,null,null,null,null,null,null,null,null,null,null,null,null,null,null,null,null,null,{"$f":"C14","v":1992},1993,1994,1995,1996,1997,1998,1999,2000,2001,2002,2003,2004,2005,2006,2007,2008,2009,2010,2011,2012,2013,2014,2015,2016,2017,2018,2019,2020,2021,2022,2023]
["Sex","Age",1992,1993,1994,1995,1996,1997,1998,1999,2000,2001,2002,2003,2004,2005,2006,2007,2008,2009,2010,2011,2012,2013,2014,2015,2016,2017,2018,2019,2020,2021,2022,2023,null,null,null,null,null,null,null,null,null,null,null,null,null,null,null,null,null,null,null,null,null,null,null,null,null,null,null,null,null,null,null,null,null,null,null,null,null,null,1992,1993,1994,1995,1996,1997,1998,1999,2000,2001,2002,2003,2004,2005,2006,2007,2008,2009,2010,2011,2012,2013,2014,2015,2016,2017,2018,2019,2020,2021,2022,2023,null,{"$f":"INDEX(CC14:CY14,'Population Pyramid'!$L$1)","v":2020}]
[null,"All persons",{"$f":"SUM(C107,C200)","v":101359},{"$f":"SUM(D107,D200)","v":101225},102152,102777,102164,101560,102507,103031,103686,104049,104206,104390,105131,105877,107052,108927,111251,112774,114040,115246,115402,115164,{"$f":"SUM(Y107,Y200)","v":115228},114769,115198,115559,114940,115158,{"$f":"SUM(AE107,AE200)","v":115271},115650,{"$f":"SUM(AG107,AG200)","v":116175},117020,null,"Males",null,null,null,null,null,null,null,null,null,null,null,null,null,null,null,null,null,null,null,null,null,null,null,null,null,null,null,null,null,null,null,null,null,"Males","All Ages",null,{"$f":"C107","v":48213},48252,48762,49175,48984,48764,49207,49473,49876,50050,50254,50477,50929,51304,51924,53035,54278,55205,55953,56563,56515,56413,56533,56235,56385,56521,55980,56022,56010,56111,56534,57027,null,{"$f":"INDEX(CC15:CY15,'Population Pyramid'!$L$1)","v":56010}]
["male",0,636,612,604,629,659,659,623,707,587,582,606,626,656,582,623,722,715,690,690,744,677,662,600,653,623,628,589,611,568,560,619,567,null,0,{"$f":"C16","v":636},612,604,629,659,659,623,707,587,582,606,626,656,582,623,722,715,690,690,744,677,662,600,653,623,628,589,611,568,560,619,567,null,"Males","0-4",null,{"$f":"SUM(C16:C20)","v":3165},3112,3120,3221,3228,3223,3250,3355,3333,3203,3159,3124,3170,3180,3185,3395,3512,3542,3667,3729,3664,3561,3463,3427,3349,3311,3168,3208,3135,3139,3136,3189,null,{"$f":"INDEX(CC16:CY16,'Population Pyramid'!$L$1)","v":3135}]
["male",1,630,623,592,675,611,634,653,646,691,593,597,601,646,660,597,653,741,719,709,693,754,684,667,623,680,643,612,605,608,611,579,652,null,1,{"$f":"AK16+C17","v":1266},{"$f":"AL16+D17","v":1235},{"$f":"AM16+E17","v":1196},{"$f":"AN16+F17","v":1304},{"$f":"AO16+G17","v":1270},{"$f":"AP16+H17","v":1293},{"$f":"AQ16+I17","v":1276},{"$f":"AR16+J17","v":1353},{"$f":"AS16+K17","v":1278},{"$f":"AT16+L17","v":1175},{"$f":"AU16+M17","v":1203},{"$f":"AV16+N17","v":1227},{"$f":"AW16+O17","v":1302},{"$f":"AX16+P17","v":1242},{"$f":"AY16+Q17","v":1220},{"$f":"AZ16+R17","v":1375},{"$f":"BA16+S17","v":1456},{"$f":"BB16+T17","v":1409},{"$f":"BC16+U17","v":1399},{"$f":"BD16+V17","v":1437},{"$f":"BE16+W17","v":1431},{"$f":"BF16+X17","v":1346},{"$f":"BG16+Y17","v":1267},{"$f":"BH16+Z17","v":1276},{"$f":"BI16+AA17","v":1303},{"$f":"BJ16+AB17","v":1271},{"$f":"BK16+AC17","v":1201},{"$f":"BL16+AD17","v":1216},{"$f":"BM16+AE17","v":1176},{"$f":"BN16+AF17","v":1171},{"$f":"BO16+AG17","v":1198},1219,null,"Males","5-9",null,{"$f":"SUM(C21:C25)","v":3080},3189,3248,3242,3270,3347,3361,3429,3467,3470,3504,3523,3529,3486,3484,3433,3447,3450,3486,3594,3758,3814,3824,3883,3916,3837,3761,3714,3657,3591,3642,3675,null,{"$f":"INDEX(CC17:CY17,'Population Pyramid'!$L$1)","v":3657}]
["male",2,623,636,645,611,683,622,645,700,675,659,609,609,615,663,685,630,689,759,746,718,707,751,704,657,632,696,638,637,633,645,607,621,null,2,1889,1871,1841,1915,1953,1915,1921,2053,1953,1834,1812,1836,1917,1905,1905,2005,2145,2168,2145,2155,2138,2097,1971,1933,1935,1967,1839,1853,1809,1816,1805,1840,null,"Males","10-14",null,{"$f":"SUM(C26:C30)","v":3242},3232,3201,3263,3262,3285,3375,3428,3413,3463,3537,3591,3697,3694,3688,3689,3793,3841,3781,3708,3620,3618,3638,3659,3756,3931,3975,3977,4075,4160,4173,4236,null,{"$f":"INDEX(CC18:CY18,'Population Pyramid'!$L$1)","v":4075}]
["male",3,617,627,648,656,617,688,635,658,704,674,665,608,630,627,666,694,647,706,789,763,734,715,769,717,677,638,677,651,657,641,665,645,null,3,2506,2498,2489,2571,2570,2603,2556,2711,2657,2508,2477,2444,2547,2532,2571,2699,2792,2874,2934,2918,2872,2812,2740,2650,2612,2605,2516,2504,2466,2457,2470,2485,null,"Males","15-19",null,{"$f":"SUM(C31:C35)","v":3384},3256,3231,3141,3154,3115,3230,3052,3083,3075,3172,3265,3361,3361,3444,3544,3535,3615,3636,3636,3500,3520,3498,3372,3373,3331,3321,3369,3393,3381,3491,3605,null,{"$f":"INDEX(CC19:CY19,'Population Pyramid'!$L$1)","v":3393}]
["male",4,659,614,631,650,658,620,694,644,676,695,682,680,623,648,614,696,720,668,733,811,792,749,723,777,737,706,652,704,669,682,666,704,null,4,3165,3112,3120,3221,3228,3223,3250,3355,3333,3203,3159,3124,3170,3180,3185,3395,3512,3542,3667,3729,3664,3561,3463,3427,3349,3311,3168,3208,3135,3139,3136,3189,null,"Males","20-24",null,{"$f":"SUM(C36:C40)","v":3296},3187,3073,3007,2740,2463,2319,2282,2326,2540,2477,2392,2316,2322,2396,2526,2698,2814,2798,2769,2706,2544,2697,2601,2517,2478,2400,2469,2396,2458,2376,2275,null,{"$f":"INDEX(CC20:CY20,'Population Pyramid'!$L$1)","v":2396}]
["male",5,576,654,617,634,647,660,627,682,662,686,715,688,693,627,649,629,712,716,684,764,820,787,748,729,795,739,715,660,702,692,703,688,null,5,3741,3766,3737,3855,3875,3883,3877,4037,3995,3889,3874,3812,3863,3807,3834,4024,4224,4258,4351,4493,4484,4348,4211,4156,4144,4050,3883,3868,3837,3831,3839,3877,null,"Males","25-29",null,{"$f":"SUM(C41:C45)","v":3717},3731,3819,3812,3648,3492,3416,3326,3312,3121,3015,2932,2958,3025,3119,3195,3328,3367,3418,3472,3309,3310,3368,3163,3194,3224,3049,2975,2978,2951,2886,2884,null,{"$f":"INDEX(CC21:CY21,'Population Pyramid'!$L$1)","v":2978}]
["male",6,625,589,674,637,651,664,689,666,691,667,690,716,718,704,638,665,640,716,714,700,761,831,781,759,725,796,734,731,658,710,710,721,null,6,4366,4355,4411,4492,4526,4547,4566,4703,4686,4556,4564,4528,4581,4511,4472,4689,4864,4974,5065,5193,5245,5179,4992,4915,4869,4846,4617,4599,4495,4541,4549,4598,null,"Males","30-34",null,{"$f":"SUM(C46:C50)","v":3506},3534,3687,3770,3800,3830,3892,3853,3731,3677,3587,3619,3585,3512,3498,3437,3379,3382,3481,3588,3637,3639,3524,3509,3436,3374,3330,3321,3226,3254,3171,3216,null,{"$f":"INDEX(CC22:CY22,'Population Pyramid'!$L$1)","v":3226}]
["male",7,657,634,604,686,643,660,680,709,704,708,680,701,721,725,716,647,690,644,718,734,692,751,834,784,759,739,786,754,735,681,761,734,null,7,5023,4989,5015,5178,5169,5207,5246,5412,5390,5264,5244,5229,5302,5236,5188,5336,5554,5618,5783,5927,5937,5930,5826,5699,5628,5585,5403,5353,5230,5222,5310,5332,null,"Males","35-39",null,{"$f":"SUM(C51:C55)","v":3216},3276,3381,3508,3621,3641,3693,3872,4012,4091,4169,4240,4118,4057,4015,4112,4213,4225,4195,4077,3904,3657,3588,3598,3668,3688,3656,3540,3504,3430,3622,3617,null,{"$f":"INDEX(CC23:CY23,'Population Pyramid'!$L$1)","v":3504}]
["male",8,621,678,654,619,698,657,689,693,716,698,711,689,697,722,741,729,660,708,651,733,749,694,763,844,794,768,752,789,760,736,716,802,null,8,5644,5667,5669,5797,5867,5864,5935,6105,6106,5962,5955,5918,5999,5958,5929,6065,6214,6326,6434,6660,6686,6624,6589,6543,6422,6353,6155,6142,5990,5958,6026,6134,null,"Males","40-44",null,{"$f":"SUM(C56:C60)","v":3603},3450,3426,3342,3265,3291,3371,3513,3664,3764,3832,3931,4075,4222,4377,4484,4634,4651,4632,4641,4547,4474,4323,4210,4078,3939,3749,3758,3715,3783,3795,3927,null,{"$f":"INDEX(CC24:CY24,'Population Pyramid'!$L$1)","v":3715}]
["male",9,601,634,699,666,631,706,676,679,694,711,708,729,700,708,740,763,745,666,719,663,736,751,698,767,843,795,774,780,802,772,752,730,null,9,6245,6301,6368,6463,6498,6570,6611,6784,6800,6673,6663,6647,6699,6666,6669,6828,6959,6992,7153,7323,7422,7375,7287,7310,7265,7148,6929,6922,6792,6730,6778,6864,null,"Males","45-49",null,{"$f":"SUM(C61:C65)","v":3715},3798,3879,3935,3880,3576,3369,3324,3307,3287,3357,3438,3526,3633,3759,3898,4086,4232,4419,4574,4658,4749,4730,4646,4580,4516,4396,4241,4204,4089,3969,3868,null,{"$f":"INDEX(CC25:CY25,'Population Pyramid'!$L$1)","v":4204}]
["male",10,594,615,651,720,668,638,717,682,680,693,709,727,738,715,722,731,774,754,680,715,670,743,760,711,772,850,786,787,795,833,795,771,null,10,6839,6916,7019,7183,7166,7208,7328,7466,7480,7366,7372,7374,7437,7381,7391,7559,7733,7746,7833,8038,8092,8118,8047,8021,8037,7998,7715,7709,7587,7563,7573,7635,null,"Males","50-54",null,{"$f":"SUM(C66:C70)","v":2888},2970,3042,3137,3271,3585,3765,3857,3919,3865,3580,3316,3230,3171,3187,3332,3425,3550,3634,3743,3892,4026,4180,4296,4416,4460,4489,4514,4468,4362,4305,4233,null,{"$f":"INDEX(CC26:CY26,'Population Pyramid'!$L$1)","v":4468}]
["male",11,652,586,613,650,713,655,633,688,684,676,707,711,735,731,726,724,730,784,759,671,718,680,760,765,719,783,852,798,814,819,904,864,null,11,7491,7502,7632,7833,7879,7863,7961,8154,8164,8042,8079,8085,8172,8112,8117,8283,8463,8530,8592,8709,8810,8798,8807,8786,8756,8781,8567,8507,8401,8382,8477,8499,null,"Males","55-59",null,{"$f":"SUM(C71:C75)","v":2611},2657,2741,2798,2792,2813,2871,2914,2985,3121,3427,3548,3649,3695,3578,3320,3167,3130,3115,3159,3264,3321,3353,3423,3511,3698,3796,3873,3991,4075,4166,4234,null,{"$f":"INDEX(CC27:CY27,'Population Pyramid'!$L$1)","v":3991}]
["male",12,676,650,593,622,650,709,646,656,695,690,698,731,735,743,744,741,745,755,789,772,682,716,691,758,786,748,789,868,804,837,824,913,null,12,8167,8152,8225,8455,8529,8572,8607,8810,8859,8732,8777,8816,8907,8855,8861,9024,9208,9285,9381,9481,9492,9514,9498,9544,9542,9529,9356,9375,9205,9219,9301,9412,null,"Males","60-64",null,{"$f":"SUM(C76:C80)","v":2382},2407,2438,2413,2464,2495,2583,2607,2628,2598,2595,2609,2645,2746,2920,3192,3357,3456,3492,3372,3114,2992,2912,2858,2906,2958,3066,3134,3219,3266,3398,3497,null,{"$f":"INDEX(CC28:CY28,'Population Pyramid'!$L$1)","v":3219}]
["male",13,694,678,657,596,621,652,710,672,670,716,706,709,767,740,750,751,755,767,762,803,775,690,735,698,764,782,751,783,874,813,838,838,null,13,8861,8830,8882,9051,9150,9224,9317,9482,9529,9448,9483,9525,9674,9595,9611,9775,9963,10052,10143,10284,10267,10204,10233,10242,10306,10311,10107,10158,10079,10032,10139,10250,null,"Males","65-69",null,{"$f":"SUM(C81:C85)","v":2042},2048,2095,2117,2135,2155,2195,2171,2131,2162,2152,2148,2190,2238,2234,2301,2370,2457,2585,2764,3033,3122,3192,3213,3117,2846,2733,2655,2616,2624,2706,2786,null,{"$f":"INDEX(CC29:CY29,'Population Pyramid'!$L$1)","v":2616}]
["male",14,626,703,687,675,610,631,669,730,684,688,717,713,722,765,746,742,789,781,791,747,775,789,692,727,715,768,797,741,788,858,812,850,null,14,9487,9533,9569,9726,9760,9855,9986,10212,10213,10136,10200,10238,10396,10360,10357,10517,10752,10833,10934,11031,11042,10993,10925,10969,11021,11079,10904,10899,10867,10890,10951,11100,null,"Males","70-74",null,{"$f":"SUM(C86:C90)","v":1691},1769,1782,1736,1673,1683,1702,1711,1742,1796,1837,1877,1844,1814,1818,1826,1866,1951,2000,1989,2066,2151,2234,2313,2443,2702,2778,2814,2824,2771,2569,2496,null,{"$f":"INDEX(CC30:CY30,'Population Pyramid'!$L$1)","v":2824}]
["male",15,643,627,708,693,679,612,641,654,732,691,686,718,725,735,772,755,744,796,792,785,726,770,786,689,725,734,783,796,734,796,867,822,null,15,10130,10160,10277,10419,10439,10467,10627,10866,10945,10827,10886,10956,11121,11095,11129,11272,11496,11629,11726,11816,11768,11763,11711,11658,11746,11813,11687,11695,11601,11686,11818,11922,null,"Males","75-79",null,{"$f":"SUM(C91:C95)","v":1264},1180,1138,1221,1268,1297,1353,1398,1372,1304,1302,1326,1390,1449,1503,1569,1618,1579,1548,1587,1586,1615,1678,1709,1730,1797,1822,1907,1987,2101,2356,2401,null,{"$f":"INDEX(CC31:CY31,'Population Pyramid'!$L$1)","v":1987}]
["male",16,656,646,626,718,694,680,615,629,641,731,681,677,729,735,735,774,747,743,791,794,770,740,761,782,687,723,728,772,793,721,803,885,null,16,10786,10806,10903,11137,11133,11147,11242,11495,11586,11558,11567,11633,11850,11830,11864,12046,12243,12372,12517,12610,12538,12503,12472,12440,12433,12536,12415,12467,12394,12407,12621,12807,null,"Males","80-84",null,{"$f":"SUM(C96:C100)","v":853},839,860,873,850,845,798,732,825,895,939,986,1004,982,952,965,1009,1106,1160,1222,1248,1276,1253,1215,1231,1245,1272,1330,1374,1389,1458,1530,null,{"$f":"INDEX(CC32:CY32,'Population Pyramid'!$L$1)","v":1374}]
["male",17,731,641,633,622,710,693,672,576,623,635,743,694,658,737,737,731,769,746,751,799,765,748,739,758,787,663,717,717,747,765,722,801,null,17,11517,11447,11536,11759,11843,11840,11914,12071,12209,12193,12310,12327,12508,12567,12601,12777,13012,13118,13268,13409,13303,13251,13211,13198,13220,13199,13132,13184,13141,13172,13343,13608,null,"Males","85+",null,{"$f":"SUM(C101:C106)","v":558},617,601,639,663,628,664,649,626,618,613,612,642,717,767,817,841,857,906,939,1009,1024,1078,1140,1164,1186,1219,1223,1248,1287,1315,1358,null,{"$f":"INDEX(CC33:CY33,'Population Pyramid'!$L$1)","v":1248}]
["male",18,695,737,632,615,594,673,684,627,547,602,604,726,674,640,712,720,717,755,721,733,752,744,703,708,726,710,618,694,664,676,717,667,null,18,12212,12184,12168,12374,12437,12513,12598,12698,12756,12795,12914,13053,13182,13207,13313,13497,13729,13873,13989,14142,14055,13995,13914,13906,13946,13909,13750,13878,13805,13848,14060,14275]
["male",19,659,605,632,493,477,457,618,566,540,416,458,450,575,514,488,564,558,575,581,525,487,518,509,435,448,501,475,390,455,423,382,430,null,19,12871,12789,12800,12867,12914,12970,13216,13264,13296,13211,13372,13503,13757,13721,13801,14061,14287,14448,14570,14667,14542,14513,14423,14341,14394,14410,14225,14268,14260,14271,14442,14705,null,"Males","All Ages",null,{"$f":"C200","v":53146},52973,53390,53602,53180,52796,53300,53558,53810,53999,53952,53913,54202,54573,55128,55892,56973,57569,58087,58683,58887,58751,58695,58534,58813,59038,58960,59136,59261,59539,59641,59993,null,{"$f":"INDEX(CC35:CY35,'Population Pyramid'!$L$1)","v":59261}]
["male",20,590,614,523,537,380,363,381,441,428,460,338,333,350,460,425,416,476,462,458,436,404,406,456,373,357,372,439,413,346,394,353,334,null,20,13461,13403,13323,13404,13294,13333,13597,13705,13724,13671,13710,13836,14107,14181,14226,14477,14763,14910,15028,15103,14946,14919,14879,14714,14751,14782,14664,14681,14606,14665,14795,15039,null,"Females","0-4",null,{"$f":"SUM(C109:C113)","v":3055},3059,3135,3154,3143,3142,3234,3249,3212,3138,3022,2971,2983,2966,3071,3186,3328,3357,3439,3565,3529,3439,3313,3208,3105,3013,3020,2983,2962,2967,2979,2955,null,{"$f":"INDEX(CC36:CY36,'Population Pyramid'!$L$1)","v":2962}]
["male",21,580,591,544,505,504,358,365,388,465,470,491,376,340,366,495,455,448,502,487,477,446,436,488,466,427,409,381,463,456,389,400,363,null,21,14041,13994,13867,13909,13798,13691,13962,14093,14189,14141,14201,14212,14447,14547,14721,14932,15211,15412,15515,15580,15392,15355,15367,15180,15178,15191,15045,15144,15062,15054,15195,15402,null,"Females","5-9",null,{"$f":"SUM(C114:C118)","v":2862},2888,2928,3008,3062,3172,3253,3312,3337,3368,3444,3491,3493,3498,3475,3406,3355,3361,3374,3405,3496,3520,3578,3588,3664,3635,3550,3498,3432,3412,3442,3495,null,{"$f":"INDEX(CC37:CY37,'Population Pyramid'!$L$1)","v":3432}]
["male",22,675,590,604,592,532,533,391,430,454,528,525,535,444,400,441,591,523,502,603,550,540,519,559,534,512,516,451,483,520,508,423,471,null,22,14716,14584,14471,14501,14330,14224,14353,14523,14643,14669,14726,14747,14891,14947,15162,15523,15734,15914,16118,16130,15932,15874,15926,15714,15690,15707,15496,15627,15582,15562,15618,15873,null,"Females","10-14",null,{"$f":"SUM(C119:C123)","v":3315},3337,3337,3229,3103,3011,3056,3165,3294,3494,3632,3707,3730,3683,3733,3766,3922,3918,3911,3910,3862,3730,3710,3723,3700,3741,3847,3866,3899,3952,4093,4117,null,{"$f":"INDEX(CC38:CY38,'Population Pyramid'!$L$1)","v":3899}]
["male",23,709,694,651,684,634,580,586,431,514,517,579,560,582,500,479,534,670,620,571,682,612,574,603,602,602,557,569,524,542,591,571,491,null,23,15425,15278,15122,15185,14964,14804,14939,14954,15157,15186,15305,15307,15473,15447,15641,16057,16404,16534,16689,16812,16544,16448,16529,16316,16292,16264,16065,16151,16124,16153,16189,16364,null,"Females","15-19",null,{"$f":"SUM(C124:C128)","v":3442},3358,3194,3255,3311,3290,3461,3387,3267,3149,3192,3227,3357,3528,3646,3754,3781,3820,3789,3785,3739,3776,3673,3582,3665,3654,3501,3488,3478,3384,3296,3482,null,{"$f":"INDEX(CC39:CY39,'Population Pyramid'!$L$1)","v":3478}]
["male",24,742,698,751,689,690,629,596,592,465,565,544,588,600,596,556,530,581,728,679,624,704,609,591,626,619,624,560,586,532,576,629,616,null,24,16167,15976,15873,15874,15654,15433,15535,15546,15622,15751,15849,15895,16073,16043,16197,16587,16985,17262,17368,17436,17248,17057,17120,16942,16911,16888,16625,16737,16656,16729,16818,16980,null,"Females","20-24",null,{"$f":"SUM(C129:C133)","v":3337},3069,3081,2869,2517,2272,2175,2034,2210,2356,2279,2168,2166,2199,2268,2405,2514,2569,2690,2737,2678,2626,2612,2445,2493,2486,2538,2431,2439,2436,2218,2087,null,{"$f":"INDEX(CC40:CY40,'Population Pyramid'!$L$1)","v":2439}]
["male",25,757,712,736,748,665,666,610,596,594,499,568,569,597,637,623,592,579,602,740,695,637,713,652,594,614,646,606,554,577,534,561,627,null,25,16924,16688,16609,16622,16319,16099,16145,16142,16216,16250,16417,16464,16670,16680,16820,17179,17564,17864,18108,18131,17885,17770,17772,17536,17525,17534,17231,17291,17233,17263,17379,17607,null,"Females","25-29",null,{"$f":"SUM(C134:C138)","v":3731},3722,3802,3804,3713,3526,3358,3361,3317,3148,3006,2959,2908,2878,2890,3003,3128,3198,3252,3271,3204,3130,3179,3250,3262,3245,3098,3184,3084,3034,2879,2954,null,{"$f":"INDEX(CC41:CY41,'Population Pyramid'!$L$1)","v":3084}]
["male",26,743,754,753,741,733,657,680,663,617,613,494,583,572,626,666,662,645,616,616,752,650,612,696,627,589,630,635,596,566,598,545,540,null,26,17667,17442,17362,17363,17052,16756,16825,16805,16833,16863,16911,17047,17242,17306,17486,17841,18209,18480,18724,18883,18535,18382,18468,18163,18114,18164,17866,17887,17799,17861,17924,18147,null,"Females","30-34",null,{"$f":"SUM(C139:C143)","v":3628},3686,3799,3940,3929,3936,4009,4018,3908,3853,3734,3676,3555,3517,3455,3324,3369,3304,3318,3385,3450,3495,3481,3380,3389,3410,3379,3381,3460,3646,3521,3353,null,{"$f":"INDEX(CC42:CY42,'Population Pyramid'!$L$1)","v":3460}]
["male",27,771,756,787,759,737,726,684,678,690,616,623,514,611,572,635,704,707,677,637,641,752,638,615,679,642,606,624,636,597,564,596,562,null,27,18438,18198,18149,18122,17789,17482,17509,17483,17523,17479,17534,17561,17853,17878,18121,18545,18916,19157,19361,19524,19287,19020,19083,18842,18756,18770,18490,18523,18396,18425,18520,18709,null,"Females","35-39",null,{"$f":"SUM(C144:C148)","v":3376},3442,3555,3599,3735,3813,3903,4055,4205,4227,4255,4248,4276,4172,4139,4148,4181,4175,4097,4000,3784,3680,3525,3593,3710,3771,3768,3808,3720,3820,3915,3913,null,{"$f":"INDEX(CC43:CY43,'Population Pyramid'!$L$1)","v":3720}]
["male",28,761,751,762,776,734,708,711,695,713,683,625,634,545,616,578,644,743,717,702,668,620,738,643,639,699,627,586,600,640,638,549,580,null,28,19199,18949,18911,18898,18523,18190,18220,18178,18236,18162,18159,18195,18398,18494,18699,19189,19659,19874,20063,20192,19907,19758,19726,19481,19455,19397,19076,19123,19036,19063,19069,19289,null,"Females","40-44",null,{"$f":"SUM(C149:C153)","v":3822},3662,3577,3544,3439,3454,3499,3655,3719,3910,4039,4117,4239,4415,4481,4559,4532,4592,4475,4492,4493,4461,4420,4330,4185,4004,3914,3893,3953,4016,4171,4212,null,{"$f":"INDEX(CC44:CY44,'Population Pyramid'!$L$1)","v":3953}]
["male",29,685,758,781,788,779,735,731,694,698,710,705,632,633,574,617,593,654,755,723,716,650,609,762,624,650,715,598,589,598,617,635,575,null,29,19884,19707,19692,19686,19302,18925,18951,18872,18934,18872,18864,18827,19031,19068,19316,19782,20313,20629,20786,20908,20557,20367,20488,20105,20105,20112,19674,19712,19634,19680,19704,19864,null,"Females","45-49",null,{"$f":"SUM(C154:C158)","v":3786},3919,4026,4070,4077,3836,3683,3580,3598,3522,3513,3570,3676,3721,3894,4084,4219,4329,4514,4589,4683,4668,4679,4607,4612,4638,4617,4518,4453,4327,4118,4105,null,{"$f":"INDEX(CC45:CY45,'Population Pyramid'!$L$1)","v":4453}]
["male",30,701,679,786,779,770,758,725,715,684,684,692,725,651,640,586,610,624,701,757,742,721,663,620,753,644,669,675,606,603,614,612,661,null,30,20585,20386,20478,20465,20072,19683,19676,19587,19618,19556,19556,19552,19682,19708,19902,20392,20937,21330,21543,21650,21278,21030,21108,20858,20749,20781,20349,20318,20237,20294,20316,20525,null,"Females","50-54",null,{"$f":"SUM(C159:C163)","v":2876},2963,3130,3227,3373,3658,3833,3951,3959,3973,3798,3595,3446,3390,3357,3425,3585,3677,3778,3917,4077,4127,4185,4313,4420,4568,4580,4639,4555,4567,4567,4553,null,{"$f":"INDEX(CC46:CY46,'Population Pyramid'!$L$1)","v":4555}]
["male",31,722,694,694,789,767,756,760,777,719,700,688,709,742,672,662,604,630,628,721,780,732,734,682,648,746,644,663,678,613,619,618,605,null,31,21307,21080,21172,21254,20839,20439,20436,20364,20337,20256,20244,20261,20424,20380,20564,20996,21567,21958,22264,22430,22010,21764,21790,21506,21495,21425,21012,20996,20850,20913,20934,21130,null,"Females","55-59",null,{"$f":"SUM(C164:C168)","v":2642},2687,2728,2774,2747,2791,2870,2956,3035,3157,3430,3593,3662,3717,3749,3542,3435,3369,3278,3261,3323,3457,3528,3631,3666,3786,3874,3918,4063,4139,4316,4363,null,{"$f":"INDEX(CC47:CY47,'Population Pyramid'!$L$1)","v":4063}]
["male",32,722,720,719,714,798,776,781,791,770,713,691,709,736,724,694,692,658,654,643,749,786,723,718,681,661,718,629,684,668,654,605,638,null,32,22029,21800,21891,21968,21637,21215,21217,21155,21107,20969,20935,20970,21160,21104,21258,21688,22225,22612,22907,23179,22796,22487,22508,22187,22156,22143,21641,21680,21518,21567,21539,21768,null,"Females","60-64",null,{"$f":"SUM(C169:C173)","v":2564},2548,2540,2576,2553,2541,2598,2600,2612,2554,2575,2599,2704,2807,2952,3205,3380,3491,3596,3612,3406,3259,3132,3069,3031,3093,3180,3322,3421,3439,3501,3534,null,{"$f":"INDEX(CC48:CY48,'Population Pyramid'!$L$1)","v":3421}]
["male",33,695,728,740,734,723,809,795,776,781,767,723,729,710,749,761,720,710,674,661,645,749,785,729,702,682,663,711,640,685,664,661,629,null,33,{"$f":"AK48+C49","v":22724},{"$f":"AL48+D49","v":22528},{"$f":"AM48+E49","v":22631},{"$f":"AN48+F49","v":22702},{"$f":"AO48+G49","v":22360},{"$f":"AP48+H49","v":22024},{"$f":"AQ48+I49","v":22012},{"$f":"AR48+J49","v":21931},{"$f":"AS48+K49","v":21888},{"$f":"AT48+L49","v":21736},{"$f":"AU48+M49","v":21658},{"$f":"AV48+N49","v":21699},{"$f":"AW48+O49","v":21870},{"$f":"AX48+P49","v":21853},{"$f":"AY48+Q49","v":22019},{"$f":"AZ48+R49","v":22408},{"$f":"BA48+S49","v":22935},{"$f":"BB48+T49","v":23286},{"$f":"BC48+U49","v":23568},{"$f":"BD48+V49","v":23824},{"$f":"BE48+W49","v":23545},{"$f":"BF48+X49","v":23272},{"$f":"BG48+Y49","v":23237},{"$f":"BH48+Z49","v":22889},{"$f":"BI48+AA49","v":22838},{"$f":"BJ48+AB49","v":22806},{"$f":"BK48+AC49","v":22352},{"$f":"BL48+AD49","v":22320},{"$f":"BM48+AE49","v":22203},{"$f":"BN48+AF49","v":22231},{"$f":"BO48+AG49","v":22200},22397,null,"Females","65-69",null,{"$f":"SUM(C174:C178)","v":2576},2528,2510,2492,2459,2406,2416,2390,2434,2422,2371,2383,2389,2373,2321,2364,2449,2611,2702,2838,3094,3260,3360,3356,3321,3130,2978,2905,2884,2851,2903,2995,null,{"$f":"INDEX(CC49:CY49,'Population Pyramid'!$L$1)","v":2884}]
["male",34,666,713,748,754,742,731,831,794,777,813,793,747,746,727,795,811,757,725,699,672,649,734,775,725,703,680,652,713,657,703,675,683,null,34,23390,23241,23379,23456,23102,22755,22843,22725,22665,22549,22451,22446,22616,22580,22814,23219,23692,24011,24267,24496,24194,24006,24012,23614,23541,23486,23004,23033,22860,22934,22875,23080,null,"Females","70-74",null,{"$f":"SUM(C179:C183)","v":2443},2522,2577,2421,2332,2334,2325,2271,2241,2231,2201,2175,2199,2244,2190,2148,2188,2150,2163,2150,2245,2316,2475,2581,2721,2915,3051,3101,3103,3103,2976,2893,null,{"$f":"INDEX(CC50:CY50,'Population Pyramid'!$L$1)","v":3103}]
["male",35,659,680,731,754,750,739,739,834,821,792,819,806,724,758,746,814,850,784,739,713,689,647,731,788,729,693,692,648,709,676,735,669,null,35,24049,23921,24110,24210,23852,23494,23582,23559,23486,23341,23270,23252,23340,23338,23560,24033,24542,24795,25006,25209,24883,24653,24743,24402,24270,24179,23696,23681,23569,23610,23610,23749,null,"Females","75-79",null,{"$f":"SUM(C184:C188)","v":2095},1974,1837,1970,2052,2107,2192,2237,2122,2077,2063,2036,1994,1982,2016,2012,1997,2011,2024,1983,1971,2000,1961,1969,1971,2071,2135,2266,2395,2500,2683,2791,null,{"$f":"INDEX(CC51:CY51,'Population Pyramid'!$L$1)","v":2395}]
["male",36,613,666,691,727,751,736,737,781,847,829,822,844,801,753,768,790,853,865,799,757,708,705,650,731,786,727,667,679,660,698,676,717,null,36,24662,24587,24801,24937,24603,24230,24319,24340,24333,24170,24092,24096,24141,24091,24328,24823,25395,25660,25805,25966,25591,25358,25393,25133,25056,24906,24363,24360,24229,24308,24286,24466,null,"Females","80-84",null,{"$f":"SUM(C189:C193)","v":1761},1733,1765,1735,1729,1642,1562,1493,1528,1617,1716,1758,1778,1734,1654,1654,1678,1689,1696,1762,1760,1699,1703,1745,1723,1695,1740,1724,1772,1774,1820,1847,null,{"$f":"INDEX(CC52:CY52,'Population Pyramid'!$L$1)","v":1772}]
["male",37,643,623,685,698,729,748,738,755,820,846,848,840,868,811,777,798,830,853,905,822,772,711,697,651,755,796,727,678,664,676,762,713,null,37,25305,25210,25486,25635,25332,24978,25057,25095,25153,25016,24940,24936,25009,24902,25105,25621,26225,26513,26710,26788,26363,26069,26090,25784,25811,25702,25090,25038,24893,24984,25048,25179,null,"Females","85+",null,{"$f":"SUM(C194:C199)","v":1835},1876,1869,1935,1906,1865,1873,1844,1812,1803,1682,1640,1647,1749,1837,1907,1932,1948,1991,2021,2093,2108,2181,2164,2175,2183,2190,2211,2188,2172,2243,2344,null,{"$f":"INDEX(CC53:CY53,'Population Pyramid'!$L$1)","v":2188}]
["male",38,667,641,634,700,699,728,754,740,786,827,859,871,855,869,844,809,825,878,862,903,826,776,716,709,675,787,776,755,693,700,701,781,null,38,25972,25851,26120,26335,26031,25706,25811,25835,25939,25843,25799,25807,25864,25771,25949,26430,27050,27391,27572,27691,27189,26845,26806,26493,26486,26489,25866,25793,25586,25684,25749,25960]
["male",39,634,666,640,629,692,690,725,762,738,797,821,879,870,866,880,901,855,845,890,882,909,818,794,719,723,685,794,780,778,680,748,737,null,39,26606,26517,26760,26964,26723,26396,26536,26597,26677,26640,26620,26686,26734,26637,26829,27331,27905,28236,28462,28573,28098,27663,27600,27212,27209,27174,26660,26573,26364,26364,26497,26697]
["male",40,630,638,677,638,625,693,695,759,759,744,789,826,887,889,878,897,927,885,855,902,897,921,807,782,722,721,677,814,756,759,707,788,null,40,27236,27155,27437,27602,27348,27089,27231,27356,27436,27384,27409,27512,27621,27526,27707,28228,28832,29121,29317,29475,28995,28584,28407,27994,27931,27895,27337,27387,27120,27123,27204,27485]
["male",41,687,651,664,702,654,642,723,704,779,756,772,818,837,911,897,895,923,946,903,857,892,895,905,785,778,741,732,667,823,766,780,719,null,41,27923,27806,28101,28304,28002,27731,27954,28060,28215,28140,28181,28330,28458,28437,28604,29123,29755,30067,30220,30332,29887,29479,29312,28779,28709,28636,28069,28054,27943,27889,27984,28204]
["male",42,738,693,666,669,702,651,653,717,724,775,749,757,814,835,907,916,923,949,959,909,844,892,880,896,795,792,739,734,670,810,791,790,null,42,28661,28499,28767,28973,28704,28382,28607,28777,28939,28915,28930,29087,29272,29272,29511,30039,30678,31016,31179,31241,30731,30371,30192,29675,29504,29428,28808,28788,28613,28699,28775,28994]
["male",43,736,723,683,646,638,670,625,672,734,734,793,746,778,813,853,912,936,930,972,989,912,844,881,878,881,800,807,729,737,694,816,809,null,43,29397,29222,29450,29619,29342,29052,29232,29449,29673,29649,29723,29833,30050,30085,30364,30951,31614,31946,32151,32230,31643,31215,31073,30553,30385,30228,29615,29517,29350,29393,29591,29803]
["male",44,812,745,736,687,646,635,675,661,668,755,729,784,759,774,842,864,925,941,943,984,1002,922,850,869,902,885,794,814,729,754,701,821,null,44,30209,29967,30186,30306,29988,29687,29907,30110,30341,30404,30452,30617,30809,30859,31206,31815,32539,32887,33094,33214,32645,32137,31923,31422,31287,31113,30409,30331,30079,30147,30292,30624]
["male",45,957,813,747,733,672,633,618,681,667,660,744,720,785,765,776,842,877,931,940,934,965,1001,929,852,867,907,896,781,829,750,760,707,null,45,31166,30780,30933,31039,30660,30320,30525,30791,31008,31064,31196,31337,31594,31624,31982,32657,33416,33818,34034,34148,33610,33138,32852,32274,32154,32020,31305,31112,30908,30897,31052,31331]
["male",46,706,942,826,746,725,657,625,634,697,663,658,724,724,785,770,775,855,880,942,936,916,953,1002,933,858,862,904,883,787,816,751,763,null,46,31872,31722,31759,31785,31385,30977,31150,31425,31705,31727,31854,32061,32318,32409,32752,33432,34271,34698,34976,35084,34526,34091,33854,33207,33012,32882,32209,31995,31695,31713,31803,32094]
["male",47,666,691,926,813,733,710,643,632,642,693,652,659,712,722,786,773,781,861,882,935,934,936,935,996,927,858,860,881,861,789,820,768,null,47,32538,32413,32685,32598,32118,31687,31793,32057,32347,32420,32506,32720,33030,33131,33538,34205,35052,35559,35858,36019,35460,35027,34789,34203,33939,33740,33069,32876,32556,32502,32623,32862]
["male",48,685,672,704,932,825,747,727,662,635,633,691,648,660,711,720,780,777,796,861,888,932,926,941,933,989,923,839,842,891,850,795,845,null,48,33223,33085,33389,33530,32943,32434,32520,32719,32982,33053,33197,33368,33690,33842,34258,34985,35829,36355,36719,36907,36392,35953,35730,35136,34928,34663,33908,33718,33447,33352,33418,33707]
["male",49,701,680,676,711,925,829,756,715,666,638,612,687,645,650,707,728,796,764,794,881,911,933,923,932,939,966,897,854,836,884,843,785,null,49,33924,33765,34065,34241,33868,33263,33276,33434,33648,33691,33809,34055,34335,34492,34965,35713,36625,37119,37513,37788,37303,36886,36653,36068,35867,35629,34805,34572,34283,34236,34261,34492]
["male",50,608,690,681,680,711,921,843,760,721,676,637,604,674,641,650,711,727,792,769,794,874,900,923,907,929,934,946,899,853,842,882,843,null,50,34532,34455,34746,34921,34579,34184,34119,34194,34369,34367,34446,34659,35009,35133,35615,36424,37352,37911,38282,38582,38177,37786,37576,36975,36796,36563,35751,35471,35136,35078,35143,35335]
["male",51,546,606,685,673,677,709,918,816,765,717,656,627,609,670,650,659,711,729,786,767,780,860,885,915,898,925,924,945,896,855,839,888,null,51,35078,35061,35431,35594,35256,34893,35037,35010,35134,35084,35102,35286,35618,35803,36265,37083,38063,38640,39068,39349,38957,38646,38461,37890,37694,37488,36675,36416,36032,35933,35982,36223]
["male",52,547,532,586,664,647,661,696,896,819,771,703,639,623,622,669,661,655,719,729,763,753,763,850,884,892,880,900,909,940,859,853,814,null,52,35625,35593,36017,36258,35903,35554,35733,35906,35953,35855,35805,35925,36241,36425,36934,37744,38718,39359,39797,40112,39710,39409,39311,38774,38586,38368,37575,37325,36972,36792,36835,37037]
["male",53,596,548,534,582,661,640,669,723,903,833,767,694,634,613,623,677,657,646,714,714,758,747,772,839,872,865,872,895,905,906,843,846,null,53,36221,36141,36551,36840,36564,36194,36402,36629,36856,36688,36572,36619,36875,37038,37557,38421,39375,40005,40511,40826,40468,40156,40083,39613,39458,39233,38447,38220,37877,37698,37678,37883]
["male",54,591,594,556,538,575,654,639,662,711,868,817,752,690,625,595,624,675,664,636,705,727,756,750,751,825,856,847,866,874,900,888,842,null,54,36812,36735,37107,37378,37139,36848,37041,37291,37567,37556,37389,37371,37565,37663,38152,39045,40050,40669,41147,41531,41195,40912,40833,40364,40283,40089,39294,39086,38751,38598,38566,38725]
["male",55,531,591,591,562,540,568,649,647,656,705,878,805,739,683,606,599,631,681,662,633,684,717,729,738,739,820,830,845,873,851,888,872,null,55,37343,37326,37698,37940,37679,37416,37690,37938,38223,38261,38267,38176,38304,38346,38758,39644,40681,41350,41809,42164,41879,41629,41562,41102,41022,40909,40124,39931,39624,39449,39454,39597]
["male",56,547,524,586,585,553,530,558,627,635,644,703,851,781,724,665,604,596,625,675,653,640,659,708,729,717,745,798,822,824,871,847,865,null,56,37890,37850,38284,38525,38232,37946,38248,38565,38858,38905,38970,39027,39085,39070,39423,40248,41277,41975,42484,42817,42519,42288,42270,41831,41739,41654,40922,40753,40448,40320,40301,40462]
["male",57,501,546,526,582,583,554,531,563,625,626,638,682,842,778,714,658,582,597,622,671,651,638,656,701,716,731,741,781,801,801,874,840,null,57,38391,38396,38810,39107,38815,38500,38779,39128,39483,39531,39608,39709,39927,39848,40137,40906,41859,42572,43106,43488,43170,42926,42926,42532,42455,42385,41663,41534,41249,41121,41175,41302]
["male",58,503,498,546,531,582,578,558,513,548,609,604,618,674,840,768,707,651,574,582,630,671,644,620,649,703,707,717,720,780,789,790,879,null,58,38894,38894,39356,39638,39397,39078,39337,39641,40031,40140,40212,40327,40601,40688,40905,41613,42510,43146,43688,44118,43841,43570,43546,43181,43158,43092,42380,42254,42029,41910,41965,42181]
["male",59,529,498,492,538,534,583,575,564,521,537,604,592,613,670,825,752,707,653,574,572,618,663,640,606,636,695,710,705,713,763,767,778,null,59,39423,39392,39848,40176,39931,39661,39912,40205,40552,40677,40816,40919,41214,41358,41730,42365,43217,43799,44262,44690,44459,44233,44186,43787,43794,43787,43090,42959,42742,42673,42732,42959]
["male",60,504,519,500,485,529,538,579,567,550,516,538,597,576,615,660,817,737,705,644,559,571,610,636,621,598,613,695,699,700,691,753,757,null,60,39927,39911,40348,40661,40460,40199,40491,40772,41102,41193,41354,41516,41790,41973,42390,43182,43954,44504,44906,45249,45030,44843,44822,44408,44392,44400,43785,43658,43442,43364,43485,43716]
["male",61,469,493,510,492,483,521,539,565,547,543,500,516,588,573,612,647,817,732,703,635,545,564,598,619,616,593,598,664,691,686,663,742,null,61,40396,40404,40858,41153,40943,40720,41030,41337,41649,41736,41854,42032,42378,42546,43002,43829,44771,45236,45609,45884,45575,45407,45420,45027,45008,44993,44383,44322,44133,44050,44148,44458]
["male",62,491,459,489,500,484,473,513,505,548,527,534,483,506,589,577,599,643,811,709,679,627,531,547,587,593,610,587,598,664,684,674,654,null,62,40887,40863,41347,41653,41427,41193,41543,41842,42197,42263,42388,42515,42884,43135,43579,44428,45414,46047,46318,46563,46202,45938,45967,45614,45601,45603,44970,44920,44797,44734,44822,45112]
["male",63,465,475,458,479,489,476,472,505,493,529,515,510,481,503,577,567,588,631,819,696,673,622,513,530,585,580,606,578,598,634,688,674,null,63,41352,41338,41805,42132,41916,41669,42015,42347,42690,42792,42903,43025,43365,43638,44156,44995,46002,46678,47137,47259,46875,46560,46480,46144,46186,46183,45576,45498,45395,45368,45510,45786]
["male",64,453,461,481,457,479,487,480,465,490,483,508,503,494,466,494,562,572,577,617,803,698,665,618,501,514,562,580,595,566,571,620,670,null,64,41805,41799,42286,42589,42395,42156,42495,42812,43180,43275,43411,43528,43859,44104,44650,45557,46574,47255,47754,48062,47573,47225,47098,46645,46700,46745,46156,46093,45961,45939,46130,46456]
["male",65,444,442,457,472,449,466,476,448,447,478,452,491,498,478,447,486,559,568,576,599,786,689,663,609,510,509,545,562,584,555,560,605,null,65,{"$f":"AK80+C81","v":42249},{"$f":"AL80+D81","v":42241},{"$f":"AM80+E81","v":42743},{"$f":"AN80+F81","v":43061},{"$f":"AO80+G81","v":42844},{"$f":"AP80+H81","v":42622},{"$f":"AQ80+I81","v":42971},{"$f":"AR80+J81","v":43260},{"$f":"AS80+K81","v":43627},{"$f":"AT80+L81","v":43753},{"$f":"AU80+M81","v":43863},{"$f":"AV80+N81","v":44019},{"$f":"AW80+O81","v":44357},{"$f":"AX80+P81","v":44582},{"$f":"AY80+Q81","v":45097},{"$f":"AZ80+R81","v":46043},{"$f":"BA80+S81","v":47133},{"$f":"BB80+T81","v":47823},{"$f":"BC80+U81","v":48330},{"$f":"BD80+V81","v":48661},{"$f":"BE80+W81","v":48359},{"$f":"BF80+X81","v":47914},{"$f":"BG80+Y81","v":47761},{"$f":"BH80+Z81","v":47254},{"$f":"BI80+AA81","v":47210},{"$f":"BJ80+AB81","v":47254},{"$f":"BK80+AC81","v":46701},{"$f":"BL80+AD81","v":46655},{"$f":"BM80+AE81","v":46545},{"$f":"BN80+AF81","v":46494},{"$f":"BO80+AG81","v":46690},47061]
["male",66,408,430,434,442,456,439,454,451,433,436,465,429,470,487,468,424,479,566,565,579,594,771,672,638,596,518,504,529,551,563,552,542,null,66,42657,42671,43177,43503,43300,43061,43425,43711,44060,44189,44328,44448,44827,45069,45565,46467,47612,48389,48895,49240,48953,48685,48433,47892,47806,47772,47205,47184,47096,47057,47242,47603]
["male",67,418,395,416,419,426,443,424,433,433,421,423,444,414,455,473,460,424,477,561,567,568,582,758,665,633,586,510,493,513,541,557,541,null,67,43075,43066,43593,43922,43726,43504,43849,44144,44493,44610,44751,44892,45241,45524,46038,46927,48036,48866,49456,49807,49521,49267,49191,48557,48439,48358,47715,47677,47609,47598,47799,48144]
["male",68,394,409,387,409,409,414,440,424,414,428,395,398,427,399,456,471,448,413,478,553,549,544,576,746,647,609,572,507,478,499,544,547,null,68,43469,43475,43980,44331,44135,43918,44289,44568,44907,45038,45146,45290,45668,45923,46494,47398,48484,49279,49934,50360,50070,49811,49767,49303,49086,48967,48287,48184,48087,48097,48343,48691]
["male",69,378,372,401,375,395,393,401,415,404,399,417,386,381,419,390,460,460,433,405,466,536,536,523,555,731,624,602,564,490,466,493,551,null,69,43847,43847,44381,44706,44530,44311,44690,44983,45311,45437,45563,45676,46049,46342,46884,47858,48944,49712,50339,50826,50606,50347,50290,49858,49817,49591,48889,48748,48577,48563,48836,49242]
["male",70,368,364,358,384,352,373,382,393,403,400,388,411,372,372,407,381,448,448,411,398,458,528,527,509,532,725,614,586,554,484,471,481,null,70,44215,44211,44739,45090,44882,44684,45072,45376,45714,45837,45951,46087,46421,46714,47291,48239,49392,50160,50750,51224,51064,50875,50817,50367,50349,50316,49503,49334,49131,49047,49307,49723]
["male",71,396,355,355,342,363,332,355,366,381,384,395,367,406,351,353,394,379,435,447,401,392,446,515,512,510,523,700,578,566,544,478,469,null,71,44611,44566,45094,45432,45245,45016,45427,45742,46095,46221,46346,46454,46827,47065,47644,48633,49771,50595,51197,51625,51456,51321,51332,50879,50859,50839,50203,49912,49697,49591,49785,50192]
["male",72,416,381,337,341,329,350,318,325,360,368,373,379,357,389,340,349,383,366,424,430,388,389,432,496,495,496,511,679,565,554,540,473,null,72,45027,44947,45431,45773,45574,45366,45745,46067,46455,46589,46719,46833,47184,47454,47984,48982,50154,50961,51621,52055,51844,51710,51764,51375,51354,51335,50714,50591,50262,50145,50325,50665]
["male",73,277,401,363,320,324,321,342,301,314,349,354,362,365,354,374,331,336,377,355,420,418,385,383,427,482,491,478,497,654,548,541,539,null,73,45304,45348,45794,46093,45898,45687,46087,46368,46769,46938,47073,47195,47549,47808,48358,49313,50490,51338,51976,52475,52262,52095,52147,51802,51836,51826,51192,51088,50916,50693,50866,51204]
["male",74,234,268,369,349,305,307,305,326,284,295,327,358,344,348,344,371,320,325,363,340,410,403,377,369,424,467,475,474,485,641,539,534,null,74,45538,45616,46163,46442,46203,45994,46392,46694,47053,47233,47400,47553,47893,48156,48702,49684,50810,51663,52339,52815,52672,52498,52524,52171,52260,52293,51667,51562,51401,51334,51405,51738]
["male",75,268,221,251,349,330,285,291,292,319,263,279,315,346,339,336,334,367,319,314,354,335,396,394,367,352,407,440,457,466,479,624,509,null,75,45806,45837,46414,46791,46533,46279,46683,46986,47372,47496,47679,47868,48239,48495,49038,50018,51177,51982,52653,53169,53007,52894,52918,52538,52612,52700,52107,52019,51867,51813,52029,52247]
["male",76,280,244,205,237,330,314,267,278,283,294,248,261,304,334,330,322,322,354,310,301,345,329,387,379,355,337,385,428,439,442,472,605,null,76,46086,46081,46619,47028,46863,46593,46950,47264,47655,47790,47927,48129,48543,48829,49368,50340,51499,52336,52963,53470,53352,53223,53305,52917,52967,53037,52492,52447,52306,52255,52501,52852]
["male",77,236,259,228,191,227,311,298,250,267,268,285,234,258,294,316,326,310,313,339,306,292,334,313,373,375,343,317,372,421,437,431,456,null,77,46322,46340,46847,47219,47090,46904,47248,47514,47922,48058,48212,48363,48801,49123,49684,50666,51809,52649,53302,53776,53644,53557,53618,53290,53342,53380,52809,52819,52727,52692,52932,53308]
["male",78,258,219,242,207,182,216,291,289,236,253,258,269,232,256,279,310,315,292,299,336,289,278,309,298,359,364,333,323,351,403,425,414,null,78,46580,46559,47089,47426,47272,47120,47539,47803,48158,48311,48470,48632,49033,49379,49963,50976,52124,52941,53601,54112,53933,53835,53927,53588,53701,53744,53142,53142,53078,53095,53357,53722]
["male",79,222,237,212,237,199,171,206,289,267,226,232,247,250,226,242,277,304,301,286,290,325,278,275,292,289,346,347,327,310,340,404,417,null,79,46802,46796,47301,47663,47471,47291,47745,48092,48425,48537,48702,48879,49283,49605,50205,51253,52428,53242,53887,54402,54258,54113,54202,53880,53990,54090,53489,53469,53388,53435,53761,54139]
["male",80,182,206,230,198,213,188,158,182,266,252,214,216,224,241,210,239,261,288,290,273,276,300,258,260,280,279,320,330,313,300,333,395,null,80,46984,47002,47531,47861,47684,47479,47903,48274,48691,48789,48916,49095,49507,49846,50415,51492,52689,53530,54177,54675,54534,54413,54460,54140,54270,54369,53809,53799,53701,53735,54094,54534]
["male",81,214,164,189,218,173,189,175,144,177,239,241,195,200,202,223,196,219,249,274,286,263,267,285,242,241,271,268,306,316,298,282,312,null,81,47198,47166,47720,48079,47857,47668,48078,48418,48868,49028,49157,49290,49707,50048,50638,51688,52908,53779,54451,54961,54797,54680,54745,54382,54511,54640,54077,54105,54017,54033,54376,54846]
["male",82,164,182,143,177,194,151,167,152,126,162,226,225,179,190,183,204,189,216,231,258,270,246,254,267,240,238,253,246,289,302,280,270,null,82,47362,47348,47863,48256,48051,47819,48245,48570,48994,49190,49383,49515,49886,50238,50821,51892,53097,53995,54682,55219,55067,54926,54999,54649,54751,54878,54330,54351,54306,54335,54656,55116]
["male",83,147,159,162,133,164,175,144,139,135,118,150,213,206,163,181,163,193,174,202,211,241,250,232,235,251,222,220,236,233,278,299,269,null,83,47509,47507,48025,48389,48215,47994,48389,48709,49129,49308,49533,49728,50092,50401,51002,52055,53290,54169,54884,55430,55308,55176,55231,54884,55002,55100,54550,54587,54539,54613,54955,55385]
["male",84,146,128,136,147,106,142,154,115,121,124,108,137,195,186,155,163,147,179,163,194,198,213,224,211,219,235,211,212,223,211,264,284,null,84,47655,47635,48161,48536,48321,48136,48543,48824,49250,49432,49641,49865,50287,50587,51157,52218,53437,54348,55047,55624,55506,55389,55455,55095,55221,55335,54761,54799,54762,54824,55219,55669]
["male",85,558,617,601,639,663,628,664,649,626,122,101,101,129,174,164,145,151,133,169,148,189,181,198,203,202,204,222,207,198,212,185,250,null,85,48213,48252,48762,49175,48984,48764,49207,49473,49876,49554,49742,49966,50416,50761,51321,52363,53588,54481,55216,55772,55695,55570,55653,55298,55423,55539,54983,55006,54960,55036,55404,55919]
["male",86,null,null,null,null,null,null,null,null,null,92,112,84,90,118,149,150,132,131,123,157,135,175,164,180,181,176,182,202,181,186,198,171,null,86,48213,48252,48762,49175,48984,48764,49207,49473,49876,49646,49854,50050,50506,50879,51470,52513,53720,54612,55339,55929,55830,55745,55817,55478,55604,55715,55165,55208,55141,55222,55602,56090]
["male",87,null,null,null,null,null,null,null,null,null,83,75,106,73,80,105,124,138,119,118,110,141,118,162,154,155,163,155,147,183,164,168,177,null,87,48213,48252,48762,49175,48984,48764,49207,49473,49876,49729,49929,50156,50579,50959,51575,52637,53858,54731,55457,56039,55971,55863,55979,55632,55759,55878,55320,55355,55324,55386,55770,56267]
["male",88,null,null,null,null,null,null,null,null,null,70,72,63,99,62,65,96,100,123,110,101,99,121,98,139,135,134,134,124,129,163,155,146,null,88,48213,48252,48762,49175,48984,48764,49207,49473,49876,49799,50001,50219,50678,51021,51640,52733,53958,54854,55567,56140,56070,55984,56077,55771,55894,56012,55454,55479,55453,55549,55925,56413]
["male",89,null,null,null,null,null,null,null,null,null,55,63,62,57,87,56,59,87,85,102,98,91,87,107,86,119,110,113,115,118,114,135,127,null,89,48213,48252,48762,49175,48984,48764,49207,49473,49876,49854,50064,50281,50735,51108,51696,52792,54045,54939,55669,56238,56161,56071,56184,55857,56013,56122,55567,55594,55571,55663,56060,56540]
["male","90+",null,null,null,null,null,null,null,null,null,196,190,196,194,196,228,243,233,266,284,325,354,342,349,378,372,399,413,428,439,448,474,487,null,"90+",48213,48252,48762,49175,48984,48764,49207,49473,49876,50050,50254,50477,50929,51304,51924,53035,54278,55205,55953,56563,56515,56413,56533,56235,56385,56521,55980,56022,56010,56111,56534,57027]
[null,"All Males",{"$f":"SUM(C16:C106)","v":48213},{"$f":"SUM(D16:D106)","v":48252},48762,49175,48984,48764,49207,49473,49876,50050,50254,50477,50929,51304,51924,53035,54278,55205,55953,56563,56515,56413,56533,56235,56385,56521,55980,{"$f":"SUM(AD16:AD106)","v":56022},{"$f":"SUM(AE16:AE106)","v":56010},{"$f":"SUM(AF16:AF106)","v":56111},{"$f":"SUM(AG16:AG106)","v":56534},{"$f":"SUM(AH16:AH106)","v":57027},null,"Females"]
["Sex","Age"]
["female",0,645,611,615,635,646,650,656,610,594,571,533,567,583,573,632,631,660,667,669,715,657,592,624,562,552,572,583,571,561,534,551,527,null,0,{"$f":"C109","v":645},611,615,635,646,650,656,610,594,571,533,567,583,573,632,631,660,667,669,715,657,592,624,562,552,572,583,571,561,534,551,527]
["female",1,626,633,604,639,624,643,659,659,601,588,576,552,577,600,598,641,665,665,697,699,724,667,584,629,579,571,573,602,572,588,560,570,null,1,{"$f":"AK109+C110","v":1271},{"$f":"AL109+D110","v":1244},{"$f":"AM109+E110","v":1219},{"$f":"AN109+F110","v":1274},{"$f":"AO109+G110","v":1270},{"$f":"AP109+H110","v":1293},{"$f":"AQ109+I110","v":1315},{"$f":"AR109+J110","v":1269},{"$f":"AS109+K110","v":1195},{"$f":"AT109+L110","v":1159},{"$f":"AU109+M110","v":1109},{"$f":"AV109+N110","v":1119},{"$f":"AW109+O110","v":1160},{"$f":"AX109+P110","v":1173},{"$f":"AY109+Q110","v":1230},{"$f":"AZ109+R110","v":1272},{"$f":"BA109+S110","v":1325},{"$f":"BB109+T110","v":1332},{"$f":"BC109+U110","v":1366},{"$f":"BD109+V110","v":1414},{"$f":"BE109+W110","v":1381},{"$f":"BF109+X110","v":1259},{"$f":"BG109+Y110","v":1208},{"$f":"BH109+Z110","v":1191},{"$f":"BI109+AA110","v":1131},{"$f":"BJ109+AB110","v":1143},{"$f":"BK109+AC110","v":1156},{"$f":"BL109+AD110","v":1173},{"$f":"BM109+AE110","v":1133},{"$f":"BN109+AF110","v":1122},{"$f":"BO109+AG110","v":1111},1097]
["female",2,636,615,632,598,624,611,645,664,668,603,604,589,576,590,620,615,665,676,679,722,700,729,678,619,640,587,593,567,606,599,592,582,null,2,1907,1859,1851,1872,1894,1904,1960,1933,1863,1762,1713,1708,1736,1763,1850,1887,1990,2008,2045,2136,2081,1988,1886,1810,1771,1730,1749,1740,1739,1721,1703,1679]
["female",3,555,638,628,640,601,628,627,669,677,680,618,628,612,582,624,662,669,676,715,701,736,706,726,682,630,640,615,615,584,626,620,630,null,3,2462,2497,2479,2512,2495,2532,2587,2602,2540,2442,2331,2336,2348,2345,2474,2549,2659,2684,2760,2837,2817,2694,2612,2492,2401,2370,2364,2355,2323,2347,2323,2309]
["female",4,593,562,656,642,648,610,647,647,672,696,691,635,635,621,597,637,669,673,679,728,712,745,701,716,704,643,656,628,639,620,656,646,null,4,3055,3059,3135,3154,3143,3142,3234,3249,3212,3138,3022,2971,2983,2966,3071,3186,3328,3357,3439,3565,3529,3439,3313,3208,3105,3013,3020,2983,2962,2967,2979,2955]
["female",5,554,592,575,669,650,659,628,636,670,687,721,702,657,653,640,627,648,672,695,682,723,709,745,702,720,701,635,651,629,652,653,683,null,5,3609,3651,3710,3823,3793,3801,3862,3885,3882,3825,3743,3673,3640,3619,3711,3813,3976,4029,4134,4247,4252,4148,4058,3910,3825,3714,3655,3634,3591,3619,3632,3638]
["female",6,562,547,588,574,666,649,662,625,652,667,701,720,696,670,672,660,632,659,679,699,696,715,713,745,720,732,706,644,665,646,696,668,null,6,4171,4198,4298,4397,4459,4450,4524,4510,4534,4492,4444,4393,4336,4289,4383,4473,4608,4688,4813,4946,4948,4863,4771,4655,4545,4446,4361,4278,4256,4265,4328,4306]
["female",7,607,589,585,619,602,697,691,671,662,661,683,692,730,718,684,671,678,637,656,687,707,694,715,714,753,722,740,726,658,673,687,734,null,7,4778,4787,4883,5016,5061,5147,5215,5181,5196,5153,5127,5085,5066,5007,5067,5144,5286,5325,5469,5633,5655,5557,5486,5369,5298,5168,5101,5004,4914,4938,5015,5040]
["female",8,553,598,582,568,593,583,689,670,680,661,670,695,710,736,738,696,690,686,651,672,696,705,701,726,736,739,729,749,734,689,689,711,null,8,5331,5385,5465,5584,5654,5730,5904,5851,5876,5814,5797,5780,5776,5743,5805,5840,5976,6011,6120,6305,6351,6262,6187,6095,6034,5907,5830,5753,5648,5627,5704,5751]
["female",9,586,562,598,578,551,584,583,710,673,692,669,682,700,721,741,752,707,707,693,665,674,697,704,701,735,741,740,728,746,752,717,699,null,9,5917,5947,6063,6162,6205,6314,6487,6561,6549,6506,6466,6462,6476,6464,6546,6592,6683,6718,6813,6970,7025,6959,6891,6796,6769,6648,6570,6481,6394,6379,6421,6450]
["female",10,590,595,564,590,557,536,577,606,715,686,694,678,688,718,725,744,760,713,718,714,669,682,702,712,703,739,741,754,741,764,775,743,null,10,6507,6542,6627,6752,6762,6850,7064,7167,7264,7192,7160,7140,7164,7182,7271,7336,7443,7431,7531,7684,7694,7641,7593,7508,7472,7387,7311,7235,7135,7143,7196,7193]
["female",11,633,598,605,572,579,549,547,593,610,726,719,706,685,698,725,737,773,790,727,740,738,690,686,718,733,721,758,769,764,779,796,812,null,11,7140,7140,7232,7324,7341,7399,7611,7760,7874,7918,7879,7846,7849,7880,7996,8073,8216,8221,8258,8424,8432,8331,8279,8226,8205,8108,8069,8004,7899,7922,7992,8005]
["female",12,743,686,643,645,593,600,593,616,659,693,768,765,731,716,758,765,778,800,828,759,779,766,726,718,761,759,767,794,796,790,835,841,null,12,7883,7826,7875,7969,7934,7999,8204,8376,8533,8611,8647,8611,8580,8596,8754,8838,8994,9021,9086,9183,9211,9097,9005,8944,8966,8867,8836,8798,8695,8712,8827,8846]
["female",13,656,764,713,665,660,621,642,640,628,693,724,796,780,733,733,767,781,791,804,857,775,774,789,745,717,777,757,764,805,802,807,868,null,13,8539,8590,8588,8634,8594,8620,8846,9016,9161,9304,9371,9407,9360,9329,9487,9605,9775,9812,9890,10040,9986,9871,9794,9689,9683,9644,9593,9562,9500,9514,9634,9714]
["female",14,693,694,812,757,714,705,697,710,682,696,727,762,846,818,792,753,830,824,834,840,901,818,807,830,786,745,824,785,793,817,880,853,null,14,9232,9284,9400,9391,9308,9325,9543,9726,9843,10000,10098,10169,10206,10147,10279,10358,10605,10636,10724,10880,10887,10689,10601,10519,10469,10389,10417,10347,10293,10331,10514,10567]
["female",15,754,682,698,817,768,724,726,750,718,687,713,727,776,859,828,784,770,842,843,842,830,893,823,810,824,787,746,798,783,778,834,901,null,15,9986,9966,10098,10208,10076,10049,10269,10476,10561,10687,10811,10896,10982,11006,11107,11142,11375,11478,11567,11722,11717,11582,11424,11329,11293,11176,11163,11145,11076,11109,11348,11468]
["female",16,719,731,674,693,805,762,732,714,729,702,701,706,750,783,878,832,787,773,848,858,834,817,880,823,821,813,775,747,787,776,773,833,null,16,10705,10697,10772,10901,10881,10811,11001,11190,11290,11389,11512,11602,11732,11789,11985,11974,12162,12251,12415,12580,12551,12399,12304,12152,12114,11989,11938,11892,11863,11885,12121,12301]
["female",17,686,651,685,634,662,761,737,696,673,734,707,701,725,748,796,891,866,795,774,872,850,801,786,857,810,792,806,764,750,781,736,752,null,17,11391,11348,11457,11535,11543,11572,11738,11886,11963,12123,12219,12303,12457,12537,12781,12865,13028,13046,13189,13452,13401,13200,13090,13009,12924,12781,12744,12656,12613,12666,12857,13053]
["female",18,783,639,610,633,577,587,715,698,661,617,681,673,677,681,715,748,830,826,748,727,820,773,726,710,809,771,729,746,695,664,671,663,null,18,12174,11987,12067,12168,12120,12159,12453,12584,12624,12740,12900,12976,13134,13218,13496,13613,13858,13872,13937,14179,14221,13973,13816,13719,13733,13552,13473,13402,13308,13330,13528,13716]
["female",19,500,655,527,478,499,456,551,529,486,409,390,420,429,457,429,499,528,584,576,486,405,492,458,382,401,491,445,433,463,385,282,333,null,19,12674,12642,12594,12646,12619,12615,13004,13113,13110,13149,13290,13396,13563,13675,13925,14112,14386,14456,14513,14665,14626,14465,14274,14101,14134,14043,13918,13835,13771,13715,13810,14049]
["female",20,595,433,528,385,303,300,302,278,371,410,315,302,333,350,374,353,410,401,479,437,345,337,421,339,330,335,401,389,364,370,258,215,null,20,13269,13075,13122,13031,12922,12915,13306,13391,13481,13559,13605,13698,13896,14025,14299,14465,14796,14857,14992,15102,14971,14802,14695,14440,14464,14378,14319,14224,14135,14085,14068,14264]
["female",21,651,620,443,562,416,344,349,319,364,456,439,348,333,388,393,432,394,454,446,516,450,406,399,461,437,396,381,459,447,394,389,298,null,21,13920,13695,13565,13593,13338,13259,13655,13710,13845,14015,14044,14046,14229,14413,14692,14897,15190,15311,15438,15618,15421,15208,15094,14901,14901,14774,14700,14683,14582,14479,14457,14562]
["female",22,682,650,623,498,574,454,383,435,425,447,501,464,413,429,471,498,537,484,569,579,606,547,518,483,599,538,484,494,536,509,456,489,null,22,14602,14345,14188,14091,13912,13713,14038,14145,14270,14462,14545,14510,14642,14842,15163,15395,15727,15795,16007,16197,16027,15755,15612,15384,15500,15312,15184,15177,15118,14988,14913,15051]
["female",23,670,688,711,675,543,602,508,485,516,496,487,556,528,481,512,541,591,619,549,616,638,692,587,561,541,666,600,513,574,590,534,516,null,23,15272,15033,14899,14766,14455,14315,14546,14630,14786,14958,15032,15066,15170,15323,15675,15936,16318,16414,16556,16813,16665,16447,16199,15945,16041,15978,15784,15690,15692,15578,15447,15567]
["female",24,739,678,776,749,681,572,633,517,534,547,537,498,559,551,518,581,582,611,647,589,639,644,687,601,586,551,672,576,518,573,581,569,null,24,16011,15711,15675,15515,15136,14887,15179,15147,15320,15505,15569,15564,15729,15874,16193,16517,16900,17025,17203,17402,17304,17091,16886,16546,16627,16529,16456,16266,16210,16151,16028,16136]
["female",25,767,743,746,790,743,669,599,625,582,571,543,580,520,590,565,576,612,605,639,661,598,651,631,673,608,593,536,659,574,549,556,595,null,25,16778,16454,16421,16305,15879,15556,15778,15772,15902,16076,16112,16144,16249,16464,16758,17093,17512,17630,17842,18063,17902,17742,17517,17219,17235,17122,16992,16925,16784,16700,16584,16731]
["female",26,744,749,764,732,746,705,650,607,638,604,573,540,620,551,606,595,610,638,630,636,678,603,663,626,676,605,598,570,646,595,542,557,null,26,17522,17203,17185,17037,16625,16261,16428,16379,16540,16680,16685,16684,16869,17015,17364,17688,18122,18268,18472,18699,18580,18345,18180,17845,17911,17727,17590,17495,17430,17295,17126,17288]
["female",27,749,718,756,747,692,702,686,705,630,627,614,594,549,597,559,633,638,629,657,629,620,644,635,692,630,686,624,604,570,646,568,562,null,27,18271,17921,17941,17784,17317,16963,17114,17084,17170,17307,17299,17278,17418,17612,17923,18321,18760,18897,19129,19328,19200,18989,18815,18537,18541,18413,18214,18099,18000,17941,17694,17850]
["female",28,764,766,752,785,761,702,724,714,725,643,612,625,589,558,599,577,664,651,647,675,640,588,638,618,708,659,683,660,636,597,656,562,null,28,19035,18687,18693,18569,18078,17665,17838,17798,17895,17950,17911,17903,18007,18170,18522,18898,19424,19548,19776,20003,19840,19577,19453,19155,19249,19072,18897,18759,18636,18538,18350,18412]
["female",29,707,746,784,750,771,748,699,710,742,703,664,620,630,582,561,622,604,675,679,670,668,644,612,641,640,702,657,691,658,647,557,678,null,29,19742,19433,19477,19319,18849,18413,18537,18508,18637,18653,18575,18523,18637,18752,19083,19520,20028,20223,20455,20673,20508,20221,20065,19796,19889,19774,19554,19450,19294,19185,18907,19090]
["female",30,746,720,785,811,754,784,774,737,705,738,704,673,629,622,591,569,663,633,690,697,686,674,660,631,667,677,728,662,703,691,647,569,null,30,20488,20153,20262,20130,19603,19197,19311,19245,19342,19391,19279,19196,19266,19374,19674,20089,20691,20856,21145,21370,21194,20895,20725,20427,20556,20451,20282,20112,19997,19876,19554,19659]
["female",31,738,757,747,796,817,754,803,777,758,706,734,725,679,661,654,618,588,688,622,674,693,697,678,663,638,681,661,722,670,714,697,642,null,31,21226,20910,21009,20926,20420,19951,20114,20022,20100,20097,20013,19921,19945,20035,20328,20707,21279,21544,21767,22044,21887,21592,21403,21090,21194,21132,20943,20834,20667,20590,20251,20301]
["female",32,682,738,766,747,788,815,758,839,777,781,727,762,757,695,675,678,654,608,704,671,690,721,695,679,681,637,652,682,702,721,716,706,null,32,21908,21648,21775,21673,21208,20766,20872,20861,20877,20878,20740,20683,20702,20730,21003,21385,21933,22152,22471,22715,22577,22313,22098,21769,21875,21769,21595,21516,21369,21311,20967,21007]
["female",33,757,698,767,789,758,801,842,820,838,776,785,723,767,774,721,719,695,674,610,717,673,729,699,692,688,712,626,675,702,759,694,712,null,33,{"$f":"AK141+C142","v":22665},{"$f":"AL141+D142","v":22346},{"$f":"AM141+E142","v":22542},{"$f":"AN141+F142","v":22462},{"$f":"AO141+G142","v":21966},{"$f":"AP141+H142","v":21567},{"$f":"AQ141+I142","v":21714},{"$f":"AR141+J142","v":21681},{"$f":"AS141+K142","v":21715},{"$f":"AT141+L142","v":21654},{"$f":"AU141+M142","v":21525},{"$f":"AV141+N142","v":21406},{"$f":"AW141+O142","v":21469},{"$f":"AX141+P142","v":21504},{"$f":"AY141+Q142","v":21724},{"$f":"AZ141+R142","v":22104},{"$f":"BA141+S142","v":22628},{"$f":"BB141+T142","v":22826},{"$f":"BC141+U142","v":23081},{"$f":"BD141+V142","v":23432},{"$f":"BE141+W142","v":23250},{"$f":"BF141+X142","v":23042},{"$f":"BG141+Y142","v":22797},{"$f":"BH141+Z142","v":22461},{"$f":"BI141+AA142","v":22563},{"$f":"BJ141+AB142","v":22481},{"$f":"BK141+AC142","v":22221},{"$f":"BL141+AD142","v":22191},{"$f":"BM141+AE142","v":22071},{"$f":"BN141+AF142","v":22070},{"$f":"BO141+AG142","v":21661},21719]
["female",34,705,773,734,797,812,782,832,845,830,852,784,793,723,765,814,740,769,701,692,626,708,674,749,715,715,703,712,640,683,761,767,724,null,34,23370,23119,23276,23259,22778,22349,22546,22526,22545,22506,22309,22199,22192,22269,22538,22844,23397,23527,23773,24058,23958,23716,23546,23176,23278,23184,22933,22831,22754,22831,22428,22443]
["female",35,687,700,766,732,789,804,779,837,869,813,863,804,823,748,774,859,787,823,720,699,654,711,679,766,739,737,723,739,647,717,794,768,null,35,24057,23819,24042,23991,23567,23153,23325,23363,23414,23319,23172,23003,23015,23017,23312,23703,24184,24350,24493,24757,24612,24427,24225,23942,24017,23921,23656,23570,23401,23548,23222,23211]
["female",36,622,695,713,768,732,791,814,816,851,863,808,884,812,843,754,782,885,807,819,741,714,657,707,705,773,754,740,751,763,710,739,827,null,36,24679,24514,24755,24759,24299,23944,24139,24179,24265,24182,23980,23887,23827,23860,24066,24485,25069,25157,25312,25498,25326,25084,24932,24647,24790,24675,24396,24321,24164,24258,23961,24038]
["female",37,697,633,721,729,764,741,809,821,840,860,867,814,896,833,855,778,810,890,823,820,748,710,659,737,721,779,749,755,751,800,722,753,null,37,25376,25147,25476,25488,25063,24685,24948,25000,25105,25042,24847,24701,24723,24693,24921,25263,25879,26047,26135,26318,26074,25794,25591,25384,25511,25454,25145,25076,24915,25058,24683,24791]
["female",38,712,703,645,727,728,755,748,813,836,842,863,879,837,880,862,859,812,827,898,832,838,757,711,681,763,740,783,756,778,788,831,720,null,38,26088,25850,26121,26215,25791,25440,25696,25813,25941,25884,25710,25580,25560,25573,25783,26122,26691,26874,27033,27150,26912,26551,26302,26065,26274,26194,25928,25832,25693,25846,25514,25511]
["female",39,658,711,710,643,722,722,753,768,809,849,854,867,908,868,894,870,887,828,837,908,830,845,769,704,714,761,773,807,781,805,829,845,null,39,26746,26561,26831,26858,26513,26162,26449,26581,26750,26733,26564,26447,26468,26441,26677,26992,27578,27702,27870,28058,27742,27396,27071,26769,26988,26955,26701,26639,26474,26651,26343,26356]
["female",40,655,662,712,706,628,712,717,764,775,817,855,872,880,923,857,902,871,922,848,854,925,847,851,786,722,723,776,795,832,789,825,839,null,40,27401,27223,27543,27564,27141,26874,27166,27345,27525,27550,27419,27319,27348,27364,27534,27894,28449,28624,28718,28912,28667,28243,27922,27555,27710,27678,27477,27434,27306,27440,27168,27195]
["female",41,718,677,690,728,720,638,732,765,789,782,829,858,890,892,937,869,900,882,918,860,849,930,858,839,817,740,725,788,812,828,808,863,null,41,28119,27900,28233,28292,27861,27512,27898,28110,28314,28332,28248,28177,28238,28256,28471,28763,29349,29506,29636,29772,29516,29173,28780,28394,28527,28418,28202,28222,28118,28268,27976,28058]
["female",42,758,720,683,690,720,714,635,729,757,790,798,825,863,901,907,964,877,922,888,938,880,875,942,864,837,831,745,722,809,835,849,825,null,42,28877,28620,28916,28982,28581,28226,28533,28839,29071,29122,29046,29002,29101,29157,29378,29727,30226,30428,30524,30710,30396,30048,29722,29258,29364,29249,28947,28944,28927,29103,28825,28883]
["female",43,841,754,724,683,681,703,708,657,729,784,785,787,826,879,901,912,970,895,936,882,940,872,888,958,852,849,824,765,724,816,854,840,null,43,29718,29374,29640,29665,29262,28929,29241,29496,29800,29906,29831,29789,29927,30036,30279,30639,31196,31323,31460,31592,31336,30920,30610,30216,30216,30098,29771,29709,29651,29919,29679,29723]
["female",44,850,849,768,737,690,687,707,740,669,737,772,775,780,820,879,912,914,971,885,958,899,937,881,883,957,861,844,823,776,748,835,845,null,44,30568,30223,30408,30402,29952,29616,29948,30236,30469,30643,30603,30564,30707,30856,31158,31551,32110,32294,32345,32550,32235,31857,31491,31099,31173,30959,30615,30532,30427,30667,30514,30568]
["female",45,931,844,849,766,734,685,686,713,747,666,737,777,791,773,825,876,912,929,973,894,972,893,950,893,896,972,877,848,821,790,745,840,null,45,31499,31067,31257,31168,30686,30301,30634,30949,31216,31309,31340,31341,31498,31629,31983,32427,33022,33223,33318,33444,33207,32750,32441,31992,32069,31931,31492,31380,31248,31457,31259,31408]
["female",46,713,917,843,839,754,722,679,697,717,744,658,731,778,787,780,825,879,906,923,987,891,976,905,948,895,903,977,873,856,833,793,752,null,46,32212,31984,32100,32007,31440,31023,31313,31646,31933,32053,31998,32072,32276,32416,32763,33252,33901,34129,34241,34431,34098,33726,33346,32940,32964,32834,32469,32253,32104,32290,32052,32160]
["female",47,724,709,916,843,834,752,724,703,702,703,729,657,729,775,791,784,836,883,907,932,992,890,965,912,962,888,914,974,878,871,835,782,null,47,32936,32693,33016,32850,32274,31775,32037,32349,32635,32756,32727,32729,33005,33191,33554,34036,34737,35012,35148,35363,35090,34616,34311,33852,33926,33722,33383,33227,32982,33161,32887,32942]
["female",48,740,716,710,918,846,838,759,722,699,699,697,711,660,728,775,801,786,837,875,908,922,991,876,971,898,967,897,923,977,871,874,848,null,48,33676,33409,33726,33768,33120,32613,32796,33071,33334,33455,33424,33440,33665,33919,34329,34837,35523,35849,36023,36271,36012,35607,35187,34823,34824,34689,34280,34150,33959,34032,33761,33790]
["female",49,678,733,708,704,909,839,835,745,733,710,692,694,718,658,723,798,806,774,836,868,906,918,983,883,961,908,952,900,921,962,871,883,null,49,34354,34142,34434,34472,34029,33452,33631,33816,34067,34165,34116,34134,34383,34577,35052,35635,36329,36623,36859,37139,36918,36525,36170,35706,35785,35597,35232,35050,34880,34994,34632,34673]
["female",50,622,680,736,710,704,909,849,827,740,731,700,679,687,707,651,722,812,800,788,830,861,893,912,988,881,968,891,952,891,925,955,866,null,50,34976,34822,35170,35182,34733,34361,34480,34643,34807,34896,34816,34813,35070,35284,35703,36357,37141,37423,37647,37969,37779,37418,37082,36694,36666,36565,36123,36002,35771,35919,35587,35539]
["female",51,542,618,681,737,705,700,908,854,816,740,719,694,662,686,714,664,720,813,801,779,813,850,876,890,986,874,964,885,946,871,929,959,null,51,35518,35440,35851,35919,35438,35061,35388,35497,35623,35636,35535,35507,35732,35970,36417,37021,37861,38236,38448,38748,38592,38268,37958,37584,37652,37439,37087,36887,36717,36790,36516,36498]
["female",52,591,525,604,666,721,683,686,887,848,808,749,691,676,658,687,702,669,716,820,807,782,802,838,862,892,980,878,970,893,932,869,923,null,52,36109,35965,36455,36585,36159,35744,36074,36384,36471,36444,36284,36198,36408,36628,37104,37723,38530,38952,39268,39555,39374,39070,38796,38446,38544,38419,37965,37857,37610,37722,37385,37421]
["female",53,554,583,521,593,655,711,674,696,866,845,800,748,684,664,654,681,700,652,717,807,809,776,776,820,859,893,965,873,981,890,934,884,null,53,36663,36548,36976,37178,36814,36455,36748,37080,37337,37289,37084,36946,37092,37292,37758,38404,39230,39604,39985,40362,40183,39846,39572,39266,39403,39312,38930,38730,38591,38612,38319,38305]
["female",54,567,557,588,521,588,655,716,687,689,849,830,783,737,675,651,656,684,696,652,694,812,806,783,753,802,853,882,959,844,949,880,921,null,54,37230,37105,37564,37699,37402,37110,37464,37767,38026,38138,37914,37729,37829,37967,38409,39060,39914,40300,40637,41056,40995,40652,40355,40019,40205,40165,39812,39689,39435,39561,39199,39226]
["female",55,539,573,571,596,524,592,661,697,674,682,846,810,769,735,680,652,663,689,683,660,684,796,803,774,747,799,838,870,947,836,944,892,null,55,37769,37678,38135,38295,37926,37702,38125,38464,38700,38820,38760,38539,38598,38702,39089,39712,40577,40989,41320,41716,41679,41448,41158,40793,40952,40964,40650,40559,40382,40397,40143,40118]
["female",56,539,537,575,573,592,518,583,642,689,662,662,838,788,761,720,676,659,660,695,677,663,683,766,801,755,743,799,833,845,934,833,925,null,56,38308,38215,38710,38868,38518,38220,38708,39106,39389,39482,39422,39377,39386,39463,39809,40388,41236,41649,42015,42393,42342,42131,41924,41594,41707,41707,41449,41392,41227,41331,40976,41043]
["female",57,539,532,526,566,564,583,509,554,633,672,650,642,815,783,761,715,657,642,645,679,660,666,675,747,790,751,729,780,814,833,937,820,null,57,38847,38747,39236,39434,39082,38803,39217,39660,40022,40154,40072,40019,40201,40246,40570,41103,41893,42291,42660,43072,43002,42797,42599,42341,42497,42458,42178,42172,42041,42164,41913,41863]
["female",58,517,536,527,521,557,553,574,504,542,614,669,651,648,809,773,746,714,647,618,635,682,644,654,663,727,779,738,710,767,793,829,923,null,58,39364,39283,39763,39955,39639,39356,39791,40164,40564,40768,40741,40670,40849,41055,41343,41849,42607,42938,43278,43707,43684,43441,43253,43004,43224,43237,42916,42882,42808,42957,42742,42786]
["female",59,508,509,529,518,510,545,543,559,497,527,603,652,642,629,815,753,742,731,637,610,634,668,630,646,647,714,770,725,690,743,773,803,null,59,39872,39792,40292,40473,40149,39901,40334,40723,41061,41295,41344,41322,41491,41684,42158,42602,43349,43669,43915,44317,44318,44109,43883,43650,43871,43951,43686,43607,43498,43700,43515,43589]
["female",60,511,507,512,536,521,507,551,540,549,494,530,591,640,636,621,800,745,749,722,642,606,614,635,639,627,651,703,772,719,680,734,767,null,60,40383,40299,40804,41009,40670,40408,40885,41263,41610,41789,41874,41913,42131,42320,42779,43402,44094,44418,44637,44959,44924,44723,44518,44289,44498,44602,44389,44379,44217,44380,44249,44356]
["female",61,545,514,510,518,543,523,512,533,534,540,483,516,581,637,630,606,788,744,742,714,645,601,605,636,639,619,636,697,770,692,672,722,null,61,40928,40813,41314,41527,41213,40931,41397,41796,42144,42329,42357,42429,42712,42957,43409,44008,44882,45162,45379,45673,45569,45324,45123,44925,45137,45221,45025,45076,44987,45072,44921,45078]
["female",62,498,529,496,495,498,522,506,494,532,524,527,468,505,570,633,610,601,790,745,739,693,628,584,591,622,633,625,642,689,757,671,653,null,62,41426,41342,41810,42022,41711,41453,41903,42290,42676,42853,42884,42897,43217,43527,44042,44618,45483,45952,46124,46412,46262,45952,45707,45516,45759,45854,45650,45718,45676,45829,45592,45731]
["female",63,513,495,529,498,493,500,527,508,491,522,517,517,469,508,566,632,613,596,790,737,741,683,633,571,584,616,609,616,638,690,736,661,null,63,41939,41837,42339,42520,42204,41953,42430,42798,43167,43375,43401,43414,43686,44035,44608,45250,46096,46548,46914,47149,47003,46635,46340,46087,46343,46470,46259,46334,46314,46519,46328,46392]
["female",64,497,503,493,529,498,489,502,525,506,474,518,507,509,456,502,557,633,612,597,780,721,733,675,632,559,574,607,595,605,620,688,731,null,64,42436,42340,42832,43049,42702,42442,42932,43323,43673,43849,43919,43921,44195,44491,45110,45807,46729,47160,47511,47929,47724,47368,47015,46719,46902,47044,46866,46929,46919,47139,47016,47123]
["female",65,566,490,500,494,523,497,488,488,522,496,467,505,501,509,455,501,562,623,608,589,762,711,733,655,625,542,560,603,589,592,606,669,null,65,{"$f":"AK173+C174","v":43002},{"$f":"AL173+D174","v":42830},{"$f":"AM173+E174","v":43332},{"$f":"AN173+F174","v":43543},{"$f":"AO173+G174","v":43225},{"$f":"AP173+H174","v":42939},{"$f":"AQ173+I174","v":43420},{"$f":"AR173+J174","v":43811},{"$f":"AS173+K174","v":44195},{"$f":"AT173+L174","v":44345},{"$f":"AU173+M174","v":44386},{"$f":"AV173+N174","v":44426},{"$f":"AW173+O174","v":44696},{"$f":"AX173+P174","v":45000},{"$f":"AY173+Q174","v":45565},{"$f":"AZ173+R174","v":46308},{"$f":"BA173+S174","v":47291},{"$f":"BB173+T174","v":47783},{"$f":"BC173+U174","v":48119},{"$f":"BD173+V174","v":48518},{"$f":"BE173+W174","v":48486},{"$f":"BF173+X174","v":48079},{"$f":"BG173+Y174","v":47748},{"$f":"BH173+Z174","v":47374},{"$f":"BI173+AA174","v":47527},{"$f":"BJ173+AB174","v":47586},{"$f":"BK173+AC174","v":47426},{"$f":"BL173+AD174","v":47532},{"$f":"BM173+AE174","v":47508},{"$f":"BN173+AF174","v":47731},{"$f":"BO173+AG174","v":47622},47792]
["female",66,524,552,479,486,479,516,490,470,481,520,489,450,498,484,500,445,505,558,623,604,604,752,695,704,631,610,538,557,601,592,583,602,null,66,43526,43382,43811,44029,43704,43455,43910,44281,44676,44865,44875,44876,45194,45484,46065,46753,47796,48341,48742,49122,49090,48831,48443,48078,48158,48196,47964,48089,48109,48323,48205,48394]
["female",67,500,523,545,479,481,473,517,474,454,475,500,483,438,485,463,493,442,497,542,610,596,601,744,681,693,640,600,539,547,577,584,579,null,67,44026,43905,44356,44508,44185,43928,44427,44755,45130,45340,45375,45359,45632,45969,46528,47246,48238,48838,49284,49732,49686,49432,49187,48759,48851,48836,48564,48628,48656,48900,48789,48973]
["female",68,497,479,512,524,465,463,464,500,482,448,468,485,467,435,480,454,497,437,501,530,599,594,599,729,665,674,624,595,550,544,574,573,null,68,44523,44384,44868,45032,44650,44391,44891,45255,45612,45788,45843,45844,46099,46404,47008,47700,48735,49275,49785,50262,50285,50026,49786,49488,49516,49510,49188,49223,49206,49444,49363,49546]
["female",69,489,484,474,509,511,457,457,458,495,483,447,460,485,460,423,471,443,496,428,505,533,602,589,587,707,664,656,611,597,546,556,572,null,69,45012,44868,45342,45541,45161,44848,45348,45713,46107,46271,46290,46304,46584,46864,47431,48171,49178,49771,50213,50767,50818,50628,50375,50075,50223,50174,49844,49834,49803,49990,49919,50118]
["female",70,515,478,483,461,505,500,455,437,451,486,472,438,453,482,447,424,464,433,495,427,498,533,593,588,572,707,663,637,605,595,536,550,null,70,45527,45346,45825,46002,45666,45348,45803,46150,46558,46757,46762,46742,47037,47346,47878,48595,49642,50204,50708,51194,51316,51161,50968,50663,50795,50881,50507,50471,50408,50585,50455,50668]
["female",71,572,505,468,471,456,499,493,434,417,445,480,456,430,446,469,437,412,455,420,490,425,495,516,587,589,563,705,650,623,596,592,533,null,71,46099,45851,46293,46473,46122,45847,46296,46584,46975,47202,47242,47198,47467,47792,48347,49032,50054,50659,51128,51684,51741,51656,51484,51250,51384,51444,51212,51121,51031,51181,51047,51201]
["female",72,615,566,494,459,465,451,493,493,430,410,438,472,445,427,433,453,437,404,440,407,481,425,490,514,578,584,558,697,648,612,599,598,null,72,46714,46417,46787,46932,46587,46298,46789,47077,47405,47612,47680,47670,47912,48219,48780,49485,50491,51063,51568,52091,52222,52081,51974,51764,51962,52028,51770,51818,51679,51793,51646,51799]
["female",73,393,598,554,487,442,456,444,468,482,420,398,422,454,437,413,430,443,427,401,437,394,478,417,480,510,563,573,558,678,641,620,592,null,73,47107,47015,47341,47419,47029,46754,47233,47545,47887,48032,48078,48092,48366,48656,49193,49915,50934,51490,51969,52528,52616,52559,52391,52244,52472,52591,52343,52376,52357,52434,52266,52391]
["female",74,348,375,578,543,464,428,440,439,461,470,413,387,417,452,428,404,432,431,407,389,447,385,459,412,472,498,552,559,549,659,629,620,null,74,47455,47390,47919,47962,47493,47182,47673,47984,48348,48502,48491,48479,48783,49108,49621,50319,51366,51921,52376,52917,53063,52944,52850,52656,52944,53089,52895,52935,52906,53093,52895,53011]
["female",75,379,332,365,561,528,449,419,443,422,452,466,413,384,407,448,418,402,420,431,402,389,435,381,445,417,475,483,538,560,536,651,612,null,75,47834,47722,48284,48523,48021,47631,48092,48427,48770,48954,48957,48892,49167,49515,50069,50737,51768,52341,52807,53319,53452,53379,53231,53101,53361,53564,53378,53473,53466,53629,53546,53623]
["female",76,406,362,322,362,538,512,430,409,426,413,429,444,403,385,398,439,404,388,412,422,399,377,420,381,433,411,461,477,547,546,518,638,null,76,48240,48084,48606,48885,48559,48143,48522,48836,49196,49367,49386,49336,49570,49900,50467,51176,52172,52729,53219,53741,53851,53756,53651,53482,53794,53975,53839,53950,54013,54175,54064,54261]
["female",77,431,401,351,312,354,509,502,432,395,421,405,413,434,390,386,395,433,403,381,409,417,390,367,410,373,435,402,444,474,534,536,497,null,77,48671,48485,48957,49197,48913,48652,49024,49268,49591,49788,49791,49749,50004,50290,50853,51571,52605,53132,53600,54150,54268,54146,54018,53892,54167,54410,54241,54394,54487,54709,54600,54758]
["female",78,467,420,392,351,302,351,496,482,425,381,401,389,390,424,388,375,382,427,391,371,405,404,390,363,398,363,417,395,441,461,531,534,null,78,49138,48905,49349,49548,49215,49003,49520,49750,50016,50169,50192,50138,50394,50714,51241,51946,52987,53559,53991,54521,54673,54550,54408,54255,54565,54773,54658,54789,54928,55170,55131,55292]
["female",79,412,459,407,384,330,286,345,471,454,410,362,377,383,376,396,385,376,373,409,379,361,394,403,370,350,387,372,412,373,423,447,510,null,79,49550,49364,49756,49932,49545,49289,49865,50221,50470,50579,50554,50515,50777,51090,51637,52331,53363,53932,54400,54900,55034,54944,54811,54625,54915,55160,55030,55201,55301,55593,55578,55802]
["female",80,369,398,429,385,365,312,274,342,449,445,390,349,366,369,355,384,380,361,350,394,377,347,394,380,373,342,386,368,404,365,408,428,null,80,49919,49762,50185,50317,49910,49601,50139,50563,50919,51024,50944,50864,51143,51459,51992,52715,53743,54293,54750,55294,55411,55291,55205,55005,55288,55502,55416,55569,55705,55958,55986,56230]
["female",81,362,352,382,403,370,344,299,256,321,425,427,366,335,354,358,330,364,380,352,342,370,366,334,388,369,356,342,380,365,392,363,392,null,81,50281,50114,50567,50720,50280,49945,50438,50819,51240,51449,51371,51230,51478,51813,52350,53045,54107,54673,55102,55636,55781,55657,55539,55393,55657,55858,55758,55949,56070,56350,56349,56622]
["female",82,364,332,326,354,377,340,322,277,238,308,393,392,347,324,325,341,316,353,365,341,328,350,344,333,359,356,350,330,369,349,386,351,null,82,50645,50446,50893,51074,50657,50285,50760,51096,51478,51757,51764,51622,51825,52137,52675,53386,54423,55026,55467,55977,56109,56007,55883,55726,56016,56214,56108,56279,56439,56699,56735,56973]
["female",83,327,342,304,312,328,353,324,308,250,222,293,374,374,328,301,315,323,297,346,355,340,314,328,324,307,348,333,333,321,358,329,369,null,83,50972,50788,51197,51386,50985,50638,51084,51404,51728,51979,52057,51996,52199,52465,52976,53701,54746,55323,55813,56332,56449,56321,56211,56050,56323,56562,56441,56612,56760,57057,57064,57342]
["female",84,339,309,324,281,289,293,343,310,270,217,213,277,356,359,315,284,295,298,283,330,345,322,303,320,315,293,329,313,313,310,334,307,null,84,51311,51097,51521,51667,51274,50931,51427,51714,51998,52196,52270,52273,52555,52824,53291,53985,55041,55621,56096,56662,56794,56643,56514,56370,56638,56855,56770,56925,57073,57367,57398,57649]
["female",85,1835,1876,1869,1935,1906,1865,1873,1844,1812,248,202,199,259,324,331,306,262,269,274,262,317,313,315,287,299,305,280,307,298,304,306,315,null,85,53146,52973,53390,53602,53180,52796,53300,53558,53810,52444,52472,52472,52814,53148,53622,54291,55303,55890,56370,56924,57111,56956,56829,56657,56937,57160,57050,57232,57371,57671,57704,57964]
["female",86,null,null,null,null,null,null,null,null,null,254,216,183,176,233,299,306,286,243,258,259,236,291,305,298,262,279,289,256,283,282,291,285,null,86,53146,52973,53390,53602,53180,52796,53300,53558,53810,52698,52688,52655,52990,53381,53921,54597,55589,56133,56628,57183,57347,57247,57134,56955,57199,57439,57339,57488,57654,57953,57995,58249]
["female",87,null,null,null,null,null,null,null,null,null,221,212,200,168,159,222,268,289,257,230,238,237,214,265,272,264,250,246,273,247,262,274,287,null,87,53146,52973,53390,53602,53180,52796,53300,53558,53810,52919,52900,52855,53158,53540,54143,54865,55878,56390,56858,57421,57584,57461,57399,57227,57463,57689,57585,57761,57901,58215,58269,58536]
["female",88,null,null,null,null,null,null,null,null,null,185,190,183,181,158,142,197,234,262,250,220,217,203,193,238,244,235,233,222,242,226,242,256,null,88,53146,52973,53390,53602,53180,52796,53300,53558,53810,53104,53090,53038,53339,53698,54285,55062,56112,56652,57108,57641,57801,57664,57592,57465,57707,57924,57818,57983,58143,58441,58511,58792]
["female",89,null,null,null,null,null,null,null,null,null,178,158,179,155,161,132,137,180,207,229,218,211,197,185,178,218,208,208,204,180,224,210,209,null,89,53146,52973,53390,53602,53180,52796,53300,53558,53810,53282,53248,53217,53494,53859,54417,55199,56292,56859,57337,57859,58012,57861,57777,57643,57925,58132,58026,58187,58323,58665,58721,59001]
["female","90+",null,null,null,null,null,null,null,null,null,717,704,696,708,714,711,693,681,710,750,824,875,890,918,891,888,906,934,949,938,874,920,992,null,"90+",53146,52973,53390,53602,53180,52796,53300,53558,53810,53999,53952,53913,54202,54573,55128,55892,56973,57569,58087,58683,58887,58751,58695,58534,58813,59038,58960,59136,59261,59539,59641,59993]
[null,"All Females",{"$f":"SUM(C109:C199)","v":53146},{"$f":"SUM(D109:D199)","v":52973},53390,53602,53180,52796,53300,53558,53810,53999,53952,53913,54202,54573,55128,55892,56973,57569,58087,58683,58887,58751,58695,58534,58813,59038,58960,{"$f":"SUM(AD109:AD199)","v":59136},{"$f":"SUM(AE109:AE199)","v":59261},{"$f":"SUM(AF109:AF199)","v":59539},{"$f":"SUM(AG109:AG199)","v":59641},{"$f":"SUM(AH109:AH199)","v":59993}]

{"sheet":"Kent","index":23,"n_rows":200,"n_cols":106,"rows_kept":200,"cut":false,"hidden":true,"merged":[[0,68,21,68]]}
["Mid Year Population Estimates",null,null,null,null,null,null,null,null,null,null,null,null,null,null,null,null,null,null,null,null,null,null,null,null,null,null,null,null,null,null,null,null,null,null,null,null,null,null,null,null,null,null,null,null,null,null,null,null,null,null,null,null,null,null,null,null,null,null,null,null,null,null,null,null,null,null,null,"Insert column here before extending the table"]
["ONS Mid-Year Population Estimates 1991 to 2022 - (1992 to 2001 Revised 7th October 2004) ( 2002 to 2010 revised in light of the 2011 census. Released 30 April 2013)",null,null,null,null,null,null,null,null,null,null,null,null,null,null,null,null,null,null,null,null,null,null,null,null,null,null,null,null,null,null,null,null,null,null,"Selected Ages:",null,{"$f":"Index!C4&\" : \"&Index!C7","v":"0 : 90"},null,null,null,null,null,null,null,null,null,null,null,null,null,null,null,null,null,null,null,null,null,null,null,null,null,null,null,null,null,null,null,null,null,null,"Start year","End Year","Number change","% Change"]
["Revised ONS Mid-Year Population Estimates 2012 to 2020- Released 23 November 2023",null,null,null,null,null,null,null,null,null,null,null,null,null,null,null,null,null,null,null,null,null,null,null,null,null,null,null,null,null,null,null,null,null,null,null,{"$f":"AK13","v":1992},{"$f":"AL13","v":1993},{"$f":"AM13","v":1994},{"$f":"AN13","v":1995},{"$f":"AO13","v":1996},{"$f":"AP13","v":1997},1998,1999,2000,2001,2002,2003,2004,2005,2006,2007,2008,2009,2010,2011,2012,2013,2014,2015,2016,2017,{"$f":"BK13","v":2018},2019,2020,2021,2022,2023,null,null,null,null,{"$f":"INDEX($AR3:$BL3,Index!$B$16)","v":1999},{"$f":"INDEX($AR3:$BM3,Index!$B$19)","v":2019}]
["2022 MYPE released 23 November 2023",null,null,null,null,null,null,null,null,null,null,null,null,null,null,null,null,null,null,null,null,null,null,null,null,null,null,null,null,null,null,null,null,null,null,"Males",{"$f":"OFFSET(AK16,Index!$B$7-1,0)-IF(Index!$B$4-2=-1,0,OFFSET(AK16,Index!$B$4-2,0))","v":621486},{"$f":"OFFSET(AL16,Index!$B$7-1,0)-IF(Index!$B$4-2=-1,0,OFFSET(AL16,Index!$B$4-2,0))","v":621977},{"$f":"OFFSET(AM16,Index!$B$7-1,0)-IF(Index!$B$4-2=-1,0,OFFSET(AM16,Index!$B$4-2,0))","v":624437},{"$f":"OFFSET(AN16,Index!$B$7-1,0)-IF(Index!$B$4-2=-1,0,OFFSET(AN16,Index!$B$4-2,0))","v":626216},{"$f":"OFFSET(AO16,Index!$B$7-1,0)-IF(Index!$B$4-2=-1,0,OFFSET(AO16,Index!$B$4-2,0))","v":628505},{"$f":"OFFSET(AP16,Index!$B$7-1,0)-IF(Index!$B$4-2=-1,0,OFFSET(AP16,Index!$B$4-2,0))","v":631029},{"$f":"OFFSET(AQ16,Index!$B$7-1,0)-IF(Index!$B$4-2=-1,0,OFFSET(AQ16,Index!$B$4-2,0))","v":633169},{"$f":"OFFSET(AR16,Index!$B$7-1,0)-IF(Index!$B$4-2=-1,0,OFFSET(AR16,Index!$B$4-2,0))","v":637418},{"$f":"OFFSET(AS16,Index!$B$7-1,0)-IF(Index!$B$4-2=-1,0,OFFSET(AS16,Index!$B$4-2,0))","v":641412},{"$f":"OFFSET(AT16,Index!$B$7-1,0)-IF(Index!$B$4-2=-1,0,OFFSET(AT16,Index!$B$4-2,0))","v":644788},{"$f":"OFFSET(AU16,Index!$B$7-1,0)-IF(Index!$B$4-2=-1,0,OFFSET(AU16,Index!$B$4-2,0))","v":649093},{"$f":"OFFSET(AV16,Index!$B$7-1,0)-IF(Index!$B$4-2=-1,0,OFFSET(AV16,Index!$B$4-2,0))","v":654859},{"$f":"OFFSET(AW16,Index!$B$7-1,0)-IF(Index!$B$4-2=-1,0,OFFSET(AW16,Index!$B$4-2,0))","v":661130},{"$f":"OFFSET(AX16,Index!$B$7-1,0)-IF(Index!$B$4-2=-1,0,OFFSET(AX16,Index!$B$4-2,0))","v":667670},{"$f":"OFFSET(AY16,Index!$B$7-1,0)-IF(Index!$B$4-2=-1,0,OFFSET(AY16,Index!$B$4-2,0))","v":675641},{"$f":"OFFSET(AZ16,Index!$B$7-1,0)-IF(Index!$B$4-2=-1,0,OFFSET(AZ16,Index!$B$4-2,0))","v":685403},{"$f":"OFFSET(BA16,Index!$B$7-1,0)-IF(Index!$B$4-2=-1,0,OFFSET(BA16,Index!$B$4-2,0))","v":693657},{"$f":"OFFSET(BB16,Index!$B$7-1,0)-IF(Index!$B$4-2=-1,0,OFFSET(BB16,Index!$B$4-2,0))","v":700206},{"$f":"OFFSET(BC16,Index!$B$7-1,0)-IF(Index!$B$4-2=-1,0,OFFSET(BC16,Index!$B$4-2,0))","v":709214},{"$f":"OFFSET(BD16,Index!$B$7-1,0)-IF(Index!$B$4-2=-1,0,OFFSET(BD16,Index!$B$4-2,0))","v":717234},{"$f":"OFFSET(BE16,Index!$B$7-1,0)-IF(Index!$B$4-2=-1,0,OFFSET(BE16,Index!$B$4-2,0))","v":722841},{"$f":"OFFSET(BF16,Index!$B$7-1,0)-IF(Index!$B$4-2=-1,0,OFFSET(BF16,Index!$B$4-2,0))","v":728523},{"$f":"OFFSET(BG16,Index!$B$7-1,0)-IF(Index!$B$4-2=-1,0,OFFSET(BG16,Index!$B$4-2,0))","v":736324},{"$f":"OFFSET(BH16,Index!$B$7-1,0)-IF(Index!$B$4-2=-1,0,OFFSET(BH16,Index!$B$4-2,0))","v":741585},{"$f":"OFFSET(BI16,Index!$B$7-1,0)-IF(Index!$B$4-2=-1,0,OFFSET(BI16,Index!$B$4-2,0))","v":748456},{"$f":"OFFSET(BJ16,Index!$B$7-1,0)-IF(Index!$B$4-2=-1,0,OFFSET(BJ16,Index!$B$4-2,0))","v":754331},{"$f":"OFFSET(BK16,Index!$B$7-1,0)-IF(Index!$B$4-2=-1,0,OFFSET(BK16,Index!$B$4-2,0))","v":758599},{"$f":"OFFSET(BL16,Index!$B$7-1,0)-IF(Index!$B$4-2=-1,0,OFFSET(BL16,Index!$B$4-2,0))","v":762837},{"$f":"OFFSET(BM16,Index!$B$7-1,0)-IF(Index!$B$4-2=-1,0,OFFSET(BM16,Index!$B$4-2,0))","v":764745},{"$f":"OFFSET(BN16,Index!$B$7-1,0)-IF(Index!$B$4-2=-1,0,OFFSET(BN16,Index!$B$4-2,0))","v":769362},{"$f":"OFFSET(BO16,Index!$B$7-1,0)-IF(Index!$B$4-2=-1,0,OFFSET(BO16,Index!$B$4-2,0))","v":776865},{"$f":"OFFSET(BP16,Index!$B$7-1,0)-IF(Index!$B$4-2=-1,0,OFFSET(BP16,Index!$B$4-2,0))","v":784056},null,null,null,null,{"$f":"INDEX($AR4:$BL4,Index!$B$16)","v":637418},{"$f":"INDEX($AR4:$BM4,Index!$B$19)","v":762837},{"$f":"BV4-BU4","v":125419},{"$f":"BW4/BU4","v":0.196760995139767}]
[null,null,null,null,null,null,null,null,null,null,null,null,null,null,null,null,null,null,null,null,null,null,null,null,null,null,null,null,null,null,null,null,null,null,null,"Females",{"$f":"OFFSET(AK109,Index!$B$7-1,0)-IF(Index!$B$4-2=-1,0,OFFSET(AK109,Index!$B$4-2,0))","v":663749},{"$f":"OFFSET(AL109,Index!$B$7-1,0)-IF(Index!$B$4-2=-1,0,OFFSET(AL109,Index!$B$4-2,0))","v":663829},{"$f":"OFFSET(AM109,Index!$B$7-1,0)-IF(Index!$B$4-2=-1,0,OFFSET(AM109,Index!$B$4-2,0))","v":665662},{"$f":"OFFSET(AN109,Index!$B$7-1,0)-IF(Index!$B$4-2=-1,0,OFFSET(AN109,Index!$B$4-2,0))","v":667522},{"$f":"OFFSET(AO109,Index!$B$7-1,0)-IF(Index!$B$4-2=-1,0,OFFSET(AO109,Index!$B$4-2,0))","v":669158},{"$f":"OFFSET(AP109,Index!$B$7-1,0)-IF(Index!$B$4-2=-1,0,OFFSET(AP109,Index!$B$4-2,0))","v":672076},{"$f":"OFFSET(AQ109,Index!$B$7-1,0)-IF(Index!$B$4-2=-1,0,OFFSET(AQ109,Index!$B$4-2,0))","v":673554},{"$f":"OFFSET(AR109,Index!$B$7-1,0)-IF(Index!$B$4-2=-1,0,OFFSET(AR109,Index!$B$4-2,0))","v":679302},{"$f":"OFFSET(AS109,Index!$B$7-1,0)-IF(Index!$B$4-2=-1,0,OFFSET(AS109,Index!$B$4-2,0))","v":683267},{"$f":"OFFSET(AT109,Index!$B$7-1,0)-IF(Index!$B$4-2=-1,0,OFFSET(AT109,Index!$B$4-2,0))","v":686406},{"$f":"OFFSET(AU109,Index!$B$7-1,0)-IF(Index!$B$4-2=-1,0,OFFSET(AU109,Index!$B$4-2,0))","v":689875},{"$f":"OFFSET(AV109,Index!$B$7-1,0)-IF(Index!$B$4-2=-1,0,OFFSET(AV109,Index!$B$4-2,0))","v":694187},{"$f":"OFFSET(AW109,Index!$B$7-1,0)-IF(Index!$B$4-2=-1,0,OFFSET(AW109,Index!$B$4-2,0))","v":700254},{"$f":"OFFSET(AX109,Index!$B$7-1,0)-IF(Index!$B$4-2=-1,0,OFFSET(AX109,Index!$B$4-2,0))","v":707547},{"$f":"OFFSET(AY109,Index!$B$7-1,0)-IF(Index!$B$4-2=-1,0,OFFSET(AY109,Index!$B$4-2,0))","v":713993},{"$f":"OFFSET(AZ109,Index!$B$7-1,0)-IF(Index!$B$4-2=-1,0,OFFSET(AZ109,Index!$B$4-2,0))","v":722388},{"$f":"OFFSET(BA109,Index!$B$7-1,0)-IF(Index!$B$4-2=-1,0,OFFSET(BA109,Index!$B$4-2,0))","v":729651},{"$f":"OFFSET(BB109,Index!$B$7-1,0)-IF(Index!$B$4-2=-1,0,OFFSET(BB109,Index!$B$4-2,0))","v":735063},{"$f":"OFFSET(BC109,Index!$B$7-1,0)-IF(Index!$B$4-2=-1,0,OFFSET(BC109,Index!$B$4-2,0))","v":742691},{"$f":"OFFSET(BD109,Index!$B$7-1,0)-IF(Index!$B$4-2=-1,0,OFFSET(BD109,Index!$B$4-2,0))","v":749232},{"$f":"OFFSET(BE109,Index!$B$7-1,0)-IF(Index!$B$4-2=-1,0,OFFSET(BE109,Index!$B$4-2,0))","v":755421},{"$f":"OFFSET(BF109,Index!$B$7-1,0)-IF(Index!$B$4-2=-1,0,OFFSET(BF109,Index!$B$4-2,0))","v":761498},{"$f":"OFFSET(BG109,Index!$B$7-1,0)-IF(Index!$B$4-2=-1,0,OFFSET(BG109,Index!$B$4-2,0))","v":769863},{"$f":"OFFSET(BH109,Index!$B$7-1,0)-IF(Index!$B$4-2=-1,0,OFFSET(BH109,Index!$B$4-2,0))","v":775431},{"$f":"OFFSET(BI109,Index!$B$7-1,0)-IF(Index!$B$4-2=-1,0,OFFSET(BI109,Index!$B$4-2,0))","v":782566},{"$f":"OFFSET(BJ109,Index!$B$7-1,0)-IF(Index!$B$4-2=-1,0,OFFSET(BJ109,Index!$B$4-2,0))","v":788376},{"$f":"OFFSET(BK109,Index!$B$7-1,0)-IF(Index!$B$4-2=-1,0,OFFSET(BK109,Index!$B$4-2,0))","v":794254},{"$f":"OFFSET(BL109,Index!$B$7-1,0)-IF(Index!$B$4-2=-1,0,OFFSET(BL109,Index!$B$4-2,0))","v":800003},{"$f":"OFFSET(BM109,Index!$B$7-1,0)-IF(Index!$B$4-2=-1,0,OFFSET(BM109,Index!$B$4-2,0))","v":803226},{"$f":"OFFSET(BN109,Index!$B$7-1,0)-IF(Index!$B$4-2=-1,0,OFFSET(BN109,Index!$B$4-2,0))","v":809190},{"$f":"OFFSET(BO109,Index!$B$7-1,0)-IF(Index!$B$4-2=-1,0,OFFSET(BO109,Index!$B$4-2,0))","v":817602},{"$f":"OFFSET(BP109,Index!$B$7-1,0)-IF(Index!$B$4-2=-1,0,OFFSET(BP109,Index!$B$4-2,0))","v":826195},null,null,null,null,{"$f":"INDEX($AR5:$BL5,Index!$B$16)","v":679302},{"$f":"INDEX($AR5:$BM5,Index!$B$19)","v":800003},{"$f":"BV5-BU5","v":120701},{"$f":"BW5/BU5","v":0.17768385784231461}]
[null,null,null,null,null,null,null,null,null,null,null,null,null,null,null,null,null,null,null,null,null,null,null,null,null,null,null,null,null,null,null,null,null,null,null,"Total",{"$f":"SUM(AK4:AK5)","v":1285235},{"$f":"SUM(AL4:AL5)","v":1285806},{"$f":"SUM(AM4:AM5)","v":1290099},{"$f":"SUM(AN4:AN5)","v":1293738},{"$f":"SUM(AO4:AO5)","v":1297663},{"$f":"SUM(AP4:AP5)","v":1303105},1306723,1316720,1324679,1331194,1338968,1349046,1361384,1375217,1389634,1407791,1423308,1435269,1451905,1466466,1478262,1490021,1506187,1517016,1531022,1542707,1552853,1562840,1567971,1578552,1594467,1610251,null,null,null,null,{"$f":"INDEX($AR6:$BL6,Index!$B$16)","v":1316720},{"$f":"INDEX($AR6:$BM6,Index!$B$19)","v":1562840},{"$f":"BV6-BU6","v":246120},{"$f":"BW6/BU6","v":0.18691901087550883}]
[]
[null,null,null,null,null,null,null,null,null,null,null,null,null,null,null,null,null,null,null,null,null,null,null,null,null,null,null,null,null,null,null,null,null,null,null,"Males",{"$f":"IF(AK4<0,\"0\",AK4)","v":621486},{"$f":"IF(AL4<0,\"0\",AL4)","v":621977},624437,626216,628505,631029,633169,637418,641412,644788,649093,654859,661130,667670,675641,685403,693657,700206,709214,717234,722841,728523,736324,741585,748456,754331,{"$f":"IF(BK4<0,\"0\",BK4)","v":758599},762837,764745,{"$f":"IF(BN4<0,\"0\",BN4)","v":769362},776865,{"$f":"IF(BP4<0,\"0\",BP4)","v":784056}]
[null,null,null,null,null,null,null,null,null,null,null,null,null,null,null,null,null,null,null,null,null,null,null,null,null,null,null,null,null,null,null,null,null,null,null,"Females",{"$f":"IF(AK5<0,\"0\",AK5)","v":663749},663829,665662,667522,669158,672076,673554,679302,683267,686406,689875,694187,700254,707547,713993,722388,729651,735063,742691,749232,755421,761498,769863,775431,782566,788376,794254,800003,803226,{"$f":"IF(BN5<0,\"0\",BN5)","v":809190},817602,{"$f":"IF(BP5<0,\"0\",BP5)","v":826195}]
[null,null,null,null,null,null,null,null,null,null,null,null,null,null,null,null,null,null,null,null,null,null,null,null,null,null,null,null,null,null,null,null,null,null,null,"Total",{"$f":"SUM(AK8:AK9)","v":1285235},{"$f":"SUM(AL8:AL9)","v":1285806},1290099,1293738,1297663,1303105,1306723,1316720,1324679,1331194,1338968,1349046,1361384,1375217,1389634,1407791,1423308,1435269,1451905,1466466,1478262,1490021,1506187,1517016,1531022,1542707,{"$f":"SUM(BK8:BK9)","v":1552853},1562840,1567971,1578552,1594467,1610251]
[]
[null,null,null,"MYE for  . . . . . .",null,null,null,"Kent",null,null,null,null,null,null,null,null,null,null,null,null,null,null,null,null,null,null,null,null,null,null,null,null,null,null,null,null,null,null,null,null,"Cummulative Ages",null,null,null,null,null,null,null,null,null,null,null,null,null,null,null,null,null,null,null,null,null,null,null,null,null,null,null,null,"Population Pyramid"]
[null,null,"Base Year",null,null,null,null,null,null,null,null,null,null,null,null,null,null,null,null,null,null,null,null,null,null,null,null,null,null,null,null,null,null,null,null,null,{"$f":"C14","v":1992},1993,1994,1995,1996,1997,1998,1999,2000,2001,2002,2003,2004,2005,2006,2007,2008,2009,2010,2011,2012,2013,2014,2015,2016,2017,2018,2019,2020,2021,2022,2023]
["Sex","Age",1992,1993,1994,1995,1996,1997,1998,1999,2000,2001,2002,2003,2004,2005,2006,2007,2008,2009,2010,2011,2012,2013,2014,2015,2016,2017,2018,2019,2020,2021,2022,2023,null,null,null,null,null,null,null,null,null,null,null,null,null,null,null,null,null,null,null,null,null,null,null,null,null,null,null,null,null,null,null,null,null,null,null,null,null,null,1992,1993,1994,1995,1996,1997,1998,1999,2000,2001,2002,2003,2004,2005,2006,2007,2008,2009,2010,2011,2012,2013,2014,2015,2016,2017,2018,2019,2020,2021,2022,2023,null,{"$f":"INDEX(CC14:CY14,'Population Pyramid'!$L$1)","v":2020}]
[null,"All persons",{"$f":"C107+C200","v":1285235},1285806,1290099,1293738,1297663,1303105,1306723,1316720,1324679,1331194,1338968,1349046,1361384,1375217,1389634,1407791,1423308,1435269,1451905,1466466,1478262,1490021,1506187,1517016,1531022,{"$f":"AB107+AB200","v":1542707},1552853,{"$f":"AD107+AD200","v":1562840},{"$f":"AE107+AE200","v":1567971},{"$f":"AF107+AF200","v":1578552},{"$f":"AG107+AG200","v":1594467},{"$f":"AH107+AH200","v":1610251},null,"Males",null,null,null,null,null,null,null,null,null,null,null,null,null,null,null,null,null,null,null,null,null,null,null,null,null,null,null,null,null,null,null,null,null,"Males","All Ages",null,{"$f":"C107","v":621486},621977,624437,626216,628505,631029,633169,637418,641412,644788,649093,654859,661130,667670,675641,685403,693657,700206,709214,717234,722841,728523,736324,741585,748456,754331,758599,762837,764745,769362,776865,784056,null,{"$f":"INDEX(CC15:CY15,'Population Pyramid'!$L$1)","v":764745}]
["male",0,8690,8371,8263,8018,8067,8100,8003,8061,7710,7242,7589,7703,8008,7981,8357,8687,8682,8799,8900,9274,9287,8990,8674,8704,8841,8865,8917,8654,8424,8272,8516,8374,null,0,{"$f":"C16","v":8690},8371,8263,8018,8067,8100,8003,8061,7710,7242,7589,7703,8008,7981,8357,8687,8682,8799,8900,9274,9287,8990,8674,8704,8841,8865,8917,8654,8424,8272,8516,8374,null,"Males","0-4",null,{"$f":"SUM(C16:C20)","v":42986},42699,42624,42463,42074,41575,41054,41352,41065,39999,39791,39773,39753,39923,40785,42070,43169,43962,45035,45807,46282,46514,46481,46397,46081,45778,45565,45475,45070,44795,45179,45191,null,{"$f":"INDEX(CC16:CY16,'Population Pyramid'!$L$1)","v":45070}]
["male",1,8502,8680,8372,8455,8031,8136,8087,8175,8168,7754,7424,7718,7829,8107,8123,8538,8850,8787,8920,9006,9429,9443,9162,8844,8876,8990,8964,9081,8783,8768,8567,8847,null,1,{"$f":"AK16+C17","v":17192},{"$f":"AL16+D17","v":17051},{"$f":"AM16+E17","v":16635},{"$f":"AN16+F17","v":16473},{"$f":"AO16+G17","v":16098},{"$f":"AP16+H17","v":16236},{"$f":"AQ16+I17","v":16090},{"$f":"AR16+J17","v":16236},{"$f":"AS16+K17","v":15878},{"$f":"AT16+L17","v":14996},{"$f":"AU16+M17","v":15013},{"$f":"AV16+N17","v":15421},{"$f":"AW16+O17","v":15837},{"$f":"AX16+P17","v":16088},{"$f":"AY16+Q17","v":16480},{"$f":"AZ16+R17","v":17225},{"$f":"BA16+S17","v":17532},{"$f":"BB16+T17","v":17586},{"$f":"BC16+U17","v":17820},{"$f":"BD16+V17","v":18280},{"$f":"BE16+W17","v":18716},{"$f":"BF16+X17","v":18433},{"$f":"BG16+Y17","v":17836},{"$f":"BH16+Z17","v":17548},{"$f":"BI16+AA17","v":17717},{"$f":"BJ16+AB17","v":17855},{"$f":"BK16+AC17","v":17881},{"$f":"BL16+AD17","v":17735},{"$f":"BM16+AE17","v":17207},{"$f":"BN16+AF17","v":17040},{"$f":"BO16+AG17","v":17083},17221,null,"Males","5-9",null,{"$f":"SUM(C21:C25)","v":40776},41654,42415,42903,43457,44191,44187,44901,44760,44499,44308,44263,44373,44097,43499,43089,42641,42400,42614,43547,44698,45717,46588,47395,48222,48970,49467,49399,49091,48771,49169,49888,null,{"$f":"INDEX(CC17:CY17,'Population Pyramid'!$L$1)","v":49091}]
["male",2,8566,8565,8779,8487,8541,8139,8233,8360,8232,8274,7906,7651,7881,7935,8236,8285,8770,8942,9003,9087,9125,9474,9611,9318,9015,9071,9139,9149,9152,9015,9097,8873,null,2,25758,25616,25414,24960,24639,24375,24323,24596,24110,23270,22919,23072,23718,24023,24716,25510,26302,26528,26823,27367,27841,27907,27447,26866,26732,26926,27020,26884,26359,26055,26180,26094,null,"Males","10-14",null,{"$f":"SUM(C26:C30)","v":40902},41252,41040,41266,41470,42018,43163,44417,44857,45735,46533,47012,47431,47438,47457,47276,47266,47100,46936,46302,45385,44624,44574,44998,45953,47151,48043,48700,49561,50445,52093,53311,null,{"$f":"INDEX(CC18:CY18,'Population Pyramid'!$L$1)","v":49561}]
["male",3,8532,8577,8628,8837,8559,8593,8166,8392,8446,8252,8438,8097,7814,7940,8065,8376,8401,8932,9131,9177,9188,9277,9614,9745,9512,9185,9183,9255,9268,9327,9327,9442,null,3,34290,34193,34042,33797,33198,32968,32489,32988,32556,31522,31357,31169,31532,31963,32781,33886,34703,35460,35954,36544,37029,37184,37061,36611,36244,36111,36203,36139,35627,35382,35507,35536,null,"Males","15-19",null,{"$f":"SUM(C31:C35)","v":41244},39781,38986,38499,38876,39399,40464,40654,41078,41521,42402,43677,44742,45206,46180,47489,47784,48642,49069,49329,48363,48300,47620,46748,46055,45380,44960,44983,45309,46143,47123,48512,null,{"$f":"INDEX(CC19:CY19,'Population Pyramid'!$L$1)","v":45309}]
["male",4,8696,8506,8582,8666,8876,8607,8565,8364,8509,8477,8434,8604,8221,7960,8004,8184,8466,8502,9081,9263,9253,9330,9420,9786,9837,9667,9362,9336,9443,9413,9672,9655,null,4,42986,42699,42624,42463,42074,41575,41054,41352,41065,39999,39791,39773,39753,39923,40785,42070,43169,43962,45035,45807,46282,46514,46481,46397,46081,45778,45565,45475,45070,44795,45179,45191,null,"Males","20-24",null,{"$f":"SUM(C36:C40)","v":44389},43150,41407,39765,37399,35105,33214,32271,33077,35000,35216,35624,36111,36896,37923,39608,41050,41523,42680,44043,44728,45196,46667,45966,45555,44819,43540,42881,42303,41800,40684,39568,null,{"$f":"INDEX(CC20:CY20,'Population Pyramid'!$L$1)","v":42303}]
["male",5,8356,8701,8531,8623,8727,8935,8639,8815,8463,8592,8608,8586,8765,8306,8081,8162,8259,8522,8618,9180,9304,9329,9479,9533,9876,9946,9772,9405,9394,9553,9684,9984,null,5,51342,51400,51155,51086,50801,50510,49693,50167,49528,48591,48399,48359,48518,48229,48866,50232,51428,52484,53653,54987,55586,55843,55960,55930,55957,55724,55337,54880,54464,54348,54863,55175,null,"Males","25-29",null,{"$f":"SUM(C41:C45)","v":46205},45772,46447,46006,45791,45445,44477,41472,39331,36689,35434,34969,35204,36210,37344,38673,39784,39881,40470,41125,41723,42415,43339,43778,44610,45358,45276,45216,44416,43760,43063,42849,null,{"$f":"INDEX(CC21:CY21,'Population Pyramid'!$L$1)","v":44416}]
["male",6,8339,8381,8763,8626,8724,8841,9020,8868,8864,8558,8744,8709,8751,8828,8427,8207,8254,8369,8587,8724,9191,9360,9423,9543,9592,9945,10021,9825,9446,9427,9790,9911,null,6,59681,59781,59918,59712,59525,59351,58713,59035,58392,57149,57143,57068,57269,57057,57293,58439,59682,60853,62240,63711,64777,65203,65383,65473,65549,65669,65358,64705,63910,63775,64653,65086,null,"Males","30-34",null,{"$f":"SUM(C46:C50)","v":43669},44575,45642,46630,47502,48124,47936,47673,46720,45425,44331,43527,42493,41445,40300,39083,38517,38831,39686,40531,41402,42166,42415,43058,43742,44765,45795,46893,47098,47886,48523,48608,null,{"$f":"INDEX(CC22:CY22,'Population Pyramid'!$L$1)","v":47098}]
["male",7,8201,8333,8400,8807,8670,8772,8895,9180,8986,8907,8671,8899,8850,8873,8924,8548,8332,8322,8450,8675,8769,9239,9382,9512,9662,9693,10035,10161,9868,9503,9711,10033,null,7,67882,68114,68318,68519,68195,68123,67608,68215,67378,66056,65814,65967,66119,65930,66217,66987,68014,69175,70690,72386,73546,74442,74765,74985,75211,75362,75393,74866,73778,73278,74364,75119,null,"Males","35-39",null,{"$f":"SUM(C51:C55)","v":41146},41337,42145,42908,44193,44997,45913,47565,49205,50218,51102,51374,50989,50337,49639,49297,48425,47097,46127,44274,42716,41805,42090,43062,44606,45719,46668,46886,47060,47677,49048,50563,null,{"$f":"INDEX(CC23:CY23,'Population Pyramid'!$L$1)","v":47060}]
["male",8,7927,8283,8379,8449,8865,8743,8853,9105,9258,9085,9098,8833,9041,8946,9007,9050,8649,8439,8409,8496,8810,8875,9326,9457,9587,9728,9830,10092,10213,9978,9750,9994,null,8,75809,76397,76697,76968,77060,76866,76461,77320,76636,75141,74912,74800,75160,74876,75224,76037,76663,77614,79099,80882,82356,83317,84091,84442,84798,85090,85223,84958,83991,83256,84114,85113,null,"Males","40-44",null,{"$f":"SUM(C56:C60)","v":45247},42945,41981,41347,40854,41349,41958,43083,44484,46114,47389,48531,50058,51829,53256,54047,54571,54503,53662,53172,52327,51023,49778,48679,47133,45895,45268,45681,46392,47760,49071,50532,null,{"$f":"INDEX(CC24:CY24,'Population Pyramid'!$L$1)","v":46392}]
["male",9,7953,7956,8342,8398,8471,8900,8780,8933,9189,9357,9187,9236,8966,9144,9060,9122,9147,8748,8550,8472,8624,8914,8978,9350,9505,9658,9809,9916,10170,10310,10234,9966,null,9,83762,84353,85039,85366,85531,85766,85241,86253,85825,84498,84099,84036,84126,84020,84284,85159,85810,86362,87649,89354,90980,92231,93069,93792,94303,94748,95032,94874,94161,93566,94348,95079,null,"Males","45-49",null,{"$f":"SUM(C61:C65)","v":46121},48161,48685,48756,48187,44884,42656,42097,41716,41612,42165,43385,44477,45756,47412,48791,50234,51703,53577,54823,55348,55598,55647,54857,54441,53753,52746,51405,50321,48843,47779,47498,null,{"$f":"INDEX(CC25:CY25,'Population Pyramid'!$L$1)","v":50321}]
["male",10,7990,7945,8011,8431,8413,8479,8918,8958,9017,9273,9428,9342,9384,9064,9264,9183,9211,9232,8856,8657,8551,8728,9026,9105,9420,9596,9726,9922,10009,10274,10548,10467,null,10,91752,92298,93050,93797,93944,94245,94159,95211,94842,93771,93527,93378,93510,93084,93548,94342,95021,95594,96505,98011,99531,100959,102095,102897,103723,104344,104758,104796,104170,103840,104896,105546,null,"Males","50-54",null,{"$f":"SUM(C66:C70)","v":35700},36557,37803,39237,41603,45439,47495,48291,48362,47796,44827,42869,42189,41945,41984,43025,44129,45105,46248,47654,49277,50795,52254,54050,55412,55778,56037,55819,54779,54381,53862,52854,null,{"$f":"INDEX(CC26:CY26,'Population Pyramid'!$L$1)","v":54779}]
["male",11,8304,8009,7978,8078,8507,8445,8539,9027,9006,9086,9350,9515,9451,9491,9122,9377,9287,9319,9329,8936,8737,8616,8838,9145,9224,9548,9689,9829,10100,10135,10587,10862,null,11,100056,100307,101028,101875,102451,102690,102698,104238,103848,102857,102877,102893,102961,102575,102670,103719,104308,104913,105834,106947,108268,109575,110933,112042,112947,113892,114447,114625,114270,113975,115483,116408,null,"Males","55-59",null,{"$f":"SUM(C71:C75)","v":32837},33640,34479,34860,34640,35025,35818,37192,38719,40959,44659,46824,47685,47947,47531,44421,42562,42082,41976,42197,43143,43743,44880,45963,47326,49020,50546,51801,53364,54406,54835,55065,null,{"$f":"INDEX(CC27:CY27,'Population Pyramid'!$L$1)","v":53364}]
["male",12,8426,8390,8122,8078,8183,8623,8548,8753,9180,9134,9219,9513,9633,9531,9648,9254,9490,9448,9464,9414,8944,8796,8712,8949,9293,9370,9651,9805,9919,10172,10421,10847,null,12,108482,108697,109150,109953,110634,111313,111246,112991,113028,111991,112096,112406,112594,112106,112318,112973,113798,114361,115298,116361,117212,118371,119645,120991,122240,123262,124098,124430,124189,124147,125904,127255,null,"Males","60-64",null,{"$f":"SUM(C76:C80)","v":31429},31170,31225,31414,31524,31763,32569,33433,33818,33693,33962,34745,35903,37320,39744,43676,46016,46711,47124,46756,43586,42032,41467,41241,41364,42102,42812,43819,44697,46032,47592,48938,null,{"$f":"INDEX(CC28:CY28,'Population Pyramid'!$L$1)","v":44697}]
["male",13,8416,8405,8408,8140,8089,8220,8769,8710,8760,9233,9195,9293,9550,9713,9603,9775,9321,9595,9546,9607,9452,8976,8888,8815,9030,9457,9404,9644,9829,9947,10359,10589,null,13,116898,117102,117558,118093,118723,119533,120015,121701,121788,121224,121291,121699,122144,121819,121921,122748,123119,123956,124844,125968,126664,127347,128533,129806,131270,132719,133502,134074,134018,134094,136263,137844,null,"Males","65-69",null,{"$f":"SUM(C81:C85)","v":28655},28369,28438,28581,28823,29083,29061,29104,29514,29744,29976,30578,31200,31631,31456,31890,32838,34281,35814,38223,42312,44498,45286,45615,45250,42037,40335,39619,39259,39247,39999,40589,null,{"$f":"INDEX(CC29:CY29,'Population Pyramid'!$L$1)","v":39259}]
["male",14,7766,8503,8521,8539,8278,8251,8389,8969,8894,9009,9341,9349,9413,9639,9820,9687,9957,9506,9741,9688,9701,9508,9110,8984,8986,9180,9573,9500,9704,9917,10178,10546,null,14,124664,125605,126079,126632,127001,127784,128404,130670,130682,130233,130632,131048,131557,131458,131741,132435,133076,133462,134585,135656,136365,136855,137643,138790,140256,141899,143075,143574,143722,144011,146441,148390,null,"Males","70-74",null,{"$f":"SUM(C86:C90)","v":25226},26297,26678,25373,24694,24374,24256,24632,24985,25442,25848,25996,26037,26259,26498,26921,27645,28428,28900,28765,29388,30530,32059,33487,35547,39319,41299,41748,41857,41340,38482,36902,null,{"$f":"INDEX(CC30:CY30,'Population Pyramid'!$L$1)","v":41857}]
["male",15,7700,7734,8494,8511,8528,8277,8240,8513,9024,8953,8975,9353,9391,9466,9723,9944,9782,10115,9635,9866,9681,9716,9571,9166,9021,9111,9239,9602,9524,9751,10142,10391,null,15,132364,133339,134573,135143,135529,136061,136644,139183,139706,139186,139607,140401,140948,140924,141464,142379,142858,143577,144220,145522,146046,146571,147214,147956,149277,151010,152314,153176,153246,153762,156583,158781,null,"Males","75-79",null,{"$f":"SUM(C91:C95)","v":17957},16987,16457,17849,18720,19524,20394,20644,19930,19525,19497,19539,19908,20343,20986,21508,21794,21997,22316,22692,23178,23910,24706,25092,25146,25619,26641,27931,29014,30648,34048,35720,null,{"$f":"INDEX(CC31:CY31,'Population Pyramid'!$L$1)","v":29014}]
["male",16,8110,7646,7688,8476,8495,8526,8261,8233,8503,9098,8936,8963,9380,9452,9488,9804,9986,9837,10219,9730,9811,9667,9707,9590,9171,9018,9154,9265,9589,9548,9989,10372,null,16,140474,140985,142261,143619,144024,144587,144905,147416,148209,148284,148543,149364,150328,150376,150952,152183,152844,153414,154439,155252,155857,156238,156921,157546,158448,160028,161468,162441,162835,163310,166572,169153,null,"Males","80-84",null,{"$f":"SUM(C96:C100)","v":10975},11243,11432,11606,11777,11623,11138,10875,11841,12760,13374,13989,14161,13910,13781,14020,14288,14874,15402,16035,16446,16741,16955,17335,17634,18065,18557,19202,19532,19419,19881,20604,null,{"$f":"INDEX(CC32:CY32,'Population Pyramid'!$L$1)","v":19532}]
["male",17,8402,7944,7612,7616,8419,8436,8438,8124,8094,8546,9012,8910,8926,9352,9527,9524,9814,10025,9928,10339,9638,9722,9677,9679,9605,9106,8974,9104,9249,9618,9653,10081,null,17,148876,148929,149873,151235,152443,153023,153343,155540,156303,156830,157555,158274,159254,159728,160479,161707,162658,163439,164367,165591,165495,165960,166598,167225,168053,169134,170442,171545,172084,172928,176225,179234,null,"Males","85+",null,{"$f":"SUM(C101:C106)","v":6022},6388,6553,6753,6921,7111,7416,7762,7950,8057,8279,8184,8416,9178,9866,10519,10944,11086,11578,11959,12539,12916,13518,13864,14379,14803,15044,15379,15622,16009,16434,16864,null,{"$f":"INDEX(CC33:CY33,'Population Pyramid'!$L$1)","v":15622}]
["male",18,8743,8254,7783,7292,7280,8063,8140,8171,7842,7844,8329,8908,8833,8836,9298,9525,9490,9789,9990,9939,10161,9658,9620,9582,9543,9396,9070,8848,8950,9146,9481,9448,null,18,157619,157183,157656,158527,159723,161086,161483,163711,164145,164674,165884,167182,168087,168564,169777,171232,172148,173228,174357,175530,175656,175618,176218,176807,177596,178530,179512,180393,181034,182074,185706,188682]
["male",19,8289,8203,7409,6604,6154,6097,7385,7613,7615,7080,7150,7543,8212,8100,8144,8692,8712,8876,9297,9455,9072,9537,9045,8731,8715,8749,8523,8164,7997,8080,7858,8220,null,19,165908,165386,165065,165131,165877,167183,168868,171324,171760,171754,173034,174725,176299,176664,177921,179924,180860,182104,183654,184985,184728,185155,185263,185538,186311,187279,188035,188557,189031,190154,193564,196902,null,"Males","All Ages",null,{"$f":"C200","v":663749},663829,665662,667522,669158,672076,673554,679302,683267,686406,689875,694187,700254,707547,713993,722388,729651,735063,742691,749232,755421,761498,769863,775431,782566,788376,794254,800003,803226,809190,817602,826195,null,{"$f":"INDEX(CC35:CY35,'Population Pyramid'!$L$1)","v":803226}]
["male",20,8906,8080,7262,6642,5882,5511,5760,6974,7057,7356,6638,6734,7150,7800,7893,8064,8425,8352,8670,9033,9171,9150,9441,8638,8620,8498,8519,8358,8028,7894,7774,7490,null,20,174814,173466,172327,171773,171759,172694,174628,178298,178817,179110,179672,181459,183449,184464,185814,187988,189285,190456,192324,194018,193899,194305,194704,194176,194931,195777,196554,196915,197059,198048,201338,204392,null,"Females","0-4",null,{"$f":"SUM(C109:C113)","v":41017},40806,40875,40541,40070,39791,39360,39709,39137,38143,37776,37344,37520,37702,38388,39596,40730,41495,42781,43479,44033,43914,44085,43893,43704,43350,43236,42907,42401,42221,42498,42272,null,{"$f":"INDEX(CC36:CY36,'Population Pyramid'!$L$1)","v":42401}]
["male",21,8902,8810,7449,7116,6604,6037,5689,6010,7002,7237,7350,6675,6809,7140,7850,8006,8097,8319,8519,8838,9074,9229,9383,9334,8869,8812,8510,8677,8480,8136,7891,7863,null,21,183716,182276,179776,178889,178363,178731,180317,184308,185819,186347,187022,188134,190258,191604,193664,195994,197382,198775,200843,202856,202973,203534,204087,203510,203800,204589,205064,205592,205539,206184,209229,212255,null,"Females","5-9",null,{"$f":"SUM(C114:C118)","v":38780},39462,40174,40792,41389,41934,42017,42786,42698,42395,42394,42437,42192,41974,41624,40973,40518,40238,40388,40963,41934,43052,43889,44904,45798,46503,46473,46541,46348,46082,46809,47535,null,{"$f":"INDEX(CC37:CY37,'Population Pyramid'!$L$1)","v":46348}]
["male",22,8600,8757,8556,7745,7457,7084,6346,6003,6264,7084,7382,7450,6892,7080,7423,8143,8186,8124,8620,8821,8879,9092,9564,9259,9308,8992,8654,8616,8664,8548,8037,7908,null,22,192316,191033,188332,186634,185820,185815,186663,190311,192083,193431,194404,195584,197150,198684,201087,204137,205568,206899,209463,211677,211852,212626,213651,212769,213108,213581,213718,214208,214203,214732,217266,220163,null,"Females","10-14",null,{"$f":"SUM(C119:C123)","v":38963},39470,39475,39467,39479,39871,40632,41651,42480,43650,44452,44973,45208,45177,45001,45108,45295,45058,44904,44635,43605,42734,42434,42558,43034,43731,45158,46112,47128,48032,49558,50231,null,{"$f":"INDEX(CC38:CY38,'Population Pyramid'!$L$1)","v":47128}]
["male",23,9037,8622,9136,9089,8344,8018,7452,6309,6333,6680,7137,7544,7603,7107,7405,7751,8388,8308,8332,8824,8868,8951,9292,9617,9295,9364,8818,8650,8697,8706,8384,8078,null,23,201353,199655,197468,195723,194164,193833,194115,196620,198416,200111,201541,203128,204753,205791,208492,211888,213956,215207,217795,220501,220720,221577,222943,222386,222403,222945,222536,222858,222900,223438,225650,228241,null,"Females","15-19",null,{"$f":"SUM(C124:C128)","v":39261},37897,37252,36999,37515,38075,39144,39641,39682,39886,40372,41486,42891,44076,44906,45879,46498,46938,47025,46814,46452,46686,45969,45418,44904,44042,43241,42889,42900,43040,43390,45323,null,{"$f":"INDEX(CC39:CY39,'Population Pyramid'!$L$1)","v":42900}]
["male",24,8944,8881,9004,9173,9112,8455,7967,6975,6421,6643,6709,7221,7657,7769,7352,7644,7954,8420,8539,8527,8736,8774,8987,9118,9463,9153,9039,8580,8434,8516,8598,8229,null,24,210297,208536,206472,204896,203276,202288,202082,203595,204837,206754,208250,210349,212410,213560,215844,219532,221910,223627,226334,229028,229456,230351,231930,231504,231866,232098,231575,231438,231334,231954,234248,236470,null,"Females","20-24",null,{"$f":"SUM(C129:C133)","v":42919},41258,39496,38179,36098,34636,32963,32424,33299,34708,35046,35562,36136,37454,38594,39802,40926,41466,42655,43713,44762,45310,46790,45878,45546,44952,44381,43342,42429,41257,39143,37497,null,{"$f":"INDEX(CC40:CY40,'Population Pyramid'!$L$1)","v":42429}]
["male",25,9212,8749,9216,8924,9179,9096,8381,7498,6958,6687,6720,6812,7301,7811,7901,7621,7724,7888,8499,8680,8545,8718,8794,8917,9058,9313,8942,8933,8397,8287,8425,8557,null,25,219509,217285,215688,213820,212455,211384,210463,211093,211795,213441,214970,217161,219711,221371,223745,227153,229634,231515,234833,237708,238001,239069,240724,240421,240924,241411,240517,240371,239731,240241,242673,245027,null,"Females","25-29",null,{"$f":"SUM(C134:C138)","v":46342},45928,46410,46130,45751,45541,44216,42487,41090,38813,37096,36016,36369,37490,38330,39780,40845,41406,41958,42253,42548,42978,43991,44888,46135,47215,47677,47737,46649,46319,45762,45899,null,{"$f":"INDEX(CC41:CY41,'Population Pyramid'!$L$1)","v":46649}]
["male",26,9384,9211,9000,9185,8990,9140,9009,8019,7394,6873,6669,6724,6836,7365,7928,8044,7736,7741,7870,8486,8671,8467,8714,8718,8879,9014,9198,8861,8853,8371,8277,8440,null,26,228893,226496,224688,223005,221445,220524,219472,219112,219189,220314,221639,223885,226547,228736,231673,235197,237370,239256,242703,246194,246672,247536,249438,249139,249803,250425,249715,249232,248584,248612,250950,253467,null,"Females","30-34",null,{"$f":"SUM(C139:C143)","v":44665},45408,46538,47675,48653,48659,48566,49313,48715,47933,47386,46753,45448,44428,42992,41702,40781,40684,41485,42440,43622,44752,45469,46024,46601,47530,48579,50092,51216,52777,53718,54325,null,{"$f":"INDEX(CC42:CY42,'Population Pyramid'!$L$1)","v":51216}]
["male",27,9371,9344,9317,8991,9168,8986,9117,8654,7900,7238,6964,6825,6815,6929,7517,8093,8192,7756,7821,7902,8507,8678,8498,8764,8921,8939,9005,9205,8820,8825,8437,8349,null,27,238264,235840,234005,231996,230613,229510,228589,227766,227089,227552,228603,230710,233362,235665,239190,243290,245562,247012,250524,254096,255179,256214,257936,257903,258724,259364,258720,258437,257404,257437,259387,261816,null,"Females","35-39",null,{"$f":"SUM(C144:C148)","v":42047},42553,43191,43843,44726,46131,47112,48814,50620,51992,52497,52781,53027,52721,52431,51791,51128,49826,48369,46537,45162,44047,44333,45411,46975,48417,49972,50758,51039,52047,54009,55853,null,{"$f":"INDEX(CC43:CY43,'Population Pyramid'!$L$1)","v":51039}]
["male",28,9090,9219,9315,9258,8899,9017,8771,8681,8407,7610,7307,7119,6996,6937,6998,7711,8231,8167,7963,7999,7972,8531,8705,8581,8953,9015,8989,9058,9209,8954,8831,8573,null,28,247354,245059,243320,241254,239512,238527,237360,236447,235496,235162,235910,237829,240358,242602,246188,251001,253793,255179,258487,262095,263151,264745,266641,266484,267677,268379,267709,267495,266613,266391,268218,270389,null,"Females","40-44",null,{"$f":"SUM(C149:C153)","v":46003},43904,42858,42337,42401,42706,43210,44230,45259,46435,48086,49587,51121,52864,54388,55339,55557,55649,55321,54952,54045,53622,52565,51367,49917,48630,47523,47794,48874,50473,52343,54317,null,{"$f":"INDEX(CC44:CY44,'Population Pyramid'!$L$1)","v":48874}]
["male",29,9148,9249,9599,9648,9555,9206,9199,8620,8672,8281,7774,7489,7256,7168,7000,7204,7901,8329,8317,8058,8028,8021,8628,8798,8799,9077,9142,9159,9137,9323,9093,8930,null,29,256502,254308,252919,250902,249067,247733,246559,245067,244168,243443,243684,245318,247614,249770,253188,258205,261694,263508,266804,270153,271179,272766,275269,275282,276476,277456,276851,276654,275750,275714,277311,279319,null,"Females","45-49",null,{"$f":"SUM(C154:C158)","v":46645},48772,49611,49904,49279,46143,44079,43369,43180,43319,43610,44372,45272,46420,47580,49501,51042,52580,54061,55343,56331,56750,56996,56766,56544,56020,55531,54299,53004,51502,50425,49830,null,{"$f":"INDEX(CC45:CY45,'Population Pyramid'!$L$1)","v":53004}]
["male",30,8824,9165,9523,9607,9661,9542,9149,8861,8652,8588,8358,7903,7623,7404,7298,7124,7343,8077,8416,8420,8119,8119,8111,8741,8885,9001,9214,9310,9186,9325,9522,9308,null,30,265326,263473,262442,260509,258728,257275,255708,253928,252820,252031,252042,253221,255237,257174,260486,265329,269037,271585,275220,278573,279298,280885,283380,284023,285361,286457,286065,285964,284936,285039,286833,288627,null,"Females","50-54",null,{"$f":"SUM(C159:C163)","v":35532},36657,38098,39598,41972,46257,48467,49540,49843,49250,46467,44455,43654,43323,43513,43970,44835,45873,47081,48383,49920,51345,52971,54660,56118,56958,57429,57669,57211,57002,56568,56044,null,{"$f":"INDEX(CC46:CY46,'Population Pyramid'!$L$1)","v":57211}]
["male",31,8930,8848,9267,9499,9635,9674,9514,9253,8908,8599,8595,8492,8066,7729,7509,7394,7271,7420,8164,8440,8554,8224,8269,8314,8946,9042,9196,9441,9395,9395,9556,9719,null,31,274256,272321,271709,270008,268363,266949,265222,263181,261728,260630,260637,261713,263303,264903,267995,272723,276308,279005,283384,287013,287852,289109,291649,292337,294307,295499,295261,295405,294331,294434,296389,298346,null,"Females","55-59",null,{"$f":"SUM(C164:C168)","v":33501},33953,34573,35079,35095,35450,36552,37904,39475,41898,46108,48294,49221,49635,49255,46300,44464,43504,43139,43409,44103,44926,45992,47276,48576,49993,51470,53024,54552,55911,56861,57280,null,{"$f":"INDEX(CC47:CY47,'Population Pyramid'!$L$1)","v":54552}]
["male",32,8684,8991,8970,9362,9622,9725,9747,9675,9359,8950,8744,8817,8687,8250,7971,7745,7587,7480,7581,8270,8539,8639,8343,8438,8584,9114,9163,9375,9620,9621,9601,9758,null,32,282940,281312,280679,279370,277985,276674,274969,272856,271087,269580,269381,270530,271990,273153,275966,280468,283895,286485,290965,295283,296391,297748,299992,300775,302891,304613,304424,304780,303951,304055,305990,308104,null,"Females","60-64",null,{"$f":"SUM(C169:C173)","v":34288},33840,33424,33063,32906,33118,33560,34321,34952,35005,35147,36228,37625,39071,41464,45741,47891,48843,49496,49054,46001,44435,43526,43188,43175,43861,44663,45705,46734,47876,49317,50696,null,{"$f":"INDEX(CC48:CY48,'Population Pyramid'!$L$1)","v":46734}]
["male",33,8791,8719,9003,9053,9454,9714,9790,9891,9770,9414,9124,8954,9027,8878,8470,8179,7970,7765,7662,7692,8376,8676,8840,8556,8596,8788,9276,9335,9448,9848,9826,9859,null,33,{"$f":"AK48+C49","v":291731},{"$f":"AL48+D49","v":290031},{"$f":"AM48+E49","v":289682},{"$f":"AN48+F49","v":288423},{"$f":"AO48+G49","v":287439},{"$f":"AP48+H49","v":286388},{"$f":"AQ48+I49","v":284759},{"$f":"AR48+J49","v":282747},{"$f":"AS48+K49","v":280857},{"$f":"AT48+L49","v":278994},{"$f":"AU48+M49","v":278505},{"$f":"AV48+N49","v":279484},{"$f":"AW48+O49","v":281017},{"$f":"AX48+P49","v":282031},{"$f":"AY48+Q49","v":284436},{"$f":"AZ48+R49","v":288647},{"$f":"BA48+S49","v":291865},{"$f":"BB48+T49","v":294250},{"$f":"BC48+U49","v":298627},{"$f":"BD48+V49","v":302975},{"$f":"BE48+W49","v":304767},{"$f":"BF48+X49","v":306424},{"$f":"BG48+Y49","v":308832},{"$f":"BH48+Z49","v":309331},{"$f":"BI48+AA49","v":311487},{"$f":"BJ48+AB49","v":313401},{"$f":"BK48+AC49","v":313700},{"$f":"BL48+AD49","v":314115},{"$f":"BM48+AE49","v":313399},{"$f":"BN48+AF49","v":313903},{"$f":"BO48+AG49","v":315816},317963,null,"Females","65-69",null,{"$f":"SUM(C174:C178)","v":34478},33700,33354,33360,33134,32906,32769,32460,32249,32102,32374,32781,33405,33888,33644,33939,35208,36645,38052,40585,44982,47075,48186,48788,48366,45174,43471,42446,42103,42258,42888,43702,null,{"$f":"INDEX(CC49:CY49,'Population Pyramid'!$L$1)","v":42103}]
["male",34,8440,8852,8879,9109,9130,9469,9736,9993,10031,9874,9510,9361,9090,9184,9052,8641,8346,8089,7863,7709,7814,8508,8852,9009,8731,8820,8946,9432,9449,9697,10018,9964,null,34,300171,298883,298561,297532,296569,295857,294495,292740,290888,288868,288015,288845,290107,291215,293488,297288,300211,302339,306490,310684,312581,314932,317684,318340,320218,322221,322646,323547,322848,323600,325834,327927,null,"Females","70-74",null,{"$f":"SUM(C179:C183)","v":32469},34079,34855,33307,32253,31555,31021,30737,30699,30689,30572,30578,30391,30185,30006,30324,30800,31357,31803,31658,32190,33482,35086,36448,38769,42878,44887,45843,46356,45926,42929,41217,null,{"$f":"INDEX(CC50:CY50,'Population Pyramid'!$L$1)","v":46356}]
["male",35,8403,8545,8972,8944,9200,9217,9572,10003,10145,10077,10048,9758,9561,9254,9435,9324,8833,8486,8279,7979,7869,7977,8675,9064,9200,8897,8972,9136,9546,9640,9863,10174,null,35,308574,307428,307533,306476,305769,305074,304067,302743,301033,298945,298063,298603,299668,300469,302923,306612,309044,310825,314769,318663,320450,322909,326359,327404,329418,331118,331618,332683,332394,333240,335697,338101,null,"Females","75-79",null,{"$f":"SUM(C184:C188)","v":27130},25629,24639,25799,26982,28050,29413,30046,28989,28073,27518,27053,26885,27107,27292,27412,27388,27254,27077,27146,27477,28020,28595,28997,28927,29416,30548,32023,33240,35273,39194,40976,null,{"$f":"INDEX(CC51:CY51,'Population Pyramid'!$L$1)","v":33240}]
["male",36,8060,8387,8572,8930,8968,9175,9220,9693,10132,10220,10237,10248,9902,9764,9419,9703,9513,8927,8681,8367,8092,7967,8155,8899,9268,9351,9035,9111,9234,9765,9941,10127,null,36,316634,315815,316105,315406,314737,314249,313287,312436,311165,309165,308300,308851,309570,310233,312342,316315,318557,319752,323450,327030,328542,330876,334514,336303,338686,340469,340653,341794,341628,343005,345638,348228,null,"Females","80-84",null,{"$f":"SUM(C189:C193)","v":21092},21136,21225,21372,21253,20802,19650,18905,19705,20899,22038,23141,23469,22836,22193,21957,21852,21948,22384,22633,22844,22789,22792,22706,22906,23037,23373,23955,24410,24371,24723,25604,null,{"$f":"INDEX(CC52:CY52,'Population Pyramid'!$L$1)","v":24410}]
["male",37,8132,8000,8404,8562,8892,8936,9133,9416,9872,10254,10366,10358,10332,10081,9914,9683,9963,9606,9100,8811,8520,8180,8157,8302,9096,9465,9571,9167,9191,9412,9961,10197,null,37,324766,323815,324509,323968,323629,323185,322420,321852,321037,319419,318666,319209,319902,320314,322256,325998,328520,329358,332550,335841,337062,339056,342671,344605,347782,349934,350224,350961,350819,352417,355599,358425,null,"Females","85+",null,{"$f":"SUM(C194:C199)","v":18617},19377,19614,20077,20202,20451,20823,20965,21195,21216,20936,20346,20420,21196,22392,23274,23893,24299,24712,25235,25410,25581,26194,26261,26571,26669,26642,26867,26632,26823,27467,27594,null,{"$f":"INDEX(CC53:CY53,'Population Pyramid'!$L$1)","v":26632}]
["male",38,8325,8150,8043,8483,8685,8979,9025,9328,9626,9960,10389,10506,10543,10477,10262,10111,9829,10145,9786,9205,8921,8607,8316,8364,8492,9332,9599,9704,9314,9405,9624,10230,null,38,333091,331965,332552,332451,332314,332164,331445,331180,330663,329379,329055,329715,330445,330791,332518,336109,338349,339503,342336,345046,345983,347663,350987,352969,356274,359266,359823,360665,360133,361822,365223,368655]
["male",39,8226,8255,8154,7989,8448,8690,8963,9125,9430,9707,10062,10504,10651,10761,10609,10476,10287,9933,10281,9912,9314,9074,8787,8433,8550,8674,9491,9768,9775,9455,9659,9835,null,39,341317,340220,340706,340440,340762,340854,340408,340305,340093,339086,339117,340219,341096,341552,343127,346585,348636,349436,352617,354958,355297,356737,359774,361402,364824,367940,369314,370433,369908,371277,374882,378490]
["male",40,8072,8152,8236,8082,7998,8491,8744,9048,9246,9468,9856,10156,10562,10779,10894,10790,10635,10437,10075,10379,10015,9400,9198,8895,8567,8668,8748,9621,9809,9900,9715,9981,null,40,349389,348372,348942,348522,348760,349345,349152,349353,349339,348554,348973,350375,351658,352331,354021,357375,359271,359873,362692,365337,365312,366137,368972,370297,373391,376608,378062,380054,379717,381177,384597,388471]
["male",41,8636,8110,8250,8315,8148,8087,8576,8902,9184,9329,9585,9951,10263,10692,10855,10989,10903,10733,10549,10158,10427,10077,9523,9285,9077,8703,8839,8845,9655,9959,10084,9923,null,41,358025,356482,357192,356837,356908,357432,357728,358255,358523,357883,358558,360326,361921,363023,364876,368364,370174,370606,373241,375495,375739,376214,378495,379582,382468,385311,386901,388899,389372,391136,394681,398394]
["male",42,8769,8579,8101,8229,8326,8168,8113,8657,8995,9273,9398,9593,10031,10317,10761,10952,11079,10986,10779,10665,10210,10515,10149,9610,9426,9170,8846,8929,8975,9751,10127,10248,null,42,366794,365061,365293,365066,365234,365600,365841,366912,367518,367156,367956,369919,371952,373340,375637,379316,381253,381592,384020,386160,385949,386729,388644,389192,391894,394481,395747,397828,398347,400887,404808,408642]
["male",43,9369,8761,8603,8129,8236,8352,8167,8203,8811,9136,9367,9434,9735,10209,10422,10836,11094,11169,11069,10895,10743,10266,10592,10240,9756,9491,9262,8944,8953,9117,9897,10306,null,43,376163,373822,373896,373195,373470,373952,374008,375115,376329,376292,377323,379353,381687,383549,386059,390152,392347,392761,395089,397055,396692,396995,399236,399432,401650,403972,405009,406772,407300,410004,414705,418948]
["male",44,10401,9343,8791,8592,8146,8251,8358,8273,8248,8908,9183,9397,9467,9832,10324,10480,10860,11178,11190,11075,10932,10765,10316,10649,10307,9863,9573,9342,9000,9033,9248,10074,null,44,386564,383165,382687,381787,381616,382203,382366,383388,384577,385200,386506,388750,391154,393381,396383,400632,403207,403939,406279,408130,407624,407760,409552,410081,411957,413835,414582,416114,416300,419037,423953,429022]
["male",45,11656,10387,9322,8779,8579,8128,8202,8398,8304,8318,8883,9234,9469,9535,9955,10360,10539,10894,11263,11242,11099,10942,10825,10357,10741,10361,9943,9607,9399,9165,9175,9417,null,45,398220,393552,392009,390566,390195,390331,390568,391786,392881,393518,395389,397984,400623,402916,406338,410992,413746,414833,417542,419372,418723,418702,420377,420438,422698,424196,424525,425721,425699,428202,433128,438439]
["male",46,9014,11505,10316,9261,8741,8507,8052,8275,8474,8340,8287,8911,9225,9550,9592,9976,10436,10580,10962,11279,11291,11088,11013,10897,10399,10812,10404,9964,9616,9471,9276,9263,null,46,407234,405057,402325,399827,398936,398838,398620,400061,401355,401858,403676,406895,409848,412466,415930,420968,424182,425413,428504,430651,430014,429790,431390,431335,433097,435008,434929,435685,435315,437673,442404,447702]
["male",47,8572,9002,11423,10303,9246,8728,8468,8160,8274,8494,8323,8366,8976,9277,9580,9617,10022,10537,10670,10950,11270,11276,11143,11057,10978,10439,10888,10474,9923,9696,9527,9396,null,47,415806,414059,413748,410130,408182,407566,407088,408221,409629,410352,411999,415261,418824,421743,425510,430585,434204,435950,439174,441601,441284,441066,442533,442392,444075,445447,445817,446159,445238,447369,451931,457098]
["male",48,8701,8605,9021,11391,10299,9239,8716,8523,8176,8279,8429,8375,8410,8974,9294,9560,9647,10051,10618,10653,10998,11317,11332,11172,11121,11027,10487,10907,10501,10045,9756,9641,null,48,424507,422664,422769,421521,418481,416805,415804,416744,417805,418631,420428,423636,427234,430717,434804,440145,443851,446001,449792,452254,452282,452383,453865,453564,455196,456474,456304,457066,455739,457414,461687,466739]
["male",49,8178,8662,8603,9022,11322,10282,9218,8741,8488,8181,8243,8499,8397,8420,8991,9278,9590,9641,10064,10699,10690,10975,11334,11374,11202,11114,11024,10453,10882,10466,10045,9781,null,49,432685,431326,431372,430543,429803,427087,425022,425485,426293,426812,428671,432135,435631,439137,443795,449423,453441,455642,459856,462953,462972,463358,465199,464938,466398,467588,467328,467519,466621,467880,471732,476520]
["male",50,7505,8151,8653,8630,9049,11253,10255,9192,8768,8470,8174,8258,8534,8395,8448,9058,9315,9597,9684,10089,10686,10708,10980,11357,11369,11223,11100,11030,10460,10880,10463,10039,null,50,440190,439477,440025,439173,438852,438340,435277,434677,435061,435282,436845,440393,444165,447532,452243,458481,462756,465239,469540,473042,473658,474066,476179,476295,477767,478811,478428,478549,477081,478760,482195,486559]
["male",51,6589,7453,8107,8607,8617,9028,11149,10287,9201,8769,8459,8199,8255,8563,8447,8535,9126,9288,9631,9660,10093,10684,10782,11046,11390,11335,11192,11095,10989,10461,10923,10453,null,51,446779,446930,448132,447780,447469,447368,446426,444964,444262,444051,445304,448592,452420,456095,460690,467016,471882,474527,479171,482702,483751,484750,486961,487341,489157,490146,489620,489644,488070,489221,493118,497012]
["male",52,7136,6595,7388,8071,8581,8609,9005,11207,10255,9239,8709,8417,8195,8333,8553,8461,8567,9126,9252,9603,9648,10081,10711,10786,11065,11374,11296,11118,11070,10962,10462,10941,null,52,453915,453525,455520,455851,456050,455977,455431,456171,454517,453290,454013,457009,460615,464428,469243,475477,480449,483653,488423,492305,493399,494831,497672,498127,500222,501520,500916,500762,499140,500183,503580,507953]
["male",53,7292,7082,6569,7324,8035,8517,8600,9012,11150,10277,9231,8740,8457,8200,8345,8594,8485,8596,9087,9226,9628,9640,10116,10753,10853,11023,11392,11250,11080,10989,10957,10468,null,53,461207,460607,462089,463175,464085,464494,464031,465183,465667,463567,463244,465749,469072,472628,477588,484071,488934,492249,497510,501531,503027,504471,507788,508880,511075,512543,512308,512012,510220,511172,514537,518421]
["male",54,7178,7276,7086,6605,7321,8032,8486,8593,8988,11041,10254,9255,8748,8454,8191,8377,8636,8498,8594,9076,9222,9682,9665,10108,10735,10823,11057,11326,11180,11089,11057,10953,null,54,468385,467883,469175,469780,471406,472526,472517,473776,474655,474608,473498,475004,477820,481082,485779,492448,497570,500747,506104,510607,512249,514153,517453,518988,521810,523366,523365,523338,521400,522261,525594,529374]
["male",55,6881,7158,7244,7084,6597,7283,8005,8467,8580,8997,11072,10180,9248,8726,8448,8169,8399,8667,8505,8592,9078,9197,9662,9653,10073,10665,10762,11032,11304,11203,11034,10968,null,55,475266,475041,476419,476864,478003,479809,480522,482243,483235,483605,484570,485184,487068,489808,494227,500617,505969,509414,514609,519199,521327,523350,527115,528641,531883,534031,534127,534370,532704,533464,536628,540342]
["male",56,6763,6853,7110,7229,7062,6586,7237,7987,8425,8561,8959,11056,10113,9201,8690,8446,8093,8408,8627,8495,8595,8997,9200,9620,9605,10093,10622,10700,10935,11258,11201,10984,null,56,482029,481894,483529,484093,485065,486395,487759,490230,491660,492166,493529,496240,497181,499009,502917,509063,514062,517822,523236,527694,529922,532347,536315,538261,541488,544124,544749,545070,543639,544722,547829,551326]
["male",57,6720,6713,6815,7083,7168,7014,6549,7240,7973,8369,8487,8889,11063,10113,9176,8648,8395,8073,8419,8609,8467,8565,8979,9208,9602,9548,10083,10559,10651,10891,11244,11151,null,57,488749,488607,490344,491176,492233,493409,494308,497470,499633,500535,502016,505129,508244,509122,512093,517711,522457,525895,531655,536303,538389,540912,545294,547469,551090,553672,554832,555629,554290,555613,559073,562477]
["male",58,6281,6675,6691,6795,7040,7133,6952,6523,7212,7904,8323,8415,8857,11095,10086,9106,8587,8378,8048,8439,8562,8467,8572,8959,9149,9579,9529,10032,10489,10618,10839,11226,null,58,495030,495282,497035,497971,499273,500542,501260,503993,506845,508439,510339,513544,517101,520217,522179,526817,531044,534273,539703,544742,546951,549379,553866,556428,560239,563251,564361,565661,564779,566231,569912,573703]
["male",59,6192,6241,6619,6669,6773,7009,7075,6975,6529,7128,7818,8284,8404,8812,11131,10052,9088,8556,8377,8062,8441,8517,8467,8523,8897,9135,9550,9478,9985,10436,10517,10736,null,59,501222,501523,503654,504640,506046,507551,508335,510968,513374,515567,518157,521828,525505,529029,533310,536869,540132,542829,548080,552804,555392,557896,562333,564951,569136,572386,573911,575139,574764,576667,580429,584439]
["male",60,6579,6124,6211,6577,6646,6752,6960,7059,6929,6494,7094,7758,8227,8360,8792,11075,10036,9069,8552,8353,8045,8386,8491,8426,8480,8823,9080,9486,9410,9948,10366,10392,null,60,507801,507647,509865,511217,512692,514303,515295,518027,520303,522061,525251,529586,533732,537389,542102,547944,550168,551898,556632,561157,563437,566282,570824,573377,577616,581209,582991,584625,584174,586615,590795,594831]
["male",61,6522,6522,6084,6171,6545,6615,6729,6902,7016,6882,6435,7022,7714,8216,8293,8733,11087,10001,9043,8507,8305,8012,8298,8454,8408,8435,8782,9016,9424,9328,9863,10296,null,61,514323,514169,515949,517388,519237,520918,522024,524929,527319,528943,531686,536608,541446,545605,550395,556677,561255,561899,565675,569664,571742,574294,579122,581831,586024,589644,591773,593641,593598,595943,600658,605127]
["male",62,6252,6436,6476,6028,6109,6472,6520,6678,6856,6949,6847,6406,6979,7658,8217,8239,8648,11022,9956,9003,8480,8273,8007,8253,8389,8389,8387,8753,8910,9388,9262,9795,null,62,520575,520605,522425,523416,525346,527390,528544,531607,534175,535892,538533,543014,548425,553263,558612,564916,569903,572921,575631,578667,580222,582567,587129,590084,594413,598033,600160,602394,602508,605331,609920,614922]
["male",63,6040,6133,6338,6365,5943,6022,6374,6461,6620,6791,6876,6744,6312,6903,7603,8122,8152,8568,11052,9866,8977,8425,8236,7942,8207,8293,8321,8328,8697,8814,9337,9191,null,63,526615,526738,528763,529781,531289,533412,534918,538068,540795,542683,545409,549758,554737,560166,566215,573038,578055,581489,586683,588533,589199,590992,595365,598026,602620,606326,608481,610722,611205,614145,619257,624113]
["male",64,6036,5955,6116,6273,6281,5902,5986,6333,6397,6577,6710,6815,6671,6183,6839,7507,8093,8051,8521,11027,9779,8936,8435,8166,7880,8162,8242,8236,8256,8554,8764,9264,null,64,532651,532693,534879,536054,537570,539314,540904,544401,547192,549260,552119,556573,561408,566349,573054,580545,586148,589540,595204,599560,598978,599928,603800,606192,610500,614488,616723,618958,619461,622699,628021,633377]
["male",65,5954,5911,5939,6041,6181,6194,5826,5895,6289,6362,6458,6595,6695,6602,6095,6807,7434,8051,8017,8419,10946,9746,8907,8404,8117,7821,8084,8132,8150,8147,8479,8671,null,65,{"$f":"AK80+C81","v":538605},{"$f":"AL80+D81","v":538604},{"$f":"AM80+E81","v":540818},{"$f":"AN80+F81","v":542095},{"$f":"AO80+G81","v":543751},{"$f":"AP80+H81","v":545508},{"$f":"AQ80+I81","v":546730},{"$f":"AR80+J81","v":550296},{"$f":"AS80+K81","v":553481},{"$f":"AT80+L81","v":555622},{"$f":"AU80+M81","v":558577},{"$f":"AV80+N81","v":563168},{"$f":"AW80+O81","v":568103},{"$f":"AX80+P81","v":572951},{"$f":"AY80+Q81","v":579149},{"$f":"AZ80+R81","v":587352},{"$f":"BA80+S81","v":593582},{"$f":"BB80+T81","v":597591},{"$f":"BC80+U81","v":603221},{"$f":"BD80+V81","v":607979},{"$f":"BE80+W81","v":609924},{"$f":"BF80+X81","v":609674},{"$f":"BG80+Y81","v":612707},{"$f":"BH80+Z81","v":614596},{"$f":"BI80+AA81","v":618617},{"$f":"BJ80+AB81","v":622309},{"$f":"BK80+AC81","v":624807},{"$f":"BL80+AD81","v":627090},{"$f":"BM80+AE81","v":627611},{"$f":"BN80+AF81","v":630846},{"$f":"BO80+AG81","v":636500},642048]
["male",66,5911,5848,5784,5841,5952,6080,6102,5762,5848,6191,6281,6335,6463,6610,6514,6035,6746,7386,8019,7973,8372,10881,9697,8827,8334,8022,7758,7987,8050,8047,8086,8369,null,66,544516,544452,546602,547936,549703,551588,552832,556058,559329,561813,564858,569503,574566,579561,585663,593387,600328,604977,611240,615952,618296,620555,622404,623423,626951,630331,632565,635077,635661,638893,644586,650417]
["male",67,5693,5780,5702,5657,5711,5835,5942,5979,5703,5773,6070,6166,6222,6365,6537,6424,5979,6709,7336,7969,7899,8289,10767,9615,8717,8242,7929,7634,7862,7935,8014,7996,null,67,550209,550232,552304,553593,555414,557423,558774,562037,565032,567586,570928,575669,580788,585926,592200,599811,606307,611686,618576,623921,626195,628844,633171,633038,635668,638573,640494,642711,643523,646828,652600,658413]
["male",68,5478,5533,5624,5587,5528,5577,5721,5898,5882,5648,5657,5942,6026,6134,6249,6434,6341,5876,6656,7287,7905,7816,8191,10665,9518,8583,8147,7838,7527,7731,7804,7850,null,68,555687,555765,557928,559180,560942,563000,564495,567935,570914,573234,576585,581611,586814,592060,598449,606245,612648,617562,625232,631208,634100,636660,641362,643703,645186,647156,648641,650549,651050,654559,660404,666263]
["male",69,5619,5297,5389,5455,5451,5397,5470,5570,5792,5770,5510,5540,5794,5920,6061,6190,6338,6259,5786,6575,7190,7766,7724,8104,10564,9369,8417,8028,7670,7387,7616,7703,null,69,561306,561062,563317,564635,566393,568397,569965,573505,576706,579004,582095,587151,592608,597980,604510,612435,618986,623821,631018,637783,641290,644426,649086,651807,655750,656525,657058,658577,658720,661946,668020,673966]
["male",70,5773,5419,5099,5207,5305,5294,5255,5341,5494,5631,5649,5387,5434,5672,5810,5960,6050,6217,6131,5663,6500,7082,7695,7614,7988,10390,9223,8271,7901,7576,7288,7514,null,70,567079,566481,568416,569842,571698,573691,575220,578846,582200,584635,587744,592538,598042,603652,610320,618395,625036,630038,637149,643446,647790,651508,656781,659421,663738,666915,666281,666848,666621,669522,675308,681480]
["male",71,5899,5555,5178,4903,5024,5111,5109,5115,5202,5355,5499,5486,5270,5291,5569,5662,5835,5936,6130,6004,5573,6418,6992,7572,7482,7844,10199,9044,8083,7734,7437,7142,null,71,572978,572036,573594,574745,576722,578802,580329,583961,587402,589990,593243,598024,603312,608943,615889,624057,630871,635974,643279,649450,653363,657926,663773,666993,671220,674759,676480,675892,674704,677256,682745,688622]
["male",72,6221,5652,5367,4985,4716,4890,4902,4952,4941,5065,5209,5349,5293,5125,5150,5455,5529,5693,5840,6010,5896,5500,6288,6848,7396,7331,7633,9961,8863,7896,7578,7260,null,72,579199,577688,578961,579730,581438,583692,585231,588913,592343,595055,598452,603373,608605,614068,621039,629512,636400,641667,649119,655460,659259,663426,670061,673841,678616,682090,684113,685853,683567,685152,690323,695882]
["male",73,3954,5936,5416,5144,4771,4542,4694,4719,4780,4781,4904,5048,5183,5159,4956,5018,5343,5380,5565,5675,5879,5790,5406,6152,6705,7227,7177,7466,9723,8644,7727,7448,null,73,583153,583624,584377,584874,586209,588234,589925,593632,597123,599836,603356,608421,613788,619227,625995,634530,641743,647047,654684,661135,665138,669216,675467,679993,685321,689317,691290,693319,693290,693796,698050,703330]
["male",74,3379,3735,5618,5134,4878,4537,4296,4505,4568,4610,4587,4726,4857,5012,5013,4826,4888,5202,5234,5413,5540,5740,5678,5301,5976,6527,7067,7006,7287,9490,8452,7538,null,74,586532,587359,589995,590008,591087,592771,594221,598137,601691,604446,607943,613147,618645,624239,631008,639356,646631,652249,659918,666548,670678,674956,681145,685294,691297,695844,698357,700325,700577,703286,706502,710868]
["male",75,3810,3214,3562,5306,4894,4653,4354,4172,4307,4337,4429,4373,4530,4689,4828,4814,4672,4757,5018,5109,5270,5362,5597,5524,5170,5765,6328,6873,6804,7051,9217,8154,null,75,590342,590573,593557,595314,595981,597424,598575,602309,605998,608783,612372,617520,623175,628928,635836,644170,651303,657006,664936,671657,675948,680318,686742,690818,696467,701609,704685,707198,707381,710337,715719,719022]
["male",76,3893,3609,3064,3395,5003,4649,4424,4111,3964,4071,4120,4230,4204,4347,4507,4675,4651,4485,4606,4882,4954,5128,5215,5430,5392,4998,5590,6144,6636,6595,6882,8924,null,76,594235,594182,596621,598709,600984,602073,602999,606420,609962,612854,616492,621750,627379,633275,640343,648845,655954,661491,669542,676539,680902,685446,691957,696248,701859,706607,710275,713342,714017,716932,722601,727946]
["male",77,3611,3617,3377,2868,3209,4691,4387,4179,3921,3778,3891,3917,4045,4019,4170,4341,4466,4483,4318,4446,4710,4794,4954,5003,5279,5184,4841,5408,5916,6371,6366,6648,null,77,597846,597799,599998,601577,604193,606764,607386,610599,613883,616632,620383,625667,631424,637294,644513,653186,660420,665974,673860,680985,685612,690240,696911,701251,707138,711791,715116,718750,719933,723303,728967,734594]
["male",78,3475,3357,3402,3161,2706,3028,4388,4111,3889,3700,3580,3686,3679,3861,3829,4028,4166,4283,4306,4134,4295,4514,4608,4742,4800,5063,5007,4691,5192,5689,6137,6124,null,78,601321,601156,603400,604738,606899,609792,611774,614710,617772,620332,623963,629353,635103,641155,648342,657214,664586,670257,678166,685119,689907,694754,701519,705993,711938,716854,720123,723441,725125,728992,735104,740718]
["male",79,3168,3190,3052,3119,2908,2503,2841,4071,3849,3639,3477,3333,3450,3427,3652,3650,3839,3989,4068,4121,3949,4112,4332,4393,4505,4609,4875,4815,4466,4942,5446,5870,null,79,604489,604346,606452,607857,609807,612295,614615,618781,621621,623971,627440,632686,638553,644582,651994,660864,668425,674246,682234,689240,693856,698866,705851,710386,716443,721463,724998,728256,729591,733934,740550,746588]
["male",80,2799,2908,2960,2796,2864,2689,2319,2665,3715,3577,3366,3227,3079,3258,3229,3475,3458,3634,3749,3855,3943,3793,3890,4125,4178,4289,4368,4618,4555,4247,4699,5157,null,80,607288,607254,609412,610653,612671,614984,616934,621446,625336,627548,630806,635913,641632,647840,655223,664339,671883,677880,685983,693095,697799,702659,709741,714511,720621,725752,729366,732874,734146,738181,745249,751745]
["male",81,2408,2544,2619,2697,2534,2576,2457,2112,2457,3406,3310,3100,3015,2834,3045,3016,3276,3232,3405,3541,3657,3725,3583,3678,3894,3975,4017,4112,4360,4258,4028,4400,null,81,609696,609798,612031,613350,615205,617560,619391,623558,627793,630954,634116,639013,644647,650674,658268,667355,675159,681112,689388,696636,701456,706384,713324,718189,724515,729727,733383,736986,738506,742439,749277,756145]
["male",82,2154,2157,2269,2376,2469,2294,2358,2223,1902,2255,3101,3009,2864,2792,2591,2833,2800,3031,3017,3176,3285,3440,3476,3338,3468,3685,3768,3778,3865,4092,3956,3779,null,82,611850,611955,614300,615726,617674,619854,621749,625781,629695,633209,637217,642022,647511,653466,660859,670188,677959,684143,692405,699812,704741,709824,716800,721527,727983,733412,737151,740764,742371,746531,753233,759924]
["male",83,1953,1901,1936,2028,2124,2177,2073,2032,1980,1736,2037,2801,2717,2590,2559,2365,2618,2598,2847,2817,2962,3053,3202,3235,3115,3243,3428,3518,3523,3616,3850,3681,null,83,613803,613856,616236,617754,619798,622031,623822,627813,631675,634945,639254,644823,650228,656056,663418,672553,680577,686741,695252,702629,707703,712877,720002,724762,731098,736655,740579,744282,745894,750147,757083,763605]
["male",84,1661,1733,1648,1709,1786,1887,1931,1843,1787,1786,1560,1852,2486,2436,2357,2331,2136,2379,2384,2646,2599,2730,2804,2959,2979,2873,2976,3176,3229,3206,3348,3587,null,84,615464,615589,617884,619463,621584,623918,625753,629656,633462,636731,640814,646675,652714,658492,665775,674884,682713,689120,697636,705275,710302,715607,722806,727721,734077,739528,743555,747458,749123,753353,760431,767192]
["male",85,6022,6388,6553,6753,6921,7111,7416,7762,7950,1579,1544,1391,1667,2184,2178,2139,2084,1921,2176,2146,2408,2375,2495,2505,2702,2702,2627,2690,2881,2947,2924,3073,null,85,621486,621977,624437,626216,628505,631029,633169,637418,641412,638310,642358,648066,654381,660676,667953,677023,684797,691041,699812,707421,712710,717982,725301,730226,736779,742230,746182,750148,752004,756300,763355,770265]
["male",86,0,0,0,0,0,0,0,0,0,1338,1407,1359,1206,1516,1916,1966,1896,1831,1736,1968,1925,2173,2133,2217,2207,2413,2431,2366,2387,2572,2651,2603,null,86,621486,621977,624437,626216,628505,631029,633169,637418,641412,639648,643765,649425,655587,662192,669869,678989,686693,692872,701548,709389,714635,720155,727434,732443,738986,744643,748613,752514,754391,758872,766006,772868]
["male",87,0,0,0,0,0,0,0,0,0,1176,1144,1192,1173,1046,1338,1638,1728,1652,1610,1542,1723,1694,1943,1900,1947,1939,2114,2135,2114,2100,2262,2350,null,87,621486,621977,624437,626216,628505,631029,633169,637418,641412,640824,644909,650617,656760,663238,671207,680627,688421,694524,703158,710931,716358,721849,729377,734343,740933,746582,750727,754649,756505,760972,768268,775218]
["male",88,0,0,0,0,0,0,0,0,0,991,979,954,1015,996,902,1192,1363,1502,1445,1398,1339,1485,1511,1688,1688,1684,1655,1828,1800,1812,1842,1955,null,88,621486,621977,624437,626216,628505,631029,633169,637418,641412,641815,645888,651571,657775,664234,672109,681819,689784,696026,704603,712329,717697,723334,730888,736031,742621,748266,752382,756477,758305,762784,770110,777173]
["male",89,0,0,0,0,0,0,0,0,0,785,825,801,802,854,849,761,1034,1118,1275,1235,1187,1126,1241,1282,1462,1435,1444,1396,1545,1554,1541,1581,null,89,621486,621977,624437,626216,628505,631029,633169,637418,641412,642600,646713,652372,658577,665088,672958,682580,690818,697144,705878,713564,718884,724460,732129,737313,744083,749701,753826,757873,759850,764338,771651,778754]
["male","90+",0,0,0,0,0,0,0,0,0,2188,2380,2487,2553,2582,2683,2823,2839,3062,3336,3670,3957,4063,4195,4272,4373,4630,4773,4964,4895,5024,5214,5302,null,"90+",621486,621977,624437,626216,628505,631029,633169,637418,641412,644788,649093,654859,661130,667670,675641,685403,693657,700206,709214,717234,722841,728523,736324,741585,748456,754331,758599,762837,764745,769362,776865,784056]
[null,"All Males",{"$f":"SUM(C16:C106)","v":621486},621977,624437,626216,628505,631029,633169,637418,641412,644788,649093,654859,661130,667670,675641,685403,693657,700206,709214,717234,722841,728523,736324,741585,748456,754331,758599,{"$f":"SUM(AD16:AD106)","v":762837},{"$f":"SUM(AE16:AE106)","v":764745},{"$f":"SUM(AF16:AF106)","v":769362},{"$f":"SUM(AG16:AG106)","v":776865},{"$f":"SUM(AH16:AH106)","v":784056},null,"Females"]
["Sex","Age"]
["female",0,8137,7960,8017,7802,7645,7748,7705,7604,7333,7025,7100,7201,7481,7523,7792,8078,8465,8233,8676,8503,8626,8387,8414,8501,8271,8374,8324,8048,7980,7873,8168,7627,null,0,{"$f":"C109","v":8137},7960,8017,7802,7645,7748,7705,7604,7333,7025,7100,7201,7481,7523,7792,8078,8465,8233,8676,8503,8626,8387,8414,8501,8271,8374,8324,8048,7980,7873,8168,7627]
["female",1,8161,8148,8031,8027,7834,7717,7761,7931,7624,7351,7213,7214,7334,7579,7687,7984,8206,8591,8446,8804,8682,8799,8547,8553,8640,8397,8527,8482,8192,8200,8130,8469,null,1,{"$f":"AK109+C110","v":16298},{"$f":"AL109+D110","v":16108},{"$f":"AM109+E110","v":16048},{"$f":"AN109+F110","v":15829},{"$f":"AO109+G110","v":15479},{"$f":"AP109+H110","v":15465},{"$f":"AQ109+I110","v":15466},{"$f":"AR109+J110","v":15535},{"$f":"AS109+K110","v":14957},{"$f":"AT109+L110","v":14376},{"$f":"AU109+M110","v":14313},{"$f":"AV109+N110","v":14415},{"$f":"AW109+O110","v":14815},{"$f":"AX109+P110","v":15102},{"$f":"AY109+Q110","v":15479},{"$f":"AZ109+R110","v":16062},{"$f":"BA109+S110","v":16671},{"$f":"BB109+T110","v":16824},{"$f":"BC109+U110","v":17122},{"$f":"BD109+V110","v":17307},{"$f":"BE109+W110","v":17308},{"$f":"BF109+X110","v":17186},{"$f":"BG109+Y110","v":16961},{"$f":"BH109+Z110","v":17054},{"$f":"BI109+AA110","v":16911},{"$f":"BJ109+AB110","v":16771},{"$f":"BK109+AC110","v":16851},{"$f":"BL109+AD110","v":16530},{"$f":"BM109+AE110","v":16172},{"$f":"BN109+AF110","v":16073},{"$f":"BO109+AG110","v":16298},16096]
["female",2,8264,8186,8195,8103,8079,7892,7740,8024,7989,7634,7537,7360,7356,7467,7733,7890,8153,8323,8744,8611,8992,8827,8969,8698,8716,8817,8538,8686,8631,8405,8459,8453,null,2,24562,24294,24243,23932,23558,23357,23206,23559,22946,22010,21850,21775,22171,22569,23212,23952,24824,25147,25866,25918,26300,26013,25930,25752,25627,25588,25389,25216,24803,24478,24757,24549]
["female",3,8204,8319,8277,8276,8194,8173,7949,7999,8095,8023,7745,7647,7543,7464,7600,7882,7959,8305,8488,8920,8745,9067,9002,9085,8846,8790,8942,8651,8819,8775,8679,8739,null,3,32766,32613,32520,32208,31752,31530,31155,31558,31041,30033,29595,29422,29714,30033,30812,31834,32783,33452,34354,34838,35045,35080,34932,34837,34473,34378,34331,33867,33622,33253,33436,33288]
["female",4,8251,8193,8355,8333,8318,8261,8205,8151,8096,8110,8181,7922,7806,7669,7576,7762,7947,8043,8427,8641,8988,8834,9153,9056,9231,8972,8905,9040,8779,8968,9062,8984,null,4,41017,40806,40875,40541,40070,39791,39360,39709,39137,38143,37776,37344,37520,37702,38388,39596,40730,41495,42781,43479,44033,43914,44085,43893,43704,43350,43236,42907,42401,42221,42498,42272]
["female",5,7999,8250,8229,8401,8394,8383,8311,8348,8196,8176,8252,8320,8058,7894,7783,7690,7861,8015,8149,8532,8699,9054,8927,9264,9185,9287,9053,8988,9090,8921,9318,9334,null,5,49016,49056,49104,48942,48464,48174,47671,48057,47333,46319,46028,45664,45578,45596,46171,47286,48591,49510,50930,52011,52732,52968,53012,53157,52889,52637,52289,51895,51491,51142,51816,51606]
["female",6,7832,7955,8235,8244,8427,8431,8382,8485,8473,8246,8315,8438,8455,8184,8019,7884,7774,7925,8100,8227,8557,8719,9103,8979,9345,9292,9348,9101,9070,9153,9167,9537,null,6,56848,57011,57339,57186,56891,56605,56053,56542,55806,54565,54343,54102,54033,53780,54190,55170,56365,57435,59030,60238,61289,61687,62115,62136,62234,61929,61637,60996,60561,60295,60983,61143]
["female",7,7771,7855,7989,8280,8294,8491,8487,8592,8611,8542,8347,8404,8601,8589,8285,8137,8024,7812,7989,8156,8306,8568,8762,9190,9102,9360,9359,9442,9173,9130,9439,9408,null,7,64619,64866,65328,65466,65185,65096,64540,65134,64417,63107,62690,62506,62634,62369,62475,63307,64389,65247,67019,68394,69595,70255,70877,71326,71336,71289,70996,70438,69734,69425,70422,70551]
["female",8,7564,7786,7867,7981,8279,8314,8505,8663,8667,8675,8699,8451,8503,8730,8691,8440,8265,8109,7927,8054,8240,8376,8648,8770,9302,9199,9457,9454,9512,9292,9378,9662,null,8,72183,72652,73195,73447,73464,73410,73045,73797,73084,71782,71389,70957,71137,71099,71166,71747,72654,73356,74946,76448,77835,78631,79525,80096,80638,80488,80453,79892,79246,78717,79800,80213]
["female",9,7614,7616,7854,7886,7995,8315,8332,8698,8751,8756,8781,8824,8575,8577,8846,8822,8594,8377,8223,7994,8132,8335,8449,8701,8864,9365,9256,9556,9503,9586,9507,9594,null,9,79797,80268,81049,81333,81459,81725,81377,82495,81835,80538,80170,79781,79712,79676,80012,80569,81248,81733,83169,84442,85967,86966,87974,88797,89502,89853,89709,89448,88749,88303,89307,89807]
["female",10,7687,7647,7687,7915,7912,8045,8336,8460,8752,8888,8861,8873,8895,8674,8690,8975,8953,8660,8460,8342,8119,8242,8418,8537,8771,8897,9498,9368,9618,9616,9855,9743,null,10,87484,87915,88736,89248,89371,89770,89713,90955,90587,89426,89031,88654,88607,88350,88702,89544,90201,90393,91629,92784,94086,95208,96392,97334,98273,98750,99207,98816,98367,97919,99162,99550]
["female",11,7983,7708,7695,7768,7964,7946,8074,8458,8516,8858,8991,8987,8905,8990,8742,8793,9100,9111,8794,8564,8410,8206,8327,8497,8626,8864,9088,9624,9515,9744,9930,10162,null,11,95467,95623,96431,97016,97335,97716,97787,99413,99103,98284,98022,97641,97512,97340,97444,98337,99301,99504,100423,101348,102496,103414,104719,105831,106899,107614,108295,108440,107882,107663,109092,109712]
["female",12,8091,8047,7779,7772,7873,8073,8014,8289,8584,8736,8970,9106,9078,9016,9151,8908,8880,9250,9245,8889,8637,8520,8305,8412,8605,8721,8964,9227,9747,9566,10005,10210,null,12,103558,103670,104210,104788,105208,105789,105801,107702,107687,107020,106992,106747,106590,106356,106595,107245,108181,108754,109668,110237,111133,111934,113024,114243,115504,116335,117259,117667,117629,117229,119097,119922]
["female",13,7867,8094,8078,7800,7782,7885,8122,8123,8350,8678,8834,9032,9203,9194,9091,9249,8969,8950,9371,9366,8973,8706,8594,8426,8478,8680,8834,8972,9249,9802,9732,10178,null,13,111425,111764,112288,112588,112990,113674,113923,115825,116037,115698,115826,115779,115793,115550,115686,116494,117150,117704,119039,119603,120106,120640,121618,122669,123982,125015,126093,126639,126878,127031,128829,130100]
["female",14,7335,7974,8236,8212,7948,7922,8086,8321,8278,8490,8796,8975,9127,9303,9327,9183,9393,9087,9034,9474,9466,9060,8790,8686,8554,8569,8774,8921,8999,9304,10036,9938,null,14,118760,119738,120524,120800,120938,121596,122009,124146,124315,124188,124622,124754,124920,124853,125013,125677,126543,126791,128073,129077,129572,129700,130408,131355,132536,133584,134867,135560,135877,136335,138865,140038]
["female",15,7371,7332,7966,8251,8217,7960,7946,8214,8360,8287,8508,8848,9062,9218,9374,9391,9285,9459,9184,9122,9484,9462,9108,8842,8735,8625,8640,8824,8955,9014,9484,10169,null,15,126131,127070,128490,129051,129155,129556,129955,132360,132675,132475,133130,133602,133982,134071,134387,135068,135828,136250,137257,138199,139056,139162,139516,140197,141271,142209,143507,144384,144832,145349,148349,150207]
["female",16,7660,7357,7328,7976,8252,8257,7979,7957,8223,8427,8331,8561,8884,9160,9247,9486,9474,9385,9566,9281,9139,9493,9509,9169,8880,8737,8649,8690,8807,8996,9160,9633,null,16,133791,134427,135818,137027,137407,137813,137934,140317,140898,140902,141461,142163,142866,143231,143634,144554,145302,145635,146823,147480,148195,148655,149025,149366,150151,150946,152156,153074,153639,154345,157509,159840]
["female",17,7968,7609,7315,7319,7976,8218,8190,8029,7912,8313,8424,8395,8716,8983,9251,9319,9596,9580,9428,9672,9331,9130,9521,9521,9201,8871,8787,8724,8701,8818,9124,9258,null,17,141759,142036,143133,144346,145383,146031,146124,148346,148810,149215,149885,150558,151582,152214,152885,153873,154898,155215,156251,157152,157526,157785,158546,158887,159352,159817,160943,161798,162340,163163,166633,169098]
["female",18,8317,7845,7451,7004,7013,7647,7934,7993,7804,7806,8097,8316,8464,8721,8901,9249,9311,9643,9600,9447,9581,9255,9087,9446,9372,9118,8830,8665,8577,8527,8609,8907,null,18,150076,149881,150584,151350,152396,153678,154058,156339,156614,157021,157982,158874,160046,160935,161786,163122,164209,164858,165851,166599,167107,167040,167633,168333,168724,168935,169773,170463,170917,171690,175242,178005]
["female",19,7945,7754,7192,6449,6057,5993,7095,7448,7383,7053,7012,7366,7765,7994,8133,8434,8832,8871,9247,9292,8917,9346,8744,8440,8716,8691,8335,7986,7860,7685,7013,7356,null,19,158021,157635,157776,157799,158453,159671,161153,163787,163997,164074,164994,166240,167811,168929,169919,171556,173041,173729,175098,175891,176024,176386,176377,176773,177440,177626,178108,178449,178777,179375,182255,185361]
["female",20,8082,7561,6834,6425,5763,5474,5637,6591,7072,7214,6749,6767,7068,7552,7876,8008,8232,8472,8642,9020,9113,8918,9326,8617,8474,8649,8636,8283,7845,7598,7132,6671,null,20,166103,165196,164610,164224,164216,165145,166790,170378,171069,171288,171743,173007,174879,176481,177795,179564,181273,182201,183740,184911,185137,185304,185703,185390,185914,186275,186744,186732,186622,186973,189387,192032]
["female",21,8547,8052,7033,6868,6539,6084,5702,5990,6724,7153,7199,6860,6849,7288,7683,7997,8093,8219,8662,8834,9196,9130,9227,9292,8786,8536,8807,8676,8454,7882,7526,7228,null,21,174650,173248,171643,171092,170755,171229,172492,176368,177793,178441,178942,179867,181728,183769,185478,187561,189366,190420,192402,193745,194333,194434,194930,194682,194700,194811,195551,195408,195076,194855,196913,199260]
["female",22,8487,8433,7908,7415,7214,7050,6389,6110,6317,6970,7265,7304,7037,7347,7649,7947,8306,8191,8484,8736,9043,9141,9566,9248,9389,8994,8767,8924,8763,8313,7589,7665,null,22,183137,181681,179551,178507,177969,178279,178881,182478,184110,185411,186207,187171,188765,191116,193127,195508,197672,198611,200886,202481,203376,203575,204496,203930,204089,203805,204318,204332,203839,203168,204502,206925]
["female",23,8838,8454,8813,8422,7957,7787,7378,6605,6390,6679,7118,7492,7526,7435,7652,7925,8213,8313,8388,8629,8907,9233,9424,9496,9486,9424,8942,8734,8859,8697,8176,7601,null,23,191975,190135,188364,186929,185926,186066,186259,189083,190500,192090,193325,194663,196291,198551,200779,203433,205885,206924,209274,211110,212283,212808,213920,213426,213575,213229,213260,213066,212698,211865,212678,214526]
["female",24,8965,8758,8908,9049,8625,8241,7857,7128,6796,6692,6715,7139,7656,7832,7734,7925,8082,8271,8479,8494,8503,8888,9247,9225,9411,9349,9229,8725,8508,8767,8720,8332,null,24,200940,198893,197272,195978,194551,194307,194116,196211,197296,198782,200040,201802,203947,206383,208513,211358,213967,215195,217753,219604,220786,221696,223167,222651,222986,222578,222489,221791,221206,220632,221398,222858]
["female",25,8957,8910,9141,8973,9121,8719,8228,7581,7259,6985,6706,6793,7308,7859,7912,7958,8011,8195,8358,8509,8471,8578,8977,9198,9236,9335,9229,9205,8607,8557,8797,8785,null,25,209897,207803,206413,204951,203672,203026,202344,203792,204555,205767,206746,208595,211255,214242,216425,219316,221978,223390,226111,228113,229257,230274,232144,231849,232222,231913,231718,230996,229813,229189,230195,231643]
["female",26,9372,8870,9085,9112,8910,9117,8612,8094,7612,7289,7053,6794,6964,7629,7969,8121,8069,8120,8316,8424,8592,8501,8712,9052,9403,9340,9378,9257,9155,8838,8667,9051,null,26,219269,216673,215498,214063,212582,212143,210956,211886,212167,213056,213799,215389,218219,221871,224394,227437,230047,231510,234427,236537,237849,238775,240856,240901,241625,241253,241096,240253,238968,238027,238862,240694]
["female",27,9424,9404,8995,9168,9160,8958,9103,8669,8240,7540,7327,7175,7003,7171,7756,8208,8249,8186,8325,8329,8456,8635,8648,8821,9207,9633,9470,9525,9353,9332,8976,8910,null,27,228693,226077,224493,223231,221742,221101,220059,220555,220407,220596,221126,222564,225222,229042,232150,235645,238296,239696,242752,244866,246305,247410,249504,249722,250832,250886,250566,249778,248321,247359,247838,249604]
["female",28,9314,9440,9581,9125,9303,9283,8962,9157,8755,8255,7590,7489,7381,7197,7328,7939,8415,8334,8369,8444,8480,8618,8791,8879,9136,9490,9831,9635,9718,9623,9518,9255,null,28,238007,235517,234074,232356,231045,230384,229021,229712,229162,228851,228716,230053,232603,236239,239478,243584,246711,248030,251121,253310,254785,256028,258295,258601,259968,260376,260397,259413,258039,256982,257356,258859]
["female",29,9275,9304,9608,9752,9257,9464,9311,8986,9224,8744,8420,7765,7713,7634,7365,7554,8101,8571,8590,8547,8549,8646,8863,8938,9153,9417,9769,10115,9816,9969,9804,9898,null,29,247282,244821,243682,242108,240302,239848,238332,238698,238386,237595,237136,237818,240316,243873,246843,251138,254812,256601,259711,261857,263334,264674,267158,267539,269121,269793,270166,269528,267855,266951,267160,268757]
["female",30,9396,9359,9497,9719,9868,9364,9516,9394,9052,9273,8911,8605,7939,7887,7751,7482,7743,8246,8760,8766,8681,8695,8805,9080,9279,9428,9685,10055,10311,10199,10314,10137,null,30,256678,254180,253179,251827,250170,249212,247848,248092,247438,246868,246047,246423,248255,251760,254594,258620,262555,264847,268471,270623,272015,273369,275963,276619,278400,279221,279851,279583,278166,277150,277474,278894]
["female",31,9023,9448,9511,9547,9790,9963,9388,9550,9488,9145,9378,9041,8765,8185,8086,7904,7653,7877,8388,8874,8973,8816,8891,8982,9310,9527,9717,9997,10235,10697,10424,10586,null,31,265701,263628,262690,261374,259960,259175,257236,257642,256926,256013,255425,255464,257020,259945,262680,266524,270208,272724,276859,279497,280988,282185,284854,285601,287710,288748,289568,289580,288401,287847,287898,289480]
["female",32,8725,9060,9547,9589,9610,9878,10015,9734,9704,9623,9315,9610,9195,8975,8397,8255,8098,7814,8025,8552,9009,9153,8984,9156,9235,9506,9703,10052,10224,10649,11031,10828,null,32,274426,272688,272237,270963,269570,269053,267251,267376,266630,265636,264740,265074,266215,268920,271077,274779,278306,280538,284884,288049,289997,291338,293838,294757,296945,298254,299271,299632,298625,298496,298929,300308]
["female",33,8769,8786,9156,9644,9691,9702,9947,10371,9962,9793,9782,9540,9835,9399,9202,8644,8435,8197,7958,8185,8677,9225,9355,9188,9347,9502,9779,10007,10229,10629,11037,11361,null,33,{"$f":"AK141+C142","v":283195},{"$f":"AL141+D142","v":281474},{"$f":"AM141+E142","v":281393},{"$f":"AN141+F142","v":280607},{"$f":"AO141+G142","v":279261},{"$f":"AP141+H142","v":278755},{"$f":"AQ141+I142","v":277198},{"$f":"AR141+J142","v":277747},{"$f":"AS141+K142","v":276592},{"$f":"AT141+L142","v":275429},{"$f":"AU141+M142","v":274522},{"$f":"AV141+N142","v":274614},{"$f":"AW141+O142","v":276050},{"$f":"AX141+P142","v":278319},{"$f":"AY141+Q142","v":280279},{"$f":"AZ141+R142","v":283423},{"$f":"BA141+S142","v":286741},{"$f":"BB141+T142","v":288735},{"$f":"BC141+U142","v":292842},{"$f":"BD141+V142","v":296234},{"$f":"BE141+W142","v":298674},{"$f":"BF141+X142","v":300563},{"$f":"BG141+Y142","v":303193},{"$f":"BH141+Z142","v":303945},{"$f":"BI141+AA142","v":306292},{"$f":"BJ141+AB142","v":307756},{"$f":"BK141+AC142","v":309050},{"$f":"BL141+AD142","v":309639},{"$f":"BM141+AE142","v":308854},{"$f":"BN141+AF142","v":309125},{"$f":"BO141+AG142","v":309966},311669]
["female",34,8752,8755,8827,9176,9694,9752,9700,10264,10509,10099,10000,9957,9714,9982,9556,9417,8852,8550,8354,8063,8282,8863,9434,9618,9430,9567,9695,9981,10217,10603,10912,11413,null,34,291947,290229,290220,289783,288955,288507,286898,288011,287101,285528,284522,284571,285764,288301,289835,292840,295593,297285,301196,304297,306956,309426,312627,313563,315722,317323,318745,319620,319071,319728,320878,323082]
["female",35,8470,8793,8815,8882,9233,9787,9808,10041,10462,10566,10245,10146,10194,9967,10149,9747,9606,9070,8710,8472,8201,8427,9055,9683,9892,9650,9855,9884,10147,10559,10968,11250,null,35,300417,299022,299035,298665,298188,298294,296706,298052,297563,296094,294767,294717,295958,298268,299984,302587,305199,306355,309906,312769,315157,317853,321682,323246,325614,326973,328600,329504,329218,330287,331846,334332]
["female",36,8441,8520,8870,8878,8962,9328,9859,9968,10228,10577,10734,10451,10364,10371,10110,10340,9869,9673,9170,8803,8602,8355,8569,9231,9827,10095,9801,10114,10040,10512,10943,11360,null,36,308858,307542,307905,307543,307150,307622,306565,308020,307791,306671,305501,305168,306322,308639,310094,312927,315068,316028,319076,321572,323759,326208,330251,332477,335441,337068,338401,339618,339258,340799,342789,345692]
["female",37,8338,8486,8581,8924,8942,9039,9387,10068,10135,10344,10673,10831,10648,10527,10540,10253,10484,9985,9814,9241,8924,8682,8586,8747,9426,9998,10269,9969,10207,10288,10786,11254,null,37,317196,316028,316486,316467,316092,316661,315952,318088,317926,317015,316174,315999,316970,319166,320634,323180,325552,326013,328890,330813,332683,334890,338837,341224,344867,347066,348670,349587,349465,351087,353575,356946]
["female",38,8356,8353,8523,8604,8950,8974,9058,9517,10186,10267,10468,10770,10959,10774,10689,10648,10386,10590,10042,9926,9386,9062,8862,8697,8912,9623,10199,10415,10111,10414,10653,11086,null,38,325552,324381,325009,325071,325042,325635,325010,327605,328112,327282,326642,326769,327929,329940,331323,333828,335938,336603,338932,340739,342069,343952,347699,349921,353779,356689,358869,360002,359576,361501,364228,368032]
["female",39,8442,8401,8402,8555,8639,9003,9000,9220,9609,10238,10377,10583,10862,11082,10943,10803,10783,10508,10633,10095,10049,9521,9261,9053,8918,9051,9848,10376,10534,10274,10659,10903,null,39,333994,332782,333411,333626,333681,334638,334010,336825,337721,337520,337019,337352,338791,341022,342266,344631,346721,347111,349565,350834,352118,353473,356960,358974,362697,365740,368717,370378,370110,371775,374887,378935]
["female",40,8318,8402,8425,8378,8533,8623,8969,9125,9310,9717,10321,10435,10684,10947,11161,11102,10870,10881,10659,10735,10211,10248,9684,9393,9222,9072,9193,9961,10496,10660,10537,10913,null,40,342312,341184,341836,342004,342214,343261,342979,345950,347031,347237,347340,347787,349475,351969,353427,355733,357591,357992,360224,361569,362329,363721,366644,368367,371919,374812,377910,380339,380606,382435,385424,389848]
["female",41,8572,8355,8454,8474,8421,8584,8648,9075,9269,9352,9798,10383,10539,10819,11029,11273,11149,10923,10976,10769,10788,10367,10372,9791,9528,9321,9192,9285,10079,10660,10928,10818,null,41,350884,349539,350290,350478,350635,351845,351627,355025,356300,356589,357138,358170,360014,362788,364456,367006,368740,368915,371200,372338,373117,374088,377016,378158,381447,384133,387102,389624,390685,393095,396352,400666]
["female",42,8997,8569,8398,8477,8504,8457,8591,8781,9099,9320,9438,9838,10431,10640,10928,11154,11297,11230,10991,11071,10802,10864,10467,10509,9857,9631,9384,9279,9380,10238,10835,11094,null,42,359881,358108,358688,358955,359139,360302,360218,363806,365399,365909,366576,368008,370445,373428,375384,378160,380037,380145,382191,383409,383919,384952,387483,388667,391304,393764,396486,398903,400065,403333,407187,411760]
["female",43,9630,8986,8587,8425,8490,8535,8458,8654,8848,9143,9370,9477,9916,10518,10708,11009,11216,11338,11317,11040,11148,10914,11032,10585,10591,9946,9704,9479,9357,9471,10379,10938,null,43,369511,367094,367275,367380,367629,368837,368676,372460,374247,375052,375946,377485,380361,383946,386092,389169,391253,391483,393508,394449,395067,395866,398515,399252,401895,403710,406190,408382,409422,412804,417566,422698]
["female",44,10486,9592,8994,8583,8453,8507,8544,8595,8733,8903,9159,9454,9551,9940,10562,10801,11025,11277,11378,11337,11096,11229,11010,11089,10719,10660,10050,9790,9562,9444,9664,10554,null,44,379997,376686,376269,375963,376082,377344,377220,381055,382980,383955,385105,386939,389912,393886,396654,399970,402278,402760,404886,405786,406163,407095,409525,410341,412614,414370,416240,418172,418984,422248,427230,433252]
["female",45,11757,10489,9582,8999,8603,8481,8512,8647,8629,8737,8917,9227,9494,9630,9972,10599,10836,11087,11306,11378,11399,11141,11328,11061,11147,10809,10733,10108,9871,9652,9531,9819,null,45,391754,387175,385851,384962,384685,385825,385732,389702,391609,392692,394022,396166,399406,403516,406626,410569,413114,413847,416192,417164,417562,418236,420853,421402,423761,425179,426973,428280,428855,431900,436761,443071]
["female",46,9218,11706,10492,9569,8996,8606,8478,8564,8691,8659,8744,8941,9288,9510,9663,10057,10629,10862,11094,11343,11449,11426,11206,11366,11086,11211,10843,10799,10152,9906,9779,9678,null,46,400972,398881,396343,394531,393681,394431,394210,398266,400300,401351,402766,405107,408694,413026,416289,420626,423743,424709,427286,428507,429011,429662,432059,432768,434847,436390,437816,439079,439007,441806,446540,452749]
["female",47,8651,9209,11657,10498,9541,8988,8584,8526,8565,8698,8673,8792,8978,9387,9519,9757,10121,10643,10869,11140,11414,11480,11467,11289,11415,11157,11263,10880,10767,10249,10018,9884,null,47,409623,408090,408000,405029,403222,403419,402794,406792,408865,410049,411439,413899,417672,422413,425808,430383,433864,435352,438155,439647,440425,441142,443526,444057,446262,447547,449079,449959,449774,452055,456558,462633]
["female",48,8747,8666,9208,11651,10531,9553,8988,8624,8610,8552,8696,8698,8822,9038,9416,9604,9802,10138,10636,10863,11186,11475,11498,11506,11332,11482,11197,11298,10920,10778,10282,10070,null,48,418370,416756,417208,416680,413753,412972,411782,415416,417475,418601,420135,422597,426494,431451,435224,439987,443666,445490,448791,450510,451611,452617,455024,455563,457594,459029,460276,461257,460694,462833,466840,472703]
["female",49,8272,8702,8672,9187,11608,10515,9517,9008,8685,8673,8580,8714,8690,8855,9010,9484,9654,9850,10156,10619,10883,11228,11497,11544,11564,11361,11495,11214,11294,10917,10815,10379,null,49,426642,425458,425880,425867,425361,423487,421299,424424,426160,427274,428715,431311,435184,440306,444234,449471,453320,455340,458947,461129,462494,463845,466521,467107,469158,470390,471771,472471,471988,473750,477655,483082]
["female",50,7346,8241,8648,8689,9175,11583,10495,9522,9014,8702,8665,8585,8713,8712,8873,9006,9490,9674,9875,10174,10588,10902,11267,11564,11563,11553,11358,11529,11213,11316,10986,10875,null,50,433988,433699,434528,434556,434536,435070,431794,433946,435174,435976,437380,439896,443897,449018,453107,458477,462810,465014,468822,471303,473082,474747,477788,478671,480721,481943,483129,484000,483201,485066,488641,493957]
["female",51,6751,7332,8237,8655,8718,9185,11567,10550,9509,9033,8690,8628,8587,8733,8746,8895,9040,9506,9671,9882,10159,10602,10942,11312,11601,11529,11582,11357,11533,11192,11332,11058,null,51,440739,441031,442765,443211,443254,444255,443361,444496,444683,445009,446070,448524,452484,457751,461853,467372,471850,474520,478493,481185,483241,485349,488730,489983,492322,493472,494711,495357,494734,496258,499973,505015]
["female",52,7206,6718,7285,8193,8596,8689,9139,11537,10555,9473,9081,8657,8620,8593,8696,8721,8903,9078,9508,9712,9914,10164,10653,10911,11304,11636,11538,11578,11363,11529,11238,11348,null,52,447945,447749,450050,451404,451850,452944,452500,456033,455238,454482,455151,457181,461104,466344,470549,476093,480753,483598,488001,490897,493155,495513,499383,500894,503626,505108,506249,506935,506097,507787,511211,516363]
["female",53,7163,7182,6737,7277,8198,8585,8701,9187,11555,10571,9489,9064,8669,8605,8641,8686,8729,8895,9110,9511,9737,9929,10173,10710,10932,11304,11640,11582,11578,11370,11562,11234,null,53,455108,454931,456787,458681,460048,461529,461201,465220,466793,465053,464640,466245,469773,474949,479190,484779,489482,492493,497111,500408,502892,505442,509556,511604,514558,516412,517889,518517,517675,519157,522773,527597]
["female",54,7066,7184,7191,6784,7285,8215,8565,8744,9210,11471,10542,9521,9065,8680,8557,8662,8673,8720,8917,9104,9522,9748,9936,10163,10718,10936,11311,11623,11524,11595,11450,11529,null,54,462174,462115,463978,465465,467333,469744,469766,473964,476003,476524,475182,475766,478838,483629,487747,493441,498155,501213,506028,509512,512414,515190,519492,521767,525276,527348,529200,530140,529199,530752,534223,539126]
["female",55,6939,7064,7188,7193,6802,7286,8215,8545,8772,9233,11496,10497,9544,9069,8673,8584,8630,8651,8732,8938,9140,9505,9780,9963,10203,10707,10988,11313,11553,11503,11638,11495,null,55,469113,469179,471166,472658,474135,477030,477981,482509,484775,485757,486678,486263,488382,492698,496420,502025,506785,509864,514760,518450,521554,524695,529272,531730,535479,538055,540188,541453,540752,542255,545861,550621]
["female",56,6784,6934,7049,7170,7163,6806,7238,8207,8534,8782,9199,11517,10442,9564,9040,8691,8547,8650,8645,8723,8907,9130,9472,9783,9971,10190,10721,10973,11272,11576,11490,11558,null,56,475897,476113,478215,479828,481298,483836,485219,490716,493309,494539,495877,497780,498824,502262,505460,510716,515332,518514,523405,527173,530461,533825,538744,541513,545450,548245,550909,552426,552024,553831,557351,562179]
["female",57,6716,6785,6950,7065,7196,7175,6816,7229,8200,8504,8711,9145,11510,10360,9593,9048,8645,8522,8645,8627,8740,8923,9180,9467,9752,9913,10143,10738,10926,11241,11559,11448,null,57,482613,482898,485165,486893,488494,491011,492035,497945,501509,503043,504588,506925,510334,512622,515053,519764,523977,527036,532050,535800,539201,542748,547924,550980,555202,558158,561052,563164,562950,565072,568910,573627]
["female",58,6516,6667,6740,6920,7029,7166,7131,6773,7210,8176,8514,8640,9122,11559,10353,9628,9041,8620,8494,8649,8657,8688,8900,9181,9475,9740,9862,10147,10684,10933,11269,11527,null,58,489129,489565,491905,493813,495523,498177,499166,504718,508719,511219,513102,515565,519456,524181,525406,529392,533018,535656,540544,544449,547858,551436,556824,560161,564677,567898,570914,573311,573634,576005,580179,585154]
["female",59,6546,6503,6646,6731,6905,7017,7152,7150,6759,7203,8188,8495,8603,9083,11596,10349,9601,9061,8623,8472,8659,8680,8660,8882,9175,9443,9756,9853,10117,10658,10905,11252,null,59,495675,496068,498551,500544,502428,505194,506318,511868,515478,518422,521290,524060,528059,533264,537002,539741,542619,544717,549167,552921,556517,560116,565484,569043,573852,577341,580670,583164,583751,586663,591084,596406]
["female",60,6702,6536,6482,6645,6713,6898,6999,7147,7181,6758,7220,8192,8512,8585,9083,11585,10323,9599,9039,8633,8468,8627,8681,8711,8818,9146,9438,9702,9798,10131,10641,10858,null,60,502377,502604,505033,507189,509141,512092,513317,519015,522659,525180,528510,532252,536571,541849,546085,551326,552942,554316,558206,561554,564985,568743,574165,577754,582670,586487,590108,592866,593549,596794,601725,607264]
["female",61,6942,6680,6544,6480,6666,6715,6921,7024,7159,7165,6724,7224,8182,8503,8580,9070,11577,10269,9610,9016,8673,8463,8656,8698,8729,8840,9132,9439,9674,9745,10071,10558,null,61,509319,509284,511577,513669,515807,518807,520238,526039,529818,532345,535234,539476,544753,550352,554665,560396,564519,564585,567816,570570,573658,577206,582821,586452,591399,595327,599240,602305,603223,606539,611796,617822]
["female",62,7015,6872,6636,6488,6419,6603,6654,6916,7029,7136,7150,6687,7205,8181,8484,8510,9057,11561,10261,9612,9028,8670,8483,8644,8636,8697,8829,9128,9384,9619,9690,10031,null,62,516334,516156,518213,520157,522226,525410,526892,532955,536847,539481,542384,546163,551958,558533,563149,568906,573576,576146,578077,580182,582686,585876,591304,595096,600035,604024,608069,611433,612607,616158,621486,627853]
["female",63,6859,6954,6852,6620,6484,6403,6586,6648,6926,7030,7077,7094,6671,7188,8142,8482,8455,9003,11610,10202,9601,9041,8670,8483,8558,8630,8677,8810,9104,9365,9578,9688,null,63,523193,523110,525065,526777,528710,531813,533478,539603,543773,546511,549461,553257,558629,565721,571291,577388,582031,585149,589687,590384,592287,594917,599974,603579,608593,612654,616746,620243,621711,625523,631064,637541]
["female",64,6770,6798,6910,6830,6624,6499,6400,6586,6657,6916,6976,7031,7055,6614,7175,8094,8479,8411,8976,11591,10231,9634,9036,8652,8434,8548,8587,8626,8774,9016,9337,9561,null,64,529963,529908,531975,533607,535334,538312,539878,546189,550430,553427,556437,560288,565684,572335,578466,585482,590510,593560,598663,601975,602518,604551,609010,612231,617027,621202,625333,628869,630485,634539,640401,647102]
["female",65,6905,6684,6699,6859,6783,6598,6465,6345,6556,6605,6863,6953,6998,6987,6514,7163,8099,8445,8330,8943,11561,10205,9590,8997,8616,8365,8456,8563,8585,8709,8985,9273,null,65,{"$f":"AK173+C174","v":536868},{"$f":"AL173+D174","v":536592},{"$f":"AM173+E174","v":538674},{"$f":"AN173+F174","v":540466},{"$f":"AO173+G174","v":542117},{"$f":"AP173+H174","v":544910},{"$f":"AQ173+I174","v":546343},{"$f":"AR173+J174","v":552534},{"$f":"AS173+K174","v":556986},{"$f":"AT173+L174","v":560032},{"$f":"AU173+M174","v":563300},{"$f":"AV173+N174","v":567241},{"$f":"AW173+O174","v":572682},{"$f":"AX173+P174","v":579322},{"$f":"AY173+Q174","v":584980},{"$f":"AZ173+R174","v":592645},{"$f":"BA173+S174","v":598609},{"$f":"BB173+T174","v":602005},{"$f":"BC173+U174","v":606993},{"$f":"BD173+V174","v":610918},{"$f":"BE173+W174","v":614079},{"$f":"BF173+X174","v":614756},{"$f":"BG173+Y174","v":618600},{"$f":"BH173+Z174","v":621228},{"$f":"BI173+AA174","v":625643},{"$f":"BJ173+AB174","v":629567},{"$f":"BK173+AC174","v":633789},{"$f":"BL173+AD174","v":637432},{"$f":"BM173+AE174","v":639070},{"$f":"BN173+AF174","v":643248},{"$f":"BO173+AG174","v":649386},656375]
["female",66,6924,6795,6597,6616,6777,6736,6558,6428,6308,6502,6577,6804,6896,6968,6907,6476,7136,8066,8448,8266,8894,11494,10175,9543,8925,8541,8369,8429,8540,8566,8665,8931,null,66,543792,543387,545271,547082,548894,551646,552901,558962,563294,566534,569877,574045,579578,586290,591887,599121,605745,610071,615441,619184,622973,626250,628775,630771,634568,638108,642158,645861,647610,651814,658051,665306]
["female",67,6718,6847,6763,6555,6577,6742,6697,6518,6366,6268,6438,6517,6746,6840,6889,6824,6418,7091,8001,8443,8240,8868,11490,10082,9515,8917,8500,8303,8360,8495,8549,8620,null,67,550510,550234,552034,553637,555471,558388,559598,565480,569660,572802,576315,580562,586324,593130,598776,605945,612163,617162,623442,627627,631213,635118,640265,640853,644083,647025,650658,654164,655970,660309,666600,673926]
["female",68,6871,6630,6756,6670,6440,6473,6659,6612,6468,6336,6229,6362,6462,6697,6738,6834,6764,6351,7024,7961,8392,8178,8819,11433,10005,9426,8825,8430,8248,8286,8449,8473,null,68,557381,556864,558790,560307,561911,564861,566257,572092,576128,579138,582544,586924,592786,599827,605514,612779,618927,623513,630466,635588,639605,643296,649084,652286,654088,656451,659483,662594,664218,668595,675049,682399]
["female",69,7060,6744,6539,6660,6557,6357,6390,6557,6551,6391,6267,6145,6303,6396,6596,6642,6791,6692,6249,6972,7895,8330,8112,8733,11305,9925,9321,8721,8370,8202,8240,8405,null,69,564441,563608,565329,566967,568468,571218,572647,578649,582679,585529,588811,593069,599089,606223,612110,619421,625718,630205,636715,642560,647500,651626,657196,661019,665393,666376,668804,671315,672588,676797,683289,690804]
["female",70,7275,6896,6600,6404,6546,6437,6252,6303,6447,6452,6301,6193,6067,6216,6312,6516,6571,6703,6611,6193,6930,7805,8276,8016,8659,11181,9837,9196,8637,8289,8097,8141,null,70,571716,570504,571929,573371,575014,577655,578899,584952,589126,591981,595112,599262,605156,612439,618422,625937,632289,636908,643326,648753,654430,659431,665472,669035,674052,677557,678641,680511,681225,685086,691386,698945]
["female",71,7564,7116,6757,6472,6323,6431,6325,6151,6184,6345,6358,6209,6106,5992,6093,6240,6437,6480,6614,6551,6158,6854,7716,8177,7958,8557,11045,9718,9105,8533,8212,8015,null,71,579280,577620,578686,579843,581337,584086,585224,591103,595310,598326,601470,605471,611262,618431,624515,632177,638726,643388,649940,655304,660588,666285,673188,677212,682010,686114,689686,690229,690330,693619,699598,706960]
["female",72,7821,7408,6923,6577,6334,6197,6292,6195,6007,6048,6243,6250,6100,5999,5864,6024,6151,6315,6394,6492,6459,6094,6772,7636,8065,7824,8449,10939,9647,8965,8435,8097,null,72,587101,585028,585609,586420,587671,590283,591516,597298,601317,604374,607713,611721,617362,624430,630379,638201,644877,649703,656334,661796,667047,672379,679960,684848,690075,693938,698135,701168,699977,702584,708033,715057]
["female",73,5156,7614,7230,6792,6418,6223,6094,6146,6069,5880,5932,6119,6112,5990,5848,5793,5931,6034,6230,6301,6425,6403,6016,6693,7480,7955,7726,8346,10800,9497,8833,8281,null,73,592257,592642,592839,593212,594089,596506,597610,603444,607386,610254,613645,617840,623474,630420,636227,643994,650808,655737,662564,668097,673472,678782,685976,691541,697555,701893,705861,709514,710777,712081,716866,723338]
["female",74,4653,5045,7345,7062,6632,6267,6058,5942,5992,5964,5738,5807,6006,5988,5889,5751,5710,5825,5954,6121,6218,6326,6306,5926,6607,7361,7830,7644,8167,10642,9352,8683,null,74,596910,597687,600184,600274,600721,602773,603668,609386,613378,616218,619383,623647,629480,636408,642116,649745,656518,661562,668518,674218,679690,685108,692282,697467,704162,709254,713691,717158,718944,722723,726218,732021]
["female",75,5392,4497,4920,7092,6875,6477,6093,5883,5804,5843,5831,5617,5675,5866,5860,5770,5621,5606,5699,5860,6023,6103,6218,6202,5833,6485,7218,7690,7495,7967,10470,9207,null,75,602302,602184,605104,607366,607596,609250,609761,615269,619182,622061,625214,629264,635155,642274,647976,655515,662139,667168,674217,680078,685713,691211,698500,703669,709995,715739,720909,724848,726439,730690,736688,741228]
["female",76,5538,5189,4376,4775,6819,6671,6264,5893,5705,5605,5677,5662,5435,5568,5737,5740,5610,5480,5491,5586,5727,5882,5964,6086,6065,5711,6334,7100,7545,7358,7791,10265,null,76,607840,607373,609480,612141,614415,615921,616025,621162,624887,627666,630891,634926,640590,647842,653713,661255,667749,672648,679708,685664,691440,697093,704464,709755,716060,721450,727243,731948,733984,738048,744479,751493]
["female",77,5610,5309,5031,4213,4627,6563,6457,6050,5705,5521,5445,5471,5490,5268,5432,5622,5595,5482,5322,5365,5484,5609,5769,5784,5969,5932,5573,6199,6907,7396,7176,7584,null,77,613450,612682,614511,616354,619042,622484,622482,627212,630592,633187,636336,640397,646080,653110,659145,666877,673344,678130,685030,691029,696924,702702,710233,715539,722029,727382,732816,738147,740891,745444,751655,759077]
["female",78,5482,5400,5122,4840,4066,4471,6269,6184,5846,5483,5308,5233,5286,5324,5131,5299,5419,5420,5327,5172,5247,5324,5472,5610,5636,5830,5786,5414,6037,6705,7219,6963,null,78,618932,618082,619633,621194,623108,626955,628751,633396,636438,638670,641644,645630,651366,658434,664276,672176,678763,683550,690357,696201,702171,708026,715705,721149,727665,733212,738602,743561,746928,752149,758874,766040]
["female",79,5108,5234,5190,4879,4595,3868,4330,6036,5929,5621,5257,5070,4999,5081,5132,4981,5143,5266,5238,5163,4996,5102,5172,5315,5424,5458,5637,5620,5256,5847,6538,6957,null,79,624040,623316,624823,626073,627703,630823,633081,639432,642367,644291,646901,650700,656365,663515,669408,677157,683906,688816,695595,701364,707167,713128,720877,726464,733089,738670,744239,749181,752184,757996,765412,772997]
["female",80,4752,4866,4943,4901,4610,4326,3653,4163,5683,5673,5363,5006,4829,4758,4867,4886,4807,4952,5078,5061,4999,4847,4944,4952,5165,5265,5279,5468,5432,5076,5621,6304,null,80,628792,628182,629766,630974,632313,635149,636734,643595,648050,649964,652264,655706,661194,668273,674275,682043,688713,693768,700673,706425,712166,717975,725821,731416,738254,743935,749518,754649,757616,763072,771033,779301]
["female",81,4472,4499,4599,4682,4655,4321,4098,3399,3937,5338,5395,5079,4763,4596,4524,4638,4634,4638,4753,4894,4851,4792,4685,4755,4767,4931,5058,5111,5261,5244,4880,5444,null,81,633264,632681,634365,635656,636968,639470,640832,646994,651987,655302,657659,660785,665957,672869,678799,686681,693347,698406,705426,711319,717017,722767,730506,736171,743021,748866,754576,759760,762877,768316,775913,784745]
["female",82,4257,4213,4179,4330,4412,4382,4044,3843,3155,3752,4992,5064,4757,4531,4384,4303,4417,4393,4447,4543,4684,4653,4590,4505,4550,4536,4717,4871,4883,5040,5014,4643,null,82,637521,636894,638544,639986,641380,643852,644876,650837,655142,659054,662651,665849,670714,677400,683183,690984,697764,702799,709873,715862,721701,727420,735096,740676,747571,753402,759293,764631,767760,773356,780927,789388]
["female",83,3878,3972,3880,3897,3982,4087,4071,3724,3525,2939,3542,4656,4782,4471,4268,4135,4076,4177,4186,4216,4342,4426,4407,4362,4291,4301,4285,4489,4616,4646,4813,4737,null,83,641399,640866,642424,643883,645362,647939,648947,654561,658667,661993,666193,670505,675496,681871,687451,695119,701840,706976,714059,720078,726043,731846,739503,745038,751862,757703,763578,769120,772376,778002,785740,794125]
["female",84,3733,3586,3624,3562,3594,3686,3784,3776,3405,3197,2746,3336,4338,4480,4150,3995,3918,3788,3920,3919,3968,4071,4166,4132,4133,4004,4034,4016,4218,4365,4395,4476,null,84,645132,644452,646048,647445,648956,651625,652731,658337,662072,665190,668939,673841,679834,686351,691601,699114,705758,710764,717979,723997,730011,735917,743669,749170,755995,761707,767612,773136,776594,782367,790135,798601]
["female",85,18617,19377,19614,20077,20202,20451,20823,20965,21195,5417,2938,2533,3094,3973,4184,3838,3744,3655,3508,3656,3641,3667,3845,3872,3842,3854,3774,3767,3760,3974,4120,4105,null,85,663749,663829,665662,667522,669158,672076,673554,679302,683267,670607,671877,676374,682928,690324,695785,702952,709502,714419,721487,727653,733652,739584,747514,753042,759837,765561,771386,776903,780354,786341,794255,802706]
["female",86,0,0,0,0,0,0,0,0,0,2647,2831,2681,2290,2864,3607,3887,3543,3404,3382,3250,3299,3374,3418,3533,3580,3540,3546,3484,3452,3457,3706,3807,null,86,663749,663829,665662,667522,669158,672076,673554,679302,683267,673254,674708,679055,685218,693188,699392,706839,713045,717823,724869,730903,736951,742958,750932,756575,763417,769101,774932,780387,783806,789798,797961,806513]
["female",87,0,0,0,0,0,0,0,0,0,2322,2681,2556,2434,2084,2634,3217,3589,3203,3116,3123,2979,3008,3076,3129,3204,3251,3233,3245,3182,3150,3204,3394,null,87,663749,663829,665662,667522,669158,672076,673554,679302,683267,675576,677389,681611,687652,695272,702026,710056,716634,721026,727985,734026,739930,745966,754008,759704,766621,772352,778165,783632,786988,792948,801165,809907]
["female",88,0,0,0,0,0,0,0,0,0,2088,2381,2359,2263,2173,1847,2421,2872,3248,2914,2809,2809,2684,2710,2749,2872,2882,2914,2927,2893,2874,2869,2890,null,88,663749,663829,665662,667522,669158,672076,673554,679302,683267,677664,679770,683970,689915,697445,703873,712477,719506,724274,730899,736835,742739,748650,756718,762453,769493,775234,781079,786559,789881,795822,804034,812797]
["female",89,0,0,0,0,0,0,0,0,0,1839,2086,2092,2057,1937,1891,1657,2180,2505,2918,2605,2498,2494,2412,2380,2473,2533,2525,2582,2572,2593,2570,2513,null,89,663749,663829,665662,667522,669158,672076,673554,679302,683267,679503,681856,686062,691972,699382,705764,714134,721686,726779,733817,739440,745237,751144,759130,764833,771966,777767,783604,789141,792453,798415,806604,815310]
["female","90+",0,0,0,0,0,0,0,0,0,6903,8019,8125,8282,8165,8229,8254,7965,8284,8874,9792,10184,10354,10733,10598,10600,10609,10650,10862,10773,10775,10998,10885,null,"90+",663749,663829,665662,667522,669158,672076,673554,679302,683267,686406,689875,694187,700254,707547,713993,722388,729651,735063,742691,749232,755421,761498,769863,775431,782566,788376,794254,800003,803226,809190,817602,826195]
[null,"All Females",{"$f":"SUM(C109:C199)","v":663749},663829,665662,667522,669158,672076,673554,679302,683267,686406,689875,694187,700254,707547,713993,722388,729651,735063,742691,749232,755421,761498,769863,775431,782566,{"$f":"SUM(AB109:AB199)","v":788376},794254,{"$f":"SUM(AD109:AD199)","v":800003},{"$f":"SUM(AE109:AE199)","v":803226},{"$f":"SUM(AF109:AF199)","v":809190},{"$f":"SUM(AG109:AG199)","v":817602},{"$f":"SUM(AH109:AH199)","v":826195}]