{"text_format":"1","workbook":"xlsx","n_sheets":2,"sheets":["Month Data","Macro1"],"not_rendered":{"charts":0,"images":0,"macros":0,"external_links":1,"defined_names":15,"comments":0,"pivot_tables":0},"unopened":[],"bounds":{"document_bytes":16777216,"sheet_cells":100000,"rows_first":2000,"rows_last":500,"rows_between":2000,"halvings":0,"cell_chars":16384,"cell_head_chars":4096},"cells_cut":0,"cells_raw":0,"read":"whole","date_system":"1900"}

{"sheet":"Month Data","index":0,"n_rows":29295,"n_cols":10,"rows_kept":4500,"cut":true,"hidden":false,"merged":[[0,0,0,9]],"bounds":{"rows_first":2000,"rows_last":500,"rows_between":2000,"halvings":0}}
["Invoices over £250 April 2020"]
["Body","Reference No","Supplier Name ","Payment Date","Invoice NET","Directorate","Service Code","Service Description","Cost Type Code","Cost Type Description"]
["Kent County Council",11969302,"121 CARE AND MOBILITY LTD","2020-04-01",613.34,"S","5KG","Physical support - 65+ Long Term Support: Community: Home Care","530",{"$f":"VLOOKUP(I3,'[1]Sub Lookup'!$A$1:$B$65536,2,FALSE)","v":"Commissioned Service - Other"}]
["Kent County Council",11969262,"121 CARE AND MOBILITY LTD","2020-04-01",613.34,"S","5KG","Physical support - 65+ Long Term Support: Community: Home Care","530",{"$f":"VLOOKUP(I4,'[1]Sub Lookup'!$A$1:$B$65536,2,FALSE)","v":"Commissioned Service - Other"}]
["Kent County Council",11969232,"121 CARE AND MOBILITY LTD","2020-04-01",471.8,"S","5KG","Physical support - 65+ Long Term Support: Community: Home Care","530",{"$f":"VLOOKUP(I5,'[1]Sub Lookup'!$A$1:$B$65536,2,FALSE)","v":"Commissioned Service - Other"}]
["Kent County Council",11969356,"121 CARE AND MOBILITY LTD","2020-04-01",572.9,"S","5KG","Physical support - 65+ Long Term Support: Community: Home Care","530",{"$f":"VLOOKUP(I6,'[1]Sub Lookup'!$A$1:$B$65536,2,FALSE)","v":"Commissioned Service - Other"}]
["Kent County Council",11969189,"121 CARE AND MOBILITY LTD","2020-04-01",424.62,"S","5KG","Physical support - 65+ Long Term Support: Community: Home Care","530",{"$f":"VLOOKUP(I7,'[1]Sub Lookup'!$A$1:$B$65536,2,FALSE)","v":"Commissioned Service - Other"}]
["Kent County Council",11969250,"121 CARE AND MOBILITY LTD","2020-04-01",310.04000000000002,"S","5JG","Physical Support - 18 64 Long Term Support: Community: Home Care","530",{"$f":"VLOOKUP(I8,'[1]Sub Lookup'!$A$1:$B$65536,2,FALSE)","v":"Commissioned Service - Other"}]
["Kent County Council",11969299,"121 CARE AND MOBILITY LTD","2020-04-01",283.08,"S","5KG","Physical support - 65+ Long Term Support: Community: Home Care","530",{"$f":"VLOOKUP(I9,'[1]Sub Lookup'!$A$1:$B$65536,2,FALSE)","v":"Commissioned Service - Other"}]
["Kent County Council",11969254,"121 CARE AND MOBILITY LTD","2020-04-01",727.92,"S","5JG","Physical Support - 18 64 Long Term Support: Community: Home Care","530",{"$f":"VLOOKUP(I10,'[1]Sub Lookup'!$A$1:$B$65536,2,FALSE)","v":"Commissioned Service - Other"}]
["Kent County Council",11969253,"121 CARE AND MOBILITY LTD","2020-04-01",849.24,"S","5JG","Physical Support - 18 64 Long Term Support: Community: Home Care","530",{"$f":"VLOOKUP(I11,'[1]Sub Lookup'!$A$1:$B$65536,2,FALSE)","v":"Commissioned Service - Other"}]
["Kent County Council",11969247,"121 CARE AND MOBILITY LTD","2020-04-01",283.08,"S","5KG","Physical support - 65+ Long Term Support: Community: Home Care","530",{"$f":"VLOOKUP(I12,'[1]Sub Lookup'!$A$1:$B$65536,2,FALSE)","v":"Commissioned Service - Other"}]
["Kent County Council",11969296,"121 CARE AND MOBILITY LTD","2020-04-01",262.86,"S","5KG","Physical support - 65+ Long Term Support: Community: Home Care","530",{"$f":"VLOOKUP(I13,'[1]Sub Lookup'!$A$1:$B$65536,2,FALSE)","v":"Commissioned Service - Other"}]
["Kent County Council",11969294,"121 CARE AND MOBILITY LTD","2020-04-01",593.12,"S","5KG","Physical support - 65+ Long Term Support: Community: Home Care","530",{"$f":"VLOOKUP(I14,'[1]Sub Lookup'!$A$1:$B$65536,2,FALSE)","v":"Commissioned Service - Other"}]
["Kent County Council",11969357,"121 CARE AND MOBILITY LTD","2020-04-01",343.74,"S","5JG","Physical Support - 18 64 Long Term Support: Community: Home Care","530",{"$f":"VLOOKUP(I15,'[1]Sub Lookup'!$A$1:$B$65536,2,FALSE)","v":"Commissioned Service - Other"}]
["Kent County Council",11969278,"121 CARE AND MOBILITY LTD","2020-04-01",313.41000000000003,"S","5JG","Physical Support - 18 64 Long Term Support: Community: Home Care","530",{"$f":"VLOOKUP(I16,'[1]Sub Lookup'!$A$1:$B$65536,2,FALSE)","v":"Commissioned Service - Other"}]
["Kent County Council",11969190,"121 CARE AND MOBILITY LTD","2020-04-01",283.08,"S","5KG","Physical support - 65+ Long Term Support: Community: Home Care","530",{"$f":"VLOOKUP(I17,'[1]Sub Lookup'!$A$1:$B$65536,2,FALSE)","v":"Commissioned Service - Other"}]
["Kent County Council",11969193,"121 CARE AND MOBILITY LTD","2020-04-01",444.84000000000003,"S","5PG","Sensory Support - 65+ Long Term Support: Community: Home Care","530",{"$f":"VLOOKUP(I18,'[1]Sub Lookup'!$A$1:$B$65536,2,FALSE)","v":"Commissioned Service - Other"}]
["Kent County Council",11969301,"121 CARE AND MOBILITY LTD","2020-04-01",471.8,"S","5KG","Physical support - 65+ Long Term Support: Community: Home Care","530",{"$f":"VLOOKUP(I19,'[1]Sub Lookup'!$A$1:$B$65536,2,FALSE)","v":"Commissioned Service - Other"}]
["Kent County Council",11966231,"121 CARE AND MOBILITY LTD","2020-04-01",41091.160000000003,"S","5XC","Commissioning & Service Delivery","530",{"$f":"VLOOKUP(I20,'[1]Sub Lookup'!$A$1:$B$65536,2,FALSE)","v":"Commissioned Service - Other"}]
["Kent County Council",11969323,"121 CARE AND MOBILITY LTD","2020-04-01",495.39,"S","5KG","Physical support - 65+ Long Term Support: Community: Home Care","530",{"$f":"VLOOKUP(I21,'[1]Sub Lookup'!$A$1:$B$65536,2,FALSE)","v":"Commissioned Service - Other"}]
["Kent County Council",11969355,"121 CARE AND MOBILITY LTD","2020-04-01",518.98,"S","5KG","Physical support - 65+ Long Term Support: Community: Home Care","530",{"$f":"VLOOKUP(I22,'[1]Sub Lookup'!$A$1:$B$65536,2,FALSE)","v":"Commissioned Service - Other"}]
["Kent County Council",11969263,"121 CARE AND MOBILITY LTD","2020-04-01",613.34,"S","5KG","Physical support - 65+ Long Term Support: Community: Home Care","530",{"$f":"VLOOKUP(I23,'[1]Sub Lookup'!$A$1:$B$65536,2,FALSE)","v":"Commissioned Service - Other"}]
["Kent County Council",11969350,"121 CARE AND MOBILITY LTD","2020-04-01",570.91999999999996,"S","5KG","Physical support - 65+ Long Term Support: Community: Home Care","530",{"$f":"VLOOKUP(I24,'[1]Sub Lookup'!$A$1:$B$65536,2,FALSE)","v":"Commissioned Service - Other"}]
["Kent County Council",11969242,"121 CARE AND MOBILITY LTD","2020-04-01",306.67,"S","5JG","Physical Support - 18 64 Long Term Support: Community: Home Care","530",{"$f":"VLOOKUP(I25,'[1]Sub Lookup'!$A$1:$B$65536,2,FALSE)","v":"Commissioned Service - Other"}]
["Kent County Council",11969266,"121 CARE AND MOBILITY LTD","2020-04-01",613.34,"S","5KG","Physical support - 65+ Long Term Support: Community: Home Care","530",{"$f":"VLOOKUP(I26,'[1]Sub Lookup'!$A$1:$B$65536,2,FALSE)","v":"Commissioned Service - Other"}]
["Kent County Council",11969291,"121 CARE AND MOBILITY LTD","2020-04-01",262.86,"S","5KG","Physical support - 65+ Long Term Support: Community: Home Care","530",{"$f":"VLOOKUP(I27,'[1]Sub Lookup'!$A$1:$B$65536,2,FALSE)","v":"Commissioned Service - Other"}]
["Kent County Council",11969260,"121 CARE AND MOBILITY LTD","2020-04-01",259.49,"S","5KG","Physical support - 65+ Long Term Support: Community: Home Care","530",{"$f":"VLOOKUP(I28,'[1]Sub Lookup'!$A$1:$B$65536,2,FALSE)","v":"Commissioned Service - Other"}]
["Kent County Council",11969322,"121 CARE AND MOBILITY LTD","2020-04-01",566.16,"S","5KG","Physical support - 65+ Long Term Support: Community: Home Care","530",{"$f":"VLOOKUP(I29,'[1]Sub Lookup'!$A$1:$B$65536,2,FALSE)","v":"Commissioned Service - Other"}]
["Kent County Council",11969336,"121 CARE AND MOBILITY LTD","2020-04-01",369.84000000000003,"S","5KG","Physical support - 65+ Long Term Support: Community: Home Care","530",{"$f":"VLOOKUP(I30,'[1]Sub Lookup'!$A$1:$B$65536,2,FALSE)","v":"Commissioned Service - Other"}]
["Kent County Council",11969290,"121 CARE AND MOBILITY LTD","2020-04-01",259.49,"S","5KG","Physical support - 65+ Long Term Support: Community: Home Care","530",{"$f":"VLOOKUP(I31,'[1]Sub Lookup'!$A$1:$B$65536,2,FALSE)","v":"Commissioned Service - Other"}]
["Kent County Council",11969265,"121 CARE AND MOBILITY LTD","2020-04-01",252.75,"S","5KG","Physical support - 65+ Long Term Support: Community: Home Care","530",{"$f":"VLOOKUP(I32,'[1]Sub Lookup'!$A$1:$B$65536,2,FALSE)","v":"Commissioned Service - Other"}]
["Kent County Council",11969329,"121 CARE AND MOBILITY LTD","2020-04-01",467.04,"S","5KG","Physical support - 65+ Long Term Support: Community: Home Care","530",{"$f":"VLOOKUP(I33,'[1]Sub Lookup'!$A$1:$B$65536,2,FALSE)","v":"Commissioned Service - Other"}]
["Kent County Council",11969235,"121 CARE AND MOBILITY LTD","2020-04-01",566.16,"S","5KG","Physical support - 65+ Long Term Support: Community: Home Care","530",{"$f":"VLOOKUP(I34,'[1]Sub Lookup'!$A$1:$B$65536,2,FALSE)","v":"Commissioned Service - Other"}]
["Kent County Council",11969272,"121 CARE AND MOBILITY LTD","2020-04-01",296.56,"S","5KG","Physical support - 65+ Long Term Support: Community: Home Care","530",{"$f":"VLOOKUP(I35,'[1]Sub Lookup'!$A$1:$B$65536,2,FALSE)","v":"Commissioned Service - Other"}]
["Kent County Council",11969359,"121 CARE AND MOBILITY LTD","2020-04-01",471.8,"S","5JG","Physical Support - 18 64 Long Term Support: Community: Home Care","530",{"$f":"VLOOKUP(I36,'[1]Sub Lookup'!$A$1:$B$65536,2,FALSE)","v":"Commissioned Service - Other"}]
["Kent County Council",11969276,"121 CARE AND MOBILITY LTD","2020-04-01",353.85,"S","5KG","Physical support - 65+ Long Term Support: Community: Home Care","530",{"$f":"VLOOKUP(I37,'[1]Sub Lookup'!$A$1:$B$65536,2,FALSE)","v":"Commissioned Service - Other"}]
["Kent County Council",11969300,"121 CARE AND MOBILITY LTD","2020-04-01",471.8,"S","5KG","Physical support - 65+ Long Term Support: Community: Home Care","530",{"$f":"VLOOKUP(I38,'[1]Sub Lookup'!$A$1:$B$65536,2,FALSE)","v":"Commissioned Service - Other"}]
["Kent County Council",11969321,"121 CARE AND MOBILITY LTD","2020-04-01",424.62,"S","5KG","Physical support - 65+ Long Term Support: Community: Home Care","530",{"$f":"VLOOKUP(I39,'[1]Sub Lookup'!$A$1:$B$65536,2,FALSE)","v":"Commissioned Service - Other"}]
["Kent County Council",11974028,"121 CARE AND MOBILITY LTD","2020-04-03",674,"S","5AH","Learning Disability Support - 18 64 Long Term Support: Community: Supported Living","530",{"$f":"VLOOKUP(I40,'[1]Sub Lookup'!$A$1:$B$65536,2,FALSE)","v":"Commissioned Service - Other"}]
["Kent County Council",11974019,"121 CARE AND MOBILITY LTD","2020-04-03",808.80000000000007,"S","5AH","Learning Disability Support - 18 64 Long Term Support: Community: Supported Living","530",{"$f":"VLOOKUP(I41,'[1]Sub Lookup'!$A$1:$B$65536,2,FALSE)","v":"Commissioned Service - Other"}]
["Kent County Council",11974027,"121 CARE AND MOBILITY LTD","2020-04-03",606.6,"S","5KH","Physical support - 65+ Long Term Support: Community: Supported Living","530",{"$f":"VLOOKUP(I42,'[1]Sub Lookup'!$A$1:$B$65536,2,FALSE)","v":"Commissioned Service - Other"}]
["Kent County Council",11974018,"121 CARE AND MOBILITY LTD","2020-04-03",606.6,"S","5KH","Physical support - 65+ Long Term Support: Community: Supported Living","530",{"$f":"VLOOKUP(I43,'[1]Sub Lookup'!$A$1:$B$65536,2,FALSE)","v":"Commissioned Service - Other"}]
["Kent County Council",11974025,"121 CARE AND MOBILITY LTD","2020-04-03",404.40000000000003,"S","5AH","Learning Disability Support - 18 64 Long Term Support: Community: Supported Living","530",{"$f":"VLOOKUP(I44,'[1]Sub Lookup'!$A$1:$B$65536,2,FALSE)","v":"Commissioned Service - Other"}]
["Kent County Council",11974016,"121 CARE AND MOBILITY LTD","2020-04-03",303.3,"S","5AH","Learning Disability Support - 18 64 Long Term Support: Community: Supported Living","530",{"$f":"VLOOKUP(I45,'[1]Sub Lookup'!$A$1:$B$65536,2,FALSE)","v":"Commissioned Service - Other"}]
["Kent County Council",11974029,"121 CARE AND MOBILITY LTD","2020-04-03",539.20000000000005,"S","5AH","Learning Disability Support - 18 64 Long Term Support: Community: Supported Living","530",{"$f":"VLOOKUP(I46,'[1]Sub Lookup'!$A$1:$B$65536,2,FALSE)","v":"Commissioned Service - Other"}]
["Kent County Council",11974020,"121 CARE AND MOBILITY LTD","2020-04-03",539.20000000000005,"S","5AH","Learning Disability Support - 18 64 Long Term Support: Community: Supported Living","530",{"$f":"VLOOKUP(I47,'[1]Sub Lookup'!$A$1:$B$65536,2,FALSE)","v":"Commissioned Service - Other"}]
["Kent County Council",11974030,"121 CARE AND MOBILITY LTD","2020-04-03",1196.47,"S","5AH","Learning Disability Support - 18 64 Long Term Support: Community: Supported Living","530",{"$f":"VLOOKUP(I48,'[1]Sub Lookup'!$A$1:$B$65536,2,FALSE)","v":"Commissioned Service - Other"}]
["Kent County Council",11974021,"121 CARE AND MOBILITY LTD","2020-04-03",1213.32,"S","5AH","Learning Disability Support - 18 64 Long Term Support: Community: Supported Living","530",{"$f":"VLOOKUP(I49,'[1]Sub Lookup'!$A$1:$B$65536,2,FALSE)","v":"Commissioned Service - Other"}]
["Kent County Council",11987949,"121 CARE AND MOBILITY LTD","2020-04-14",424.62,"S","5KG","Physical support - 65+ Long Term Support: Community: Home Care","530",{"$f":"VLOOKUP(I50,'[1]Sub Lookup'!$A$1:$B$65536,2,FALSE)","v":"Commissioned Service - Other"}]
["Kent County Council",11987931,"121 CARE AND MOBILITY LTD","2020-04-14",613.34,"S","5KG","Physical support - 65+ Long Term Support: Community: Home Care","530",{"$f":"VLOOKUP(I51,'[1]Sub Lookup'!$A$1:$B$65536,2,FALSE)","v":"Commissioned Service - Other"}]
["Kent County Council",11987895,"121 CARE AND MOBILITY LTD","2020-04-14",613.34,"S","5KG","Physical support - 65+ Long Term Support: Community: Home Care","530",{"$f":"VLOOKUP(I52,'[1]Sub Lookup'!$A$1:$B$65536,2,FALSE)","v":"Commissioned Service - Other"}]
["Kent County Council",11987867,"121 CARE AND MOBILITY LTD","2020-04-14",471.8,"S","5KG","Physical support - 65+ Long Term Support: Community: Home Care","530",{"$f":"VLOOKUP(I53,'[1]Sub Lookup'!$A$1:$B$65536,2,FALSE)","v":"Commissioned Service - Other"}]
["Kent County Council",11987983,"121 CARE AND MOBILITY LTD","2020-04-14",613.34,"S","5KG","Physical support - 65+ Long Term Support: Community: Home Care","530",{"$f":"VLOOKUP(I54,'[1]Sub Lookup'!$A$1:$B$65536,2,FALSE)","v":"Commissioned Service - Other"}]
["Kent County Council",11987857,"121 CARE AND MOBILITY LTD","2020-04-14",424.62,"S","5KG","Physical support - 65+ Long Term Support: Community: Home Care","530",{"$f":"VLOOKUP(I55,'[1]Sub Lookup'!$A$1:$B$65536,2,FALSE)","v":"Commissioned Service - Other"}]
["Kent County Council",11987885,"121 CARE AND MOBILITY LTD","2020-04-14",323.52,"S","5JG","Physical Support - 18 64 Long Term Support: Community: Home Care","530",{"$f":"VLOOKUP(I56,'[1]Sub Lookup'!$A$1:$B$65536,2,FALSE)","v":"Commissioned Service - Other"}]
["Kent County Council",11987928,"121 CARE AND MOBILITY LTD","2020-04-14",283.08,"S","5KG","Physical support - 65+ Long Term Support: Community: Home Care","530",{"$f":"VLOOKUP(I57,'[1]Sub Lookup'!$A$1:$B$65536,2,FALSE)","v":"Commissioned Service - Other"}]
["Kent County Council",11987888,"121 CARE AND MOBILITY LTD","2020-04-14",727.92,"S","5JG","Physical Support - 18 64 Long Term Support: Community: Home Care","530",{"$f":"VLOOKUP(I58,'[1]Sub Lookup'!$A$1:$B$65536,2,FALSE)","v":"Commissioned Service - Other"}]
["Kent County Council",11987887,"121 CARE AND MOBILITY LTD","2020-04-14",849.24,"S","5JG","Physical Support - 18 64 Long Term Support: Community: Home Care","530",{"$f":"VLOOKUP(I59,'[1]Sub Lookup'!$A$1:$B$65536,2,FALSE)","v":"Commissioned Service - Other"}]
["Kent County Council",11987882,"121 CARE AND MOBILITY LTD","2020-04-14",283.08,"S","5KG","Physical support - 65+ Long Term Support: Community: Home Care","530",{"$f":"VLOOKUP(I60,'[1]Sub Lookup'!$A$1:$B$65536,2,FALSE)","v":"Commissioned Service - Other"}]
["Kent County Council",11987925,"121 CARE AND MOBILITY LTD","2020-04-14",285.33,"S","5KG","Physical support - 65+ Long Term Support: Community: Home Care","530",{"$f":"VLOOKUP(I61,'[1]Sub Lookup'!$A$1:$B$65536,2,FALSE)","v":"Commissioned Service - Other"}]
["Kent County Council",11987923,"121 CARE AND MOBILITY LTD","2020-04-14",593.12,"S","5KG","Physical support - 65+ Long Term Support: Community: Home Care","530",{"$f":"VLOOKUP(I62,'[1]Sub Lookup'!$A$1:$B$65536,2,FALSE)","v":"Commissioned Service - Other"}]
["Kent County Council",11987984,"121 CARE AND MOBILITY LTD","2020-04-14",343.74,"S","5JG","Physical Support - 18 64 Long Term Support: Community: Home Care","530",{"$f":"VLOOKUP(I63,'[1]Sub Lookup'!$A$1:$B$65536,2,FALSE)","v":"Commissioned Service - Other"}]
["Kent County Council",11987908,"121 CARE AND MOBILITY LTD","2020-04-14",313.41000000000003,"S","5JG","Physical Support - 18 64 Long Term Support: Community: Home Care","530",{"$f":"VLOOKUP(I64,'[1]Sub Lookup'!$A$1:$B$65536,2,FALSE)","v":"Commissioned Service - Other"}]
["Kent County Council",11987858,"121 CARE AND MOBILITY LTD","2020-04-14",283.08,"S","5KG","Physical support - 65+ Long Term Support: Community: Home Care","530",{"$f":"VLOOKUP(I65,'[1]Sub Lookup'!$A$1:$B$65536,2,FALSE)","v":"Commissioned Service - Other"}]
["Kent County Council",11987861,"121 CARE AND MOBILITY LTD","2020-04-14",444.84000000000003,"S","5PG","Sensory Support - 65+ Long Term Support: Community: Home Care","530",{"$f":"VLOOKUP(I66,'[1]Sub Lookup'!$A$1:$B$65536,2,FALSE)","v":"Commissioned Service - Other"}]
["Kent County Council",11987930,"121 CARE AND MOBILITY LTD","2020-04-14",471.8,"S","5KG","Physical support - 65+ Long Term Support: Community: Home Care","530",{"$f":"VLOOKUP(I67,'[1]Sub Lookup'!$A$1:$B$65536,2,FALSE)","v":"Commissioned Service - Other"}]
["Kent County Council",11987951,"121 CARE AND MOBILITY LTD","2020-04-14",495.39,"S","5KG","Physical support - 65+ Long Term Support: Community: Home Care","530",{"$f":"VLOOKUP(I68,'[1]Sub Lookup'!$A$1:$B$65536,2,FALSE)","v":"Commissioned Service - Other"}]
["Kent County Council",11987941,"121 CARE AND MOBILITY LTD","2020-04-14",424.62,"S","5KG","Physical support - 65+ Long Term Support: Community: Home Care","530",{"$f":"VLOOKUP(I69,'[1]Sub Lookup'!$A$1:$B$65536,2,FALSE)","v":"Commissioned Service - Other"}]
["Kent County Council",11987982,"121 CARE AND MOBILITY LTD","2020-04-14",518.98,"S","5KG","Physical support - 65+ Long Term Support: Community: Home Care","530",{"$f":"VLOOKUP(I70,'[1]Sub Lookup'!$A$1:$B$65536,2,FALSE)","v":"Commissioned Service - Other"}]
["Kent County Council",11987896,"121 CARE AND MOBILITY LTD","2020-04-14",613.34,"S","5KG","Physical support - 65+ Long Term Support: Community: Home Care","530",{"$f":"VLOOKUP(I71,'[1]Sub Lookup'!$A$1:$B$65536,2,FALSE)","v":"Commissioned Service - Other"}]
["Kent County Council",11987977,"121 CARE AND MOBILITY LTD","2020-04-14",570.91999999999996,"S","5KG","Physical support - 65+ Long Term Support: Community: Home Care","530",{"$f":"VLOOKUP(I72,'[1]Sub Lookup'!$A$1:$B$65536,2,FALSE)","v":"Commissioned Service - Other"}]
["Kent County Council",11987877,"121 CARE AND MOBILITY LTD","2020-04-14",306.67,"S","5JG","Physical Support - 18 64 Long Term Support: Community: Home Care","530",{"$f":"VLOOKUP(I73,'[1]Sub Lookup'!$A$1:$B$65536,2,FALSE)","v":"Commissioned Service - Other"}]
["Kent County Council",11987898,"121 CARE AND MOBILITY LTD","2020-04-14",613.34,"S","5KG","Physical support - 65+ Long Term Support: Community: Home Care","530",{"$f":"VLOOKUP(I74,'[1]Sub Lookup'!$A$1:$B$65536,2,FALSE)","v":"Commissioned Service - Other"}]
["Kent County Council",11987893,"121 CARE AND MOBILITY LTD","2020-04-14",259.49,"S","5KG","Physical support - 65+ Long Term Support: Community: Home Care","530",{"$f":"VLOOKUP(I75,'[1]Sub Lookup'!$A$1:$B$65536,2,FALSE)","v":"Commissioned Service - Other"}]
["Kent County Council",11987950,"121 CARE AND MOBILITY LTD","2020-04-14",586.38,"S","5KG","Physical support - 65+ Long Term Support: Community: Home Care","530",{"$f":"VLOOKUP(I76,'[1]Sub Lookup'!$A$1:$B$65536,2,FALSE)","v":"Commissioned Service - Other"}]
["Kent County Council",11987929,"121 CARE AND MOBILITY LTD","2020-04-14",471.8,"S","5KG","Physical support - 65+ Long Term Support: Community: Home Care","530",{"$f":"VLOOKUP(I77,'[1]Sub Lookup'!$A$1:$B$65536,2,FALSE)","v":"Commissioned Service - Other"}]
["Kent County Council",11987907,"121 CARE AND MOBILITY LTD","2020-04-14",353.85,"S","5KG","Physical support - 65+ Long Term Support: Community: Home Care","530",{"$f":"VLOOKUP(I78,'[1]Sub Lookup'!$A$1:$B$65536,2,FALSE)","v":"Commissioned Service - Other"}]
["Kent County Council",11987986,"121 CARE AND MOBILITY LTD","2020-04-14",471.8,"S","5JG","Physical Support - 18 64 Long Term Support: Community: Home Care","530",{"$f":"VLOOKUP(I79,'[1]Sub Lookup'!$A$1:$B$65536,2,FALSE)","v":"Commissioned Service - Other"}]
["Kent County Council",11987903,"121 CARE AND MOBILITY LTD","2020-04-14",316.78000000000003,"S","5KG","Physical support - 65+ Long Term Support: Community: Home Care","530",{"$f":"VLOOKUP(I80,'[1]Sub Lookup'!$A$1:$B$65536,2,FALSE)","v":"Commissioned Service - Other"}]
["Kent County Council",11987870,"121 CARE AND MOBILITY LTD","2020-04-14",569.53,"S","5KG","Physical support - 65+ Long Term Support: Community: Home Care","530",{"$f":"VLOOKUP(I81,'[1]Sub Lookup'!$A$1:$B$65536,2,FALSE)","v":"Commissioned Service - Other"}]
["Kent County Council",11987958,"121 CARE AND MOBILITY LTD","2020-04-14",467.04,"S","5KG","Physical support - 65+ Long Term Support: Community: Home Care","530",{"$f":"VLOOKUP(I82,'[1]Sub Lookup'!$A$1:$B$65536,2,FALSE)","v":"Commissioned Service - Other"}]
["Kent County Council",11987897,"121 CARE AND MOBILITY LTD","2020-04-14",252.75,"S","5KG","Physical support - 65+ Long Term Support: Community: Home Care","530",{"$f":"VLOOKUP(I83,'[1]Sub Lookup'!$A$1:$B$65536,2,FALSE)","v":"Commissioned Service - Other"}]
["Kent County Council",11987919,"121 CARE AND MOBILITY LTD","2020-04-14",259.49,"S","5KG","Physical support - 65+ Long Term Support: Community: Home Care","530",{"$f":"VLOOKUP(I84,'[1]Sub Lookup'!$A$1:$B$65536,2,FALSE)","v":"Commissioned Service - Other"}]
["Kent County Council",11987964,"121 CARE AND MOBILITY LTD","2020-04-14",383.32,"S","5KG","Physical support - 65+ Long Term Support: Community: Home Care","530",{"$f":"VLOOKUP(I85,'[1]Sub Lookup'!$A$1:$B$65536,2,FALSE)","v":"Commissioned Service - Other"}]
["Kent County Council",11991403,"121 CARE AND MOBILITY LTD","2020-04-15",437.64,"S","5KG","Physical support - 65+ Long Term Support: Community: Home Care","530",{"$f":"VLOOKUP(I86,'[1]Sub Lookup'!$A$1:$B$65536,2,FALSE)","v":"Commissioned Service - Other"}]
["Kent County Council",11991346,"121 CARE AND MOBILITY LTD","2020-04-15",632.24,"S","5KG","Physical support - 65+ Long Term Support: Community: Home Care","530",{"$f":"VLOOKUP(I87,'[1]Sub Lookup'!$A$1:$B$65536,2,FALSE)","v":"Commissioned Service - Other"}]
["Kent County Council",11991318,"121 CARE AND MOBILITY LTD","2020-04-15",486.36,"S","5KG","Physical support - 65+ Long Term Support: Community: Home Care","530",{"$f":"VLOOKUP(I88,'[1]Sub Lookup'!$A$1:$B$65536,2,FALSE)","v":"Commissioned Service - Other"}]
["Kent County Council",11991436,"121 CARE AND MOBILITY LTD","2020-04-15",632.24,"S","5KG","Physical support - 65+ Long Term Support: Community: Home Care","530",{"$f":"VLOOKUP(I89,'[1]Sub Lookup'!$A$1:$B$65536,2,FALSE)","v":"Commissioned Service - Other"}]
["Kent County Council",11991306,"121 CARE AND MOBILITY LTD","2020-04-15",437.64,"S","5KG","Physical support - 65+ Long Term Support: Community: Home Care","530",{"$f":"VLOOKUP(I90,'[1]Sub Lookup'!$A$1:$B$65536,2,FALSE)","v":"Commissioned Service - Other"}]
["Kent County Council",11991335,"121 CARE AND MOBILITY LTD","2020-04-15",333.56,"S","5JG","Physical Support - 18 64 Long Term Support: Community: Home Care","530",{"$f":"VLOOKUP(I91,'[1]Sub Lookup'!$A$1:$B$65536,2,FALSE)","v":"Commissioned Service - Other"}]
["Kent County Council",11991381,"121 CARE AND MOBILITY LTD","2020-04-15",291.76,"S","5KG","Physical support - 65+ Long Term Support: Community: Home Care","530",{"$f":"VLOOKUP(I92,'[1]Sub Lookup'!$A$1:$B$65536,2,FALSE)","v":"Commissioned Service - Other"}]
["Kent County Council",11991338,"121 CARE AND MOBILITY LTD","2020-04-15",736.4,"S","5JG","Physical Support - 18 64 Long Term Support: Community: Home Care","530",{"$f":"VLOOKUP(I93,'[1]Sub Lookup'!$A$1:$B$65536,2,FALSE)","v":"Commissioned Service - Other"}]
["Kent County Council",11991337,"121 CARE AND MOBILITY LTD","2020-04-15",875.42000000000007,"S","5JG","Physical Support - 18 64 Long Term Support: Community: Home Care","530",{"$f":"VLOOKUP(I94,'[1]Sub Lookup'!$A$1:$B$65536,2,FALSE)","v":"Commissioned Service - Other"}]
["Kent County Council",11991313,"121 CARE AND MOBILITY LTD","2020-04-15",583.52,"S","5KG","Physical support - 65+ Long Term Support: Community: Home Care","530",{"$f":"VLOOKUP(I95,'[1]Sub Lookup'!$A$1:$B$65536,2,FALSE)","v":"Commissioned Service - Other"}]
["Kent County Council",11991378,"121 CARE AND MOBILITY LTD","2020-04-15",270.93,"S","5KG","Physical support - 65+ Long Term Support: Community: Home Care","530",{"$f":"VLOOKUP(I96,'[1]Sub Lookup'!$A$1:$B$65536,2,FALSE)","v":"Commissioned Service - Other"}]
["Kent County Council",11991376,"121 CARE AND MOBILITY LTD","2020-04-15",611.36,"S","5KG","Physical support - 65+ Long Term Support: Community: Home Care","530",{"$f":"VLOOKUP(I97,'[1]Sub Lookup'!$A$1:$B$65536,2,FALSE)","v":"Commissioned Service - Other"}]
["Kent County Council",11991437,"121 CARE AND MOBILITY LTD","2020-04-15",302.20999999999998,"S","5JG","Physical Support - 18 64 Long Term Support: Community: Home Care","530",{"$f":"VLOOKUP(I98,'[1]Sub Lookup'!$A$1:$B$65536,2,FALSE)","v":"Commissioned Service - Other"}]
["Kent County Council",11991360,"121 CARE AND MOBILITY LTD","2020-04-15",323.06,"S","5JG","Physical Support - 18 64 Long Term Support: Community: Home Care","530",{"$f":"VLOOKUP(I99,'[1]Sub Lookup'!$A$1:$B$65536,2,FALSE)","v":"Commissioned Service - Other"}]
["Kent County Council",11991307,"121 CARE AND MOBILITY LTD","2020-04-15",291.76,"S","5KG","Physical support - 65+ Long Term Support: Community: Home Care","530",{"$f":"VLOOKUP(I100,'[1]Sub Lookup'!$A$1:$B$65536,2,FALSE)","v":"Commissioned Service - Other"}]
["Kent County Council",11991310,"121 CARE AND MOBILITY LTD","2020-04-15",457.58,"S","5PG","Sensory Support - 65+ Long Term Support: Community: Home Care","530",{"$f":"VLOOKUP(I101,'[1]Sub Lookup'!$A$1:$B$65536,2,FALSE)","v":"Commissioned Service - Other"}]
["Kent County Council",11991383,"121 CARE AND MOBILITY LTD","2020-04-15",486.36,"S","5KG","Physical support - 65+ Long Term Support: Community: Home Care","530",{"$f":"VLOOKUP(I102,'[1]Sub Lookup'!$A$1:$B$65536,2,FALSE)","v":"Commissioned Service - Other"}]
["Kent County Council",11991405,"121 CARE AND MOBILITY LTD","2020-04-15",510.72,"S","5KG","Physical support - 65+ Long Term Support: Community: Home Care","530",{"$f":"VLOOKUP(I103,'[1]Sub Lookup'!$A$1:$B$65536,2,FALSE)","v":"Commissioned Service - Other"}]
["Kent County Council",11991395,"121 CARE AND MOBILITY LTD","2020-04-15",437.64,"S","5KG","Physical support - 65+ Long Term Support: Community: Home Care","530",{"$f":"VLOOKUP(I104,'[1]Sub Lookup'!$A$1:$B$65536,2,FALSE)","v":"Commissioned Service - Other"}]
["Kent County Council",11991435,"121 CARE AND MOBILITY LTD","2020-04-15",534.94000000000005,"S","5KG","Physical support - 65+ Long Term Support: Community: Home Care","530",{"$f":"VLOOKUP(I105,'[1]Sub Lookup'!$A$1:$B$65536,2,FALSE)","v":"Commissioned Service - Other"}]
["Kent County Council",11991347,"121 CARE AND MOBILITY LTD","2020-04-15",632.24,"S","5KG","Physical support - 65+ Long Term Support: Community: Home Care","530",{"$f":"VLOOKUP(I106,'[1]Sub Lookup'!$A$1:$B$65536,2,FALSE)","v":"Commissioned Service - Other"}]
["Kent County Council",11991430,"121 CARE AND MOBILITY LTD","2020-04-15",588.56000000000006,"S","5KG","Physical support - 65+ Long Term Support: Community: Home Care","530",{"$f":"VLOOKUP(I107,'[1]Sub Lookup'!$A$1:$B$65536,2,FALSE)","v":"Commissioned Service - Other"}]
["Kent County Council",11991328,"121 CARE AND MOBILITY LTD","2020-04-15",316.12,"S","5JG","Physical Support - 18 64 Long Term Support: Community: Home Care","530",{"$f":"VLOOKUP(I108,'[1]Sub Lookup'!$A$1:$B$65536,2,FALSE)","v":"Commissioned Service - Other"}]
["Kent County Council",11991349,"121 CARE AND MOBILITY LTD","2020-04-15",632.24,"S","5KG","Physical support - 65+ Long Term Support: Community: Home Care","530",{"$f":"VLOOKUP(I109,'[1]Sub Lookup'!$A$1:$B$65536,2,FALSE)","v":"Commissioned Service - Other"}]
["Kent County Council",11991344,"121 CARE AND MOBILITY LTD","2020-04-15",267.47000000000003,"S","5KG","Physical support - 65+ Long Term Support: Community: Home Care","530",{"$f":"VLOOKUP(I110,'[1]Sub Lookup'!$A$1:$B$65536,2,FALSE)","v":"Commissioned Service - Other"}]
["Kent County Council",11991382,"121 CARE AND MOBILITY LTD","2020-04-15",486.36,"S","5KG","Physical support - 65+ Long Term Support: Community: Home Care","530",{"$f":"VLOOKUP(I111,'[1]Sub Lookup'!$A$1:$B$65536,2,FALSE)","v":"Commissioned Service - Other"}]
["Kent County Council",11991359,"121 CARE AND MOBILITY LTD","2020-04-15",364.7,"S","5KG","Physical support - 65+ Long Term Support: Community: Home Care","530",{"$f":"VLOOKUP(I112,'[1]Sub Lookup'!$A$1:$B$65536,2,FALSE)","v":"Commissioned Service - Other"}]
["Kent County Council",11991439,"121 CARE AND MOBILITY LTD","2020-04-15",486.36,"S","5JG","Physical Support - 18 64 Long Term Support: Community: Home Care","530",{"$f":"VLOOKUP(I113,'[1]Sub Lookup'!$A$1:$B$65536,2,FALSE)","v":"Commissioned Service - Other"}]
["Kent County Council",11991354,"121 CARE AND MOBILITY LTD","2020-04-15",323.03000000000003,"S","5KG","Physical support - 65+ Long Term Support: Community: Home Care","530",{"$f":"VLOOKUP(I114,'[1]Sub Lookup'!$A$1:$B$65536,2,FALSE)","v":"Commissioned Service - Other"}]
["Kent County Council",11991321,"121 CARE AND MOBILITY LTD","2020-04-15",583.52,"S","5KG","Physical support - 65+ Long Term Support: Community: Home Care","530",{"$f":"VLOOKUP(I115,'[1]Sub Lookup'!$A$1:$B$65536,2,FALSE)","v":"Commissioned Service - Other"}]
["Kent County Council",11991412,"121 CARE AND MOBILITY LTD","2020-04-15",481.32,"S","5KG","Physical support - 65+ Long Term Support: Community: Home Care","530",{"$f":"VLOOKUP(I116,'[1]Sub Lookup'!$A$1:$B$65536,2,FALSE)","v":"Commissioned Service - Other"}]
["Kent County Council",11991348,"121 CARE AND MOBILITY LTD","2020-04-15",250.13,"S","5KG","Physical support - 65+ Long Term Support: Community: Home Care","530",{"$f":"VLOOKUP(I117,'[1]Sub Lookup'!$A$1:$B$65536,2,FALSE)","v":"Commissioned Service - Other"}]
["Kent County Council",11991372,"121 CARE AND MOBILITY LTD","2020-04-15",267.47000000000003,"S","5KG","Physical support - 65+ Long Term Support: Community: Home Care","530",{"$f":"VLOOKUP(I118,'[1]Sub Lookup'!$A$1:$B$65536,2,FALSE)","v":"Commissioned Service - Other"}]
["Kent County Council",11991404,"121 CARE AND MOBILITY LTD","2020-04-15",583.52,"S","5KG","Physical support - 65+ Long Term Support: Community: Home Care","530",{"$f":"VLOOKUP(I119,'[1]Sub Lookup'!$A$1:$B$65536,2,FALSE)","v":"Commissioned Service - Other"}]
["Kent County Council",12002881,"121 CARE AND MOBILITY LTD","2020-04-22",486.36,"S","5KG","Physical support - 65+ Long Term Support: Community: Home Care","530",{"$f":"VLOOKUP(I120,'[1]Sub Lookup'!$A$1:$B$65536,2,FALSE)","v":"Commissioned Service - Other"}]
["Kent County Council",12004286,"121 CARE AND MOBILITY LTD","2020-04-22",437.64,"S","5KG","Physical support - 65+ Long Term Support: Community: Home Care","530",{"$f":"VLOOKUP(I121,'[1]Sub Lookup'!$A$1:$B$65536,2,FALSE)","v":"Commissioned Service - Other"}]
["Kent County Council",12002844,"121 CARE AND MOBILITY LTD","2020-04-22",632.24,"S","5KG","Physical support - 65+ Long Term Support: Community: Home Care","530",{"$f":"VLOOKUP(I122,'[1]Sub Lookup'!$A$1:$B$65536,2,FALSE)","v":"Commissioned Service - Other"}]
["Kent County Council",12002818,"121 CARE AND MOBILITY LTD","2020-04-22",486.36,"S","5KG","Physical support - 65+ Long Term Support: Community: Home Care","530",{"$f":"VLOOKUP(I123,'[1]Sub Lookup'!$A$1:$B$65536,2,FALSE)","v":"Commissioned Service - Other"}]
["Kent County Council",12004322,"121 CARE AND MOBILITY LTD","2020-04-22",632.24,"S","5KG","Physical support - 65+ Long Term Support: Community: Home Care","530",{"$f":"VLOOKUP(I124,'[1]Sub Lookup'!$A$1:$B$65536,2,FALSE)","v":"Commissioned Service - Other"}]
["Kent County Council",12002806,"121 CARE AND MOBILITY LTD","2020-04-22",437.64,"S","5KG","Physical support - 65+ Long Term Support: Community: Home Care","530",{"$f":"VLOOKUP(I125,'[1]Sub Lookup'!$A$1:$B$65536,2,FALSE)","v":"Commissioned Service - Other"}]
["Kent County Council",12002834,"121 CARE AND MOBILITY LTD","2020-04-22",333.56,"S","5JG","Physical Support - 18 64 Long Term Support: Community: Home Care","530",{"$f":"VLOOKUP(I126,'[1]Sub Lookup'!$A$1:$B$65536,2,FALSE)","v":"Commissioned Service - Other"}]
["Kent County Council",12002837,"121 CARE AND MOBILITY LTD","2020-04-22",750.30000000000007,"S","5JG","Physical Support - 18 64 Long Term Support: Community: Home Care","530",{"$f":"VLOOKUP(I127,'[1]Sub Lookup'!$A$1:$B$65536,2,FALSE)","v":"Commissioned Service - Other"}]
["Kent County Council",12002836,"121 CARE AND MOBILITY LTD","2020-04-22",875.42000000000007,"S","5JG","Physical Support - 18 64 Long Term Support: Community: Home Care","530",{"$f":"VLOOKUP(I128,'[1]Sub Lookup'!$A$1:$B$65536,2,FALSE)","v":"Commissioned Service - Other"}]
["Kent County Council",12002813,"121 CARE AND MOBILITY LTD","2020-04-22",583.52,"S","5KG","Physical support - 65+ Long Term Support: Community: Home Care","530",{"$f":"VLOOKUP(I129,'[1]Sub Lookup'!$A$1:$B$65536,2,FALSE)","v":"Commissioned Service - Other"}]
["Kent County Council",12002878,"121 CARE AND MOBILITY LTD","2020-04-22",270.93,"S","5KG","Physical support - 65+ Long Term Support: Community: Home Care","530",{"$f":"VLOOKUP(I130,'[1]Sub Lookup'!$A$1:$B$65536,2,FALSE)","v":"Commissioned Service - Other"}]
["Kent County Council",12002876,"121 CARE AND MOBILITY LTD","2020-04-22",611.36,"S","5KG","Physical support - 65+ Long Term Support: Community: Home Care","530",{"$f":"VLOOKUP(I131,'[1]Sub Lookup'!$A$1:$B$65536,2,FALSE)","v":"Commissioned Service - Other"}]
["Kent County Council",12004323,"121 CARE AND MOBILITY LTD","2020-04-22",354.32,"S","5JG","Physical Support - 18 64 Long Term Support: Community: Home Care","530",{"$f":"VLOOKUP(I132,'[1]Sub Lookup'!$A$1:$B$65536,2,FALSE)","v":"Commissioned Service - Other"}]
["Kent County Council",12002859,"121 CARE AND MOBILITY LTD","2020-04-22",323.06,"S","5JG","Physical Support - 18 64 Long Term Support: Community: Home Care","530",{"$f":"VLOOKUP(I133,'[1]Sub Lookup'!$A$1:$B$65536,2,FALSE)","v":"Commissioned Service - Other"}]
["Kent County Council",12002807,"121 CARE AND MOBILITY LTD","2020-04-22",291.76,"S","5KG","Physical support - 65+ Long Term Support: Community: Home Care","530",{"$f":"VLOOKUP(I134,'[1]Sub Lookup'!$A$1:$B$65536,2,FALSE)","v":"Commissioned Service - Other"}]
["Kent County Council",12002810,"121 CARE AND MOBILITY LTD","2020-04-22",457.58,"S","5PG","Sensory Support - 65+ Long Term Support: Community: Home Care","530",{"$f":"VLOOKUP(I135,'[1]Sub Lookup'!$A$1:$B$65536,2,FALSE)","v":"Commissioned Service - Other"}]
["Kent County Council",12002882,"121 CARE AND MOBILITY LTD","2020-04-22",486.36,"S","5KG","Physical support - 65+ Long Term Support: Community: Home Care","530",{"$f":"VLOOKUP(I136,'[1]Sub Lookup'!$A$1:$B$65536,2,FALSE)","v":"Commissioned Service - Other"}]
["Kent County Council",12004288,"121 CARE AND MOBILITY LTD","2020-04-22",510.72,"S","5KG","Physical support - 65+ Long Term Support: Community: Home Care","530",{"$f":"VLOOKUP(I137,'[1]Sub Lookup'!$A$1:$B$65536,2,FALSE)","v":"Commissioned Service - Other"}]
["Kent County Council",12002894,"121 CARE AND MOBILITY LTD","2020-04-22",333.44,"S","5KG","Physical support - 65+ Long Term Support: Community: Home Care","530",{"$f":"VLOOKUP(I138,'[1]Sub Lookup'!$A$1:$B$65536,2,FALSE)","v":"Commissioned Service - Other"}]
["Kent County Council",12004321,"121 CARE AND MOBILITY LTD","2020-04-22",534.94000000000005,"S","5KG","Physical support - 65+ Long Term Support: Community: Home Care","530",{"$f":"VLOOKUP(I139,'[1]Sub Lookup'!$A$1:$B$65536,2,FALSE)","v":"Commissioned Service - Other"}]
["Kent County Council",12002846,"121 CARE AND MOBILITY LTD","2020-04-22",632.24,"S","5KG","Physical support - 65+ Long Term Support: Community: Home Care","530",{"$f":"VLOOKUP(I140,'[1]Sub Lookup'!$A$1:$B$65536,2,FALSE)","v":"Commissioned Service - Other"}]
["Kent County Council",12004315,"121 CARE AND MOBILITY LTD","2020-04-22",588.56000000000006,"S","5KG","Physical support - 65+ Long Term Support: Community: Home Care","530",{"$f":"VLOOKUP(I141,'[1]Sub Lookup'!$A$1:$B$65536,2,FALSE)","v":"Commissioned Service - Other"}]
["Kent County Council",12002827,"121 CARE AND MOBILITY LTD","2020-04-22",316.12,"S","5JG","Physical Support - 18 64 Long Term Support: Community: Home Care","530",{"$f":"VLOOKUP(I142,'[1]Sub Lookup'!$A$1:$B$65536,2,FALSE)","v":"Commissioned Service - Other"}]
["Kent County Council",12004320,"121 CARE AND MOBILITY LTD","2020-04-22",683.30000000000007,"S","5KG","Physical support - 65+ Long Term Support: Community: Home Care","530",{"$f":"VLOOKUP(I143,'[1]Sub Lookup'!$A$1:$B$65536,2,FALSE)","v":"Commissioned Service - Other"}]
["Kent County Council",12002850,"121 CARE AND MOBILITY LTD","2020-04-22",632.24,"S","5KG","Physical support - 65+ Long Term Support: Community: Home Care","530",{"$f":"VLOOKUP(I144,'[1]Sub Lookup'!$A$1:$B$65536,2,FALSE)","v":"Commissioned Service - Other"}]
["Kent County Council",12002847,"121 CARE AND MOBILITY LTD","2020-04-22",632.24,"S","5KG","Physical support - 65+ Long Term Support: Community: Home Care","530",{"$f":"VLOOKUP(I145,'[1]Sub Lookup'!$A$1:$B$65536,2,FALSE)","v":"Commissioned Service - Other"}]
["Kent County Council",12002842,"121 CARE AND MOBILITY LTD","2020-04-22",267.47000000000003,"S","5KG","Physical support - 65+ Long Term Support: Community: Home Care","530",{"$f":"VLOOKUP(I146,'[1]Sub Lookup'!$A$1:$B$65536,2,FALSE)","v":"Commissioned Service - Other"}]
["Kent County Council",12004287,"121 CARE AND MOBILITY LTD","2020-04-22",625.28,"S","5KG","Physical support - 65+ Long Term Support: Community: Home Care","530",{"$f":"VLOOKUP(I147,'[1]Sub Lookup'!$A$1:$B$65536,2,FALSE)","v":"Commissioned Service - Other"}]
["Kent County Council",12002872,"121 CARE AND MOBILITY LTD","2020-04-22",267.47000000000003,"S","5KG","Physical support - 65+ Long Term Support: Community: Home Care","530",{"$f":"VLOOKUP(I148,'[1]Sub Lookup'!$A$1:$B$65536,2,FALSE)","v":"Commissioned Service - Other"}]
["Kent County Council",12002845,"121 CARE AND MOBILITY LTD","2020-04-22",312.60000000000002,"S","5KG","Physical support - 65+ Long Term Support: Community: Home Care","530",{"$f":"VLOOKUP(I149,'[1]Sub Lookup'!$A$1:$B$65536,2,FALSE)","v":"Commissioned Service - Other"}]
["Kent County Council",12004295,"121 CARE AND MOBILITY LTD","2020-04-22",481.32,"S","5KG","Physical support - 65+ Long Term Support: Community: Home Care","530",{"$f":"VLOOKUP(I150,'[1]Sub Lookup'!$A$1:$B$65536,2,FALSE)","v":"Commissioned Service - Other"}]
["Kent County Council",12002821,"121 CARE AND MOBILITY LTD","2020-04-22",583.52,"S","5KG","Physical support - 65+ Long Term Support: Community: Home Care","530",{"$f":"VLOOKUP(I151,'[1]Sub Lookup'!$A$1:$B$65536,2,FALSE)","v":"Commissioned Service - Other"}]
["Kent County Council",12002853,"121 CARE AND MOBILITY LTD","2020-04-22",331.72,"S","5KG","Physical support - 65+ Long Term Support: Community: Home Care","530",{"$f":"VLOOKUP(I152,'[1]Sub Lookup'!$A$1:$B$65536,2,FALSE)","v":"Commissioned Service - Other"}]
["Kent County Council",12004325,"121 CARE AND MOBILITY LTD","2020-04-22",486.36,"S","5JG","Physical Support - 18 64 Long Term Support: Community: Home Care","530",{"$f":"VLOOKUP(I153,'[1]Sub Lookup'!$A$1:$B$65536,2,FALSE)","v":"Commissioned Service - Other"}]
["Kent County Council",12002858,"121 CARE AND MOBILITY LTD","2020-04-22",364.7,"S","5KG","Physical support - 65+ Long Term Support: Community: Home Care","530",{"$f":"VLOOKUP(I154,'[1]Sub Lookup'!$A$1:$B$65536,2,FALSE)","v":"Commissioned Service - Other"}]
["Kent County Council",11996794,"121 CARE AND MOBILITY LTD","2020-04-27",11361.11,"S","5KG","Physical support - 65+ Long Term Support: Community: Home Care","530",{"$f":"VLOOKUP(I155,'[1]Sub Lookup'!$A$1:$B$65536,2,FALSE)","v":"Commissioned Service - Other"}]
["Kent County Council",12015488,"121 CARE AND MOBILITY LTD","2020-04-29",291.76,"S","5KG","Physical support - 65+ Long Term Support: Community: Home Care","530",{"$f":"VLOOKUP(I156,'[1]Sub Lookup'!$A$1:$B$65536,2,FALSE)","v":"Commissioned Service - Other"}]
["Kent County Council",12015541,"121 CARE AND MOBILITY LTD","2020-04-29",323.06,"S","5JG","Physical Support - 18 64 Long Term Support: Community: Home Care","530",{"$f":"VLOOKUP(I157,'[1]Sub Lookup'!$A$1:$B$65536,2,FALSE)","v":"Commissioned Service - Other"}]
["Kent County Council",12015556,"121 CARE AND MOBILITY LTD","2020-04-29",611.36,"S","5KG","Physical support - 65+ Long Term Support: Community: Home Care","530",{"$f":"VLOOKUP(I158,'[1]Sub Lookup'!$A$1:$B$65536,2,FALSE)","v":"Commissioned Service - Other"}]
["Kent County Council",12015558,"121 CARE AND MOBILITY LTD","2020-04-29",270.93,"S","5KG","Physical support - 65+ Long Term Support: Community: Home Care","530",{"$f":"VLOOKUP(I159,'[1]Sub Lookup'!$A$1:$B$65536,2,FALSE)","v":"Commissioned Service - Other"}]
["Kent County Council",12015495,"121 CARE AND MOBILITY LTD","2020-04-29",573.1,"S","5KG","Physical support - 65+ Long Term Support: Community: Home Care","530",{"$f":"VLOOKUP(I160,'[1]Sub Lookup'!$A$1:$B$65536,2,FALSE)","v":"Commissioned Service - Other"}]
["Kent County Council",12015520,"121 CARE AND MOBILITY LTD","2020-04-29",875.42000000000007,"S","5JG","Physical Support - 18 64 Long Term Support: Community: Home Care","530",{"$f":"VLOOKUP(I161,'[1]Sub Lookup'!$A$1:$B$65536,2,FALSE)","v":"Commissioned Service - Other"}]
["Kent County Council",12015521,"121 CARE AND MOBILITY LTD","2020-04-29",750.30000000000007,"S","5JG","Physical Support - 18 64 Long Term Support: Community: Home Care","530",{"$f":"VLOOKUP(I162,'[1]Sub Lookup'!$A$1:$B$65536,2,FALSE)","v":"Commissioned Service - Other"}]
["Kent County Council",12015518,"121 CARE AND MOBILITY LTD","2020-04-29",333.56,"S","5JG","Physical Support - 18 64 Long Term Support: Community: Home Care","530",{"$f":"VLOOKUP(I163,'[1]Sub Lookup'!$A$1:$B$65536,2,FALSE)","v":"Commissioned Service - Other"}]
["Kent County Council",12015487,"121 CARE AND MOBILITY LTD","2020-04-29",437.64,"S","5KG","Physical support - 65+ Long Term Support: Community: Home Care","530",{"$f":"VLOOKUP(I164,'[1]Sub Lookup'!$A$1:$B$65536,2,FALSE)","v":"Commissioned Service - Other"}]
["Kent County Council",12015500,"121 CARE AND MOBILITY LTD","2020-04-29",486.36,"S","5KG","Physical support - 65+ Long Term Support: Community: Home Care","530",{"$f":"VLOOKUP(I165,'[1]Sub Lookup'!$A$1:$B$65536,2,FALSE)","v":"Commissioned Service - Other"}]
["Kent County Council",12015492,"121 CARE AND MOBILITY LTD","2020-04-29",457.58,"S","5PG","Sensory Support - 65+ Long Term Support: Community: Home Care","530",{"$f":"VLOOKUP(I166,'[1]Sub Lookup'!$A$1:$B$65536,2,FALSE)","v":"Commissioned Service - Other"}]
["Kent County Council",12015562,"121 CARE AND MOBILITY LTD","2020-04-29",486.36,"S","5KG","Physical support - 65+ Long Term Support: Community: Home Care","530",{"$f":"VLOOKUP(I167,'[1]Sub Lookup'!$A$1:$B$65536,2,FALSE)","v":"Commissioned Service - Other"}]
["Kent County Council",12015485,"121 CARE AND MOBILITY LTD","2020-04-29",507.24,"S","5KG","Physical support - 65+ Long Term Support: Community: Home Care","530",{"$f":"VLOOKUP(I168,'[1]Sub Lookup'!$A$1:$B$65536,2,FALSE)","v":"Commissioned Service - Other"}]
["Kent County Council",12015486,"121 CARE AND MOBILITY LTD","2020-04-29",535.08000000000004,"S","5KG","Physical support - 65+ Long Term Support: Community: Home Care","530",{"$f":"VLOOKUP(I169,'[1]Sub Lookup'!$A$1:$B$65536,2,FALSE)","v":"Commissioned Service - Other"}]
["Kent County Council",12015482,"121 CARE AND MOBILITY LTD","2020-04-29",424.62,"S","5KG","Physical support - 65+ Long Term Support: Community: Home Care","530",{"$f":"VLOOKUP(I170,'[1]Sub Lookup'!$A$1:$B$65536,2,FALSE)","v":"Commissioned Service - Other"}]
["Kent County Council",12015513,"121 CARE AND MOBILITY LTD","2020-04-29",535.08000000000004,"S","5KG","Physical support - 65+ Long Term Support: Community: Home Care","530",{"$f":"VLOOKUP(I171,'[1]Sub Lookup'!$A$1:$B$65536,2,FALSE)","v":"Commissioned Service - Other"}]
["Kent County Council",12015483,"121 CARE AND MOBILITY LTD","2020-04-29",424.62,"S","5KG","Physical support - 65+ Long Term Support: Community: Home Care","530",{"$f":"VLOOKUP(I172,'[1]Sub Lookup'!$A$1:$B$65536,2,FALSE)","v":"Commissioned Service - Other"}]
["Kent County Council",12015484,"121 CARE AND MOBILITY LTD","2020-04-29",424.62,"S","5KG","Physical support - 65+ Long Term Support: Community: Home Care","530",{"$f":"VLOOKUP(I173,'[1]Sub Lookup'!$A$1:$B$65536,2,FALSE)","v":"Commissioned Service - Other"}]
["Kent County Council",12015579,"121 CARE AND MOBILITY LTD","2020-04-29",295.28000000000003,"S","5PG","Sensory Support - 65+ Long Term Support: Community: Home Care","530",{"$f":"VLOOKUP(I174,'[1]Sub Lookup'!$A$1:$B$65536,2,FALSE)","v":"Commissioned Service - Other"}]
["Kent County Council",12017591,"121 CARE AND MOBILITY LTD","2020-04-29",41091.160000000003,"S","5XC","Commissioning & Service Delivery","530",{"$f":"VLOOKUP(I175,'[1]Sub Lookup'!$A$1:$B$65536,2,FALSE)","v":"Commissioned Service - Other"}]
["Kent County Council",12015583,"121 CARE AND MOBILITY LTD","2020-04-29",510.72,"S","5KG","Physical support - 65+ Long Term Support: Community: Home Care","530",{"$f":"VLOOKUP(I176,'[1]Sub Lookup'!$A$1:$B$65536,2,FALSE)","v":"Commissioned Service - Other"}]
["Kent County Council",12015574,"121 CARE AND MOBILITY LTD","2020-04-29",291.76,"S","5KG","Physical support - 65+ Long Term Support: Community: Home Care","530",{"$f":"VLOOKUP(I177,'[1]Sub Lookup'!$A$1:$B$65536,2,FALSE)","v":"Commissioned Service - Other"}]
["Kent County Council",12015612,"121 CARE AND MOBILITY LTD","2020-04-29",534.94000000000005,"S","5KG","Physical support - 65+ Long Term Support: Community: Home Care","530",{"$f":"VLOOKUP(I178,'[1]Sub Lookup'!$A$1:$B$65536,2,FALSE)","v":"Commissioned Service - Other"}]
["Kent County Council",12015530,"121 CARE AND MOBILITY LTD","2020-04-29",632.24,"S","5KG","Physical support - 65+ Long Term Support: Community: Home Care","530",{"$f":"VLOOKUP(I179,'[1]Sub Lookup'!$A$1:$B$65536,2,FALSE)","v":"Commissioned Service - Other"}]
["Kent County Council",12015607,"121 CARE AND MOBILITY LTD","2020-04-29",588.56000000000006,"S","5KG","Physical support - 65+ Long Term Support: Community: Home Care","530",{"$f":"VLOOKUP(I180,'[1]Sub Lookup'!$A$1:$B$65536,2,FALSE)","v":"Commissioned Service - Other"}]
["Kent County Council",12015509,"121 CARE AND MOBILITY LTD","2020-04-29",316.12,"S","5JG","Physical Support - 18 64 Long Term Support: Community: Home Care","530",{"$f":"VLOOKUP(I181,'[1]Sub Lookup'!$A$1:$B$65536,2,FALSE)","v":"Commissioned Service - Other"}]
["Kent County Council",12015611,"121 CARE AND MOBILITY LTD","2020-04-29",672.66,"S","5KG","Physical support - 65+ Long Term Support: Community: Home Care","530",{"$f":"VLOOKUP(I182,'[1]Sub Lookup'!$A$1:$B$65536,2,FALSE)","v":"Commissioned Service - Other"}]
["Kent County Council",12015534,"121 CARE AND MOBILITY LTD","2020-04-29",632.24,"S","5KG","Physical support - 65+ Long Term Support: Community: Home Care","530",{"$f":"VLOOKUP(I183,'[1]Sub Lookup'!$A$1:$B$65536,2,FALSE)","v":"Commissioned Service - Other"}]
["Kent County Council",12015531,"121 CARE AND MOBILITY LTD","2020-04-29",632.24,"S","5KG","Physical support - 65+ Long Term Support: Community: Home Care","530",{"$f":"VLOOKUP(I184,'[1]Sub Lookup'!$A$1:$B$65536,2,FALSE)","v":"Commissioned Service - Other"}]
["Kent County Council",12015526,"121 CARE AND MOBILITY LTD","2020-04-29",267.47000000000003,"S","5KG","Physical support - 65+ Long Term Support: Community: Home Care","530",{"$f":"VLOOKUP(I185,'[1]Sub Lookup'!$A$1:$B$65536,2,FALSE)","v":"Commissioned Service - Other"}]
["Kent County Council",12015553,"121 CARE AND MOBILITY LTD","2020-04-29",267.47000000000003,"S","5KG","Physical support - 65+ Long Term Support: Community: Home Care","530",{"$f":"VLOOKUP(I186,'[1]Sub Lookup'!$A$1:$B$65536,2,FALSE)","v":"Commissioned Service - Other"}]
["Kent County Council",12015529,"121 CARE AND MOBILITY LTD","2020-04-29",437.64,"S","5KG","Physical support - 65+ Long Term Support: Community: Home Care","530",{"$f":"VLOOKUP(I187,'[1]Sub Lookup'!$A$1:$B$65536,2,FALSE)","v":"Commissioned Service - Other"}]
["Kent County Council",12015589,"121 CARE AND MOBILITY LTD","2020-04-29",481.32,"S","5KG","Physical support - 65+ Long Term Support: Community: Home Care","530",{"$f":"VLOOKUP(I188,'[1]Sub Lookup'!$A$1:$B$65536,2,FALSE)","v":"Commissioned Service - Other"}]
["Kent County Council",12015503,"121 CARE AND MOBILITY LTD","2020-04-29",583.52,"S","5KG","Physical support - 65+ Long Term Support: Community: Home Care","530",{"$f":"VLOOKUP(I189,'[1]Sub Lookup'!$A$1:$B$65536,2,FALSE)","v":"Commissioned Service - Other"}]
["Kent County Council",12015535,"121 CARE AND MOBILITY LTD","2020-04-29",491.5,"S","5KG","Physical support - 65+ Long Term Support: Community: Home Care","530",{"$f":"VLOOKUP(I190,'[1]Sub Lookup'!$A$1:$B$65536,2,FALSE)","v":"Commissioned Service - Other"}]
["Kent County Council",12015614,"121 CARE AND MOBILITY LTD","2020-04-29",486.36,"S","5JG","Physical Support - 18 64 Long Term Support: Community: Home Care","530",{"$f":"VLOOKUP(I191,'[1]Sub Lookup'!$A$1:$B$65536,2,FALSE)","v":"Commissioned Service - Other"}]
["Kent County Council",12015540,"121 CARE AND MOBILITY LTD","2020-04-29",364.7,"S","5KG","Physical support - 65+ Long Term Support: Community: Home Care","530",{"$f":"VLOOKUP(I192,'[1]Sub Lookup'!$A$1:$B$65536,2,FALSE)","v":"Commissioned Service - Other"}]
["Kent County Council",12015561,"121 CARE AND MOBILITY LTD","2020-04-29",486.36,"S","5KG","Physical support - 65+ Long Term Support: Community: Home Care","530",{"$f":"VLOOKUP(I193,'[1]Sub Lookup'!$A$1:$B$65536,2,FALSE)","v":"Commissioned Service - Other"}]
["Kent County Council",12015582,"121 CARE AND MOBILITY LTD","2020-04-29",395.96000000000004,"S","5KG","Physical support - 65+ Long Term Support: Community: Home Care","530",{"$f":"VLOOKUP(I194,'[1]Sub Lookup'!$A$1:$B$65536,2,FALSE)","v":"Commissioned Service - Other"}]
["Kent County Council",12015528,"121 CARE AND MOBILITY LTD","2020-04-29",653.08000000000004,"S","5KG","Physical support - 65+ Long Term Support: Community: Home Care","530",{"$f":"VLOOKUP(I195,'[1]Sub Lookup'!$A$1:$B$65536,2,FALSE)","v":"Commissioned Service - Other"}]
["Kent County Council",11984081,"1SC GUARDING LIMITED","2020-04-17",6353.92,"C","8DW","Non Operational Properties","141",{"$f":"VLOOKUP(I196,'[1]Sub Lookup'!$A$1:$B$65536,2,FALSE)","v":"Premises Security Charges"}]
["Kent County Council",12014209,"1ST BRABOURNE & SMEETH SCOUTS AND GUIDES","2020-04-29",908.21,"P","7WE","Waste Collection Authorities (Payments to Districts)","520",{"$f":"VLOOKUP(I197,'[1]Sub Lookup'!$A$1:$B$65536,2,FALSE)","v":"Voluntary Associations"}]
["Kent County Council",12009433,"1ST BUS STOP LTD","2020-04-29",37200,"P","7HG","Freedom Pass","523",{"$f":"VLOOKUP(I198,'[1]Sub Lookup'!$A$1:$B$65536,2,FALSE)","v":"Private Contractors"}]
["Kent County Council",12009365,"1ST BUS STOP LTD","2020-04-29",5170,"E","1RX","Admissions & Transport","225",{"$f":"VLOOKUP(I199,'[1]Sub Lookup'!$A$1:$B$65536,2,FALSE)","v":"Home to School Transport - Bus"}]
["Kent County Council",11997634,"1ST CHOICE TAXIS LTD","2020-04-20",1419.67,"E","1RX","Admissions & Transport","222",{"$f":"VLOOKUP(I200,'[1]Sub Lookup'!$A$1:$B$65536,2,FALSE)","v":"Home to School Transport - Hired"}]
["Kent County Council",11997635,"1ST CHOICE TAXIS LTD","2020-04-20",1269.1000000000001,"E","1RX","Admissions & Transport","222",{"$f":"VLOOKUP(I201,'[1]Sub Lookup'!$A$1:$B$65536,2,FALSE)","v":"Home to School Transport - Hired"}]
["Kent County Council",11997635,"1ST CHOICE TAXIS LTD","2020-04-20",634.55000000000007,"E","1RX","Admissions & Transport","222",{"$f":"VLOOKUP(I202,'[1]Sub Lookup'!$A$1:$B$65536,2,FALSE)","v":"Home to School Transport - Hired"}]
["Kent County Council",11997631,"1ST CHOICE TAXIS LTD","2020-04-20",2047.5,"E","1RX","Admissions & Transport","222",{"$f":"VLOOKUP(I203,'[1]Sub Lookup'!$A$1:$B$65536,2,FALSE)","v":"Home to School Transport - Hired"}]
["Kent County Council",11997633,"1ST CHOICE TAXIS LTD","2020-04-20",2264,"E","1RX","Admissions & Transport","222",{"$f":"VLOOKUP(I204,'[1]Sub Lookup'!$A$1:$B$65536,2,FALSE)","v":"Home to School Transport - Hired"}]
["Kent County Council",11997629,"1ST CHOICE TAXIS LTD","2020-04-20",1905.75,"E","1RX","Admissions & Transport","222",{"$f":"VLOOKUP(I205,'[1]Sub Lookup'!$A$1:$B$65536,2,FALSE)","v":"Home to School Transport - Hired"}]
["Kent County Council",11997632,"1ST CHOICE TAXIS LTD","2020-04-20",3774,"E","1RX","Admissions & Transport","222",{"$f":"VLOOKUP(I206,'[1]Sub Lookup'!$A$1:$B$65536,2,FALSE)","v":"Home to School Transport - Hired"}]
["Kent County Council",11997630,"1ST CHOICE TAXIS LTD","2020-04-20",2625,"E","1RX","Admissions & Transport","222",{"$f":"VLOOKUP(I207,'[1]Sub Lookup'!$A$1:$B$65536,2,FALSE)","v":"Home to School Transport - Hired"}]
["Kent County Council",12001632,"1ST CHOICE TAXIS LTD","2020-04-22",2656,"E","1RX","Admissions & Transport","222",{"$f":"VLOOKUP(I208,'[1]Sub Lookup'!$A$1:$B$65536,2,FALSE)","v":"Home to School Transport - Hired"}]
["Kent County Council",12001631,"1ST CHOICE TAXIS LTD","2020-04-22",2561.6,"E","1RX","Admissions & Transport","222",{"$f":"VLOOKUP(I209,'[1]Sub Lookup'!$A$1:$B$65536,2,FALSE)","v":"Home to School Transport - Hired"}]
["Kent County Council",12001630,"1ST CHOICE TAXIS LTD","2020-04-22",3309.3,"E","1RX","Admissions & Transport","222",{"$f":"VLOOKUP(I210,'[1]Sub Lookup'!$A$1:$B$65536,2,FALSE)","v":"Home to School Transport - Hired"}]
["Kent County Council",12001633,"1ST CHOICE TAXIS LTD","2020-04-22",2226.8000000000002,"E","1RX","Admissions & Transport","222",{"$f":"VLOOKUP(I211,'[1]Sub Lookup'!$A$1:$B$65536,2,FALSE)","v":"Home to School Transport - Hired"}]
["Kent County Council",11993913,"2 CIRCLES COMMUNICATIONS LIMITED","2020-04-17",13956.16,"P","7HS","Traffic Systems - Maint/Energy","523",{"$f":"VLOOKUP(I212,'[1]Sub Lookup'!$A$1:$B$65536,2,FALSE)","v":"Private Contractors"}]
["Kent County Council",12001194,"24 HOURS CRAYFORD CARS LTD","2020-04-22",2516,"E","1RX","Admissions & Transport","222",{"$f":"VLOOKUP(I213,'[1]Sub Lookup'!$A$1:$B$65536,2,FALSE)","v":"Home to School Transport - Hired"}]
["Kent County Council",12001193,"24 HOURS CRAYFORD CARS LTD","2020-04-22",1320,"E","1RX","Admissions & Transport","222",{"$f":"VLOOKUP(I214,'[1]Sub Lookup'!$A$1:$B$65536,2,FALSE)","v":"Home to School Transport - Hired"}]
["Kent County Council",12001190,"24 HOURS CRAYFORD CARS LTD","2020-04-22",3564,"E","1RX","Admissions & Transport","222",{"$f":"VLOOKUP(I215,'[1]Sub Lookup'!$A$1:$B$65536,2,FALSE)","v":"Home to School Transport - Hired"}]
["Kent County Council",12001188,"24 HOURS CRAYFORD CARS LTD","2020-04-22",1020,"E","1RX","Admissions & Transport","222",{"$f":"VLOOKUP(I216,'[1]Sub Lookup'!$A$1:$B$65536,2,FALSE)","v":"Home to School Transport - Hired"}]
["Kent County Council",12001189,"24 HOURS CRAYFORD CARS LTD","2020-04-22",2112,"E","1RX","Admissions & Transport","222",{"$f":"VLOOKUP(I217,'[1]Sub Lookup'!$A$1:$B$65536,2,FALSE)","v":"Home to School Transport - Hired"}]
["Kent County Council",12001182,"24 HOURS CRAYFORD CARS LTD","2020-04-22",3038,"E","1RX","Admissions & Transport","222",{"$f":"VLOOKUP(I218,'[1]Sub Lookup'!$A$1:$B$65536,2,FALSE)","v":"Home to School Transport - Hired"}]
["Kent County Council",12001184,"24 HOURS CRAYFORD CARS LTD","2020-04-22",1110,"E","1RX","Admissions & Transport","222",{"$f":"VLOOKUP(I219,'[1]Sub Lookup'!$A$1:$B$65536,2,FALSE)","v":"Home to School Transport - Hired"}]
["Kent County Council",12001183,"24 HOURS CRAYFORD CARS LTD","2020-04-22",3325,"E","1RX","Admissions & Transport","222",{"$f":"VLOOKUP(I220,'[1]Sub Lookup'!$A$1:$B$65536,2,FALSE)","v":"Home to School Transport - Hired"}]
["Kent County Council",12001181,"24 HOURS CRAYFORD CARS LTD","2020-04-22",2822,"E","1RX","Admissions & Transport","222",{"$f":"VLOOKUP(I221,'[1]Sub Lookup'!$A$1:$B$65536,2,FALSE)","v":"Home to School Transport - Hired"}]
["Kent County Council",12001159,"24 HOURS CRAYFORD CARS LTD","2020-04-22",1794,"E","1RX","Admissions & Transport","222",{"$f":"VLOOKUP(I222,'[1]Sub Lookup'!$A$1:$B$65536,2,FALSE)","v":"Home to School Transport - Hired"}]
["Kent County Council",12001180,"24 HOURS CRAYFORD CARS LTD","2020-04-22",1850,"E","1RX","Admissions & Transport","222",{"$f":"VLOOKUP(I223,'[1]Sub Lookup'!$A$1:$B$65536,2,FALSE)","v":"Home to School Transport - Hired"}]
["Kent County Council",12001186,"24 HOURS CRAYFORD CARS LTD","2020-04-22",310.5,"E","1RX","Admissions & Transport","222",{"$f":"VLOOKUP(I224,'[1]Sub Lookup'!$A$1:$B$65536,2,FALSE)","v":"Home to School Transport - Hired"}]
["Kent County Council",12001179,"24 HOURS CRAYFORD CARS LTD","2020-04-22",2660,"E","1RX","Admissions & Transport","222",{"$f":"VLOOKUP(I225,'[1]Sub Lookup'!$A$1:$B$65536,2,FALSE)","v":"Home to School Transport - Hired"}]
["Kent County Council",12001178,"24 HOURS CRAYFORD CARS LTD","2020-04-22",2465,"E","1RX","Admissions & Transport","222",{"$f":"VLOOKUP(I226,'[1]Sub Lookup'!$A$1:$B$65536,2,FALSE)","v":"Home to School Transport - Hired"}]
["Kent County Council",12001195,"24 HOURS CRAYFORD CARS LTD","2020-04-22",1480,"E","1RX","Admissions & Transport","222",{"$f":"VLOOKUP(I227,'[1]Sub Lookup'!$A$1:$B$65536,2,FALSE)","v":"Home to School Transport - Hired"}]
["Kent County Council",12001196,"24 HOURS CRAYFORD CARS LTD","2020-04-22",950,"E","1RX","Admissions & Transport","222",{"$f":"VLOOKUP(I228,'[1]Sub Lookup'!$A$1:$B$65536,2,FALSE)","v":"Home to School Transport - Hired"}]
["Kent County Council",12001198,"24 HOURS CRAYFORD CARS LTD","2020-04-22",900,"E","1RX","Admissions & Transport","222",{"$f":"VLOOKUP(I229,'[1]Sub Lookup'!$A$1:$B$65536,2,FALSE)","v":"Home to School Transport - Hired"}]
["Kent County Council",12001197,"24 HOURS CRAYFORD CARS LTD","2020-04-22",2520,"E","1RX","Admissions & Transport","222",{"$f":"VLOOKUP(I230,'[1]Sub Lookup'!$A$1:$B$65536,2,FALSE)","v":"Home to School Transport - Hired"}]
["Kent County Council",12001200,"24 HOURS CRAYFORD CARS LTD","2020-04-22",1815,"E","1RX","Admissions & Transport","222",{"$f":"VLOOKUP(I231,'[1]Sub Lookup'!$A$1:$B$65536,2,FALSE)","v":"Home to School Transport - Hired"}]
["Kent County Council",12001169,"24 HOURS CRAYFORD CARS LTD","2020-04-22",1225,"S","5AJ","Learning Disability Support - 18 64 Long Term Support: Community: Day Care","232",{"$f":"VLOOKUP(I232,'[1]Sub Lookup'!$A$1:$B$65536,2,FALSE)","v":"Public Transport (Clients)"}]
["Kent County Council",12001175,"24 HOURS CRAYFORD CARS LTD","2020-04-22",840,"S","5AJ","Learning Disability Support - 18 64 Long Term Support: Community: Day Care","232",{"$f":"VLOOKUP(I233,'[1]Sub Lookup'!$A$1:$B$65536,2,FALSE)","v":"Public Transport (Clients)"}]
["Kent County Council",12001164,"24 HOURS CRAYFORD CARS LTD","2020-04-22",550,"S","5AJ","Learning Disability Support - 18 64 Long Term Support: Community: Day Care","232",{"$f":"VLOOKUP(I234,'[1]Sub Lookup'!$A$1:$B$65536,2,FALSE)","v":"Public Transport (Clients)"}]
["Kent County Council",12001176,"24 HOURS CRAYFORD CARS LTD","2020-04-22",3116,"E","1RX","Admissions & Transport","222",{"$f":"VLOOKUP(I235,'[1]Sub Lookup'!$A$1:$B$65536,2,FALSE)","v":"Home to School Transport - Hired"}]
["Kent County Council",12001157,"24 HOURS CRAYFORD CARS LTD","2020-04-22",1120,"E","1RX","Admissions & Transport","222",{"$f":"VLOOKUP(I236,'[1]Sub Lookup'!$A$1:$B$65536,2,FALSE)","v":"Home to School Transport - Hired"}]
["Kent County Council",12001185,"24 HOURS CRAYFORD CARS LTD","2020-04-22",1040,"E","1RX","Admissions & Transport","222",{"$f":"VLOOKUP(I237,'[1]Sub Lookup'!$A$1:$B$65536,2,FALSE)","v":"Home to School Transport - Hired"}]
["Kent County Council",12001187,"24 HOURS CRAYFORD CARS LTD","2020-04-22",2130,"E","1RX","Admissions & Transport","222",{"$f":"VLOOKUP(I238,'[1]Sub Lookup'!$A$1:$B$65536,2,FALSE)","v":"Home to School Transport - Hired"}]
["Kent County Council",12001191,"24 HOURS CRAYFORD CARS LTD","2020-04-22",1210,"E","1RX","Admissions & Transport","222",{"$f":"VLOOKUP(I239,'[1]Sub Lookup'!$A$1:$B$65536,2,FALSE)","v":"Home to School Transport - Hired"}]
["Kent County Council",12001199,"24 HOURS CRAYFORD CARS LTD","2020-04-22",3040,"E","1RX","Admissions & Transport","222",{"$f":"VLOOKUP(I240,'[1]Sub Lookup'!$A$1:$B$65536,2,FALSE)","v":"Home to School Transport - Hired"}]
["Kent County Council",12001149,"24 HOURS CRAYFORD CARS LTD","2020-04-22",3190,"E","1RX","Admissions & Transport","222",{"$f":"VLOOKUP(I241,'[1]Sub Lookup'!$A$1:$B$65536,2,FALSE)","v":"Home to School Transport - Hired"}]
["Kent County Council",12001161,"24 HOURS CRAYFORD CARS LTD","2020-04-22",1050,"E","1RX","Admissions & Transport","222",{"$f":"VLOOKUP(I242,'[1]Sub Lookup'!$A$1:$B$65536,2,FALSE)","v":"Home to School Transport - Hired"}]
["Kent County Council",12001172,"24 HOURS CRAYFORD CARS LTD","2020-04-22",418.5,"E","1RX","Admissions & Transport","222",{"$f":"VLOOKUP(I243,'[1]Sub Lookup'!$A$1:$B$65536,2,FALSE)","v":"Home to School Transport - Hired"}]
["Kent County Council",12001174,"24 HOURS CRAYFORD CARS LTD","2020-04-22",850,"E","1RX","Admissions & Transport","222",{"$f":"VLOOKUP(I244,'[1]Sub Lookup'!$A$1:$B$65536,2,FALSE)","v":"Home to School Transport - Hired"}]
["Kent County Council",12001150,"24 HOURS CRAYFORD CARS LTD","2020-04-22",1480,"E","1RX","Admissions & Transport","222",{"$f":"VLOOKUP(I245,'[1]Sub Lookup'!$A$1:$B$65536,2,FALSE)","v":"Home to School Transport - Hired"}]
["Kent County Council",12001160,"24 HOURS CRAYFORD CARS LTD","2020-04-22",1332,"E","1RX","Admissions & Transport","222",{"$f":"VLOOKUP(I246,'[1]Sub Lookup'!$A$1:$B$65536,2,FALSE)","v":"Home to School Transport - Hired"}]
["Kent County Council",12001148,"24 HOURS CRAYFORD CARS LTD","2020-04-22",1850,"E","1RX","Admissions & Transport","222",{"$f":"VLOOKUP(I247,'[1]Sub Lookup'!$A$1:$B$65536,2,FALSE)","v":"Home to School Transport - Hired"}]
["Kent County Council",12001192,"24 HOURS CRAYFORD CARS LTD","2020-04-22",1295,"E","1RX","Admissions & Transport","222",{"$f":"VLOOKUP(I248,'[1]Sub Lookup'!$A$1:$B$65536,2,FALSE)","v":"Home to School Transport - Hired"}]
["Kent County Council",12001158,"24 HOURS CRAYFORD CARS LTD","2020-04-22",1764,"E","1RX","Admissions & Transport","222",{"$f":"VLOOKUP(I249,'[1]Sub Lookup'!$A$1:$B$65536,2,FALSE)","v":"Home to School Transport - Hired"}]
["Kent County Council",12001156,"24 HOURS CRAYFORD CARS LTD","2020-04-22",1225,"E","1RX","Admissions & Transport","222",{"$f":"VLOOKUP(I250,'[1]Sub Lookup'!$A$1:$B$65536,2,FALSE)","v":"Home to School Transport - Hired"}]
["Kent County Council",12001145,"24 HOURS CRAYFORD CARS LTD","2020-04-22",2394,"E","1RX","Admissions & Transport","222",{"$f":"VLOOKUP(I251,'[1]Sub Lookup'!$A$1:$B$65536,2,FALSE)","v":"Home to School Transport - Hired"}]
["Kent County Council",12001155,"24 HOURS CRAYFORD CARS LTD","2020-04-22",3792.5,"E","1RX","Admissions & Transport","222",{"$f":"VLOOKUP(I252,'[1]Sub Lookup'!$A$1:$B$65536,2,FALSE)","v":"Home to School Transport - Hired"}]
["Kent County Council",12001163,"24 HOURS CRAYFORD CARS LTD","2020-04-22",1665,"E","1RX","Admissions & Transport","222",{"$f":"VLOOKUP(I253,'[1]Sub Lookup'!$A$1:$B$65536,2,FALSE)","v":"Home to School Transport - Hired"}]
["Kent County Council",12001154,"24 HOURS CRAYFORD CARS LTD","2020-04-22",1480,"E","1RX","Admissions & Transport","222",{"$f":"VLOOKUP(I254,'[1]Sub Lookup'!$A$1:$B$65536,2,FALSE)","v":"Home to School Transport - Hired"}]
["Kent County Council",12001177,"24 HOURS CRAYFORD CARS LTD","2020-04-22",2109,"E","1RX","Admissions & Transport","222",{"$f":"VLOOKUP(I255,'[1]Sub Lookup'!$A$1:$B$65536,2,FALSE)","v":"Home to School Transport - Hired"}]
["Kent County Council",12001167,"24 HOURS CRAYFORD CARS LTD","2020-04-22",3515,"E","1RX","Admissions & Transport","222",{"$f":"VLOOKUP(I256,'[1]Sub Lookup'!$A$1:$B$65536,2,FALSE)","v":"Home to School Transport - Hired"}]
["Kent County Council",12001162,"24 HOURS CRAYFORD CARS LTD","2020-04-22",2964,"E","1RX","Admissions & Transport","222",{"$f":"VLOOKUP(I257,'[1]Sub Lookup'!$A$1:$B$65536,2,FALSE)","v":"Home to School Transport - Hired"}]
["Kent County Council",12001173,"24 HOURS CRAYFORD CARS LTD","2020-04-22",1517,"E","1RX","Admissions & Transport","222",{"$f":"VLOOKUP(I258,'[1]Sub Lookup'!$A$1:$B$65536,2,FALSE)","v":"Home to School Transport - Hired"}]
["Kent County Council",12001147,"24 HOURS CRAYFORD CARS LTD","2020-04-22",2640,"E","1RX","Admissions & Transport","222",{"$f":"VLOOKUP(I259,'[1]Sub Lookup'!$A$1:$B$65536,2,FALSE)","v":"Home to School Transport - Hired"}]
["Kent County Council",12001170,"24 HOURS CRAYFORD CARS LTD","2020-04-22",2112,"E","1RX","Admissions & Transport","222",{"$f":"VLOOKUP(I260,'[1]Sub Lookup'!$A$1:$B$65536,2,FALSE)","v":"Home to School Transport - Hired"}]
["Kent County Council",12001168,"24 HOURS CRAYFORD CARS LTD","2020-04-22",2923,"E","1RX","Admissions & Transport","222",{"$f":"VLOOKUP(I261,'[1]Sub Lookup'!$A$1:$B$65536,2,FALSE)","v":"Home to School Transport - Hired"}]
["Kent County Council",12001171,"24 HOURS CRAYFORD CARS LTD","2020-04-22",2035,"E","1RX","Admissions & Transport","222",{"$f":"VLOOKUP(I262,'[1]Sub Lookup'!$A$1:$B$65536,2,FALSE)","v":"Home to School Transport - Hired"}]
["Kent County Council",12001166,"24 HOURS CRAYFORD CARS LTD","2020-04-22",3517.5,"E","1RX","Admissions & Transport","222",{"$f":"VLOOKUP(I263,'[1]Sub Lookup'!$A$1:$B$65536,2,FALSE)","v":"Home to School Transport - Hired"}]
["Kent County Council",12001165,"24 HOURS CRAYFORD CARS LTD","2020-04-22",4180,"E","1RX","Admissions & Transport","222",{"$f":"VLOOKUP(I264,'[1]Sub Lookup'!$A$1:$B$65536,2,FALSE)","v":"Home to School Transport - Hired"}]
["Kent County Council",12001151,"24 HOURS CRAYFORD CARS LTD","2020-04-22",2556,"E","1RX","Admissions & Transport","222",{"$f":"VLOOKUP(I265,'[1]Sub Lookup'!$A$1:$B$65536,2,FALSE)","v":"Home to School Transport - Hired"}]
["Kent County Council",12001146,"24 HOURS CRAYFORD CARS LTD","2020-04-22",1125,"E","1RX","Admissions & Transport","222",{"$f":"VLOOKUP(I266,'[1]Sub Lookup'!$A$1:$B$65536,2,FALSE)","v":"Home to School Transport - Hired"}]
["Kent County Council",12001152,"24 HOURS CRAYFORD CARS LTD","2020-04-22",1599,"E","1RX","Admissions & Transport","222",{"$f":"VLOOKUP(I267,'[1]Sub Lookup'!$A$1:$B$65536,2,FALSE)","v":"Home to School Transport - Hired"}]
["Kent County Council",12001153,"24 HOURS CRAYFORD CARS LTD","2020-04-22",3535,"E","1RX","Admissions & Transport","222",{"$f":"VLOOKUP(I268,'[1]Sub Lookup'!$A$1:$B$65536,2,FALSE)","v":"Home to School Transport - Hired"}]
["Kent County Council",11997504,"247 TRANSPORT SOLUTIONS LTD","2020-04-20",975,"E","1RX","Admissions & Transport","222",{"$f":"VLOOKUP(I269,'[1]Sub Lookup'!$A$1:$B$65536,2,FALSE)","v":"Home to School Transport - Hired"}]
["Kent County Council",11997505,"247 TRANSPORT SOLUTIONS LTD","2020-04-20",1150,"E","1RX","Admissions & Transport","222",{"$f":"VLOOKUP(I270,'[1]Sub Lookup'!$A$1:$B$65536,2,FALSE)","v":"Home to School Transport - Hired"}]
["Kent County Council",11997503,"247 TRANSPORT SOLUTIONS LTD","2020-04-20",1942.5,"E","1RX","Admissions & Transport","222",{"$f":"VLOOKUP(I271,'[1]Sub Lookup'!$A$1:$B$65536,2,FALSE)","v":"Home to School Transport - Hired"}]
["Kent County Council",12014369,"24X7 LTD","2020-04-29",1497.28,"E","1RX","Admissions & Transport","222",{"$f":"VLOOKUP(I272,'[1]Sub Lookup'!$A$1:$B$65536,2,FALSE)","v":"Home to School Transport - Hired"}]
["Kent County Council",12014370,"24X7 LTD","2020-04-29",1558.2,"E","1RX","Admissions & Transport","222",{"$f":"VLOOKUP(I273,'[1]Sub Lookup'!$A$1:$B$65536,2,FALSE)","v":"Home to School Transport - Hired"}]
["Kent County Council",12014371,"24X7 LTD","2020-04-29",2153.9700000000003,"E","1RX","Admissions & Transport","222",{"$f":"VLOOKUP(I274,'[1]Sub Lookup'!$A$1:$B$65536,2,FALSE)","v":"Home to School Transport - Hired"}]
["Kent County Council",12014372,"24X7 LTD","2020-04-29",3326.08,"E","1RX","Admissions & Transport","222",{"$f":"VLOOKUP(I275,'[1]Sub Lookup'!$A$1:$B$65536,2,FALSE)","v":"Home to School Transport - Hired"}]
["Kent County Council",12014373,"24X7 LTD","2020-04-29",2484.9,"E","1RX","Admissions & Transport","222",{"$f":"VLOOKUP(I276,'[1]Sub Lookup'!$A$1:$B$65536,2,FALSE)","v":"Home to School Transport - Hired"}]
["Kent County Council",12014374,"24X7 LTD","2020-04-29",1894.31,"E","1RX","Admissions & Transport","222",{"$f":"VLOOKUP(I277,'[1]Sub Lookup'!$A$1:$B$65536,2,FALSE)","v":"Home to School Transport - Hired"}]
["Kent County Council",12014375,"24X7 LTD","2020-04-29",2292.3000000000002,"E","1RX","Admissions & Transport","222",{"$f":"VLOOKUP(I278,'[1]Sub Lookup'!$A$1:$B$65536,2,FALSE)","v":"Home to School Transport - Hired"}]
["Kent County Council",12014376,"24X7 LTD","2020-04-29",1126.43,"E","1RX","Admissions & Transport","222",{"$f":"VLOOKUP(I279,'[1]Sub Lookup'!$A$1:$B$65536,2,FALSE)","v":"Home to School Transport - Hired"}]
["Kent County Council",12014377,"24X7 LTD","2020-04-29",3447.84,"E","1RX","Admissions & Transport","222",{"$f":"VLOOKUP(I280,'[1]Sub Lookup'!$A$1:$B$65536,2,FALSE)","v":"Home to School Transport - Hired"}]
["Kent County Council",12014378,"24X7 LTD","2020-04-29",1461.6000000000001,"E","1RX","Admissions & Transport","222",{"$f":"VLOOKUP(I281,'[1]Sub Lookup'!$A$1:$B$65536,2,FALSE)","v":"Home to School Transport - Hired"}]
["Kent County Council",12014379,"24X7 LTD","2020-04-29",976.5,"E","1RX","Admissions & Transport","222",{"$f":"VLOOKUP(I282,'[1]Sub Lookup'!$A$1:$B$65536,2,FALSE)","v":"Home to School Transport - Hired"}]
["Kent County Council",12014380,"24X7 LTD","2020-04-29",1829.52,"S","31D","IS  Res Care for Dis Child","232",{"$f":"VLOOKUP(I283,'[1]Sub Lookup'!$A$1:$B$65536,2,FALSE)","v":"Public Transport (Clients)"}]
["Kent County Council",12014381,"24X7 LTD","2020-04-29",1888.74,"S","5AJ","Learning Disability Support - 18 64 Long Term Support: Community: Day Care","232",{"$f":"VLOOKUP(I284,'[1]Sub Lookup'!$A$1:$B$65536,2,FALSE)","v":"Public Transport (Clients)"}]
["Kent County Council",12014382,"REDACTED - Personal Payment","2020-04-29",3257.98,"S","35H","Fostering NR Payments","232",{"$f":"VLOOKUP(I285,'[1]Sub Lookup'!$A$1:$B$65536,2,FALSE)","v":"Public Transport (Clients)"}]
["Kent County Council",12014383,"24X7 LTD","2020-04-29",1416.96,"E","1RX","Admissions & Transport","222",{"$f":"VLOOKUP(I286,'[1]Sub Lookup'!$A$1:$B$65536,2,FALSE)","v":"Home to School Transport - Hired"}]
["Kent County Council",12014384,"24X7 LTD","2020-04-29",869.4,"E","1RX","Admissions & Transport","222",{"$f":"VLOOKUP(I287,'[1]Sub Lookup'!$A$1:$B$65536,2,FALSE)","v":"Home to School Transport - Hired"}]
["Kent County Council",12014385,"24X7 LTD","2020-04-29",1093.82,"E","1RX","Admissions & Transport","222",{"$f":"VLOOKUP(I288,'[1]Sub Lookup'!$A$1:$B$65536,2,FALSE)","v":"Home to School Transport - Hired"}]
["Kent County Council",12014386,"24X7 LTD","2020-04-29",1783.77,"E","1RX","Admissions & Transport","222",{"$f":"VLOOKUP(I289,'[1]Sub Lookup'!$A$1:$B$65536,2,FALSE)","v":"Home to School Transport - Hired"}]
["Kent County Council",12014351,"24X7 LTD","2020-04-29",1421.2,"E","1RX","Admissions & Transport","222",{"$f":"VLOOKUP(I290,'[1]Sub Lookup'!$A$1:$B$65536,2,FALSE)","v":"Home to School Transport - Hired"}]
["Kent County Council",12014352,"24X7 LTD","2020-04-29",1197.69,"E","1RX","Admissions & Transport","222",{"$f":"VLOOKUP(I291,'[1]Sub Lookup'!$A$1:$B$65536,2,FALSE)","v":"Home to School Transport - Hired"}]
["Kent County Council",12014353,"24X7 LTD","2020-04-29",1744.16,"E","1RX","Admissions & Transport","222",{"$f":"VLOOKUP(I292,'[1]Sub Lookup'!$A$1:$B$65536,2,FALSE)","v":"Home to School Transport - Hired"}]
["Kent County Council",12014354,"24X7 LTD","2020-04-29",1455.73,"E","1RX","Admissions & Transport","222",{"$f":"VLOOKUP(I293,'[1]Sub Lookup'!$A$1:$B$65536,2,FALSE)","v":"Home to School Transport - Hired"}]
["Kent County Council",12014355,"24X7 LTD","2020-04-29",2143.02,"E","1RX","Admissions & Transport","222",{"$f":"VLOOKUP(I294,'[1]Sub Lookup'!$A$1:$B$65536,2,FALSE)","v":"Home to School Transport - Hired"}]
["Kent County Council",12014356,"24X7 LTD","2020-04-29",1495.89,"E","1RX","Admissions & Transport","222",{"$f":"VLOOKUP(I295,'[1]Sub Lookup'!$A$1:$B$65536,2,FALSE)","v":"Home to School Transport - Hired"}]
["Kent County Council",12014356,"24X7 LTD","2020-04-29",498.63,"E","1RX","Admissions & Transport","222",{"$f":"VLOOKUP(I296,'[1]Sub Lookup'!$A$1:$B$65536,2,FALSE)","v":"Home to School Transport - Hired"}]
["Kent County Council",12014357,"24X7 LTD","2020-04-29",1146.26,"E","1RX","Admissions & Transport","222",{"$f":"VLOOKUP(I297,'[1]Sub Lookup'!$A$1:$B$65536,2,FALSE)","v":"Home to School Transport - Hired"}]
["Kent County Council",12014358,"24X7 LTD","2020-04-29",1173.05,"E","1RX","Admissions & Transport","222",{"$f":"VLOOKUP(I298,'[1]Sub Lookup'!$A$1:$B$65536,2,FALSE)","v":"Home to School Transport - Hired"}]
["Kent County Council",12014359,"24X7 LTD","2020-04-29",1346.4,"E","1RX","Admissions & Transport","222",{"$f":"VLOOKUP(I299,'[1]Sub Lookup'!$A$1:$B$65536,2,FALSE)","v":"Home to School Transport - Hired"}]
["Kent County Council",12014360,"24X7 LTD","2020-04-29",4092.44,"E","1RX","Admissions & Transport","222",{"$f":"VLOOKUP(I300,'[1]Sub Lookup'!$A$1:$B$65536,2,FALSE)","v":"Home to School Transport - Hired"}]
["Kent County Council",12014361,"24X7 LTD","2020-04-29",2377.98,"E","1RX","Admissions & Transport","222",{"$f":"VLOOKUP(I301,'[1]Sub Lookup'!$A$1:$B$65536,2,FALSE)","v":"Home to School Transport - Hired"}]
["Kent County Council",12014362,"24X7 LTD","2020-04-29",1879.6000000000001,"E","1RX","Admissions & Transport","222",{"$f":"VLOOKUP(I302,'[1]Sub Lookup'!$A$1:$B$65536,2,FALSE)","v":"Home to School Transport - Hired"}]
["Kent County Council",12014363,"24X7 LTD","2020-04-29",2326.06,"E","1RX","Admissions & Transport","222",{"$f":"VLOOKUP(I303,'[1]Sub Lookup'!$A$1:$B$65536,2,FALSE)","v":"Home to School Transport - Hired"}]
["Kent County Council",12014364,"24X7 LTD","2020-04-29",2142.58,"E","1RX","Admissions & Transport","222",{"$f":"VLOOKUP(I304,'[1]Sub Lookup'!$A$1:$B$65536,2,FALSE)","v":"Home to School Transport - Hired"}]
["Kent County Council",12014365,"24X7 LTD","2020-04-29",1334.43,"E","1RX","Admissions & Transport","222",{"$f":"VLOOKUP(I305,'[1]Sub Lookup'!$A$1:$B$65536,2,FALSE)","v":"Home to School Transport - Hired"}]
["Kent County Council",12014366,"24X7 LTD","2020-04-29",2188.7800000000002,"E","1RX","Admissions & Transport","222",{"$f":"VLOOKUP(I306,'[1]Sub Lookup'!$A$1:$B$65536,2,FALSE)","v":"Home to School Transport - Hired"}]
["Kent County Council",12014367,"24X7 LTD","2020-04-29",1625.8,"E","1RX","Admissions & Transport","222",{"$f":"VLOOKUP(I307,'[1]Sub Lookup'!$A$1:$B$65536,2,FALSE)","v":"Home to School Transport - Hired"}]
["Kent County Council",12014368,"24X7 LTD","2020-04-29",1348.82,"E","1RX","Admissions & Transport","222",{"$f":"VLOOKUP(I308,'[1]Sub Lookup'!$A$1:$B$65536,2,FALSE)","v":"Home to School Transport - Hired"}]
["Kent County Council",11973471,"2GETHER SUPPORT SOLUTIONS LIMITED","2020-04-09",425.66,"S","5KP","Physical support - 65+ Short Term - Maximising Independence - Residential","320",{"$f":"VLOOKUP(I309,'[1]Sub Lookup'!$A$1:$B$65536,2,FALSE)","v":"Uniforms, Protective Clothing, Footwear Laundry, Toiletries, Personal Req Medical, First Aid"}]
["Kent County Council",11995877,"2GETHER SUPPORT SOLUTIONS LIMITED","2020-04-24",693.45,"S","5KP","Physical support - 65+ Short Term - Maximising Independence - Residential","320",{"$f":"VLOOKUP(I310,'[1]Sub Lookup'!$A$1:$B$65536,2,FALSE)","v":"Uniforms, Protective Clothing, Footwear Laundry, Toiletries, Personal Req Medical, First Aid"}]
["Kent County Council",11992738,"2PIP THERAPEUTIC SERVICES ","2020-04-24",710,"S","35T","County Adoption Team","401",{"$f":"VLOOKUP(I311,'[1]Sub Lookup'!$A$1:$B$65536,2,FALSE)","v":"Specialists Fees"}]
["Kent County Council",11967873,"4CSR","2020-04-06",757.99,"S","32P","Rented Accommodation Asylum 16-17","322",{"$f":"VLOOKUP(I312,'[1]Sub Lookup'!$A$1:$B$65536,2,FALSE)","v":"Social Services Section 17 Payments"}]
["Kent County Council",11974215,"4CSR","2020-04-06",2550,"S","38A","Integrated Children Services","530",{"$f":"VLOOKUP(I313,'[1]Sub Lookup'!$A$1:$B$65536,2,FALSE)","v":"Commissioned Service - Other"}]
["Kent County Council",11975709,"4CSR","2020-04-06",6987.43,"S","35P","Section 24","527",{"$f":"VLOOKUP(I314,'[1]Sub Lookup'!$A$1:$B$65536,2,FALSE)","v":"Services"}]
["Kent County Council",11975709,"4CSR","2020-04-06",585,"S","35P","Section 24","527",{"$f":"VLOOKUP(I315,'[1]Sub Lookup'!$A$1:$B$65536,2,FALSE)","v":"Services"}]
["Kent County Council",11975708,"4CSR","2020-04-06",2299.4299999999998,"S","35P","Section 24","527",{"$f":"VLOOKUP(I316,'[1]Sub Lookup'!$A$1:$B$65536,2,FALSE)","v":"Services"}]
["Kent County Council",11975707,"4CSR","2020-04-06",2314.2800000000002,"S","35P","Section 24","527",{"$f":"VLOOKUP(I317,'[1]Sub Lookup'!$A$1:$B$65536,2,FALSE)","v":"Services"}]
["Kent County Council",11975706,"4CSR","2020-04-06",3053.58,"S","35P","Section 24","527",{"$f":"VLOOKUP(I318,'[1]Sub Lookup'!$A$1:$B$65536,2,FALSE)","v":"Services"}]
["Kent County Council",11975705,"4CSR","2020-04-06",366.42,"S","35P","Section 24","527",{"$f":"VLOOKUP(I319,'[1]Sub Lookup'!$A$1:$B$65536,2,FALSE)","v":"Services"}]
["Kent County Council",11975705,"4CSR","2020-04-06",3000,"S","35P","Section 24","527",{"$f":"VLOOKUP(I320,'[1]Sub Lookup'!$A$1:$B$65536,2,FALSE)","v":"Services"}]
["Kent County Council",11975704,"4CSR","2020-04-06",2982.85,"S","35P","Section 24","527",{"$f":"VLOOKUP(I321,'[1]Sub Lookup'!$A$1:$B$65536,2,FALSE)","v":"Services"}]
["Kent County Council",11975703,"4CSR","2020-04-06",1500,"S","35P","Section 24","527",{"$f":"VLOOKUP(I322,'[1]Sub Lookup'!$A$1:$B$65536,2,FALSE)","v":"Services"}]
["Kent County Council",11975703,"4CSR","2020-04-06",8229.99,"S","35P","Section 24","527",{"$f":"VLOOKUP(I323,'[1]Sub Lookup'!$A$1:$B$65536,2,FALSE)","v":"Services"}]
["Kent County Council",11975703,"4CSR","2020-04-06",1980,"S","35P","Section 24","527",{"$f":"VLOOKUP(I324,'[1]Sub Lookup'!$A$1:$B$65536,2,FALSE)","v":"Services"}]
["Kent County Council",11936528,"4CSR","2020-04-06",-1825.71,"S","35P","Section 24","527",{"$f":"VLOOKUP(I325,'[1]Sub Lookup'!$A$1:$B$65536,2,FALSE)","v":"Services"}]
["Kent County Council",11975702,"4CSR","2020-04-06",12573.720000000001,"S","35P","Section 24","527",{"$f":"VLOOKUP(I326,'[1]Sub Lookup'!$A$1:$B$65536,2,FALSE)","v":"Services"}]
["Kent County Council",11997260,"4CSR","2020-04-20",2956.29,"S","35P","Section 24","527",{"$f":"VLOOKUP(I327,'[1]Sub Lookup'!$A$1:$B$65536,2,FALSE)","v":"Services"}]
["Kent County Council",11997261,"4CSR","2020-04-20",1440,"S","35P","Section 24","527",{"$f":"VLOOKUP(I328,'[1]Sub Lookup'!$A$1:$B$65536,2,FALSE)","v":"Services"}]
["Kent County Council",12006916,"4CSR","2020-04-24",2014.29,"S","38A","Integrated Children Services","530",{"$f":"VLOOKUP(I329,'[1]Sub Lookup'!$A$1:$B$65536,2,FALSE)","v":"Commissioned Service - Other"}]
["Kent County Council",11966246,"4LIFE HEALTHCARE SERVICES LTD","2020-04-01",1841,"S","5XC","Commissioning & Service Delivery","530",{"$f":"VLOOKUP(I330,'[1]Sub Lookup'!$A$1:$B$65536,2,FALSE)","v":"Commissioned Service - Other"}]
["Kent County Council",11966247,"4LIFE HEALTHCARE SERVICES LTD","2020-04-01",6382.8600000000006,"S","5XC","Commissioning & Service Delivery","530",{"$f":"VLOOKUP(I331,'[1]Sub Lookup'!$A$1:$B$65536,2,FALSE)","v":"Commissioned Service - Other"}]
["Kent County Council",11971487,"4LIFE HEALTHCARE SERVICES LTD","2020-04-02",496,"S","5AH","Learning Disability Support - 18 64 Long Term Support: Community: Supported Living","530",{"$f":"VLOOKUP(I332,'[1]Sub Lookup'!$A$1:$B$65536,2,FALSE)","v":"Commissioned Service - Other"}]
["Kent County Council",11971488,"4LIFE HEALTHCARE SERVICES LTD","2020-04-02",3379.46,"S","5AH","Learning Disability Support - 18 64 Long Term Support: Community: Supported Living","530",{"$f":"VLOOKUP(I333,'[1]Sub Lookup'!$A$1:$B$65536,2,FALSE)","v":"Commissioned Service - Other"}]
["Kent County Council",11956445,"4LIFE HEALTHCARE SERVICES LTD","2020-04-02",351.25,"S","5KG","Physical support - 65+ Long Term Support: Community: Home Care","530",{"$f":"VLOOKUP(I334,'[1]Sub Lookup'!$A$1:$B$65536,2,FALSE)","v":"Commissioned Service - Other"}]
["Kent County Council",11956753,"4LIFE HEALTHCARE SERVICES LTD","2020-04-02",421.5,"S","5KG","Physical support - 65+ Long Term Support: Community: Home Care","530",{"$f":"VLOOKUP(I335,'[1]Sub Lookup'!$A$1:$B$65536,2,FALSE)","v":"Commissioned Service - Other"}]
["Kent County Council",11956440,"4LIFE HEALTHCARE SERVICES LTD","2020-04-02",340.5,"S","5KG","Physical support - 65+ Long Term Support: Community: Home Care","530",{"$f":"VLOOKUP(I336,'[1]Sub Lookup'!$A$1:$B$65536,2,FALSE)","v":"Commissioned Service - Other"}]
["Kent County Council",11956438,"4LIFE HEALTHCARE SERVICES LTD","2020-04-02",470.5,"S","5KG","Physical support - 65+ Long Term Support: Community: Home Care","530",{"$f":"VLOOKUP(I337,'[1]Sub Lookup'!$A$1:$B$65536,2,FALSE)","v":"Commissioned Service - Other"}]
["Kent County Council",11971572,"4LIFE HEALTHCARE SERVICES LTD","2020-04-03",3379.46,"S","5AH","Learning Disability Support - 18 64 Long Term Support: Community: Supported Living","530",{"$f":"VLOOKUP(I338,'[1]Sub Lookup'!$A$1:$B$65536,2,FALSE)","v":"Commissioned Service - Other"}]
["Kent County Council",11964980,"4LIFE HEALTHCARE SERVICES LTD","2020-04-03",496,"S","5AH","Learning Disability Support - 18 64 Long Term Support: Community: Supported Living","530",{"$f":"VLOOKUP(I339,'[1]Sub Lookup'!$A$1:$B$65536,2,FALSE)","v":"Commissioned Service - Other"}]
["Kent County Council",11960939,"4LIFE HEALTHCARE SERVICES LTD","2020-04-09",778.75,"S","5KG","Physical support - 65+ Long Term Support: Community: Home Care","530",{"$f":"VLOOKUP(I340,'[1]Sub Lookup'!$A$1:$B$65536,2,FALSE)","v":"Commissioned Service - Other"}]
["Kent County Council",11960946,"4LIFE HEALTHCARE SERVICES LTD","2020-04-09",351.25,"S","5KG","Physical support - 65+ Long Term Support: Community: Home Care","530",{"$f":"VLOOKUP(I341,'[1]Sub Lookup'!$A$1:$B$65536,2,FALSE)","v":"Commissioned Service - Other"}]
["Kent County Council",11960945,"4LIFE HEALTHCARE SERVICES LTD","2020-04-09",421.5,"S","5KG","Physical support - 65+ Long Term Support: Community: Home Care","530",{"$f":"VLOOKUP(I342,'[1]Sub Lookup'!$A$1:$B$65536,2,FALSE)","v":"Commissioned Service - Other"}]
["Kent County Council",11960942,"4LIFE HEALTHCARE SERVICES LTD","2020-04-09",778.75,"S","5KG","Physical support - 65+ Long Term Support: Community: Home Care","530",{"$f":"VLOOKUP(I343,'[1]Sub Lookup'!$A$1:$B$65536,2,FALSE)","v":"Commissioned Service - Other"}]
["Kent County Council",11960938,"4LIFE HEALTHCARE SERVICES LTD","2020-04-09",340.5,"S","5KG","Physical support - 65+ Long Term Support: Community: Home Care","530",{"$f":"VLOOKUP(I344,'[1]Sub Lookup'!$A$1:$B$65536,2,FALSE)","v":"Commissioned Service - Other"}]
["Kent County Council",11960937,"4LIFE HEALTHCARE SERVICES LTD","2020-04-09",470.5,"S","5KG","Physical support - 65+ Long Term Support: Community: Home Care","530",{"$f":"VLOOKUP(I345,'[1]Sub Lookup'!$A$1:$B$65536,2,FALSE)","v":"Commissioned Service - Other"}]
["Kent County Council",11982694,"4LIFE HEALTHCARE SERVICES LTD","2020-04-16",421.5,"S","5KG","Physical support - 65+ Long Term Support: Community: Home Care","530",{"$f":"VLOOKUP(I346,'[1]Sub Lookup'!$A$1:$B$65536,2,FALSE)","v":"Commissioned Service - Other"}]
["Kent County Council",11982691,"4LIFE HEALTHCARE SERVICES LTD","2020-04-16",340.5,"S","5KG","Physical support - 65+ Long Term Support: Community: Home Care","530",{"$f":"VLOOKUP(I347,'[1]Sub Lookup'!$A$1:$B$65536,2,FALSE)","v":"Commissioned Service - Other"}]
["Kent County Council",11982689,"4LIFE HEALTHCARE SERVICES LTD","2020-04-16",490,"S","5KG","Physical support - 65+ Long Term Support: Community: Home Care","530",{"$f":"VLOOKUP(I348,'[1]Sub Lookup'!$A$1:$B$65536,2,FALSE)","v":"Commissioned Service - Other"}]
["Kent County Council",11982692,"4LIFE HEALTHCARE SERVICES LTD","2020-04-16",778.75,"S","5KG","Physical support - 65+ Long Term Support: Community: Home Care","530",{"$f":"VLOOKUP(I349,'[1]Sub Lookup'!$A$1:$B$65536,2,FALSE)","v":"Commissioned Service - Other"}]
["Kent County Council",11994667,"4LIFE HEALTHCARE SERVICES LTD","2020-04-17",496,"S","5AH","Learning Disability Support - 18 64 Long Term Support: Community: Supported Living","530",{"$f":"VLOOKUP(I350,'[1]Sub Lookup'!$A$1:$B$65536,2,FALSE)","v":"Commissioned Service - Other"}]
["Kent County Council",11994664,"4LIFE HEALTHCARE SERVICES LTD","2020-04-17",3379.46,"S","5AH","Learning Disability Support - 18 64 Long Term Support: Community: Supported Living","530",{"$f":"VLOOKUP(I351,'[1]Sub Lookup'!$A$1:$B$65536,2,FALSE)","v":"Commissioned Service - Other"}]
["Kent County Council",11994665,"4LIFE HEALTHCARE SERVICES LTD","2020-04-17",1040,"S","5JH","Physical Support - 18 64 Long Term Support: Community: Supported Living","530",{"$f":"VLOOKUP(I352,'[1]Sub Lookup'!$A$1:$B$65536,2,FALSE)","v":"Commissioned Service - Other"}]
["Kent County Council",11994666,"4LIFE HEALTHCARE SERVICES LTD","2020-04-17",417.6,"S","5SH","Support with Memory & Cognition - 18 64 Long Term Support: Community: Supported Living","530",{"$f":"VLOOKUP(I353,'[1]Sub Lookup'!$A$1:$B$65536,2,FALSE)","v":"Commissioned Service - Other"}]
["Kent County Council",12006648,"4LIFE HEALTHCARE SERVICES LTD","2020-04-23",417.6,"S","5SH","Support with Memory & Cognition - 18 64 Long Term Support: Community: Supported Living","530",{"$f":"VLOOKUP(I354,'[1]Sub Lookup'!$A$1:$B$65536,2,FALSE)","v":"Commissioned Service - Other"}]
["Kent County Council",12006647,"4LIFE HEALTHCARE SERVICES LTD","2020-04-23",1040,"S","5JH","Physical Support - 18 64 Long Term Support: Community: Supported Living","530",{"$f":"VLOOKUP(I355,'[1]Sub Lookup'!$A$1:$B$65536,2,FALSE)","v":"Commissioned Service - Other"}]
["Kent County Council",12010984,"4LIFE HEALTHCARE SERVICES LTD","2020-04-27",3379.46,"S","5AH","Learning Disability Support - 18 64 Long Term Support: Community: Supported Living","530",{"$f":"VLOOKUP(I356,'[1]Sub Lookup'!$A$1:$B$65536,2,FALSE)","v":"Commissioned Service - Other"}]
["Kent County Council",12010983,"4LIFE HEALTHCARE SERVICES LTD","2020-04-27",496,"S","5AH","Learning Disability Support - 18 64 Long Term Support: Community: Supported Living","530",{"$f":"VLOOKUP(I357,'[1]Sub Lookup'!$A$1:$B$65536,2,FALSE)","v":"Commissioned Service - Other"}]
["Kent County Council",12017606,"4LIFE HEALTHCARE SERVICES LTD","2020-04-29",1841,"S","5XC","Commissioning & Service Delivery","530",{"$f":"VLOOKUP(I358,'[1]Sub Lookup'!$A$1:$B$65536,2,FALSE)","v":"Commissioned Service - Other"}]
["Kent County Council",12017607,"4LIFE HEALTHCARE SERVICES LTD","2020-04-29",6382.8600000000006,"S","5XC","Commissioning & Service Delivery","530",{"$f":"VLOOKUP(I359,'[1]Sub Lookup'!$A$1:$B$65536,2,FALSE)","v":"Commissioned Service - Other"}]
["Kent County Council",12011189,"4LIFE HEALTHCARE SERVICES LTD","2020-04-30",490,"S","5KG","Physical support - 65+ Long Term Support: Community: Home Care","530",{"$f":"VLOOKUP(I360,'[1]Sub Lookup'!$A$1:$B$65536,2,FALSE)","v":"Commissioned Service - Other"}]
["Kent County Council",12011110,"4LIFE HEALTHCARE SERVICES LTD","2020-04-30",778.75,"S","5KG","Physical support - 65+ Long Term Support: Community: Home Care","530",{"$f":"VLOOKUP(I361,'[1]Sub Lookup'!$A$1:$B$65536,2,FALSE)","v":"Commissioned Service - Other"}]
["Kent County Council",12011098,"4LIFE HEALTHCARE SERVICES LTD","2020-04-30",340.5,"S","5KG","Physical support - 65+ Long Term Support: Community: Home Care","530",{"$f":"VLOOKUP(I362,'[1]Sub Lookup'!$A$1:$B$65536,2,FALSE)","v":"Commissioned Service - Other"}]
["Kent County Council",12011190,"4LIFE HEALTHCARE SERVICES LTD","2020-04-30",421.5,"S","5KG","Physical support - 65+ Long Term Support: Community: Home Care","530",{"$f":"VLOOKUP(I363,'[1]Sub Lookup'!$A$1:$B$65536,2,FALSE)","v":"Commissioned Service - Other"}]
["Kent County Council",12011099,"4LIFE HEALTHCARE SERVICES LTD","2020-04-30",351.25,"S","5KG","Physical support - 65+ Long Term Support: Community: Home Care","530",{"$f":"VLOOKUP(I364,'[1]Sub Lookup'!$A$1:$B$65536,2,FALSE)","v":"Commissioned Service - Other"}]
["Kent County Council",11976551,"A & A TROPHIES","2020-04-09",1125,"S","35K","County Fostering Team","351",{"$f":"VLOOKUP(I365,'[1]Sub Lookup'!$A$1:$B$65536,2,FALSE)","v":"Stationery and Office Expenses"}]
["Kent County Council",11992575,"A & D C W TRUST","2020-04-16",3638.2000000000003,"C","37N","Early Years","120",{"$f":"VLOOKUP(I366,'[1]Sub Lookup'!$A$1:$B$65536,2,FALSE)","v":"External - Rent, Room Hire & Service Charges"}]
["Kent County Council",11992523,"A & D C W TRUST","2020-04-16",1687.5,"C","37N","Early Years","120",{"$f":"VLOOKUP(I367,'[1]Sub Lookup'!$A$1:$B$65536,2,FALSE)","v":"External - Rent, Room Hire & Service Charges"}]
["Kent County Council",11992522,"A & D C W TRUST","2020-04-16",1875,"C","37N","Early Years","120",{"$f":"VLOOKUP(I368,'[1]Sub Lookup'!$A$1:$B$65536,2,FALSE)","v":"External - Rent, Room Hire & Service Charges"}]
["Kent County Council",11992895,"A & D C W TRUST","2020-04-20",8682.15,"C","2LC","Libraries, Registration & Archives","120",{"$f":"VLOOKUP(I369,'[1]Sub Lookup'!$A$1:$B$65536,2,FALSE)","v":"External - Rent, Room Hire & Service Charges"}]
["Kent County Council",11961438,"A BEACHAM FARM SERVICES","2020-04-09",324,"K","2LG","Country Parks","100",{"$f":"VLOOKUP(I370,'[1]Sub Lookup'!$A$1:$B$65536,2,FALSE)","v":"Maintenance of Grounds"}]
["Kent County Council",11970183,"A BRIGHT CARE LTD","2020-04-01",1515.57,"S","9AR","Revenue Balance Sheet","BEA",{"$f":"VLOOKUP(I371,'[1]Sub Lookup'!$A$1:$B$65536,2,FALSE)","v":"Payments in Advance - General"}]
["Kent County Council",11970187,"A BRIGHT CARE LTD","2020-04-01",700.35,"S","5KB","Physical support - 65+ Long Term Support: Nursing","530",{"$f":"VLOOKUP(I372,'[1]Sub Lookup'!$A$1:$B$65536,2,FALSE)","v":"Commissioned Service - Other"}]
["Kent County Council",11970187,"A BRIGHT CARE LTD","2020-04-01",1515.57,"S","9AR","Revenue Balance Sheet","BEA",{"$f":"VLOOKUP(I373,'[1]Sub Lookup'!$A$1:$B$65536,2,FALSE)","v":"Payments in Advance - General"}]
["Kent County Council",11970184,"A BRIGHT CARE LTD","2020-04-01",1515.57,"S","9AR","Revenue Balance Sheet","BEA",{"$f":"VLOOKUP(I374,'[1]Sub Lookup'!$A$1:$B$65536,2,FALSE)","v":"Payments in Advance - General"}]
["Kent County Council",11970184,"A BRIGHT CARE LTD","2020-04-01",700.35,"S","5TB","Support with Memory & Cognition - 65+ Long Term Support: Nursing","530",{"$f":"VLOOKUP(I375,'[1]Sub Lookup'!$A$1:$B$65536,2,FALSE)","v":"Commissioned Service - Other"}]
["Kent County Council",11970172,"A BRIGHT CARE LTD","2020-04-01",1304.4100000000001,"S","5KB","Physical support - 65+ Long Term Support: Nursing","530",{"$f":"VLOOKUP(I376,'[1]Sub Lookup'!$A$1:$B$65536,2,FALSE)","v":"Commissioned Service - Other"}]
["Kent County Council",11970172,"A BRIGHT CARE LTD","2020-04-01",917.92000000000007,"S","9AR","Revenue Balance Sheet","BEA",{"$f":"VLOOKUP(I377,'[1]Sub Lookup'!$A$1:$B$65536,2,FALSE)","v":"Payments in Advance - General"}]
["Kent County Council",11970182,"A BRIGHT CARE LTD","2020-04-01",700.35,"S","5KB","Physical support - 65+ Long Term Support: Nursing","530",{"$f":"VLOOKUP(I378,'[1]Sub Lookup'!$A$1:$B$65536,2,FALSE)","v":"Commissioned Service - Other"}]
["Kent County Council",11970182,"A BRIGHT CARE LTD","2020-04-01",1515.57,"S","9AR","Revenue Balance Sheet","BEA",{"$f":"VLOOKUP(I379,'[1]Sub Lookup'!$A$1:$B$65536,2,FALSE)","v":"Payments in Advance - General"}]
["Kent County Council",11970190,"A BRIGHT CARE LTD","2020-04-01",700.35,"S","5KB","Physical support - 65+ Long Term Support: Nursing","530",{"$f":"VLOOKUP(I380,'[1]Sub Lookup'!$A$1:$B$65536,2,FALSE)","v":"Commissioned Service - Other"}]
["Kent County Council",11970190,"A BRIGHT CARE LTD","2020-04-01",1515.57,"S","9AR","Revenue Balance Sheet","BEA",{"$f":"VLOOKUP(I381,'[1]Sub Lookup'!$A$1:$B$65536,2,FALSE)","v":"Payments in Advance - General"}]
["Kent County Council",11970189,"A BRIGHT CARE LTD","2020-04-01",700.35,"S","5KB","Physical support - 65+ Long Term Support: Nursing","530",{"$f":"VLOOKUP(I382,'[1]Sub Lookup'!$A$1:$B$65536,2,FALSE)","v":"Commissioned Service - Other"}]
["Kent County Council",11970189,"A BRIGHT CARE LTD","2020-04-01",1515.57,"S","9AR","Revenue Balance Sheet","BEA",{"$f":"VLOOKUP(I383,'[1]Sub Lookup'!$A$1:$B$65536,2,FALSE)","v":"Payments in Advance - General"}]
["Kent County Council",11970178,"A BRIGHT CARE LTD","2020-04-01",698.79,"S","5KA","Physical support - 65+ Long Term Support: Residential","530",{"$f":"VLOOKUP(I384,'[1]Sub Lookup'!$A$1:$B$65536,2,FALSE)","v":"Commissioned Service - Other"}]
["Kent County Council",11970178,"A BRIGHT CARE LTD","2020-04-01",1504.99,"S","9AR","Revenue Balance Sheet","BEA",{"$f":"VLOOKUP(I385,'[1]Sub Lookup'!$A$1:$B$65536,2,FALSE)","v":"Payments in Advance - General"}]
["Kent County Council",11970179,"A BRIGHT CARE LTD","2020-04-01",626.82000000000005,"S","5KV","Physical support - 65+ Short Term - Other - Nursing","530",{"$f":"VLOOKUP(I386,'[1]Sub Lookup'!$A$1:$B$65536,2,FALSE)","v":"Commissioned Service - Other"}]
["Kent County Council",11970179,"A BRIGHT CARE LTD","2020-04-01",1350.02,"S","9AR","Revenue Balance Sheet","BEA",{"$f":"VLOOKUP(I387,'[1]Sub Lookup'!$A$1:$B$65536,2,FALSE)","v":"Payments in Advance - General"}]
["Kent County Council",11970188,"A BRIGHT CARE LTD","2020-04-01",1515.57,"S","9AR","Revenue Balance Sheet","BEA",{"$f":"VLOOKUP(I388,'[1]Sub Lookup'!$A$1:$B$65536,2,FALSE)","v":"Payments in Advance - General"}]
["Kent County Council",11970188,"A BRIGHT CARE LTD","2020-04-01",700.35,"S","5TB","Support with Memory & Cognition - 65+ Long Term Support: Nursing","530",{"$f":"VLOOKUP(I389,'[1]Sub Lookup'!$A$1:$B$65536,2,FALSE)","v":"Commissioned Service - Other"}]
["Kent County Council",11970186,"A BRIGHT CARE LTD","2020-04-01",700.35,"S","5KB","Physical support - 65+ Long Term Support: Nursing","530",{"$f":"VLOOKUP(I390,'[1]Sub Lookup'!$A$1:$B$65536,2,FALSE)","v":"Commissioned Service - Other"}]
["Kent County Council",11970186,"A BRIGHT CARE LTD","2020-04-01",1515.57,"S","9AR","Revenue Balance Sheet","BEA",{"$f":"VLOOKUP(I391,'[1]Sub Lookup'!$A$1:$B$65536,2,FALSE)","v":"Payments in Advance - General"}]
["Kent County Council",11970181,"A BRIGHT CARE LTD","2020-04-01",626.82000000000005,"S","5KA","Physical support - 65+ Long Term Support: Residential","530",{"$f":"VLOOKUP(I392,'[1]Sub Lookup'!$A$1:$B$65536,2,FALSE)","v":"Commissioned Service - Other"}]
["Kent County Council",11970181,"A BRIGHT CARE LTD","2020-04-01",1350.02,"S","9AR","Revenue Balance Sheet","BEA",{"$f":"VLOOKUP(I393,'[1]Sub Lookup'!$A$1:$B$65536,2,FALSE)","v":"Payments in Advance - General"}]
["Kent County Council",11970185,"A BRIGHT CARE LTD","2020-04-01",700.35,"S","5KB","Physical support - 65+ Long Term Support: Nursing","530",{"$f":"VLOOKUP(I394,'[1]Sub Lookup'!$A$1:$B$65536,2,FALSE)","v":"Commissioned Service - Other"}]
["Kent County Council",11970185,"A BRIGHT CARE LTD","2020-04-01",1515.57,"S","9AR","Revenue Balance Sheet","BEA",{"$f":"VLOOKUP(I395,'[1]Sub Lookup'!$A$1:$B$65536,2,FALSE)","v":"Payments in Advance - General"}]
["Kent County Council",11970183,"A BRIGHT CARE LTD","2020-04-01",700.35,"S","5KB","Physical support - 65+ Long Term Support: Nursing","530",{"$f":"VLOOKUP(I396,'[1]Sub Lookup'!$A$1:$B$65536,2,FALSE)","v":"Commissioned Service - Other"}]
["Kent County Council",11977947,"A BRIGHT CARE LTD","2020-04-07",6867.4800000000005,"S","5KV","Physical support - 65+ Short Term - Other - Nursing","530",{"$f":"VLOOKUP(I397,'[1]Sub Lookup'!$A$1:$B$65536,2,FALSE)","v":"Commissioned Service - Other"}]
["Kent County Council",11977948,"A BRIGHT CARE LTD","2020-04-07",-1144.58,"S","5KV","Physical support - 65+ Short Term - Other - Nursing","530",{"$f":"VLOOKUP(I398,'[1]Sub Lookup'!$A$1:$B$65536,2,FALSE)","v":"Commissioned Service - Other"}]
["Kent County Council",12013346,"A BRIGHT CARE LTD","2020-04-28",2252.96,"S","5KB","Physical support - 65+ Long Term Support: Nursing","530",{"$f":"VLOOKUP(I399,'[1]Sub Lookup'!$A$1:$B$65536,2,FALSE)","v":"Commissioned Service - Other"}]
["Kent County Council",11983927,"A BRIGHT CARE LTD","2020-04-28",-5722.9000000000005,"S","5KV","Physical support - 65+ Short Term - Other - Nursing","530",{"$f":"VLOOKUP(I400,'[1]Sub Lookup'!$A$1:$B$65536,2,FALSE)","v":"Commissioned Service - Other"}]
["Kent County Council",12013356,"A BRIGHT CARE LTD","2020-04-28",2252.96,"S","5KV","Physical support - 65+ Short Term - Other - Nursing","530",{"$f":"VLOOKUP(I401,'[1]Sub Lookup'!$A$1:$B$65536,2,FALSE)","v":"Commissioned Service - Other"}]
["Kent County Council",12013345,"A BRIGHT CARE LTD","2020-04-28",2252.96,"S","5KB","Physical support - 65+ Long Term Support: Nursing","530",{"$f":"VLOOKUP(I402,'[1]Sub Lookup'!$A$1:$B$65536,2,FALSE)","v":"Commissioned Service - Other"}]
["Kent County Council",11970180,"A BRIGHT CARE LTD","2020-04-28",-1126.48,"S","9AR","Revenue Balance Sheet","BEA",{"$f":"VLOOKUP(I403,'[1]Sub Lookup'!$A$1:$B$65536,2,FALSE)","v":"Payments in Advance - General"}]
["Kent County Council",12013337,"A BRIGHT CARE LTD","2020-04-28",1352.72,"S","5KB","Physical support - 65+ Long Term Support: Nursing","530",{"$f":"VLOOKUP(I404,'[1]Sub Lookup'!$A$1:$B$65536,2,FALSE)","v":"Commissioned Service - Other"}]
["Kent County Council",12013351,"A BRIGHT CARE LTD","2020-04-28",2252.96,"S","5TB","Support with Memory & Cognition - 65+ Long Term Support: Nursing","530",{"$f":"VLOOKUP(I405,'[1]Sub Lookup'!$A$1:$B$65536,2,FALSE)","v":"Commissioned Service - Other"}]
["Kent County Council",12013348,"A BRIGHT CARE LTD","2020-04-28",2252.96,"S","5KB","Physical support - 65+ Long Term Support: Nursing","530",{"$f":"VLOOKUP(I406,'[1]Sub Lookup'!$A$1:$B$65536,2,FALSE)","v":"Commissioned Service - Other"}]
["Kent County Council",12013352,"A BRIGHT CARE LTD","2020-04-28",2252.96,"S","5KB","Physical support - 65+ Long Term Support: Nursing","530",{"$f":"VLOOKUP(I407,'[1]Sub Lookup'!$A$1:$B$65536,2,FALSE)","v":"Commissioned Service - Other"}]
["Kent County Council",12013350,"A BRIGHT CARE LTD","2020-04-28",2252.96,"S","5KB","Physical support - 65+ Long Term Support: Nursing","530",{"$f":"VLOOKUP(I408,'[1]Sub Lookup'!$A$1:$B$65536,2,FALSE)","v":"Commissioned Service - Other"}]
["Kent County Council",12013353,"A BRIGHT CARE LTD","2020-04-28",2003.56,"S","5KA","Physical support - 65+ Long Term Support: Residential","530",{"$f":"VLOOKUP(I409,'[1]Sub Lookup'!$A$1:$B$65536,2,FALSE)","v":"Commissioned Service - Other"}]
["Kent County Council",12013349,"A BRIGHT CARE LTD","2020-04-28",2252.96,"S","5KB","Physical support - 65+ Long Term Support: Nursing","530",{"$f":"VLOOKUP(I410,'[1]Sub Lookup'!$A$1:$B$65536,2,FALSE)","v":"Commissioned Service - Other"}]
["Kent County Council",12013347,"A BRIGHT CARE LTD","2020-04-28",2252.96,"S","5TB","Support with Memory & Cognition - 65+ Long Term Support: Nursing","530",{"$f":"VLOOKUP(I411,'[1]Sub Lookup'!$A$1:$B$65536,2,FALSE)","v":"Commissioned Service - Other"}]
["Kent County Council",12013354,"A BRIGHT CARE LTD","2020-04-28",2003.56,"S","5KV","Physical support - 65+ Short Term - Other - Nursing","530",{"$f":"VLOOKUP(I412,'[1]Sub Lookup'!$A$1:$B$65536,2,FALSE)","v":"Commissioned Service - Other"}]
["Kent County Council",12013355,"A BRIGHT CARE LTD","2020-04-28",2233.56,"S","5KA","Physical support - 65+ Long Term Support: Residential","530",{"$f":"VLOOKUP(I413,'[1]Sub Lookup'!$A$1:$B$65536,2,FALSE)","v":"Commissioned Service - Other"}]
["Kent County Council",12019980,"A BRIGHT CARE LTD","2020-04-30",1982.47,"S","5KV","Physical support - 65+ Short Term - Other - Nursing","530",{"$f":"VLOOKUP(I414,'[1]Sub Lookup'!$A$1:$B$65536,2,FALSE)","v":"Commissioned Service - Other"}]
["Kent County Council",11992991,"A CAB","2020-04-16",3432,"E","1RX","Admissions & Transport","222",{"$f":"VLOOKUP(I415,'[1]Sub Lookup'!$A$1:$B$65536,2,FALSE)","v":"Home to School Transport - Hired"}]
["Kent County Council",11992993,"A CAB","2020-04-16",2479,"E","1RX","Admissions & Transport","222",{"$f":"VLOOKUP(I416,'[1]Sub Lookup'!$A$1:$B$65536,2,FALSE)","v":"Home to School Transport - Hired"}]
["Kent County Council",11992992,"A CAB","2020-04-16",2040,"E","1RX","Admissions & Transport","222",{"$f":"VLOOKUP(I417,'[1]Sub Lookup'!$A$1:$B$65536,2,FALSE)","v":"Home to School Transport - Hired"}]
["Kent County Council",12001652,"A J & N M CARR LTD","2020-04-22",4921,"E","1RX","Admissions & Transport","222",{"$f":"VLOOKUP(I418,'[1]Sub Lookup'!$A$1:$B$65536,2,FALSE)","v":"Home to School Transport - Hired"}]
["Kent County Council",11975858,"A J BAMFORD T/A BRIDGING THE GAP","2020-04-09",4920,"S","35P","Section 24","527",{"$f":"VLOOKUP(I419,'[1]Sub Lookup'!$A$1:$B$65536,2,FALSE)","v":"Services"}]
["Kent County Council",11975856,"A J BAMFORD T/A BRIDGING THE GAP","2020-04-09",1120,"S","32Q","Rented Accommodation Asylum 18+","527",{"$f":"VLOOKUP(I420,'[1]Sub Lookup'!$A$1:$B$65536,2,FALSE)","v":"Services"}]
["Kent County Council",11975853,"A J BAMFORD T/A BRIDGING THE GAP","2020-04-24",1225.71,"S","32P","Rented Accommodation Asylum 16-17","527",{"$f":"VLOOKUP(I421,'[1]Sub Lookup'!$A$1:$B$65536,2,FALSE)","v":"Services"}]
["Kent County Council",11975854,"A J BAMFORD T/A BRIDGING THE GAP","2020-04-24",995.71,"S","32Q","Rented Accommodation Asylum 18+","527",{"$f":"VLOOKUP(I422,'[1]Sub Lookup'!$A$1:$B$65536,2,FALSE)","v":"Services"}]
["Kent County Council",11975855,"A J BAMFORD T/A BRIDGING THE GAP","2020-04-24",1320,"S","32P","Rented Accommodation Asylum 16-17","527",{"$f":"VLOOKUP(I423,'[1]Sub Lookup'!$A$1:$B$65536,2,FALSE)","v":"Services"}]
["Kent County Council",11975857,"A J BAMFORD T/A BRIDGING THE GAP","2020-04-24",1464.29,"S","35P","Section 24","527",{"$f":"VLOOKUP(I424,'[1]Sub Lookup'!$A$1:$B$65536,2,FALSE)","v":"Services"}]
["Kent County Council",11993024,"A N R CARS LIMITED","2020-04-16",1378.25,"E","1RX","Admissions & Transport","222",{"$f":"VLOOKUP(I425,'[1]Sub Lookup'!$A$1:$B$65536,2,FALSE)","v":"Home to School Transport - Hired"}]
["Kent County Council",11993026,"A N R CARS LIMITED","2020-04-16",1757.5,"E","1RX","Admissions & Transport","222",{"$f":"VLOOKUP(I426,'[1]Sub Lookup'!$A$1:$B$65536,2,FALSE)","v":"Home to School Transport - Hired"}]
["Kent County Council",11993025,"A N R CARS LIMITED","2020-04-16",1285.75,"E","1RX","Admissions & Transport","222",{"$f":"VLOOKUP(I427,'[1]Sub Lookup'!$A$1:$B$65536,2,FALSE)","v":"Home to School Transport - Hired"}]
["Kent County Council",11993023,"A N R CARS LIMITED","2020-04-16",768,"E","1RX","Admissions & Transport","222",{"$f":"VLOOKUP(I428,'[1]Sub Lookup'!$A$1:$B$65536,2,FALSE)","v":"Home to School Transport - Hired"}]
["Kent County Council",12001235,"A N R CARS LIMITED","2020-04-22",823.25,"E","1RX","Admissions & Transport","222",{"$f":"VLOOKUP(I429,'[1]Sub Lookup'!$A$1:$B$65536,2,FALSE)","v":"Home to School Transport - Hired"}]
["Kent County Council",11971153,"A STONES THROW","2020-04-09",850,"C","8DH","Personnel and Development","401",{"$f":"VLOOKUP(I430,'[1]Sub Lookup'!$A$1:$B$65536,2,FALSE)","v":"Specialists Fees"}]
["Kent County Council",11982769,"A STONES THROW","2020-04-17",1330,"C","8DH","Personnel and Development","401",{"$f":"VLOOKUP(I431,'[1]Sub Lookup'!$A$1:$B$65536,2,FALSE)","v":"Specialists Fees"}]
["Kent County Council",12000980,"A TOUCH OF CLASS","2020-04-22",840,"E","1RX","Admissions & Transport","222",{"$f":"VLOOKUP(I432,'[1]Sub Lookup'!$A$1:$B$65536,2,FALSE)","v":"Home to School Transport - Hired"}]
["Kent County Council",11983087,"A-CLASS DRIVING SCHOOL","2020-04-09",500,"K","2LE","Adult Education","401",{"$f":"VLOOKUP(I433,'[1]Sub Lookup'!$A$1:$B$65536,2,FALSE)","v":"Specialists Fees"}]
["Kent County Council",12001554,"A-ONE KAB","2020-04-22",1202.5,"E","1RX","Admissions & Transport","222",{"$f":"VLOOKUP(I434,'[1]Sub Lookup'!$A$1:$B$65536,2,FALSE)","v":"Home to School Transport - Hired"}]
["Kent County Council",12001257,"A2 CARS DARTFORD LTD","2020-04-22",3885,"E","1RX","Admissions & Transport","222",{"$f":"VLOOKUP(I435,'[1]Sub Lookup'!$A$1:$B$65536,2,FALSE)","v":"Home to School Transport - Hired"}]
["Kent County Council",12001256,"A2 CARS DARTFORD LTD","2020-04-22",2392.5,"E","1RX","Admissions & Transport","222",{"$f":"VLOOKUP(I436,'[1]Sub Lookup'!$A$1:$B$65536,2,FALSE)","v":"Home to School Transport - Hired"}]
["Kent County Council",12001256,"A2 CARS DARTFORD LTD","2020-04-22",440,"S","5AJ","Learning Disability Support - 18 64 Long Term Support: Community: Day Care","232",{"$f":"VLOOKUP(I437,'[1]Sub Lookup'!$A$1:$B$65536,2,FALSE)","v":"Public Transport (Clients)"}]
["Kent County Council",12001256,"A2 CARS DARTFORD LTD","2020-04-22",605,"S","5AJ","Learning Disability Support - 18 64 Long Term Support: Community: Day Care","232",{"$f":"VLOOKUP(I438,'[1]Sub Lookup'!$A$1:$B$65536,2,FALSE)","v":"Public Transport (Clients)"}]
["Kent County Council",12001255,"A2 CARS DARTFORD LTD","2020-04-22",4773,"E","1RX","Admissions & Transport","222",{"$f":"VLOOKUP(I439,'[1]Sub Lookup'!$A$1:$B$65536,2,FALSE)","v":"Home to School Transport - Hired"}]
["Kent County Council",12001255,"A2 CARS DARTFORD LTD","2020-04-22",2682.5,"E","1RX","Admissions & Transport","222",{"$f":"VLOOKUP(I440,'[1]Sub Lookup'!$A$1:$B$65536,2,FALSE)","v":"Home to School Transport - Hired"}]
["Kent County Council",12001255,"A2 CARS DARTFORD LTD","2020-04-22",1472,"S","5AJ","Learning Disability Support - 18 64 Long Term Support: Community: Day Care","232",{"$f":"VLOOKUP(I441,'[1]Sub Lookup'!$A$1:$B$65536,2,FALSE)","v":"Public Transport (Clients)"}]
["Kent County Council",12001258,"A2 CARS DARTFORD LTD","2020-04-22",374,"S","31C","KCC Residential Short Break Units","232",{"$f":"VLOOKUP(I442,'[1]Sub Lookup'!$A$1:$B$65536,2,FALSE)","v":"Public Transport (Clients)"}]
["Kent County Council",12001258,"A2 CARS DARTFORD LTD","2020-04-22",728.38,"S","5AJ","Learning Disability Support - 18 64 Long Term Support: Community: Day Care","232",{"$f":"VLOOKUP(I443,'[1]Sub Lookup'!$A$1:$B$65536,2,FALSE)","v":"Public Transport (Clients)"}]
["Kent County Council",12008981,"A2 CARS DARTFORD LTD","2020-04-24",3147.5,"S","5AJ","Learning Disability Support - 18 64 Long Term Support: Community: Day Care","232",{"$f":"VLOOKUP(I444,'[1]Sub Lookup'!$A$1:$B$65536,2,FALSE)","v":"Public Transport (Clients)"}]
["Kent County Council",12008981,"A2 CARS DARTFORD LTD","2020-04-24",2544,"E","1RX","Admissions & Transport","222",{"$f":"VLOOKUP(I445,'[1]Sub Lookup'!$A$1:$B$65536,2,FALSE)","v":"Home to School Transport - Hired"}]
["Kent County Council",12008982,"A2 CARS DARTFORD LTD","2020-04-24",2473,"S","5AJ","Learning Disability Support - 18 64 Long Term Support: Community: Day Care","232",{"$f":"VLOOKUP(I446,'[1]Sub Lookup'!$A$1:$B$65536,2,FALSE)","v":"Public Transport (Clients)"}]
["Kent County Council",12008982,"A2 CARS DARTFORD LTD","2020-04-24",770,"S","5AJ","Learning Disability Support - 18 64 Long Term Support: Community: Day Care","232",{"$f":"VLOOKUP(I447,'[1]Sub Lookup'!$A$1:$B$65536,2,FALSE)","v":"Public Transport (Clients)"}]
["Kent County Council",12008982,"A2 CARS DARTFORD LTD","2020-04-24",666,"E","1RX","Admissions & Transport","222",{"$f":"VLOOKUP(I448,'[1]Sub Lookup'!$A$1:$B$65536,2,FALSE)","v":"Home to School Transport - Hired"}]
["Kent County Council",11960934,"AARTVARK","2020-04-03",540,"S","5AJ","Learning Disability Support - 18 64 Long Term Support: Community: Day Care","530",{"$f":"VLOOKUP(I449,'[1]Sub Lookup'!$A$1:$B$65536,2,FALSE)","v":"Commissioned Service - Other"}]
["Kent County Council",11961257,"AARTVARK","2020-04-03",360,"S","5AJ","Learning Disability Support - 18 64 Long Term Support: Community: Day Care","530",{"$f":"VLOOKUP(I450,'[1]Sub Lookup'!$A$1:$B$65536,2,FALSE)","v":"Commissioned Service - Other"}]
["Kent County Council",11961254,"AARTVARK","2020-04-03",360,"S","5AJ","Learning Disability Support - 18 64 Long Term Support: Community: Day Care","530",{"$f":"VLOOKUP(I451,'[1]Sub Lookup'!$A$1:$B$65536,2,FALSE)","v":"Commissioned Service - Other"}]
["Kent County Council",11959381,"AARTVARK","2020-04-03",360,"S","5AJ","Learning Disability Support - 18 64 Long Term Support: Community: Day Care","530",{"$f":"VLOOKUP(I452,'[1]Sub Lookup'!$A$1:$B$65536,2,FALSE)","v":"Commissioned Service - Other"}]
["Kent County Council",11971687,"AARTVARK","2020-04-03",360,"S","5AJ","Learning Disability Support - 18 64 Long Term Support: Community: Day Care","530",{"$f":"VLOOKUP(I453,'[1]Sub Lookup'!$A$1:$B$65536,2,FALSE)","v":"Commissioned Service - Other"}]
["Kent County Council",11959365,"AARTVARK","2020-04-03",360,"S","5AJ","Learning Disability Support - 18 64 Long Term Support: Community: Day Care","530",{"$f":"VLOOKUP(I454,'[1]Sub Lookup'!$A$1:$B$65536,2,FALSE)","v":"Commissioned Service - Other"}]
["Kent County Council",11971683,"AARTVARK","2020-04-03",360,"S","5AJ","Learning Disability Support - 18 64 Long Term Support: Community: Day Care","530",{"$f":"VLOOKUP(I455,'[1]Sub Lookup'!$A$1:$B$65536,2,FALSE)","v":"Commissioned Service - Other"}]
["Kent County Council",11961008,"AARTVARK","2020-04-03",360,"S","5AJ","Learning Disability Support - 18 64 Long Term Support: Community: Day Care","530",{"$f":"VLOOKUP(I456,'[1]Sub Lookup'!$A$1:$B$65536,2,FALSE)","v":"Commissioned Service - Other"}]
["Kent County Council",11965218,"AARTVARK","2020-04-03",360,"S","5AJ","Learning Disability Support - 18 64 Long Term Support: Community: Day Care","523",{"$f":"VLOOKUP(I457,'[1]Sub Lookup'!$A$1:$B$65536,2,FALSE)","v":"Private Contractors"}]
["Kent County Council",11965216,"AARTVARK","2020-04-03",270,"S","5AJ","Learning Disability Support - 18 64 Long Term Support: Community: Day Care","523",{"$f":"VLOOKUP(I458,'[1]Sub Lookup'!$A$1:$B$65536,2,FALSE)","v":"Private Contractors"}]
["Kent County Council",11959705,"AARTVARK","2020-04-03",360,"S","5AJ","Learning Disability Support - 18 64 Long Term Support: Community: Day Care","530",{"$f":"VLOOKUP(I459,'[1]Sub Lookup'!$A$1:$B$65536,2,FALSE)","v":"Commissioned Service - Other"}]
["Kent County Council",11959711,"AARTVARK","2020-04-03",360,"S","5AJ","Learning Disability Support - 18 64 Long Term Support: Community: Day Care","530",{"$f":"VLOOKUP(I460,'[1]Sub Lookup'!$A$1:$B$65536,2,FALSE)","v":"Commissioned Service - Other"}]
["Kent County Council",11959671,"AARTVARK","2020-04-03",360,"S","5AJ","Learning Disability Support - 18 64 Long Term Support: Community: Day Care","530",{"$f":"VLOOKUP(I461,'[1]Sub Lookup'!$A$1:$B$65536,2,FALSE)","v":"Commissioned Service - Other"}]
["Kent County Council",12011551,"AARTVARK","2020-04-28",360,"S","5AJ","Learning Disability Support - 18 64 Long Term Support: Community: Day Care","523",{"$f":"VLOOKUP(I462,'[1]Sub Lookup'!$A$1:$B$65536,2,FALSE)","v":"Private Contractors"}]
["Kent County Council",12011550,"AARTVARK","2020-04-28",360,"S","5AJ","Learning Disability Support - 18 64 Long Term Support: Community: Day Care","523",{"$f":"VLOOKUP(I463,'[1]Sub Lookup'!$A$1:$B$65536,2,FALSE)","v":"Private Contractors"}]
["Kent County Council",12011548,"AARTVARK","2020-04-28",270,"S","5AJ","Learning Disability Support - 18 64 Long Term Support: Community: Day Care","523",{"$f":"VLOOKUP(I464,'[1]Sub Lookup'!$A$1:$B$65536,2,FALSE)","v":"Private Contractors"}]
["Kent County Council",12001636,"ABACUS CARS LTD","2020-04-22",2240,"E","1RX","Admissions & Transport","222",{"$f":"VLOOKUP(I465,'[1]Sub Lookup'!$A$1:$B$65536,2,FALSE)","v":"Home to School Transport - Hired"}]
["Kent County Council",12001647,"ABACUS CARS LTD","2020-04-22",1665,"E","1RX","Admissions & Transport","222",{"$f":"VLOOKUP(I466,'[1]Sub Lookup'!$A$1:$B$65536,2,FALSE)","v":"Home to School Transport - Hired"}]
["Kent County Council",12001650,"ABACUS CARS LTD","2020-04-22",1260,"E","1RX","Admissions & Transport","222",{"$f":"VLOOKUP(I467,'[1]Sub Lookup'!$A$1:$B$65536,2,FALSE)","v":"Home to School Transport - Hired"}]
["Kent County Council",12001635,"ABACUS CARS LTD","2020-04-22",275,"E","1RX","Admissions & Transport","222",{"$f":"VLOOKUP(I468,'[1]Sub Lookup'!$A$1:$B$65536,2,FALSE)","v":"Home to School Transport - Hired"}]
["Kent County Council",12001638,"ABACUS CARS LTD","2020-04-22",1470,"E","1RX","Admissions & Transport","222",{"$f":"VLOOKUP(I469,'[1]Sub Lookup'!$A$1:$B$65536,2,FALSE)","v":"Home to School Transport - Hired"}]
["Kent County Council",12001638,"ABACUS CARS LTD","2020-04-22",490,"E","1RX","Admissions & Transport","222",{"$f":"VLOOKUP(I470,'[1]Sub Lookup'!$A$1:$B$65536,2,FALSE)","v":"Home to School Transport - Hired"}]
["Kent County Council",12001648,"ABACUS CARS LTD","2020-04-22",2640,"E","1RX","Admissions & Transport","222",{"$f":"VLOOKUP(I471,'[1]Sub Lookup'!$A$1:$B$65536,2,FALSE)","v":"Home to School Transport - Hired"}]
["Kent County Council",12001639,"ABACUS CARS LTD","2020-04-22",2997,"E","1RX","Admissions & Transport","222",{"$f":"VLOOKUP(I472,'[1]Sub Lookup'!$A$1:$B$65536,2,FALSE)","v":"Home to School Transport - Hired"}]
["Kent County Council",12001640,"ABACUS CARS LTD","2020-04-22",2405,"E","1RX","Admissions & Transport","222",{"$f":"VLOOKUP(I473,'[1]Sub Lookup'!$A$1:$B$65536,2,FALSE)","v":"Home to School Transport - Hired"}]
["Kent County Council",12001634,"ABACUS CARS LTD","2020-04-22",2255,"E","1RX","Admissions & Transport","222",{"$f":"VLOOKUP(I474,'[1]Sub Lookup'!$A$1:$B$65536,2,FALSE)","v":"Home to School Transport - Hired"}]
["Kent County Council",12001641,"ABACUS CARS LTD","2020-04-22",1850,"E","1RX","Admissions & Transport","222",{"$f":"VLOOKUP(I475,'[1]Sub Lookup'!$A$1:$B$65536,2,FALSE)","v":"Home to School Transport - Hired"}]
["Kent County Council",12001642,"ABACUS CARS LTD","2020-04-22",2442,"E","1RX","Admissions & Transport","222",{"$f":"VLOOKUP(I476,'[1]Sub Lookup'!$A$1:$B$65536,2,FALSE)","v":"Home to School Transport - Hired"}]
["Kent County Council",12001649,"ABACUS CARS LTD","2020-04-22",787.5,"E","1RX","Admissions & Transport","222",{"$f":"VLOOKUP(I477,'[1]Sub Lookup'!$A$1:$B$65536,2,FALSE)","v":"Home to School Transport - Hired"}]
["Kent County Council",12001649,"ABACUS CARS LTD","2020-04-22",787.5,"E","1RX","Admissions & Transport","222",{"$f":"VLOOKUP(I478,'[1]Sub Lookup'!$A$1:$B$65536,2,FALSE)","v":"Home to School Transport - Hired"}]
["Kent County Council",12001644,"ABACUS CARS LTD","2020-04-22",2709,"E","1RX","Admissions & Transport","222",{"$f":"VLOOKUP(I479,'[1]Sub Lookup'!$A$1:$B$65536,2,FALSE)","v":"Home to School Transport - Hired"}]
["Kent County Council",12001637,"ABACUS CARS LTD","2020-04-22",525,"E","1RX","Admissions & Transport","222",{"$f":"VLOOKUP(I480,'[1]Sub Lookup'!$A$1:$B$65536,2,FALSE)","v":"Home to School Transport - Hired"}]
["Kent County Council",12001637,"ABACUS CARS LTD","2020-04-22",525,"E","1RX","Admissions & Transport","222",{"$f":"VLOOKUP(I481,'[1]Sub Lookup'!$A$1:$B$65536,2,FALSE)","v":"Home to School Transport - Hired"}]
["Kent County Council",12001645,"ABACUS CARS LTD","2020-04-22",1575,"E","1RX","Admissions & Transport","222",{"$f":"VLOOKUP(I482,'[1]Sub Lookup'!$A$1:$B$65536,2,FALSE)","v":"Home to School Transport - Hired"}]
["Kent County Council",12001646,"ABACUS CARS LTD","2020-04-22",2065,"E","1RX","Admissions & Transport","222",{"$f":"VLOOKUP(I483,'[1]Sub Lookup'!$A$1:$B$65536,2,FALSE)","v":"Home to School Transport - Hired"}]
["Kent County Council",12001643,"ABACUS CARS LTD","2020-04-22",2170,"E","1RX","Admissions & Transport","222",{"$f":"VLOOKUP(I484,'[1]Sub Lookup'!$A$1:$B$65536,2,FALSE)","v":"Home to School Transport - Hired"}]
["Kent County Council",12009220,"ABACUS CARS LTD","2020-04-24",3442.5,"E","1RX","Admissions & Transport","222",{"$f":"VLOOKUP(I485,'[1]Sub Lookup'!$A$1:$B$65536,2,FALSE)","v":"Home to School Transport - Hired"}]
["Kent County Council",11985394,"ABACUS CHILDRENS NURSERY (LONGFIELD)-ACN LTD","2020-04-14",11934,"E","1KA","School Resources","528",{"$f":"VLOOKUP(I486,'[1]Sub Lookup'!$A$1:$B$65536,2,FALSE)","v":"Early Years Education"}]
["Kent County Council",11967088,"ABACUS HOMECARE (BROMLEY) LTD","2020-04-01",282.95,"S","5XC","Commissioning & Service Delivery","530",{"$f":"VLOOKUP(I487,'[1]Sub Lookup'!$A$1:$B$65536,2,FALSE)","v":"Commissioned Service - Other"}]
["Kent County Council",11993491,"ABACUS HOMECARE (BROMLEY) LTD","2020-04-24",1229.45,"S","5KG","Physical support - 65+ Long Term Support: Community: Home Care","530",{"$f":"VLOOKUP(I488,'[1]Sub Lookup'!$A$1:$B$65536,2,FALSE)","v":"Commissioned Service - Other"}]
["Kent County Council",12018412,"ABACUS HOMECARE (BROMLEY) LTD","2020-04-29",282.95,"S","5XC","Commissioning & Service Delivery","530",{"$f":"VLOOKUP(I489,'[1]Sub Lookup'!$A$1:$B$65536,2,FALSE)","v":"Commissioned Service - Other"}]
["Kent County Council",11984637,"ABACUS NURSERY AND CHILDCARE LTD","2020-04-14",35587.5,"E","1KA","School Resources","528",{"$f":"VLOOKUP(I490,'[1]Sub Lookup'!$A$1:$B$65536,2,FALSE)","v":"Early Years Education"}]
["Kent County Council",11970897,"ABBEY CHASE RESIDENTIAL & NURSING HOME LTD","2020-04-01",3100,"S","5KB","Physical support - 65+ Long Term Support: Nursing","530",{"$f":"VLOOKUP(I491,'[1]Sub Lookup'!$A$1:$B$65536,2,FALSE)","v":"Commissioned Service - Other"}]
["Kent County Council",11966259,"ABBEY CHASE RESIDENTIAL & NURSING HOME LTD","2020-04-01",775,"S","5XC","Commissioning & Service Delivery","530",{"$f":"VLOOKUP(I492,'[1]Sub Lookup'!$A$1:$B$65536,2,FALSE)","v":"Commissioned Service - Other"}]
["Kent County Council",12017619,"ABBEY CHASE RESIDENTIAL & NURSING HOME LTD","2020-04-29",775,"S","5XC","Commissioning & Service Delivery","530",{"$f":"VLOOKUP(I493,'[1]Sub Lookup'!$A$1:$B$65536,2,FALSE)","v":"Commissioned Service - Other"}]
["Kent County Council",11967236,"ABBEY HEALTHCARE T/A PRIMROSE HILL","2020-04-01",530.28,"S","5XC","Commissioning & Service Delivery","530",{"$f":"VLOOKUP(I494,'[1]Sub Lookup'!$A$1:$B$65536,2,FALSE)","v":"Commissioned Service - Other"}]
["Kent County Council",11994527,"ABBEY HEALTHCARE T/A PRIMROSE HILL","2020-04-17",2121.12,"S","5KB","Physical support - 65+ Long Term Support: Nursing","530",{"$f":"VLOOKUP(I495,'[1]Sub Lookup'!$A$1:$B$65536,2,FALSE)","v":"Commissioned Service - Other"}]
["Kent County Council",12018528,"ABBEY HEALTHCARE T/A PRIMROSE HILL","2020-04-29",530.28,"S","5XC","Commissioning & Service Delivery","530",{"$f":"VLOOKUP(I496,'[1]Sub Lookup'!$A$1:$B$65536,2,FALSE)","v":"Commissioned Service - Other"}]
["Kent County Council",12000791,"ABBEY LODGE","2020-04-21",5421.43,"S","5KU","Physical support - 65+ Short Term - Other - Residential","530",{"$f":"VLOOKUP(I497,'[1]Sub Lookup'!$A$1:$B$65536,2,FALSE)","v":"Commissioned Service - Other"}]
["Kent County Council",11984361,"ABBEY PRE-SCHOOL-DOVER","2020-04-14",15116.4,"E","1KA","School Resources","528",{"$f":"VLOOKUP(I498,'[1]Sub Lookup'!$A$1:$B$65536,2,FALSE)","v":"Early Years Education"}]
["Kent County Council",11966260,"ABBEYROSE RESIDENTIAL HOME","2020-04-01",8537.15,"S","5XC","Commissioning & Service Delivery","530",{"$f":"VLOOKUP(I499,'[1]Sub Lookup'!$A$1:$B$65536,2,FALSE)","v":"Commissioned Service - Other"}]
["Kent County Council",11972444,"ABBEYROSE RESIDENTIAL HOME","2020-04-03",2310.3200000000002,"S","5BA","Learning Disability Support - 65+ Long Term Support: Residential","530",{"$f":"VLOOKUP(I500,'[1]Sub Lookup'!$A$1:$B$65536,2,FALSE)","v":"Commissioned Service - Other"}]
["Kent County Council",11972444,"ABBEYROSE RESIDENTIAL HOME","2020-04-03",2565.2400000000002,"S","5FA","Mental Health Support - 65+ Long Term Support: Residential","530",{"$f":"VLOOKUP(I501,'[1]Sub Lookup'!$A$1:$B$65536,2,FALSE)","v":"Commissioned Service - Other"}]
["Kent County Council",11972444,"ABBEYROSE RESIDENTIAL HOME","2020-04-03",4660,"S","5KA","Physical support - 65+ Long Term Support: Residential","530",{"$f":"VLOOKUP(I502,'[1]Sub Lookup'!$A$1:$B$65536,2,FALSE)","v":"Commissioned Service - Other"}]
["Kent County Council",11972444,"ABBEYROSE RESIDENTIAL HOME","2020-04-03",16656.95,"S","5KA","Physical support - 65+ Long Term Support: Residential","530",{"$f":"VLOOKUP(I503,'[1]Sub Lookup'!$A$1:$B$65536,2,FALSE)","v":"Commissioned Service - Other"}]
["Kent County Council",11972444,"ABBEYROSE RESIDENTIAL HOME","2020-04-03",4021.84,"S","5KA","Physical support - 65+ Long Term Support: Residential","530",{"$f":"VLOOKUP(I504,'[1]Sub Lookup'!$A$1:$B$65536,2,FALSE)","v":"Commissioned Service - Other"}]
["Kent County Council",12005097,"ABBEYROSE RESIDENTIAL HOME","2020-04-22",5996.42,"S","5KA","Physical support - 65+ Long Term Support: Residential","530",{"$f":"VLOOKUP(I505,'[1]Sub Lookup'!$A$1:$B$65536,2,FALSE)","v":"Commissioned Service - Other"}]
["Kent County Council",12004499,"ABBEYROSE RESIDENTIAL HOME","2020-04-22",13988.57,"S","5KA","Physical support - 65+ Long Term Support: Residential","530",{"$f":"VLOOKUP(I506,'[1]Sub Lookup'!$A$1:$B$65536,2,FALSE)","v":"Commissioned Service - Other"}]
["Kent County Council",12004486,"ABBEYROSE RESIDENTIAL HOME","2020-04-22",3285.71,"S","5KU","Physical support - 65+ Short Term - Other - Residential","530",{"$f":"VLOOKUP(I507,'[1]Sub Lookup'!$A$1:$B$65536,2,FALSE)","v":"Commissioned Service - Other"}]
["Kent County Council",12017620,"ABBEYROSE RESIDENTIAL HOME","2020-04-29",8537.15,"S","5XC","Commissioning & Service Delivery","530",{"$f":"VLOOKUP(I508,'[1]Sub Lookup'!$A$1:$B$65536,2,FALSE)","v":"Commissioned Service - Other"}]
["Kent County Council",11972583,"ABC PRESCHOOL (SWALECLIFFE)","2020-04-03",2319.2400000000002,"E","1KA","School Resources","528",{"$f":"VLOOKUP(I509,'[1]Sub Lookup'!$A$1:$B$65536,2,FALSE)","v":"Early Years Education"}]
["Kent County Council",11984612,"ABC PRESCHOOL (SWALECLIFFE)","2020-04-14",30025.940000000002,"E","1KA","School Resources","528",{"$f":"VLOOKUP(I510,'[1]Sub Lookup'!$A$1:$B$65536,2,FALSE)","v":"Early Years Education"}]
["Kent County Council",12001545,"REDACTED - Personal Payment","2020-04-22",2220,"S","35H","Fostering NR Payments","232",{"$f":"VLOOKUP(I511,'[1]Sub Lookup'!$A$1:$B$65536,2,FALSE)","v":"Public Transport (Clients)"}]
["Kent County Council",12001545,"REDACTED - Personal Payment","2020-04-22",2553,"E","1RX","Admissions & Transport","222",{"$f":"VLOOKUP(I512,'[1]Sub Lookup'!$A$1:$B$65536,2,FALSE)","v":"Home to School Transport - Hired"}]
["Kent County Council",11966264,"ABLE2ACHIEVE LTD","2020-04-01",2892.96,"S","5XC","Commissioning & Service Delivery","530",{"$f":"VLOOKUP(I513,'[1]Sub Lookup'!$A$1:$B$65536,2,FALSE)","v":"Commissioned Service - Other"}]
["Kent County Council",11957879,"ABLE2ACHIEVE LTD","2020-04-03",11571.84,"S","5AH","Learning Disability Support - 18 64 Long Term Support: Community: Supported Living","530",{"$f":"VLOOKUP(I514,'[1]Sub Lookup'!$A$1:$B$65536,2,FALSE)","v":"Commissioned Service - Other"}]
["Kent County Council",11979622,"ABLE2ACHIEVE LTD","2020-04-07",11571.84,"S","5AH","Learning Disability Support - 18 64 Long Term Support: Community: Supported Living","530",{"$f":"VLOOKUP(I515,'[1]Sub Lookup'!$A$1:$B$65536,2,FALSE)","v":"Commissioned Service - Other"}]
["Kent County Council",12017624,"ABLE2ACHIEVE LTD","2020-04-29",2892.96,"S","5XC","Commissioning & Service Delivery","530",{"$f":"VLOOKUP(I516,'[1]Sub Lookup'!$A$1:$B$65536,2,FALSE)","v":"Commissioned Service - Other"}]
["Kent County Council",11966553,"ABRAHAM HEALTH CARE LTD T/A GLENKINDIE","2020-04-01",665,"S","5XC","Commissioning & Service Delivery","530",{"$f":"VLOOKUP(I517,'[1]Sub Lookup'!$A$1:$B$65536,2,FALSE)","v":"Commissioned Service - Other"}]
["Kent County Council",11989334,"ABRAHAM HEALTH CARE LTD T/A GLENKINDIE","2020-04-14",2660,"S","5TA","Support with Memory & Cognition - 65+ Long Term Support: Residential","530",{"$f":"VLOOKUP(I518,'[1]Sub Lookup'!$A$1:$B$65536,2,FALSE)","v":"Commissioned Service - Other"}]
["Kent County Council",12017965,"ABRAHAM HEALTH CARE LTD T/A GLENKINDIE","2020-04-29",665,"S","5XC","Commissioning & Service Delivery","530",{"$f":"VLOOKUP(I519,'[1]Sub Lookup'!$A$1:$B$65536,2,FALSE)","v":"Commissioned Service - Other"}]
["Kent County Council",12006897,"ABSOLUTE HYGIENE SOLUTIONS LTD","2020-04-24",541,"C","36P","Children's Centres","130",{"$f":"VLOOKUP(I520,'[1]Sub Lookup'!$A$1:$B$65536,2,FALSE)","v":"Cleaning Materials and Domestic Supplies"}]
["Kent County Council",11929237,"ACACIA NUMBER 1 LIMITED-ACACIA HOUSE","2020-04-01",-386.73,"S","5KB","Physical support - 65+ Long Term Support: Nursing","530",{"$f":"VLOOKUP(I521,'[1]Sub Lookup'!$A$1:$B$65536,2,FALSE)","v":"Commissioned Service - Other"}]
["Kent County Council",11966265,"ACACIA NUMBER 1 LIMITED-ACACIA HOUSE","2020-04-01",16569.170000000002,"S","5XC","Commissioning & Service Delivery","530",{"$f":"VLOOKUP(I522,'[1]Sub Lookup'!$A$1:$B$65536,2,FALSE)","v":"Commissioned Service - Other"}]
["Kent County Council",11971309,"ACACIA NUMBER 1 LIMITED-ACACIA HOUSE","2020-04-02",1800,"S","5TB","Support with Memory & Cognition - 65+ Long Term Support: Nursing","530",{"$f":"VLOOKUP(I523,'[1]Sub Lookup'!$A$1:$B$65536,2,FALSE)","v":"Commissioned Service - Other"}]
["Kent County Council",11971309,"ACACIA NUMBER 1 LIMITED-ACACIA HOUSE","2020-04-02",3496.56,"S","5TB","Support with Memory & Cognition - 65+ Long Term Support: Nursing","530",{"$f":"VLOOKUP(I524,'[1]Sub Lookup'!$A$1:$B$65536,2,FALSE)","v":"Commissioned Service - Other"}]
["Kent County Council",11971309,"ACACIA NUMBER 1 LIMITED-ACACIA HOUSE","2020-04-02",1851.1200000000001,"S","5TB","Support with Memory & Cognition - 65+ Long Term Support: Nursing","530",{"$f":"VLOOKUP(I525,'[1]Sub Lookup'!$A$1:$B$65536,2,FALSE)","v":"Commissioned Service - Other"}]
["Kent County Council",11971309,"ACACIA NUMBER 1 LIMITED-ACACIA HOUSE","2020-04-02",1800,"S","5KA","Physical support - 65+ Long Term Support: Residential","530",{"$f":"VLOOKUP(I526,'[1]Sub Lookup'!$A$1:$B$65536,2,FALSE)","v":"Commissioned Service - Other"}]
["Kent County Council",11971309,"ACACIA NUMBER 1 LIMITED-ACACIA HOUSE","2020-04-02",1158.22,"S","5KB","Physical support - 65+ Long Term Support: Nursing","530",{"$f":"VLOOKUP(I527,'[1]Sub Lookup'!$A$1:$B$65536,2,FALSE)","v":"Commissioned Service - Other"}]
["Kent County Council",11971309,"ACACIA NUMBER 1 LIMITED-ACACIA HOUSE","2020-04-02",1242.44,"S","5KB","Physical support - 65+ Long Term Support: Nursing","530",{"$f":"VLOOKUP(I528,'[1]Sub Lookup'!$A$1:$B$65536,2,FALSE)","v":"Commissioned Service - Other"}]
["Kent County Council",11971309,"ACACIA NUMBER 1 LIMITED-ACACIA HOUSE","2020-04-02",8970.6,"S","5KB","Physical support - 65+ Long Term Support: Nursing","530",{"$f":"VLOOKUP(I529,'[1]Sub Lookup'!$A$1:$B$65536,2,FALSE)","v":"Commissioned Service - Other"}]
["Kent County Council",11971309,"ACACIA NUMBER 1 LIMITED-ACACIA HOUSE","2020-04-02",1530.74,"S","5KB","Physical support - 65+ Long Term Support: Nursing","530",{"$f":"VLOOKUP(I530,'[1]Sub Lookup'!$A$1:$B$65536,2,FALSE)","v":"Commissioned Service - Other"}]
["Kent County Council",11971309,"ACACIA NUMBER 1 LIMITED-ACACIA HOUSE","2020-04-02",1800,"S","5JA","Physical Support - 18 64 Long Term Support: Residential","530",{"$f":"VLOOKUP(I531,'[1]Sub Lookup'!$A$1:$B$65536,2,FALSE)","v":"Commissioned Service - Other"}]
["Kent County Council",11971309,"ACACIA NUMBER 1 LIMITED-ACACIA HOUSE","2020-04-02",1249.3399999999999,"S","5JB","Physical Support - 18 64 Long Term Support: Nursing","530",{"$f":"VLOOKUP(I532,'[1]Sub Lookup'!$A$1:$B$65536,2,FALSE)","v":"Commissioned Service - Other"}]
["Kent County Council",11971309,"ACACIA NUMBER 1 LIMITED-ACACIA HOUSE","2020-04-02",1645.44,"S","5JB","Physical Support - 18 64 Long Term Support: Nursing","530",{"$f":"VLOOKUP(I533,'[1]Sub Lookup'!$A$1:$B$65536,2,FALSE)","v":"Commissioned Service - Other"}]
["Kent County Council",11971309,"ACACIA NUMBER 1 LIMITED-ACACIA HOUSE","2020-04-02",1225.4000000000001,"S","5FA","Mental Health Support - 65+ Long Term Support: Residential","530",{"$f":"VLOOKUP(I534,'[1]Sub Lookup'!$A$1:$B$65536,2,FALSE)","v":"Commissioned Service - Other"}]
["Kent County Council",11982594,"ACACIA NUMBER 1 LIMITED-ACACIA HOUSE","2020-04-08",6746.92,"S","5KB","Physical support - 65+ Long Term Support: Nursing","530",{"$f":"VLOOKUP(I535,'[1]Sub Lookup'!$A$1:$B$65536,2,FALSE)","v":"Commissioned Service - Other"}]
["Kent County Council",11987394,"ACACIA NUMBER 1 LIMITED-ACACIA HOUSE","2020-04-15",-6685.71,"S","5KB","Physical support - 65+ Long Term Support: Nursing","530",{"$f":"VLOOKUP(I536,'[1]Sub Lookup'!$A$1:$B$65536,2,FALSE)","v":"Commissioned Service - Other"}]
["Kent County Council",11973446,"ACACIA NUMBER 1 LIMITED-ACACIA HOUSE","2020-04-15",1861.2,"S","5TB","Support with Memory & Cognition - 65+ Long Term Support: Nursing","530",{"$f":"VLOOKUP(I537,'[1]Sub Lookup'!$A$1:$B$65536,2,FALSE)","v":"Commissioned Service - Other"}]
["Kent County Council",11973446,"ACACIA NUMBER 1 LIMITED-ACACIA HOUSE","2020-04-15",3603.2200000000003,"S","5TB","Support with Memory & Cognition - 65+ Long Term Support: Nursing","530",{"$f":"VLOOKUP(I538,'[1]Sub Lookup'!$A$1:$B$65536,2,FALSE)","v":"Commissioned Service - Other"}]
["Kent County Council",11973446,"ACACIA NUMBER 1 LIMITED-ACACIA HOUSE","2020-04-15",1914.04,"S","5TB","Support with Memory & Cognition - 65+ Long Term Support: Nursing","530",{"$f":"VLOOKUP(I539,'[1]Sub Lookup'!$A$1:$B$65536,2,FALSE)","v":"Commissioned Service - Other"}]
["Kent County Council",11973446,"ACACIA NUMBER 1 LIMITED-ACACIA HOUSE","2020-04-15",1861.2,"S","5KA","Physical support - 65+ Long Term Support: Residential","530",{"$f":"VLOOKUP(I540,'[1]Sub Lookup'!$A$1:$B$65536,2,FALSE)","v":"Commissioned Service - Other"}]
["Kent County Council",11973446,"ACACIA NUMBER 1 LIMITED-ACACIA HOUSE","2020-04-15",1197.58,"S","5KB","Physical support - 65+ Long Term Support: Nursing","530",{"$f":"VLOOKUP(I541,'[1]Sub Lookup'!$A$1:$B$65536,2,FALSE)","v":"Commissioned Service - Other"}]
["Kent County Council",11973446,"ACACIA NUMBER 1 LIMITED-ACACIA HOUSE","2020-04-15",1284.68,"S","5KB","Physical support - 65+ Long Term Support: Nursing","530",{"$f":"VLOOKUP(I542,'[1]Sub Lookup'!$A$1:$B$65536,2,FALSE)","v":"Commissioned Service - Other"}]
["Kent County Council",11973446,"ACACIA NUMBER 1 LIMITED-ACACIA HOUSE","2020-04-15",9275.58,"S","5KB","Physical support - 65+ Long Term Support: Nursing","530",{"$f":"VLOOKUP(I543,'[1]Sub Lookup'!$A$1:$B$65536,2,FALSE)","v":"Commissioned Service - Other"}]
["Kent County Council",11973446,"ACACIA NUMBER 1 LIMITED-ACACIA HOUSE","2020-04-15",1583.94,"S","5KB","Physical support - 65+ Long Term Support: Nursing","530",{"$f":"VLOOKUP(I544,'[1]Sub Lookup'!$A$1:$B$65536,2,FALSE)","v":"Commissioned Service - Other"}]
["Kent County Council",11973446,"ACACIA NUMBER 1 LIMITED-ACACIA HOUSE","2020-04-15",1861.2,"S","5JA","Physical Support - 18 64 Long Term Support: Residential","530",{"$f":"VLOOKUP(I545,'[1]Sub Lookup'!$A$1:$B$65536,2,FALSE)","v":"Commissioned Service - Other"}]
["Kent County Council",11973446,"ACACIA NUMBER 1 LIMITED-ACACIA HOUSE","2020-04-15",1291.8,"S","5JB","Physical Support - 18 64 Long Term Support: Nursing","530",{"$f":"VLOOKUP(I546,'[1]Sub Lookup'!$A$1:$B$65536,2,FALSE)","v":"Commissioned Service - Other"}]
["Kent County Council",11973446,"ACACIA NUMBER 1 LIMITED-ACACIA HOUSE","2020-04-15",1701.38,"S","5JB","Physical Support - 18 64 Long Term Support: Nursing","530",{"$f":"VLOOKUP(I547,'[1]Sub Lookup'!$A$1:$B$65536,2,FALSE)","v":"Commissioned Service - Other"}]
["Kent County Council",11973446,"ACACIA NUMBER 1 LIMITED-ACACIA HOUSE","2020-04-15",1267.06,"S","5FA","Mental Health Support - 65+ Long Term Support: Residential","530",{"$f":"VLOOKUP(I548,'[1]Sub Lookup'!$A$1:$B$65536,2,FALSE)","v":"Commissioned Service - Other"}]
["Kent County Council",11998142,"ACACIA NUMBER 1 LIMITED-ACACIA HOUSE","2020-04-20",264.45,"S","5KB","Physical support - 65+ Long Term Support: Nursing","530",{"$f":"VLOOKUP(I549,'[1]Sub Lookup'!$A$1:$B$65536,2,FALSE)","v":"Commissioned Service - Other"}]
["Kent County Council",12000780,"ACACIA NUMBER 1 LIMITED-ACACIA HOUSE","2020-04-21",8625,"S","5KB","Physical support - 65+ Long Term Support: Nursing","530",{"$f":"VLOOKUP(I550,'[1]Sub Lookup'!$A$1:$B$65536,2,FALSE)","v":"Commissioned Service - Other"}]
["Kent County Council",12013341,"ACACIA NUMBER 1 LIMITED-ACACIA HOUSE","2020-04-28",3722.4,"S","5TB","Support with Memory & Cognition - 65+ Long Term Support: Nursing","530",{"$f":"VLOOKUP(I551,'[1]Sub Lookup'!$A$1:$B$65536,2,FALSE)","v":"Commissioned Service - Other"}]
["Kent County Council",12013341,"ACACIA NUMBER 1 LIMITED-ACACIA HOUSE","2020-04-28",7206.4400000000005,"S","5TB","Support with Memory & Cognition - 65+ Long Term Support: Nursing","530",{"$f":"VLOOKUP(I552,'[1]Sub Lookup'!$A$1:$B$65536,2,FALSE)","v":"Commissioned Service - Other"}]
["Kent County Council",12013341,"ACACIA NUMBER 1 LIMITED-ACACIA HOUSE","2020-04-28",3828.08,"S","5TB","Support with Memory & Cognition - 65+ Long Term Support: Nursing","530",{"$f":"VLOOKUP(I553,'[1]Sub Lookup'!$A$1:$B$65536,2,FALSE)","v":"Commissioned Service - Other"}]
["Kent County Council",12013341,"ACACIA NUMBER 1 LIMITED-ACACIA HOUSE","2020-04-28",3722.4,"S","5KA","Physical support - 65+ Long Term Support: Residential","530",{"$f":"VLOOKUP(I554,'[1]Sub Lookup'!$A$1:$B$65536,2,FALSE)","v":"Commissioned Service - Other"}]
["Kent County Council",12013341,"ACACIA NUMBER 1 LIMITED-ACACIA HOUSE","2020-04-28",2395.16,"S","5KB","Physical support - 65+ Long Term Support: Nursing","530",{"$f":"VLOOKUP(I555,'[1]Sub Lookup'!$A$1:$B$65536,2,FALSE)","v":"Commissioned Service - Other"}]
["Kent County Council",12013341,"ACACIA NUMBER 1 LIMITED-ACACIA HOUSE","2020-04-28",2569.36,"S","5KB","Physical support - 65+ Long Term Support: Nursing","530",{"$f":"VLOOKUP(I556,'[1]Sub Lookup'!$A$1:$B$65536,2,FALSE)","v":"Commissioned Service - Other"}]
["Kent County Council",12013341,"ACACIA NUMBER 1 LIMITED-ACACIA HOUSE","2020-04-28",25651.16,"S","5KB","Physical support - 65+ Long Term Support: Nursing","530",{"$f":"VLOOKUP(I557,'[1]Sub Lookup'!$A$1:$B$65536,2,FALSE)","v":"Commissioned Service - Other"}]
["Kent County Council",12013341,"ACACIA NUMBER 1 LIMITED-ACACIA HOUSE","2020-04-28",3167.88,"S","5KB","Physical support - 65+ Long Term Support: Nursing","530",{"$f":"VLOOKUP(I558,'[1]Sub Lookup'!$A$1:$B$65536,2,FALSE)","v":"Commissioned Service - Other"}]
["Kent County Council",12013341,"ACACIA NUMBER 1 LIMITED-ACACIA HOUSE","2020-04-28",3722.4,"S","5JA","Physical Support - 18 64 Long Term Support: Residential","530",{"$f":"VLOOKUP(I559,'[1]Sub Lookup'!$A$1:$B$65536,2,FALSE)","v":"Commissioned Service - Other"}]
["Kent County Council",12013341,"ACACIA NUMBER 1 LIMITED-ACACIA HOUSE","2020-04-28",2583.6,"S","5JB","Physical Support - 18 64 Long Term Support: Nursing","530",{"$f":"VLOOKUP(I560,'[1]Sub Lookup'!$A$1:$B$65536,2,FALSE)","v":"Commissioned Service - Other"}]
["Kent County Council",12013341,"ACACIA NUMBER 1 LIMITED-ACACIA HOUSE","2020-04-28",3402.76,"S","5JB","Physical Support - 18 64 Long Term Support: Nursing","530",{"$f":"VLOOKUP(I561,'[1]Sub Lookup'!$A$1:$B$65536,2,FALSE)","v":"Commissioned Service - Other"}]
["Kent County Council",12013341,"ACACIA NUMBER 1 LIMITED-ACACIA HOUSE","2020-04-28",2534.12,"S","5FA","Mental Health Support - 65+ Long Term Support: Residential","530",{"$f":"VLOOKUP(I562,'[1]Sub Lookup'!$A$1:$B$65536,2,FALSE)","v":"Commissioned Service - Other"}]
["Kent County Council",12014005,"ACACIA NUMBER 1 LIMITED-ACACIA HOUSE","2020-04-28",8278.57,"S","5KB","Physical support - 65+ Long Term Support: Nursing","530",{"$f":"VLOOKUP(I563,'[1]Sub Lookup'!$A$1:$B$65536,2,FALSE)","v":"Commissioned Service - Other"}]
["Kent County Council",12017625,"ACACIA NUMBER 1 LIMITED-ACACIA HOUSE","2020-04-29",16569.170000000002,"S","5XC","Commissioning & Service Delivery","530",{"$f":"VLOOKUP(I564,'[1]Sub Lookup'!$A$1:$B$65536,2,FALSE)","v":"Commissioned Service - Other"}]
["Kent County Council",11939917,"ACADEMICALLY GIFTED LTD ","2020-04-20",974.9,"K","2LC","Libraries, Registration & Archives","351",{"$f":"VLOOKUP(I565,'[1]Sub Lookup'!$A$1:$B$65536,2,FALSE)","v":"Stationery and Office Expenses"}]
["Kent County Council",11971181,"ACCESS EXPEDITIONS LIMITED","2020-04-03",264,"K","2UA","Youth Services","300",{"$f":"VLOOKUP(I566,'[1]Sub Lookup'!$A$1:$B$65536,2,FALSE)","v":"Equipment, Furniture and Materials and Livestock"}]
["Kent County Council",11983537,"ACCESS MATTERS UK","2020-04-17",900,"C","2LB","Arts Development","C14",{"$f":"VLOOKUP(I567,'[1]Sub Lookup'!$A$1:$B$65536,2,FALSE)","v":"Design Fees - External"}]
["Kent County Council",11993176,"ACCESS MATTERS UK","2020-04-17",2208.75,"C","2LB","Arts Development","C14",{"$f":"VLOOKUP(I568,'[1]Sub Lookup'!$A$1:$B$65536,2,FALSE)","v":"Design Fees - External"}]
["Kent County Council",11993098,"ACCESS TRAVEL (KENT)","2020-04-16",2560,"E","1RX","Admissions & Transport","222",{"$f":"VLOOKUP(I569,'[1]Sub Lookup'!$A$1:$B$65536,2,FALSE)","v":"Home to School Transport - Hired"}]
["Kent County Council",11972284,"ACCESS2BOOKS LIMITED","2020-04-03",607.52,"K","2LC","Libraries, Registration & Archives","330",{"$f":"VLOOKUP(I570,'[1]Sub Lookup'!$A$1:$B$65536,2,FALSE)","v":"Books, Publications and Newspapers etc"}]
["Kent County Council",11966678,"ACCOMPLISH GROUP LIMITED","2020-04-01",2185.71,"S","5XC","Commissioning & Service Delivery","530",{"$f":"VLOOKUP(I571,'[1]Sub Lookup'!$A$1:$B$65536,2,FALSE)","v":"Commissioned Service - Other"}]
["Kent County Council",11967221,"ACCOMPLISH GROUP LIMITED","2020-04-01",597.80000000000007,"S","5XC","Commissioning & Service Delivery","530",{"$f":"VLOOKUP(I572,'[1]Sub Lookup'!$A$1:$B$65536,2,FALSE)","v":"Commissioned Service - Other"}]
["Kent County Council",11970126,"ACCOMPLISH GROUP LIMITED","2020-04-09",9110.4,"S","9AR","Revenue Balance Sheet","BEA",{"$f":"VLOOKUP(I573,'[1]Sub Lookup'!$A$1:$B$65536,2,FALSE)","v":"Payments in Advance - General"}]
["Kent County Council",12005116,"ACCOMPLISH GROUP LIMITED","2020-04-22",2517.39,"S","5EH","Mental Health Support - 18 64 Long Term Support: Community: Supported Living","530",{"$f":"VLOOKUP(I574,'[1]Sub Lookup'!$A$1:$B$65536,2,FALSE)","v":"Commissioned Service - Other"}]
["Kent County Council",12017783,"ACCOMPLISH GROUP LIMITED","2020-04-29",597.80000000000007,"S","5XC","Commissioning & Service Delivery","530",{"$f":"VLOOKUP(I575,'[1]Sub Lookup'!$A$1:$B$65536,2,FALSE)","v":"Commissioned Service - Other"}]
["Kent County Council",12018090,"ACCOMPLISH GROUP LIMITED","2020-04-29",2185.71,"S","5XC","Commissioning & Service Delivery","530",{"$f":"VLOOKUP(I576,'[1]Sub Lookup'!$A$1:$B$65536,2,FALSE)","v":"Commissioned Service - Other"}]
["Kent County Council",11961902,"ACE EDUCATION TRAINING LLP","2020-04-09",275,"E","1EG","Inclusion","064",{"$f":"VLOOKUP(I577,'[1]Sub Lookup'!$A$1:$B$65536,2,FALSE)","v":"External Training"}]
["Kent County Council",12014334,"ACE TAXIS (STROOD)","2020-04-29",1430,"E","1RX","Admissions & Transport","222",{"$f":"VLOOKUP(I578,'[1]Sub Lookup'!$A$1:$B$65536,2,FALSE)","v":"Home to School Transport - Hired"}]
["Kent County Council",12014334,"ACE TAXIS (STROOD)","2020-04-29",2220,"S","35H","Fostering NR Payments","232",{"$f":"VLOOKUP(I579,'[1]Sub Lookup'!$A$1:$B$65536,2,FALSE)","v":"Public Transport (Clients)"}]
["Kent County Council",12014334,"ACE TAXIS (STROOD)","2020-04-29",650,"S","5AJ","Learning Disability Support - 18 64 Long Term Support: Community: Day Care","232",{"$f":"VLOOKUP(I580,'[1]Sub Lookup'!$A$1:$B$65536,2,FALSE)","v":"Public Transport (Clients)"}]
["Kent County Council",11966312,"ACL CARE HOMES LTD","2020-04-01",13417.380000000001,"S","5XC","Commissioning & Service Delivery","530",{"$f":"VLOOKUP(I581,'[1]Sub Lookup'!$A$1:$B$65536,2,FALSE)","v":"Commissioned Service - Other"}]
["Kent County Council",11964818,"ACL CARE HOMES LTD","2020-04-01",4282.1400000000003,"S","9AR","Revenue Balance Sheet","BEA",{"$f":"VLOOKUP(I582,'[1]Sub Lookup'!$A$1:$B$65536,2,FALSE)","v":"Payments in Advance - General"}]
["Kent County Council",11964818,"ACL CARE HOMES LTD","2020-04-01",2028.38,"S","5EA","Mental Health Support - 18 64 Long Term Support: Residential","530",{"$f":"VLOOKUP(I583,'[1]Sub Lookup'!$A$1:$B$65536,2,FALSE)","v":"Commissioned Service - Other"}]
["Kent County Council",11964831,"ACL CARE HOMES LTD","2020-04-01",3264.91,"S","9AR","Revenue Balance Sheet","BEA",{"$f":"VLOOKUP(I584,'[1]Sub Lookup'!$A$1:$B$65536,2,FALSE)","v":"Payments in Advance - General"}]
["Kent County Council",11964831,"ACL CARE HOMES LTD","2020-04-01",1546.53,"S","5EA","Mental Health Support - 18 64 Long Term Support: Residential","530",{"$f":"VLOOKUP(I585,'[1]Sub Lookup'!$A$1:$B$65536,2,FALSE)","v":"Commissioned Service - Other"}]
["Kent County Council",11964814,"ACL CARE HOMES LTD","2020-04-01",5642.14,"S","9AR","Revenue Balance Sheet","BEA",{"$f":"VLOOKUP(I586,'[1]Sub Lookup'!$A$1:$B$65536,2,FALSE)","v":"Payments in Advance - General"}]
["Kent County Council",11964814,"ACL CARE HOMES LTD","2020-04-01",1484.23,"S","9AR","Revenue Balance Sheet","BEA",{"$f":"VLOOKUP(I587,'[1]Sub Lookup'!$A$1:$B$65536,2,FALSE)","v":"Payments in Advance - General"}]
["Kent County Council",11964814,"ACL CARE HOMES LTD","2020-04-01",3502.7000000000003,"S","9AR","Revenue Balance Sheet","BEA",{"$f":"VLOOKUP(I588,'[1]Sub Lookup'!$A$1:$B$65536,2,FALSE)","v":"Payments in Advance - General"}]
["Kent County Council",11964814,"ACL CARE HOMES LTD","2020-04-01",2672.58,"S","5EA","Mental Health Support - 18 64 Long Term Support: Residential","530",{"$f":"VLOOKUP(I589,'[1]Sub Lookup'!$A$1:$B$65536,2,FALSE)","v":"Commissioned Service - Other"}]
["Kent County Council",11964814,"ACL CARE HOMES LTD","2020-04-01",703.05000000000007,"S","5EA","Mental Health Support - 18 64 Long Term Support: Residential","530",{"$f":"VLOOKUP(I590,'[1]Sub Lookup'!$A$1:$B$65536,2,FALSE)","v":"Commissioned Service - Other"}]
["Kent County Council",11964814,"ACL CARE HOMES LTD","2020-04-01",1659.18,"S","5EA","Mental Health Support - 18 64 Long Term Support: Residential","530",{"$f":"VLOOKUP(I591,'[1]Sub Lookup'!$A$1:$B$65536,2,FALSE)","v":"Commissioned Service - Other"}]
["Kent County Council",11964886,"ACL CARE HOMES LTD","2020-04-01",2481.1799999999998,"S","9AR","Revenue Balance Sheet","BEA",{"$f":"VLOOKUP(I592,'[1]Sub Lookup'!$A$1:$B$65536,2,FALSE)","v":"Payments in Advance - General"}]
["Kent County Council",11964886,"ACL CARE HOMES LTD","2020-04-01",2481.1799999999998,"S","9AR","Revenue Balance Sheet","BEA",{"$f":"VLOOKUP(I593,'[1]Sub Lookup'!$A$1:$B$65536,2,FALSE)","v":"Payments in Advance - General"}]
["Kent County Council",11964886,"ACL CARE HOMES LTD","2020-04-01",1391.67,"S","9AR","Revenue Balance Sheet","BEA",{"$f":"VLOOKUP(I594,'[1]Sub Lookup'!$A$1:$B$65536,2,FALSE)","v":"Payments in Advance - General"}]
["Kent County Council",11964886,"ACL CARE HOMES LTD","2020-04-01",1175.3,"S","5FA","Mental Health Support - 65+ Long Term Support: Residential","530",{"$f":"VLOOKUP(I595,'[1]Sub Lookup'!$A$1:$B$65536,2,FALSE)","v":"Commissioned Service - Other"}]
["Kent County Council",11964886,"ACL CARE HOMES LTD","2020-04-01",1175.3,"S","5EA","Mental Health Support - 18 64 Long Term Support: Residential","530",{"$f":"VLOOKUP(I596,'[1]Sub Lookup'!$A$1:$B$65536,2,FALSE)","v":"Commissioned Service - Other"}]
["Kent County Council",11964886,"ACL CARE HOMES LTD","2020-04-01",659.21,"S","5EA","Mental Health Support - 18 64 Long Term Support: Residential","530",{"$f":"VLOOKUP(I597,'[1]Sub Lookup'!$A$1:$B$65536,2,FALSE)","v":"Commissioned Service - Other"}]
["Kent County Council",11992632,"ACL CARE HOMES LTD","2020-04-27",2861.6,"S","5EA","Mental Health Support - 18 64 Long Term Support: Residential","530",{"$f":"VLOOKUP(I598,'[1]Sub Lookup'!$A$1:$B$65536,2,FALSE)","v":"Commissioned Service - Other"}]
["Kent County Council",12011029,"ACL CARE HOMES LTD","2020-04-27",6310.52,"S","5EA","Mental Health Support - 18 64 Long Term Support: Residential","530",{"$f":"VLOOKUP(I599,'[1]Sub Lookup'!$A$1:$B$65536,2,FALSE)","v":"Commissioned Service - Other"}]
["Kent County Council",11992246,"ACL CARE HOMES LTD","2020-04-27",6155.8,"S","5EA","Mental Health Support - 18 64 Long Term Support: Residential","530",{"$f":"VLOOKUP(I600,'[1]Sub Lookup'!$A$1:$B$65536,2,FALSE)","v":"Commissioned Service - Other"}]
["Kent County Council",11992238,"ACL CARE HOMES LTD","2020-04-27",3392.6800000000003,"S","5EA","Mental Health Support - 18 64 Long Term Support: Residential","530",{"$f":"VLOOKUP(I601,'[1]Sub Lookup'!$A$1:$B$65536,2,FALSE)","v":"Commissioned Service - Other"}]
["Kent County Council",11971573,"ACL CARE HOMES LTD","2020-04-27",-15348.23,"S","5EA","Mental Health Support - 18 64 Long Term Support: Residential","530",{"$f":"VLOOKUP(I602,'[1]Sub Lookup'!$A$1:$B$65536,2,FALSE)","v":"Commissioned Service - Other"}]
["Kent County Council",12017673,"ACL CARE HOMES LTD","2020-04-29",13417.380000000001,"S","5XC","Commissioning & Service Delivery","530",{"$f":"VLOOKUP(I603,'[1]Sub Lookup'!$A$1:$B$65536,2,FALSE)","v":"Commissioned Service - Other"}]
["Kent County Council",12008506,"ACL CARE HOMES LTD","2020-04-29",4811.4400000000005,"S","5EA","Mental Health Support - 18 64 Long Term Support: Residential","530",{"$f":"VLOOKUP(I604,'[1]Sub Lookup'!$A$1:$B$65536,2,FALSE)","v":"Commissioned Service - Other"}]
["Kent County Council",12008502,"ACL CARE HOMES LTD","2020-04-29",8314.7199999999993,"S","5EA","Mental Health Support - 18 64 Long Term Support: Residential","530",{"$f":"VLOOKUP(I605,'[1]Sub Lookup'!$A$1:$B$65536,2,FALSE)","v":"Commissioned Service - Other"}]
["Kent County Council",12008502,"ACL CARE HOMES LTD","2020-04-29",2187.2800000000002,"S","5EA","Mental Health Support - 18 64 Long Term Support: Residential","530",{"$f":"VLOOKUP(I606,'[1]Sub Lookup'!$A$1:$B$65536,2,FALSE)","v":"Commissioned Service - Other"}]
["Kent County Council",12008502,"ACL CARE HOMES LTD","2020-04-29",5161.88,"S","5EA","Mental Health Support - 18 64 Long Term Support: Residential","530",{"$f":"VLOOKUP(I607,'[1]Sub Lookup'!$A$1:$B$65536,2,FALSE)","v":"Commissioned Service - Other"}]
["Kent County Council",12008507,"ACL CARE HOMES LTD","2020-04-29",3656.48,"S","5FA","Mental Health Support - 65+ Long Term Support: Residential","530",{"$f":"VLOOKUP(I608,'[1]Sub Lookup'!$A$1:$B$65536,2,FALSE)","v":"Commissioned Service - Other"}]
["Kent County Council",12008507,"ACL CARE HOMES LTD","2020-04-29",3656.48,"S","5EA","Mental Health Support - 18 64 Long Term Support: Residential","530",{"$f":"VLOOKUP(I609,'[1]Sub Lookup'!$A$1:$B$65536,2,FALSE)","v":"Commissioned Service - Other"}]
["Kent County Council",12008507,"ACL CARE HOMES LTD","2020-04-29",2050.88,"S","5EA","Mental Health Support - 18 64 Long Term Support: Residential","530",{"$f":"VLOOKUP(I610,'[1]Sub Lookup'!$A$1:$B$65536,2,FALSE)","v":"Commissioned Service - Other"}]
["Kent County Council",11958993,"ACORN CARE & EDUCATION LTD","2020-04-03",7780,"E","1PA","Additional Educational Needs and Resources","530",{"$f":"VLOOKUP(I611,'[1]Sub Lookup'!$A$1:$B$65536,2,FALSE)","v":"Commissioned Service - Other"}]
["Kent County Council",11958994,"ACORN CARE & EDUCATION LTD","2020-04-03",328.28000000000003,"E","1PA","Additional Educational Needs and Resources","530",{"$f":"VLOOKUP(I612,'[1]Sub Lookup'!$A$1:$B$65536,2,FALSE)","v":"Commissioned Service - Other"}]
["Kent County Council",11959349,"ACORN CARE & EDUCATION LTD","2020-04-03",3975,"S","36D","Virtual Schools Kent","401",{"$f":"VLOOKUP(I613,'[1]Sub Lookup'!$A$1:$B$65536,2,FALSE)","v":"Specialists Fees"}]
["Kent County Council",11982675,"ACORN CARE & EDUCATION LTD","2020-04-09",1285,"E","1PA","Additional Educational Needs and Resources","401",{"$f":"VLOOKUP(I614,'[1]Sub Lookup'!$A$1:$B$65536,2,FALSE)","v":"Specialists Fees"}]
["Kent County Council",12005383,"ACORN HEALTH CARE LTD","2020-04-22",473.03000000000003,"S","5KB","Physical support - 65+ Long Term Support: Nursing","530",{"$f":"VLOOKUP(I615,'[1]Sub Lookup'!$A$1:$B$65536,2,FALSE)","v":"Commissioned Service - Other"}]
["Kent County Council",11959579,"ACORN HOMES (UK) LTD","2020-04-03",2500.0300000000002,"E","1PA","Additional Educational Needs and Resources","530",{"$f":"VLOOKUP(I616,'[1]Sub Lookup'!$A$1:$B$65536,2,FALSE)","v":"Commissioned Service - Other"}]
["Kent County Council",11959581,"ACORN HOMES (UK) LTD","2020-04-03",4343.6400000000003,"E","1PA","Additional Educational Needs and Resources","530",{"$f":"VLOOKUP(I617,'[1]Sub Lookup'!$A$1:$B$65536,2,FALSE)","v":"Commissioned Service - Other"}]
["Kent County Council",11997238,"ACORN HOMES (UK) LTD","2020-04-21",10500,"S","31B","IS  Res Care Children","527",{"$f":"VLOOKUP(I618,'[1]Sub Lookup'!$A$1:$B$65536,2,FALSE)","v":"Services"}]
["Kent County Council",11997239,"ACORN HOMES (UK) LTD","2020-04-21",10500,"S","31B","IS  Res Care Children","527",{"$f":"VLOOKUP(I619,'[1]Sub Lookup'!$A$1:$B$65536,2,FALSE)","v":"Services"}]
["Kent County Council",11997240,"ACORN HOMES (UK) LTD","2020-04-21",10500,"S","31B","IS  Res Care Children","527",{"$f":"VLOOKUP(I620,'[1]Sub Lookup'!$A$1:$B$65536,2,FALSE)","v":"Services"}]
["Kent County Council",11997241,"ACORN HOMES (UK) LTD","2020-04-21",10500,"S","31B","IS  Res Care Children","527",{"$f":"VLOOKUP(I621,'[1]Sub Lookup'!$A$1:$B$65536,2,FALSE)","v":"Services"}]
["Kent County Council",11997242,"ACORN HOMES (UK) LTD","2020-04-21",10500,"S","31B","IS  Res Care Children","527",{"$f":"VLOOKUP(I622,'[1]Sub Lookup'!$A$1:$B$65536,2,FALSE)","v":"Services"}]
["Kent County Council",11997243,"ACORN HOMES (UK) LTD","2020-04-21",10500,"S","31B","IS  Res Care Children","527",{"$f":"VLOOKUP(I623,'[1]Sub Lookup'!$A$1:$B$65536,2,FALSE)","v":"Services"}]
["Kent County Council",11997244,"ACORN HOMES (UK) LTD","2020-04-21",10500,"S","31B","IS  Res Care Children","527",{"$f":"VLOOKUP(I624,'[1]Sub Lookup'!$A$1:$B$65536,2,FALSE)","v":"Services"}]
["Kent County Council",11997245,"ACORN HOMES (UK) LTD","2020-04-21",11357.14,"S","31B","IS  Res Care Children","527",{"$f":"VLOOKUP(I625,'[1]Sub Lookup'!$A$1:$B$65536,2,FALSE)","v":"Services"}]
["Kent County Council",11997246,"ACORN HOMES (UK) LTD","2020-04-21",10500,"S","31B","IS  Res Care Children","527",{"$f":"VLOOKUP(I626,'[1]Sub Lookup'!$A$1:$B$65536,2,FALSE)","v":"Services"}]
["Kent County Council",11997247,"ACORN HOMES (UK) LTD","2020-04-21",10500,"S","31B","IS  Res Care Children","527",{"$f":"VLOOKUP(I627,'[1]Sub Lookup'!$A$1:$B$65536,2,FALSE)","v":"Services"}]
["Kent County Council",11997248,"ACORN HOMES (UK) LTD","2020-04-21",2100,"S","31B","IS  Res Care Children","527",{"$f":"VLOOKUP(I628,'[1]Sub Lookup'!$A$1:$B$65536,2,FALSE)","v":"Services"}]
["Kent County Council",11997249,"ACORN HOMES (UK) LTD","2020-04-21",10500,"S","31B","IS  Res Care Children","527",{"$f":"VLOOKUP(I629,'[1]Sub Lookup'!$A$1:$B$65536,2,FALSE)","v":"Services"}]
["Kent County Council",11975554,"ACORN HOMES (UK) LTD","2020-04-21",-285.70999999999998,"S","31B","IS  Res Care Children","527",{"$f":"VLOOKUP(I630,'[1]Sub Lookup'!$A$1:$B$65536,2,FALSE)","v":"Services"}]
["Kent County Council",11983248,"ACORN HOMES (UK) LTD","2020-04-21",3285.71,"S","31B","IS  Res Care Children","527",{"$f":"VLOOKUP(I631,'[1]Sub Lookup'!$A$1:$B$65536,2,FALSE)","v":"Services"}]
["Kent County Council",11997229,"ACORN HOMES (UK) LTD","2020-04-21",2714.29,"S","31B","IS  Res Care Children","527",{"$f":"VLOOKUP(I632,'[1]Sub Lookup'!$A$1:$B$65536,2,FALSE)","v":"Services"}]
["Kent County Council",11983249,"ACORN HOMES (UK) LTD","2020-04-21",4428.57,"S","31B","IS  Res Care Children","527",{"$f":"VLOOKUP(I633,'[1]Sub Lookup'!$A$1:$B$65536,2,FALSE)","v":"Services"}]
["Kent County Council",11997230,"ACORN HOMES (UK) LTD","2020-04-21",4142.8599999999997,"S","31B","IS  Res Care Children","527",{"$f":"VLOOKUP(I634,'[1]Sub Lookup'!$A$1:$B$65536,2,FALSE)","v":"Services"}]
["Kent County Council",11997231,"ACORN HOMES (UK) LTD","2020-04-21",4428.57,"S","31B","IS  Res Care Children","527",{"$f":"VLOOKUP(I635,'[1]Sub Lookup'!$A$1:$B$65536,2,FALSE)","v":"Services"}]
["Kent County Council",11983251,"ACORN HOMES (UK) LTD","2020-04-21",-3850,"S","31B","IS  Res Care Children","527",{"$f":"VLOOKUP(I636,'[1]Sub Lookup'!$A$1:$B$65536,2,FALSE)","v":"Services"}]
["Kent County Council",11975553,"ACORN HOMES (UK) LTD","2020-04-21",-635.71,"S","31B","IS  Res Care Children","527",{"$f":"VLOOKUP(I637,'[1]Sub Lookup'!$A$1:$B$65536,2,FALSE)","v":"Services"}]
["Kent County Council",11997232,"ACORN HOMES (UK) LTD","2020-04-21",10500,"S","31B","IS  Res Care Children","527",{"$f":"VLOOKUP(I638,'[1]Sub Lookup'!$A$1:$B$65536,2,FALSE)","v":"Services"}]
["Kent County Council",11997233,"ACORN HOMES (UK) LTD","2020-04-21",12357.14,"S","31B","IS  Res Care Children","527",{"$f":"VLOOKUP(I639,'[1]Sub Lookup'!$A$1:$B$65536,2,FALSE)","v":"Services"}]
["Kent County Council",11997234,"ACORN HOMES (UK) LTD","2020-04-21",9642.86,"S","31B","IS  Res Care Children","527",{"$f":"VLOOKUP(I640,'[1]Sub Lookup'!$A$1:$B$65536,2,FALSE)","v":"Services"}]
["Kent County Council",11997235,"ACORN HOMES (UK) LTD","2020-04-21",14785.710000000001,"S","31B","IS  Res Care Children","527",{"$f":"VLOOKUP(I641,'[1]Sub Lookup'!$A$1:$B$65536,2,FALSE)","v":"Services"}]
["Kent County Council",11997236,"ACORN HOMES (UK) LTD","2020-04-21",10500,"S","31B","IS  Res Care Children","527",{"$f":"VLOOKUP(I642,'[1]Sub Lookup'!$A$1:$B$65536,2,FALSE)","v":"Services"}]
["Kent County Council",11997237,"ACORN HOMES (UK) LTD","2020-04-21",10500,"S","31B","IS  Res Care Children","527",{"$f":"VLOOKUP(I643,'[1]Sub Lookup'!$A$1:$B$65536,2,FALSE)","v":"Services"}]
["Kent County Council",12001957,"ACORN HOMES (UK) LTD","2020-04-22",5384.68,"E","1PA","Additional Educational Needs and Resources","530",{"$f":"VLOOKUP(I644,'[1]Sub Lookup'!$A$1:$B$65536,2,FALSE)","v":"Commissioned Service - Other"}]
["Kent County Council",12019577,"ACORN HOMES (UK) LTD","2020-04-30",19166.670000000002,"E","1PA","Additional Educational Needs and Resources","530",{"$f":"VLOOKUP(I645,'[1]Sub Lookup'!$A$1:$B$65536,2,FALSE)","v":"Commissioned Service - Other"}]
["Kent County Council",12019576,"ACORN HOMES (UK) LTD","2020-04-30",19166.670000000002,"E","1PA","Additional Educational Needs and Resources","530",{"$f":"VLOOKUP(I646,'[1]Sub Lookup'!$A$1:$B$65536,2,FALSE)","v":"Commissioned Service - Other"}]
["Kent County Council",12019574,"ACORN HOMES (UK) LTD","2020-04-30",19166.670000000002,"E","1PA","Additional Educational Needs and Resources","530",{"$f":"VLOOKUP(I647,'[1]Sub Lookup'!$A$1:$B$65536,2,FALSE)","v":"Commissioned Service - Other"}]
["Kent County Council",12019573,"ACORN HOMES (UK) LTD","2020-04-30",19166.670000000002,"E","1PA","Additional Educational Needs and Resources","530",{"$f":"VLOOKUP(I648,'[1]Sub Lookup'!$A$1:$B$65536,2,FALSE)","v":"Commissioned Service - Other"}]
["Kent County Council",12019569,"ACORN HOMES (UK) LTD","2020-04-30",19166.670000000002,"E","1PA","Additional Educational Needs and Resources","530",{"$f":"VLOOKUP(I649,'[1]Sub Lookup'!$A$1:$B$65536,2,FALSE)","v":"Commissioned Service - Other"}]
["Kent County Council",12019568,"ACORN HOMES (UK) LTD","2020-04-30",19166.670000000002,"E","1PA","Additional Educational Needs and Resources","530",{"$f":"VLOOKUP(I650,'[1]Sub Lookup'!$A$1:$B$65536,2,FALSE)","v":"Commissioned Service - Other"}]
["Kent County Council",12019564,"ACORN HOMES (UK) LTD","2020-04-30",12500,"E","1PA","Additional Educational Needs and Resources","530",{"$f":"VLOOKUP(I651,'[1]Sub Lookup'!$A$1:$B$65536,2,FALSE)","v":"Commissioned Service - Other"}]
["Kent County Council",12019562,"ACORN HOMES (UK) LTD","2020-04-30",19166.670000000002,"E","1PA","Additional Educational Needs and Resources","530",{"$f":"VLOOKUP(I652,'[1]Sub Lookup'!$A$1:$B$65536,2,FALSE)","v":"Commissioned Service - Other"}]
["Kent County Council",12019559,"ACORN HOMES (UK) LTD","2020-04-30",12500,"E","1PA","Additional Educational Needs and Resources","530",{"$f":"VLOOKUP(I653,'[1]Sub Lookup'!$A$1:$B$65536,2,FALSE)","v":"Commissioned Service - Other"}]
["Kent County Council",12019556,"ACORN HOMES (UK) LTD","2020-04-30",20166.670000000002,"E","1PA","Additional Educational Needs and Resources","530",{"$f":"VLOOKUP(I654,'[1]Sub Lookup'!$A$1:$B$65536,2,FALSE)","v":"Commissioned Service - Other"}]
["Kent County Council",12019553,"ACORN HOMES (UK) LTD","2020-04-30",12500,"E","1PA","Additional Educational Needs and Resources","530",{"$f":"VLOOKUP(I655,'[1]Sub Lookup'!$A$1:$B$65536,2,FALSE)","v":"Commissioned Service - Other"}]
["Kent County Council",12019542,"ACORN HOMES (UK) LTD","2020-04-30",19166.670000000002,"E","1PA","Additional Educational Needs and Resources","530",{"$f":"VLOOKUP(I656,'[1]Sub Lookup'!$A$1:$B$65536,2,FALSE)","v":"Commissioned Service - Other"}]
["Kent County Council",12019537,"ACORN HOMES (UK) LTD","2020-04-30",12500,"E","1PA","Additional Educational Needs and Resources","530",{"$f":"VLOOKUP(I657,'[1]Sub Lookup'!$A$1:$B$65536,2,FALSE)","v":"Commissioned Service - Other"}]
["Kent County Council",12019534,"ACORN HOMES (UK) LTD","2020-04-30",12500,"E","1PA","Additional Educational Needs and Resources","530",{"$f":"VLOOKUP(I658,'[1]Sub Lookup'!$A$1:$B$65536,2,FALSE)","v":"Commissioned Service - Other"}]
["Kent County Council",12019532,"ACORN HOMES (UK) LTD","2020-04-30",12500,"E","1PA","Additional Educational Needs and Resources","530",{"$f":"VLOOKUP(I659,'[1]Sub Lookup'!$A$1:$B$65536,2,FALSE)","v":"Commissioned Service - Other"}]
["Kent County Council",11966268,"ACORN HOUSE","2020-04-01",700,"S","5XC","Commissioning & Service Delivery","530",{"$f":"VLOOKUP(I660,'[1]Sub Lookup'!$A$1:$B$65536,2,FALSE)","v":"Commissioned Service - Other"}]
["Kent County Council",12017628,"ACORN HOUSE","2020-04-29",700,"S","5XC","Commissioning & Service Delivery","530",{"$f":"VLOOKUP(I661,'[1]Sub Lookup'!$A$1:$B$65536,2,FALSE)","v":"Commissioned Service - Other"}]
["Kent County Council",11964717,"ACORN LODGE (BOURNEMOUTH) LTD","2020-04-01",1149.92,"S","5AA","Learning Disability Support - 18 64 Long Term Support: Residential","530",{"$f":"VLOOKUP(I662,'[1]Sub Lookup'!$A$1:$B$65536,2,FALSE)","v":"Commissioned Service - Other"}]
["Kent County Council",11964717,"ACORN LODGE (BOURNEMOUTH) LTD","2020-04-01",2427.6,"S","9AR","Revenue Balance Sheet","BEA",{"$f":"VLOOKUP(I663,'[1]Sub Lookup'!$A$1:$B$65536,2,FALSE)","v":"Payments in Advance - General"}]
["Kent County Council",11966270,"ACORN LODGE (BOURNEMOUTH) LTD","2020-04-01",919.6,"S","5XC","Commissioning & Service Delivery","530",{"$f":"VLOOKUP(I664,'[1]Sub Lookup'!$A$1:$B$65536,2,FALSE)","v":"Commissioned Service - Other"}]
["Kent County Council",12017630,"ACORN LODGE (BOURNEMOUTH) LTD","2020-04-29",919.6,"S","5XC","Commissioning & Service Delivery","530",{"$f":"VLOOKUP(I665,'[1]Sub Lookup'!$A$1:$B$65536,2,FALSE)","v":"Commissioned Service - Other"}]
["Kent County Council",12011462,"ACORN LODGE (BOURNEMOUTH) LTD","2020-04-29",3577.52,"S","5AA","Learning Disability Support - 18 64 Long Term Support: Residential","530",{"$f":"VLOOKUP(I666,'[1]Sub Lookup'!$A$1:$B$65536,2,FALSE)","v":"Commissioned Service - Other"}]
["Kent County Council",11966267,"ACORN LODGE NURSING HOME","2020-04-01",1214.22,"S","5XC","Commissioning & Service Delivery","530",{"$f":"VLOOKUP(I667,'[1]Sub Lookup'!$A$1:$B$65536,2,FALSE)","v":"Commissioned Service - Other"}]
["Kent County Council",12008315,"ACORN LODGE NURSING HOME","2020-04-24",325.5,"S","5KB","Physical support - 65+ Long Term Support: Nursing","530",{"$f":"VLOOKUP(I668,'[1]Sub Lookup'!$A$1:$B$65536,2,FALSE)","v":"Commissioned Service - Other"}]
["Kent County Council",12008316,"ACORN LODGE NURSING HOME","2020-04-24",1682.8500000000001,"S","5KB","Physical support - 65+ Long Term Support: Nursing","530",{"$f":"VLOOKUP(I669,'[1]Sub Lookup'!$A$1:$B$65536,2,FALSE)","v":"Commissioned Service - Other"}]
["Kent County Council",12017627,"ACORN LODGE NURSING HOME","2020-04-29",1214.22,"S","5XC","Commissioning & Service Delivery","530",{"$f":"VLOOKUP(I670,'[1]Sub Lookup'!$A$1:$B$65536,2,FALSE)","v":"Commissioned Service - Other"}]
["Kent County Council",11966271,"ACORN VILLAGE COMMUNITY","2020-04-01",3874.52,"S","5XC","Commissioning & Service Delivery","530",{"$f":"VLOOKUP(I671,'[1]Sub Lookup'!$A$1:$B$65536,2,FALSE)","v":"Commissioned Service - Other"}]
["Kent County Council",11971504,"ACORN VILLAGE COMMUNITY","2020-04-02",5419,"S","5AA","Learning Disability Support - 18 64 Long Term Support: Residential","520",{"$f":"VLOOKUP(I672,'[1]Sub Lookup'!$A$1:$B$65536,2,FALSE)","v":"Voluntary Associations"}]
["Kent County Council",11971503,"ACORN VILLAGE COMMUNITY","2020-04-02",4726.3599999999997,"S","5AA","Learning Disability Support - 18 64 Long Term Support: Residential","520",{"$f":"VLOOKUP(I673,'[1]Sub Lookup'!$A$1:$B$65536,2,FALSE)","v":"Voluntary Associations"}]
["Kent County Council",11971505,"ACORN VILLAGE COMMUNITY","2020-04-02",4927.72,"S","5AA","Learning Disability Support - 18 64 Long Term Support: Residential","520",{"$f":"VLOOKUP(I674,'[1]Sub Lookup'!$A$1:$B$65536,2,FALSE)","v":"Voluntary Associations"}]
["Kent County Council",11995743,"ACORN VILLAGE COMMUNITY","2020-04-17",4927.72,"S","5AA","Learning Disability Support - 18 64 Long Term Support: Residential","520",{"$f":"VLOOKUP(I675,'[1]Sub Lookup'!$A$1:$B$65536,2,FALSE)","v":"Voluntary Associations"}]
["Kent County Council",11995742,"ACORN VILLAGE COMMUNITY","2020-04-17",4927.72,"S","5AA","Learning Disability Support - 18 64 Long Term Support: Residential","520",{"$f":"VLOOKUP(I676,'[1]Sub Lookup'!$A$1:$B$65536,2,FALSE)","v":"Voluntary Associations"}]
["Kent County Council",11995746,"ACORN VILLAGE COMMUNITY","2020-04-17",4726.3599999999997,"S","5AA","Learning Disability Support - 18 64 Long Term Support: Residential","520",{"$f":"VLOOKUP(I677,'[1]Sub Lookup'!$A$1:$B$65536,2,FALSE)","v":"Voluntary Associations"}]
["Kent County Council",11995747,"ACORN VILLAGE COMMUNITY","2020-04-17",4726.3599999999997,"S","5AA","Learning Disability Support - 18 64 Long Term Support: Residential","520",{"$f":"VLOOKUP(I678,'[1]Sub Lookup'!$A$1:$B$65536,2,FALSE)","v":"Voluntary Associations"}]
["Kent County Council",11995744,"ACORN VILLAGE COMMUNITY","2020-04-17",5419,"S","5AA","Learning Disability Support - 18 64 Long Term Support: Residential","520",{"$f":"VLOOKUP(I679,'[1]Sub Lookup'!$A$1:$B$65536,2,FALSE)","v":"Voluntary Associations"}]
["Kent County Council",11995745,"ACORN VILLAGE COMMUNITY","2020-04-17",5419,"S","5AA","Learning Disability Support - 18 64 Long Term Support: Residential","520",{"$f":"VLOOKUP(I680,'[1]Sub Lookup'!$A$1:$B$65536,2,FALSE)","v":"Voluntary Associations"}]
["Kent County Council",12017631,"ACORN VILLAGE COMMUNITY","2020-04-29",3874.52,"S","5XC","Commissioning & Service Delivery","530",{"$f":"VLOOKUP(I681,'[1]Sub Lookup'!$A$1:$B$65536,2,FALSE)","v":"Commissioned Service - Other"}]
["Kent County Council",11984386,"ACORNS DAY NURSERY-SEVENOAKS","2020-04-14",10078.380000000001,"E","1KA","School Resources","528",{"$f":"VLOOKUP(I682,'[1]Sub Lookup'!$A$1:$B$65536,2,FALSE)","v":"Early Years Education"}]
["Kent County Council",11984517,"ACORNS EARLY YEARS CENTRE-BEXLEY","2020-04-14",33309.120000000003,"E","1KA","School Resources","528",{"$f":"VLOOKUP(I683,'[1]Sub Lookup'!$A$1:$B$65536,2,FALSE)","v":"Early Years Education"}]
["Kent County Council",11984605,"ACORNS NURSERY","2020-04-14",11695.32,"E","1KA","School Resources","528",{"$f":"VLOOKUP(I684,'[1]Sub Lookup'!$A$1:$B$65536,2,FALSE)","v":"Early Years Education"}]
["Kent County Council",11983916,"ACRES LANDSCAPING AND MAINTENANCE LTD","2020-04-20",11701.56,"K","2LK","PROW","523",{"$f":"VLOOKUP(I685,'[1]Sub Lookup'!$A$1:$B$65536,2,FALSE)","v":"Private Contractors"}]
["Kent County Council",11992446,"ACRES LANDSCAPING AND MAINTENANCE LTD","2020-04-24",4800,"K","2LK","PROW","523",{"$f":"VLOOKUP(I686,'[1]Sub Lookup'!$A$1:$B$65536,2,FALSE)","v":"Private Contractors"}]
["Kent County Council",11977819,"ACS BUSINESS SUPPLIES LTD","2020-04-17",288.42,"S","35K","County Fostering Team","302",{"$f":"VLOOKUP(I687,'[1]Sub Lookup'!$A$1:$B$65536,2,FALSE)","v":"Computer and Other IT Expenditure (Hardware)"}]
["Kent County Council",11859869,"ACS BUSINESS SUPPLIES LTD","2020-04-30",298.73,"P","7HC","Transport Planning, Policy & Strategy","302",{"$f":"VLOOKUP(I688,'[1]Sub Lookup'!$A$1:$B$65536,2,FALSE)","v":"Computer and Other IT Expenditure (Hardware)"}]
["Kent County Council",11975620,"ACTION FOR CHILDREN","2020-04-20",3454.82,"S","35R","IS Fostering","527",{"$f":"VLOOKUP(I689,'[1]Sub Lookup'!$A$1:$B$65536,2,FALSE)","v":"Services"}]
["Kent County Council",11966068,"ACTION ON HEARING LOSS FORMERLY RNID","2020-04-01",5779.47,"S","9AR","Revenue Balance Sheet","BEA",{"$f":"VLOOKUP(I690,'[1]Sub Lookup'!$A$1:$B$65536,2,FALSE)","v":"Payments in Advance - General"}]
["Kent County Council",11970290,"ACTION ON HEARING LOSS FORMERLY RNID","2020-04-01",4247.51,"S","9AR","Revenue Balance Sheet","BEA",{"$f":"VLOOKUP(I691,'[1]Sub Lookup'!$A$1:$B$65536,2,FALSE)","v":"Payments in Advance - General"}]
["Kent County Council",11970290,"ACTION ON HEARING LOSS FORMERLY RNID","2020-04-01",-399.38,"S","9AR","Revenue Balance Sheet","BMA",{"$f":"VLOOKUP(I692,'[1]Sub Lookup'!$A$1:$B$65536,2,FALSE)","v":"Receipts in Advance"}]
["Kent County Council",11970290,"ACTION ON HEARING LOSS FORMERLY RNID","2020-04-01",912.5,"S","5PA","Sensory Support - 65+ Long Term Support: Residential","520",{"$f":"VLOOKUP(I693,'[1]Sub Lookup'!$A$1:$B$65536,2,FALSE)","v":"Voluntary Associations"}]
["Kent County Council",11970314,"ACTION ON HEARING LOSS FORMERLY RNID","2020-04-01",1367.05,"S","5AH","Learning Disability Support - 18 64 Long Term Support: Community: Supported Living","530",{"$f":"VLOOKUP(I694,'[1]Sub Lookup'!$A$1:$B$65536,2,FALSE)","v":"Commissioned Service - Other"}]
["Kent County Council",11970314,"ACTION ON HEARING LOSS FORMERLY RNID","2020-04-01",2885.9900000000002,"S","9AR","Revenue Balance Sheet","BEA",{"$f":"VLOOKUP(I695,'[1]Sub Lookup'!$A$1:$B$65536,2,FALSE)","v":"Payments in Advance - General"}]
["Kent County Council",11966063,"ACTION ON HEARING LOSS FORMERLY RNID","2020-04-01",1620.72,"S","5AA","Learning Disability Support - 18 64 Long Term Support: Residential","530",{"$f":"VLOOKUP(I696,'[1]Sub Lookup'!$A$1:$B$65536,2,FALSE)","v":"Commissioned Service - Other"}]
["Kent County Council",11966063,"ACTION ON HEARING LOSS FORMERLY RNID","2020-04-01",3421.52,"S","9AR","Revenue Balance Sheet","BEA",{"$f":"VLOOKUP(I697,'[1]Sub Lookup'!$A$1:$B$65536,2,FALSE)","v":"Payments in Advance - General"}]
["Kent County Council",11966272,"ACTION ON HEARING LOSS FORMERLY RNID","2020-04-01",6916.4800000000005,"S","5XC","Commissioning & Service Delivery","530",{"$f":"VLOOKUP(I698,'[1]Sub Lookup'!$A$1:$B$65536,2,FALSE)","v":"Commissioned Service - Other"}]
["Kent County Council",11966469,"ACTION ON HEARING LOSS FORMERLY RNID","2020-04-01",2676.34,"S","5XC","Commissioning & Service Delivery","530",{"$f":"VLOOKUP(I699,'[1]Sub Lookup'!$A$1:$B$65536,2,FALSE)","v":"Commissioned Service - Other"}]
["Kent County Council",11966796,"ACTION ON HEARING LOSS FORMERLY RNID","2020-04-01",1670.76,"S","5XC","Commissioning & Service Delivery","530",{"$f":"VLOOKUP(I700,'[1]Sub Lookup'!$A$1:$B$65536,2,FALSE)","v":"Commissioned Service - Other"}]
["Kent County Council",11966901,"ACTION ON HEARING LOSS FORMERLY RNID","2020-04-01",1126.56,"S","5XC","Commissioning & Service Delivery","530",{"$f":"VLOOKUP(I701,'[1]Sub Lookup'!$A$1:$B$65536,2,FALSE)","v":"Commissioned Service - Other"}]
["Kent County Council",11967027,"ACTION ON HEARING LOSS FORMERLY RNID","2020-04-01",5391.75,"S","5XC","Commissioning & Service Delivery","530",{"$f":"VLOOKUP(I702,'[1]Sub Lookup'!$A$1:$B$65536,2,FALSE)","v":"Commissioned Service - Other"}]
["Kent County Council",11967231,"ACTION ON HEARING LOSS FORMERLY RNID","2020-04-01",1343.93,"S","5XC","Commissioning & Service Delivery","530",{"$f":"VLOOKUP(I703,'[1]Sub Lookup'!$A$1:$B$65536,2,FALSE)","v":"Commissioned Service - Other"}]
["Kent County Council",11967277,"ACTION ON HEARING LOSS FORMERLY RNID","2020-04-01",4287.53,"S","5XC","Commissioning & Service Delivery","530",{"$f":"VLOOKUP(I704,'[1]Sub Lookup'!$A$1:$B$65536,2,FALSE)","v":"Commissioned Service - Other"}]
["Kent County Council",11970291,"ACTION ON HEARING LOSS FORMERLY RNID","2020-04-01",2649.33,"S","9AR","Revenue Balance Sheet","BEA",{"$f":"VLOOKUP(I705,'[1]Sub Lookup'!$A$1:$B$65536,2,FALSE)","v":"Payments in Advance - General"}]
["Kent County Council",11970291,"ACTION ON HEARING LOSS FORMERLY RNID","2020-04-01",1254.95,"S","5NA","Sensory Support - 18 64 Long Term Support: Residential","520",{"$f":"VLOOKUP(I706,'[1]Sub Lookup'!$A$1:$B$65536,2,FALSE)","v":"Voluntary Associations"}]
["Kent County Council",11970315,"ACTION ON HEARING LOSS FORMERLY RNID","2020-04-01",448.46000000000004,"S","5JH","Physical Support - 18 64 Long Term Support: Community: Supported Living","530",{"$f":"VLOOKUP(I707,'[1]Sub Lookup'!$A$1:$B$65536,2,FALSE)","v":"Commissioned Service - Other"}]
["Kent County Council",11970315,"ACTION ON HEARING LOSS FORMERLY RNID","2020-04-01",946.74,"S","9AR","Revenue Balance Sheet","BEA",{"$f":"VLOOKUP(I708,'[1]Sub Lookup'!$A$1:$B$65536,2,FALSE)","v":"Payments in Advance - General"}]
["Kent County Council",11966067,"ACTION ON HEARING LOSS FORMERLY RNID","2020-04-01",1775.83,"S","5AA","Learning Disability Support - 18 64 Long Term Support: Residential","530",{"$f":"VLOOKUP(I709,'[1]Sub Lookup'!$A$1:$B$65536,2,FALSE)","v":"Commissioned Service - Other"}]
["Kent County Council",11966067,"ACTION ON HEARING LOSS FORMERLY RNID","2020-04-01",3748.9700000000003,"S","9AR","Revenue Balance Sheet","BEA",{"$f":"VLOOKUP(I710,'[1]Sub Lookup'!$A$1:$B$65536,2,FALSE)","v":"Payments in Advance - General"}]
["Kent County Council",11966066,"ACTION ON HEARING LOSS FORMERLY RNID","2020-04-01",448.46000000000004,"S","5JH","Physical Support - 18 64 Long Term Support: Community: Supported Living","530",{"$f":"VLOOKUP(I711,'[1]Sub Lookup'!$A$1:$B$65536,2,FALSE)","v":"Commissioned Service - Other"}]
["Kent County Council",11966066,"ACTION ON HEARING LOSS FORMERLY RNID","2020-04-01",946.74,"S","9AR","Revenue Balance Sheet","BEA",{"$f":"VLOOKUP(I712,'[1]Sub Lookup'!$A$1:$B$65536,2,FALSE)","v":"Payments in Advance - General"}]
["Kent County Council",11966070,"ACTION ON HEARING LOSS FORMERLY RNID","2020-04-01",2974.91,"S","5AH","Learning Disability Support - 18 64 Long Term Support: Community: Supported Living","530",{"$f":"VLOOKUP(I713,'[1]Sub Lookup'!$A$1:$B$65536,2,FALSE)","v":"Commissioned Service - Other"}]
["Kent County Council",11966070,"ACTION ON HEARING LOSS FORMERLY RNID","2020-04-01",6280.37,"S","9AR","Revenue Balance Sheet","BEA",{"$f":"VLOOKUP(I714,'[1]Sub Lookup'!$A$1:$B$65536,2,FALSE)","v":"Payments in Advance - General"}]
["Kent County Council",11966065,"ACTION ON HEARING LOSS FORMERLY RNID","2020-04-01",1396.45,"S","9AR","Revenue Balance Sheet","BEA",{"$f":"VLOOKUP(I715,'[1]Sub Lookup'!$A$1:$B$65536,2,FALSE)","v":"Payments in Advance - General"}]
["Kent County Council",11966065,"ACTION ON HEARING LOSS FORMERLY RNID","2020-04-01",661.47,"S","5NH","Sensory Support - 18 64 Long Term Support: Community: Supported Living","530",{"$f":"VLOOKUP(I716,'[1]Sub Lookup'!$A$1:$B$65536,2,FALSE)","v":"Commissioned Service - Other"}]
["Kent County Council",11966069,"ACTION ON HEARING LOSS FORMERLY RNID","2020-04-01",2109.79,"S","5AA","Learning Disability Support - 18 64 Long Term Support: Residential","530",{"$f":"VLOOKUP(I717,'[1]Sub Lookup'!$A$1:$B$65536,2,FALSE)","v":"Commissioned Service - Other"}]
["Kent County Council",11966069,"ACTION ON HEARING LOSS FORMERLY RNID","2020-04-01",4454.01,"S","9AR","Revenue Balance Sheet","BEA",{"$f":"VLOOKUP(I718,'[1]Sub Lookup'!$A$1:$B$65536,2,FALSE)","v":"Payments in Advance - General"}]
["Kent County Council",11966068,"ACTION ON HEARING LOSS FORMERLY RNID","2020-04-01",2737.65,"S","5AA","Learning Disability Support - 18 64 Long Term Support: Residential","530",{"$f":"VLOOKUP(I719,'[1]Sub Lookup'!$A$1:$B$65536,2,FALSE)","v":"Commissioned Service - Other"}]
["Kent County Council",11974037,"ACTION ON HEARING LOSS FORMERLY RNID","2020-04-03",441.48,"S","5PH","Sensory Support - 65+ Long Term Support: Community: Supported Living","530",{"$f":"VLOOKUP(I720,'[1]Sub Lookup'!$A$1:$B$65536,2,FALSE)","v":"Commissioned Service - Other"}]
["Kent County Council",11912804,"ACTION ON HEARING LOSS FORMERLY RNID","2020-04-03",279.04000000000002,"S","5JH","Physical Support - 18 64 Long Term Support: Community: Supported Living","530",{"$f":"VLOOKUP(I721,'[1]Sub Lookup'!$A$1:$B$65536,2,FALSE)","v":"Commissioned Service - Other"}]
["Kent County Council",11971445,"ACTION ON HEARING LOSS FORMERLY RNID","2020-04-03",3418.2400000000002,"S","5AH","Learning Disability Support - 18 64 Long Term Support: Community: Supported Living","530",{"$f":"VLOOKUP(I722,'[1]Sub Lookup'!$A$1:$B$65536,2,FALSE)","v":"Commissioned Service - Other"}]
["Kent County Council",11912802,"ACTION ON HEARING LOSS FORMERLY RNID","2020-04-03",2057.92,"S","5NH","Sensory Support - 18 64 Long Term Support: Community: Supported Living","530",{"$f":"VLOOKUP(I723,'[1]Sub Lookup'!$A$1:$B$65536,2,FALSE)","v":"Commissioned Service - Other"}]
["Kent County Council",11912840,"ACTION ON HEARING LOSS FORMERLY RNID","2020-04-03",9255.2800000000007,"S","5AH","Learning Disability Support - 18 64 Long Term Support: Community: Supported Living","530",{"$f":"VLOOKUP(I724,'[1]Sub Lookup'!$A$1:$B$65536,2,FALSE)","v":"Commissioned Service - Other"}]
["Kent County Council",11912801,"ACTION ON HEARING LOSS FORMERLY RNID","2020-04-03",1395.2,"S","5JH","Physical Support - 18 64 Long Term Support: Community: Supported Living","530",{"$f":"VLOOKUP(I725,'[1]Sub Lookup'!$A$1:$B$65536,2,FALSE)","v":"Commissioned Service - Other"}]
["Kent County Council",11912803,"ACTION ON HEARING LOSS FORMERLY RNID","2020-04-03",1395.2,"S","5JH","Physical Support - 18 64 Long Term Support: Community: Supported Living","530",{"$f":"VLOOKUP(I726,'[1]Sub Lookup'!$A$1:$B$65536,2,FALSE)","v":"Commissioned Service - Other"}]
["Kent County Council",11977022,"ACTION ON HEARING LOSS FORMERLY RNID","2020-04-06",5041.84,"S","5AA","Learning Disability Support - 18 64 Long Term Support: Residential","530",{"$f":"VLOOKUP(I727,'[1]Sub Lookup'!$A$1:$B$65536,2,FALSE)","v":"Commissioned Service - Other"}]
["Kent County Council",11977021,"ACTION ON HEARING LOSS FORMERLY RNID","2020-04-06",5492.72,"S","5PA","Sensory Support - 65+ Long Term Support: Residential","520",{"$f":"VLOOKUP(I728,'[1]Sub Lookup'!$A$1:$B$65536,2,FALSE)","v":"Voluntary Associations"}]
["Kent County Council",11977021,"ACTION ON HEARING LOSS FORMERLY RNID","2020-04-06",-1138.8,"S","5JA","Physical Support - 18 64 Long Term Support: Residential","937",{"$f":"VLOOKUP(I729,'[1]Sub Lookup'!$A$1:$B$65536,2,FALSE)","v":"KASS Notional Income"}]
["Kent County Council",11977020,"ACTION ON HEARING LOSS FORMERLY RNID","2020-04-06",5228.28,"S","5BA","Learning Disability Support - 65+ Long Term Support: Residential","530",{"$f":"VLOOKUP(I730,'[1]Sub Lookup'!$A$1:$B$65536,2,FALSE)","v":"Commissioned Service - Other"}]
["Kent County Council",11977017,"ACTION ON HEARING LOSS FORMERLY RNID","2020-04-06",4954,"S","5PA","Sensory Support - 65+ Long Term Support: Residential","520",{"$f":"VLOOKUP(I731,'[1]Sub Lookup'!$A$1:$B$65536,2,FALSE)","v":"Voluntary Associations"}]
["Kent County Council",11977018,"ACTION ON HEARING LOSS FORMERLY RNID","2020-04-06",279.04000000000002,"S","5JH","Physical Support - 18 64 Long Term Support: Community: Supported Living","530",{"$f":"VLOOKUP(I732,'[1]Sub Lookup'!$A$1:$B$65536,2,FALSE)","v":"Commissioned Service - Other"}]
["Kent County Council",11977023,"ACTION ON HEARING LOSS FORMERLY RNID","2020-04-06",2057.92,"S","5NH","Sensory Support - 18 64 Long Term Support: Community: Supported Living","530",{"$f":"VLOOKUP(I733,'[1]Sub Lookup'!$A$1:$B$65536,2,FALSE)","v":"Commissioned Service - Other"}]
["Kent County Council",11977049,"ACTION ON HEARING LOSS FORMERLY RNID","2020-04-06",9255.2800000000007,"S","5AH","Learning Disability Support - 18 64 Long Term Support: Community: Supported Living","530",{"$f":"VLOOKUP(I734,'[1]Sub Lookup'!$A$1:$B$65536,2,FALSE)","v":"Commissioned Service - Other"}]
["Kent County Council",11977016,"ACTION ON HEARING LOSS FORMERLY RNID","2020-04-06",1395.2,"S","5JH","Physical Support - 18 64 Long Term Support: Community: Supported Living","530",{"$f":"VLOOKUP(I735,'[1]Sub Lookup'!$A$1:$B$65536,2,FALSE)","v":"Commissioned Service - Other"}]
["Kent County Council",11977019,"ACTION ON HEARING LOSS FORMERLY RNID","2020-04-06",5524.8,"S","5AA","Learning Disability Support - 18 64 Long Term Support: Residential","530",{"$f":"VLOOKUP(I736,'[1]Sub Lookup'!$A$1:$B$65536,2,FALSE)","v":"Commissioned Service - Other"}]
["Kent County Council",11977024,"ACTION ON HEARING LOSS FORMERLY RNID","2020-04-06",1395.2,"S","5JH","Physical Support - 18 64 Long Term Support: Community: Supported Living","530",{"$f":"VLOOKUP(I737,'[1]Sub Lookup'!$A$1:$B$65536,2,FALSE)","v":"Commissioned Service - Other"}]
["Kent County Council",11989633,"ACTION ON HEARING LOSS FORMERLY RNID","2020-04-14",2974.91,"S","5AH","Learning Disability Support - 18 64 Long Term Support: Community: Supported Living","530",{"$f":"VLOOKUP(I738,'[1]Sub Lookup'!$A$1:$B$65536,2,FALSE)","v":"Commissioned Service - Other"}]
["Kent County Council",11989633,"ACTION ON HEARING LOSS FORMERLY RNID","2020-04-14",6280.37,"S","5AH","Learning Disability Support - 18 64 Long Term Support: Community: Supported Living","530",{"$f":"VLOOKUP(I739,'[1]Sub Lookup'!$A$1:$B$65536,2,FALSE)","v":"Commissioned Service - Other"}]
["Kent County Council",11994553,"ACTION ON HEARING LOSS FORMERLY RNID","2020-04-17",15500,"S","5PA","Sensory Support - 65+ Long Term Support: Residential","520",{"$f":"VLOOKUP(I740,'[1]Sub Lookup'!$A$1:$B$65536,2,FALSE)","v":"Voluntary Associations"}]
["Kent County Council",11994554,"ACTION ON HEARING LOSS FORMERLY RNID","2020-04-17",4954,"S","5PA","Sensory Support - 65+ Long Term Support: Residential","520",{"$f":"VLOOKUP(I741,'[1]Sub Lookup'!$A$1:$B$65536,2,FALSE)","v":"Voluntary Associations"}]
["Kent County Council",11994552,"ACTION ON HEARING LOSS FORMERLY RNID","2020-04-17",3418.2400000000002,"S","5AH","Learning Disability Support - 18 64 Long Term Support: Community: Supported Living","530",{"$f":"VLOOKUP(I742,'[1]Sub Lookup'!$A$1:$B$65536,2,FALSE)","v":"Commissioned Service - Other"}]
["Kent County Council",11994551,"ACTION ON HEARING LOSS FORMERLY RNID","2020-04-17",5888.07,"S","5NH","Sensory Support - 18 64 Long Term Support: Community: Supported Living","530",{"$f":"VLOOKUP(I743,'[1]Sub Lookup'!$A$1:$B$65536,2,FALSE)","v":"Commissioned Service - Other"}]
["Kent County Council",11994555,"ACTION ON HEARING LOSS FORMERLY RNID","2020-04-17",3904.28,"S","5NA","Sensory Support - 18 64 Long Term Support: Residential","520",{"$f":"VLOOKUP(I744,'[1]Sub Lookup'!$A$1:$B$65536,2,FALSE)","v":"Voluntary Associations"}]
["Kent County Council",12011009,"ACTION ON HEARING LOSS FORMERLY RNID","2020-04-27",5781.28,"S","5KA","Physical support - 65+ Long Term Support: Residential","520",{"$f":"VLOOKUP(I745,'[1]Sub Lookup'!$A$1:$B$65536,2,FALSE)","v":"Voluntary Associations"}]
["Kent County Council",12011005,"ACTION ON HEARING LOSS FORMERLY RNID","2020-04-27",5235.88,"S","5AA","Learning Disability Support - 18 64 Long Term Support: Residential","530",{"$f":"VLOOKUP(I746,'[1]Sub Lookup'!$A$1:$B$65536,2,FALSE)","v":"Commissioned Service - Other"}]
["Kent County Council",12011000,"ACTION ON HEARING LOSS FORMERLY RNID","2020-04-27",6027.64,"S","5AA","Learning Disability Support - 18 64 Long Term Support: Residential","520",{"$f":"VLOOKUP(I747,'[1]Sub Lookup'!$A$1:$B$65536,2,FALSE)","v":"Voluntary Associations"}]
["Kent County Council",12011004,"ACTION ON HEARING LOSS FORMERLY RNID","2020-04-27",5233.68,"S","5AA","Learning Disability Support - 18 64 Long Term Support: Residential","530",{"$f":"VLOOKUP(I748,'[1]Sub Lookup'!$A$1:$B$65536,2,FALSE)","v":"Commissioned Service - Other"}]
["Kent County Council",12011007,"ACTION ON HEARING LOSS FORMERLY RNID","2020-04-27",5112.3599999999997,"S","5PA","Sensory Support - 65+ Long Term Support: Residential","520",{"$f":"VLOOKUP(I749,'[1]Sub Lookup'!$A$1:$B$65536,2,FALSE)","v":"Voluntary Associations"}]
["Kent County Council",12010994,"ACTION ON HEARING LOSS FORMERLY RNID","2020-04-27",5429.04,"S","5BA","Learning Disability Support - 65+ Long Term Support: Residential","530",{"$f":"VLOOKUP(I750,'[1]Sub Lookup'!$A$1:$B$65536,2,FALSE)","v":"Commissioned Service - Other"}]
["Kent County Council",12011002,"ACTION ON HEARING LOSS FORMERLY RNID","2020-04-27",8844.16,"S","5AA","Learning Disability Support - 18 64 Long Term Support: Residential","530",{"$f":"VLOOKUP(I751,'[1]Sub Lookup'!$A$1:$B$65536,2,FALSE)","v":"Commissioned Service - Other"}]
["Kent County Council",12011001,"ACTION ON HEARING LOSS FORMERLY RNID","2020-04-27",6815.84,"S","5AA","Learning Disability Support - 18 64 Long Term Support: Residential","530",{"$f":"VLOOKUP(I752,'[1]Sub Lookup'!$A$1:$B$65536,2,FALSE)","v":"Commissioned Service - Other"}]
["Kent County Council",12011015,"ACTION ON HEARING LOSS FORMERLY RNID","2020-04-27",519.66,"S","5AH","Learning Disability Support - 18 64 Long Term Support: Community: Supported Living","530",{"$f":"VLOOKUP(I753,'[1]Sub Lookup'!$A$1:$B$65536,2,FALSE)","v":"Commissioned Service - Other"}]
["Kent County Council",12011014,"ACTION ON HEARING LOSS FORMERLY RNID","2020-04-27",9987.7000000000007,"S","5AH","Learning Disability Support - 18 64 Long Term Support: Community: Supported Living","530",{"$f":"VLOOKUP(I754,'[1]Sub Lookup'!$A$1:$B$65536,2,FALSE)","v":"Commissioned Service - Other"}]
["Kent County Council",12011003,"ACTION ON HEARING LOSS FORMERLY RNID","2020-04-27",5736.96,"S","5AA","Learning Disability Support - 18 64 Long Term Support: Residential","530",{"$f":"VLOOKUP(I755,'[1]Sub Lookup'!$A$1:$B$65536,2,FALSE)","v":"Commissioned Service - Other"}]
["Kent County Council",12011008,"ACTION ON HEARING LOSS FORMERLY RNID","2020-04-27",4054.2000000000003,"S","5NA","Sensory Support - 18 64 Long Term Support: Residential","520",{"$f":"VLOOKUP(I756,'[1]Sub Lookup'!$A$1:$B$65536,2,FALSE)","v":"Voluntary Associations"}]
["Kent County Council",12011006,"ACTION ON HEARING LOSS FORMERLY RNID","2020-04-27",6059.6,"S","5AA","Learning Disability Support - 18 64 Long Term Support: Residential","520",{"$f":"VLOOKUP(I757,'[1]Sub Lookup'!$A$1:$B$65536,2,FALSE)","v":"Voluntary Associations"}]
["Kent County Council",12013863,"ACTION ON HEARING LOSS FORMERLY RNID","2020-04-28",4506.24,"S","5AA","Learning Disability Support - 18 64 Long Term Support: Residential","530",{"$f":"VLOOKUP(I758,'[1]Sub Lookup'!$A$1:$B$65536,2,FALSE)","v":"Commissioned Service - Other"}]
["Kent County Council",12013864,"ACTION ON HEARING LOSS FORMERLY RNID","2020-04-28",4506.24,"S","5AA","Learning Disability Support - 18 64 Long Term Support: Residential","530",{"$f":"VLOOKUP(I759,'[1]Sub Lookup'!$A$1:$B$65536,2,FALSE)","v":"Commissioned Service - Other"}]
["Kent County Council",12013865,"ACTION ON HEARING LOSS FORMERLY RNID","2020-04-28",4506.24,"S","5AA","Learning Disability Support - 18 64 Long Term Support: Residential","530",{"$f":"VLOOKUP(I760,'[1]Sub Lookup'!$A$1:$B$65536,2,FALSE)","v":"Commissioned Service - Other"}]
["Kent County Council",12010991,"ACTION ON HEARING LOSS FORMERLY RNID","2020-04-29",5144.24,"S","5PA","Sensory Support - 65+ Long Term Support: Residential","520",{"$f":"VLOOKUP(I761,'[1]Sub Lookup'!$A$1:$B$65536,2,FALSE)","v":"Voluntary Associations"}]
["Kent County Council",12010990,"ACTION ON HEARING LOSS FORMERLY RNID","2020-04-29",2076.8000000000002,"S","5PA","Sensory Support - 65+ Long Term Support: Residential","520",{"$f":"VLOOKUP(I762,'[1]Sub Lookup'!$A$1:$B$65536,2,FALSE)","v":"Voluntary Associations"}]
["Kent County Council",12017632,"ACTION ON HEARING LOSS FORMERLY RNID","2020-04-29",6916.4800000000005,"S","5XC","Commissioning & Service Delivery","530",{"$f":"VLOOKUP(I763,'[1]Sub Lookup'!$A$1:$B$65536,2,FALSE)","v":"Commissioned Service - Other"}]
["Kent County Council",12017886,"ACTION ON HEARING LOSS FORMERLY RNID","2020-04-29",2676.34,"S","5XC","Commissioning & Service Delivery","530",{"$f":"VLOOKUP(I764,'[1]Sub Lookup'!$A$1:$B$65536,2,FALSE)","v":"Commissioned Service - Other"}]
["Kent County Council",12018205,"ACTION ON HEARING LOSS FORMERLY RNID","2020-04-29",1670.76,"S","5XC","Commissioning & Service Delivery","530",{"$f":"VLOOKUP(I765,'[1]Sub Lookup'!$A$1:$B$65536,2,FALSE)","v":"Commissioned Service - Other"}]
["Kent County Council",12018276,"ACTION ON HEARING LOSS FORMERLY RNID","2020-04-29",1126.56,"S","5XC","Commissioning & Service Delivery","530",{"$f":"VLOOKUP(I766,'[1]Sub Lookup'!$A$1:$B$65536,2,FALSE)","v":"Commissioned Service - Other"}]
["Kent County Council",12018387,"ACTION ON HEARING LOSS FORMERLY RNID","2020-04-29",5391.75,"S","5XC","Commissioning & Service Delivery","530",{"$f":"VLOOKUP(I767,'[1]Sub Lookup'!$A$1:$B$65536,2,FALSE)","v":"Commissioned Service - Other"}]
["Kent County Council",12018523,"ACTION ON HEARING LOSS FORMERLY RNID","2020-04-29",1343.93,"S","5XC","Commissioning & Service Delivery","530",{"$f":"VLOOKUP(I768,'[1]Sub Lookup'!$A$1:$B$65536,2,FALSE)","v":"Commissioned Service - Other"}]
["Kent County Council",12018568,"ACTION ON HEARING LOSS FORMERLY RNID","2020-04-29",4287.53,"S","5XC","Commissioning & Service Delivery","530",{"$f":"VLOOKUP(I769,'[1]Sub Lookup'!$A$1:$B$65536,2,FALSE)","v":"Commissioned Service - Other"}]
["Kent County Council",12019985,"ACTION ON HEARING LOSS FORMERLY RNID","2020-04-30",9228.7800000000007,"S","5AA","Learning Disability Support - 18 64 Long Term Support: Residential","530",{"$f":"VLOOKUP(I770,'[1]Sub Lookup'!$A$1:$B$65536,2,FALSE)","v":"Commissioned Service - Other"}]
["Kent County Council",12019984,"ACTION ON HEARING LOSS FORMERLY RNID","2020-04-30",3379.6800000000003,"S","5AA","Learning Disability Support - 18 64 Long Term Support: Residential","530",{"$f":"VLOOKUP(I771,'[1]Sub Lookup'!$A$1:$B$65536,2,FALSE)","v":"Commissioned Service - Other"}]
["Kent County Council",12019505,"ACTION ON HEARING LOSS FORMERLY RNID","2020-04-30",2380,"S","5AJ","Learning Disability Support - 18 64 Long Term Support: Community: Day Care","530",{"$f":"VLOOKUP(I772,'[1]Sub Lookup'!$A$1:$B$65536,2,FALSE)","v":"Commissioned Service - Other"}]
["Kent County Council",12001828,"ACTION WITH COMMUNITIES IN RURAL KENT","2020-04-24",278.5,"P","7PG","Kent Downs AONB","131",{"$f":"VLOOKUP(I773,'[1]Sub Lookup'!$A$1:$B$65536,2,FALSE)","v":"Contract Cleaning"}]
["Kent County Council",11976942,"ACTIVE LIVES LIMITED (FORMERLY CHOICES)","2020-04-07",1026.3,"S","5JJ","Physical Support - 18 64 Long Term Support: Community: Day Care","530",{"$f":"VLOOKUP(I774,'[1]Sub Lookup'!$A$1:$B$65536,2,FALSE)","v":"Commissioned Service - Other"}]
["Kent County Council",11976944,"ACTIVE LIVES LIMITED (FORMERLY CHOICES)","2020-04-07",699.75,"S","5JJ","Physical Support - 18 64 Long Term Support: Community: Day Care","530",{"$f":"VLOOKUP(I775,'[1]Sub Lookup'!$A$1:$B$65536,2,FALSE)","v":"Commissioned Service - Other"}]
["Kent County Council",11995700,"ACTIVE LIVES LIMITED (FORMERLY CHOICES)","2020-04-24",483.99,"S","5AJ","Learning Disability Support - 18 64 Long Term Support: Community: Day Care","520",{"$f":"VLOOKUP(I776,'[1]Sub Lookup'!$A$1:$B$65536,2,FALSE)","v":"Voluntary Associations"}]
["Kent County Council",11995701,"ACTIVE LIVES LIMITED (FORMERLY CHOICES)","2020-04-24",335.07,"S","5AJ","Learning Disability Support - 18 64 Long Term Support: Community: Day Care","520",{"$f":"VLOOKUP(I777,'[1]Sub Lookup'!$A$1:$B$65536,2,FALSE)","v":"Voluntary Associations"}]
["Kent County Council",11995706,"ACTIVE LIVES LIMITED (FORMERLY CHOICES)","2020-04-24",670.14,"S","5AJ","Learning Disability Support - 18 64 Long Term Support: Community: Day Care","520",{"$f":"VLOOKUP(I778,'[1]Sub Lookup'!$A$1:$B$65536,2,FALSE)","v":"Voluntary Associations"}]
["Kent County Council",11995708,"ACTIVE LIVES LIMITED (FORMERLY CHOICES)","2020-04-24",738,"S","5AJ","Learning Disability Support - 18 64 Long Term Support: Community: Day Care","520",{"$f":"VLOOKUP(I779,'[1]Sub Lookup'!$A$1:$B$65536,2,FALSE)","v":"Voluntary Associations"}]
["Kent County Council",11996691,"ACTIVE LIVES LIMITED (FORMERLY CHOICES)","2020-04-24",297.84000000000003,"S","5AJ","Learning Disability Support - 18 64 Long Term Support: Community: Day Care","520",{"$f":"VLOOKUP(I780,'[1]Sub Lookup'!$A$1:$B$65536,2,FALSE)","v":"Voluntary Associations"}]
["Kent County Council",11996694,"ACTIVE LIVES LIMITED (FORMERLY CHOICES)","2020-04-24",551.35,"S","5AJ","Learning Disability Support - 18 64 Long Term Support: Community: Day Care","520",{"$f":"VLOOKUP(I781,'[1]Sub Lookup'!$A$1:$B$65536,2,FALSE)","v":"Voluntary Associations"}]
["Kent County Council",11996700,"ACTIVE LIVES LIMITED (FORMERLY CHOICES)","2020-04-24",839.7,"S","5AJ","Learning Disability Support - 18 64 Long Term Support: Community: Day Care","520",{"$f":"VLOOKUP(I782,'[1]Sub Lookup'!$A$1:$B$65536,2,FALSE)","v":"Voluntary Associations"}]
["Kent County Council",11996706,"ACTIVE LIVES LIMITED (FORMERLY CHOICES)","2020-04-24",419.85,"S","5AJ","Learning Disability Support - 18 64 Long Term Support: Community: Day Care","520",{"$f":"VLOOKUP(I783,'[1]Sub Lookup'!$A$1:$B$65536,2,FALSE)","v":"Voluntary Associations"}]
["Kent County Council",11996581,"ACTIVE LIVES LIMITED (FORMERLY CHOICES)","2020-04-24",819.06000000000006,"S","5AJ","Learning Disability Support - 18 64 Long Term Support: Community: Day Care","520",{"$f":"VLOOKUP(I784,'[1]Sub Lookup'!$A$1:$B$65536,2,FALSE)","v":"Voluntary Associations"}]
["Kent County Council",11996587,"ACTIVE LIVES LIMITED (FORMERLY CHOICES)","2020-04-24",335.07,"S","5AJ","Learning Disability Support - 18 64 Long Term Support: Community: Day Care","520",{"$f":"VLOOKUP(I785,'[1]Sub Lookup'!$A$1:$B$65536,2,FALSE)","v":"Voluntary Associations"}]
["Kent County Council",12011557,"ACTIVE LIVES LIMITED (FORMERLY CHOICES)","2020-04-28",631.20000000000005,"S","5AJ","Learning Disability Support - 18 64 Long Term Support: Community: Day Care","523",{"$f":"VLOOKUP(I786,'[1]Sub Lookup'!$A$1:$B$65536,2,FALSE)","v":"Private Contractors"}]
["Kent County Council",11972568,"ACTIVEPLAY NURSERIES LTD-MILTON REGIS","2020-04-03",677.7,"E","1KA","School Resources","528",{"$f":"VLOOKUP(I787,'[1]Sub Lookup'!$A$1:$B$65536,2,FALSE)","v":"Early Years Education"}]
["Kent County Council",11984509,"ACTIVEPLAY NURSERIES LTD-MILTON REGIS","2020-04-14",39905.1,"E","1KA","School Resources","528",{"$f":"VLOOKUP(I788,'[1]Sub Lookup'!$A$1:$B$65536,2,FALSE)","v":"Early Years Education"}]
["Kent County Council",11993687,"ACTIVMOB CIC","2020-04-24",3500,"C","8PQ","Public mental health","520",{"$f":"VLOOKUP(I789,'[1]Sub Lookup'!$A$1:$B$65536,2,FALSE)","v":"Voluntary Associations"}]
["Kent County Council",11983217,"ADARE SEC LIMITED","2020-04-17",1314,"C","8DF","Finance","350",{"$f":"VLOOKUP(I790,'[1]Sub Lookup'!$A$1:$B$65536,2,FALSE)","v":"Printing and photocopying"}]
["Kent County Council",11993635,"ADARE SEC LIMITED","2020-04-24",380,"C","8DF","Finance","350",{"$f":"VLOOKUP(I791,'[1]Sub Lookup'!$A$1:$B$65536,2,FALSE)","v":"Printing and photocopying"}]
["Kent County Council",11996744,"ADARE SEC LIMITED","2020-04-24",1144.3399999999999,"C","8DF","Finance","310",{"$f":"VLOOKUP(I792,'[1]Sub Lookup'!$A$1:$B$65536,2,FALSE)","v":"Postage"}]
["Kent County Council",11996803,"ADARE SEC LIMITED","2020-04-24",392.24,"C","8DF","Finance","310",{"$f":"VLOOKUP(I793,'[1]Sub Lookup'!$A$1:$B$65536,2,FALSE)","v":"Postage"}]
["Kent County Council",11992487,"ADASS","2020-04-16",475,"S","5XC","Commissioning & Service Delivery","064",{"$f":"VLOOKUP(I794,'[1]Sub Lookup'!$A$1:$B$65536,2,FALSE)","v":"External Training"}]
["Kent County Council",11993706,"ADEJOM STAFFING CARE","2020-04-24",1023,"S","5KG","Physical support - 65+ Long Term Support: Community: Home Care","530",{"$f":"VLOOKUP(I795,'[1]Sub Lookup'!$A$1:$B$65536,2,FALSE)","v":"Commissioned Service - Other"}]
["Kent County Council",11966274,"ADELAIDE CARE LTD","2020-04-01",4689.8500000000004,"S","5XC","Commissioning & Service Delivery","530",{"$f":"VLOOKUP(I796,'[1]Sub Lookup'!$A$1:$B$65536,2,FALSE)","v":"Commissioned Service - Other"}]
["Kent County Council",11971368,"ADELAIDE CARE LTD","2020-04-02",14443.1,"S","5AA","Learning Disability Support - 18 64 Long Term Support: Residential","530",{"$f":"VLOOKUP(I797,'[1]Sub Lookup'!$A$1:$B$65536,2,FALSE)","v":"Commissioned Service - Other"}]
["Kent County Council",11971369,"ADELAIDE CARE LTD","2020-04-02",9006.15,"S","5BA","Learning Disability Support - 65+ Long Term Support: Residential","530",{"$f":"VLOOKUP(I798,'[1]Sub Lookup'!$A$1:$B$65536,2,FALSE)","v":"Commissioned Service - Other"}]
["Kent County Council",11979513,"ADELAIDE CARE LTD","2020-04-08",11822.26,"S","5AA","Learning Disability Support - 18 64 Long Term Support: Residential","530",{"$f":"VLOOKUP(I799,'[1]Sub Lookup'!$A$1:$B$65536,2,FALSE)","v":"Commissioned Service - Other"}]
["Kent County Council",11979514,"ADELAIDE CARE LTD","2020-04-08",7371.9000000000005,"S","5BA","Learning Disability Support - 65+ Long Term Support: Residential","530",{"$f":"VLOOKUP(I800,'[1]Sub Lookup'!$A$1:$B$65536,2,FALSE)","v":"Commissioned Service - Other"}]
["Kent County Council",12017634,"ADELAIDE CARE LTD","2020-04-29",4689.8500000000004,"S","5XC","Commissioning & Service Delivery","530",{"$f":"VLOOKUP(I801,'[1]Sub Lookup'!$A$1:$B$65536,2,FALSE)","v":"Commissioned Service - Other"}]
["Kent County Council",11966273,"ADELAIDE NURSING HOME","2020-04-01",951.03,"S","5XC","Commissioning & Service Delivery","530",{"$f":"VLOOKUP(I802,'[1]Sub Lookup'!$A$1:$B$65536,2,FALSE)","v":"Commissioned Service - Other"}]
["Kent County Council",12017633,"ADELAIDE NURSING HOME","2020-04-29",951.03,"S","5XC","Commissioning & Service Delivery","530",{"$f":"VLOOKUP(I803,'[1]Sub Lookup'!$A$1:$B$65536,2,FALSE)","v":"Commissioned Service - Other"}]
["Kent County Council",11961312,"ADEPT","2020-04-08",2120,"P","7HA","Highway Management","451",{"$f":"VLOOKUP(I804,'[1]Sub Lookup'!$A$1:$B$65536,2,FALSE)","v":"Subscriptions"}]
["Kent County Council",11961676,"ADISHAM HOUSE","2020-04-01",9879.74,"S","5AA","Learning Disability Support - 18 64 Long Term Support: Residential","530",{"$f":"VLOOKUP(I805,'[1]Sub Lookup'!$A$1:$B$65536,2,FALSE)","v":"Commissioned Service - Other"}]
["Kent County Council",11961676,"ADISHAM HOUSE","2020-04-01",1392.43,"S","5BA","Learning Disability Support - 65+ Long Term Support: Residential","530",{"$f":"VLOOKUP(I806,'[1]Sub Lookup'!$A$1:$B$65536,2,FALSE)","v":"Commissioned Service - Other"}]
["Kent County Council",11961676,"ADISHAM HOUSE","2020-04-01",23796.79,"S","9AR","Revenue Balance Sheet","BEA",{"$f":"VLOOKUP(I807,'[1]Sub Lookup'!$A$1:$B$65536,2,FALSE)","v":"Payments in Advance - General"}]
["Kent County Council",11961676,"ADISHAM HOUSE","2020-04-01",-624.56000000000006,"S","9AR","Revenue Balance Sheet","BMA",{"$f":"VLOOKUP(I808,'[1]Sub Lookup'!$A$1:$B$65536,2,FALSE)","v":"Receipts in Advance"}]
["Kent County Council",11966275,"ADISHAM HOUSE","2020-04-01",8767.24,"S","5XC","Commissioning & Service Delivery","530",{"$f":"VLOOKUP(I809,'[1]Sub Lookup'!$A$1:$B$65536,2,FALSE)","v":"Commissioned Service - Other"}]
["Kent County Council",12013935,"ADISHAM HOUSE","2020-04-29",30736.959999999999,"S","5AA","Learning Disability Support - 18 64 Long Term Support: Residential","530",{"$f":"VLOOKUP(I810,'[1]Sub Lookup'!$A$1:$B$65536,2,FALSE)","v":"Commissioned Service - Other"}]
["Kent County Council",12013935,"ADISHAM HOUSE","2020-04-29",-351,"S","5AA","Learning Disability Support - 18 64 Long Term Support: Residential","937",{"$f":"VLOOKUP(I811,'[1]Sub Lookup'!$A$1:$B$65536,2,FALSE)","v":"KASS Notional Income"}]
["Kent County Council",12013935,"ADISHAM HOUSE","2020-04-29",4332,"S","5BA","Learning Disability Support - 65+ Long Term Support: Residential","530",{"$f":"VLOOKUP(I812,'[1]Sub Lookup'!$A$1:$B$65536,2,FALSE)","v":"Commissioned Service - Other"}]
["Kent County Council",12013935,"ADISHAM HOUSE","2020-04-29",-569.4,"S","5BA","Learning Disability Support - 65+ Long Term Support: Residential","937",{"$f":"VLOOKUP(I813,'[1]Sub Lookup'!$A$1:$B$65536,2,FALSE)","v":"KASS Notional Income"}]
["Kent County Council",12017635,"ADISHAM HOUSE","2020-04-29",8767.24,"S","5XC","Commissioning & Service Delivery","530",{"$f":"VLOOKUP(I814,'[1]Sub Lookup'!$A$1:$B$65536,2,FALSE)","v":"Commissioned Service - Other"}]
["Kent County Council",11973859,"ADM COMPUTER SERVICES LIMITED","2020-04-09",3375,"P","7HH","Highway Improvements","C70",{"$f":"VLOOKUP(I815,'[1]Sub Lookup'!$A$1:$B$65536,2,FALSE)","v":"Capital Grants and Advances"}]
["Kent County Council",12006887,"ADT FIRE & SECURITY PLC","2020-04-24",521.65,"C","2LF","E&L","141",{"$f":"VLOOKUP(I816,'[1]Sub Lookup'!$A$1:$B$65536,2,FALSE)","v":"Premises Security Charges"}]
["Kent County Council",11996726,"ADULT CARE SERVICES LTD","2020-04-28",840,"S","5XC","Commissioning & Service Delivery","401",{"$f":"VLOOKUP(I817,'[1]Sub Lookup'!$A$1:$B$65536,2,FALSE)","v":"Specialists Fees"}]
["Kent County Council",11971075,"ADVANCE HOUSING AND SUPPORT LTD T/A ADVANCE","2020-04-02",1962,"S","5EH","Mental Health Support - 18 64 Long Term Support: Community: Supported Living","530",{"$f":"VLOOKUP(I818,'[1]Sub Lookup'!$A$1:$B$65536,2,FALSE)","v":"Commissioned Service - Other"}]
["Kent County Council",11971074,"ADVANCE HOUSING AND SUPPORT LTD T/A ADVANCE","2020-04-02",1962,"S","5EH","Mental Health Support - 18 64 Long Term Support: Community: Supported Living","530",{"$f":"VLOOKUP(I819,'[1]Sub Lookup'!$A$1:$B$65536,2,FALSE)","v":"Commissioned Service - Other"}]
["Kent County Council",11971076,"ADVANCE HOUSING AND SUPPORT LTD T/A ADVANCE","2020-04-02",1618.65,"S","5EH","Mental Health Support - 18 64 Long Term Support: Community: Supported Living","530",{"$f":"VLOOKUP(I820,'[1]Sub Lookup'!$A$1:$B$65536,2,FALSE)","v":"Commissioned Service - Other"}]
["Kent County Council",11997676,"ADVANCED BUSINESS SOFTWARE & SOLUTIONS LTD T/A ADVANCED BUSINESS SOLUTIONS","2020-04-24",21347.09,"C","8DT","Information Services","304",{"$f":"VLOOKUP(I821,'[1]Sub Lookup'!$A$1:$B$65536,2,FALSE)","v":"Computer and Other IT Expenditure (Maintenance)"}]
["Kent County Council",11996815,"ADVANCED TRANSPORT RESEARCH LTD","2020-04-27",1745,"P","7HH","Highway Improvements","C20",{"$f":"VLOOKUP(I822,'[1]Sub Lookup'!$A$1:$B$65536,2,FALSE)","v":"Infrastructure"}]
["Kent County Council",11976925,"AFFINITY FOR BUSINESS LTD","2020-04-07",498.55,"C","2UA","Youth Services","125",{"$f":"VLOOKUP(I823,'[1]Sub Lookup'!$A$1:$B$65536,2,FALSE)","v":"Water & Sewerage"}]
["Kent County Council",11994012,"AFFINITY FOR BUSINESS LTD","2020-04-17",392.23,"C","8EK","Economic Development","125",{"$f":"VLOOKUP(I824,'[1]Sub Lookup'!$A$1:$B$65536,2,FALSE)","v":"Water & Sewerage"}]
["Kent County Council",11994013,"AFFINITY FOR BUSINESS LTD","2020-04-17",401.84000000000003,"C","8EK","Economic Development","125",{"$f":"VLOOKUP(I825,'[1]Sub Lookup'!$A$1:$B$65536,2,FALSE)","v":"Water & Sewerage"}]
["Kent County Council",12004937,"AFFINITY FOR BUSINESS LTD","2020-04-24",2507.2000000000003,"C","8DW","Non Operational Properties","125",{"$f":"VLOOKUP(I826,'[1]Sub Lookup'!$A$1:$B$65536,2,FALSE)","v":"Water & Sewerage"}]
["Kent County Council",11975631,"AFFINITY FOSTERING SERVICES LTD","2020-04-09",5580,"S","35R","IS Fostering","527",{"$f":"VLOOKUP(I827,'[1]Sub Lookup'!$A$1:$B$65536,2,FALSE)","v":"Services"}]
["Kent County Council",11960579,"AFFINITY FOSTERING SERVICES LTD","2020-04-09",2957,"S","35R","IS Fostering","527",{"$f":"VLOOKUP(I828,'[1]Sub Lookup'!$A$1:$B$65536,2,FALSE)","v":"Services"}]
["Kent County Council",11966276,"AFFINITY TRUST","2020-04-01",52738.700000000004,"S","5XC","Commissioning & Service Delivery","530",{"$f":"VLOOKUP(I829,'[1]Sub Lookup'!$A$1:$B$65536,2,FALSE)","v":"Commissioned Service - Other"}]
["Kent County Council",12008609,"AFFINITY TRUST","2020-04-24",89869.53,"S","5AH","Learning Disability Support - 18 64 Long Term Support: Community: Supported Living","530",{"$f":"VLOOKUP(I830,'[1]Sub Lookup'!$A$1:$B$65536,2,FALSE)","v":"Commissioned Service - Other"}]
["Kent County Council",12008609,"AFFINITY TRUST","2020-04-24",39652.71,"S","5AH","Learning Disability Support - 18 64 Long Term Support: Community: Supported Living","530",{"$f":"VLOOKUP(I831,'[1]Sub Lookup'!$A$1:$B$65536,2,FALSE)","v":"Commissioned Service - Other"}]
["Kent County Council",12008609,"AFFINITY TRUST","2020-04-24",23436.44,"S","5AH","Learning Disability Support - 18 64 Long Term Support: Community: Supported Living","530",{"$f":"VLOOKUP(I832,'[1]Sub Lookup'!$A$1:$B$65536,2,FALSE)","v":"Commissioned Service - Other"}]
["Kent County Council",12008609,"AFFINITY TRUST","2020-04-24",15134.31,"S","5BH","Learning Disability Support - 65+ Long Term Support: Community: Supported Living","530",{"$f":"VLOOKUP(I833,'[1]Sub Lookup'!$A$1:$B$65536,2,FALSE)","v":"Commissioned Service - Other"}]
["Kent County Council",12008609,"AFFINITY TRUST","2020-04-24",43446.28,"S","5BH","Learning Disability Support - 65+ Long Term Support: Community: Supported Living","530",{"$f":"VLOOKUP(I834,'[1]Sub Lookup'!$A$1:$B$65536,2,FALSE)","v":"Commissioned Service - Other"}]
["Kent County Council",12017636,"AFFINITY TRUST","2020-04-29",52738.700000000004,"S","5XC","Commissioning & Service Delivery","530",{"$f":"VLOOKUP(I835,'[1]Sub Lookup'!$A$1:$B$65536,2,FALSE)","v":"Commissioned Service - Other"}]
["Kent County Council",11967558,"AGE CONCERN (AGE UK) ASHFORD LIMITED","2020-04-01",9912.24,"S","5WP","Social Support:Support for Social Isolation","450",{"$f":"VLOOKUP(I836,'[1]Sub Lookup'!$A$1:$B$65536,2,FALSE)","v":"Grants"}]
["Kent County Council",11983895,"AGE CONCERN (AGE UK) ASHFORD LIMITED","2020-04-09",104687.88,"S","5WP","Social Support:Support for Social Isolation","520",{"$f":"VLOOKUP(I837,'[1]Sub Lookup'!$A$1:$B$65536,2,FALSE)","v":"Voluntary Associations"}]
["Kent County Council",11983898,"AGE CONCERN DEAL CENTRE FOR THE RETIRED LTD","2020-04-09",154346.28,"S","5WP","Social Support:Support for Social Isolation","520",{"$f":"VLOOKUP(I838,'[1]Sub Lookup'!$A$1:$B$65536,2,FALSE)","v":"Voluntary Associations"}]
["Kent County Council",11989245,"AGE CONCERN SANDWICH CENTRE FOR THE RETIRED T/A AGE CONCERN SANDWICH","2020-04-14",94383.3,"S","5WP","Social Support:Support for Social Isolation","520",{"$f":"VLOOKUP(I839,'[1]Sub Lookup'!$A$1:$B$65536,2,FALSE)","v":"Voluntary Associations"}]
["Kent County Council",12006987,"AGE CONCERN SANDWICH CENTRE FOR THE RETIRED T/A AGE CONCERN SANDWICH","2020-04-24",6000,"K","2AB","Community Liason","450",{"$f":"VLOOKUP(I840,'[1]Sub Lookup'!$A$1:$B$65536,2,FALSE)","v":"Grants"}]
["Kent County Council",11972388,"AGE UK CANTERBURY","2020-04-03",538.58000000000004,"R","8NB","Insurance Fund 2","M10",{"$f":"VLOOKUP(I841,'[1]Sub Lookup'!$A$1:$B$65536,2,FALSE)","v":"Property Claims"}]
["Kent County Council",11977426,"AGE UK CANTERBURY","2020-04-07",368,"S","5KJ","Physical support - 65+ Long Term Support: Community: Day Care","520",{"$f":"VLOOKUP(I842,'[1]Sub Lookup'!$A$1:$B$65536,2,FALSE)","v":"Voluntary Associations"}]
["Kent County Council",11989246,"AGE UK CANTERBURY","2020-04-14",181987.74,"S","5WP","Social Support:Support for Social Isolation","520",{"$f":"VLOOKUP(I843,'[1]Sub Lookup'!$A$1:$B$65536,2,FALSE)","v":"Voluntary Associations"}]
["Kent County Council",11984213,"AGE UK CANTERBURY","2020-04-14",3000,"K","2AB","Community Liason","450",{"$f":"VLOOKUP(I844,'[1]Sub Lookup'!$A$1:$B$65536,2,FALSE)","v":"Grants"}]
["Kent County Council",12001770,"AGE UK CANTERBURY","2020-04-24",276,"S","5KJ","Physical support - 65+ Long Term Support: Community: Day Care","520",{"$f":"VLOOKUP(I845,'[1]Sub Lookup'!$A$1:$B$65536,2,FALSE)","v":"Voluntary Associations"}]
["Kent County Council",11989244,"AGE UK DOVER","2020-04-14",51053.64,"S","5WP","Social Support:Support for Social Isolation","520",{"$f":"VLOOKUP(I846,'[1]Sub Lookup'!$A$1:$B$65536,2,FALSE)","v":"Voluntary Associations"}]
["Kent County Council",11967412,"AGE UK FAVERSHAM AND SITTINGBOURNE","2020-04-01",650,"S","5TJ","Support with Memory & Cognition - 65+ Long Term Support: Community: Day Care","520",{"$f":"VLOOKUP(I847,'[1]Sub Lookup'!$A$1:$B$65536,2,FALSE)","v":"Voluntary Associations"}]
["Kent County Council",11967414,"AGE UK FAVERSHAM AND SITTINGBOURNE","2020-04-01",409,"S","5KJ","Physical support - 65+ Long Term Support: Community: Day Care","530",{"$f":"VLOOKUP(I848,'[1]Sub Lookup'!$A$1:$B$65536,2,FALSE)","v":"Commissioned Service - Other"}]
["Kent County Council",11983891,"AGE UK FAVERSHAM AND SITTINGBOURNE","2020-04-09",260680.2,"S","5WP","Social Support:Support for Social Isolation","520",{"$f":"VLOOKUP(I849,'[1]Sub Lookup'!$A$1:$B$65536,2,FALSE)","v":"Voluntary Associations"}]
["Kent County Council",11983897,"AGE UK FOLKESTONE","2020-04-09",69734.06,"S","5WP","Social Support:Support for Social Isolation","520",{"$f":"VLOOKUP(I850,'[1]Sub Lookup'!$A$1:$B$65536,2,FALSE)","v":"Voluntary Associations"}]
["Kent County Council",11971832,"AGE UK HERNE BAY","2020-04-03",363,"S","5KJ","Physical support - 65+ Long Term Support: Community: Day Care","232",{"$f":"VLOOKUP(I851,'[1]Sub Lookup'!$A$1:$B$65536,2,FALSE)","v":"Public Transport (Clients)"}]
["Kent County Council",11971832,"AGE UK HERNE BAY","2020-04-03",4902,"S","5KJ","Physical support - 65+ Long Term Support: Community: Day Care","520",{"$f":"VLOOKUP(I852,'[1]Sub Lookup'!$A$1:$B$65536,2,FALSE)","v":"Voluntary Associations"}]
["Kent County Council",11971842,"AGE UK HERNE BAY","2020-04-03",3139,"S","5KJ","Physical support - 65+ Long Term Support: Community: Day Care","520",{"$f":"VLOOKUP(I853,'[1]Sub Lookup'!$A$1:$B$65536,2,FALSE)","v":"Voluntary Associations"}]
["Kent County Council",11983892,"AGE UK HERNE BAY","2020-04-09",204005.61000000002,"S","5WP","Social Support:Support for Social Isolation","520",{"$f":"VLOOKUP(I854,'[1]Sub Lookup'!$A$1:$B$65536,2,FALSE)","v":"Voluntary Associations"}]
["Kent County Council",11983896,"AGE UK HYTHE AND LYMINGE","2020-04-09",190901.7,"S","5WP","Social Support:Support for Social Isolation","520",{"$f":"VLOOKUP(I855,'[1]Sub Lookup'!$A$1:$B$65536,2,FALSE)","v":"Voluntary Associations"}]
["Kent County Council",11993515,"AGE UK MAIDSTONE","2020-04-16",249156.82,"S","5WP","Social Support:Support for Social Isolation","520",{"$f":"VLOOKUP(I856,'[1]Sub Lookup'!$A$1:$B$65536,2,FALSE)","v":"Voluntary Associations"}]
["Kent County Council",11966277,"AGE UK MEDWAY","2020-04-01",1433.4,"S","5XC","Commissioning & Service Delivery","530",{"$f":"VLOOKUP(I857,'[1]Sub Lookup'!$A$1:$B$65536,2,FALSE)","v":"Commissioned Service - Other"}]
["Kent County Council",11958920,"AGE UK MEDWAY","2020-04-06",325.82,"S","5KG","Physical support - 65+ Long Term Support: Community: Home Care","530",{"$f":"VLOOKUP(I858,'[1]Sub Lookup'!$A$1:$B$65536,2,FALSE)","v":"Commissioned Service - Other"}]
["Kent County Council",11979907,"AGE UK MEDWAY","2020-04-08",1028.8,"S","5KG","Physical support - 65+ Long Term Support: Community: Home Care","530",{"$f":"VLOOKUP(I859,'[1]Sub Lookup'!$A$1:$B$65536,2,FALSE)","v":"Commissioned Service - Other"}]
["Kent County Council",12017637,"AGE UK MEDWAY","2020-04-29",1433.4,"S","5XC","Commissioning & Service Delivery","530",{"$f":"VLOOKUP(I860,'[1]Sub Lookup'!$A$1:$B$65536,2,FALSE)","v":"Commissioned Service - Other"}]
["Kent County Council",11972552,"AGE UK NORTH WEST KENT","2020-04-03",522,"S","5KJ","Physical support - 65+ Long Term Support: Community: Day Care","520",{"$f":"VLOOKUP(I861,'[1]Sub Lookup'!$A$1:$B$65536,2,FALSE)","v":"Voluntary Associations"}]
["Kent County Council",11989242,"AGE UK NORTH WEST KENT","2020-04-14",378400,"S","5WP","Social Support:Support for Social Isolation","520",{"$f":"VLOOKUP(I862,'[1]Sub Lookup'!$A$1:$B$65536,2,FALSE)","v":"Voluntary Associations"}]
["Kent County Council",11993513,"AGE UK SEVENOAKS & TONBRIDGE","2020-04-16",206784.38,"S","5WP","Social Support:Support for Social Isolation","520",{"$f":"VLOOKUP(I863,'[1]Sub Lookup'!$A$1:$B$65536,2,FALSE)","v":"Voluntary Associations"}]
["Kent County Council",11993517,"AGE UK SHEPPEY","2020-04-16",144893.54,"S","5WP","Social Support:Support for Social Isolation","520",{"$f":"VLOOKUP(I864,'[1]Sub Lookup'!$A$1:$B$65536,2,FALSE)","v":"Voluntary Associations"}]
["Kent County Council",11983784,"AGE UK SHEPPEY","2020-04-17",11623.2,"S","5WP","Social Support:Support for Social Isolation","450",{"$f":"VLOOKUP(I865,'[1]Sub Lookup'!$A$1:$B$65536,2,FALSE)","v":"Grants"}]
["Kent County Council",11993516,"AGE UK THANET LIMITED","2020-04-16",165941.38,"S","5WP","Social Support:Support for Social Isolation","520",{"$f":"VLOOKUP(I866,'[1]Sub Lookup'!$A$1:$B$65536,2,FALSE)","v":"Voluntary Associations"}]
["Kent County Council",11976579,"AGE UK TUNBRIDGE WELLS","2020-04-06",620,"S","5BH","Learning Disability Support - 65+ Long Term Support: Community: Supported Living","520",{"$f":"VLOOKUP(I867,'[1]Sub Lookup'!$A$1:$B$65536,2,FALSE)","v":"Voluntary Associations"}]
["Kent County Council",11976578,"AGE UK TUNBRIDGE WELLS","2020-04-06",620,"S","5BH","Learning Disability Support - 65+ Long Term Support: Community: Supported Living","520",{"$f":"VLOOKUP(I868,'[1]Sub Lookup'!$A$1:$B$65536,2,FALSE)","v":"Voluntary Associations"}]
["Kent County Council",11983893,"AGE UK TUNBRIDGE WELLS","2020-04-09",187185.68,"S","5WP","Social Support:Support for Social Isolation","520",{"$f":"VLOOKUP(I869,'[1]Sub Lookup'!$A$1:$B$65536,2,FALSE)","v":"Voluntary Associations"}]
["Kent County Council",11996741,"AGE UK TUNBRIDGE WELLS","2020-04-27",650,"S","5TJ","Support with Memory & Cognition - 65+ Long Term Support: Community: Day Care","520",{"$f":"VLOOKUP(I870,'[1]Sub Lookup'!$A$1:$B$65536,2,FALSE)","v":"Voluntary Associations"}]
["Kent County Council",11996703,"AGE UK TUNBRIDGE WELLS","2020-04-27",650,"S","5TJ","Support with Memory & Cognition - 65+ Long Term Support: Community: Day Care","520",{"$f":"VLOOKUP(I871,'[1]Sub Lookup'!$A$1:$B$65536,2,FALSE)","v":"Voluntary Associations"}]
["Kent County Council",12018890,"AGE UK TUNBRIDGE WELLS","2020-04-29",775,"S","5BH","Learning Disability Support - 65+ Long Term Support: Community: Supported Living","520",{"$f":"VLOOKUP(I872,'[1]Sub Lookup'!$A$1:$B$65536,2,FALSE)","v":"Voluntary Associations"}]
["Kent County Council",12004932,"AGGREKO UK LIMITED","2020-04-28",3809.7000000000003,"E","1RC","Capital Projects","401",{"$f":"VLOOKUP(I873,'[1]Sub Lookup'!$A$1:$B$65536,2,FALSE)","v":"Specialists Fees"}]
["Kent County Council",11961993,"AGILENT TECHNOLOGIES LDA UK LIMITED","2020-04-07",1295,"K","2RC","Kent Scientific Services","301",{"$f":"VLOOKUP(I874,'[1]Sub Lookup'!$A$1:$B$65536,2,FALSE)","v":"Service and Repair of Equipment"}]
["Kent County Council",11983990,"AGILENT TECHNOLOGIES LDA UK LIMITED","2020-04-15",10850.7,"K","2RC","Kent Scientific Services","301",{"$f":"VLOOKUP(I875,'[1]Sub Lookup'!$A$1:$B$65536,2,FALSE)","v":"Service and Repair of Equipment"}]
["Kent County Council",12019452,"AGILISYS CONTACT SERVICES LTD","2020-04-30",500,"K","2LE","Adult Education","401",{"$f":"VLOOKUP(I876,'[1]Sub Lookup'!$A$1:$B$65536,2,FALSE)","v":"Specialists Fees"}]
["Kent County Council",12014409,"AGILISYS LTD","2020-04-29",228394.67,"C","8DH","Personnel and Development","530",{"$f":"VLOOKUP(I877,'[1]Sub Lookup'!$A$1:$B$65536,2,FALSE)","v":"Commissioned Service - Other"}]
["Kent County Council",12014301,"AGILISYS LTD","2020-04-29",138375,"C","8DH","Personnel and Development","401",{"$f":"VLOOKUP(I878,'[1]Sub Lookup'!$A$1:$B$65536,2,FALSE)","v":"Specialists Fees"}]
["Kent County Council",12017638,"AGINCARE UK LTD","2020-04-29",925.84,"S","5XC","Commissioning & Service Delivery","530",{"$f":"VLOOKUP(I879,'[1]Sub Lookup'!$A$1:$B$65536,2,FALSE)","v":"Commissioned Service - Other"}]
["Kent County Council",11966279,"AIDING INDEPENDENCE LTD","2020-04-01",27856.84,"S","5XC","Commissioning & Service Delivery","530",{"$f":"VLOOKUP(I880,'[1]Sub Lookup'!$A$1:$B$65536,2,FALSE)","v":"Commissioned Service - Other"}]
["Kent County Council",11966194,"AIDING INDEPENDENCE LTD","2020-04-01",2223.86,"S","5XC","Commissioning & Service Delivery","530",{"$f":"VLOOKUP(I881,'[1]Sub Lookup'!$A$1:$B$65536,2,FALSE)","v":"Commissioned Service - Other"}]
["Kent County Council",11972454,"AIDING INDEPENDENCE LTD","2020-04-03",2185.48,"S","5AH","Learning Disability Support - 18 64 Long Term Support: Community: Supported Living","530",{"$f":"VLOOKUP(I882,'[1]Sub Lookup'!$A$1:$B$65536,2,FALSE)","v":"Commissioned Service - Other"}]
["Kent County Council",11972483,"AIDING INDEPENDENCE LTD","2020-04-03",4685.76,"S","5AH","Learning Disability Support - 18 64 Long Term Support: Community: Supported Living","530",{"$f":"VLOOKUP(I883,'[1]Sub Lookup'!$A$1:$B$65536,2,FALSE)","v":"Commissioned Service - Other"}]
["Kent County Council",11972459,"AIDING INDEPENDENCE LTD","2020-04-03",2306.7600000000002,"S","5AH","Learning Disability Support - 18 64 Long Term Support: Community: Supported Living","530",{"$f":"VLOOKUP(I884,'[1]Sub Lookup'!$A$1:$B$65536,2,FALSE)","v":"Commissioned Service - Other"}]
["Kent County Council",11972468,"AIDING INDEPENDENCE LTD","2020-04-03",1212.8,"S","5BH","Learning Disability Support - 65+ Long Term Support: Community: Supported Living","530",{"$f":"VLOOKUP(I885,'[1]Sub Lookup'!$A$1:$B$65536,2,FALSE)","v":"Commissioned Service - Other"}]
["Kent County Council",11972450,"AIDING INDEPENDENCE LTD","2020-04-03",970.24,"S","5AH","Learning Disability Support - 18 64 Long Term Support: Community: Supported Living","530",{"$f":"VLOOKUP(I886,'[1]Sub Lookup'!$A$1:$B$65536,2,FALSE)","v":"Commissioned Service - Other"}]
["Kent County Council",11972479,"AIDING INDEPENDENCE LTD","2020-04-03",970.24,"S","5AH","Learning Disability Support - 18 64 Long Term Support: Community: Supported Living","530",{"$f":"VLOOKUP(I887,'[1]Sub Lookup'!$A$1:$B$65536,2,FALSE)","v":"Commissioned Service - Other"}]
["Kent County Council",11972456,"AIDING INDEPENDENCE LTD","2020-04-03",667.04,"S","5AH","Learning Disability Support - 18 64 Long Term Support: Community: Supported Living","530",{"$f":"VLOOKUP(I888,'[1]Sub Lookup'!$A$1:$B$65536,2,FALSE)","v":"Commissioned Service - Other"}]
["Kent County Council",11972449,"AIDING INDEPENDENCE LTD","2020-04-03",606.4,"S","5AH","Learning Disability Support - 18 64 Long Term Support: Community: Supported Living","530",{"$f":"VLOOKUP(I889,'[1]Sub Lookup'!$A$1:$B$65536,2,FALSE)","v":"Commissioned Service - Other"}]
["Kent County Council",11972475,"AIDING INDEPENDENCE LTD","2020-04-03",424.48,"S","5AH","Learning Disability Support - 18 64 Long Term Support: Community: Supported Living","530",{"$f":"VLOOKUP(I890,'[1]Sub Lookup'!$A$1:$B$65536,2,FALSE)","v":"Commissioned Service - Other"}]
["Kent County Council",11972481,"AIDING INDEPENDENCE LTD","2020-04-03",3386.52,"S","5AH","Learning Disability Support - 18 64 Long Term Support: Community: Supported Living","530",{"$f":"VLOOKUP(I891,'[1]Sub Lookup'!$A$1:$B$65536,2,FALSE)","v":"Commissioned Service - Other"}]
["Kent County Council",11972452,"AIDING INDEPENDENCE LTD","2020-04-03",1212.8,"S","5AH","Learning Disability Support - 18 64 Long Term Support: Community: Supported Living","530",{"$f":"VLOOKUP(I892,'[1]Sub Lookup'!$A$1:$B$65536,2,FALSE)","v":"Commissioned Service - Other"}]
["Kent County Council",11972446,"AIDING INDEPENDENCE LTD","2020-04-03",454.8,"S","5AH","Learning Disability Support - 18 64 Long Term Support: Community: Supported Living","530",{"$f":"VLOOKUP(I893,'[1]Sub Lookup'!$A$1:$B$65536,2,FALSE)","v":"Commissioned Service - Other"}]
["Kent County Council",11972458,"AIDING INDEPENDENCE LTD","2020-04-03",2624.16,"S","5AH","Learning Disability Support - 18 64 Long Term Support: Community: Supported Living","530",{"$f":"VLOOKUP(I894,'[1]Sub Lookup'!$A$1:$B$65536,2,FALSE)","v":"Commissioned Service - Other"}]
["Kent County Council",11972476,"AIDING INDEPENDENCE LTD","2020-04-03",2676.4,"S","5AH","Learning Disability Support - 18 64 Long Term Support: Community: Supported Living","530",{"$f":"VLOOKUP(I895,'[1]Sub Lookup'!$A$1:$B$65536,2,FALSE)","v":"Commissioned Service - Other"}]
["Kent County Council",11972469,"AIDING INDEPENDENCE LTD","2020-04-03",4616.88,"S","5AH","Learning Disability Support - 18 64 Long Term Support: Community: Supported Living","530",{"$f":"VLOOKUP(I896,'[1]Sub Lookup'!$A$1:$B$65536,2,FALSE)","v":"Commissioned Service - Other"}]
["Kent County Council",11972464,"AIDING INDEPENDENCE LTD","2020-04-03",1827.44,"S","5AH","Learning Disability Support - 18 64 Long Term Support: Community: Supported Living","530",{"$f":"VLOOKUP(I897,'[1]Sub Lookup'!$A$1:$B$65536,2,FALSE)","v":"Commissioned Service - Other"}]
["Kent County Council",11972480,"AIDING INDEPENDENCE LTD","2020-04-03",424.48,"S","5BH","Learning Disability Support - 65+ Long Term Support: Community: Supported Living","530",{"$f":"VLOOKUP(I898,'[1]Sub Lookup'!$A$1:$B$65536,2,FALSE)","v":"Commissioned Service - Other"}]
["Kent County Council",11972462,"AIDING INDEPENDENCE LTD","2020-04-03",3707.28,"S","5AH","Learning Disability Support - 18 64 Long Term Support: Community: Supported Living","530",{"$f":"VLOOKUP(I899,'[1]Sub Lookup'!$A$1:$B$65536,2,FALSE)","v":"Commissioned Service - Other"}]
["Kent County Council",11972474,"AIDING INDEPENDENCE LTD","2020-04-03",2312.56,"S","5AH","Learning Disability Support - 18 64 Long Term Support: Community: Supported Living","530",{"$f":"VLOOKUP(I900,'[1]Sub Lookup'!$A$1:$B$65536,2,FALSE)","v":"Commissioned Service - Other"}]
["Kent County Council",11972455,"AIDING INDEPENDENCE LTD","2020-04-03",2867.28,"S","5AH","Learning Disability Support - 18 64 Long Term Support: Community: Supported Living","530",{"$f":"VLOOKUP(I901,'[1]Sub Lookup'!$A$1:$B$65536,2,FALSE)","v":"Commissioned Service - Other"}]
["Kent County Council",11972467,"AIDING INDEPENDENCE LTD","2020-04-03",3501.12,"S","5AH","Learning Disability Support - 18 64 Long Term Support: Community: Supported Living","530",{"$f":"VLOOKUP(I902,'[1]Sub Lookup'!$A$1:$B$65536,2,FALSE)","v":"Commissioned Service - Other"}]
["Kent County Council",11972478,"AIDING INDEPENDENCE LTD","2020-04-03",727.68000000000006,"S","5AH","Learning Disability Support - 18 64 Long Term Support: Community: Supported Living","530",{"$f":"VLOOKUP(I903,'[1]Sub Lookup'!$A$1:$B$65536,2,FALSE)","v":"Commissioned Service - Other"}]
["Kent County Council",11972477,"AIDING INDEPENDENCE LTD","2020-04-03",1091.52,"S","5AH","Learning Disability Support - 18 64 Long Term Support: Community: Supported Living","530",{"$f":"VLOOKUP(I904,'[1]Sub Lookup'!$A$1:$B$65536,2,FALSE)","v":"Commissioned Service - Other"}]
["Kent County Council",11972448,"AIDING INDEPENDENCE LTD","2020-04-03",3083.32,"S","5AH","Learning Disability Support - 18 64 Long Term Support: Community: Supported Living","530",{"$f":"VLOOKUP(I905,'[1]Sub Lookup'!$A$1:$B$65536,2,FALSE)","v":"Commissioned Service - Other"}]
["Kent County Council",11972447,"AIDING INDEPENDENCE LTD","2020-04-03",3083.32,"S","5AH","Learning Disability Support - 18 64 Long Term Support: Community: Supported Living","530",{"$f":"VLOOKUP(I906,'[1]Sub Lookup'!$A$1:$B$65536,2,FALSE)","v":"Commissioned Service - Other"}]
["Kent County Council",11972457,"AIDING INDEPENDENCE LTD","2020-04-03",3343.44,"S","5AH","Learning Disability Support - 18 64 Long Term Support: Community: Supported Living","530",{"$f":"VLOOKUP(I907,'[1]Sub Lookup'!$A$1:$B$65536,2,FALSE)","v":"Commissioned Service - Other"}]
["Kent County Council",11972451,"AIDING INDEPENDENCE LTD","2020-04-03",3083.32,"S","5AH","Learning Disability Support - 18 64 Long Term Support: Community: Supported Living","530",{"$f":"VLOOKUP(I908,'[1]Sub Lookup'!$A$1:$B$65536,2,FALSE)","v":"Commissioned Service - Other"}]
["Kent County Council",11972484,"AIDING INDEPENDENCE LTD","2020-04-03",363.84000000000003,"S","5AH","Learning Disability Support - 18 64 Long Term Support: Community: Supported Living","530",{"$f":"VLOOKUP(I909,'[1]Sub Lookup'!$A$1:$B$65536,2,FALSE)","v":"Commissioned Service - Other"}]
["Kent County Council",11972473,"AIDING INDEPENDENCE LTD","2020-04-03",485.12,"S","5AH","Learning Disability Support - 18 64 Long Term Support: Community: Supported Living","530",{"$f":"VLOOKUP(I910,'[1]Sub Lookup'!$A$1:$B$65536,2,FALSE)","v":"Commissioned Service - Other"}]
["Kent County Council",11972471,"AIDING INDEPENDENCE LTD","2020-04-03",5275.68,"S","5AH","Learning Disability Support - 18 64 Long Term Support: Community: Supported Living","530",{"$f":"VLOOKUP(I911,'[1]Sub Lookup'!$A$1:$B$65536,2,FALSE)","v":"Commissioned Service - Other"}]
["Kent County Council",11972460,"AIDING INDEPENDENCE LTD","2020-04-03",303.2,"S","5AH","Learning Disability Support - 18 64 Long Term Support: Community: Supported Living","530",{"$f":"VLOOKUP(I912,'[1]Sub Lookup'!$A$1:$B$65536,2,FALSE)","v":"Commissioned Service - Other"}]
["Kent County Council",11972453,"AIDING INDEPENDENCE LTD","2020-04-03",2078.96,"S","5AH","Learning Disability Support - 18 64 Long Term Support: Community: Supported Living","530",{"$f":"VLOOKUP(I913,'[1]Sub Lookup'!$A$1:$B$65536,2,FALSE)","v":"Commissioned Service - Other"}]
["Kent County Council",11972466,"AIDING INDEPENDENCE LTD","2020-04-03",4685.76,"S","5AH","Learning Disability Support - 18 64 Long Term Support: Community: Supported Living","530",{"$f":"VLOOKUP(I914,'[1]Sub Lookup'!$A$1:$B$65536,2,FALSE)","v":"Commissioned Service - Other"}]
["Kent County Council",11972482,"AIDING INDEPENDENCE LTD","2020-04-03",970.24,"S","5AH","Learning Disability Support - 18 64 Long Term Support: Community: Supported Living","530",{"$f":"VLOOKUP(I915,'[1]Sub Lookup'!$A$1:$B$65536,2,FALSE)","v":"Commissioned Service - Other"}]
["Kent County Council",11972472,"AIDING INDEPENDENCE LTD","2020-04-03",4382.5600000000004,"S","5AH","Learning Disability Support - 18 64 Long Term Support: Community: Supported Living","530",{"$f":"VLOOKUP(I916,'[1]Sub Lookup'!$A$1:$B$65536,2,FALSE)","v":"Commissioned Service - Other"}]
["Kent County Council",11982032,"AIDING INDEPENDENCE LTD","2020-04-08",363.84000000000003,"S","5JH","Physical Support - 18 64 Long Term Support: Community: Supported Living","530",{"$f":"VLOOKUP(I917,'[1]Sub Lookup'!$A$1:$B$65536,2,FALSE)","v":"Commissioned Service - Other"}]
["Kent County Council",11982019,"AIDING INDEPENDENCE LTD","2020-04-08",2260.3200000000002,"S","5AH","Learning Disability Support - 18 64 Long Term Support: Community: Supported Living","530",{"$f":"VLOOKUP(I918,'[1]Sub Lookup'!$A$1:$B$65536,2,FALSE)","v":"Commissioned Service - Other"}]
["Kent County Council",11982023,"AIDING INDEPENDENCE LTD","2020-04-08",2260.3200000000002,"S","5AH","Learning Disability Support - 18 64 Long Term Support: Community: Supported Living","530",{"$f":"VLOOKUP(I919,'[1]Sub Lookup'!$A$1:$B$65536,2,FALSE)","v":"Commissioned Service - Other"}]
["Kent County Council",11982020,"AIDING INDEPENDENCE LTD","2020-04-08",4417.4000000000005,"S","5AH","Learning Disability Support - 18 64 Long Term Support: Community: Supported Living","530",{"$f":"VLOOKUP(I920,'[1]Sub Lookup'!$A$1:$B$65536,2,FALSE)","v":"Commissioned Service - Other"}]
["Kent County Council",11982024,"AIDING INDEPENDENCE LTD","2020-04-08",2488.6799999999998,"S","5AH","Learning Disability Support - 18 64 Long Term Support: Community: Supported Living","530",{"$f":"VLOOKUP(I921,'[1]Sub Lookup'!$A$1:$B$65536,2,FALSE)","v":"Commissioned Service - Other"}]
["Kent County Council",11982025,"AIDING INDEPENDENCE LTD","2020-04-08",424.48,"S","5AH","Learning Disability Support - 18 64 Long Term Support: Community: Supported Living","530",{"$f":"VLOOKUP(I922,'[1]Sub Lookup'!$A$1:$B$65536,2,FALSE)","v":"Commissioned Service - Other"}]
["Kent County Council",11982028,"AIDING INDEPENDENCE LTD","2020-04-08",1030.8800000000001,"S","5AH","Learning Disability Support - 18 64 Long Term Support: Community: Supported Living","530",{"$f":"VLOOKUP(I923,'[1]Sub Lookup'!$A$1:$B$65536,2,FALSE)","v":"Commissioned Service - Other"}]
["Kent County Council",11982033,"AIDING INDEPENDENCE LTD","2020-04-08",2563.52,"S","5AH","Learning Disability Support - 18 64 Long Term Support: Community: Supported Living","530",{"$f":"VLOOKUP(I924,'[1]Sub Lookup'!$A$1:$B$65536,2,FALSE)","v":"Commissioned Service - Other"}]
["Kent County Council",11982022,"AIDING INDEPENDENCE LTD","2020-04-08",2018.32,"S","5AH","Learning Disability Support - 18 64 Long Term Support: Community: Supported Living","530",{"$f":"VLOOKUP(I925,'[1]Sub Lookup'!$A$1:$B$65536,2,FALSE)","v":"Commissioned Service - Other"}]
["Kent County Council",11982017,"AIDING INDEPENDENCE LTD","2020-04-08",2973.8,"S","5AH","Learning Disability Support - 18 64 Long Term Support: Community: Supported Living","530",{"$f":"VLOOKUP(I926,'[1]Sub Lookup'!$A$1:$B$65536,2,FALSE)","v":"Commissioned Service - Other"}]
["Kent County Council",11982016,"AIDING INDEPENDENCE LTD","2020-04-08",2797.68,"S","5AH","Learning Disability Support - 18 64 Long Term Support: Community: Supported Living","530",{"$f":"VLOOKUP(I927,'[1]Sub Lookup'!$A$1:$B$65536,2,FALSE)","v":"Commissioned Service - Other"}]
["Kent County Council",11982026,"AIDING INDEPENDENCE LTD","2020-04-08",1273.44,"S","5AH","Learning Disability Support - 18 64 Long Term Support: Community: Supported Living","530",{"$f":"VLOOKUP(I928,'[1]Sub Lookup'!$A$1:$B$65536,2,FALSE)","v":"Commissioned Service - Other"}]
["Kent County Council",11982027,"AIDING INDEPENDENCE LTD","2020-04-08",485.12,"S","5AH","Learning Disability Support - 18 64 Long Term Support: Community: Supported Living","530",{"$f":"VLOOKUP(I929,'[1]Sub Lookup'!$A$1:$B$65536,2,FALSE)","v":"Commissioned Service - Other"}]
["Kent County Council",11982018,"AIDING INDEPENDENCE LTD","2020-04-08",3109.84,"S","5AH","Learning Disability Support - 18 64 Long Term Support: Community: Supported Living","530",{"$f":"VLOOKUP(I930,'[1]Sub Lookup'!$A$1:$B$65536,2,FALSE)","v":"Commissioned Service - Other"}]
["Kent County Council",11982021,"AIDING INDEPENDENCE LTD","2020-04-08",2312.56,"S","5AH","Learning Disability Support - 18 64 Long Term Support: Community: Supported Living","530",{"$f":"VLOOKUP(I931,'[1]Sub Lookup'!$A$1:$B$65536,2,FALSE)","v":"Commissioned Service - Other"}]
["Kent County Council",11982029,"AIDING INDEPENDENCE LTD","2020-04-08",2901.4,"S","5AH","Learning Disability Support - 18 64 Long Term Support: Community: Supported Living","530",{"$f":"VLOOKUP(I932,'[1]Sub Lookup'!$A$1:$B$65536,2,FALSE)","v":"Commissioned Service - Other"}]
["Kent County Council",11982030,"AIDING INDEPENDENCE LTD","2020-04-08",848.96,"S","5AH","Learning Disability Support - 18 64 Long Term Support: Community: Supported Living","530",{"$f":"VLOOKUP(I933,'[1]Sub Lookup'!$A$1:$B$65536,2,FALSE)","v":"Commissioned Service - Other"}]
["Kent County Council",11965528,"AIDING INDEPENDENCE LTD","2020-04-17",485.12,"S","5AH","Learning Disability Support - 18 64 Long Term Support: Community: Supported Living","523",{"$f":"VLOOKUP(I934,'[1]Sub Lookup'!$A$1:$B$65536,2,FALSE)","v":"Private Contractors"}]
["Kent County Council",11965527,"AIDING INDEPENDENCE LTD","2020-04-17",1212.8,"S","5AH","Learning Disability Support - 18 64 Long Term Support: Community: Supported Living","523",{"$f":"VLOOKUP(I935,'[1]Sub Lookup'!$A$1:$B$65536,2,FALSE)","v":"Private Contractors"}]
["Kent County Council",11965526,"AIDING INDEPENDENCE LTD","2020-04-17",3750.36,"S","5AH","Learning Disability Support - 18 64 Long Term Support: Community: Supported Living","523",{"$f":"VLOOKUP(I936,'[1]Sub Lookup'!$A$1:$B$65536,2,FALSE)","v":"Private Contractors"}]
["Kent County Council",11965525,"AIDING INDEPENDENCE LTD","2020-04-17",3447.16,"S","5AH","Learning Disability Support - 18 64 Long Term Support: Community: Supported Living","523",{"$f":"VLOOKUP(I937,'[1]Sub Lookup'!$A$1:$B$65536,2,FALSE)","v":"Private Contractors"}]
["Kent County Council",12017536,"AIDING INDEPENDENCE LTD","2020-04-29",2223.86,"S","5XC","Commissioning & Service Delivery","530",{"$f":"VLOOKUP(I938,'[1]Sub Lookup'!$A$1:$B$65536,2,FALSE)","v":"Commissioned Service - Other"}]
["Kent County Council",12017639,"AIDING INDEPENDENCE LTD","2020-04-29",27856.84,"S","5XC","Commissioning & Service Delivery","530",{"$f":"VLOOKUP(I939,'[1]Sub Lookup'!$A$1:$B$65536,2,FALSE)","v":"Commissioned Service - Other"}]
["Kent County Council",12019976,"AIDING INDEPENDENCE LTD","2020-04-30",1848.1200000000001,"S","5AH","Learning Disability Support - 18 64 Long Term Support: Community: Supported Living","530",{"$f":"VLOOKUP(I940,'[1]Sub Lookup'!$A$1:$B$65536,2,FALSE)","v":"Commissioned Service - Other"}]
["Kent County Council",12019970,"AIDING INDEPENDENCE LTD","2020-04-30",2657.06,"S","5AH","Learning Disability Support - 18 64 Long Term Support: Community: Supported Living","530",{"$f":"VLOOKUP(I941,'[1]Sub Lookup'!$A$1:$B$65536,2,FALSE)","v":"Commissioned Service - Other"}]
["Kent County Council",12019961,"AIDING INDEPENDENCE LTD","2020-04-30",461.86,"S","5AH","Learning Disability Support - 18 64 Long Term Support: Community: Supported Living","530",{"$f":"VLOOKUP(I942,'[1]Sub Lookup'!$A$1:$B$65536,2,FALSE)","v":"Commissioned Service - Other"}]
["Kent County Council",12019964,"AIDING INDEPENDENCE LTD","2020-04-30",1231.6000000000001,"S","5AH","Learning Disability Support - 18 64 Long Term Support: Community: Supported Living","530",{"$f":"VLOOKUP(I943,'[1]Sub Lookup'!$A$1:$B$65536,2,FALSE)","v":"Commissioned Service - Other"}]
["Kent County Council",12019960,"AIDING INDEPENDENCE LTD","2020-04-30",615.80000000000007,"S","5AH","Learning Disability Support - 18 64 Long Term Support: Community: Supported Living","530",{"$f":"VLOOKUP(I944,'[1]Sub Lookup'!$A$1:$B$65536,2,FALSE)","v":"Commissioned Service - Other"}]
["Kent County Council",12019968,"AIDING INDEPENDENCE LTD","2020-04-30",677.38,"S","5AH","Learning Disability Support - 18 64 Long Term Support: Community: Supported Living","530",{"$f":"VLOOKUP(I945,'[1]Sub Lookup'!$A$1:$B$65536,2,FALSE)","v":"Commissioned Service - Other"}]
["Kent County Council",12019962,"AIDING INDEPENDENCE LTD","2020-04-30",985.28,"S","5AH","Learning Disability Support - 18 64 Long Term Support: Community: Supported Living","530",{"$f":"VLOOKUP(I946,'[1]Sub Lookup'!$A$1:$B$65536,2,FALSE)","v":"Commissioned Service - Other"}]
["Kent County Council",12019971,"AIDING INDEPENDENCE LTD","2020-04-30",2332.14,"S","5AH","Learning Disability Support - 18 64 Long Term Support: Community: Supported Living","530",{"$f":"VLOOKUP(I947,'[1]Sub Lookup'!$A$1:$B$65536,2,FALSE)","v":"Commissioned Service - Other"}]
["Kent County Council",12019966,"AIDING INDEPENDENCE LTD","2020-04-30",2208.98,"S","5AH","Learning Disability Support - 18 64 Long Term Support: Community: Supported Living","530",{"$f":"VLOOKUP(I948,'[1]Sub Lookup'!$A$1:$B$65536,2,FALSE)","v":"Commissioned Service - Other"}]
["Kent County Council",12019963,"AIDING INDEPENDENCE LTD","2020-04-30",3120.92,"S","5AH","Learning Disability Support - 18 64 Long Term Support: Community: Supported Living","530",{"$f":"VLOOKUP(I949,'[1]Sub Lookup'!$A$1:$B$65536,2,FALSE)","v":"Commissioned Service - Other"}]
["Kent County Council",12019972,"AIDING INDEPENDENCE LTD","2020-04-30",307.90000000000003,"S","5AH","Learning Disability Support - 18 64 Long Term Support: Community: Supported Living","530",{"$f":"VLOOKUP(I950,'[1]Sub Lookup'!$A$1:$B$65536,2,FALSE)","v":"Commissioned Service - Other"}]
["Kent County Council",12019965,"AIDING INDEPENDENCE LTD","2020-04-30",2103.4,"S","5AH","Learning Disability Support - 18 64 Long Term Support: Community: Supported Living","530",{"$f":"VLOOKUP(I951,'[1]Sub Lookup'!$A$1:$B$65536,2,FALSE)","v":"Commissioned Service - Other"}]
["Kent County Council",12019978,"AIDING INDEPENDENCE LTD","2020-04-30",4743.1000000000004,"S","5AH","Learning Disability Support - 18 64 Long Term Support: Community: Supported Living","530",{"$f":"VLOOKUP(I952,'[1]Sub Lookup'!$A$1:$B$65536,2,FALSE)","v":"Commissioned Service - Other"}]
["Kent County Council",12019969,"AIDING INDEPENDENCE LTD","2020-04-30",3387.62,"S","5AH","Learning Disability Support - 18 64 Long Term Support: Community: Supported Living","530",{"$f":"VLOOKUP(I953,'[1]Sub Lookup'!$A$1:$B$65536,2,FALSE)","v":"Commissioned Service - Other"}]
["Kent County Council",12019958,"AIDING INDEPENDENCE LTD","2020-04-30",1579.26,"S","5AH","Learning Disability Support - 18 64 Long Term Support: Community: Supported Living","530",{"$f":"VLOOKUP(I954,'[1]Sub Lookup'!$A$1:$B$65536,2,FALSE)","v":"Commissioned Service - Other"}]
["Kent County Council",12019959,"AIDING INDEPENDENCE LTD","2020-04-30",1541.66,"S","5AH","Learning Disability Support - 18 64 Long Term Support: Community: Supported Living","530",{"$f":"VLOOKUP(I955,'[1]Sub Lookup'!$A$1:$B$65536,2,FALSE)","v":"Commissioned Service - Other"}]
["Kent County Council",12019967,"AIDING INDEPENDENCE LTD","2020-04-30",2903.94,"S","5AH","Learning Disability Support - 18 64 Long Term Support: Community: Supported Living","530",{"$f":"VLOOKUP(I956,'[1]Sub Lookup'!$A$1:$B$65536,2,FALSE)","v":"Commissioned Service - Other"}]
["Kent County Council",12019974,"AIDING INDEPENDENCE LTD","2020-04-30",3757.1,"S","5AH","Learning Disability Support - 18 64 Long Term Support: Community: Supported Living","530",{"$f":"VLOOKUP(I957,'[1]Sub Lookup'!$A$1:$B$65536,2,FALSE)","v":"Commissioned Service - Other"}]
["Kent County Council",11979697,"AIR PRODUCTS PLC","2020-04-08",681.1,"K","2RC","Kent Scientific Services","300",{"$f":"VLOOKUP(I958,'[1]Sub Lookup'!$A$1:$B$65536,2,FALSE)","v":"Equipment, Furniture and Materials and Livestock"}]
["Kent County Council",11992471,"AIR PRODUCTS PLC","2020-04-17",513.39,"K","2RC","Kent Scientific Services","300",{"$f":"VLOOKUP(I959,'[1]Sub Lookup'!$A$1:$B$65536,2,FALSE)","v":"Equipment, Furniture and Materials and Livestock"}]
["Kent County Council",11989247,"AIR PRODUCTS PLC","2020-04-17",622.93000000000006,"K","2RC","Kent Scientific Services","300",{"$f":"VLOOKUP(I960,'[1]Sub Lookup'!$A$1:$B$65536,2,FALSE)","v":"Equipment, Furniture and Materials and Livestock"}]
["Kent County Council",11995725,"AIR PRODUCTS PLC","2020-04-21",328.86,"K","2RC","Kent Scientific Services","300",{"$f":"VLOOKUP(I961,'[1]Sub Lookup'!$A$1:$B$65536,2,FALSE)","v":"Equipment, Furniture and Materials and Livestock"}]
["Kent County Council",12005016,"AIR PRODUCTS PLC","2020-04-23",849.92000000000007,"K","2RC","Kent Scientific Services","300",{"$f":"VLOOKUP(I962,'[1]Sub Lookup'!$A$1:$B$65536,2,FALSE)","v":"Equipment, Furniture and Materials and Livestock"}]
["Kent County Council",11992990,"AIRPORT TRAVEL","2020-04-16",300,"E","1RX","Admissions & Transport","222",{"$f":"VLOOKUP(I963,'[1]Sub Lookup'!$A$1:$B$65536,2,FALSE)","v":"Home to School Transport - Hired"}]
["Kent County Council",12008859,"AIRPORTS-PLUS","2020-04-24",1480,"E","1RX","Admissions & Transport","222",{"$f":"VLOOKUP(I964,'[1]Sub Lookup'!$A$1:$B$65536,2,FALSE)","v":"Home to School Transport - Hired"}]
["Kent County Council",12008858,"AIRPORTS-PLUS","2020-04-24",1272.8,"E","1RX","Admissions & Transport","222",{"$f":"VLOOKUP(I965,'[1]Sub Lookup'!$A$1:$B$65536,2,FALSE)","v":"Home to School Transport - Hired"}]
["Kent County Council",12008861,"AIRPORTS-PLUS","2020-04-24",1387.5,"E","1RX","Admissions & Transport","222",{"$f":"VLOOKUP(I966,'[1]Sub Lookup'!$A$1:$B$65536,2,FALSE)","v":"Home to School Transport - Hired"}]
["Kent County Council",12008860,"AIRPORTS-PLUS","2020-04-24",1480,"E","1RX","Admissions & Transport","222",{"$f":"VLOOKUP(I967,'[1]Sub Lookup'!$A$1:$B$65536,2,FALSE)","v":"Home to School Transport - Hired"}]
["Kent County Council",12008862,"AIRPORTS-PLUS","2020-04-24",1757.5,"E","1RX","Admissions & Transport","222",{"$f":"VLOOKUP(I968,'[1]Sub Lookup'!$A$1:$B$65536,2,FALSE)","v":"Home to School Transport - Hired"}]
["Kent County Council",11970296,"AITCH CARE HOMES (LONDON) LTD","2020-04-01",2680.15,"S","5AA","Learning Disability Support - 18 64 Long Term Support: Residential","530",{"$f":"VLOOKUP(I969,'[1]Sub Lookup'!$A$1:$B$65536,2,FALSE)","v":"Commissioned Service - Other"}]
["Kent County Council",11970295,"AITCH CARE HOMES (LONDON) LTD","2020-04-01",3742.9700000000003,"S","9AR","Revenue Balance Sheet","BEA",{"$f":"VLOOKUP(I970,'[1]Sub Lookup'!$A$1:$B$65536,2,FALSE)","v":"Payments in Advance - General"}]
["Kent County Council",11970295,"AITCH CARE HOMES (LONDON) LTD","2020-04-01",1772.99,"S","5AA","Learning Disability Support - 18 64 Long Term Support: Residential","530",{"$f":"VLOOKUP(I971,'[1]Sub Lookup'!$A$1:$B$65536,2,FALSE)","v":"Commissioned Service - Other"}]
["Kent County Council",11970294,"AITCH CARE HOMES (LONDON) LTD","2020-04-01",6301.74,"S","9AR","Revenue Balance Sheet","BEA",{"$f":"VLOOKUP(I972,'[1]Sub Lookup'!$A$1:$B$65536,2,FALSE)","v":"Payments in Advance - General"}]
["Kent County Council",11970294,"AITCH CARE HOMES (LONDON) LTD","2020-04-01",2985.26,"S","5AA","Learning Disability Support - 18 64 Long Term Support: Residential","530",{"$f":"VLOOKUP(I973,'[1]Sub Lookup'!$A$1:$B$65536,2,FALSE)","v":"Commissioned Service - Other"}]
["Kent County Council",11970297,"AITCH CARE HOMES (LONDON) LTD","2020-04-01",3742.9700000000003,"S","9AR","Revenue Balance Sheet","BEA",{"$f":"VLOOKUP(I974,'[1]Sub Lookup'!$A$1:$B$65536,2,FALSE)","v":"Payments in Advance - General"}]
["Kent County Council",11970297,"AITCH CARE HOMES (LONDON) LTD","2020-04-01",1772.99,"S","5AA","Learning Disability Support - 18 64 Long Term Support: Residential","530",{"$f":"VLOOKUP(I975,'[1]Sub Lookup'!$A$1:$B$65536,2,FALSE)","v":"Commissioned Service - Other"}]
["Kent County Council",11967059,"AITCH CARE HOMES (LONDON) LTD","2020-04-01",3018.2400000000002,"S","5XC","Commissioning & Service Delivery","530",{"$f":"VLOOKUP(I976,'[1]Sub Lookup'!$A$1:$B$65536,2,FALSE)","v":"Commissioned Service - Other"}]
["Kent County Council",11967049,"AITCH CARE HOMES (LONDON) LTD","2020-04-01",6598.89,"S","5XC","Commissioning & Service Delivery","530",{"$f":"VLOOKUP(I977,'[1]Sub Lookup'!$A$1:$B$65536,2,FALSE)","v":"Commissioned Service - Other"}]
["Kent County Council",11970303,"AITCH CARE HOMES (LONDON) LTD","2020-04-01",5539.49,"S","9AR","Revenue Balance Sheet","BEA",{"$f":"VLOOKUP(I978,'[1]Sub Lookup'!$A$1:$B$65536,2,FALSE)","v":"Payments in Advance - General"}]
["Kent County Council",11970303,"AITCH CARE HOMES (LONDON) LTD","2020-04-01",2552.75,"S","5AA","Learning Disability Support - 18 64 Long Term Support: Residential","530",{"$f":"VLOOKUP(I979,'[1]Sub Lookup'!$A$1:$B$65536,2,FALSE)","v":"Commissioned Service - Other"}]
["Kent County Council",11970296,"AITCH CARE HOMES (LONDON) LTD","2020-04-01",5893.21,"S","9AR","Revenue Balance Sheet","BEA",{"$f":"VLOOKUP(I980,'[1]Sub Lookup'!$A$1:$B$65536,2,FALSE)","v":"Payments in Advance - General"}]
["Kent County Council",11966315,"AITCH CARE HOMES (LONDON) LTD","2020-04-01",7467.13,"S","5XC","Commissioning & Service Delivery","530",{"$f":"VLOOKUP(I981,'[1]Sub Lookup'!$A$1:$B$65536,2,FALSE)","v":"Commissioned Service - Other"}]
["Kent County Council",11970308,"AITCH CARE HOMES (LONDON) LTD","2020-04-01",1725.06,"S","5AA","Learning Disability Support - 18 64 Long Term Support: Residential","530",{"$f":"VLOOKUP(I982,'[1]Sub Lookup'!$A$1:$B$65536,2,FALSE)","v":"Commissioned Service - Other"}]
["Kent County Council",11970308,"AITCH CARE HOMES (LONDON) LTD","2020-04-01",3791.9,"S","9AR","Revenue Balance Sheet","BEA",{"$f":"VLOOKUP(I983,'[1]Sub Lookup'!$A$1:$B$65536,2,FALSE)","v":"Payments in Advance - General"}]
["Kent County Council",11970309,"AITCH CARE HOMES (LONDON) LTD","2020-04-01",2414.64,"S","5AA","Learning Disability Support - 18 64 Long Term Support: Residential","530",{"$f":"VLOOKUP(I984,'[1]Sub Lookup'!$A$1:$B$65536,2,FALSE)","v":"Commissioned Service - Other"}]
["Kent County Council",11970309,"AITCH CARE HOMES (LONDON) LTD","2020-04-01",5309.4000000000005,"S","9AR","Revenue Balance Sheet","BEA",{"$f":"VLOOKUP(I985,'[1]Sub Lookup'!$A$1:$B$65536,2,FALSE)","v":"Payments in Advance - General"}]
["Kent County Council",11970307,"AITCH CARE HOMES (LONDON) LTD","2020-04-01",2701.9500000000003,"S","5AA","Learning Disability Support - 18 64 Long Term Support: Residential","530",{"$f":"VLOOKUP(I986,'[1]Sub Lookup'!$A$1:$B$65536,2,FALSE)","v":"Commissioned Service - Other"}]
["Kent County Council",11970307,"AITCH CARE HOMES (LONDON) LTD","2020-04-01",8441.17,"S","9AR","Revenue Balance Sheet","BEA",{"$f":"VLOOKUP(I987,'[1]Sub Lookup'!$A$1:$B$65536,2,FALSE)","v":"Payments in Advance - General"}]
["Kent County Council",11966375,"AITCH CARE HOMES (LONDON) LTD","2020-04-01",8404.84,"S","5XC","Commissioning & Service Delivery","530",{"$f":"VLOOKUP(I988,'[1]Sub Lookup'!$A$1:$B$65536,2,FALSE)","v":"Commissioned Service - Other"}]
["Kent County Council",11970312,"AITCH CARE HOMES (LONDON) LTD","2020-04-01",1669.92,"S","5AA","Learning Disability Support - 18 64 Long Term Support: Residential","530",{"$f":"VLOOKUP(I989,'[1]Sub Lookup'!$A$1:$B$65536,2,FALSE)","v":"Commissioned Service - Other"}]
["Kent County Council",11970312,"AITCH CARE HOMES (LONDON) LTD","2020-04-01",3701.92,"S","9AR","Revenue Balance Sheet","BEA",{"$f":"VLOOKUP(I990,'[1]Sub Lookup'!$A$1:$B$65536,2,FALSE)","v":"Payments in Advance - General"}]
["Kent County Council",11966686,"AITCH CARE HOMES (LONDON) LTD","2020-04-01",1335.46,"S","5XC","Commissioning & Service Delivery","530",{"$f":"VLOOKUP(I991,'[1]Sub Lookup'!$A$1:$B$65536,2,FALSE)","v":"Commissioned Service - Other"}]
["Kent County Council",11970302,"AITCH CARE HOMES (LONDON) LTD","2020-04-01",2092.1799999999998,"S","5AA","Learning Disability Support - 18 64 Long Term Support: Residential","530",{"$f":"VLOOKUP(I992,'[1]Sub Lookup'!$A$1:$B$65536,2,FALSE)","v":"Commissioned Service - Other"}]
["Kent County Council",11970302,"AITCH CARE HOMES (LONDON) LTD","2020-04-01",4600.38,"S","9AR","Revenue Balance Sheet","BEA",{"$f":"VLOOKUP(I993,'[1]Sub Lookup'!$A$1:$B$65536,2,FALSE)","v":"Payments in Advance - General"}]
["Kent County Council",11970298,"AITCH CARE HOMES (LONDON) LTD","2020-04-01",2034.76,"S","5AA","Learning Disability Support - 18 64 Long Term Support: Residential","530",{"$f":"VLOOKUP(I994,'[1]Sub Lookup'!$A$1:$B$65536,2,FALSE)","v":"Commissioned Service - Other"}]
["Kent County Council",11970298,"AITCH CARE HOMES (LONDON) LTD","2020-04-01",4474.08,"S","9AR","Revenue Balance Sheet","BEA",{"$f":"VLOOKUP(I995,'[1]Sub Lookup'!$A$1:$B$65536,2,FALSE)","v":"Payments in Advance - General"}]
["Kent County Council",11970299,"AITCH CARE HOMES (LONDON) LTD","2020-04-01",2554.29,"S","5AA","Learning Disability Support - 18 64 Long Term Support: Residential","530",{"$f":"VLOOKUP(I996,'[1]Sub Lookup'!$A$1:$B$65536,2,FALSE)","v":"Commissioned Service - Other"}]
["Kent County Council",11970299,"AITCH CARE HOMES (LONDON) LTD","2020-04-01",5616.47,"S","9AR","Revenue Balance Sheet","BEA",{"$f":"VLOOKUP(I997,'[1]Sub Lookup'!$A$1:$B$65536,2,FALSE)","v":"Payments in Advance - General"}]
["Kent County Council",11970300,"AITCH CARE HOMES (LONDON) LTD","2020-04-01",1976.5900000000001,"S","5AA","Learning Disability Support - 18 64 Long Term Support: Residential","530",{"$f":"VLOOKUP(I998,'[1]Sub Lookup'!$A$1:$B$65536,2,FALSE)","v":"Commissioned Service - Other"}]
["Kent County Council",11970300,"AITCH CARE HOMES (LONDON) LTD","2020-04-01",4346.21,"S","9AR","Revenue Balance Sheet","BEA",{"$f":"VLOOKUP(I999,'[1]Sub Lookup'!$A$1:$B$65536,2,FALSE)","v":"Payments in Advance - General"}]
["Kent County Council",11970301,"AITCH CARE HOMES (LONDON) LTD","2020-04-01",1977.8,"S","5AA","Learning Disability Support - 18 64 Long Term Support: Residential","530",{"$f":"VLOOKUP(I1000,'[1]Sub Lookup'!$A$1:$B$65536,2,FALSE)","v":"Commissioned Service - Other"}]
["Kent County Council",11970301,"AITCH CARE HOMES (LONDON) LTD","2020-04-01",4175.4400000000005,"S","9AR","Revenue Balance Sheet","BEA",{"$f":"VLOOKUP(I1001,'[1]Sub Lookup'!$A$1:$B$65536,2,FALSE)","v":"Payments in Advance - General"}]
["Kent County Council",11967203,"AITCH CARE HOMES (LONDON) LTD","2020-04-01",9028.26,"S","5XC","Commissioning & Service Delivery","530",{"$f":"VLOOKUP(I1002,'[1]Sub Lookup'!$A$1:$B$65536,2,FALSE)","v":"Commissioned Service - Other"}]
["Kent County Council",11970313,"AITCH CARE HOMES (LONDON) LTD","2020-04-01",2748.86,"S","5AA","Learning Disability Support - 18 64 Long Term Support: Residential","530",{"$f":"VLOOKUP(I1003,'[1]Sub Lookup'!$A$1:$B$65536,2,FALSE)","v":"Commissioned Service - Other"}]
["Kent County Council",11970305,"AITCH CARE HOMES (LONDON) LTD","2020-04-01",5158.07,"S","9AR","Revenue Balance Sheet","BEA",{"$f":"VLOOKUP(I1004,'[1]Sub Lookup'!$A$1:$B$65536,2,FALSE)","v":"Payments in Advance - General"}]
["Kent County Council",11970305,"AITCH CARE HOMES (LONDON) LTD","2020-04-01",2345.81,"S","5AA","Learning Disability Support - 18 64 Long Term Support: Residential","530",{"$f":"VLOOKUP(I1005,'[1]Sub Lookup'!$A$1:$B$65536,2,FALSE)","v":"Commissioned Service - Other"}]
["Kent County Council",11970304,"AITCH CARE HOMES (LONDON) LTD","2020-04-01",5160.63,"S","9AR","Revenue Balance Sheet","BEA",{"$f":"VLOOKUP(I1006,'[1]Sub Lookup'!$A$1:$B$65536,2,FALSE)","v":"Payments in Advance - General"}]
["Kent County Council",11970304,"AITCH CARE HOMES (LONDON) LTD","2020-04-01",2397.77,"S","5AA","Learning Disability Support - 18 64 Long Term Support: Residential","530",{"$f":"VLOOKUP(I1007,'[1]Sub Lookup'!$A$1:$B$65536,2,FALSE)","v":"Commissioned Service - Other"}]
["Kent County Council",11966871,"AITCH CARE HOMES (LONDON) LTD","2020-04-01",3269.05,"S","5XC","Commissioning & Service Delivery","530",{"$f":"VLOOKUP(I1008,'[1]Sub Lookup'!$A$1:$B$65536,2,FALSE)","v":"Commissioned Service - Other"}]
["Kent County Council",11970306,"AITCH CARE HOMES (LONDON) LTD","2020-04-01",4201.4400000000005,"S","9AR","Revenue Balance Sheet","BEA",{"$f":"VLOOKUP(I1009,'[1]Sub Lookup'!$A$1:$B$65536,2,FALSE)","v":"Payments in Advance - General"}]
["Kent County Council",11970306,"AITCH CARE HOMES (LONDON) LTD","2020-04-01",1990.16,"S","5AU","Learning Disability Support - 18 64 Short Term - Other - Residential","530",{"$f":"VLOOKUP(I1010,'[1]Sub Lookup'!$A$1:$B$65536,2,FALSE)","v":"Commissioned Service - Other"}]
["Kent County Council",11970293,"AITCH CARE HOMES (LONDON) LTD","2020-04-01",4732.3900000000003,"S","9AR","Revenue Balance Sheet","BEA",{"$f":"VLOOKUP(I1011,'[1]Sub Lookup'!$A$1:$B$65536,2,FALSE)","v":"Payments in Advance - General"}]
["Kent County Council",11970293,"AITCH CARE HOMES (LONDON) LTD","2020-04-01",2152.21,"S","5AA","Learning Disability Support - 18 64 Long Term Support: Residential","530",{"$f":"VLOOKUP(I1012,'[1]Sub Lookup'!$A$1:$B$65536,2,FALSE)","v":"Commissioned Service - Other"}]
["Kent County Council",11966892,"AITCH CARE HOMES (LONDON) LTD","2020-04-01",3137.48,"S","5XC","Commissioning & Service Delivery","530",{"$f":"VLOOKUP(I1013,'[1]Sub Lookup'!$A$1:$B$65536,2,FALSE)","v":"Commissioned Service - Other"}]
["Kent County Council",11967214,"AITCH CARE HOMES (LONDON) LTD","2020-04-01",2198.29,"S","5XC","Commissioning & Service Delivery","530",{"$f":"VLOOKUP(I1014,'[1]Sub Lookup'!$A$1:$B$65536,2,FALSE)","v":"Commissioned Service - Other"}]
["Kent County Council",11970313,"AITCH CARE HOMES (LONDON) LTD","2020-04-01",6044.3,"S","9AR","Revenue Balance Sheet","BEA",{"$f":"VLOOKUP(I1015,'[1]Sub Lookup'!$A$1:$B$65536,2,FALSE)","v":"Payments in Advance - General"}]
["Kent County Council",11973755,"AITCH CARE HOMES (LONDON) LTD","2020-04-03",5195.32,"S","5AA","Learning Disability Support - 18 64 Long Term Support: Residential","530",{"$f":"VLOOKUP(I1016,'[1]Sub Lookup'!$A$1:$B$65536,2,FALSE)","v":"Commissioned Service - Other"}]
["Kent County Council",11973754,"AITCH CARE HOMES (LONDON) LTD","2020-04-03",5341.84,"S","5AA","Learning Disability Support - 18 64 Long Term Support: Residential","530",{"$f":"VLOOKUP(I1017,'[1]Sub Lookup'!$A$1:$B$65536,2,FALSE)","v":"Commissioned Service - Other"}]
["Kent County Council",11973753,"AITCH CARE HOMES (LONDON) LTD","2020-04-03",5341.84,"S","5AA","Learning Disability Support - 18 64 Long Term Support: Residential","530",{"$f":"VLOOKUP(I1018,'[1]Sub Lookup'!$A$1:$B$65536,2,FALSE)","v":"Commissioned Service - Other"}]
["Kent County Council",11973757,"AITCH CARE HOMES (LONDON) LTD","2020-04-03",1538.46,"S","5AA","Learning Disability Support - 18 64 Long Term Support: Residential","530",{"$f":"VLOOKUP(I1019,'[1]Sub Lookup'!$A$1:$B$65536,2,FALSE)","v":"Commissioned Service - Other"}]
["Kent County Council",11973756,"AITCH CARE HOMES (LONDON) LTD","2020-04-03",5195.32,"S","5AA","Learning Disability Support - 18 64 Long Term Support: Residential","530",{"$f":"VLOOKUP(I1020,'[1]Sub Lookup'!$A$1:$B$65536,2,FALSE)","v":"Commissioned Service - Other"}]
["Kent County Council",11973742,"AITCH CARE HOMES (LONDON) LTD","2020-04-03",6841.16,"S","5AA","Learning Disability Support - 18 64 Long Term Support: Residential","530",{"$f":"VLOOKUP(I1021,'[1]Sub Lookup'!$A$1:$B$65536,2,FALSE)","v":"Commissioned Service - Other"}]
["Kent County Council",11973741,"AITCH CARE HOMES (LONDON) LTD","2020-04-03",7034.08,"S","5AA","Learning Disability Support - 18 64 Long Term Support: Residential","530",{"$f":"VLOOKUP(I1022,'[1]Sub Lookup'!$A$1:$B$65536,2,FALSE)","v":"Commissioned Service - Other"}]
["Kent County Council",11973740,"AITCH CARE HOMES (LONDON) LTD","2020-04-03",7034.08,"S","5AA","Learning Disability Support - 18 64 Long Term Support: Residential","530",{"$f":"VLOOKUP(I1023,'[1]Sub Lookup'!$A$1:$B$65536,2,FALSE)","v":"Commissioned Service - Other"}]
["Kent County Council",11973747,"AITCH CARE HOMES (LONDON) LTD","2020-04-03",2025.66,"S","5AA","Learning Disability Support - 18 64 Long Term Support: Residential","530",{"$f":"VLOOKUP(I1024,'[1]Sub Lookup'!$A$1:$B$65536,2,FALSE)","v":"Commissioned Service - Other"}]
["Kent County Council",11973743,"AITCH CARE HOMES (LONDON) LTD","2020-04-03",6841.16,"S","5AA","Learning Disability Support - 18 64 Long Term Support: Residential","530",{"$f":"VLOOKUP(I1025,'[1]Sub Lookup'!$A$1:$B$65536,2,FALSE)","v":"Commissioned Service - Other"}]
["Kent County Council",11973751,"AITCH CARE HOMES (LONDON) LTD","2020-04-03",8552,"S","5AA","Learning Disability Support - 18 64 Long Term Support: Residential","530",{"$f":"VLOOKUP(I1026,'[1]Sub Lookup'!$A$1:$B$65536,2,FALSE)","v":"Commissioned Service - Other"}]
["Kent County Council",11973749,"AITCH CARE HOMES (LONDON) LTD","2020-04-03",8793.16,"S","5AA","Learning Disability Support - 18 64 Long Term Support: Residential","530",{"$f":"VLOOKUP(I1027,'[1]Sub Lookup'!$A$1:$B$65536,2,FALSE)","v":"Commissioned Service - Other"}]
["Kent County Council",11973748,"AITCH CARE HOMES (LONDON) LTD","2020-04-03",8793.16,"S","5AA","Learning Disability Support - 18 64 Long Term Support: Residential","530",{"$f":"VLOOKUP(I1028,'[1]Sub Lookup'!$A$1:$B$65536,2,FALSE)","v":"Commissioned Service - Other"}]
["Kent County Council",11973750,"AITCH CARE HOMES (LONDON) LTD","2020-04-03",2532.1799999999998,"S","5AA","Learning Disability Support - 18 64 Long Term Support: Residential","530",{"$f":"VLOOKUP(I1029,'[1]Sub Lookup'!$A$1:$B$65536,2,FALSE)","v":"Commissioned Service - Other"}]
["Kent County Council",11973752,"AITCH CARE HOMES (LONDON) LTD","2020-04-03",8552,"S","5AA","Learning Disability Support - 18 64 Long Term Support: Residential","530",{"$f":"VLOOKUP(I1030,'[1]Sub Lookup'!$A$1:$B$65536,2,FALSE)","v":"Commissioned Service - Other"}]
["Kent County Council",11973744,"AITCH CARE HOMES (LONDON) LTD","2020-04-03",6484.72,"S","5JA","Physical Support - 18 64 Long Term Support: Residential","530",{"$f":"VLOOKUP(I1031,'[1]Sub Lookup'!$A$1:$B$65536,2,FALSE)","v":"Commissioned Service - Other"}]
["Kent County Council",11973745,"AITCH CARE HOMES (LONDON) LTD","2020-04-03",6484.72,"S","5JA","Physical Support - 18 64 Long Term Support: Residential","530",{"$f":"VLOOKUP(I1032,'[1]Sub Lookup'!$A$1:$B$65536,2,FALSE)","v":"Commissioned Service - Other"}]
["Kent County Council",11973746,"AITCH CARE HOMES (LONDON) LTD","2020-04-03",6667.6,"S","5JA","Physical Support - 18 64 Long Term Support: Residential","530",{"$f":"VLOOKUP(I1033,'[1]Sub Lookup'!$A$1:$B$65536,2,FALSE)","v":"Commissioned Service - Other"}]
["Kent County Council",11982098,"AITCH CARE HOMES (LONDON) LTD","2020-04-08",5514.52,"S","5AA","Learning Disability Support - 18 64 Long Term Support: Residential","530",{"$f":"VLOOKUP(I1034,'[1]Sub Lookup'!$A$1:$B$65536,2,FALSE)","v":"Commissioned Service - Other"}]
["Kent County Council",11982104,"AITCH CARE HOMES (LONDON) LTD","2020-04-08",6280.04,"S","5AA","Learning Disability Support - 18 64 Long Term Support: Residential","530",{"$f":"VLOOKUP(I1035,'[1]Sub Lookup'!$A$1:$B$65536,2,FALSE)","v":"Commissioned Service - Other"}]
["Kent County Council",11970311,"AITCH CARE HOMES (LONDON) LTD","2020-04-09",6280.04,"S","9AR","Revenue Balance Sheet","BEA",{"$f":"VLOOKUP(I1036,'[1]Sub Lookup'!$A$1:$B$65536,2,FALSE)","v":"Payments in Advance - General"}]
["Kent County Council",11970310,"AITCH CARE HOMES (LONDON) LTD","2020-04-09",5514.52,"S","9AR","Revenue Balance Sheet","BEA",{"$f":"VLOOKUP(I1037,'[1]Sub Lookup'!$A$1:$B$65536,2,FALSE)","v":"Payments in Advance - General"}]
["Kent County Council",11992776,"AITCH CARE HOMES (LONDON) LTD","2020-04-15",7016.6,"S","5AA","Learning Disability Support - 18 64 Long Term Support: Residential","530",{"$f":"VLOOKUP(I1038,'[1]Sub Lookup'!$A$1:$B$65536,2,FALSE)","v":"Commissioned Service - Other"}]
["Kent County Council",11992784,"AITCH CARE HOMES (LONDON) LTD","2020-04-15",7016.6,"S","5AA","Learning Disability Support - 18 64 Long Term Support: Residential","530",{"$f":"VLOOKUP(I1039,'[1]Sub Lookup'!$A$1:$B$65536,2,FALSE)","v":"Commissioned Service - Other"}]
["Kent County Council",11992783,"AITCH CARE HOMES (LONDON) LTD","2020-04-15",7016.6,"S","5AA","Learning Disability Support - 18 64 Long Term Support: Residential","530",{"$f":"VLOOKUP(I1040,'[1]Sub Lookup'!$A$1:$B$65536,2,FALSE)","v":"Commissioned Service - Other"}]
["Kent County Council",11992782,"AITCH CARE HOMES (LONDON) LTD","2020-04-15",7016.6,"S","5AA","Learning Disability Support - 18 64 Long Term Support: Residential","530",{"$f":"VLOOKUP(I1041,'[1]Sub Lookup'!$A$1:$B$65536,2,FALSE)","v":"Commissioned Service - Other"}]
["Kent County Council",11992791,"AITCH CARE HOMES (LONDON) LTD","2020-04-15",-13265.5,"S","5AA","Learning Disability Support - 18 64 Long Term Support: Residential","530",{"$f":"VLOOKUP(I1042,'[1]Sub Lookup'!$A$1:$B$65536,2,FALSE)","v":"Commissioned Service - Other"}]
["Kent County Council",11992786,"AITCH CARE HOMES (LONDON) LTD","2020-04-15",2077.7400000000002,"S","5AA","Learning Disability Support - 18 64 Long Term Support: Residential","530",{"$f":"VLOOKUP(I1043,'[1]Sub Lookup'!$A$1:$B$65536,2,FALSE)","v":"Commissioned Service - Other"}]
["Kent County Council",11992781,"AITCH CARE HOMES (LONDON) LTD","2020-04-15",7016.6,"S","5AA","Learning Disability Support - 18 64 Long Term Support: Residential","530",{"$f":"VLOOKUP(I1044,'[1]Sub Lookup'!$A$1:$B$65536,2,FALSE)","v":"Commissioned Service - Other"}]
["Kent County Council",11992780,"AITCH CARE HOMES (LONDON) LTD","2020-04-15",7016.6,"S","5AA","Learning Disability Support - 18 64 Long Term Support: Residential","530",{"$f":"VLOOKUP(I1045,'[1]Sub Lookup'!$A$1:$B$65536,2,FALSE)","v":"Commissioned Service - Other"}]
["Kent County Council",11992779,"AITCH CARE HOMES (LONDON) LTD","2020-04-15",7016.6,"S","5AA","Learning Disability Support - 18 64 Long Term Support: Residential","530",{"$f":"VLOOKUP(I1046,'[1]Sub Lookup'!$A$1:$B$65536,2,FALSE)","v":"Commissioned Service - Other"}]
["Kent County Council",11992778,"AITCH CARE HOMES (LONDON) LTD","2020-04-15",7016.6,"S","5AA","Learning Disability Support - 18 64 Long Term Support: Residential","530",{"$f":"VLOOKUP(I1047,'[1]Sub Lookup'!$A$1:$B$65536,2,FALSE)","v":"Commissioned Service - Other"}]
["Kent County Council",11992777,"AITCH CARE HOMES (LONDON) LTD","2020-04-15",7016.6,"S","5AA","Learning Disability Support - 18 64 Long Term Support: Residential","530",{"$f":"VLOOKUP(I1048,'[1]Sub Lookup'!$A$1:$B$65536,2,FALSE)","v":"Commissioned Service - Other"}]
["Kent County Council",11992788,"AITCH CARE HOMES (LONDON) LTD","2020-04-15",7016.6,"S","5AA","Learning Disability Support - 18 64 Long Term Support: Residential","530",{"$f":"VLOOKUP(I1049,'[1]Sub Lookup'!$A$1:$B$65536,2,FALSE)","v":"Commissioned Service - Other"}]
["Kent County Council",11992787,"AITCH CARE HOMES (LONDON) LTD","2020-04-15",7016.6,"S","5AA","Learning Disability Support - 18 64 Long Term Support: Residential","530",{"$f":"VLOOKUP(I1050,'[1]Sub Lookup'!$A$1:$B$65536,2,FALSE)","v":"Commissioned Service - Other"}]
["Kent County Council",11992785,"AITCH CARE HOMES (LONDON) LTD","2020-04-15",7016.6,"S","5AA","Learning Disability Support - 18 64 Long Term Support: Residential","530",{"$f":"VLOOKUP(I1051,'[1]Sub Lookup'!$A$1:$B$65536,2,FALSE)","v":"Commissioned Service - Other"}]
["Kent County Council",11992809,"AITCH CARE HOMES (LONDON) LTD","2020-04-15",7298.08,"S","5AA","Learning Disability Support - 18 64 Long Term Support: Residential","530",{"$f":"VLOOKUP(I1052,'[1]Sub Lookup'!$A$1:$B$65536,2,FALSE)","v":"Commissioned Service - Other"}]
["Kent County Council",11992808,"AITCH CARE HOMES (LONDON) LTD","2020-04-15",7298.08,"S","5AA","Learning Disability Support - 18 64 Long Term Support: Residential","530",{"$f":"VLOOKUP(I1053,'[1]Sub Lookup'!$A$1:$B$65536,2,FALSE)","v":"Commissioned Service - Other"}]
["Kent County Council",11992811,"AITCH CARE HOMES (LONDON) LTD","2020-04-15",2160.9,"S","5AA","Learning Disability Support - 18 64 Long Term Support: Residential","530",{"$f":"VLOOKUP(I1054,'[1]Sub Lookup'!$A$1:$B$65536,2,FALSE)","v":"Commissioned Service - Other"}]
["Kent County Council",11992813,"AITCH CARE HOMES (LONDON) LTD","2020-04-15",7298.08,"S","5AA","Learning Disability Support - 18 64 Long Term Support: Residential","530",{"$f":"VLOOKUP(I1055,'[1]Sub Lookup'!$A$1:$B$65536,2,FALSE)","v":"Commissioned Service - Other"}]
["Kent County Council",11992812,"AITCH CARE HOMES (LONDON) LTD","2020-04-15",7298.08,"S","5AA","Learning Disability Support - 18 64 Long Term Support: Residential","530",{"$f":"VLOOKUP(I1056,'[1]Sub Lookup'!$A$1:$B$65536,2,FALSE)","v":"Commissioned Service - Other"}]
["Kent County Council",11992810,"AITCH CARE HOMES (LONDON) LTD","2020-04-15",7298.08,"S","5AA","Learning Disability Support - 18 64 Long Term Support: Residential","530",{"$f":"VLOOKUP(I1057,'[1]Sub Lookup'!$A$1:$B$65536,2,FALSE)","v":"Commissioned Service - Other"}]
["Kent County Council",11992803,"AITCH CARE HOMES (LONDON) LTD","2020-04-15",6330.32,"S","5AA","Learning Disability Support - 18 64 Long Term Support: Residential","530",{"$f":"VLOOKUP(I1058,'[1]Sub Lookup'!$A$1:$B$65536,2,FALSE)","v":"Commissioned Service - Other"}]
["Kent County Council",11992802,"AITCH CARE HOMES (LONDON) LTD","2020-04-15",6330.32,"S","5AA","Learning Disability Support - 18 64 Long Term Support: Residential","530",{"$f":"VLOOKUP(I1059,'[1]Sub Lookup'!$A$1:$B$65536,2,FALSE)","v":"Commissioned Service - Other"}]
["Kent County Council",11992805,"AITCH CARE HOMES (LONDON) LTD","2020-04-15",1874.46,"S","5AA","Learning Disability Support - 18 64 Long Term Support: Residential","530",{"$f":"VLOOKUP(I1060,'[1]Sub Lookup'!$A$1:$B$65536,2,FALSE)","v":"Commissioned Service - Other"}]
["Kent County Council",11992807,"AITCH CARE HOMES (LONDON) LTD","2020-04-15",6508.84,"S","5AA","Learning Disability Support - 18 64 Long Term Support: Residential","530",{"$f":"VLOOKUP(I1061,'[1]Sub Lookup'!$A$1:$B$65536,2,FALSE)","v":"Commissioned Service - Other"}]
["Kent County Council",11992806,"AITCH CARE HOMES (LONDON) LTD","2020-04-15",6508.84,"S","5AA","Learning Disability Support - 18 64 Long Term Support: Residential","530",{"$f":"VLOOKUP(I1062,'[1]Sub Lookup'!$A$1:$B$65536,2,FALSE)","v":"Commissioned Service - Other"}]
["Kent County Council",11992804,"AITCH CARE HOMES (LONDON) LTD","2020-04-15",6330.32,"S","5AA","Learning Disability Support - 18 64 Long Term Support: Residential","530",{"$f":"VLOOKUP(I1063,'[1]Sub Lookup'!$A$1:$B$65536,2,FALSE)","v":"Commissioned Service - Other"}]
["Kent County Council",11992815,"AITCH CARE HOMES (LONDON) LTD","2020-04-15",7946.68,"S","5AA","Learning Disability Support - 18 64 Long Term Support: Residential","530",{"$f":"VLOOKUP(I1064,'[1]Sub Lookup'!$A$1:$B$65536,2,FALSE)","v":"Commissioned Service - Other"}]
["Kent County Council",11992814,"AITCH CARE HOMES (LONDON) LTD","2020-04-15",7946.68,"S","5AA","Learning Disability Support - 18 64 Long Term Support: Residential","530",{"$f":"VLOOKUP(I1065,'[1]Sub Lookup'!$A$1:$B$65536,2,FALSE)","v":"Commissioned Service - Other"}]
["Kent County Council",11992817,"AITCH CARE HOMES (LONDON) LTD","2020-04-15",2352.84,"S","5AA","Learning Disability Support - 18 64 Long Term Support: Residential","530",{"$f":"VLOOKUP(I1066,'[1]Sub Lookup'!$A$1:$B$65536,2,FALSE)","v":"Commissioned Service - Other"}]
["Kent County Council",11992819,"AITCH CARE HOMES (LONDON) LTD","2020-04-15",8170.52,"S","5AA","Learning Disability Support - 18 64 Long Term Support: Residential","530",{"$f":"VLOOKUP(I1067,'[1]Sub Lookup'!$A$1:$B$65536,2,FALSE)","v":"Commissioned Service - Other"}]
["Kent County Council",11992818,"AITCH CARE HOMES (LONDON) LTD","2020-04-15",8170.52,"S","5AA","Learning Disability Support - 18 64 Long Term Support: Residential","530",{"$f":"VLOOKUP(I1068,'[1]Sub Lookup'!$A$1:$B$65536,2,FALSE)","v":"Commissioned Service - Other"}]
["Kent County Council",11992816,"AITCH CARE HOMES (LONDON) LTD","2020-04-15",7946.68,"S","5AA","Learning Disability Support - 18 64 Long Term Support: Residential","530",{"$f":"VLOOKUP(I1069,'[1]Sub Lookup'!$A$1:$B$65536,2,FALSE)","v":"Commissioned Service - Other"}]
["Kent County Council",11992821,"AITCH CARE HOMES (LONDON) LTD","2020-04-15",6149.4000000000005,"S","5AA","Learning Disability Support - 18 64 Long Term Support: Residential","530",{"$f":"VLOOKUP(I1070,'[1]Sub Lookup'!$A$1:$B$65536,2,FALSE)","v":"Commissioned Service - Other"}]
["Kent County Council",11992820,"AITCH CARE HOMES (LONDON) LTD","2020-04-15",6149.4000000000005,"S","5AA","Learning Disability Support - 18 64 Long Term Support: Residential","530",{"$f":"VLOOKUP(I1071,'[1]Sub Lookup'!$A$1:$B$65536,2,FALSE)","v":"Commissioned Service - Other"}]
["Kent County Council",11992823,"AITCH CARE HOMES (LONDON) LTD","2020-04-15",1820.7,"S","5AA","Learning Disability Support - 18 64 Long Term Support: Residential","530",{"$f":"VLOOKUP(I1072,'[1]Sub Lookup'!$A$1:$B$65536,2,FALSE)","v":"Commissioned Service - Other"}]
["Kent County Council",11992825,"AITCH CARE HOMES (LONDON) LTD","2020-04-15",6322.8,"S","5AA","Learning Disability Support - 18 64 Long Term Support: Residential","530",{"$f":"VLOOKUP(I1073,'[1]Sub Lookup'!$A$1:$B$65536,2,FALSE)","v":"Commissioned Service - Other"}]
["Kent County Council",11992824,"AITCH CARE HOMES (LONDON) LTD","2020-04-15",6149.4000000000005,"S","5AA","Learning Disability Support - 18 64 Long Term Support: Residential","530",{"$f":"VLOOKUP(I1074,'[1]Sub Lookup'!$A$1:$B$65536,2,FALSE)","v":"Commissioned Service - Other"}]
["Kent County Council",11992822,"AITCH CARE HOMES (LONDON) LTD","2020-04-15",6149.4000000000005,"S","5AA","Learning Disability Support - 18 64 Long Term Support: Residential","530",{"$f":"VLOOKUP(I1075,'[1]Sub Lookup'!$A$1:$B$65536,2,FALSE)","v":"Commissioned Service - Other"}]
["Kent County Council",11992789,"AITCH CARE HOMES (LONDON) LTD","2020-04-15",-8246.0400000000009,"S","5AA","Learning Disability Support - 18 64 Long Term Support: Residential","530",{"$f":"VLOOKUP(I1076,'[1]Sub Lookup'!$A$1:$B$65536,2,FALSE)","v":"Commissioned Service - Other"}]
["Kent County Council",11992790,"AITCH CARE HOMES (LONDON) LTD","2020-04-15",-13417.56,"S","5AA","Learning Disability Support - 18 64 Long Term Support: Residential","530",{"$f":"VLOOKUP(I1077,'[1]Sub Lookup'!$A$1:$B$65536,2,FALSE)","v":"Commissioned Service - Other"}]
["Kent County Council",11994562,"AITCH CARE HOMES (LONDON) LTD","2020-04-17",8406.08,"S","5AA","Learning Disability Support - 18 64 Long Term Support: Residential","530",{"$f":"VLOOKUP(I1078,'[1]Sub Lookup'!$A$1:$B$65536,2,FALSE)","v":"Commissioned Service - Other"}]
["Kent County Council",11994563,"AITCH CARE HOMES (LONDON) LTD","2020-04-17",8406.08,"S","5AA","Learning Disability Support - 18 64 Long Term Support: Residential","530",{"$f":"VLOOKUP(I1079,'[1]Sub Lookup'!$A$1:$B$65536,2,FALSE)","v":"Commissioned Service - Other"}]
["Kent County Council",11994564,"AITCH CARE HOMES (LONDON) LTD","2020-04-17",8643.1200000000008,"S","5AA","Learning Disability Support - 18 64 Long Term Support: Residential","530",{"$f":"VLOOKUP(I1080,'[1]Sub Lookup'!$A$1:$B$65536,2,FALSE)","v":"Commissioned Service - Other"}]
["Kent County Council",11994566,"AITCH CARE HOMES (LONDON) LTD","2020-04-17",8643.1200000000008,"S","5AA","Learning Disability Support - 18 64 Long Term Support: Residential","530",{"$f":"VLOOKUP(I1081,'[1]Sub Lookup'!$A$1:$B$65536,2,FALSE)","v":"Commissioned Service - Other"}]
["Kent County Council",11994567,"AITCH CARE HOMES (LONDON) LTD","2020-04-17",-11143.12,"S","5AA","Learning Disability Support - 18 64 Long Term Support: Residential","530",{"$f":"VLOOKUP(I1082,'[1]Sub Lookup'!$A$1:$B$65536,2,FALSE)","v":"Commissioned Service - Other"}]
["Kent County Council",11994565,"AITCH CARE HOMES (LONDON) LTD","2020-04-17",8643.1200000000008,"S","5AA","Learning Disability Support - 18 64 Long Term Support: Residential","530",{"$f":"VLOOKUP(I1083,'[1]Sub Lookup'!$A$1:$B$65536,2,FALSE)","v":"Commissioned Service - Other"}]
["Kent County Council",11994558,"AITCH CARE HOMES (LONDON) LTD","2020-04-17",6695.76,"S","5AA","Learning Disability Support - 18 64 Long Term Support: Residential","530",{"$f":"VLOOKUP(I1084,'[1]Sub Lookup'!$A$1:$B$65536,2,FALSE)","v":"Commissioned Service - Other"}]
["Kent County Council",11994560,"AITCH CARE HOMES (LONDON) LTD","2020-04-17",6884.6,"S","5AA","Learning Disability Support - 18 64 Long Term Support: Residential","530",{"$f":"VLOOKUP(I1085,'[1]Sub Lookup'!$A$1:$B$65536,2,FALSE)","v":"Commissioned Service - Other"}]
["Kent County Council",11994561,"AITCH CARE HOMES (LONDON) LTD","2020-04-17",6884.6,"S","5AA","Learning Disability Support - 18 64 Long Term Support: Residential","530",{"$f":"VLOOKUP(I1086,'[1]Sub Lookup'!$A$1:$B$65536,2,FALSE)","v":"Commissioned Service - Other"}]
["Kent County Council",11994559,"AITCH CARE HOMES (LONDON) LTD","2020-04-17",1982.82,"S","5AA","Learning Disability Support - 18 64 Long Term Support: Residential","530",{"$f":"VLOOKUP(I1087,'[1]Sub Lookup'!$A$1:$B$65536,2,FALSE)","v":"Commissioned Service - Other"}]
["Kent County Council",11994556,"AITCH CARE HOMES (LONDON) LTD","2020-04-17",6695.76,"S","5AA","Learning Disability Support - 18 64 Long Term Support: Residential","530",{"$f":"VLOOKUP(I1088,'[1]Sub Lookup'!$A$1:$B$65536,2,FALSE)","v":"Commissioned Service - Other"}]
["Kent County Council",11994557,"AITCH CARE HOMES (LONDON) LTD","2020-04-17",6695.76,"S","5AA","Learning Disability Support - 18 64 Long Term Support: Residential","530",{"$f":"VLOOKUP(I1089,'[1]Sub Lookup'!$A$1:$B$65536,2,FALSE)","v":"Commissioned Service - Other"}]
["Kent County Council",11998148,"AITCH CARE HOMES (LONDON) LTD","2020-04-20",8573.36,"S","5AA","Learning Disability Support - 18 64 Long Term Support: Residential","530",{"$f":"VLOOKUP(I1090,'[1]Sub Lookup'!$A$1:$B$65536,2,FALSE)","v":"Commissioned Service - Other"}]
["Kent County Council",11998147,"AITCH CARE HOMES (LONDON) LTD","2020-04-20",2468.7600000000002,"S","5AA","Learning Disability Support - 18 64 Long Term Support: Residential","530",{"$f":"VLOOKUP(I1091,'[1]Sub Lookup'!$A$1:$B$65536,2,FALSE)","v":"Commissioned Service - Other"}]
["Kent County Council",11998145,"AITCH CARE HOMES (LONDON) LTD","2020-04-20",8338.24,"S","5AA","Learning Disability Support - 18 64 Long Term Support: Residential","530",{"$f":"VLOOKUP(I1092,'[1]Sub Lookup'!$A$1:$B$65536,2,FALSE)","v":"Commissioned Service - Other"}]
["Kent County Council",11997867,"AITCH CARE HOMES (LONDON) LTD","2020-04-20",5364.68,"S","5AA","Learning Disability Support - 18 64 Long Term Support: Residential","530",{"$f":"VLOOKUP(I1093,'[1]Sub Lookup'!$A$1:$B$65536,2,FALSE)","v":"Commissioned Service - Other"}]
["Kent County Council",11997869,"AITCH CARE HOMES (LONDON) LTD","2020-04-20",5515.96,"S","5AA","Learning Disability Support - 18 64 Long Term Support: Residential","530",{"$f":"VLOOKUP(I1094,'[1]Sub Lookup'!$A$1:$B$65536,2,FALSE)","v":"Commissioned Service - Other"}]
["Kent County Council",11997870,"AITCH CARE HOMES (LONDON) LTD","2020-04-20",5515.96,"S","5AA","Learning Disability Support - 18 64 Long Term Support: Residential","530",{"$f":"VLOOKUP(I1095,'[1]Sub Lookup'!$A$1:$B$65536,2,FALSE)","v":"Commissioned Service - Other"}]
["Kent County Council",11997868,"AITCH CARE HOMES (LONDON) LTD","2020-04-20",1588.44,"S","5AA","Learning Disability Support - 18 64 Long Term Support: Residential","530",{"$f":"VLOOKUP(I1096,'[1]Sub Lookup'!$A$1:$B$65536,2,FALSE)","v":"Commissioned Service - Other"}]
["Kent County Council",11997865,"AITCH CARE HOMES (LONDON) LTD","2020-04-20",5364.68,"S","5AA","Learning Disability Support - 18 64 Long Term Support: Residential","530",{"$f":"VLOOKUP(I1097,'[1]Sub Lookup'!$A$1:$B$65536,2,FALSE)","v":"Commissioned Service - Other"}]
["Kent County Council",11997866,"AITCH CARE HOMES (LONDON) LTD","2020-04-20",5364.68,"S","5AA","Learning Disability Support - 18 64 Long Term Support: Residential","530",{"$f":"VLOOKUP(I1098,'[1]Sub Lookup'!$A$1:$B$65536,2,FALSE)","v":"Commissioned Service - Other"}]
["Kent County Council",11997840,"AITCH CARE HOMES (LONDON) LTD","2020-04-20",9287,"S","5AA","Learning Disability Support - 18 64 Long Term Support: Residential","530",{"$f":"VLOOKUP(I1099,'[1]Sub Lookup'!$A$1:$B$65536,2,FALSE)","v":"Commissioned Service - Other"}]
["Kent County Council",11997844,"AITCH CARE HOMES (LONDON) LTD","2020-04-20",5364.68,"S","5AA","Learning Disability Support - 18 64 Long Term Support: Residential","530",{"$f":"VLOOKUP(I1100,'[1]Sub Lookup'!$A$1:$B$65536,2,FALSE)","v":"Commissioned Service - Other"}]
["Kent County Council",11997846,"AITCH CARE HOMES (LONDON) LTD","2020-04-20",5515.96,"S","5AA","Learning Disability Support - 18 64 Long Term Support: Residential","530",{"$f":"VLOOKUP(I1101,'[1]Sub Lookup'!$A$1:$B$65536,2,FALSE)","v":"Commissioned Service - Other"}]
["Kent County Council",11997847,"AITCH CARE HOMES (LONDON) LTD","2020-04-20",5515.96,"S","5AA","Learning Disability Support - 18 64 Long Term Support: Residential","530",{"$f":"VLOOKUP(I1102,'[1]Sub Lookup'!$A$1:$B$65536,2,FALSE)","v":"Commissioned Service - Other"}]
["Kent County Council",11997845,"AITCH CARE HOMES (LONDON) LTD","2020-04-20",1588.44,"S","5AA","Learning Disability Support - 18 64 Long Term Support: Residential","530",{"$f":"VLOOKUP(I1103,'[1]Sub Lookup'!$A$1:$B$65536,2,FALSE)","v":"Commissioned Service - Other"}]
["Kent County Council",11998149,"AITCH CARE HOMES (LONDON) LTD","2020-04-20",8573.36,"S","5AA","Learning Disability Support - 18 64 Long Term Support: Residential","530",{"$f":"VLOOKUP(I1104,'[1]Sub Lookup'!$A$1:$B$65536,2,FALSE)","v":"Commissioned Service - Other"}]
["Kent County Council",11998146,"AITCH CARE HOMES (LONDON) LTD","2020-04-20",8338.24,"S","5AA","Learning Disability Support - 18 64 Long Term Support: Residential","530",{"$f":"VLOOKUP(I1105,'[1]Sub Lookup'!$A$1:$B$65536,2,FALSE)","v":"Commissioned Service - Other"}]
["Kent County Council",11997839,"AITCH CARE HOMES (LONDON) LTD","2020-04-20",5514.52,"S","5AA","Learning Disability Support - 18 64 Long Term Support: Residential","530",{"$f":"VLOOKUP(I1106,'[1]Sub Lookup'!$A$1:$B$65536,2,FALSE)","v":"Commissioned Service - Other"}]
["Kent County Council",11997838,"AITCH CARE HOMES (LONDON) LTD","2020-04-20",1642.03,"S","5AA","Learning Disability Support - 18 64 Long Term Support: Residential","530",{"$f":"VLOOKUP(I1107,'[1]Sub Lookup'!$A$1:$B$65536,2,FALSE)","v":"Commissioned Service - Other"}]
["Kent County Council",11997837,"AITCH CARE HOMES (LONDON) LTD","2020-04-20",5363.28,"S","5AA","Learning Disability Support - 18 64 Long Term Support: Residential","530",{"$f":"VLOOKUP(I1108,'[1]Sub Lookup'!$A$1:$B$65536,2,FALSE)","v":"Commissioned Service - Other"}]
["Kent County Council",11997836,"AITCH CARE HOMES (LONDON) LTD","2020-04-20",5363.28,"S","5AA","Learning Disability Support - 18 64 Long Term Support: Residential","530",{"$f":"VLOOKUP(I1109,'[1]Sub Lookup'!$A$1:$B$65536,2,FALSE)","v":"Commissioned Service - Other"}]
["Kent County Council",11997833,"AITCH CARE HOMES (LONDON) LTD","2020-04-20",7724.04,"S","5AA","Learning Disability Support - 18 64 Long Term Support: Residential","530",{"$f":"VLOOKUP(I1110,'[1]Sub Lookup'!$A$1:$B$65536,2,FALSE)","v":"Commissioned Service - Other"}]
["Kent County Council",11997835,"AITCH CARE HOMES (LONDON) LTD","2020-04-20",-7724.04,"S","5AA","Learning Disability Support - 18 64 Long Term Support: Residential","530",{"$f":"VLOOKUP(I1111,'[1]Sub Lookup'!$A$1:$B$65536,2,FALSE)","v":"Commissioned Service - Other"}]
["Kent County Council",11997834,"AITCH CARE HOMES (LONDON) LTD","2020-04-20",7724.04,"S","5AA","Learning Disability Support - 18 64 Long Term Support: Residential","530",{"$f":"VLOOKUP(I1112,'[1]Sub Lookup'!$A$1:$B$65536,2,FALSE)","v":"Commissioned Service - Other"}]
["Kent County Council",11997832,"AITCH CARE HOMES (LONDON) LTD","2020-04-20",7724.04,"S","5AA","Learning Disability Support - 18 64 Long Term Support: Residential","530",{"$f":"VLOOKUP(I1113,'[1]Sub Lookup'!$A$1:$B$65536,2,FALSE)","v":"Commissioned Service - Other"}]
["Kent County Council",11997831,"AITCH CARE HOMES (LONDON) LTD","2020-04-20",2299.98,"S","5AA","Learning Disability Support - 18 64 Long Term Support: Residential","530",{"$f":"VLOOKUP(I1114,'[1]Sub Lookup'!$A$1:$B$65536,2,FALSE)","v":"Commissioned Service - Other"}]
["Kent County Council",11997830,"AITCH CARE HOMES (LONDON) LTD","2020-04-20",7512.2,"S","5AA","Learning Disability Support - 18 64 Long Term Support: Residential","530",{"$f":"VLOOKUP(I1115,'[1]Sub Lookup'!$A$1:$B$65536,2,FALSE)","v":"Commissioned Service - Other"}]
["Kent County Council",11997829,"AITCH CARE HOMES (LONDON) LTD","2020-04-20",7512.2,"S","5AA","Learning Disability Support - 18 64 Long Term Support: Residential","530",{"$f":"VLOOKUP(I1116,'[1]Sub Lookup'!$A$1:$B$65536,2,FALSE)","v":"Commissioned Service - Other"}]
["Kent County Council",11997862,"AITCH CARE HOMES (LONDON) LTD","2020-04-20",6107.8,"S","5AA","Learning Disability Support - 18 64 Long Term Support: Residential","530",{"$f":"VLOOKUP(I1117,'[1]Sub Lookup'!$A$1:$B$65536,2,FALSE)","v":"Commissioned Service - Other"}]
["Kent County Council",11997861,"AITCH CARE HOMES (LONDON) LTD","2020-04-20",6107.8,"S","5AA","Learning Disability Support - 18 64 Long Term Support: Residential","530",{"$f":"VLOOKUP(I1118,'[1]Sub Lookup'!$A$1:$B$65536,2,FALSE)","v":"Commissioned Service - Other"}]
["Kent County Council",11997858,"AITCH CARE HOMES (LONDON) LTD","2020-04-20",6692.56,"S","5AA","Learning Disability Support - 18 64 Long Term Support: Residential","530",{"$f":"VLOOKUP(I1119,'[1]Sub Lookup'!$A$1:$B$65536,2,FALSE)","v":"Commissioned Service - Other"}]
["Kent County Council",11997860,"AITCH CARE HOMES (LONDON) LTD","2020-04-20",-1555.81,"S","5AA","Learning Disability Support - 18 64 Long Term Support: Residential","530",{"$f":"VLOOKUP(I1120,'[1]Sub Lookup'!$A$1:$B$65536,2,FALSE)","v":"Commissioned Service - Other"}]
["Kent County Council",11997859,"AITCH CARE HOMES (LONDON) LTD","2020-04-20",6692.56,"S","5AA","Learning Disability Support - 18 64 Long Term Support: Residential","530",{"$f":"VLOOKUP(I1121,'[1]Sub Lookup'!$A$1:$B$65536,2,FALSE)","v":"Commissioned Service - Other"}]
["Kent County Council",11997857,"AITCH CARE HOMES (LONDON) LTD","2020-04-20",6692.56,"S","5AA","Learning Disability Support - 18 64 Long Term Support: Residential","530",{"$f":"VLOOKUP(I1122,'[1]Sub Lookup'!$A$1:$B$65536,2,FALSE)","v":"Commissioned Service - Other"}]
["Kent County Council",11997856,"AITCH CARE HOMES (LONDON) LTD","2020-04-20",1992.94,"S","5AA","Learning Disability Support - 18 64 Long Term Support: Residential","530",{"$f":"VLOOKUP(I1123,'[1]Sub Lookup'!$A$1:$B$65536,2,FALSE)","v":"Commissioned Service - Other"}]
["Kent County Council",11997855,"AITCH CARE HOMES (LONDON) LTD","2020-04-20",6509,"S","5AA","Learning Disability Support - 18 64 Long Term Support: Residential","530",{"$f":"VLOOKUP(I1124,'[1]Sub Lookup'!$A$1:$B$65536,2,FALSE)","v":"Commissioned Service - Other"}]
["Kent County Council",11997854,"AITCH CARE HOMES (LONDON) LTD","2020-04-20",6509,"S","5AA","Learning Disability Support - 18 64 Long Term Support: Residential","530",{"$f":"VLOOKUP(I1125,'[1]Sub Lookup'!$A$1:$B$65536,2,FALSE)","v":"Commissioned Service - Other"}]
["Kent County Council",11997864,"AITCH CARE HOMES (LONDON) LTD","2020-04-20",-764.18000000000006,"S","5JA","Physical Support - 18 64 Long Term Support: Residential","530",{"$f":"VLOOKUP(I1126,'[1]Sub Lookup'!$A$1:$B$65536,2,FALSE)","v":"Commissioned Service - Other"}]
["Kent County Council",11997863,"AITCH CARE HOMES (LONDON) LTD","2020-04-20",1861.46,"S","5JA","Physical Support - 18 64 Long Term Support: Residential","530",{"$f":"VLOOKUP(I1127,'[1]Sub Lookup'!$A$1:$B$65536,2,FALSE)","v":"Commissioned Service - Other"}]
["Kent County Council",11997841,"AITCH CARE HOMES (LONDON) LTD","2020-04-20",7034.08,"S","5AA","Learning Disability Support - 18 64 Long Term Support: Residential","530",{"$f":"VLOOKUP(I1128,'[1]Sub Lookup'!$A$1:$B$65536,2,FALSE)","v":"Commissioned Service - Other"}]
["Kent County Council",11997853,"AITCH CARE HOMES (LONDON) LTD","2020-04-20",5515.96,"S","5AA","Learning Disability Support - 18 64 Long Term Support: Residential","530",{"$f":"VLOOKUP(I1129,'[1]Sub Lookup'!$A$1:$B$65536,2,FALSE)","v":"Commissioned Service - Other"}]
["Kent County Council",11997848,"AITCH CARE HOMES (LONDON) LTD","2020-04-20",5515.96,"S","5AA","Learning Disability Support - 18 64 Long Term Support: Residential","530",{"$f":"VLOOKUP(I1130,'[1]Sub Lookup'!$A$1:$B$65536,2,FALSE)","v":"Commissioned Service - Other"}]
["Kent County Council",11997850,"AITCH CARE HOMES (LONDON) LTD","2020-04-20",1588.44,"S","5AA","Learning Disability Support - 18 64 Long Term Support: Residential","530",{"$f":"VLOOKUP(I1131,'[1]Sub Lookup'!$A$1:$B$65536,2,FALSE)","v":"Commissioned Service - Other"}]
["Kent County Council",11997852,"AITCH CARE HOMES (LONDON) LTD","2020-04-20",5515.96,"S","5AA","Learning Disability Support - 18 64 Long Term Support: Residential","530",{"$f":"VLOOKUP(I1132,'[1]Sub Lookup'!$A$1:$B$65536,2,FALSE)","v":"Commissioned Service - Other"}]
["Kent County Council",11997851,"AITCH CARE HOMES (LONDON) LTD","2020-04-20",5515.96,"S","5AA","Learning Disability Support - 18 64 Long Term Support: Residential","530",{"$f":"VLOOKUP(I1133,'[1]Sub Lookup'!$A$1:$B$65536,2,FALSE)","v":"Commissioned Service - Other"}]
["Kent County Council",11997842,"AITCH CARE HOMES (LONDON) LTD","2020-04-20",5364.68,"S","5AA","Learning Disability Support - 18 64 Long Term Support: Residential","530",{"$f":"VLOOKUP(I1134,'[1]Sub Lookup'!$A$1:$B$65536,2,FALSE)","v":"Commissioned Service - Other"}]
["Kent County Council",11997843,"AITCH CARE HOMES (LONDON) LTD","2020-04-20",5364.68,"S","5AA","Learning Disability Support - 18 64 Long Term Support: Residential","530",{"$f":"VLOOKUP(I1135,'[1]Sub Lookup'!$A$1:$B$65536,2,FALSE)","v":"Commissioned Service - Other"}]
["Kent County Council",11997878,"AITCH CARE HOMES (LONDON) LTD","2020-04-20",6035.24,"S","5AA","Learning Disability Support - 18 64 Long Term Support: Residential","530",{"$f":"VLOOKUP(I1136,'[1]Sub Lookup'!$A$1:$B$65536,2,FALSE)","v":"Commissioned Service - Other"}]
["Kent County Council",11997880,"AITCH CARE HOMES (LONDON) LTD","2020-04-20",6205.4400000000005,"S","5AA","Learning Disability Support - 18 64 Long Term Support: Residential","530",{"$f":"VLOOKUP(I1137,'[1]Sub Lookup'!$A$1:$B$65536,2,FALSE)","v":"Commissioned Service - Other"}]
["Kent County Council",11997881,"AITCH CARE HOMES (LONDON) LTD","2020-04-20",6205.4400000000005,"S","5AA","Learning Disability Support - 18 64 Long Term Support: Residential","530",{"$f":"VLOOKUP(I1138,'[1]Sub Lookup'!$A$1:$B$65536,2,FALSE)","v":"Commissioned Service - Other"}]
["Kent County Council",11997882,"AITCH CARE HOMES (LONDON) LTD","2020-04-20",-2437.85,"S","5AA","Learning Disability Support - 18 64 Long Term Support: Residential","530",{"$f":"VLOOKUP(I1139,'[1]Sub Lookup'!$A$1:$B$65536,2,FALSE)","v":"Commissioned Service - Other"}]
["Kent County Council",11997879,"AITCH CARE HOMES (LONDON) LTD","2020-04-20",1787.1000000000001,"S","5AA","Learning Disability Support - 18 64 Long Term Support: Residential","530",{"$f":"VLOOKUP(I1140,'[1]Sub Lookup'!$A$1:$B$65536,2,FALSE)","v":"Commissioned Service - Other"}]
["Kent County Council",11997877,"AITCH CARE HOMES (LONDON) LTD","2020-04-20",6035.24,"S","5AA","Learning Disability Support - 18 64 Long Term Support: Residential","530",{"$f":"VLOOKUP(I1141,'[1]Sub Lookup'!$A$1:$B$65536,2,FALSE)","v":"Commissioned Service - Other"}]
["Kent County Council",11997871,"AITCH CARE HOMES (LONDON) LTD","2020-04-20",5706.68,"S","5AA","Learning Disability Support - 18 64 Long Term Support: Residential","530",{"$f":"VLOOKUP(I1142,'[1]Sub Lookup'!$A$1:$B$65536,2,FALSE)","v":"Commissioned Service - Other"}]
["Kent County Council",11997873,"AITCH CARE HOMES (LONDON) LTD","2020-04-20",5867.6,"S","5AA","Learning Disability Support - 18 64 Long Term Support: Residential","530",{"$f":"VLOOKUP(I1143,'[1]Sub Lookup'!$A$1:$B$65536,2,FALSE)","v":"Commissioned Service - Other"}]
["Kent County Council",11997874,"AITCH CARE HOMES (LONDON) LTD","2020-04-20",5867.6,"S","5AA","Learning Disability Support - 18 64 Long Term Support: Residential","530",{"$f":"VLOOKUP(I1144,'[1]Sub Lookup'!$A$1:$B$65536,2,FALSE)","v":"Commissioned Service - Other"}]
["Kent County Council",11997872,"AITCH CARE HOMES (LONDON) LTD","2020-04-20",1689.66,"S","5AA","Learning Disability Support - 18 64 Long Term Support: Residential","530",{"$f":"VLOOKUP(I1145,'[1]Sub Lookup'!$A$1:$B$65536,2,FALSE)","v":"Commissioned Service - Other"}]
["Kent County Council",11997876,"AITCH CARE HOMES (LONDON) LTD","2020-04-20",5706.68,"S","5AA","Learning Disability Support - 18 64 Long Term Support: Residential","530",{"$f":"VLOOKUP(I1146,'[1]Sub Lookup'!$A$1:$B$65536,2,FALSE)","v":"Commissioned Service - Other"}]
["Kent County Council",11997875,"AITCH CARE HOMES (LONDON) LTD","2020-04-20",5867.6,"S","5AA","Learning Disability Support - 18 64 Long Term Support: Residential","530",{"$f":"VLOOKUP(I1147,'[1]Sub Lookup'!$A$1:$B$65536,2,FALSE)","v":"Commissioned Service - Other"}]
["Kent County Council",11997849,"AITCH CARE HOMES (LONDON) LTD","2020-04-20",5515.96,"S","5AA","Learning Disability Support - 18 64 Long Term Support: Residential","530",{"$f":"VLOOKUP(I1148,'[1]Sub Lookup'!$A$1:$B$65536,2,FALSE)","v":"Commissioned Service - Other"}]
["Kent County Council",12002643,"AITCH CARE HOMES (LONDON) LTD","2020-04-22",8092.24,"S","5AA","Learning Disability Support - 18 64 Long Term Support: Residential","530",{"$f":"VLOOKUP(I1149,'[1]Sub Lookup'!$A$1:$B$65536,2,FALSE)","v":"Commissioned Service - Other"}]
["Kent County Council",12002635,"AITCH CARE HOMES (LONDON) LTD","2020-04-22",7870.28,"S","5AA","Learning Disability Support - 18 64 Long Term Support: Residential","530",{"$f":"VLOOKUP(I1150,'[1]Sub Lookup'!$A$1:$B$65536,2,FALSE)","v":"Commissioned Service - Other"}]
["Kent County Council",12002642,"AITCH CARE HOMES (LONDON) LTD","2020-04-22",8092.24,"S","5AA","Learning Disability Support - 18 64 Long Term Support: Residential","530",{"$f":"VLOOKUP(I1151,'[1]Sub Lookup'!$A$1:$B$65536,2,FALSE)","v":"Commissioned Service - Other"}]
["Kent County Council",12002640,"AITCH CARE HOMES (LONDON) LTD","2020-04-22",7870.28,"S","5AA","Learning Disability Support - 18 64 Long Term Support: Residential","530",{"$f":"VLOOKUP(I1152,'[1]Sub Lookup'!$A$1:$B$65536,2,FALSE)","v":"Commissioned Service - Other"}]
["Kent County Council",12000498,"AITCH CARE HOMES (LONDON) LTD","2020-04-22",9287,"S","5AA","Learning Disability Support - 18 64 Long Term Support: Residential","530",{"$f":"VLOOKUP(I1153,'[1]Sub Lookup'!$A$1:$B$65536,2,FALSE)","v":"Commissioned Service - Other"}]
["Kent County Council",12000497,"AITCH CARE HOMES (LONDON) LTD","2020-04-22",9287,"S","5AA","Learning Disability Support - 18 64 Long Term Support: Residential","530",{"$f":"VLOOKUP(I1154,'[1]Sub Lookup'!$A$1:$B$65536,2,FALSE)","v":"Commissioned Service - Other"}]
["Kent County Council",12000495,"AITCH CARE HOMES (LONDON) LTD","2020-04-22",9287,"S","5AA","Learning Disability Support - 18 64 Long Term Support: Residential","530",{"$f":"VLOOKUP(I1155,'[1]Sub Lookup'!$A$1:$B$65536,2,FALSE)","v":"Commissioned Service - Other"}]
["Kent County Council",12000496,"AITCH CARE HOMES (LONDON) LTD","2020-04-22",5922.3,"S","5AA","Learning Disability Support - 18 64 Long Term Support: Residential","530",{"$f":"VLOOKUP(I1156,'[1]Sub Lookup'!$A$1:$B$65536,2,FALSE)","v":"Commissioned Service - Other"}]
["Kent County Council",12000499,"AITCH CARE HOMES (LONDON) LTD","2020-04-22",9287,"S","5AA","Learning Disability Support - 18 64 Long Term Support: Residential","530",{"$f":"VLOOKUP(I1157,'[1]Sub Lookup'!$A$1:$B$65536,2,FALSE)","v":"Commissioned Service - Other"}]
["Kent County Council",12000504,"AITCH CARE HOMES (LONDON) LTD","2020-04-22",5515.96,"S","5AA","Learning Disability Support - 18 64 Long Term Support: Residential","530",{"$f":"VLOOKUP(I1158,'[1]Sub Lookup'!$A$1:$B$65536,2,FALSE)","v":"Commissioned Service - Other"}]
["Kent County Council",12000506,"AITCH CARE HOMES (LONDON) LTD","2020-04-22",-5516.26,"S","5AA","Learning Disability Support - 18 64 Long Term Support: Residential","530",{"$f":"VLOOKUP(I1159,'[1]Sub Lookup'!$A$1:$B$65536,2,FALSE)","v":"Commissioned Service - Other"}]
["Kent County Council",12000505,"AITCH CARE HOMES (LONDON) LTD","2020-04-22",5515.96,"S","5AA","Learning Disability Support - 18 64 Long Term Support: Residential","530",{"$f":"VLOOKUP(I1160,'[1]Sub Lookup'!$A$1:$B$65536,2,FALSE)","v":"Commissioned Service - Other"}]
["Kent County Council",12000503,"AITCH CARE HOMES (LONDON) LTD","2020-04-22",5515.96,"S","5AA","Learning Disability Support - 18 64 Long Term Support: Residential","530",{"$f":"VLOOKUP(I1161,'[1]Sub Lookup'!$A$1:$B$65536,2,FALSE)","v":"Commissioned Service - Other"}]
["Kent County Council",12000502,"AITCH CARE HOMES (LONDON) LTD","2020-04-22",1642.47,"S","5AA","Learning Disability Support - 18 64 Long Term Support: Residential","530",{"$f":"VLOOKUP(I1162,'[1]Sub Lookup'!$A$1:$B$65536,2,FALSE)","v":"Commissioned Service - Other"}]
["Kent County Council",12000501,"AITCH CARE HOMES (LONDON) LTD","2020-04-22",5364.68,"S","5AA","Learning Disability Support - 18 64 Long Term Support: Residential","530",{"$f":"VLOOKUP(I1163,'[1]Sub Lookup'!$A$1:$B$65536,2,FALSE)","v":"Commissioned Service - Other"}]
["Kent County Council",12000500,"AITCH CARE HOMES (LONDON) LTD","2020-04-22",5364.68,"S","5AA","Learning Disability Support - 18 64 Long Term Support: Residential","530",{"$f":"VLOOKUP(I1164,'[1]Sub Lookup'!$A$1:$B$65536,2,FALSE)","v":"Commissioned Service - Other"}]
["Kent County Council",12000494,"AITCH CARE HOMES (LONDON) LTD","2020-04-22",5513.31,"S","5AA","Learning Disability Support - 18 64 Long Term Support: Residential","530",{"$f":"VLOOKUP(I1165,'[1]Sub Lookup'!$A$1:$B$65536,2,FALSE)","v":"Commissioned Service - Other"}]
["Kent County Council",12000493,"AITCH CARE HOMES (LONDON) LTD","2020-04-22",-7558.4000000000005,"S","5AA","Learning Disability Support - 18 64 Long Term Support: Residential","530",{"$f":"VLOOKUP(I1166,'[1]Sub Lookup'!$A$1:$B$65536,2,FALSE)","v":"Commissioned Service - Other"}]
["Kent County Council",12000492,"AITCH CARE HOMES (LONDON) LTD","2020-04-22",7558.4000000000005,"S","5AA","Learning Disability Support - 18 64 Long Term Support: Residential","530",{"$f":"VLOOKUP(I1167,'[1]Sub Lookup'!$A$1:$B$65536,2,FALSE)","v":"Commissioned Service - Other"}]
["Kent County Council",12000487,"AITCH CARE HOMES (LONDON) LTD","2020-04-22",7351.08,"S","5AA","Learning Disability Support - 18 64 Long Term Support: Residential","530",{"$f":"VLOOKUP(I1168,'[1]Sub Lookup'!$A$1:$B$65536,2,FALSE)","v":"Commissioned Service - Other"}]
["Kent County Council",12000486,"AITCH CARE HOMES (LONDON) LTD","2020-04-22",7351.08,"S","5AA","Learning Disability Support - 18 64 Long Term Support: Residential","530",{"$f":"VLOOKUP(I1169,'[1]Sub Lookup'!$A$1:$B$65536,2,FALSE)","v":"Commissioned Service - Other"}]
["Kent County Council",12000489,"AITCH CARE HOMES (LONDON) LTD","2020-04-22",2176.86,"S","5AA","Learning Disability Support - 18 64 Long Term Support: Residential","530",{"$f":"VLOOKUP(I1170,'[1]Sub Lookup'!$A$1:$B$65536,2,FALSE)","v":"Commissioned Service - Other"}]
["Kent County Council",12000485,"AITCH CARE HOMES (LONDON) LTD","2020-04-22",7351.08,"S","5AA","Learning Disability Support - 18 64 Long Term Support: Residential","530",{"$f":"VLOOKUP(I1171,'[1]Sub Lookup'!$A$1:$B$65536,2,FALSE)","v":"Commissioned Service - Other"}]
["Kent County Council",12000484,"AITCH CARE HOMES (LONDON) LTD","2020-04-22",7351.08,"S","5AA","Learning Disability Support - 18 64 Long Term Support: Residential","530",{"$f":"VLOOKUP(I1172,'[1]Sub Lookup'!$A$1:$B$65536,2,FALSE)","v":"Commissioned Service - Other"}]
["Kent County Council",12000491,"AITCH CARE HOMES (LONDON) LTD","2020-04-22",7558.4000000000005,"S","5AA","Learning Disability Support - 18 64 Long Term Support: Residential","530",{"$f":"VLOOKUP(I1173,'[1]Sub Lookup'!$A$1:$B$65536,2,FALSE)","v":"Commissioned Service - Other"}]
["Kent County Council",12000490,"AITCH CARE HOMES (LONDON) LTD","2020-04-22",7558.4000000000005,"S","5AA","Learning Disability Support - 18 64 Long Term Support: Residential","530",{"$f":"VLOOKUP(I1174,'[1]Sub Lookup'!$A$1:$B$65536,2,FALSE)","v":"Commissioned Service - Other"}]
["Kent County Council",12000488,"AITCH CARE HOMES (LONDON) LTD","2020-04-22",7351.08,"S","5AA","Learning Disability Support - 18 64 Long Term Support: Residential","530",{"$f":"VLOOKUP(I1175,'[1]Sub Lookup'!$A$1:$B$65536,2,FALSE)","v":"Commissioned Service - Other"}]
["Kent County Council",12002636,"AITCH CARE HOMES (LONDON) LTD","2020-04-22",7870.28,"S","5AA","Learning Disability Support - 18 64 Long Term Support: Residential","530",{"$f":"VLOOKUP(I1176,'[1]Sub Lookup'!$A$1:$B$65536,2,FALSE)","v":"Commissioned Service - Other"}]
["Kent County Council",12002639,"AITCH CARE HOMES (LONDON) LTD","2020-04-22",7870.28,"S","5AA","Learning Disability Support - 18 64 Long Term Support: Residential","530",{"$f":"VLOOKUP(I1177,'[1]Sub Lookup'!$A$1:$B$65536,2,FALSE)","v":"Commissioned Service - Other"}]
["Kent County Council",12002641,"AITCH CARE HOMES (LONDON) LTD","2020-04-22",2330.58,"S","5AA","Learning Disability Support - 18 64 Long Term Support: Residential","530",{"$f":"VLOOKUP(I1178,'[1]Sub Lookup'!$A$1:$B$65536,2,FALSE)","v":"Commissioned Service - Other"}]
["Kent County Council",12002638,"AITCH CARE HOMES (LONDON) LTD","2020-04-22",7870.28,"S","5AA","Learning Disability Support - 18 64 Long Term Support: Residential","530",{"$f":"VLOOKUP(I1179,'[1]Sub Lookup'!$A$1:$B$65536,2,FALSE)","v":"Commissioned Service - Other"}]
["Kent County Council",12002637,"AITCH CARE HOMES (LONDON) LTD","2020-04-22",7870.28,"S","5AA","Learning Disability Support - 18 64 Long Term Support: Residential","530",{"$f":"VLOOKUP(I1180,'[1]Sub Lookup'!$A$1:$B$65536,2,FALSE)","v":"Commissioned Service - Other"}]
["Kent County Council",12005945,"AITCH CARE HOMES (LONDON) LTD","2020-04-23",7870.28,"S","5AA","Learning Disability Support - 18 64 Long Term Support: Residential","530",{"$f":"VLOOKUP(I1181,'[1]Sub Lookup'!$A$1:$B$65536,2,FALSE)","v":"Commissioned Service - Other"}]
["Kent County Council",12011011,"AITCH CARE HOMES (LONDON) LTD","2020-04-27",7298.08,"S","5AA","Learning Disability Support - 18 64 Long Term Support: Residential","530",{"$f":"VLOOKUP(I1182,'[1]Sub Lookup'!$A$1:$B$65536,2,FALSE)","v":"Commissioned Service - Other"}]
["Kent County Council",12011012,"AITCH CARE HOMES (LONDON) LTD","2020-04-27",7298.08,"S","5AA","Learning Disability Support - 18 64 Long Term Support: Residential","530",{"$f":"VLOOKUP(I1183,'[1]Sub Lookup'!$A$1:$B$65536,2,FALSE)","v":"Commissioned Service - Other"}]
["Kent County Council",12011013,"AITCH CARE HOMES (LONDON) LTD","2020-04-27",7298.08,"S","5AA","Learning Disability Support - 18 64 Long Term Support: Residential","530",{"$f":"VLOOKUP(I1184,'[1]Sub Lookup'!$A$1:$B$65536,2,FALSE)","v":"Commissioned Service - Other"}]
["Kent County Council",12011493,"AITCH CARE HOMES (LONDON) LTD","2020-04-28",8217.18,"S","5AA","Learning Disability Support - 18 64 Long Term Support: Residential","523",{"$f":"VLOOKUP(I1185,'[1]Sub Lookup'!$A$1:$B$65536,2,FALSE)","v":"Private Contractors"}]
["Kent County Council",12011494,"AITCH CARE HOMES (LONDON) LTD","2020-04-28",6854.96,"S","5AA","Learning Disability Support - 18 64 Long Term Support: Residential","523",{"$f":"VLOOKUP(I1186,'[1]Sub Lookup'!$A$1:$B$65536,2,FALSE)","v":"Private Contractors"}]
["Kent County Council",12013866,"AITCH CARE HOMES (LONDON) LTD","2020-04-28",78915.75,"S","5AU","Learning Disability Support - 18 64 Short Term - Other - Residential","530",{"$f":"VLOOKUP(I1187,'[1]Sub Lookup'!$A$1:$B$65536,2,FALSE)","v":"Commissioned Service - Other"}]
["Kent County Council",12013867,"AITCH CARE HOMES (LONDON) LTD","2020-04-28",-29382.95,"S","5AU","Learning Disability Support - 18 64 Short Term - Other - Residential","530",{"$f":"VLOOKUP(I1188,'[1]Sub Lookup'!$A$1:$B$65536,2,FALSE)","v":"Commissioned Service - Other"}]
["Kent County Council",12011492,"AITCH CARE HOMES (LONDON) LTD","2020-04-28",8010.54,"S","5AA","Learning Disability Support - 18 64 Long Term Support: Residential","523",{"$f":"VLOOKUP(I1189,'[1]Sub Lookup'!$A$1:$B$65536,2,FALSE)","v":"Private Contractors"}]
["Kent County Council",12018098,"AITCH CARE HOMES (LONDON) LTD","2020-04-29",1335.46,"S","5XC","Commissioning & Service Delivery","530",{"$f":"VLOOKUP(I1190,'[1]Sub Lookup'!$A$1:$B$65536,2,FALSE)","v":"Commissioned Service - Other"}]
["Kent County Council",12017791,"AITCH CARE HOMES (LONDON) LTD","2020-04-29",8404.84,"S","5XC","Commissioning & Service Delivery","530",{"$f":"VLOOKUP(I1191,'[1]Sub Lookup'!$A$1:$B$65536,2,FALSE)","v":"Commissioned Service - Other"}]
["Kent County Council",12017676,"AITCH CARE HOMES (LONDON) LTD","2020-04-29",7467.13,"S","5XC","Commissioning & Service Delivery","530",{"$f":"VLOOKUP(I1192,'[1]Sub Lookup'!$A$1:$B$65536,2,FALSE)","v":"Commissioned Service - Other"}]
["Kent County Council",12018647,"AITCH CARE HOMES (LONDON) LTD","2020-04-29",3018.2400000000002,"S","5XC","Commissioning & Service Delivery","530",{"$f":"VLOOKUP(I1193,'[1]Sub Lookup'!$A$1:$B$65536,2,FALSE)","v":"Commissioned Service - Other"}]
["Kent County Council",12018637,"AITCH CARE HOMES (LONDON) LTD","2020-04-29",6598.89,"S","5XC","Commissioning & Service Delivery","530",{"$f":"VLOOKUP(I1194,'[1]Sub Lookup'!$A$1:$B$65536,2,FALSE)","v":"Commissioned Service - Other"}]
["Kent County Council",12018246,"AITCH CARE HOMES (LONDON) LTD","2020-04-29",3269.05,"S","5XC","Commissioning & Service Delivery","530",{"$f":"VLOOKUP(I1195,'[1]Sub Lookup'!$A$1:$B$65536,2,FALSE)","v":"Commissioned Service - Other"}]
["Kent County Council",12018267,"AITCH CARE HOMES (LONDON) LTD","2020-04-29",3137.48,"S","5XC","Commissioning & Service Delivery","530",{"$f":"VLOOKUP(I1196,'[1]Sub Lookup'!$A$1:$B$65536,2,FALSE)","v":"Commissioned Service - Other"}]
["Kent County Council",12017776,"AITCH CARE HOMES (LONDON) LTD","2020-04-29",2198.29,"S","5XC","Commissioning & Service Delivery","530",{"$f":"VLOOKUP(I1197,'[1]Sub Lookup'!$A$1:$B$65536,2,FALSE)","v":"Commissioned Service - Other"}]
["Kent County Council",12017765,"AITCH CARE HOMES (LONDON) LTD","2020-04-29",9028.26,"S","5XC","Commissioning & Service Delivery","530",{"$f":"VLOOKUP(I1198,'[1]Sub Lookup'!$A$1:$B$65536,2,FALSE)","v":"Commissioned Service - Other"}]
["Kent County Council",12005946,"AITCH CARE HOMES (LONDON) LTD","2020-04-29",-5136.75,"S","5AA","Learning Disability Support - 18 64 Long Term Support: Residential","530",{"$f":"VLOOKUP(I1199,'[1]Sub Lookup'!$A$1:$B$65536,2,FALSE)","v":"Commissioned Service - Other"}]
["Kent County Council",11993636,"AKLET LTD, T/A MARTIN & CO","2020-04-20",700,"C","2LC","Libraries, Registration & Archives","120",{"$f":"VLOOKUP(I1200,'[1]Sub Lookup'!$A$1:$B$65536,2,FALSE)","v":"External - Rent, Room Hire & Service Charges"}]
["Kent County Council",11971305,"REDACTED - Personal Payment","2020-04-08",1764.96,"S","5NC","Sensory Support - 18 64 Long Term Support: Supported Accommodation","530",{"$f":"VLOOKUP(I1201,'[1]Sub Lookup'!$A$1:$B$65536,2,FALSE)","v":"Commissioned Service - Other"}]
["Kent County Council",12006710,"ALAN BLUNSDON","2020-04-24",472.26,"K","2RF","Coroners","401",{"$f":"VLOOKUP(I1202,'[1]Sub Lookup'!$A$1:$B$65536,2,FALSE)","v":"Specialists Fees"}]
["Kent County Council",12006720,"ALAN BLUNSDON","2020-04-24",472.26,"K","2RF","Coroners","401",{"$f":"VLOOKUP(I1203,'[1]Sub Lookup'!$A$1:$B$65536,2,FALSE)","v":"Specialists Fees"}]
["Kent County Council",11966280,"ALANDALE","2020-04-01",2133.19,"S","5XC","Commissioning & Service Delivery","530",{"$f":"VLOOKUP(I1204,'[1]Sub Lookup'!$A$1:$B$65536,2,FALSE)","v":"Commissioned Service - Other"}]
["Kent County Council",11974041,"ALANDALE","2020-04-03",3610.52,"S","5KA","Physical support - 65+ Long Term Support: Residential","530",{"$f":"VLOOKUP(I1205,'[1]Sub Lookup'!$A$1:$B$65536,2,FALSE)","v":"Commissioned Service - Other"}]
["Kent County Council",11974041,"ALANDALE","2020-04-03",2322.2400000000002,"S","5TA","Support with Memory & Cognition - 65+ Long Term Support: Residential","530",{"$f":"VLOOKUP(I1206,'[1]Sub Lookup'!$A$1:$B$65536,2,FALSE)","v":"Commissioned Service - Other"}]
["Kent County Council",11983557,"ALANDALE","2020-04-09",17678.48,"S","5PA","Sensory Support - 65+ Long Term Support: Residential","530",{"$f":"VLOOKUP(I1207,'[1]Sub Lookup'!$A$1:$B$65536,2,FALSE)","v":"Commissioned Service - Other"}]
["Kent County Council",12013344,"ALANDALE","2020-04-28",3663.92,"S","5KA","Physical support - 65+ Long Term Support: Residential","530",{"$f":"VLOOKUP(I1208,'[1]Sub Lookup'!$A$1:$B$65536,2,FALSE)","v":"Commissioned Service - Other"}]
["Kent County Council",12013344,"ALANDALE","2020-04-28",2671.2400000000002,"S","5PA","Sensory Support - 65+ Long Term Support: Residential","530",{"$f":"VLOOKUP(I1209,'[1]Sub Lookup'!$A$1:$B$65536,2,FALSE)","v":"Commissioned Service - Other"}]
["Kent County Council",12013344,"ALANDALE","2020-04-28",2322.2400000000002,"S","5TA","Support with Memory & Cognition - 65+ Long Term Support: Residential","530",{"$f":"VLOOKUP(I1210,'[1]Sub Lookup'!$A$1:$B$65536,2,FALSE)","v":"Commissioned Service - Other"}]
["Kent County Council",12017640,"ALANDALE","2020-04-29",2133.19,"S","5XC","Commissioning & Service Delivery","530",{"$f":"VLOOKUP(I1211,'[1]Sub Lookup'!$A$1:$B$65536,2,FALSE)","v":"Commissioned Service - Other"}]
["Kent County Council",11961700,"ALBION PLACE MEDICAL PRACTICE","2020-04-09",922,"C","8PB","Sexual Health Services - Contraception","522",{"$f":"VLOOKUP(I1212,'[1]Sub Lookup'!$A$1:$B$65536,2,FALSE)","v":"District Health Authorities"}]
["Kent County Council",12019330,"ALCOVE LIMITED","2020-04-30",174500,"C","8SC","Strategic Commissioning","302",{"$f":"VLOOKUP(I1213,'[1]Sub Lookup'!$A$1:$B$65536,2,FALSE)","v":"Computer and Other IT Expenditure (Hardware)"}]
["Kent County Council",11959744,"ALEX CLARK ART LTD","2020-04-03",436.5,"K","2LG","Country Parks","300",{"$f":"VLOOKUP(I1214,'[1]Sub Lookup'!$A$1:$B$65536,2,FALSE)","v":"Equipment, Furniture and Materials and Livestock"}]
["Kent County Council",12011350,"ALEX CLARK ART LTD","2020-04-28",646.65,"K","2LG","Country Parks","300",{"$f":"VLOOKUP(I1215,'[1]Sub Lookup'!$A$1:$B$65536,2,FALSE)","v":"Equipment, Furniture and Materials and Livestock"}]
["Kent County Council",11993166,"ALEX WALTERS CONSULTANCY LIMITED","2020-04-24",325,"S","39T","Safeguarding - Children","401",{"$f":"VLOOKUP(I1216,'[1]Sub Lookup'!$A$1:$B$65536,2,FALSE)","v":"Specialists Fees"}]
["Kent County Council",11997541,"REDACTED - Personal Payment","2020-04-20",623,"S","5AJ","Learning Disability Support - 18 64 Long Term Support: Community: Day Care","232",{"$f":"VLOOKUP(I1217,'[1]Sub Lookup'!$A$1:$B$65536,2,FALSE)","v":"Public Transport (Clients)"}]
["Kent County Council",11997540,"REDACTED - Personal Payment","2020-04-20",525,"S","5AJ","Learning Disability Support - 18 64 Long Term Support: Community: Day Care","232",{"$f":"VLOOKUP(I1218,'[1]Sub Lookup'!$A$1:$B$65536,2,FALSE)","v":"Public Transport (Clients)"}]
["Kent County Council",11997537,"REDACTED - Personal Payment","2020-04-20",1441,"E","1RX","Admissions & Transport","222",{"$f":"VLOOKUP(I1219,'[1]Sub Lookup'!$A$1:$B$65536,2,FALSE)","v":"Home to School Transport - Hired"}]
["Kent County Council",11997539,"REDACTED - Personal Payment","2020-04-20",1887.5,"E","1RX","Admissions & Transport","222",{"$f":"VLOOKUP(I1220,'[1]Sub Lookup'!$A$1:$B$65536,2,FALSE)","v":"Home to School Transport - Hired"}]
["Kent County Council",11997538,"REDACTED - Personal Payment","2020-04-20",1579.9,"E","1RX","Admissions & Transport","222",{"$f":"VLOOKUP(I1221,'[1]Sub Lookup'!$A$1:$B$65536,2,FALSE)","v":"Home to School Transport - Hired"}]
["Kent County Council",11997536,"REDACTED - Personal Payment","2020-04-20",1012.5,"E","1RX","Admissions & Transport","222",{"$f":"VLOOKUP(I1222,'[1]Sub Lookup'!$A$1:$B$65536,2,FALSE)","v":"Home to School Transport - Hired"}]
["Kent County Council",12001518,"REDACTED - Personal Payment","2020-04-22",1461.5,"E","1RX","Admissions & Transport","222",{"$f":"VLOOKUP(I1223,'[1]Sub Lookup'!$A$1:$B$65536,2,FALSE)","v":"Home to School Transport - Hired"}]
["Kent County Council",12001519,"REDACTED - Personal Payment","2020-04-22",3348,"E","1RX","Admissions & Transport","222",{"$f":"VLOOKUP(I1224,'[1]Sub Lookup'!$A$1:$B$65536,2,FALSE)","v":"Home to School Transport - Hired"}]
["Kent County Council",11966156,"ALINA HOMECARE SPECIALIST CARE LIMITED","2020-04-01",9926.42,"S","5XC","Commissioning & Service Delivery","530",{"$f":"VLOOKUP(I1225,'[1]Sub Lookup'!$A$1:$B$65536,2,FALSE)","v":"Commissioned Service - Other"}]
["Kent County Council",11966282,"ALINA HOMECARE SPECIALIST CARE LIMITED","2020-04-01",10278.460000000001,"S","5XC","Commissioning & Service Delivery","530",{"$f":"VLOOKUP(I1226,'[1]Sub Lookup'!$A$1:$B$65536,2,FALSE)","v":"Commissioned Service - Other"}]
["Kent County Council",11971484,"ALINA HOMECARE SPECIALIST CARE LIMITED","2020-04-02",5161.9800000000005,"S","5AH","Learning Disability Support - 18 64 Long Term Support: Community: Supported Living","530",{"$f":"VLOOKUP(I1227,'[1]Sub Lookup'!$A$1:$B$65536,2,FALSE)","v":"Commissioned Service - Other"}]
["Kent County Council",11971482,"ALINA HOMECARE SPECIALIST CARE LIMITED","2020-04-02",4396.4000000000005,"S","5AH","Learning Disability Support - 18 64 Long Term Support: Community: Supported Living","530",{"$f":"VLOOKUP(I1228,'[1]Sub Lookup'!$A$1:$B$65536,2,FALSE)","v":"Commissioned Service - Other"}]
["Kent County Council",11971483,"ALINA HOMECARE SPECIALIST CARE LIMITED","2020-04-02",1455.3600000000001,"S","5AH","Learning Disability Support - 18 64 Long Term Support: Community: Supported Living","530",{"$f":"VLOOKUP(I1229,'[1]Sub Lookup'!$A$1:$B$65536,2,FALSE)","v":"Commissioned Service - Other"}]
["Kent County Council",11971479,"ALINA HOMECARE SPECIALIST CARE LIMITED","2020-04-02",560.91999999999996,"S","5AH","Learning Disability Support - 18 64 Long Term Support: Community: Supported Living","530",{"$f":"VLOOKUP(I1230,'[1]Sub Lookup'!$A$1:$B$65536,2,FALSE)","v":"Commissioned Service - Other"}]
["Kent County Council",11971481,"ALINA HOMECARE SPECIALIST CARE LIMITED","2020-04-02",5715.32,"S","5AH","Learning Disability Support - 18 64 Long Term Support: Community: Supported Living","530",{"$f":"VLOOKUP(I1231,'[1]Sub Lookup'!$A$1:$B$65536,2,FALSE)","v":"Commissioned Service - Other"}]
["Kent County Council",11977944,"ALINA HOMECARE SPECIALIST CARE LIMITED","2020-04-07",3037.32,"S","5AH","Learning Disability Support - 18 64 Long Term Support: Community: Supported Living","530",{"$f":"VLOOKUP(I1232,'[1]Sub Lookup'!$A$1:$B$65536,2,FALSE)","v":"Commissioned Service - Other"}]
["Kent County Council",11977943,"ALINA HOMECARE SPECIALIST CARE LIMITED","2020-04-07",1326.5,"S","5JH","Physical Support - 18 64 Long Term Support: Community: Supported Living","530",{"$f":"VLOOKUP(I1233,'[1]Sub Lookup'!$A$1:$B$65536,2,FALSE)","v":"Commissioned Service - Other"}]
["Kent County Council",11977942,"ALINA HOMECARE SPECIALIST CARE LIMITED","2020-04-07",1440.2,"S","5JH","Physical Support - 18 64 Long Term Support: Community: Supported Living","530",{"$f":"VLOOKUP(I1234,'[1]Sub Lookup'!$A$1:$B$65536,2,FALSE)","v":"Commissioned Service - Other"}]
["Kent County Council",11977946,"ALINA HOMECARE SPECIALIST CARE LIMITED","2020-04-07",4127.3100000000004,"S","5AH","Learning Disability Support - 18 64 Long Term Support: Community: Supported Living","530",{"$f":"VLOOKUP(I1235,'[1]Sub Lookup'!$A$1:$B$65536,2,FALSE)","v":"Commissioned Service - Other"}]
["Kent County Council",11977945,"ALINA HOMECARE SPECIALIST CARE LIMITED","2020-04-07",3471.64,"S","5AH","Learning Disability Support - 18 64 Long Term Support: Community: Supported Living","530",{"$f":"VLOOKUP(I1236,'[1]Sub Lookup'!$A$1:$B$65536,2,FALSE)","v":"Commissioned Service - Other"}]
["Kent County Council",11989292,"ALINA HOMECARE SPECIALIST CARE LIMITED","2020-04-14",1364.4,"S","5JH","Physical Support - 18 64 Long Term Support: Community: Supported Living","530",{"$f":"VLOOKUP(I1237,'[1]Sub Lookup'!$A$1:$B$65536,2,FALSE)","v":"Commissioned Service - Other"}]
["Kent County Council",11989293,"ALINA HOMECARE SPECIALIST CARE LIMITED","2020-04-14",1364.4,"S","5JH","Physical Support - 18 64 Long Term Support: Community: Supported Living","530",{"$f":"VLOOKUP(I1238,'[1]Sub Lookup'!$A$1:$B$65536,2,FALSE)","v":"Commissioned Service - Other"}]
["Kent County Council",11989294,"ALINA HOMECARE SPECIALIST CARE LIMITED","2020-04-14",960.13,"S","5JH","Physical Support - 18 64 Long Term Support: Community: Supported Living","530",{"$f":"VLOOKUP(I1239,'[1]Sub Lookup'!$A$1:$B$65536,2,FALSE)","v":"Commissioned Service - Other"}]
["Kent County Council",12011025,"ALINA HOMECARE SPECIALIST CARE LIMITED","2020-04-27",261,"S","5AH","Learning Disability Support - 18 64 Long Term Support: Community: Supported Living","530",{"$f":"VLOOKUP(I1240,'[1]Sub Lookup'!$A$1:$B$65536,2,FALSE)","v":"Commissioned Service - Other"}]
["Kent County Council",12011026,"ALINA HOMECARE SPECIALIST CARE LIMITED","2020-04-27",261,"S","5AH","Learning Disability Support - 18 64 Long Term Support: Community: Supported Living","530",{"$f":"VLOOKUP(I1241,'[1]Sub Lookup'!$A$1:$B$65536,2,FALSE)","v":"Commissioned Service - Other"}]
["Kent County Council",12011746,"ALINA HOMECARE SPECIALIST CARE LIMITED","2020-04-28",2548.04,"S","5AH","Learning Disability Support - 18 64 Long Term Support: Community: Supported Living","523",{"$f":"VLOOKUP(I1242,'[1]Sub Lookup'!$A$1:$B$65536,2,FALSE)","v":"Private Contractors"}]
["Kent County Council",12011747,"ALINA HOMECARE SPECIALIST CARE LIMITED","2020-04-28",5854.4000000000005,"S","5AH","Learning Disability Support - 18 64 Long Term Support: Community: Supported Living","523",{"$f":"VLOOKUP(I1243,'[1]Sub Lookup'!$A$1:$B$65536,2,FALSE)","v":"Private Contractors"}]
["Kent County Council",12011748,"ALINA HOMECARE SPECIALIST CARE LIMITED","2020-04-28",5507.54,"S","5AH","Learning Disability Support - 18 64 Long Term Support: Community: Supported Living","523",{"$f":"VLOOKUP(I1244,'[1]Sub Lookup'!$A$1:$B$65536,2,FALSE)","v":"Private Contractors"}]
["Kent County Council",12011749,"ALINA HOMECARE SPECIALIST CARE LIMITED","2020-04-28",6337.52,"S","5AH","Learning Disability Support - 18 64 Long Term Support: Community: Supported Living","523",{"$f":"VLOOKUP(I1245,'[1]Sub Lookup'!$A$1:$B$65536,2,FALSE)","v":"Private Contractors"}]
["Kent County Council",12011750,"ALINA HOMECARE SPECIALIST CARE LIMITED","2020-04-28",8642.76,"S","5AH","Learning Disability Support - 18 64 Long Term Support: Community: Supported Living","523",{"$f":"VLOOKUP(I1246,'[1]Sub Lookup'!$A$1:$B$65536,2,FALSE)","v":"Private Contractors"}]
["Kent County Council",12011751,"ALINA HOMECARE SPECIALIST CARE LIMITED","2020-04-28",7172.88,"S","5AH","Learning Disability Support - 18 64 Long Term Support: Community: Supported Living","523",{"$f":"VLOOKUP(I1247,'[1]Sub Lookup'!$A$1:$B$65536,2,FALSE)","v":"Private Contractors"}]
["Kent County Council",12011752,"ALINA HOMECARE SPECIALIST CARE LIMITED","2020-04-28",4792,"S","5AH","Learning Disability Support - 18 64 Long Term Support: Community: Supported Living","523",{"$f":"VLOOKUP(I1248,'[1]Sub Lookup'!$A$1:$B$65536,2,FALSE)","v":"Private Contractors"}]
["Kent County Council",12017642,"ALINA HOMECARE SPECIALIST CARE LIMITED","2020-04-29",10278.460000000001,"S","5XC","Commissioning & Service Delivery","530",{"$f":"VLOOKUP(I1249,'[1]Sub Lookup'!$A$1:$B$65536,2,FALSE)","v":"Commissioned Service - Other"}]
["Kent County Council",12017497,"ALINA HOMECARE SPECIALIST CARE LIMITED","2020-04-29",9926.42,"S","5XC","Commissioning & Service Delivery","530",{"$f":"VLOOKUP(I1250,'[1]Sub Lookup'!$A$1:$B$65536,2,FALSE)","v":"Commissioned Service - Other"}]
["Kent County Council",11973980,"REDACTED - Personal Payment","2020-04-03",1827.99,"S","5AW","Learning Disability Support - 18 64 Short Term - Other - Non-Residential Care Services","530",{"$f":"VLOOKUP(I1251,'[1]Sub Lookup'!$A$1:$B$65536,2,FALSE)","v":"Commissioned Service - Other"}]
["Kent County Council",11996600,"REDACTED - Personal Payment","2020-04-20",448.38,"S","5AJ","Learning Disability Support - 18 64 Long Term Support: Community: Day Care","530",{"$f":"VLOOKUP(I1252,'[1]Sub Lookup'!$A$1:$B$65536,2,FALSE)","v":"Commissioned Service - Other"}]
["Kent County Council",11996679,"REDACTED - Personal Payment","2020-04-20",572.04,"S","5AJ","Learning Disability Support - 18 64 Long Term Support: Community: Day Care","530",{"$f":"VLOOKUP(I1253,'[1]Sub Lookup'!$A$1:$B$65536,2,FALSE)","v":"Commissioned Service - Other"}]
["Kent County Council",11967152,"ALL IN MIND CARE SERVICES LTD (CASTLE VIEW HOUSE)","2020-04-01",3670.27,"S","5XC","Commissioning & Service Delivery","530",{"$f":"VLOOKUP(I1254,'[1]Sub Lookup'!$A$1:$B$65536,2,FALSE)","v":"Commissioned Service - Other"}]
["Kent County Council",12017644,"ALL IN MIND CARE SERVICES LTD (CASTLE VIEW HOUSE)","2020-04-29",3670.27,"S","5XC","Commissioning & Service Delivery","530",{"$f":"VLOOKUP(I1255,'[1]Sub Lookup'!$A$1:$B$65536,2,FALSE)","v":"Commissioned Service - Other"}]
["Kent County Council",11993886,"ALL NIGHT CARS LTD","2020-04-24",347,"S","35L","Section 17","232",{"$f":"VLOOKUP(I1256,'[1]Sub Lookup'!$A$1:$B$65536,2,FALSE)","v":"Public Transport (Clients)"}]
["Kent County Council",11984426,"ALL SAINTS NURSERY SCHOOL (WHI)","2020-04-14",18106.920000000002,"E","1KA","School Resources","528",{"$f":"VLOOKUP(I1257,'[1]Sub Lookup'!$A$1:$B$65536,2,FALSE)","v":"Early Years Education"}]
["Kent County Council",11969731,"ALL SEASONS LLP","2020-04-01",526.96,"S","5KG","Physical support - 65+ Long Term Support: Community: Home Care","530",{"$f":"VLOOKUP(I1258,'[1]Sub Lookup'!$A$1:$B$65536,2,FALSE)","v":"Commissioned Service - Other"}]
["Kent County Council",11969719,"ALL SEASONS LLP","2020-04-01",589.74,"S","5KG","Physical support - 65+ Long Term Support: Community: Home Care","530",{"$f":"VLOOKUP(I1259,'[1]Sub Lookup'!$A$1:$B$65536,2,FALSE)","v":"Commissioned Service - Other"}]
["Kent County Council",11969818,"ALL SEASONS LLP","2020-04-01",549.01,"S","5KG","Physical support - 65+ Long Term Support: Community: Home Care","530",{"$f":"VLOOKUP(I1260,'[1]Sub Lookup'!$A$1:$B$65536,2,FALSE)","v":"Commissioned Service - Other"}]
["Kent County Council",11969742,"ALL SEASONS LLP","2020-04-01",439.18,"S","5KG","Physical support - 65+ Long Term Support: Community: Home Care","530",{"$f":"VLOOKUP(I1261,'[1]Sub Lookup'!$A$1:$B$65536,2,FALSE)","v":"Commissioned Service - Other"}]
["Kent County Council",11969801,"ALL SEASONS LLP","2020-04-01",373.31,"S","5KG","Physical support - 65+ Long Term Support: Community: Home Care","530",{"$f":"VLOOKUP(I1262,'[1]Sub Lookup'!$A$1:$B$65536,2,FALSE)","v":"Commissioned Service - Other"}]
["Kent County Council",11969633,"ALL SEASONS LLP","2020-04-01",421.51,"S","5JG","Physical Support - 18 64 Long Term Support: Community: Home Care","530",{"$f":"VLOOKUP(I1263,'[1]Sub Lookup'!$A$1:$B$65536,2,FALSE)","v":"Commissioned Service - Other"}]
["Kent County Council",11969809,"ALL SEASONS LLP","2020-04-01",596.04,"S","5KG","Physical support - 65+ Long Term Support: Community: Home Care","530",{"$f":"VLOOKUP(I1264,'[1]Sub Lookup'!$A$1:$B$65536,2,FALSE)","v":"Commissioned Service - Other"}]
["Kent County Council",11969723,"ALL SEASONS LLP","2020-04-01",658.84,"S","5KG","Physical support - 65+ Long Term Support: Community: Home Care","530",{"$f":"VLOOKUP(I1265,'[1]Sub Lookup'!$A$1:$B$65536,2,FALSE)","v":"Commissioned Service - Other"}]
["Kent County Council",11969638,"ALL SEASONS LLP","2020-04-01",526.96,"S","5KG","Physical support - 65+ Long Term Support: Community: Home Care","530",{"$f":"VLOOKUP(I1266,'[1]Sub Lookup'!$A$1:$B$65536,2,FALSE)","v":"Commissioned Service - Other"}]
["Kent County Council",11969639,"ALL SEASONS LLP","2020-04-01",611.72,"S","5JG","Physical Support - 18 64 Long Term Support: Community: Home Care","530",{"$f":"VLOOKUP(I1267,'[1]Sub Lookup'!$A$1:$B$65536,2,FALSE)","v":"Commissioned Service - Other"}]
["Kent County Council",11969820,"ALL SEASONS LLP","2020-04-01",586.61,"S","5KG","Physical support - 65+ Long Term Support: Community: Home Care","530",{"$f":"VLOOKUP(I1268,'[1]Sub Lookup'!$A$1:$B$65536,2,FALSE)","v":"Commissioned Service - Other"}]
["Kent County Council",11969786,"ALL SEASONS LLP","2020-04-01",483.07,"S","5KG","Physical support - 65+ Long Term Support: Community: Home Care","530",{"$f":"VLOOKUP(I1269,'[1]Sub Lookup'!$A$1:$B$65536,2,FALSE)","v":"Commissioned Service - Other"}]
["Kent County Council",11966284,"ALL SEASONS LLP","2020-04-01",2070.17,"S","5XC","Commissioning & Service Delivery","530",{"$f":"VLOOKUP(I1270,'[1]Sub Lookup'!$A$1:$B$65536,2,FALSE)","v":"Commissioned Service - Other"}]
["Kent County Council",11966285,"ALL SEASONS LLP","2020-04-01",2124.7400000000002,"S","5XC","Commissioning & Service Delivery","530",{"$f":"VLOOKUP(I1271,'[1]Sub Lookup'!$A$1:$B$65536,2,FALSE)","v":"Commissioned Service - Other"}]
["Kent County Council",11966286,"ALL SEASONS LLP","2020-04-01",56529.87,"S","5XC","Commissioning & Service Delivery","530",{"$f":"VLOOKUP(I1272,'[1]Sub Lookup'!$A$1:$B$65536,2,FALSE)","v":"Commissioned Service - Other"}]
["Kent County Council",11970468,"ALL SEASONS LLP","2020-04-01",599.48,"A","9BB","Suspense","SAP",{"$f":"VLOOKUP(I1273,'[1]Sub Lookup'!$A$1:$B$65536,2,FALSE)","v":"Payables suspense"}]
["Kent County Council",11970469,"ALL SEASONS LLP","2020-04-01",599.48,"A","9BB","Suspense","SAP",{"$f":"VLOOKUP(I1274,'[1]Sub Lookup'!$A$1:$B$65536,2,FALSE)","v":"Payables suspense"}]
["Kent County Council",11970470,"ALL SEASONS LLP","2020-04-01",579.72,"A","9BB","Suspense","SAP",{"$f":"VLOOKUP(I1275,'[1]Sub Lookup'!$A$1:$B$65536,2,FALSE)","v":"Payables suspense"}]
["Kent County Council",11970471,"ALL SEASONS LLP","2020-04-01",599.48,"A","9BB","Suspense","SAP",{"$f":"VLOOKUP(I1276,'[1]Sub Lookup'!$A$1:$B$65536,2,FALSE)","v":"Payables suspense"}]
["Kent County Council",11970472,"ALL SEASONS LLP","2020-04-01",599.48,"A","9BB","Suspense","SAP",{"$f":"VLOOKUP(I1277,'[1]Sub Lookup'!$A$1:$B$65536,2,FALSE)","v":"Payables suspense"}]
["Kent County Council",11969792,"ALL SEASONS LLP","2020-04-01",853.34,"S","5KG","Physical support - 65+ Long Term Support: Community: Home Care","530",{"$f":"VLOOKUP(I1278,'[1]Sub Lookup'!$A$1:$B$65536,2,FALSE)","v":"Commissioned Service - Other"}]
["Kent County Council",11969650,"ALL SEASONS LLP","2020-04-01",376.40000000000003,"S","5JG","Physical Support - 18 64 Long Term Support: Community: Home Care","530",{"$f":"VLOOKUP(I1279,'[1]Sub Lookup'!$A$1:$B$65536,2,FALSE)","v":"Commissioned Service - Other"}]
["Kent County Council",11969646,"ALL SEASONS LLP","2020-04-01",263.48,"S","5KG","Physical support - 65+ Long Term Support: Community: Home Care","530",{"$f":"VLOOKUP(I1280,'[1]Sub Lookup'!$A$1:$B$65536,2,FALSE)","v":"Commissioned Service - Other"}]
["Kent County Council",11969797,"ALL SEASONS LLP","2020-04-01",690.22,"S","5KG","Physical support - 65+ Long Term Support: Community: Home Care","530",{"$f":"VLOOKUP(I1281,'[1]Sub Lookup'!$A$1:$B$65536,2,FALSE)","v":"Commissioned Service - Other"}]
["Kent County Council",11969663,"ALL SEASONS LLP","2020-04-01",285.45999999999998,"S","5KG","Physical support - 65+ Long Term Support: Community: Home Care","530",{"$f":"VLOOKUP(I1282,'[1]Sub Lookup'!$A$1:$B$65536,2,FALSE)","v":"Commissioned Service - Other"}]
["Kent County Council",11969703,"ALL SEASONS LLP","2020-04-01",500.38,"S","5KG","Physical support - 65+ Long Term Support: Community: Home Care","530",{"$f":"VLOOKUP(I1283,'[1]Sub Lookup'!$A$1:$B$65536,2,FALSE)","v":"Commissioned Service - Other"}]
["Kent County Council",11969776,"ALL SEASONS LLP","2020-04-01",395.22,"S","5JG","Physical Support - 18 64 Long Term Support: Community: Home Care","530",{"$f":"VLOOKUP(I1284,'[1]Sub Lookup'!$A$1:$B$65536,2,FALSE)","v":"Commissioned Service - Other"}]
["Kent County Council",11969768,"ALL SEASONS LLP","2020-04-01",614.88,"S","5KG","Physical support - 65+ Long Term Support: Community: Home Care","530",{"$f":"VLOOKUP(I1285,'[1]Sub Lookup'!$A$1:$B$65536,2,FALSE)","v":"Commissioned Service - Other"}]
["Kent County Council",11969657,"ALL SEASONS LLP","2020-04-01",527.1,"S","5KG","Physical support - 65+ Long Term Support: Community: Home Care","530",{"$f":"VLOOKUP(I1286,'[1]Sub Lookup'!$A$1:$B$65536,2,FALSE)","v":"Commissioned Service - Other"}]
["Kent County Council",11969733,"ALL SEASONS LLP","2020-04-01",592.97,"S","5KG","Physical support - 65+ Long Term Support: Community: Home Care","530",{"$f":"VLOOKUP(I1287,'[1]Sub Lookup'!$A$1:$B$65536,2,FALSE)","v":"Commissioned Service - Other"}]
["Kent County Council",11969732,"ALL SEASONS LLP","2020-04-01",307.44,"S","5KG","Physical support - 65+ Long Term Support: Community: Home Care","530",{"$f":"VLOOKUP(I1288,'[1]Sub Lookup'!$A$1:$B$65536,2,FALSE)","v":"Commissioned Service - Other"}]
["Kent County Council",11969834,"ALL SEASONS LLP","2020-04-01",285.45999999999998,"S","5KG","Physical support - 65+ Long Term Support: Community: Home Care","530",{"$f":"VLOOKUP(I1289,'[1]Sub Lookup'!$A$1:$B$65536,2,FALSE)","v":"Commissioned Service - Other"}]
["Kent County Council",11969811,"ALL SEASONS LLP","2020-04-01",526.96,"S","5KG","Physical support - 65+ Long Term Support: Community: Home Care","530",{"$f":"VLOOKUP(I1290,'[1]Sub Lookup'!$A$1:$B$65536,2,FALSE)","v":"Commissioned Service - Other"}]
["Kent County Council",11969648,"ALL SEASONS LLP","2020-04-01",454.87,"S","5KG","Physical support - 65+ Long Term Support: Community: Home Care","530",{"$f":"VLOOKUP(I1291,'[1]Sub Lookup'!$A$1:$B$65536,2,FALSE)","v":"Commissioned Service - Other"}]
["Kent County Council",11969628,"ALL SEASONS LLP","2020-04-01",351.40000000000003,"S","5KG","Physical support - 65+ Long Term Support: Community: Home Care","530",{"$f":"VLOOKUP(I1292,'[1]Sub Lookup'!$A$1:$B$65536,2,FALSE)","v":"Commissioned Service - Other"}]
["Kent County Council",11969711,"ALL SEASONS LLP","2020-04-01",298.04000000000002,"S","5KG","Physical support - 65+ Long Term Support: Community: Home Care","530",{"$f":"VLOOKUP(I1293,'[1]Sub Lookup'!$A$1:$B$65536,2,FALSE)","v":"Commissioned Service - Other"}]
["Kent County Council",11969769,"ALL SEASONS LLP","2020-04-01",395.22,"S","5KG","Physical support - 65+ Long Term Support: Community: Home Care","530",{"$f":"VLOOKUP(I1294,'[1]Sub Lookup'!$A$1:$B$65536,2,FALSE)","v":"Commissioned Service - Other"}]
["Kent County Council",11969762,"ALL SEASONS LLP","2020-04-01",306.64,"S","5KG","Physical support - 65+ Long Term Support: Community: Home Care","530",{"$f":"VLOOKUP(I1295,'[1]Sub Lookup'!$A$1:$B$65536,2,FALSE)","v":"Commissioned Service - Other"}]
["Kent County Council",11969806,"ALL SEASONS LLP","2020-04-01",526.96,"S","5KG","Physical support - 65+ Long Term Support: Community: Home Care","530",{"$f":"VLOOKUP(I1296,'[1]Sub Lookup'!$A$1:$B$65536,2,FALSE)","v":"Commissioned Service - Other"}]
["Kent County Council",11969662,"ALL SEASONS LLP","2020-04-01",263.55,"S","5KG","Physical support - 65+ Long Term Support: Community: Home Care","530",{"$f":"VLOOKUP(I1297,'[1]Sub Lookup'!$A$1:$B$65536,2,FALSE)","v":"Commissioned Service - Other"}]
["Kent County Council",11969819,"ALL SEASONS LLP","2020-04-01",285.45999999999998,"S","5JG","Physical Support - 18 64 Long Term Support: Community: Home Care","530",{"$f":"VLOOKUP(I1298,'[1]Sub Lookup'!$A$1:$B$65536,2,FALSE)","v":"Commissioned Service - Other"}]
["Kent County Council",11973778,"ALL SEASONS LLP","2020-04-03",258.89,"S","5EH","Mental Health Support - 18 64 Long Term Support: Community: Supported Living","530",{"$f":"VLOOKUP(I1299,'[1]Sub Lookup'!$A$1:$B$65536,2,FALSE)","v":"Commissioned Service - Other"}]
["Kent County Council",11973775,"ALL SEASONS LLP","2020-04-03",313.8,"S","5JH","Physical Support - 18 64 Long Term Support: Community: Supported Living","530",{"$f":"VLOOKUP(I1300,'[1]Sub Lookup'!$A$1:$B$65536,2,FALSE)","v":"Commissioned Service - Other"}]
["Kent County Council",11973781,"ALL SEASONS LLP","2020-04-03",345.18,"S","5EH","Mental Health Support - 18 64 Long Term Support: Community: Supported Living","530",{"$f":"VLOOKUP(I1301,'[1]Sub Lookup'!$A$1:$B$65536,2,FALSE)","v":"Commissioned Service - Other"}]
["Kent County Council",11973779,"ALL SEASONS LLP","2020-04-03",1521.08,"S","5AH","Learning Disability Support - 18 64 Long Term Support: Community: Supported Living","530",{"$f":"VLOOKUP(I1302,'[1]Sub Lookup'!$A$1:$B$65536,2,FALSE)","v":"Commissioned Service - Other"}]
["Kent County Council",11973782,"ALL SEASONS LLP","2020-04-03",251.04,"S","5JH","Physical Support - 18 64 Long Term Support: Community: Supported Living","530",{"$f":"VLOOKUP(I1303,'[1]Sub Lookup'!$A$1:$B$65536,2,FALSE)","v":"Commissioned Service - Other"}]
["Kent County Council",11973734,"ALL SEASONS LLP","2020-04-03",10904.12,"S","5AH","Learning Disability Support - 18 64 Long Term Support: Community: Supported Living","530",{"$f":"VLOOKUP(I1304,'[1]Sub Lookup'!$A$1:$B$65536,2,FALSE)","v":"Commissioned Service - Other"}]
["Kent County Council",11973776,"ALL SEASONS LLP","2020-04-03",540.19000000000005,"S","5EH","Mental Health Support - 18 64 Long Term Support: Community: Supported Living","530",{"$f":"VLOOKUP(I1305,'[1]Sub Lookup'!$A$1:$B$65536,2,FALSE)","v":"Commissioned Service - Other"}]
["Kent County Council",11973301,"ALL SEASONS LLP","2020-04-03",261.10000000000002,"S","5KG","Physical support - 65+ Long Term Support: Community: Home Care","530",{"$f":"VLOOKUP(I1306,'[1]Sub Lookup'!$A$1:$B$65536,2,FALSE)","v":"Commissioned Service - Other"}]
["Kent County Council",11973305,"ALL SEASONS LLP","2020-04-03",261.10000000000002,"S","5KG","Physical support - 65+ Long Term Support: Community: Home Care","530",{"$f":"VLOOKUP(I1307,'[1]Sub Lookup'!$A$1:$B$65536,2,FALSE)","v":"Commissioned Service - Other"}]
["Kent County Council",11973293,"ALL SEASONS LLP","2020-04-03",261.10000000000002,"S","5KG","Physical support - 65+ Long Term Support: Community: Home Care","530",{"$f":"VLOOKUP(I1308,'[1]Sub Lookup'!$A$1:$B$65536,2,FALSE)","v":"Commissioned Service - Other"}]
["Kent County Council",11981547,"ALL SEASONS LLP","2020-04-08",306.64,"S","5KG","Physical support - 65+ Long Term Support: Community: Home Care","530",{"$f":"VLOOKUP(I1309,'[1]Sub Lookup'!$A$1:$B$65536,2,FALSE)","v":"Commissioned Service - Other"}]
["Kent County Council",11981576,"ALL SEASONS LLP","2020-04-08",566.19000000000005,"S","5KG","Physical support - 65+ Long Term Support: Community: Home Care","530",{"$f":"VLOOKUP(I1310,'[1]Sub Lookup'!$A$1:$B$65536,2,FALSE)","v":"Commissioned Service - Other"}]
["Kent County Council",11981449,"ALL SEASONS LLP","2020-04-08",263.55,"S","5KG","Physical support - 65+ Long Term Support: Community: Home Care","530",{"$f":"VLOOKUP(I1311,'[1]Sub Lookup'!$A$1:$B$65536,2,FALSE)","v":"Commissioned Service - Other"}]
["Kent County Council",11981588,"ALL SEASONS LLP","2020-04-08",285.45999999999998,"S","5JG","Physical Support - 18 64 Long Term Support: Community: Home Care","530",{"$f":"VLOOKUP(I1312,'[1]Sub Lookup'!$A$1:$B$65536,2,FALSE)","v":"Commissioned Service - Other"}]
["Kent County Council",11981427,"ALL SEASONS LLP","2020-04-08",611.72,"S","5JG","Physical Support - 18 64 Long Term Support: Community: Home Care","530",{"$f":"VLOOKUP(I1313,'[1]Sub Lookup'!$A$1:$B$65536,2,FALSE)","v":"Commissioned Service - Other"}]
["Kent County Council",11981426,"ALL SEASONS LLP","2020-04-08",526.96,"S","5KG","Physical support - 65+ Long Term Support: Community: Home Care","530",{"$f":"VLOOKUP(I1314,'[1]Sub Lookup'!$A$1:$B$65536,2,FALSE)","v":"Commissioned Service - Other"}]
["Kent County Council",11981509,"ALL SEASONS LLP","2020-04-08",658.84,"S","5KG","Physical support - 65+ Long Term Support: Community: Home Care","530",{"$f":"VLOOKUP(I1315,'[1]Sub Lookup'!$A$1:$B$65536,2,FALSE)","v":"Commissioned Service - Other"}]
["Kent County Council",11981580,"ALL SEASONS LLP","2020-04-08",570.91999999999996,"S","5KG","Physical support - 65+ Long Term Support: Community: Home Care","530",{"$f":"VLOOKUP(I1316,'[1]Sub Lookup'!$A$1:$B$65536,2,FALSE)","v":"Commissioned Service - Other"}]
["Kent County Council",11981421,"ALL SEASONS LLP","2020-04-08",421.51,"S","5JG","Physical Support - 18 64 Long Term Support: Community: Home Care","530",{"$f":"VLOOKUP(I1317,'[1]Sub Lookup'!$A$1:$B$65536,2,FALSE)","v":"Commissioned Service - Other"}]
["Kent County Council",11981571,"ALL SEASONS LLP","2020-04-08",373.31,"S","5KG","Physical support - 65+ Long Term Support: Community: Home Care","530",{"$f":"VLOOKUP(I1318,'[1]Sub Lookup'!$A$1:$B$65536,2,FALSE)","v":"Commissioned Service - Other"}]
["Kent County Council",11981527,"ALL SEASONS LLP","2020-04-08",439.18,"S","5KG","Physical support - 65+ Long Term Support: Community: Home Care","530",{"$f":"VLOOKUP(I1319,'[1]Sub Lookup'!$A$1:$B$65536,2,FALSE)","v":"Commissioned Service - Other"}]
["Kent County Council",11981587,"ALL SEASONS LLP","2020-04-08",549.01,"S","5KG","Physical support - 65+ Long Term Support: Community: Home Care","530",{"$f":"VLOOKUP(I1320,'[1]Sub Lookup'!$A$1:$B$65536,2,FALSE)","v":"Commissioned Service - Other"}]
["Kent County Council",11981505,"ALL SEASONS LLP","2020-04-08",570.91999999999996,"S","5KG","Physical support - 65+ Long Term Support: Community: Home Care","530",{"$f":"VLOOKUP(I1321,'[1]Sub Lookup'!$A$1:$B$65536,2,FALSE)","v":"Commissioned Service - Other"}]
["Kent County Council",11981517,"ALL SEASONS LLP","2020-04-08",526.96,"S","5KG","Physical support - 65+ Long Term Support: Community: Home Care","530",{"$f":"VLOOKUP(I1322,'[1]Sub Lookup'!$A$1:$B$65536,2,FALSE)","v":"Commissioned Service - Other"}]
["Kent County Council",11981589,"ALL SEASONS LLP","2020-04-08",586.61,"S","5KG","Physical support - 65+ Long Term Support: Community: Home Care","530",{"$f":"VLOOKUP(I1323,'[1]Sub Lookup'!$A$1:$B$65536,2,FALSE)","v":"Commissioned Service - Other"}]
["Kent County Council",11981619,"ALL SEASONS LLP","2020-04-08",483.07,"S","5KG","Physical support - 65+ Long Term Support: Community: Home Care","530",{"$f":"VLOOKUP(I1324,'[1]Sub Lookup'!$A$1:$B$65536,2,FALSE)","v":"Commissioned Service - Other"}]
["Kent County Council",11981562,"ALL SEASONS LLP","2020-04-08",916.1,"S","5KG","Physical support - 65+ Long Term Support: Community: Home Care","530",{"$f":"VLOOKUP(I1325,'[1]Sub Lookup'!$A$1:$B$65536,2,FALSE)","v":"Commissioned Service - Other"}]
["Kent County Council",11981437,"ALL SEASONS LLP","2020-04-08",395.22,"S","5JG","Physical Support - 18 64 Long Term Support: Community: Home Care","530",{"$f":"VLOOKUP(I1326,'[1]Sub Lookup'!$A$1:$B$65536,2,FALSE)","v":"Commissioned Service - Other"}]
["Kent County Council",11981433,"ALL SEASONS LLP","2020-04-08",263.48,"S","5KG","Physical support - 65+ Long Term Support: Community: Home Care","530",{"$f":"VLOOKUP(I1327,'[1]Sub Lookup'!$A$1:$B$65536,2,FALSE)","v":"Commissioned Service - Other"}]
["Kent County Council",11981567,"ALL SEASONS LLP","2020-04-08",690.22,"S","5KG","Physical support - 65+ Long Term Support: Community: Home Care","530",{"$f":"VLOOKUP(I1328,'[1]Sub Lookup'!$A$1:$B$65536,2,FALSE)","v":"Commissioned Service - Other"}]
["Kent County Council",11981450,"ALL SEASONS LLP","2020-04-08",285.45999999999998,"S","5KG","Physical support - 65+ Long Term Support: Community: Home Care","530",{"$f":"VLOOKUP(I1329,'[1]Sub Lookup'!$A$1:$B$65536,2,FALSE)","v":"Commissioned Service - Other"}]
["Kent County Council",11981490,"ALL SEASONS LLP","2020-04-08",500.38,"S","5KG","Physical support - 65+ Long Term Support: Community: Home Care","530",{"$f":"VLOOKUP(I1330,'[1]Sub Lookup'!$A$1:$B$65536,2,FALSE)","v":"Commissioned Service - Other"}]
["Kent County Council",11981448,"ALL SEASONS LLP","2020-04-08",266.64999999999998,"S","5JG","Physical Support - 18 64 Long Term Support: Community: Home Care","530",{"$f":"VLOOKUP(I1331,'[1]Sub Lookup'!$A$1:$B$65536,2,FALSE)","v":"Commissioned Service - Other"}]
["Kent County Council",11981609,"ALL SEASONS LLP","2020-04-08",395.22,"S","5JG","Physical Support - 18 64 Long Term Support: Community: Home Care","530",{"$f":"VLOOKUP(I1332,'[1]Sub Lookup'!$A$1:$B$65536,2,FALSE)","v":"Commissioned Service - Other"}]
["Kent County Council",11981553,"ALL SEASONS LLP","2020-04-08",614.88,"S","5KG","Physical support - 65+ Long Term Support: Community: Home Care","530",{"$f":"VLOOKUP(I1333,'[1]Sub Lookup'!$A$1:$B$65536,2,FALSE)","v":"Commissioned Service - Other"}]
["Kent County Council",11981444,"ALL SEASONS LLP","2020-04-08",527.1,"S","5KG","Physical support - 65+ Long Term Support: Community: Home Care","530",{"$f":"VLOOKUP(I1334,'[1]Sub Lookup'!$A$1:$B$65536,2,FALSE)","v":"Commissioned Service - Other"}]
["Kent County Council",11981519,"ALL SEASONS LLP","2020-04-08",592.97,"S","5KG","Physical support - 65+ Long Term Support: Community: Home Care","530",{"$f":"VLOOKUP(I1335,'[1]Sub Lookup'!$A$1:$B$65536,2,FALSE)","v":"Commissioned Service - Other"}]
["Kent County Council",11981518,"ALL SEASONS LLP","2020-04-08",307.44,"S","5KG","Physical support - 65+ Long Term Support: Community: Home Care","530",{"$f":"VLOOKUP(I1336,'[1]Sub Lookup'!$A$1:$B$65536,2,FALSE)","v":"Commissioned Service - Other"}]
["Kent County Council",11981582,"ALL SEASONS LLP","2020-04-08",526.96,"S","5KG","Physical support - 65+ Long Term Support: Community: Home Care","530",{"$f":"VLOOKUP(I1337,'[1]Sub Lookup'!$A$1:$B$65536,2,FALSE)","v":"Commissioned Service - Other"}]
["Kent County Council",11981435,"ALL SEASONS LLP","2020-04-08",454.87,"S","5KG","Physical support - 65+ Long Term Support: Community: Home Care","530",{"$f":"VLOOKUP(I1338,'[1]Sub Lookup'!$A$1:$B$65536,2,FALSE)","v":"Commissioned Service - Other"}]
["Kent County Council",11981497,"ALL SEASONS LLP","2020-04-08",266.66000000000003,"S","5KG","Physical support - 65+ Long Term Support: Community: Home Care","530",{"$f":"VLOOKUP(I1339,'[1]Sub Lookup'!$A$1:$B$65536,2,FALSE)","v":"Commissioned Service - Other"}]
["Kent County Council",11981554,"ALL SEASONS LLP","2020-04-08",376.40000000000003,"S","5KG","Physical support - 65+ Long Term Support: Community: Home Care","530",{"$f":"VLOOKUP(I1340,'[1]Sub Lookup'!$A$1:$B$65536,2,FALSE)","v":"Commissioned Service - Other"}]
["Kent County Council",11988037,"ALL SEASONS LLP","2020-04-14",439.18,"S","5KG","Physical support - 65+ Long Term Support: Community: Home Care","530",{"$f":"VLOOKUP(I1341,'[1]Sub Lookup'!$A$1:$B$65536,2,FALSE)","v":"Commissioned Service - Other"}]
["Kent County Council",11988033,"ALL SEASONS LLP","2020-04-14",439.18,"S","5KG","Physical support - 65+ Long Term Support: Community: Home Care","530",{"$f":"VLOOKUP(I1342,'[1]Sub Lookup'!$A$1:$B$65536,2,FALSE)","v":"Commissioned Service - Other"}]
["Kent County Council",11988030,"ALL SEASONS LLP","2020-04-14",439.18,"S","5KG","Physical support - 65+ Long Term Support: Community: Home Care","530",{"$f":"VLOOKUP(I1343,'[1]Sub Lookup'!$A$1:$B$65536,2,FALSE)","v":"Commissioned Service - Other"}]
["Kent County Council",11988027,"ALL SEASONS LLP","2020-04-14",439.18,"S","5KG","Physical support - 65+ Long Term Support: Community: Home Care","530",{"$f":"VLOOKUP(I1344,'[1]Sub Lookup'!$A$1:$B$65536,2,FALSE)","v":"Commissioned Service - Other"}]
["Kent County Council",11988035,"ALL SEASONS LLP","2020-04-14",395.22,"S","5KG","Physical support - 65+ Long Term Support: Community: Home Care","530",{"$f":"VLOOKUP(I1345,'[1]Sub Lookup'!$A$1:$B$65536,2,FALSE)","v":"Commissioned Service - Other"}]
["Kent County Council",11988032,"ALL SEASONS LLP","2020-04-14",395.22,"S","5KG","Physical support - 65+ Long Term Support: Community: Home Care","530",{"$f":"VLOOKUP(I1346,'[1]Sub Lookup'!$A$1:$B$65536,2,FALSE)","v":"Commissioned Service - Other"}]
["Kent County Council",11988029,"ALL SEASONS LLP","2020-04-14",395.22,"S","5KG","Physical support - 65+ Long Term Support: Community: Home Care","530",{"$f":"VLOOKUP(I1347,'[1]Sub Lookup'!$A$1:$B$65536,2,FALSE)","v":"Commissioned Service - Other"}]
["Kent County Council",11988026,"ALL SEASONS LLP","2020-04-14",395.22,"S","5KG","Physical support - 65+ Long Term Support: Community: Home Care","530",{"$f":"VLOOKUP(I1348,'[1]Sub Lookup'!$A$1:$B$65536,2,FALSE)","v":"Commissioned Service - Other"}]
["Kent County Council",11991891,"ALL SEASONS LLP","2020-04-15",407.40000000000003,"S","5KG","Physical support - 65+ Long Term Support: Community: Home Care","530",{"$f":"VLOOKUP(I1349,'[1]Sub Lookup'!$A$1:$B$65536,2,FALSE)","v":"Commissioned Service - Other"}]
["Kent County Council",11991884,"ALL SEASONS LLP","2020-04-15",314.29000000000002,"S","5KG","Physical support - 65+ Long Term Support: Community: Home Care","530",{"$f":"VLOOKUP(I1350,'[1]Sub Lookup'!$A$1:$B$65536,2,FALSE)","v":"Commissioned Service - Other"}]
["Kent County Council",11991927,"ALL SEASONS LLP","2020-04-15",543.20000000000005,"S","5KG","Physical support - 65+ Long Term Support: Community: Home Care","530",{"$f":"VLOOKUP(I1351,'[1]Sub Lookup'!$A$1:$B$65536,2,FALSE)","v":"Commissioned Service - Other"}]
["Kent County Council",11991904,"ALL SEASONS LLP","2020-04-15",452.76,"S","5KG","Physical support - 65+ Long Term Support: Community: Home Care","530",{"$f":"VLOOKUP(I1352,'[1]Sub Lookup'!$A$1:$B$65536,2,FALSE)","v":"Commissioned Service - Other"}]
["Kent County Council",11991782,"ALL SEASONS LLP","2020-04-15",271.67,"S","5KG","Physical support - 65+ Long Term Support: Community: Home Care","530",{"$f":"VLOOKUP(I1353,'[1]Sub Lookup'!$A$1:$B$65536,2,FALSE)","v":"Commissioned Service - Other"}]
["Kent County Council",11991847,"ALL SEASONS LLP","2020-04-15",349.2,"S","5JG","Physical Support - 18 64 Long Term Support: Community: Home Care","530",{"$f":"VLOOKUP(I1354,'[1]Sub Lookup'!$A$1:$B$65536,2,FALSE)","v":"Commissioned Service - Other"}]
["Kent County Council",11991949,"ALL SEASONS LLP","2020-04-15",294.28000000000003,"S","5JG","Physical Support - 18 64 Long Term Support: Community: Home Care","530",{"$f":"VLOOKUP(I1355,'[1]Sub Lookup'!$A$1:$B$65536,2,FALSE)","v":"Commissioned Service - Other"}]
["Kent County Council",11991757,"ALL SEASONS LLP","2020-04-15",630.59,"S","5JG","Physical Support - 18 64 Long Term Support: Community: Home Care","530",{"$f":"VLOOKUP(I1356,'[1]Sub Lookup'!$A$1:$B$65536,2,FALSE)","v":"Commissioned Service - Other"}]
["Kent County Council",11991756,"ALL SEASONS LLP","2020-04-15",543.20000000000005,"S","5KG","Physical support - 65+ Long Term Support: Community: Home Care","530",{"$f":"VLOOKUP(I1357,'[1]Sub Lookup'!$A$1:$B$65536,2,FALSE)","v":"Commissioned Service - Other"}]
["Kent County Council",11991845,"ALL SEASONS LLP","2020-04-15",679.14,"S","5KG","Physical support - 65+ Long Term Support: Community: Home Care","530",{"$f":"VLOOKUP(I1358,'[1]Sub Lookup'!$A$1:$B$65536,2,FALSE)","v":"Commissioned Service - Other"}]
["Kent County Council",11991931,"ALL SEASONS LLP","2020-04-15",601.52,"S","5KG","Physical support - 65+ Long Term Support: Community: Home Care","530",{"$f":"VLOOKUP(I1359,'[1]Sub Lookup'!$A$1:$B$65536,2,FALSE)","v":"Commissioned Service - Other"}]
["Kent County Council",11991751,"ALL SEASONS LLP","2020-04-15",434.49,"S","5JG","Physical Support - 18 64 Long Term Support: Community: Home Care","530",{"$f":"VLOOKUP(I1360,'[1]Sub Lookup'!$A$1:$B$65536,2,FALSE)","v":"Commissioned Service - Other"}]
["Kent County Council",11991922,"ALL SEASONS LLP","2020-04-15",384.86,"S","5KG","Physical support - 65+ Long Term Support: Community: Home Care","530",{"$f":"VLOOKUP(I1361,'[1]Sub Lookup'!$A$1:$B$65536,2,FALSE)","v":"Commissioned Service - Other"}]
["Kent County Council",11991864,"ALL SEASONS LLP","2020-04-15",452.76,"S","5KG","Physical support - 65+ Long Term Support: Community: Home Care","530",{"$f":"VLOOKUP(I1362,'[1]Sub Lookup'!$A$1:$B$65536,2,FALSE)","v":"Commissioned Service - Other"}]
["Kent County Council",11991948,"ALL SEASONS LLP","2020-04-15",565.88,"S","5KG","Physical support - 65+ Long Term Support: Community: Home Care","530",{"$f":"VLOOKUP(I1363,'[1]Sub Lookup'!$A$1:$B$65536,2,FALSE)","v":"Commissioned Service - Other"}]
["Kent County Council",11991841,"ALL SEASONS LLP","2020-04-15",569.16,"S","5KG","Physical support - 65+ Long Term Support: Community: Home Care","530",{"$f":"VLOOKUP(I1364,'[1]Sub Lookup'!$A$1:$B$65536,2,FALSE)","v":"Commissioned Service - Other"}]
["Kent County Council",11991854,"ALL SEASONS LLP","2020-04-15",543.20000000000005,"S","5KG","Physical support - 65+ Long Term Support: Community: Home Care","530",{"$f":"VLOOKUP(I1365,'[1]Sub Lookup'!$A$1:$B$65536,2,FALSE)","v":"Commissioned Service - Other"}]
["Kent County Council",11991950,"ALL SEASONS LLP","2020-04-15",604.73,"S","5KG","Physical support - 65+ Long Term Support: Community: Home Care","530",{"$f":"VLOOKUP(I1366,'[1]Sub Lookup'!$A$1:$B$65536,2,FALSE)","v":"Commissioned Service - Other"}]
["Kent County Council",11991908,"ALL SEASONS LLP","2020-04-15",497.98,"S","5KG","Physical support - 65+ Long Term Support: Community: Home Care","530",{"$f":"VLOOKUP(I1367,'[1]Sub Lookup'!$A$1:$B$65536,2,FALSE)","v":"Commissioned Service - Other"}]
["Kent County Council",11991913,"ALL SEASONS LLP","2020-04-15",879.62,"S","5KG","Physical support - 65+ Long Term Support: Community: Home Care","530",{"$f":"VLOOKUP(I1368,'[1]Sub Lookup'!$A$1:$B$65536,2,FALSE)","v":"Commissioned Service - Other"}]
["Kent County Council",11991767,"ALL SEASONS LLP","2020-04-15",388,"S","5JG","Physical Support - 18 64 Long Term Support: Community: Home Care","530",{"$f":"VLOOKUP(I1369,'[1]Sub Lookup'!$A$1:$B$65536,2,FALSE)","v":"Commissioned Service - Other"}]
["Kent County Council",11991763,"ALL SEASONS LLP","2020-04-15",271.60000000000002,"S","5KG","Physical support - 65+ Long Term Support: Community: Home Care","530",{"$f":"VLOOKUP(I1370,'[1]Sub Lookup'!$A$1:$B$65536,2,FALSE)","v":"Commissioned Service - Other"}]
["Kent County Council",11991918,"ALL SEASONS LLP","2020-04-15",711.48,"S","5KG","Physical support - 65+ Long Term Support: Community: Home Care","530",{"$f":"VLOOKUP(I1371,'[1]Sub Lookup'!$A$1:$B$65536,2,FALSE)","v":"Commissioned Service - Other"}]
["Kent County Council",11991783,"ALL SEASONS LLP","2020-04-15",294.28000000000003,"S","5KG","Physical support - 65+ Long Term Support: Community: Home Care","530",{"$f":"VLOOKUP(I1372,'[1]Sub Lookup'!$A$1:$B$65536,2,FALSE)","v":"Commissioned Service - Other"}]
["Kent County Council",11991824,"ALL SEASONS LLP","2020-04-15",515.84,"S","5KG","Physical support - 65+ Long Term Support: Community: Home Care","530",{"$f":"VLOOKUP(I1373,'[1]Sub Lookup'!$A$1:$B$65536,2,FALSE)","v":"Commissioned Service - Other"}]
["Kent County Council",11991897,"ALL SEASONS LLP","2020-04-15",407.40000000000003,"S","5JG","Physical Support - 18 64 Long Term Support: Community: Home Care","530",{"$f":"VLOOKUP(I1374,'[1]Sub Lookup'!$A$1:$B$65536,2,FALSE)","v":"Commissioned Service - Other"}]
["Kent County Council",11991771,"ALL SEASONS LLP","2020-04-15",349.2,"S","5KG","Physical support - 65+ Long Term Support: Community: Home Care","530",{"$f":"VLOOKUP(I1375,'[1]Sub Lookup'!$A$1:$B$65536,2,FALSE)","v":"Commissioned Service - Other"}]
["Kent County Council",11991890,"ALL SEASONS LLP","2020-04-15",633.78,"S","5KG","Physical support - 65+ Long Term Support: Community: Home Care","530",{"$f":"VLOOKUP(I1376,'[1]Sub Lookup'!$A$1:$B$65536,2,FALSE)","v":"Commissioned Service - Other"}]
["Kent County Council",11991777,"ALL SEASONS LLP","2020-04-15",543.34,"S","5KG","Physical support - 65+ Long Term Support: Community: Home Care","530",{"$f":"VLOOKUP(I1377,'[1]Sub Lookup'!$A$1:$B$65536,2,FALSE)","v":"Commissioned Service - Other"}]
["Kent County Council",11991858,"ALL SEASONS LLP","2020-04-15",407.40000000000003,"S","5KG","Physical support - 65+ Long Term Support: Community: Home Care","530",{"$f":"VLOOKUP(I1378,'[1]Sub Lookup'!$A$1:$B$65536,2,FALSE)","v":"Commissioned Service - Other"}]
["Kent County Council",11991856,"ALL SEASONS LLP","2020-04-15",611.16999999999996,"S","5KG","Physical support - 65+ Long Term Support: Community: Home Care","530",{"$f":"VLOOKUP(I1379,'[1]Sub Lookup'!$A$1:$B$65536,2,FALSE)","v":"Commissioned Service - Other"}]
["Kent County Council",11991855,"ALL SEASONS LLP","2020-04-15",316.95999999999998,"S","5KG","Physical support - 65+ Long Term Support: Community: Home Care","530",{"$f":"VLOOKUP(I1380,'[1]Sub Lookup'!$A$1:$B$65536,2,FALSE)","v":"Commissioned Service - Other"}]
["Kent County Council",11991933,"ALL SEASONS LLP","2020-04-15",543.20000000000005,"S","5KG","Physical support - 65+ Long Term Support: Community: Home Care","530",{"$f":"VLOOKUP(I1381,'[1]Sub Lookup'!$A$1:$B$65536,2,FALSE)","v":"Commissioned Service - Other"}]
["Kent County Council",11991773,"ALL SEASONS LLP","2020-04-15",407.40000000000003,"S","5KG","Physical support - 65+ Long Term Support: Community: Home Care","530",{"$f":"VLOOKUP(I1382,'[1]Sub Lookup'!$A$1:$B$65536,2,FALSE)","v":"Commissioned Service - Other"}]
["Kent County Council",11991765,"ALL SEASONS LLP","2020-04-15",468.93,"S","5KG","Physical support - 65+ Long Term Support: Community: Home Care","530",{"$f":"VLOOKUP(I1383,'[1]Sub Lookup'!$A$1:$B$65536,2,FALSE)","v":"Commissioned Service - Other"}]
["Kent County Council",11991738,"ALL SEASONS LLP","2020-04-15",269.22000000000003,"S","5KG","Physical support - 65+ Long Term Support: Community: Home Care","530",{"$f":"VLOOKUP(I1384,'[1]Sub Lookup'!$A$1:$B$65536,2,FALSE)","v":"Commissioned Service - Other"}]
["Kent County Council",11991746,"ALL SEASONS LLP","2020-04-15",323.44,"S","5KG","Physical support - 65+ Long Term Support: Community: Home Care","530",{"$f":"VLOOKUP(I1385,'[1]Sub Lookup'!$A$1:$B$65536,2,FALSE)","v":"Commissioned Service - Other"}]
["Kent County Council",11991833,"ALL SEASONS LLP","2020-04-15",307.23,"S","5KG","Physical support - 65+ Long Term Support: Community: Home Care","530",{"$f":"VLOOKUP(I1386,'[1]Sub Lookup'!$A$1:$B$65536,2,FALSE)","v":"Commissioned Service - Other"}]
["Kent County Council",12003337,"ALL SEASONS LLP","2020-04-22",588.56000000000006,"S","5KG","Physical support - 65+ Long Term Support: Community: Home Care","530",{"$f":"VLOOKUP(I1387,'[1]Sub Lookup'!$A$1:$B$65536,2,FALSE)","v":"Commissioned Service - Other"}]
["Kent County Council",12003303,"ALL SEASONS LLP","2020-04-22",388,"S","5KG","Physical support - 65+ Long Term Support: Community: Home Care","530",{"$f":"VLOOKUP(I1388,'[1]Sub Lookup'!$A$1:$B$65536,2,FALSE)","v":"Commissioned Service - Other"}]
["Kent County Council",12003245,"ALL SEASONS LLP","2020-04-22",679.14,"S","5KG","Physical support - 65+ Long Term Support: Community: Home Care","530",{"$f":"VLOOKUP(I1389,'[1]Sub Lookup'!$A$1:$B$65536,2,FALSE)","v":"Commissioned Service - Other"}]
["Kent County Council",12003153,"ALL SEASONS LLP","2020-04-22",543.20000000000005,"S","5KG","Physical support - 65+ Long Term Support: Community: Home Care","530",{"$f":"VLOOKUP(I1390,'[1]Sub Lookup'!$A$1:$B$65536,2,FALSE)","v":"Commissioned Service - Other"}]
["Kent County Council",12003154,"ALL SEASONS LLP","2020-04-22",630.59,"S","5JG","Physical Support - 18 64 Long Term Support: Community: Home Care","530",{"$f":"VLOOKUP(I1391,'[1]Sub Lookup'!$A$1:$B$65536,2,FALSE)","v":"Commissioned Service - Other"}]
["Kent County Council",12003345,"ALL SEASONS LLP","2020-04-22",294.28000000000003,"S","5JG","Physical Support - 18 64 Long Term Support: Community: Home Care","530",{"$f":"VLOOKUP(I1392,'[1]Sub Lookup'!$A$1:$B$65536,2,FALSE)","v":"Commissioned Service - Other"}]
["Kent County Council",12003247,"ALL SEASONS LLP","2020-04-22",407.40000000000003,"S","5JG","Physical Support - 18 64 Long Term Support: Community: Home Care","530",{"$f":"VLOOKUP(I1393,'[1]Sub Lookup'!$A$1:$B$65536,2,FALSE)","v":"Commissioned Service - Other"}]
["Kent County Council",12003312,"ALL SEASONS LLP","2020-04-22",349.2,"S","5KG","Physical support - 65+ Long Term Support: Community: Home Care","530",{"$f":"VLOOKUP(I1394,'[1]Sub Lookup'!$A$1:$B$65536,2,FALSE)","v":"Commissioned Service - Other"}]
["Kent County Council",12003310,"ALL SEASONS LLP","2020-04-22",433.36,"S","5KG","Physical support - 65+ Long Term Support: Community: Home Care","530",{"$f":"VLOOKUP(I1395,'[1]Sub Lookup'!$A$1:$B$65536,2,FALSE)","v":"Commissioned Service - Other"}]
["Kent County Council",12003298,"ALL SEASONS LLP","2020-04-22",618.24,"S","5KG","Physical support - 65+ Long Term Support: Community: Home Care","530",{"$f":"VLOOKUP(I1396,'[1]Sub Lookup'!$A$1:$B$65536,2,FALSE)","v":"Commissioned Service - Other"}]
["Kent County Council",12003334,"ALL SEASONS LLP","2020-04-22",558.89,"S","5KG","Physical support - 65+ Long Term Support: Community: Home Care","530",{"$f":"VLOOKUP(I1397,'[1]Sub Lookup'!$A$1:$B$65536,2,FALSE)","v":"Commissioned Service - Other"}]
["Kent County Council",12003148,"ALL SEASONS LLP","2020-04-22",434.49,"S","5JG","Physical Support - 18 64 Long Term Support: Community: Home Care","530",{"$f":"VLOOKUP(I1398,'[1]Sub Lookup'!$A$1:$B$65536,2,FALSE)","v":"Commissioned Service - Other"}]
["Kent County Council",12003329,"ALL SEASONS LLP","2020-04-22",384.86,"S","5KG","Physical support - 65+ Long Term Support: Community: Home Care","530",{"$f":"VLOOKUP(I1399,'[1]Sub Lookup'!$A$1:$B$65536,2,FALSE)","v":"Commissioned Service - Other"}]
["Kent County Council",12004437,"ALL SEASONS LLP","2020-04-22",257.26,"S","5KG","Physical support - 65+ Long Term Support: Community: Home Care","530",{"$f":"VLOOKUP(I1400,'[1]Sub Lookup'!$A$1:$B$65536,2,FALSE)","v":"Commissioned Service - Other"}]
["Kent County Council",12003216,"ALL SEASONS LLP","2020-04-22",265.23,"S","5KG","Physical support - 65+ Long Term Support: Community: Home Care","530",{"$f":"VLOOKUP(I1401,'[1]Sub Lookup'!$A$1:$B$65536,2,FALSE)","v":"Commissioned Service - Other"}]
["Kent County Council",12004448,"ALL SEASONS LLP","2020-04-22",257.26,"S","5KG","Physical support - 65+ Long Term Support: Community: Home Care","530",{"$f":"VLOOKUP(I1402,'[1]Sub Lookup'!$A$1:$B$65536,2,FALSE)","v":"Commissioned Service - Other"}]
["Kent County Council",12004460,"ALL SEASONS LLP","2020-04-22",257.26,"S","5KG","Physical support - 65+ Long Term Support: Community: Home Care","530",{"$f":"VLOOKUP(I1403,'[1]Sub Lookup'!$A$1:$B$65536,2,FALSE)","v":"Commissioned Service - Other"}]
["Kent County Council",12003126,"ALL SEASONS LLP","2020-04-22",257.26,"S","5KG","Physical support - 65+ Long Term Support: Community: Home Care","530",{"$f":"VLOOKUP(I1404,'[1]Sub Lookup'!$A$1:$B$65536,2,FALSE)","v":"Commissioned Service - Other"}]
["Kent County Council",12003266,"ALL SEASONS LLP","2020-04-22",433.36,"S","5KG","Physical support - 65+ Long Term Support: Community: Home Care","530",{"$f":"VLOOKUP(I1405,'[1]Sub Lookup'!$A$1:$B$65536,2,FALSE)","v":"Commissioned Service - Other"}]
["Kent County Council",12003344,"ALL SEASONS LLP","2020-04-22",565.88,"S","5KG","Physical support - 65+ Long Term Support: Community: Home Care","530",{"$f":"VLOOKUP(I1406,'[1]Sub Lookup'!$A$1:$B$65536,2,FALSE)","v":"Commissioned Service - Other"}]
["Kent County Council",12003254,"ALL SEASONS LLP","2020-04-22",543.20000000000005,"S","5KG","Physical support - 65+ Long Term Support: Community: Home Care","530",{"$f":"VLOOKUP(I1407,'[1]Sub Lookup'!$A$1:$B$65536,2,FALSE)","v":"Commissioned Service - Other"}]
["Kent County Council",12003346,"ALL SEASONS LLP","2020-04-22",604.73,"S","5KG","Physical support - 65+ Long Term Support: Community: Home Care","530",{"$f":"VLOOKUP(I1408,'[1]Sub Lookup'!$A$1:$B$65536,2,FALSE)","v":"Commissioned Service - Other"}]
["Kent County Council",12003315,"ALL SEASONS LLP","2020-04-22",497.98,"S","5KG","Physical support - 65+ Long Term Support: Community: Home Care","530",{"$f":"VLOOKUP(I1409,'[1]Sub Lookup'!$A$1:$B$65536,2,FALSE)","v":"Commissioned Service - Other"}]
["Kent County Council",12003320,"ALL SEASONS LLP","2020-04-22",944.30000000000007,"S","5KG","Physical support - 65+ Long Term Support: Community: Home Care","530",{"$f":"VLOOKUP(I1410,'[1]Sub Lookup'!$A$1:$B$65536,2,FALSE)","v":"Commissioned Service - Other"}]
["Kent County Council",12003164,"ALL SEASONS LLP","2020-04-22",339.5,"S","5JG","Physical Support - 18 64 Long Term Support: Community: Home Care","530",{"$f":"VLOOKUP(I1411,'[1]Sub Lookup'!$A$1:$B$65536,2,FALSE)","v":"Commissioned Service - Other"}]
["Kent County Council",12003188,"ALL SEASONS LLP","2020-04-22",588.56000000000006,"S","5KG","Physical support - 65+ Long Term Support: Community: Home Care","530",{"$f":"VLOOKUP(I1412,'[1]Sub Lookup'!$A$1:$B$65536,2,FALSE)","v":"Commissioned Service - Other"}]
["Kent County Council",12003160,"ALL SEASONS LLP","2020-04-22",271.60000000000002,"S","5KG","Physical support - 65+ Long Term Support: Community: Home Care","530",{"$f":"VLOOKUP(I1413,'[1]Sub Lookup'!$A$1:$B$65536,2,FALSE)","v":"Commissioned Service - Other"}]
["Kent County Council",12003325,"ALL SEASONS LLP","2020-04-22",711.48,"S","5KG","Physical support - 65+ Long Term Support: Community: Home Care","530",{"$f":"VLOOKUP(I1414,'[1]Sub Lookup'!$A$1:$B$65536,2,FALSE)","v":"Commissioned Service - Other"}]
["Kent County Council",12003182,"ALL SEASONS LLP","2020-04-22",294.28000000000003,"S","5KG","Physical support - 65+ Long Term Support: Community: Home Care","530",{"$f":"VLOOKUP(I1415,'[1]Sub Lookup'!$A$1:$B$65536,2,FALSE)","v":"Commissioned Service - Other"}]
["Kent County Council",12003225,"ALL SEASONS LLP","2020-04-22",515.84,"S","5KG","Physical support - 65+ Long Term Support: Community: Home Care","530",{"$f":"VLOOKUP(I1416,'[1]Sub Lookup'!$A$1:$B$65536,2,FALSE)","v":"Commissioned Service - Other"}]
["Kent County Council",12003302,"ALL SEASONS LLP","2020-04-22",407.40000000000003,"S","5JG","Physical Support - 18 64 Long Term Support: Community: Home Care","530",{"$f":"VLOOKUP(I1417,'[1]Sub Lookup'!$A$1:$B$65536,2,FALSE)","v":"Commissioned Service - Other"}]
["Kent County Council",12003169,"ALL SEASONS LLP","2020-04-22",407.40000000000003,"S","5KG","Physical support - 65+ Long Term Support: Community: Home Care","530",{"$f":"VLOOKUP(I1418,'[1]Sub Lookup'!$A$1:$B$65536,2,FALSE)","v":"Commissioned Service - Other"}]
["Kent County Council",12003293,"ALL SEASONS LLP","2020-04-22",633.78,"S","5KG","Physical support - 65+ Long Term Support: Community: Home Care","530",{"$f":"VLOOKUP(I1419,'[1]Sub Lookup'!$A$1:$B$65536,2,FALSE)","v":"Commissioned Service - Other"}]
["Kent County Council",12003176,"ALL SEASONS LLP","2020-04-22",543.34,"S","5KG","Physical support - 65+ Long Term Support: Community: Home Care","530",{"$f":"VLOOKUP(I1420,'[1]Sub Lookup'!$A$1:$B$65536,2,FALSE)","v":"Commissioned Service - Other"}]
["Kent County Council",12003259,"ALL SEASONS LLP","2020-04-22",407.40000000000003,"S","5KG","Physical support - 65+ Long Term Support: Community: Home Care","530",{"$f":"VLOOKUP(I1421,'[1]Sub Lookup'!$A$1:$B$65536,2,FALSE)","v":"Commissioned Service - Other"}]
["Kent County Council",12003286,"ALL SEASONS LLP","2020-04-22",314.29000000000002,"S","5KG","Physical support - 65+ Long Term Support: Community: Home Care","530",{"$f":"VLOOKUP(I1422,'[1]Sub Lookup'!$A$1:$B$65536,2,FALSE)","v":"Commissioned Service - Other"}]
["Kent County Council",12003294,"ALL SEASONS LLP","2020-04-22",388,"S","5KG","Physical support - 65+ Long Term Support: Community: Home Care","530",{"$f":"VLOOKUP(I1423,'[1]Sub Lookup'!$A$1:$B$65536,2,FALSE)","v":"Commissioned Service - Other"}]
["Kent County Council",12003234,"ALL SEASONS LLP","2020-04-22",307.23,"S","5KG","Physical support - 65+ Long Term Support: Community: Home Care","530",{"$f":"VLOOKUP(I1424,'[1]Sub Lookup'!$A$1:$B$65536,2,FALSE)","v":"Commissioned Service - Other"}]
["Kent County Council",12003143,"ALL SEASONS LLP","2020-04-22",316.95999999999998,"S","5KG","Physical support - 65+ Long Term Support: Community: Home Care","530",{"$f":"VLOOKUP(I1425,'[1]Sub Lookup'!$A$1:$B$65536,2,FALSE)","v":"Commissioned Service - Other"}]
["Kent County Council",12004430,"ALL SEASONS LLP","2020-04-22",269.22000000000003,"S","5KG","Physical support - 65+ Long Term Support: Community: Home Care","530",{"$f":"VLOOKUP(I1426,'[1]Sub Lookup'!$A$1:$B$65536,2,FALSE)","v":"Commissioned Service - Other"}]
["Kent County Council",12003162,"ALL SEASONS LLP","2020-04-22",449.53000000000003,"S","5KG","Physical support - 65+ Long Term Support: Community: Home Care","530",{"$f":"VLOOKUP(I1427,'[1]Sub Lookup'!$A$1:$B$65536,2,FALSE)","v":"Commissioned Service - Other"}]
["Kent County Council",12003171,"ALL SEASONS LLP","2020-04-22",407.40000000000003,"S","5KG","Physical support - 65+ Long Term Support: Community: Home Care","530",{"$f":"VLOOKUP(I1428,'[1]Sub Lookup'!$A$1:$B$65536,2,FALSE)","v":"Commissioned Service - Other"}]
["Kent County Council",12003339,"ALL SEASONS LLP","2020-04-22",543.20000000000005,"S","5KG","Physical support - 65+ Long Term Support: Community: Home Care","530",{"$f":"VLOOKUP(I1429,'[1]Sub Lookup'!$A$1:$B$65536,2,FALSE)","v":"Commissioned Service - Other"}]
["Kent County Council",12003256,"ALL SEASONS LLP","2020-04-22",316.95999999999998,"S","5KG","Physical support - 65+ Long Term Support: Community: Home Care","530",{"$f":"VLOOKUP(I1430,'[1]Sub Lookup'!$A$1:$B$65536,2,FALSE)","v":"Commissioned Service - Other"}]
["Kent County Council",12003193,"ALL SEASONS LLP","2020-04-22",653.32000000000005,"S","5KG","Physical support - 65+ Long Term Support: Community: Home Care","530",{"$f":"VLOOKUP(I1431,'[1]Sub Lookup'!$A$1:$B$65536,2,FALSE)","v":"Commissioned Service - Other"}]
["Kent County Council",12003257,"ALL SEASONS LLP","2020-04-22",611.16999999999996,"S","5KG","Physical support - 65+ Long Term Support: Community: Home Care","530",{"$f":"VLOOKUP(I1432,'[1]Sub Lookup'!$A$1:$B$65536,2,FALSE)","v":"Commissioned Service - Other"}]
["Kent County Council",12003129,"ALL SEASONS LLP","2020-04-22",366.99,"S","5KG","Physical support - 65+ Long Term Support: Community: Home Care","530",{"$f":"VLOOKUP(I1433,'[1]Sub Lookup'!$A$1:$B$65536,2,FALSE)","v":"Commissioned Service - Other"}]
["Kent County Council",12016330,"ALL SEASONS LLP","2020-04-29",543.20000000000005,"S","5KG","Physical support - 65+ Long Term Support: Community: Home Care","530",{"$f":"VLOOKUP(I1434,'[1]Sub Lookup'!$A$1:$B$65536,2,FALSE)","v":"Commissioned Service - Other"}]
["Kent County Council",12016331,"ALL SEASONS LLP","2020-04-29",630.59,"S","5JG","Physical Support - 18 64 Long Term Support: Community: Home Care","530",{"$f":"VLOOKUP(I1435,'[1]Sub Lookup'!$A$1:$B$65536,2,FALSE)","v":"Commissioned Service - Other"}]
["Kent County Council",12016523,"ALL SEASONS LLP","2020-04-29",294.28000000000003,"S","5JG","Physical Support - 18 64 Long Term Support: Community: Home Care","530",{"$f":"VLOOKUP(I1436,'[1]Sub Lookup'!$A$1:$B$65536,2,FALSE)","v":"Commissioned Service - Other"}]
["Kent County Council",12016423,"ALL SEASONS LLP","2020-04-29",407.40000000000003,"S","5JG","Physical Support - 18 64 Long Term Support: Community: Home Care","530",{"$f":"VLOOKUP(I1437,'[1]Sub Lookup'!$A$1:$B$65536,2,FALSE)","v":"Commissioned Service - Other"}]
["Kent County Council",12016358,"ALL SEASONS LLP","2020-04-29",271.67,"S","5KG","Physical support - 65+ Long Term Support: Community: Home Care","530",{"$f":"VLOOKUP(I1438,'[1]Sub Lookup'!$A$1:$B$65536,2,FALSE)","v":"Commissioned Service - Other"}]
["Kent County Council",12016310,"ALL SEASONS LLP","2020-04-29",586.61,"S","5JG","Physical Support - 18 64 Long Term Support: Community: Home Care","530",{"$f":"VLOOKUP(I1439,'[1]Sub Lookup'!$A$1:$B$65536,2,FALSE)","v":"Commissioned Service - Other"}]
["Kent County Council",12016309,"ALL SEASONS LLP","2020-04-29",586.61,"S","5JG","Physical Support - 18 64 Long Term Support: Community: Home Care","530",{"$f":"VLOOKUP(I1440,'[1]Sub Lookup'!$A$1:$B$65536,2,FALSE)","v":"Commissioned Service - Other"}]
["Kent County Council",12016527,"ALL SEASONS LLP","2020-04-29",604.73,"S","5JG","Physical Support - 18 64 Long Term Support: Community: Home Care","530",{"$f":"VLOOKUP(I1441,'[1]Sub Lookup'!$A$1:$B$65536,2,FALSE)","v":"Commissioned Service - Other"}]
["Kent County Council",12016308,"ALL SEASONS LLP","2020-04-29",586.61,"S","5JG","Physical Support - 18 64 Long Term Support: Community: Home Care","530",{"$f":"VLOOKUP(I1442,'[1]Sub Lookup'!$A$1:$B$65536,2,FALSE)","v":"Commissioned Service - Other"}]
["Kent County Council",12016314,"ALL SEASONS LLP","2020-04-29",595.03,"S","5JG","Physical Support - 18 64 Long Term Support: Community: Home Care","530",{"$f":"VLOOKUP(I1443,'[1]Sub Lookup'!$A$1:$B$65536,2,FALSE)","v":"Commissioned Service - Other"}]
["Kent County Council",12016307,"ALL SEASONS LLP","2020-04-29",586.61,"S","5JG","Physical Support - 18 64 Long Term Support: Community: Home Care","530",{"$f":"VLOOKUP(I1444,'[1]Sub Lookup'!$A$1:$B$65536,2,FALSE)","v":"Commissioned Service - Other"}]
["Kent County Council",12016313,"ALL SEASONS LLP","2020-04-29",604.73,"S","5JG","Physical Support - 18 64 Long Term Support: Community: Home Care","530",{"$f":"VLOOKUP(I1445,'[1]Sub Lookup'!$A$1:$B$65536,2,FALSE)","v":"Commissioned Service - Other"}]
["Kent County Council",12016489,"ALL SEASONS LLP","2020-04-29",543.20000000000005,"S","5KG","Physical support - 65+ Long Term Support: Community: Home Care","530",{"$f":"VLOOKUP(I1446,'[1]Sub Lookup'!$A$1:$B$65536,2,FALSE)","v":"Commissioned Service - Other"}]
["Kent County Council",12016487,"ALL SEASONS LLP","2020-04-29",452.76,"S","5KG","Physical support - 65+ Long Term Support: Community: Home Care","530",{"$f":"VLOOKUP(I1447,'[1]Sub Lookup'!$A$1:$B$65536,2,FALSE)","v":"Commissioned Service - Other"}]
["Kent County Council",12016422,"ALL SEASONS LLP","2020-04-29",679.14,"S","5KG","Physical support - 65+ Long Term Support: Community: Home Care","530",{"$f":"VLOOKUP(I1448,'[1]Sub Lookup'!$A$1:$B$65536,2,FALSE)","v":"Commissioned Service - Other"}]
["Kent County Council",12016480,"ALL SEASONS LLP","2020-04-29",543.20000000000005,"S","5KG","Physical support - 65+ Long Term Support: Community: Home Care","530",{"$f":"VLOOKUP(I1449,'[1]Sub Lookup'!$A$1:$B$65536,2,FALSE)","v":"Commissioned Service - Other"}]
["Kent County Council",12016515,"ALL SEASONS LLP","2020-04-29",588.56000000000006,"S","5KG","Physical support - 65+ Long Term Support: Community: Home Care","530",{"$f":"VLOOKUP(I1450,'[1]Sub Lookup'!$A$1:$B$65536,2,FALSE)","v":"Commissioned Service - Other"}]
["Kent County Council",12016325,"ALL SEASONS LLP","2020-04-29",434.49,"S","5JG","Physical Support - 18 64 Long Term Support: Community: Home Care","530",{"$f":"VLOOKUP(I1451,'[1]Sub Lookup'!$A$1:$B$65536,2,FALSE)","v":"Commissioned Service - Other"}]
["Kent County Council",12016506,"ALL SEASONS LLP","2020-04-29",384.86,"S","5KG","Physical support - 65+ Long Term Support: Community: Home Care","530",{"$f":"VLOOKUP(I1452,'[1]Sub Lookup'!$A$1:$B$65536,2,FALSE)","v":"Commissioned Service - Other"}]
["Kent County Council",12016394,"ALL SEASONS LLP","2020-04-29",265.23,"S","5KG","Physical support - 65+ Long Term Support: Community: Home Care","530",{"$f":"VLOOKUP(I1453,'[1]Sub Lookup'!$A$1:$B$65536,2,FALSE)","v":"Commissioned Service - Other"}]
["Kent County Council",12016442,"ALL SEASONS LLP","2020-04-29",452.76,"S","5KG","Physical support - 65+ Long Term Support: Community: Home Care","530",{"$f":"VLOOKUP(I1454,'[1]Sub Lookup'!$A$1:$B$65536,2,FALSE)","v":"Commissioned Service - Other"}]
["Kent County Council",12016522,"ALL SEASONS LLP","2020-04-29",565.88,"S","5KG","Physical support - 65+ Long Term Support: Community: Home Care","530",{"$f":"VLOOKUP(I1455,'[1]Sub Lookup'!$A$1:$B$65536,2,FALSE)","v":"Commissioned Service - Other"}]
["Kent County Council",12016431,"ALL SEASONS LLP","2020-04-29",543.20000000000005,"S","5KG","Physical support - 65+ Long Term Support: Community: Home Care","530",{"$f":"VLOOKUP(I1456,'[1]Sub Lookup'!$A$1:$B$65536,2,FALSE)","v":"Commissioned Service - Other"}]
["Kent County Council",12016524,"ALL SEASONS LLP","2020-04-29",604.73,"S","5KG","Physical support - 65+ Long Term Support: Community: Home Care","530",{"$f":"VLOOKUP(I1457,'[1]Sub Lookup'!$A$1:$B$65536,2,FALSE)","v":"Commissioned Service - Other"}]
["Kent County Council",12016492,"ALL SEASONS LLP","2020-04-29",497.98,"S","5KG","Physical support - 65+ Long Term Support: Community: Home Care","530",{"$f":"VLOOKUP(I1458,'[1]Sub Lookup'!$A$1:$B$65536,2,FALSE)","v":"Commissioned Service - Other"}]
["Kent County Council",12017645,"ALL SEASONS LLP","2020-04-29",2070.17,"S","5XC","Commissioning & Service Delivery","530",{"$f":"VLOOKUP(I1459,'[1]Sub Lookup'!$A$1:$B$65536,2,FALSE)","v":"Commissioned Service - Other"}]
["Kent County Council",12017646,"ALL SEASONS LLP","2020-04-29",2124.7400000000002,"S","5XC","Commissioning & Service Delivery","530",{"$f":"VLOOKUP(I1460,'[1]Sub Lookup'!$A$1:$B$65536,2,FALSE)","v":"Commissioned Service - Other"}]
["Kent County Council",12017647,"ALL SEASONS LLP","2020-04-29",56529.87,"S","5XC","Commissioning & Service Delivery","530",{"$f":"VLOOKUP(I1461,'[1]Sub Lookup'!$A$1:$B$65536,2,FALSE)","v":"Commissioned Service - Other"}]
["Kent County Council",12016497,"ALL SEASONS LLP","2020-04-29",879.62,"S","5KG","Physical support - 65+ Long Term Support: Community: Home Care","530",{"$f":"VLOOKUP(I1462,'[1]Sub Lookup'!$A$1:$B$65536,2,FALSE)","v":"Commissioned Service - Other"}]
["Kent County Council",12016341,"ALL SEASONS LLP","2020-04-29",407.40000000000003,"S","5JG","Physical Support - 18 64 Long Term Support: Community: Home Care","530",{"$f":"VLOOKUP(I1463,'[1]Sub Lookup'!$A$1:$B$65536,2,FALSE)","v":"Commissioned Service - Other"}]
["Kent County Council",12016366,"ALL SEASONS LLP","2020-04-29",530.36,"S","5KG","Physical support - 65+ Long Term Support: Community: Home Care","530",{"$f":"VLOOKUP(I1464,'[1]Sub Lookup'!$A$1:$B$65536,2,FALSE)","v":"Commissioned Service - Other"}]
["Kent County Council",12016337,"ALL SEASONS LLP","2020-04-29",271.60000000000002,"S","5KG","Physical support - 65+ Long Term Support: Community: Home Care","530",{"$f":"VLOOKUP(I1465,'[1]Sub Lookup'!$A$1:$B$65536,2,FALSE)","v":"Commissioned Service - Other"}]
["Kent County Council",12016502,"ALL SEASONS LLP","2020-04-29",679.14,"S","5KG","Physical support - 65+ Long Term Support: Community: Home Care","530",{"$f":"VLOOKUP(I1466,'[1]Sub Lookup'!$A$1:$B$65536,2,FALSE)","v":"Commissioned Service - Other"}]
["Kent County Council",12016360,"ALL SEASONS LLP","2020-04-29",294.28000000000003,"S","5KG","Physical support - 65+ Long Term Support: Community: Home Care","530",{"$f":"VLOOKUP(I1467,'[1]Sub Lookup'!$A$1:$B$65536,2,FALSE)","v":"Commissioned Service - Other"}]
["Kent County Council",12016403,"ALL SEASONS LLP","2020-04-29",515.84,"S","5KG","Physical support - 65+ Long Term Support: Community: Home Care","530",{"$f":"VLOOKUP(I1468,'[1]Sub Lookup'!$A$1:$B$65536,2,FALSE)","v":"Commissioned Service - Other"}]
["Kent County Council",12016479,"ALL SEASONS LLP","2020-04-29",407.40000000000003,"S","5JG","Physical Support - 18 64 Long Term Support: Community: Home Care","530",{"$f":"VLOOKUP(I1469,'[1]Sub Lookup'!$A$1:$B$65536,2,FALSE)","v":"Commissioned Service - Other"}]
["Kent County Council",12016346,"ALL SEASONS LLP","2020-04-29",407.40000000000003,"S","5KG","Physical support - 65+ Long Term Support: Community: Home Care","530",{"$f":"VLOOKUP(I1470,'[1]Sub Lookup'!$A$1:$B$65536,2,FALSE)","v":"Commissioned Service - Other"}]
["Kent County Council",12016469,"ALL SEASONS LLP","2020-04-29",633.78,"S","5KG","Physical support - 65+ Long Term Support: Community: Home Care","530",{"$f":"VLOOKUP(I1471,'[1]Sub Lookup'!$A$1:$B$65536,2,FALSE)","v":"Commissioned Service - Other"}]
["Kent County Council",12016353,"ALL SEASONS LLP","2020-04-29",543.34,"S","5KG","Physical support - 65+ Long Term Support: Community: Home Care","530",{"$f":"VLOOKUP(I1472,'[1]Sub Lookup'!$A$1:$B$65536,2,FALSE)","v":"Commissioned Service - Other"}]
["Kent County Council",12016435,"ALL SEASONS LLP","2020-04-29",407.40000000000003,"S","5KG","Physical support - 65+ Long Term Support: Community: Home Care","530",{"$f":"VLOOKUP(I1473,'[1]Sub Lookup'!$A$1:$B$65536,2,FALSE)","v":"Commissioned Service - Other"}]
["Kent County Council",12016372,"ALL SEASONS LLP","2020-04-29",666.26,"S","5KG","Physical support - 65+ Long Term Support: Community: Home Care","530",{"$f":"VLOOKUP(I1474,'[1]Sub Lookup'!$A$1:$B$65536,2,FALSE)","v":"Commissioned Service - Other"}]
["Kent County Council",12016433,"ALL SEASONS LLP","2020-04-29",316.95999999999998,"S","5KG","Physical support - 65+ Long Term Support: Community: Home Care","530",{"$f":"VLOOKUP(I1475,'[1]Sub Lookup'!$A$1:$B$65536,2,FALSE)","v":"Commissioned Service - Other"}]
["Kent County Council",12016474,"ALL SEASONS LLP","2020-04-29",597.86,"S","5KG","Physical support - 65+ Long Term Support: Community: Home Care","530",{"$f":"VLOOKUP(I1476,'[1]Sub Lookup'!$A$1:$B$65536,2,FALSE)","v":"Commissioned Service - Other"}]
["Kent County Council",12016511,"ALL SEASONS LLP","2020-04-29",568.59,"S","5KG","Physical support - 65+ Long Term Support: Community: Home Care","530",{"$f":"VLOOKUP(I1477,'[1]Sub Lookup'!$A$1:$B$65536,2,FALSE)","v":"Commissioned Service - Other"}]
["Kent County Council",12016461,"ALL SEASONS LLP","2020-04-29",314.29000000000002,"S","5KG","Physical support - 65+ Long Term Support: Community: Home Care","530",{"$f":"VLOOKUP(I1478,'[1]Sub Lookup'!$A$1:$B$65536,2,FALSE)","v":"Commissioned Service - Other"}]
["Kent County Council",12016470,"ALL SEASONS LLP","2020-04-29",407.40000000000003,"S","5KG","Physical support - 65+ Long Term Support: Community: Home Care","530",{"$f":"VLOOKUP(I1479,'[1]Sub Lookup'!$A$1:$B$65536,2,FALSE)","v":"Commissioned Service - Other"}]
["Kent County Council",12016412,"ALL SEASONS LLP","2020-04-29",307.23,"S","5KG","Physical support - 65+ Long Term Support: Community: Home Care","530",{"$f":"VLOOKUP(I1480,'[1]Sub Lookup'!$A$1:$B$65536,2,FALSE)","v":"Commissioned Service - Other"}]
["Kent County Council",12016320,"ALL SEASONS LLP","2020-04-29",316.95999999999998,"S","5KG","Physical support - 65+ Long Term Support: Community: Home Care","530",{"$f":"VLOOKUP(I1481,'[1]Sub Lookup'!$A$1:$B$65536,2,FALSE)","v":"Commissioned Service - Other"}]
["Kent County Council",12016302,"ALL SEASONS LLP","2020-04-29",269.22000000000003,"S","5KG","Physical support - 65+ Long Term Support: Community: Home Care","530",{"$f":"VLOOKUP(I1482,'[1]Sub Lookup'!$A$1:$B$65536,2,FALSE)","v":"Commissioned Service - Other"}]
["Kent County Council",12016339,"ALL SEASONS LLP","2020-04-29",468.93,"S","5KG","Physical support - 65+ Long Term Support: Community: Home Care","530",{"$f":"VLOOKUP(I1483,'[1]Sub Lookup'!$A$1:$B$65536,2,FALSE)","v":"Commissioned Service - Other"}]
["Kent County Council",12016348,"ALL SEASONS LLP","2020-04-29",397.7,"S","5KG","Physical support - 65+ Long Term Support: Community: Home Care","530",{"$f":"VLOOKUP(I1484,'[1]Sub Lookup'!$A$1:$B$65536,2,FALSE)","v":"Commissioned Service - Other"}]
["Kent County Council",12016517,"ALL SEASONS LLP","2020-04-29",523.79999999999995,"S","5KG","Physical support - 65+ Long Term Support: Community: Home Care","530",{"$f":"VLOOKUP(I1485,'[1]Sub Lookup'!$A$1:$B$65536,2,FALSE)","v":"Commissioned Service - Other"}]
["Kent County Council",12016311,"ALL SEASONS LLP","2020-04-29",360.74,"S","5KG","Physical support - 65+ Long Term Support: Community: Home Care","530",{"$f":"VLOOKUP(I1486,'[1]Sub Lookup'!$A$1:$B$65536,2,FALSE)","v":"Commissioned Service - Other"}]
["Kent County Council",12016536,"ALL SEASONS LLP","2020-04-29",430.08,"S","5KG","Physical support - 65+ Long Term Support: Community: Home Care","530",{"$f":"VLOOKUP(I1487,'[1]Sub Lookup'!$A$1:$B$65536,2,FALSE)","v":"Commissioned Service - Other"}]
["Kent County Council",12016315,"ALL SEASONS LLP","2020-04-29",430.08,"S","5KG","Physical support - 65+ Long Term Support: Community: Home Care","530",{"$f":"VLOOKUP(I1488,'[1]Sub Lookup'!$A$1:$B$65536,2,FALSE)","v":"Commissioned Service - Other"}]
["Kent County Council",12016312,"ALL SEASONS LLP","2020-04-29",430.08,"S","5KG","Physical support - 65+ Long Term Support: Community: Home Care","530",{"$f":"VLOOKUP(I1489,'[1]Sub Lookup'!$A$1:$B$65536,2,FALSE)","v":"Commissioned Service - Other"}]
["Kent County Council",11996684,"ALL YEAR GARDENS LTD","2020-04-24",3978,"C","2LB","Arts Development","C14",{"$f":"VLOOKUP(I1490,'[1]Sub Lookup'!$A$1:$B$65536,2,FALSE)","v":"Design Fees - External"}]
["Kent County Council",11975786,"ALL4U FOSTERING LTD","2020-04-20",4186.1099999999997,"S","35R","IS Fostering","527",{"$f":"VLOOKUP(I1491,'[1]Sub Lookup'!$A$1:$B$65536,2,FALSE)","v":"Services"}]
["Kent County Council",11975787,"ALL4U FOSTERING LTD","2020-04-20",4849.29,"S","35R","IS Fostering","527",{"$f":"VLOOKUP(I1492,'[1]Sub Lookup'!$A$1:$B$65536,2,FALSE)","v":"Services"}]
["Kent County Council",11975788,"ALL4U FOSTERING LTD","2020-04-20",4849.29,"S","35R","IS Fostering","527",{"$f":"VLOOKUP(I1493,'[1]Sub Lookup'!$A$1:$B$65536,2,FALSE)","v":"Services"}]
["Kent County Council",11975789,"ALL4U FOSTERING LTD","2020-04-20",7506.43,"S","35R","IS Fostering","527",{"$f":"VLOOKUP(I1494,'[1]Sub Lookup'!$A$1:$B$65536,2,FALSE)","v":"Services"}]
["Kent County Council",11975790,"ALL4U FOSTERING LTD","2020-04-20",2872.37,"S","35R","IS Fostering","527",{"$f":"VLOOKUP(I1495,'[1]Sub Lookup'!$A$1:$B$65536,2,FALSE)","v":"Services"}]
["Kent County Council",11993377,"ALLEN DADSWELL CONSTRUCTION CONSULTANTS","2020-04-20",1332.1000000000001,"P","7HZ","Structural Maintenance and Major Improvements","C20",{"$f":"VLOOKUP(I1496,'[1]Sub Lookup'!$A$1:$B$65536,2,FALSE)","v":"Infrastructure"}]
["Kent County Council",11983975,"ALLEN DADSWELL CONSTRUCTION CONSULTANTS","2020-04-21",837.31000000000006,"P","7HH","Highway Improvements","C20",{"$f":"VLOOKUP(I1497,'[1]Sub Lookup'!$A$1:$B$65536,2,FALSE)","v":"Infrastructure"}]
["Kent County Council",12011135,"ALLEN DADSWELL CONSTRUCTION CONSULTANTS","2020-04-28",2626.11,"P","7HZ","Structural Maintenance and Major Improvements","C20",{"$f":"VLOOKUP(I1498,'[1]Sub Lookup'!$A$1:$B$65536,2,FALSE)","v":"Infrastructure"}]
["Kent County Council",12011137,"ALLEN DADSWELL CONSTRUCTION CONSULTANTS","2020-04-28",4125.71,"P","7HZ","Structural Maintenance and Major Improvements","C20",{"$f":"VLOOKUP(I1499,'[1]Sub Lookup'!$A$1:$B$65536,2,FALSE)","v":"Infrastructure"}]
["Kent County Council",12011141,"ALLEN DADSWELL CONSTRUCTION CONSULTANTS","2020-04-28",4369.28,"P","7HZ","Structural Maintenance and Major Improvements","C20",{"$f":"VLOOKUP(I1500,'[1]Sub Lookup'!$A$1:$B$65536,2,FALSE)","v":"Infrastructure"}]
["Kent County Council",12011151,"ALLEN DADSWELL CONSTRUCTION CONSULTANTS","2020-04-28",867.76,"P","7HZ","Structural Maintenance and Major Improvements","C20",{"$f":"VLOOKUP(I1501,'[1]Sub Lookup'!$A$1:$B$65536,2,FALSE)","v":"Infrastructure"}]
["Kent County Council",12014420,"ALLEN DADSWELL CONSTRUCTION CONSULTANTS","2020-04-29",1004.78,"P","7HH","Highway Improvements","402",{"$f":"VLOOKUP(I1502,'[1]Sub Lookup'!$A$1:$B$65536,2,FALSE)","v":"Consultants"}]
["Kent County Council",11994006,"ALLIED PUBLICITY SERVICES (MANCHESTER) LTD","2020-04-24",6235.55,"S","5WQ","Assistive Equipment & Technology","401",{"$f":"VLOOKUP(I1503,'[1]Sub Lookup'!$A$1:$B$65536,2,FALSE)","v":"Specialists Fees"}]
["Kent County Council",12005615,"ALLIED VEHICLES LIMITED T/A ALLIED MOBILITY","2020-04-27",816.66,"S","35F","IS Day Care Dis Child","232",{"$f":"VLOOKUP(I1504,'[1]Sub Lookup'!$A$1:$B$65536,2,FALSE)","v":"Public Transport (Clients)"}]
["Kent County Council",12006716,"ALLISON SUMMERS","2020-04-24",463,"K","2RF","Coroners","401",{"$f":"VLOOKUP(I1505,'[1]Sub Lookup'!$A$1:$B$65536,2,FALSE)","v":"Specialists Fees"}]
["Kent County Council",12014185,"ALPHA 311 LTD","2020-04-29",2193.2000000000003,"P","7PC","Sustainability & Climate Change","450",{"$f":"VLOOKUP(I1506,'[1]Sub Lookup'!$A$1:$B$65536,2,FALSE)","v":"Grants"}]
["Kent County Council",11966404,"ALPHA CARE CASTLEMAIN LTD T/A CASTLEMAINE CARE HOME","2020-04-01",526,"S","5XC","Commissioning & Service Delivery","530",{"$f":"VLOOKUP(I1507,'[1]Sub Lookup'!$A$1:$B$65536,2,FALSE)","v":"Commissioned Service - Other"}]
["Kent County Council",11976633,"ALPHA CARE CASTLEMAIN LTD T/A CASTLEMAINE CARE HOME","2020-04-06",2104,"S","5KA","Physical support - 65+ Long Term Support: Residential","530",{"$f":"VLOOKUP(I1508,'[1]Sub Lookup'!$A$1:$B$65536,2,FALSE)","v":"Commissioned Service - Other"}]
["Kent County Council",12017820,"ALPHA CARE CASTLEMAIN LTD T/A CASTLEMAINE CARE HOME","2020-04-29",526,"S","5XC","Commissioning & Service Delivery","530",{"$f":"VLOOKUP(I1509,'[1]Sub Lookup'!$A$1:$B$65536,2,FALSE)","v":"Commissioned Service - Other"}]
["Kent County Council",11990502,"ALPHA RESPONSE 2004 LTD T/A RED SUPPORT SERVICES","2020-04-21",711,"K","2LE","Adult Education","141",{"$f":"VLOOKUP(I1510,'[1]Sub Lookup'!$A$1:$B$65536,2,FALSE)","v":"Premises Security Charges"}]
["Kent County Council",11990505,"ALPHA RESPONSE 2004 LTD T/A RED SUPPORT SERVICES","2020-04-21",355.5,"K","2LE","Adult Education","141",{"$f":"VLOOKUP(I1511,'[1]Sub Lookup'!$A$1:$B$65536,2,FALSE)","v":"Premises Security Charges"}]
["Kent County Council",11990507,"ALPHA RESPONSE 2004 LTD T/A RED SUPPORT SERVICES","2020-04-21",355.5,"K","2LE","Adult Education","141",{"$f":"VLOOKUP(I1512,'[1]Sub Lookup'!$A$1:$B$65536,2,FALSE)","v":"Premises Security Charges"}]
["Kent County Council",11966666,"ALPHA24 LIMITED T/A INTRINSIC CARE GROUP","2020-04-01",1643.75,"S","5XC","Commissioning & Service Delivery","530",{"$f":"VLOOKUP(I1513,'[1]Sub Lookup'!$A$1:$B$65536,2,FALSE)","v":"Commissioned Service - Other"}]
["Kent County Council",11966665,"ALPHA24 LIMITED T/A INTRINSIC CARE GROUP","2020-04-01",1038.5,"S","5XC","Commissioning & Service Delivery","530",{"$f":"VLOOKUP(I1514,'[1]Sub Lookup'!$A$1:$B$65536,2,FALSE)","v":"Commissioned Service - Other"}]
["Kent County Council",11992180,"ALPHA24 LIMITED T/A INTRINSIC CARE GROUP","2020-04-15",13485,"S","5EH","Mental Health Support - 18 64 Long Term Support: Community: Supported Living","530",{"$f":"VLOOKUP(I1515,'[1]Sub Lookup'!$A$1:$B$65536,2,FALSE)","v":"Commissioned Service - Other"}]
["Kent County Council",12000596,"ALPHA24 LIMITED T/A INTRINSIC CARE GROUP","2020-04-21",5454,"S","5EH","Mental Health Support - 18 64 Long Term Support: Community: Supported Living","530",{"$f":"VLOOKUP(I1516,'[1]Sub Lookup'!$A$1:$B$65536,2,FALSE)","v":"Commissioned Service - Other"}]
["Kent County Council",12018077,"ALPHA24 LIMITED T/A INTRINSIC CARE GROUP","2020-04-29",1038.5,"S","5XC","Commissioning & Service Delivery","530",{"$f":"VLOOKUP(I1517,'[1]Sub Lookup'!$A$1:$B$65536,2,FALSE)","v":"Commissioned Service - Other"}]
["Kent County Council",12018078,"ALPHA24 LIMITED T/A INTRINSIC CARE GROUP","2020-04-29",1643.75,"S","5XC","Commissioning & Service Delivery","530",{"$f":"VLOOKUP(I1518,'[1]Sub Lookup'!$A$1:$B$65536,2,FALSE)","v":"Commissioned Service - Other"}]
["Kent County Council",11984510,"ALPHABETS NURSERY LTD","2020-04-14",18647.850000000002,"E","1KA","School Resources","528",{"$f":"VLOOKUP(I1519,'[1]Sub Lookup'!$A$1:$B$65536,2,FALSE)","v":"Early Years Education"}]
["Kent County Council",11972432,"ALS ENVIRONMENTAL LTD","2020-04-09",611.51,"P","7WH","Closed Landfill Sites (Aftercare)","523",{"$f":"VLOOKUP(I1520,'[1]Sub Lookup'!$A$1:$B$65536,2,FALSE)","v":"Private Contractors"}]
["Kent County Council",11967242,"ALTRUISTIC (NORTH KENT) LTD T/A PURE LIFE HOME CARE","2020-04-01",3850.1800000000003,"S","5XC","Commissioning & Service Delivery","530",{"$f":"VLOOKUP(I1521,'[1]Sub Lookup'!$A$1:$B$65536,2,FALSE)","v":"Commissioned Service - Other"}]
["Kent County Council",11966518,"ALTRUISTIC (NORTH KENT) LTD T/A PURE LIFE HOME CARE","2020-04-01",1009.24,"S","5XC","Commissioning & Service Delivery","530",{"$f":"VLOOKUP(I1522,'[1]Sub Lookup'!$A$1:$B$65536,2,FALSE)","v":"Commissioned Service - Other"}]
["Kent County Council",11957568,"ALTRUISTIC (NORTH KENT) LTD T/A PURE LIFE HOME CARE","2020-04-03",335.6,"S","5KG","Physical support - 65+ Long Term Support: Community: Home Care","530",{"$f":"VLOOKUP(I1523,'[1]Sub Lookup'!$A$1:$B$65536,2,FALSE)","v":"Commissioned Service - Other"}]
["Kent County Council",11957564,"ALTRUISTIC (NORTH KENT) LTD T/A PURE LIFE HOME CARE","2020-04-03",374.40000000000003,"S","5KG","Physical support - 65+ Long Term Support: Community: Home Care","530",{"$f":"VLOOKUP(I1524,'[1]Sub Lookup'!$A$1:$B$65536,2,FALSE)","v":"Commissioned Service - Other"}]
["Kent County Council",11959499,"ALTRUISTIC (NORTH KENT) LTD T/A PURE LIFE HOME CARE","2020-04-03",292.85000000000002,"S","5KG","Physical support - 65+ Long Term Support: Community: Home Care","530",{"$f":"VLOOKUP(I1525,'[1]Sub Lookup'!$A$1:$B$65536,2,FALSE)","v":"Commissioned Service - Other"}]
["Kent County Council",11959510,"ALTRUISTIC (NORTH KENT) LTD T/A PURE LIFE HOME CARE","2020-04-03",710,"S","5KG","Physical support - 65+ Long Term Support: Community: Home Care","530",{"$f":"VLOOKUP(I1526,'[1]Sub Lookup'!$A$1:$B$65536,2,FALSE)","v":"Commissioned Service - Other"}]
["Kent County Council",11957562,"ALTRUISTIC (NORTH KENT) LTD T/A PURE LIFE HOME CARE","2020-04-03",542.20000000000005,"S","5KG","Physical support - 65+ Long Term Support: Community: Home Care","530",{"$f":"VLOOKUP(I1527,'[1]Sub Lookup'!$A$1:$B$65536,2,FALSE)","v":"Commissioned Service - Other"}]
["Kent County Council",11959500,"ALTRUISTIC (NORTH KENT) LTD T/A PURE LIFE HOME CARE","2020-04-03",364.45,"S","5KG","Physical support - 65+ Long Term Support: Community: Home Care","530",{"$f":"VLOOKUP(I1528,'[1]Sub Lookup'!$A$1:$B$65536,2,FALSE)","v":"Commissioned Service - Other"}]
["Kent County Council",11959508,"ALTRUISTIC (NORTH KENT) LTD T/A PURE LIFE HOME CARE","2020-04-03",488.8,"S","5KG","Physical support - 65+ Long Term Support: Community: Home Care","530",{"$f":"VLOOKUP(I1529,'[1]Sub Lookup'!$A$1:$B$65536,2,FALSE)","v":"Commissioned Service - Other"}]
["Kent County Council",11959506,"ALTRUISTIC (NORTH KENT) LTD T/A PURE LIFE HOME CARE","2020-04-03",710,"S","5KG","Physical support - 65+ Long Term Support: Community: Home Care","530",{"$f":"VLOOKUP(I1530,'[1]Sub Lookup'!$A$1:$B$65536,2,FALSE)","v":"Commissioned Service - Other"}]
["Kent County Council",11957571,"ALTRUISTIC (NORTH KENT) LTD T/A PURE LIFE HOME CARE","2020-04-03",710,"S","5KG","Physical support - 65+ Long Term Support: Community: Home Care","530",{"$f":"VLOOKUP(I1531,'[1]Sub Lookup'!$A$1:$B$65536,2,FALSE)","v":"Commissioned Service - Other"}]
["Kent County Council",11959685,"ALTRUISTIC (NORTH KENT) LTD T/A PURE LIFE HOME CARE","2020-04-03",277.58,"S","5KG","Physical support - 65+ Long Term Support: Community: Home Care","530",{"$f":"VLOOKUP(I1532,'[1]Sub Lookup'!$A$1:$B$65536,2,FALSE)","v":"Commissioned Service - Other"}]
["Kent County Council",11959542,"ALTRUISTIC (NORTH KENT) LTD T/A PURE LIFE HOME CARE","2020-04-03",313.8,"S","5JG","Physical Support - 18 64 Long Term Support: Community: Home Care","530",{"$f":"VLOOKUP(I1533,'[1]Sub Lookup'!$A$1:$B$65536,2,FALSE)","v":"Commissioned Service - Other"}]
["Kent County Council",11959533,"ALTRUISTIC (NORTH KENT) LTD T/A PURE LIFE HOME CARE","2020-04-03",745.85,"S","5JG","Physical Support - 18 64 Long Term Support: Community: Home Care","530",{"$f":"VLOOKUP(I1534,'[1]Sub Lookup'!$A$1:$B$65536,2,FALSE)","v":"Commissioned Service - Other"}]
["Kent County Council",11959514,"ALTRUISTIC (NORTH KENT) LTD T/A PURE LIFE HOME CARE","2020-04-03",271.10000000000002,"S","5KG","Physical support - 65+ Long Term Support: Community: Home Care","530",{"$f":"VLOOKUP(I1535,'[1]Sub Lookup'!$A$1:$B$65536,2,FALSE)","v":"Commissioned Service - Other"}]
["Kent County Council",11959686,"ALTRUISTIC (NORTH KENT) LTD T/A PURE LIFE HOME CARE","2020-04-03",288.35000000000002,"S","5JG","Physical Support - 18 64 Long Term Support: Community: Home Care","530",{"$f":"VLOOKUP(I1536,'[1]Sub Lookup'!$A$1:$B$65536,2,FALSE)","v":"Commissioned Service - Other"}]
["Kent County Council",11959538,"ALTRUISTIC (NORTH KENT) LTD T/A PURE LIFE HOME CARE","2020-04-03",250.98000000000002,"S","5JG","Physical Support - 18 64 Long Term Support: Community: Home Care","530",{"$f":"VLOOKUP(I1537,'[1]Sub Lookup'!$A$1:$B$65536,2,FALSE)","v":"Commissioned Service - Other"}]
["Kent County Council",11959693,"ALTRUISTIC (NORTH KENT) LTD T/A PURE LIFE HOME CARE","2020-04-03",542.20000000000005,"S","5KG","Physical support - 65+ Long Term Support: Community: Home Care","530",{"$f":"VLOOKUP(I1538,'[1]Sub Lookup'!$A$1:$B$65536,2,FALSE)","v":"Commissioned Service - Other"}]
["Kent County Council",11959691,"ALTRUISTIC (NORTH KENT) LTD T/A PURE LIFE HOME CARE","2020-04-03",263.39999999999998,"S","5JG","Physical Support - 18 64 Long Term Support: Community: Home Care","530",{"$f":"VLOOKUP(I1539,'[1]Sub Lookup'!$A$1:$B$65536,2,FALSE)","v":"Commissioned Service - Other"}]
["Kent County Council",11961777,"ALTRUISTIC (NORTH KENT) LTD T/A PURE LIFE HOME CARE","2020-04-09",325.2,"S","5JG","Physical Support - 18 64 Long Term Support: Community: Home Care","530",{"$f":"VLOOKUP(I1540,'[1]Sub Lookup'!$A$1:$B$65536,2,FALSE)","v":"Commissioned Service - Other"}]
["Kent County Council",11961770,"ALTRUISTIC (NORTH KENT) LTD T/A PURE LIFE HOME CARE","2020-04-09",745.85,"S","5JG","Physical Support - 18 64 Long Term Support: Community: Home Care","530",{"$f":"VLOOKUP(I1541,'[1]Sub Lookup'!$A$1:$B$65536,2,FALSE)","v":"Commissioned Service - Other"}]
["Kent County Council",11961774,"ALTRUISTIC (NORTH KENT) LTD T/A PURE LIFE HOME CARE","2020-04-09",250.98000000000002,"S","5JG","Physical Support - 18 64 Long Term Support: Community: Home Care","530",{"$f":"VLOOKUP(I1542,'[1]Sub Lookup'!$A$1:$B$65536,2,FALSE)","v":"Commissioned Service - Other"}]
["Kent County Council",11960791,"ALTRUISTIC (NORTH KENT) LTD T/A PURE LIFE HOME CARE","2020-04-09",292.85000000000002,"S","5KG","Physical support - 65+ Long Term Support: Community: Home Care","530",{"$f":"VLOOKUP(I1543,'[1]Sub Lookup'!$A$1:$B$65536,2,FALSE)","v":"Commissioned Service - Other"}]
["Kent County Council",11960933,"ALTRUISTIC (NORTH KENT) LTD T/A PURE LIFE HOME CARE","2020-04-09",710,"S","5KG","Physical support - 65+ Long Term Support: Community: Home Care","530",{"$f":"VLOOKUP(I1544,'[1]Sub Lookup'!$A$1:$B$65536,2,FALSE)","v":"Commissioned Service - Other"}]
["Kent County Council",11960923,"ALTRUISTIC (NORTH KENT) LTD T/A PURE LIFE HOME CARE","2020-04-09",364.45,"S","5KG","Physical support - 65+ Long Term Support: Community: Home Care","530",{"$f":"VLOOKUP(I1545,'[1]Sub Lookup'!$A$1:$B$65536,2,FALSE)","v":"Commissioned Service - Other"}]
["Kent County Council",11960929,"ALTRUISTIC (NORTH KENT) LTD T/A PURE LIFE HOME CARE","2020-04-09",671.2,"S","5KG","Physical support - 65+ Long Term Support: Community: Home Care","530",{"$f":"VLOOKUP(I1546,'[1]Sub Lookup'!$A$1:$B$65536,2,FALSE)","v":"Commissioned Service - Other"}]
["Kent County Council",11960927,"ALTRUISTIC (NORTH KENT) LTD T/A PURE LIFE HOME CARE","2020-04-09",289.8,"S","5KG","Physical support - 65+ Long Term Support: Community: Home Care","530",{"$f":"VLOOKUP(I1547,'[1]Sub Lookup'!$A$1:$B$65536,2,FALSE)","v":"Commissioned Service - Other"}]
["Kent County Council",11960777,"ALTRUISTIC (NORTH KENT) LTD T/A PURE LIFE HOME CARE","2020-04-09",277.58,"S","5KG","Physical support - 65+ Long Term Support: Community: Home Care","530",{"$f":"VLOOKUP(I1548,'[1]Sub Lookup'!$A$1:$B$65536,2,FALSE)","v":"Commissioned Service - Other"}]
["Kent County Council",11960782,"ALTRUISTIC (NORTH KENT) LTD T/A PURE LIFE HOME CARE","2020-04-09",288.35000000000002,"S","5JG","Physical Support - 18 64 Long Term Support: Community: Home Care","530",{"$f":"VLOOKUP(I1549,'[1]Sub Lookup'!$A$1:$B$65536,2,FALSE)","v":"Commissioned Service - Other"}]
["Kent County Council",11960774,"ALTRUISTIC (NORTH KENT) LTD T/A PURE LIFE HOME CARE","2020-04-09",710,"S","5KG","Physical support - 65+ Long Term Support: Community: Home Care","530",{"$f":"VLOOKUP(I1550,'[1]Sub Lookup'!$A$1:$B$65536,2,FALSE)","v":"Commissioned Service - Other"}]
["Kent County Council",11960710,"ALTRUISTIC (NORTH KENT) LTD T/A PURE LIFE HOME CARE","2020-04-09",263.39999999999998,"S","5JG","Physical Support - 18 64 Long Term Support: Community: Home Care","530",{"$f":"VLOOKUP(I1551,'[1]Sub Lookup'!$A$1:$B$65536,2,FALSE)","v":"Commissioned Service - Other"}]
["Kent County Council",11977249,"ALTRUISTIC (NORTH KENT) LTD T/A PURE LIFE HOME CARE","2020-04-17",335.6,"S","5KG","Physical support - 65+ Long Term Support: Community: Home Care","530",{"$f":"VLOOKUP(I1552,'[1]Sub Lookup'!$A$1:$B$65536,2,FALSE)","v":"Commissioned Service - Other"}]
["Kent County Council",11977258,"ALTRUISTIC (NORTH KENT) LTD T/A PURE LIFE HOME CARE","2020-04-17",374.40000000000003,"S","5KG","Physical support - 65+ Long Term Support: Community: Home Care","530",{"$f":"VLOOKUP(I1553,'[1]Sub Lookup'!$A$1:$B$65536,2,FALSE)","v":"Commissioned Service - Other"}]
["Kent County Council",11979777,"ALTRUISTIC (NORTH KENT) LTD T/A PURE LIFE HOME CARE","2020-04-17",292.85000000000002,"S","5KG","Physical support - 65+ Long Term Support: Community: Home Care","530",{"$f":"VLOOKUP(I1554,'[1]Sub Lookup'!$A$1:$B$65536,2,FALSE)","v":"Commissioned Service - Other"}]
["Kent County Council",11982700,"ALTRUISTIC (NORTH KENT) LTD T/A PURE LIFE HOME CARE","2020-04-17",710,"S","5KG","Physical support - 65+ Long Term Support: Community: Home Care","530",{"$f":"VLOOKUP(I1555,'[1]Sub Lookup'!$A$1:$B$65536,2,FALSE)","v":"Commissioned Service - Other"}]
["Kent County Council",11977255,"ALTRUISTIC (NORTH KENT) LTD T/A PURE LIFE HOME CARE","2020-04-17",542.20000000000005,"S","5KG","Physical support - 65+ Long Term Support: Community: Home Care","530",{"$f":"VLOOKUP(I1556,'[1]Sub Lookup'!$A$1:$B$65536,2,FALSE)","v":"Commissioned Service - Other"}]
["Kent County Council",11982698,"ALTRUISTIC (NORTH KENT) LTD T/A PURE LIFE HOME CARE","2020-04-17",671.2,"S","5JG","Physical Support - 18 64 Long Term Support: Community: Home Care","530",{"$f":"VLOOKUP(I1557,'[1]Sub Lookup'!$A$1:$B$65536,2,FALSE)","v":"Commissioned Service - Other"}]
["Kent County Council",11977253,"ALTRUISTIC (NORTH KENT) LTD T/A PURE LIFE HOME CARE","2020-04-17",710,"S","5KG","Physical support - 65+ Long Term Support: Community: Home Care","530",{"$f":"VLOOKUP(I1558,'[1]Sub Lookup'!$A$1:$B$65536,2,FALSE)","v":"Commissioned Service - Other"}]
["Kent County Council",11982705,"ALTRUISTIC (NORTH KENT) LTD T/A PURE LIFE HOME CARE","2020-04-17",277.58,"S","5KG","Physical support - 65+ Long Term Support: Community: Home Care","530",{"$f":"VLOOKUP(I1559,'[1]Sub Lookup'!$A$1:$B$65536,2,FALSE)","v":"Commissioned Service - Other"}]
["Kent County Council",11979773,"ALTRUISTIC (NORTH KENT) LTD T/A PURE LIFE HOME CARE","2020-04-17",325.2,"S","5JG","Physical Support - 18 64 Long Term Support: Community: Home Care","530",{"$f":"VLOOKUP(I1560,'[1]Sub Lookup'!$A$1:$B$65536,2,FALSE)","v":"Commissioned Service - Other"}]
["Kent County Council",11979767,"ALTRUISTIC (NORTH KENT) LTD T/A PURE LIFE HOME CARE","2020-04-17",745.85,"S","5JG","Physical Support - 18 64 Long Term Support: Community: Home Care","530",{"$f":"VLOOKUP(I1561,'[1]Sub Lookup'!$A$1:$B$65536,2,FALSE)","v":"Commissioned Service - Other"}]
["Kent County Council",11979992,"ALTRUISTIC (NORTH KENT) LTD T/A PURE LIFE HOME CARE","2020-04-17",288.35000000000002,"S","5JG","Physical Support - 18 64 Long Term Support: Community: Home Care","530",{"$f":"VLOOKUP(I1562,'[1]Sub Lookup'!$A$1:$B$65536,2,FALSE)","v":"Commissioned Service - Other"}]
["Kent County Council",11979772,"ALTRUISTIC (NORTH KENT) LTD T/A PURE LIFE HOME CARE","2020-04-17",250.98000000000002,"S","5JG","Physical Support - 18 64 Long Term Support: Community: Home Care","530",{"$f":"VLOOKUP(I1563,'[1]Sub Lookup'!$A$1:$B$65536,2,FALSE)","v":"Commissioned Service - Other"}]
["Kent County Council",11982708,"ALTRUISTIC (NORTH KENT) LTD T/A PURE LIFE HOME CARE","2020-04-17",710,"S","5KG","Physical support - 65+ Long Term Support: Community: Home Care","530",{"$f":"VLOOKUP(I1564,'[1]Sub Lookup'!$A$1:$B$65536,2,FALSE)","v":"Commissioned Service - Other"}]
["Kent County Council",11979996,"ALTRUISTIC (NORTH KENT) LTD T/A PURE LIFE HOME CARE","2020-04-17",542.20000000000005,"S","5KG","Physical support - 65+ Long Term Support: Community: Home Care","530",{"$f":"VLOOKUP(I1565,'[1]Sub Lookup'!$A$1:$B$65536,2,FALSE)","v":"Commissioned Service - Other"}]
["Kent County Council",11990422,"ALTRUISTIC (NORTH KENT) LTD T/A PURE LIFE HOME CARE","2020-04-24",292.85000000000002,"S","5KG","Physical support - 65+ Long Term Support: Community: Home Care","530",{"$f":"VLOOKUP(I1566,'[1]Sub Lookup'!$A$1:$B$65536,2,FALSE)","v":"Commissioned Service - Other"}]
["Kent County Council",11990429,"ALTRUISTIC (NORTH KENT) LTD T/A PURE LIFE HOME CARE","2020-04-24",710,"S","5KG","Physical support - 65+ Long Term Support: Community: Home Care","530",{"$f":"VLOOKUP(I1567,'[1]Sub Lookup'!$A$1:$B$65536,2,FALSE)","v":"Commissioned Service - Other"}]
["Kent County Council",11993971,"ALTRUISTIC (NORTH KENT) LTD T/A PURE LIFE HOME CARE","2020-04-24",374.40000000000003,"S","5KG","Physical support - 65+ Long Term Support: Community: Home Care","530",{"$f":"VLOOKUP(I1568,'[1]Sub Lookup'!$A$1:$B$65536,2,FALSE)","v":"Commissioned Service - Other"}]
["Kent County Council",11993978,"ALTRUISTIC (NORTH KENT) LTD T/A PURE LIFE HOME CARE","2020-04-24",335.6,"S","5KG","Physical support - 65+ Long Term Support: Community: Home Care","530",{"$f":"VLOOKUP(I1569,'[1]Sub Lookup'!$A$1:$B$65536,2,FALSE)","v":"Commissioned Service - Other"}]
["Kent County Council",11993970,"ALTRUISTIC (NORTH KENT) LTD T/A PURE LIFE HOME CARE","2020-04-24",542.20000000000005,"S","5KG","Physical support - 65+ Long Term Support: Community: Home Care","530",{"$f":"VLOOKUP(I1570,'[1]Sub Lookup'!$A$1:$B$65536,2,FALSE)","v":"Commissioned Service - Other"}]
["Kent County Council",11993967,"ALTRUISTIC (NORTH KENT) LTD T/A PURE LIFE HOME CARE","2020-04-24",710,"S","5KG","Physical support - 65+ Long Term Support: Community: Home Care","530",{"$f":"VLOOKUP(I1571,'[1]Sub Lookup'!$A$1:$B$65536,2,FALSE)","v":"Commissioned Service - Other"}]
["Kent County Council",11990423,"ALTRUISTIC (NORTH KENT) LTD T/A PURE LIFE HOME CARE","2020-04-24",728.6,"S","5KG","Physical support - 65+ Long Term Support: Community: Home Care","530",{"$f":"VLOOKUP(I1572,'[1]Sub Lookup'!$A$1:$B$65536,2,FALSE)","v":"Commissioned Service - Other"}]
["Kent County Council",11990427,"ALTRUISTIC (NORTH KENT) LTD T/A PURE LIFE HOME CARE","2020-04-24",671.2,"S","5KG","Physical support - 65+ Long Term Support: Community: Home Care","530",{"$f":"VLOOKUP(I1573,'[1]Sub Lookup'!$A$1:$B$65536,2,FALSE)","v":"Commissioned Service - Other"}]
["Kent County Council",11990426,"ALTRUISTIC (NORTH KENT) LTD T/A PURE LIFE HOME CARE","2020-04-24",710,"S","5KG","Physical support - 65+ Long Term Support: Community: Home Care","530",{"$f":"VLOOKUP(I1574,'[1]Sub Lookup'!$A$1:$B$65536,2,FALSE)","v":"Commissioned Service - Other"}]
["Kent County Council",11991185,"ALTRUISTIC (NORTH KENT) LTD T/A PURE LIFE HOME CARE","2020-04-24",277.58,"S","5KG","Physical support - 65+ Long Term Support: Community: Home Care","530",{"$f":"VLOOKUP(I1575,'[1]Sub Lookup'!$A$1:$B$65536,2,FALSE)","v":"Commissioned Service - Other"}]
["Kent County Council",11990404,"ALTRUISTIC (NORTH KENT) LTD T/A PURE LIFE HOME CARE","2020-04-24",325.2,"S","5JG","Physical Support - 18 64 Long Term Support: Community: Home Care","530",{"$f":"VLOOKUP(I1576,'[1]Sub Lookup'!$A$1:$B$65536,2,FALSE)","v":"Commissioned Service - Other"}]
["Kent County Council",11990402,"ALTRUISTIC (NORTH KENT) LTD T/A PURE LIFE HOME CARE","2020-04-24",250.98000000000002,"S","5JG","Physical Support - 18 64 Long Term Support: Community: Home Care","530",{"$f":"VLOOKUP(I1577,'[1]Sub Lookup'!$A$1:$B$65536,2,FALSE)","v":"Commissioned Service - Other"}]
["Kent County Council",11991183,"ALTRUISTIC (NORTH KENT) LTD T/A PURE LIFE HOME CARE","2020-04-24",710,"S","5KG","Physical support - 65+ Long Term Support: Community: Home Care","530",{"$f":"VLOOKUP(I1578,'[1]Sub Lookup'!$A$1:$B$65536,2,FALSE)","v":"Commissioned Service - Other"}]
["Kent County Council",11991190,"ALTRUISTIC (NORTH KENT) LTD T/A PURE LIFE HOME CARE","2020-04-24",542.20000000000005,"S","5KG","Physical support - 65+ Long Term Support: Community: Home Care","530",{"$f":"VLOOKUP(I1579,'[1]Sub Lookup'!$A$1:$B$65536,2,FALSE)","v":"Commissioned Service - Other"}]
["Kent County Council",11991188,"ALTRUISTIC (NORTH KENT) LTD T/A PURE LIFE HOME CARE","2020-04-24",263.39999999999998,"S","5JG","Physical Support - 18 64 Long Term Support: Community: Home Care","530",{"$f":"VLOOKUP(I1580,'[1]Sub Lookup'!$A$1:$B$65536,2,FALSE)","v":"Commissioned Service - Other"}]
["Kent County Council",11991186,"ALTRUISTIC (NORTH KENT) LTD T/A PURE LIFE HOME CARE","2020-04-24",288.35000000000002,"S","5KG","Physical support - 65+ Long Term Support: Community: Home Care","530",{"$f":"VLOOKUP(I1581,'[1]Sub Lookup'!$A$1:$B$65536,2,FALSE)","v":"Commissioned Service - Other"}]
["Kent County Council",12017930,"ALTRUISTIC (NORTH KENT) LTD T/A PURE LIFE HOME CARE","2020-04-29",1009.24,"S","5XC","Commissioning & Service Delivery","530",{"$f":"VLOOKUP(I1582,'[1]Sub Lookup'!$A$1:$B$65536,2,FALSE)","v":"Commissioned Service - Other"}]
["Kent County Council",12018534,"ALTRUISTIC (NORTH KENT) LTD T/A PURE LIFE HOME CARE","2020-04-29",3850.1800000000003,"S","5XC","Commissioning & Service Delivery","530",{"$f":"VLOOKUP(I1583,'[1]Sub Lookup'!$A$1:$B$65536,2,FALSE)","v":"Commissioned Service - Other"}]
["Kent County Council",11959496,"ALZHEIMER'S SOCIETY","2020-04-02",23866.3,"S","5WP","Social Support:Support for Social Isolation","450",{"$f":"VLOOKUP(I1584,'[1]Sub Lookup'!$A$1:$B$65536,2,FALSE)","v":"Grants"}]
["Kent County Council",11993514,"ALZHEIMERS & DEMENTIA SPPRT SRV","2020-04-16",237472.4,"S","5WP","Social Support:Support for Social Isolation","520",{"$f":"VLOOKUP(I1585,'[1]Sub Lookup'!$A$1:$B$65536,2,FALSE)","v":"Voluntary Associations"}]
["Kent County Council",11971275,"REDACTED - Personal Payment","2020-04-08",2173.48,"S","5AC","Learning Disability Support - 18 64 Long Term Support: Supported accommodation","530",{"$f":"VLOOKUP(I1586,'[1]Sub Lookup'!$A$1:$B$65536,2,FALSE)","v":"Commissioned Service - Other"}]
["Kent County Council",11966291,"AMBERLEY HOUSE (A & L CARE HOMES LTD)","2020-04-01",551,"S","5XC","Commissioning & Service Delivery","530",{"$f":"VLOOKUP(I1587,'[1]Sub Lookup'!$A$1:$B$65536,2,FALSE)","v":"Commissioned Service - Other"}]
["Kent County Council",12017652,"AMBERLEY HOUSE (A & L CARE HOMES LTD)","2020-04-29",551,"S","5XC","Commissioning & Service Delivery","530",{"$f":"VLOOKUP(I1588,'[1]Sub Lookup'!$A$1:$B$65536,2,FALSE)","v":"Commissioned Service - Other"}]
["Kent County Council",12017958,"AMBIENT SUPPORT LIMITED","2020-04-29",1174.46,"S","5XC","Commissioning & Service Delivery","530",{"$f":"VLOOKUP(I1589,'[1]Sub Lookup'!$A$1:$B$65536,2,FALSE)","v":"Commissioned Service - Other"}]
["Kent County Council",12011118,"AMBITION 24 HOURS","2020-04-27",675.78,"S","35F","IS Day Care Dis Child","527",{"$f":"VLOOKUP(I1590,'[1]Sub Lookup'!$A$1:$B$65536,2,FALSE)","v":"Services"}]
["Kent County Council",11966597,"AMBITO","2020-04-01",1408.42,"S","5XC","Commissioning & Service Delivery","530",{"$f":"VLOOKUP(I1591,'[1]Sub Lookup'!$A$1:$B$65536,2,FALSE)","v":"Commissioned Service - Other"}]
["Kent County Council",11966984,"AMBITO","2020-04-01",1299.71,"S","5XC","Commissioning & Service Delivery","530",{"$f":"VLOOKUP(I1592,'[1]Sub Lookup'!$A$1:$B$65536,2,FALSE)","v":"Commissioned Service - Other"}]
["Kent County Council",12018009,"AMBITO","2020-04-29",1408.42,"S","5XC","Commissioning & Service Delivery","530",{"$f":"VLOOKUP(I1593,'[1]Sub Lookup'!$A$1:$B$65536,2,FALSE)","v":"Commissioned Service - Other"}]
["Kent County Council",12018344,"AMBITO","2020-04-29",1299.71,"S","5XC","Commissioning & Service Delivery","530",{"$f":"VLOOKUP(I1594,'[1]Sub Lookup'!$A$1:$B$65536,2,FALSE)","v":"Commissioned Service - Other"}]
["Kent County Council",11972373,"AMENITY HORTICULTURAL SERVICES LTD","2020-04-09",1643,"K","2LG","Country Parks","100",{"$f":"VLOOKUP(I1595,'[1]Sub Lookup'!$A$1:$B$65536,2,FALSE)","v":"Maintenance of Grounds"}]
["Kent County Council",11973448,"AMENITY HORTICULTURAL SERVICES LTD","2020-04-09",1643,"K","2LG","Country Parks","100",{"$f":"VLOOKUP(I1596,'[1]Sub Lookup'!$A$1:$B$65536,2,FALSE)","v":"Maintenance of Grounds"}]
["Kent County Council",11965066,"AMEY COMMUNITY LIMITED","2020-04-01",377.61,"C","7HV","Depots","100",{"$f":"VLOOKUP(I1597,'[1]Sub Lookup'!$A$1:$B$65536,2,FALSE)","v":"Maintenance of Grounds"}]
["Kent County Council",11965073,"AMEY COMMUNITY LIMITED","2020-04-01",667.67,"C","2LC","Libraries, Registration & Archives","104",{"$f":"VLOOKUP(I1598,'[1]Sub Lookup'!$A$1:$B$65536,2,FALSE)","v":"Reactive maintenance of buildings"}]
["Kent County Council",11965074,"AMEY COMMUNITY LIMITED","2020-04-01",555.65,"C","2LC","Libraries, Registration & Archives","104",{"$f":"VLOOKUP(I1599,'[1]Sub Lookup'!$A$1:$B$65536,2,FALSE)","v":"Reactive maintenance of buildings"}]
["Kent County Council",11965076,"AMEY COMMUNITY LIMITED","2020-04-01",668.08,"C","2LC","Libraries, Registration & Archives","104",{"$f":"VLOOKUP(I1600,'[1]Sub Lookup'!$A$1:$B$65536,2,FALSE)","v":"Reactive maintenance of buildings"}]
["Kent County Council",11965082,"AMEY COMMUNITY LIMITED","2020-04-01",668.08,"C","2LC","Libraries, Registration & Archives","104",{"$f":"VLOOKUP(I1601,'[1]Sub Lookup'!$A$1:$B$65536,2,FALSE)","v":"Reactive maintenance of buildings"}]
["Kent County Council",11965078,"AMEY COMMUNITY LIMITED","2020-04-01",4949.1000000000004,"C","8DW","Non Operational Properties","104",{"$f":"VLOOKUP(I1602,'[1]Sub Lookup'!$A$1:$B$65536,2,FALSE)","v":"Reactive maintenance of buildings"}]
["Kent County Council",11962240,"AMEY COMMUNITY LIMITED","2020-04-01",6505.45,"C","5KP","Physical support - 65+ Short Term - Maximising Independence - Residential","C15",{"$f":"VLOOKUP(I1603,'[1]Sub Lookup'!$A$1:$B$65536,2,FALSE)","v":"Building Works - Main Contract"}]
["Kent County Council",11965083,"AMEY COMMUNITY LIMITED","2020-04-01",385.99,"S","5KP","Physical support - 65+ Short Term - Maximising Independence - Residential","301",{"$f":"VLOOKUP(I1604,'[1]Sub Lookup'!$A$1:$B$65536,2,FALSE)","v":"Service and Repair of Equipment"}]
["Kent County Council",11965084,"AMEY COMMUNITY LIMITED","2020-04-01",2315.9299999999998,"S","5WD","Social Support: Support for Carer LD Other","300",{"$f":"VLOOKUP(I1605,'[1]Sub Lookup'!$A$1:$B$65536,2,FALSE)","v":"Equipment, Furniture and Materials and Livestock"}]
["Kent County Council",11965071,"AMEY COMMUNITY LIMITED","2020-04-01",502.68,"C","2UA","Youth Services","104",{"$f":"VLOOKUP(I1606,'[1]Sub Lookup'!$A$1:$B$65536,2,FALSE)","v":"Reactive maintenance of buildings"}]
["Kent County Council",11965077,"AMEY COMMUNITY LIMITED","2020-04-01",388.63,"C","36P","Children's Centres","126",{"$f":"VLOOKUP(I1607,'[1]Sub Lookup'!$A$1:$B$65536,2,FALSE)","v":"Waste Disposal"}]
["Kent County Council",11965072,"AMEY COMMUNITY LIMITED","2020-04-01",2438.81,"C","36P","Children's Centres","104",{"$f":"VLOOKUP(I1608,'[1]Sub Lookup'!$A$1:$B$65536,2,FALSE)","v":"Reactive maintenance of buildings"}]
["Kent County Council",11965101,"AMEY COMMUNITY LIMITED","2020-04-01",297.40000000000003,"E","1TA","Capital - Primary Schools ES&PS","C14",{"$f":"VLOOKUP(I1609,'[1]Sub Lookup'!$A$1:$B$65536,2,FALSE)","v":"Design Fees - External"}]
["Kent County Council",11965095,"AMEY COMMUNITY LIMITED","2020-04-01",2500,"E","1TA","Capital - Primary Schools ES&PS","C14",{"$f":"VLOOKUP(I1610,'[1]Sub Lookup'!$A$1:$B$65536,2,FALSE)","v":"Design Fees - External"}]
["Kent County Council",11965094,"AMEY COMMUNITY LIMITED","2020-04-01",408.13,"E","1TA","Capital - Primary Schools ES&PS","C14",{"$f":"VLOOKUP(I1611,'[1]Sub Lookup'!$A$1:$B$65536,2,FALSE)","v":"Design Fees - External"}]
["Kent County Council",11965093,"AMEY COMMUNITY LIMITED","2020-04-01",264,"E","1TA","Capital - Primary Schools ES&PS","C15",{"$f":"VLOOKUP(I1612,'[1]Sub Lookup'!$A$1:$B$65536,2,FALSE)","v":"Building Works - Main Contract"}]
["Kent County Council",11965090,"AMEY COMMUNITY LIMITED","2020-04-01",-2110.98,"E","1TA","Capital - Primary Schools ES&PS","C15",{"$f":"VLOOKUP(I1613,'[1]Sub Lookup'!$A$1:$B$65536,2,FALSE)","v":"Building Works - Main Contract"}]
["Kent County Council",11894522,"AMEY COMMUNITY LIMITED","2020-04-01",18966,"E","1TA","Capital - Primary Schools ES&PS","C15",{"$f":"VLOOKUP(I1614,'[1]Sub Lookup'!$A$1:$B$65536,2,FALSE)","v":"Building Works - Main Contract"}]
["Kent County Council",11894522,"AMEY COMMUNITY LIMITED","2020-04-01",2870.12,"E","1TA","Capital - Primary Schools ES&PS","C14",{"$f":"VLOOKUP(I1615,'[1]Sub Lookup'!$A$1:$B$65536,2,FALSE)","v":"Design Fees - External"}]
["Kent County Council",11965069,"AMEY COMMUNITY LIMITED","2020-04-01",1930.1000000000001,"C","2LE","Adult Education","104",{"$f":"VLOOKUP(I1616,'[1]Sub Lookup'!$A$1:$B$65536,2,FALSE)","v":"Reactive maintenance of buildings"}]
["Kent County Council",11977173,"AMEY COMMUNITY LIMITED","2020-04-08",-1154.23,"C","2LC","Libraries, Registration & Archives","104",{"$f":"VLOOKUP(I1617,'[1]Sub Lookup'!$A$1:$B$65536,2,FALSE)","v":"Reactive maintenance of buildings"}]
["Kent County Council",11977515,"AMEY COMMUNITY LIMITED","2020-04-08",4029.32,"E","1TA","Capital - Primary Schools ES&PS","C14",{"$f":"VLOOKUP(I1618,'[1]Sub Lookup'!$A$1:$B$65536,2,FALSE)","v":"Design Fees - External"}]
["Kent County Council",11977176,"AMEY COMMUNITY LIMITED","2020-04-08",47204,"E","1TA","Capital - Primary Schools ES&PS","C15",{"$f":"VLOOKUP(I1619,'[1]Sub Lookup'!$A$1:$B$65536,2,FALSE)","v":"Building Works - Main Contract"}]
["Kent County Council",11977174,"AMEY COMMUNITY LIMITED","2020-04-09",4673.2,"E","1TA","Capital - Primary Schools ES&PS","C14",{"$f":"VLOOKUP(I1620,'[1]Sub Lookup'!$A$1:$B$65536,2,FALSE)","v":"Design Fees - External"}]
["Kent County Council",11977175,"AMEY COMMUNITY LIMITED","2020-04-09",1947.17,"E","1TA","Capital - Primary Schools ES&PS","C14",{"$f":"VLOOKUP(I1621,'[1]Sub Lookup'!$A$1:$B$65536,2,FALSE)","v":"Design Fees - External"}]
["Kent County Council",11982113,"AMEY COMMUNITY LIMITED","2020-04-09",-1947.17,"E","1TA","Capital - Primary Schools ES&PS","C14",{"$f":"VLOOKUP(I1622,'[1]Sub Lookup'!$A$1:$B$65536,2,FALSE)","v":"Design Fees - External"}]
["Kent County Council",11982114,"AMEY COMMUNITY LIMITED","2020-04-09",-1947.17,"E","1TA","Capital - Primary Schools ES&PS","C14",{"$f":"VLOOKUP(I1623,'[1]Sub Lookup'!$A$1:$B$65536,2,FALSE)","v":"Design Fees - External"}]
["Kent County Council",11990464,"AMEY COMMUNITY LIMITED","2020-04-15",1578.42,"C","2LC","Libraries, Registration & Archives","104",{"$f":"VLOOKUP(I1624,'[1]Sub Lookup'!$A$1:$B$65536,2,FALSE)","v":"Reactive maintenance of buildings"}]
["Kent County Council",11990207,"AMEY COMMUNITY LIMITED","2020-04-15",9009.9,"C","2LC","Libraries, Registration & Archives","C14",{"$f":"VLOOKUP(I1625,'[1]Sub Lookup'!$A$1:$B$65536,2,FALSE)","v":"Design Fees - External"}]
["Kent County Council",11990203,"AMEY COMMUNITY LIMITED","2020-04-15",3150,"C","7HV","Depots","C14",{"$f":"VLOOKUP(I1626,'[1]Sub Lookup'!$A$1:$B$65536,2,FALSE)","v":"Design Fees - External"}]
["Kent County Council",11990202,"AMEY COMMUNITY LIMITED","2020-04-15",911.25,"C","7HV","Depots","C14",{"$f":"VLOOKUP(I1627,'[1]Sub Lookup'!$A$1:$B$65536,2,FALSE)","v":"Design Fees - External"}]
["Kent County Council",11990468,"AMEY COMMUNITY LIMITED","2020-04-15",6018.87,"C","8DR","Corporate Landlord","104",{"$f":"VLOOKUP(I1628,'[1]Sub Lookup'!$A$1:$B$65536,2,FALSE)","v":"Reactive maintenance of buildings"}]
["Kent County Council",11990463,"AMEY COMMUNITY LIMITED","2020-04-15",1557.49,"C","8DR","Corporate Landlord","104",{"$f":"VLOOKUP(I1629,'[1]Sub Lookup'!$A$1:$B$65536,2,FALSE)","v":"Reactive maintenance of buildings"}]
["Kent County Council",11989504,"AMEY COMMUNITY LIMITED","2020-04-15",1600,"C","8DR","Corporate Landlord","C14",{"$f":"VLOOKUP(I1630,'[1]Sub Lookup'!$A$1:$B$65536,2,FALSE)","v":"Design Fees - External"}]
["Kent County Council",11989503,"AMEY COMMUNITY LIMITED","2020-04-15",310,"C","8DR","Corporate Landlord","C14",{"$f":"VLOOKUP(I1631,'[1]Sub Lookup'!$A$1:$B$65536,2,FALSE)","v":"Design Fees - External"}]
["Kent County Council",11989511,"AMEY COMMUNITY LIMITED","2020-04-15",4530,"C","39C","Children Specialist Services","C14",{"$f":"VLOOKUP(I1632,'[1]Sub Lookup'!$A$1:$B$65536,2,FALSE)","v":"Design Fees - External"}]
["Kent County Council",11990219,"AMEY COMMUNITY LIMITED","2020-04-15",4353.75,"E","1TA","Capital - Primary Schools ES&PS","C14",{"$f":"VLOOKUP(I1633,'[1]Sub Lookup'!$A$1:$B$65536,2,FALSE)","v":"Design Fees - External"}]
["Kent County Council",11990217,"AMEY COMMUNITY LIMITED","2020-04-15",1449.5,"E","1TA","Capital - Primary Schools ES&PS","C14",{"$f":"VLOOKUP(I1634,'[1]Sub Lookup'!$A$1:$B$65536,2,FALSE)","v":"Design Fees - External"}]
["Kent County Council",11990216,"AMEY COMMUNITY LIMITED","2020-04-15",16477,"E","1TA","Capital - Primary Schools ES&PS","C15",{"$f":"VLOOKUP(I1635,'[1]Sub Lookup'!$A$1:$B$65536,2,FALSE)","v":"Building Works - Main Contract"}]
["Kent County Council",11990466,"AMEY COMMUNITY LIMITED","2020-04-15",3505.92,"C","2LC","Libraries, Registration & Archives","104",{"$f":"VLOOKUP(I1636,'[1]Sub Lookup'!$A$1:$B$65536,2,FALSE)","v":"Reactive maintenance of buildings"}]
["Kent County Council",11990467,"AMEY COMMUNITY LIMITED","2020-04-15",3505.92,"C","2LC","Libraries, Registration & Archives","104",{"$f":"VLOOKUP(I1637,'[1]Sub Lookup'!$A$1:$B$65536,2,FALSE)","v":"Reactive maintenance of buildings"}]
["Kent County Council",11990469,"AMEY COMMUNITY LIMITED","2020-04-15",7844.3,"K","2LC","Libraries, Registration & Archives","300",{"$f":"VLOOKUP(I1638,'[1]Sub Lookup'!$A$1:$B$65536,2,FALSE)","v":"Equipment, Furniture and Materials and Livestock"}]
["Kent County Council",11990475,"AMEY COMMUNITY LIMITED","2020-04-15",374.36,"K","2LC","Libraries, Registration & Archives","300",{"$f":"VLOOKUP(I1639,'[1]Sub Lookup'!$A$1:$B$65536,2,FALSE)","v":"Equipment, Furniture and Materials and Livestock"}]
["Kent County Council",11990208,"AMEY COMMUNITY LIMITED","2020-04-15",750,"C","8DW","Non Operational Properties","C14",{"$f":"VLOOKUP(I1640,'[1]Sub Lookup'!$A$1:$B$65536,2,FALSE)","v":"Design Fees - External"}]
["Kent County Council",11990465,"AMEY COMMUNITY LIMITED","2020-04-15",2513.54,"C","8DW","Non Operational Properties","100",{"$f":"VLOOKUP(I1641,'[1]Sub Lookup'!$A$1:$B$65536,2,FALSE)","v":"Maintenance of Grounds"}]
["Kent County Council",11990478,"AMEY COMMUNITY LIMITED","2020-04-15",1571.13,"C","8DW","Non Operational Properties","100",{"$f":"VLOOKUP(I1642,'[1]Sub Lookup'!$A$1:$B$65536,2,FALSE)","v":"Maintenance of Grounds"}]
["Kent County Council",11990479,"AMEY COMMUNITY LIMITED","2020-04-15",2827.44,"C","8DW","Non Operational Properties","100",{"$f":"VLOOKUP(I1643,'[1]Sub Lookup'!$A$1:$B$65536,2,FALSE)","v":"Maintenance of Grounds"}]
["Kent County Council",11990209,"AMEY COMMUNITY LIMITED","2020-04-15",6749.05,"C","5KP","Physical support - 65+ Short Term - Maximising Independence - Residential","C14",{"$f":"VLOOKUP(I1644,'[1]Sub Lookup'!$A$1:$B$65536,2,FALSE)","v":"Design Fees - External"}]
["Kent County Council",11990477,"AMEY COMMUNITY LIMITED","2020-04-15",1446.66,"C","5KP","Physical support - 65+ Short Term - Maximising Independence - Residential","104",{"$f":"VLOOKUP(I1645,'[1]Sub Lookup'!$A$1:$B$65536,2,FALSE)","v":"Reactive maintenance of buildings"}]
["Kent County Council",11990476,"AMEY COMMUNITY LIMITED","2020-04-15",1256.6400000000001,"E","1KB","Revenue Maintenance","102",{"$f":"VLOOKUP(I1646,'[1]Sub Lookup'!$A$1:$B$65536,2,FALSE)","v":"Premises spend in relation to REFCUS"}]
["Kent County Council",11989509,"AMEY COMMUNITY LIMITED","2020-04-15",4918.6000000000004,"C","2UA","Youth Services","C14",{"$f":"VLOOKUP(I1647,'[1]Sub Lookup'!$A$1:$B$65536,2,FALSE)","v":"Design Fees - External"}]
["Kent County Council",11936137,"AMEY COMMUNITY LIMITED","2020-04-15",13962.5,"E","1TA","Capital - Primary Schools ES&PS","C14",{"$f":"VLOOKUP(I1648,'[1]Sub Lookup'!$A$1:$B$65536,2,FALSE)","v":"Design Fees - External"}]
["Kent County Council",11936165,"AMEY COMMUNITY LIMITED","2020-04-15",1449.5,"E","1TA","Capital - Primary Schools ES&PS","C14",{"$f":"VLOOKUP(I1649,'[1]Sub Lookup'!$A$1:$B$65536,2,FALSE)","v":"Design Fees - External"}]
["Kent County Council",11989497,"AMEY COMMUNITY LIMITED","2020-04-15",873.75,"E","1TA","Capital - Primary Schools ES&PS","C14",{"$f":"VLOOKUP(I1650,'[1]Sub Lookup'!$A$1:$B$65536,2,FALSE)","v":"Design Fees - External"}]
["Kent County Council",11989498,"AMEY COMMUNITY LIMITED","2020-04-15",3774,"E","1TA","Capital - Primary Schools ES&PS","C14",{"$f":"VLOOKUP(I1651,'[1]Sub Lookup'!$A$1:$B$65536,2,FALSE)","v":"Design Fees - External"}]
["Kent County Council",11989499,"AMEY COMMUNITY LIMITED","2020-04-15",1000,"E","1TA","Capital - Primary Schools ES&PS","C15",{"$f":"VLOOKUP(I1652,'[1]Sub Lookup'!$A$1:$B$65536,2,FALSE)","v":"Building Works - Main Contract"}]
["Kent County Council",11989500,"AMEY COMMUNITY LIMITED","2020-04-15",1055.0899999999999,"E","1TA","Capital - Primary Schools ES&PS","C14",{"$f":"VLOOKUP(I1653,'[1]Sub Lookup'!$A$1:$B$65536,2,FALSE)","v":"Design Fees - External"}]
["Kent County Council",11989500,"AMEY COMMUNITY LIMITED","2020-04-15",18270,"E","1TA","Capital - Primary Schools ES&PS","C15",{"$f":"VLOOKUP(I1654,'[1]Sub Lookup'!$A$1:$B$65536,2,FALSE)","v":"Building Works - Main Contract"}]
["Kent County Council",11989501,"AMEY COMMUNITY LIMITED","2020-04-15",2413.13,"E","1TA","Capital - Primary Schools ES&PS","C14",{"$f":"VLOOKUP(I1655,'[1]Sub Lookup'!$A$1:$B$65536,2,FALSE)","v":"Design Fees - External"}]
["Kent County Council",11989502,"AMEY COMMUNITY LIMITED","2020-04-15",621.22,"E","1TA","Capital - Primary Schools ES&PS","C14",{"$f":"VLOOKUP(I1656,'[1]Sub Lookup'!$A$1:$B$65536,2,FALSE)","v":"Design Fees - External"}]
["Kent County Council",11989502,"AMEY COMMUNITY LIMITED","2020-04-15",3765,"E","1TA","Capital - Primary Schools ES&PS","C15",{"$f":"VLOOKUP(I1657,'[1]Sub Lookup'!$A$1:$B$65536,2,FALSE)","v":"Building Works - Main Contract"}]
["Kent County Council",11989507,"AMEY COMMUNITY LIMITED","2020-04-15",940,"E","1TA","Capital - Primary Schools ES&PS","C14",{"$f":"VLOOKUP(I1658,'[1]Sub Lookup'!$A$1:$B$65536,2,FALSE)","v":"Design Fees - External"}]
["Kent County Council",11989508,"AMEY COMMUNITY LIMITED","2020-04-15",560,"E","1TA","Capital - Primary Schools ES&PS","C14",{"$f":"VLOOKUP(I1659,'[1]Sub Lookup'!$A$1:$B$65536,2,FALSE)","v":"Design Fees - External"}]
["Kent County Council",11990216,"AMEY COMMUNITY LIMITED","2020-04-15",2310.5700000000002,"E","1TA","Capital - Primary Schools ES&PS","C14",{"$f":"VLOOKUP(I1660,'[1]Sub Lookup'!$A$1:$B$65536,2,FALSE)","v":"Design Fees - External"}]
["Kent County Council",11990215,"AMEY COMMUNITY LIMITED","2020-04-15",450,"E","1TA","Capital - Primary Schools ES&PS","C14",{"$f":"VLOOKUP(I1661,'[1]Sub Lookup'!$A$1:$B$65536,2,FALSE)","v":"Design Fees - External"}]
["Kent County Council",11990213,"AMEY COMMUNITY LIMITED","2020-04-15",2000,"E","1TA","Capital - Primary Schools ES&PS","C14",{"$f":"VLOOKUP(I1662,'[1]Sub Lookup'!$A$1:$B$65536,2,FALSE)","v":"Design Fees - External"}]
["Kent County Council",11990212,"AMEY COMMUNITY LIMITED","2020-04-15",3474,"E","1TA","Capital - Primary Schools ES&PS","C14",{"$f":"VLOOKUP(I1663,'[1]Sub Lookup'!$A$1:$B$65536,2,FALSE)","v":"Design Fees - External"}]
["Kent County Council",11990210,"AMEY COMMUNITY LIMITED","2020-04-15",2000,"E","1TA","Capital - Primary Schools ES&PS","C14",{"$f":"VLOOKUP(I1664,'[1]Sub Lookup'!$A$1:$B$65536,2,FALSE)","v":"Design Fees - External"}]
["Kent County Council",11990206,"AMEY COMMUNITY LIMITED","2020-04-15",2293.6799999999998,"E","1TA","Capital - Primary Schools ES&PS","C14",{"$f":"VLOOKUP(I1665,'[1]Sub Lookup'!$A$1:$B$65536,2,FALSE)","v":"Design Fees - External"}]
["Kent County Council",11990204,"AMEY COMMUNITY LIMITED","2020-04-15",2103.75,"E","1TA","Capital - Primary Schools ES&PS","C14",{"$f":"VLOOKUP(I1666,'[1]Sub Lookup'!$A$1:$B$65536,2,FALSE)","v":"Design Fees - External"}]
["Kent County Council",11990201,"AMEY COMMUNITY LIMITED","2020-04-15",700,"E","1TA","Capital - Primary Schools ES&PS","C14",{"$f":"VLOOKUP(I1667,'[1]Sub Lookup'!$A$1:$B$65536,2,FALSE)","v":"Design Fees - External"}]
["Kent County Council",11989515,"AMEY COMMUNITY LIMITED","2020-04-15",-8939.4600000000009,"E","1TA","Capital - Primary Schools ES&PS","C14",{"$f":"VLOOKUP(I1668,'[1]Sub Lookup'!$A$1:$B$65536,2,FALSE)","v":"Design Fees - External"}]
["Kent County Council",11989514,"AMEY COMMUNITY LIMITED","2020-04-15",-4368,"E","1TA","Capital - Primary Schools ES&PS","C14",{"$f":"VLOOKUP(I1669,'[1]Sub Lookup'!$A$1:$B$65536,2,FALSE)","v":"Design Fees - External"}]
["Kent County Council",11989513,"AMEY COMMUNITY LIMITED","2020-04-15",1000,"E","1TA","Capital - Primary Schools ES&PS","C14",{"$f":"VLOOKUP(I1670,'[1]Sub Lookup'!$A$1:$B$65536,2,FALSE)","v":"Design Fees - External"}]
["Kent County Council",11989512,"AMEY COMMUNITY LIMITED","2020-04-15",870,"E","1TA","Capital - Primary Schools ES&PS","C14",{"$f":"VLOOKUP(I1671,'[1]Sub Lookup'!$A$1:$B$65536,2,FALSE)","v":"Design Fees - External"}]
["Kent County Council",11989510,"AMEY COMMUNITY LIMITED","2020-04-15",930,"E","1TA","Capital - Primary Schools ES&PS","C14",{"$f":"VLOOKUP(I1672,'[1]Sub Lookup'!$A$1:$B$65536,2,FALSE)","v":"Design Fees - External"}]
["Kent County Council",11992302,"AMEY COMMUNITY LIMITED","2020-04-16",476.5,"C","5WD","Social Support: Support for Carer LD Other","104",{"$f":"VLOOKUP(I1673,'[1]Sub Lookup'!$A$1:$B$65536,2,FALSE)","v":"Reactive maintenance of buildings"}]
["Kent County Council",11992298,"AMEY COMMUNITY LIMITED","2020-04-16",330,"C","8DZ","Property Investment Fund","104",{"$f":"VLOOKUP(I1674,'[1]Sub Lookup'!$A$1:$B$65536,2,FALSE)","v":"Reactive maintenance of buildings"}]
["Kent County Council",11992308,"AMEY COMMUNITY LIMITED","2020-04-16",1206.6100000000001,"C","8DP","Property","104",{"$f":"VLOOKUP(I1675,'[1]Sub Lookup'!$A$1:$B$65536,2,FALSE)","v":"Reactive maintenance of buildings"}]
["Kent County Council",11992300,"AMEY COMMUNITY LIMITED","2020-04-16",468.13,"C","8DP","Property","104",{"$f":"VLOOKUP(I1676,'[1]Sub Lookup'!$A$1:$B$65536,2,FALSE)","v":"Reactive maintenance of buildings"}]
["Kent County Council",11992296,"AMEY COMMUNITY LIMITED","2020-04-16",313.02,"C","8DW","Non Operational Properties","100",{"$f":"VLOOKUP(I1677,'[1]Sub Lookup'!$A$1:$B$65536,2,FALSE)","v":"Maintenance of Grounds"}]
["Kent County Council",11992305,"AMEY COMMUNITY LIMITED","2020-04-16",541.86,"K","2LC","Libraries, Registration & Archives","140",{"$f":"VLOOKUP(I1678,'[1]Sub Lookup'!$A$1:$B$65536,2,FALSE)","v":"Fixtures and Fittings"}]
["Kent County Council",11992297,"AMEY COMMUNITY LIMITED","2020-04-16",318.59000000000003,"K","2LC","Libraries, Registration & Archives","140",{"$f":"VLOOKUP(I1679,'[1]Sub Lookup'!$A$1:$B$65536,2,FALSE)","v":"Fixtures and Fittings"}]
["Kent County Council",11992299,"AMEY COMMUNITY LIMITED","2020-04-16",425.7,"C","7HV","Depots","141",{"$f":"VLOOKUP(I1680,'[1]Sub Lookup'!$A$1:$B$65536,2,FALSE)","v":"Premises Security Charges"}]
["Kent County Council",11992307,"AMEY COMMUNITY LIMITED","2020-04-16",1171.02,"C","8DR","Corporate Landlord","104",{"$f":"VLOOKUP(I1681,'[1]Sub Lookup'!$A$1:$B$65536,2,FALSE)","v":"Reactive maintenance of buildings"}]
["Kent County Council",11992303,"AMEY COMMUNITY LIMITED","2020-04-16",504.79,"C","8DR","Corporate Landlord","104",{"$f":"VLOOKUP(I1682,'[1]Sub Lookup'!$A$1:$B$65536,2,FALSE)","v":"Reactive maintenance of buildings"}]
["Kent County Council",11992295,"AMEY COMMUNITY LIMITED","2020-04-16",260.57,"C","8DR","Corporate Landlord","104",{"$f":"VLOOKUP(I1683,'[1]Sub Lookup'!$A$1:$B$65536,2,FALSE)","v":"Reactive maintenance of buildings"}]
["Kent County Council",11992306,"AMEY COMMUNITY LIMITED","2020-04-16",583.48,"C","36P","Children's Centres","104",{"$f":"VLOOKUP(I1684,'[1]Sub Lookup'!$A$1:$B$65536,2,FALSE)","v":"Reactive maintenance of buildings"}]
["Kent County Council",11992301,"AMEY COMMUNITY LIMITED","2020-04-16",469.45,"C","36P","Children's Centres","104",{"$f":"VLOOKUP(I1685,'[1]Sub Lookup'!$A$1:$B$65536,2,FALSE)","v":"Reactive maintenance of buildings"}]
["Kent County Council",11990211,"AMEY COMMUNITY LIMITED","2020-04-16",1120,"E","1TA","Capital - Primary Schools ES&PS","C14",{"$f":"VLOOKUP(I1686,'[1]Sub Lookup'!$A$1:$B$65536,2,FALSE)","v":"Design Fees - External"}]
["Kent County Council",11990205,"AMEY COMMUNITY LIMITED","2020-04-16",2667.21,"E","1TA","Capital - Primary Schools ES&PS","C14",{"$f":"VLOOKUP(I1687,'[1]Sub Lookup'!$A$1:$B$65536,2,FALSE)","v":"Design Fees - External"}]
["Kent County Council",11989505,"AMEY COMMUNITY LIMITED","2020-04-17",873.75,"C","2UA","Youth Services","C14",{"$f":"VLOOKUP(I1688,'[1]Sub Lookup'!$A$1:$B$65536,2,FALSE)","v":"Design Fees - External"}]
["Kent County Council",11994149,"AMEY COMMUNITY LIMITED","2020-04-17",-3660,"E","1KB","Revenue Maintenance","102",{"$f":"VLOOKUP(I1689,'[1]Sub Lookup'!$A$1:$B$65536,2,FALSE)","v":"Premises spend in relation to REFCUS"}]
["Kent County Council",11994117,"AMEY COMMUNITY LIMITED","2020-04-17",-1854.7,"C","8DP","Property","949",{"$f":"VLOOKUP(I1690,'[1]Sub Lookup'!$A$1:$B$65536,2,FALSE)","v":"General Fees and Charges"}]
["Kent County Council",11994117,"AMEY COMMUNITY LIMITED","2020-04-17",37055.29,"C","8DP","Property","104",{"$f":"VLOOKUP(I1691,'[1]Sub Lookup'!$A$1:$B$65536,2,FALSE)","v":"Reactive maintenance of buildings"}]
["Kent County Council",11990218,"AMEY COMMUNITY LIMITED","2020-04-17",475,"C","31C","KCC Residential Short Break Units","C15",{"$f":"VLOOKUP(I1692,'[1]Sub Lookup'!$A$1:$B$65536,2,FALSE)","v":"Building Works - Main Contract"}]
["Kent County Council",11990218,"AMEY COMMUNITY LIMITED","2020-04-17",7650,"C","31C","KCC Residential Short Break Units","C14",{"$f":"VLOOKUP(I1693,'[1]Sub Lookup'!$A$1:$B$65536,2,FALSE)","v":"Design Fees - External"}]
["Kent County Council",11994106,"AMEY COMMUNITY LIMITED","2020-04-17",1575,"C","8DF","Finance","310",{"$f":"VLOOKUP(I1694,'[1]Sub Lookup'!$A$1:$B$65536,2,FALSE)","v":"Postage"}]
["Kent County Council",11994140,"AMEY COMMUNITY LIMITED","2020-04-17",-2868,"C","8DR","Corporate Landlord","411",{"$f":"VLOOKUP(I1695,'[1]Sub Lookup'!$A$1:$B$65536,2,FALSE)","v":"Property Services & Construction"}]
["Kent County Council",11990214,"AMEY COMMUNITY LIMITED","2020-04-17",17822,"E","1TA","Capital - Primary Schools ES&PS","C15",{"$f":"VLOOKUP(I1696,'[1]Sub Lookup'!$A$1:$B$65536,2,FALSE)","v":"Building Works - Main Contract"}]
["Kent County Council",11936166,"AMEY COMMUNITY LIMITED","2020-04-17",2162.54,"E","1TA","Capital - Primary Schools ES&PS","C14",{"$f":"VLOOKUP(I1697,'[1]Sub Lookup'!$A$1:$B$65536,2,FALSE)","v":"Design Fees - External"}]
["Kent County Council",11994106,"AMEY COMMUNITY LIMITED","2020-04-17",937.58,"C","8BS","Business Services Centre","310",{"$f":"VLOOKUP(I1698,'[1]Sub Lookup'!$A$1:$B$65536,2,FALSE)","v":"Postage"}]
["Kent County Council",11995944,"AMEY COMMUNITY LIMITED","2020-04-20",668.08,"C","2LC","Libraries, Registration & Archives","104",{"$f":"VLOOKUP(I1699,'[1]Sub Lookup'!$A$1:$B$65536,2,FALSE)","v":"Reactive maintenance of buildings"}]
["Kent County Council",11995946,"AMEY COMMUNITY LIMITED","2020-04-20",668.08,"C","2LC","Libraries, Registration & Archives","104",{"$f":"VLOOKUP(I1700,'[1]Sub Lookup'!$A$1:$B$65536,2,FALSE)","v":"Reactive maintenance of buildings"}]
["Kent County Council",11995949,"AMEY COMMUNITY LIMITED","2020-04-20",886.19,"C","2LC","Libraries, Registration & Archives","104",{"$f":"VLOOKUP(I1701,'[1]Sub Lookup'!$A$1:$B$65536,2,FALSE)","v":"Reactive maintenance of buildings"}]
["Kent County Council",11997002,"AMEY COMMUNITY LIMITED","2020-04-20",1249.1600000000001,"C","2LC","Libraries, Registration & Archives","104",{"$f":"VLOOKUP(I1702,'[1]Sub Lookup'!$A$1:$B$65536,2,FALSE)","v":"Reactive maintenance of buildings"}]
["Kent County Council",11995950,"AMEY COMMUNITY LIMITED","2020-04-20",891,"C","8DW","Non Operational Properties","100",{"$f":"VLOOKUP(I1703,'[1]Sub Lookup'!$A$1:$B$65536,2,FALSE)","v":"Maintenance of Grounds"}]
["Kent County Council",11995951,"AMEY COMMUNITY LIMITED","2020-04-20",906.16,"C","8DW","Non Operational Properties","100",{"$f":"VLOOKUP(I1704,'[1]Sub Lookup'!$A$1:$B$65536,2,FALSE)","v":"Maintenance of Grounds"}]
["Kent County Council",11995952,"AMEY COMMUNITY LIMITED","2020-04-20",1208.26,"C","8DW","Non Operational Properties","100",{"$f":"VLOOKUP(I1705,'[1]Sub Lookup'!$A$1:$B$65536,2,FALSE)","v":"Maintenance of Grounds"}]
["Kent County Council",11995953,"AMEY COMMUNITY LIMITED","2020-04-20",1359.29,"C","8DW","Non Operational Properties","104",{"$f":"VLOOKUP(I1706,'[1]Sub Lookup'!$A$1:$B$65536,2,FALSE)","v":"Reactive maintenance of buildings"}]
["Kent County Council",11996992,"AMEY COMMUNITY LIMITED","2020-04-20",942.61,"C","8DW","Non Operational Properties","100",{"$f":"VLOOKUP(I1707,'[1]Sub Lookup'!$A$1:$B$65536,2,FALSE)","v":"Maintenance of Grounds"}]
["Kent County Council",11992304,"AMEY COMMUNITY LIMITED","2020-04-20",528.59,"C","8DP","Property","100",{"$f":"VLOOKUP(I1708,'[1]Sub Lookup'!$A$1:$B$65536,2,FALSE)","v":"Maintenance of Grounds"}]
["Kent County Council",11995947,"AMEY COMMUNITY LIMITED","2020-04-20",701.75,"C","8DP","Property","104",{"$f":"VLOOKUP(I1709,'[1]Sub Lookup'!$A$1:$B$65536,2,FALSE)","v":"Reactive maintenance of buildings"}]
["Kent County Council",11995720,"AMEY COMMUNITY LIMITED","2020-04-20",72710.39,"E","1KB","Revenue Maintenance","102",{"$f":"VLOOKUP(I1710,'[1]Sub Lookup'!$A$1:$B$65536,2,FALSE)","v":"Premises spend in relation to REFCUS"}]
["Kent County Council",11995942,"AMEY COMMUNITY LIMITED","2020-04-20",668.08,"C","2UA","Youth Services","104",{"$f":"VLOOKUP(I1711,'[1]Sub Lookup'!$A$1:$B$65536,2,FALSE)","v":"Reactive maintenance of buildings"}]
["Kent County Council",11995938,"AMEY COMMUNITY LIMITED","2020-04-20",621.81000000000006,"C","2LE","Adult Education","104",{"$f":"VLOOKUP(I1712,'[1]Sub Lookup'!$A$1:$B$65536,2,FALSE)","v":"Reactive maintenance of buildings"}]
["Kent County Council",11995941,"AMEY COMMUNITY LIMITED","2020-04-20",668.08,"C","2LE","Adult Education","104",{"$f":"VLOOKUP(I1713,'[1]Sub Lookup'!$A$1:$B$65536,2,FALSE)","v":"Reactive maintenance of buildings"}]
["Kent County Council",11936130,"AMEY COMMUNITY LIMITED","2020-04-20",6025,"E","1TA","Capital - Primary Schools ES&PS","C14",{"$f":"VLOOKUP(I1714,'[1]Sub Lookup'!$A$1:$B$65536,2,FALSE)","v":"Design Fees - External"}]
["Kent County Council",11989506,"AMEY COMMUNITY LIMITED","2020-04-20",16961.72,"E","1TA","Capital - Primary Schools ES&PS","C15",{"$f":"VLOOKUP(I1715,'[1]Sub Lookup'!$A$1:$B$65536,2,FALSE)","v":"Building Works - Main Contract"}]
["Kent County Council",11990220,"AMEY COMMUNITY LIMITED","2020-04-20",940,"E","1TA","Capital - Primary Schools ES&PS","C14",{"$f":"VLOOKUP(I1716,'[1]Sub Lookup'!$A$1:$B$65536,2,FALSE)","v":"Design Fees - External"}]
["Kent County Council",11995940,"AMEY COMMUNITY LIMITED","2020-04-20",668.08,"C","36P","Children's Centres","104",{"$f":"VLOOKUP(I1717,'[1]Sub Lookup'!$A$1:$B$65536,2,FALSE)","v":"Reactive maintenance of buildings"}]
["Kent County Council",11995945,"AMEY COMMUNITY LIMITED","2020-04-20",668.08,"C","36P","Children's Centres","104",{"$f":"VLOOKUP(I1718,'[1]Sub Lookup'!$A$1:$B$65536,2,FALSE)","v":"Reactive maintenance of buildings"}]
["Kent County Council",11995948,"AMEY COMMUNITY LIMITED","2020-04-20",752.45,"C","36P","Children's Centres","104",{"$f":"VLOOKUP(I1719,'[1]Sub Lookup'!$A$1:$B$65536,2,FALSE)","v":"Reactive maintenance of buildings"}]
["Kent County Council",11996991,"AMEY COMMUNITY LIMITED","2020-04-20",1010.36,"C","36P","Children's Centres","104",{"$f":"VLOOKUP(I1720,'[1]Sub Lookup'!$A$1:$B$65536,2,FALSE)","v":"Reactive maintenance of buildings"}]
["Kent County Council",11995939,"AMEY COMMUNITY LIMITED","2020-04-20",634.5,"C","8DR","Corporate Landlord","104",{"$f":"VLOOKUP(I1721,'[1]Sub Lookup'!$A$1:$B$65536,2,FALSE)","v":"Reactive maintenance of buildings"}]
["Kent County Council",11997001,"AMEY COMMUNITY LIMITED","2020-04-20",543.44000000000005,"C","8DR","Corporate Landlord","104",{"$f":"VLOOKUP(I1722,'[1]Sub Lookup'!$A$1:$B$65536,2,FALSE)","v":"Reactive maintenance of buildings"}]
["Kent County Council",11997003,"AMEY COMMUNITY LIMITED","2020-04-20",462.22,"C","8DR","Corporate Landlord","C14",{"$f":"VLOOKUP(I1723,'[1]Sub Lookup'!$A$1:$B$65536,2,FALSE)","v":"Design Fees - External"}]
["Kent County Council",11997003,"AMEY COMMUNITY LIMITED","2020-04-20",6338.6,"C","8DR","Corporate Landlord","C15",{"$f":"VLOOKUP(I1724,'[1]Sub Lookup'!$A$1:$B$65536,2,FALSE)","v":"Building Works - Main Contract"}]
["Kent County Council",11995943,"AMEY COMMUNITY LIMITED","2020-04-20",668.08,"C","2LC","Libraries, Registration & Archives","104",{"$f":"VLOOKUP(I1725,'[1]Sub Lookup'!$A$1:$B$65536,2,FALSE)","v":"Reactive maintenance of buildings"}]
["Kent County Council",11998178,"AMEY COMMUNITY LIMITED","2020-04-21",460.01,"E","1KB","Revenue Maintenance","102",{"$f":"VLOOKUP(I1726,'[1]Sub Lookup'!$A$1:$B$65536,2,FALSE)","v":"Premises spend in relation to REFCUS"}]
["Kent County Council",11998175,"AMEY COMMUNITY LIMITED","2020-04-21",475.88,"E","1KB","Revenue Maintenance","102",{"$f":"VLOOKUP(I1727,'[1]Sub Lookup'!$A$1:$B$65536,2,FALSE)","v":"Premises spend in relation to REFCUS"}]
["Kent County Council",11998188,"AMEY COMMUNITY LIMITED","2020-04-21",11101.2,"C","7HV","Depots","141",{"$f":"VLOOKUP(I1728,'[1]Sub Lookup'!$A$1:$B$65536,2,FALSE)","v":"Premises Security Charges"}]
["Kent County Council",11995937,"AMEY COMMUNITY LIMITED","2020-04-21",601.84,"C","8DR","Corporate Landlord","104",{"$f":"VLOOKUP(I1729,'[1]Sub Lookup'!$A$1:$B$65536,2,FALSE)","v":"Reactive maintenance of buildings"}]
["Kent County Council",11998202,"AMEY COMMUNITY LIMITED","2020-04-21",7797.2300000000005,"E","1TA","Capital - Primary Schools ES&PS","C15",{"$f":"VLOOKUP(I1730,'[1]Sub Lookup'!$A$1:$B$65536,2,FALSE)","v":"Building Works - Main Contract"}]
["Kent County Council",11998202,"AMEY COMMUNITY LIMITED","2020-04-21",448.34000000000003,"E","1TA","Capital - Primary Schools ES&PS","C14",{"$f":"VLOOKUP(I1731,'[1]Sub Lookup'!$A$1:$B$65536,2,FALSE)","v":"Design Fees - External"}]
["Kent County Council",11998177,"AMEY COMMUNITY LIMITED","2020-04-21",1148,"E","1TA","Capital - Primary Schools ES&PS","C15",{"$f":"VLOOKUP(I1732,'[1]Sub Lookup'!$A$1:$B$65536,2,FALSE)","v":"Building Works - Main Contract"}]
["Kent County Council",11995685,"AMEY COMMUNITY LIMITED","2020-04-22",275.63,"C","2LC","Libraries, Registration & Archives","103",{"$f":"VLOOKUP(I1733,'[1]Sub Lookup'!$A$1:$B$65536,2,FALSE)","v":"Planned maintenance of buildings"}]
["Kent County Council",11995685,"AMEY COMMUNITY LIMITED","2020-04-22",305.45,"C","2LC","Libraries, Registration & Archives","131",{"$f":"VLOOKUP(I1734,'[1]Sub Lookup'!$A$1:$B$65536,2,FALSE)","v":"Contract Cleaning"}]
["Kent County Council",11995685,"AMEY COMMUNITY LIMITED","2020-04-22",420.83,"C","2LC","Libraries, Registration & Archives","103",{"$f":"VLOOKUP(I1735,'[1]Sub Lookup'!$A$1:$B$65536,2,FALSE)","v":"Planned maintenance of buildings"}]
["Kent County Council",11995685,"AMEY COMMUNITY LIMITED","2020-04-22",453.37,"C","2LC","Libraries, Registration & Archives","131",{"$f":"VLOOKUP(I1736,'[1]Sub Lookup'!$A$1:$B$65536,2,FALSE)","v":"Contract Cleaning"}]
["Kent County Council",11995685,"AMEY COMMUNITY LIMITED","2020-04-22",655.37,"C","2LC","Libraries, Registration & Archives","103",{"$f":"VLOOKUP(I1737,'[1]Sub Lookup'!$A$1:$B$65536,2,FALSE)","v":"Planned maintenance of buildings"}]
["Kent County Council",11995685,"AMEY COMMUNITY LIMITED","2020-04-22",318.88,"C","2LC","Libraries, Registration & Archives","100",{"$f":"VLOOKUP(I1738,'[1]Sub Lookup'!$A$1:$B$65536,2,FALSE)","v":"Maintenance of Grounds"}]
["Kent County Council",11995685,"AMEY COMMUNITY LIMITED","2020-04-22",295.77,"C","2LC","Libraries, Registration & Archives","131",{"$f":"VLOOKUP(I1739,'[1]Sub Lookup'!$A$1:$B$65536,2,FALSE)","v":"Contract Cleaning"}]
["Kent County Council",11995685,"AMEY COMMUNITY LIMITED","2020-04-22",358,"C","2LC","Libraries, Registration & Archives","103",{"$f":"VLOOKUP(I1740,'[1]Sub Lookup'!$A$1:$B$65536,2,FALSE)","v":"Planned maintenance of buildings"}]
["Kent County Council",11995685,"AMEY COMMUNITY LIMITED","2020-04-22",317.52,"C","2LC","Libraries, Registration & Archives","103",{"$f":"VLOOKUP(I1741,'[1]Sub Lookup'!$A$1:$B$65536,2,FALSE)","v":"Planned maintenance of buildings"}]
["Kent County Council",11995685,"AMEY COMMUNITY LIMITED","2020-04-22",316,"C","2LC","Libraries, Registration & Archives","131",{"$f":"VLOOKUP(I1742,'[1]Sub Lookup'!$A$1:$B$65536,2,FALSE)","v":"Contract Cleaning"}]
["Kent County Council",11995685,"AMEY COMMUNITY LIMITED","2020-04-22",489.23,"C","2LC","Libraries, Registration & Archives","103",{"$f":"VLOOKUP(I1743,'[1]Sub Lookup'!$A$1:$B$65536,2,FALSE)","v":"Planned maintenance of buildings"}]
["Kent County Council",11995685,"AMEY COMMUNITY LIMITED","2020-04-22",287.59000000000003,"C","2LC","Libraries, Registration & Archives","131",{"$f":"VLOOKUP(I1744,'[1]Sub Lookup'!$A$1:$B$65536,2,FALSE)","v":"Contract Cleaning"}]
["Kent County Council",11995685,"AMEY COMMUNITY LIMITED","2020-04-22",304.95,"C","2LC","Libraries, Registration & Archives","103",{"$f":"VLOOKUP(I1745,'[1]Sub Lookup'!$A$1:$B$65536,2,FALSE)","v":"Planned maintenance of buildings"}]
["Kent County Council",11995685,"AMEY COMMUNITY LIMITED","2020-04-22",291.79000000000002,"C","5AC","Learning Disability Support - 18 64 Long Term Support: Supported accommodation","131",{"$f":"VLOOKUP(I1746,'[1]Sub Lookup'!$A$1:$B$65536,2,FALSE)","v":"Contract Cleaning"}]
["Kent County Council",11995685,"AMEY COMMUNITY LIMITED","2020-04-22",354.1,"C","5AC","Learning Disability Support - 18 64 Long Term Support: Supported accommodation","103",{"$f":"VLOOKUP(I1747,'[1]Sub Lookup'!$A$1:$B$65536,2,FALSE)","v":"Planned maintenance of buildings"}]
["Kent County Council",11995685,"AMEY COMMUNITY LIMITED","2020-04-22",703.55000000000007,"C","2LC","Libraries, Registration & Archives","103",{"$f":"VLOOKUP(I1748,'[1]Sub Lookup'!$A$1:$B$65536,2,FALSE)","v":"Planned maintenance of buildings"}]
["Kent County Council",11995685,"AMEY COMMUNITY LIMITED","2020-04-22",1226.26,"C","2LC","Libraries, Registration & Archives","131",{"$f":"VLOOKUP(I1749,'[1]Sub Lookup'!$A$1:$B$65536,2,FALSE)","v":"Contract Cleaning"}]
["Kent County Council",11995685,"AMEY COMMUNITY LIMITED","2020-04-22",303.55,"C","2LC","Libraries, Registration & Archives","103",{"$f":"VLOOKUP(I1750,'[1]Sub Lookup'!$A$1:$B$65536,2,FALSE)","v":"Planned maintenance of buildings"}]
["Kent County Council",11995685,"AMEY COMMUNITY LIMITED","2020-04-22",293.78000000000003,"C","2LC","Libraries, Registration & Archives","103",{"$f":"VLOOKUP(I1751,'[1]Sub Lookup'!$A$1:$B$65536,2,FALSE)","v":"Planned maintenance of buildings"}]
["Kent County Council",11995685,"AMEY COMMUNITY LIMITED","2020-04-22",285.86,"C","2LC","Libraries, Registration & Archives","131",{"$f":"VLOOKUP(I1752,'[1]Sub Lookup'!$A$1:$B$65536,2,FALSE)","v":"Contract Cleaning"}]
["Kent County Council",11995685,"AMEY COMMUNITY LIMITED","2020-04-22",337.06,"C","2LC","Libraries, Registration & Archives","103",{"$f":"VLOOKUP(I1753,'[1]Sub Lookup'!$A$1:$B$65536,2,FALSE)","v":"Planned maintenance of buildings"}]
["Kent County Council",11995685,"AMEY COMMUNITY LIMITED","2020-04-22",292.54000000000002,"C","2LC","Libraries, Registration & Archives","131",{"$f":"VLOOKUP(I1754,'[1]Sub Lookup'!$A$1:$B$65536,2,FALSE)","v":"Contract Cleaning"}]
["Kent County Council",11995685,"AMEY COMMUNITY LIMITED","2020-04-22",292.73,"C","2LC","Libraries, Registration & Archives","103",{"$f":"VLOOKUP(I1755,'[1]Sub Lookup'!$A$1:$B$65536,2,FALSE)","v":"Planned maintenance of buildings"}]
["Kent County Council",11995685,"AMEY COMMUNITY LIMITED","2020-04-22",293.78000000000003,"C","2LC","Libraries, Registration & Archives","103",{"$f":"VLOOKUP(I1756,'[1]Sub Lookup'!$A$1:$B$65536,2,FALSE)","v":"Planned maintenance of buildings"}]
["Kent County Council",11995685,"AMEY COMMUNITY LIMITED","2020-04-22",348.23,"C","2LC","Libraries, Registration & Archives","103",{"$f":"VLOOKUP(I1757,'[1]Sub Lookup'!$A$1:$B$65536,2,FALSE)","v":"Planned maintenance of buildings"}]
["Kent County Council",11995685,"AMEY COMMUNITY LIMITED","2020-04-22",294.26,"C","2LC","Libraries, Registration & Archives","131",{"$f":"VLOOKUP(I1758,'[1]Sub Lookup'!$A$1:$B$65536,2,FALSE)","v":"Contract Cleaning"}]
["Kent County Council",11995685,"AMEY COMMUNITY LIMITED","2020-04-22",297.97000000000003,"C","2LC","Libraries, Registration & Archives","103",{"$f":"VLOOKUP(I1759,'[1]Sub Lookup'!$A$1:$B$65536,2,FALSE)","v":"Planned maintenance of buildings"}]
["Kent County Council",11995685,"AMEY COMMUNITY LIMITED","2020-04-22",623.26,"C","2LC","Libraries, Registration & Archives","103",{"$f":"VLOOKUP(I1760,'[1]Sub Lookup'!$A$1:$B$65536,2,FALSE)","v":"Planned maintenance of buildings"}]
["Kent County Council",11995685,"AMEY COMMUNITY LIMITED","2020-04-22",448.42,"C","2LC","Libraries, Registration & Archives","131",{"$f":"VLOOKUP(I1761,'[1]Sub Lookup'!$A$1:$B$65536,2,FALSE)","v":"Contract Cleaning"}]
["Kent County Council",11995685,"AMEY COMMUNITY LIMITED","2020-04-22",251.9,"C","2LC","Libraries, Registration & Archives","103",{"$f":"VLOOKUP(I1762,'[1]Sub Lookup'!$A$1:$B$65536,2,FALSE)","v":"Planned maintenance of buildings"}]
["Kent County Council",11995685,"AMEY COMMUNITY LIMITED","2020-04-22",279.41000000000003,"C","2LC","Libraries, Registration & Archives","131",{"$f":"VLOOKUP(I1763,'[1]Sub Lookup'!$A$1:$B$65536,2,FALSE)","v":"Contract Cleaning"}]
["Kent County Council",11995685,"AMEY COMMUNITY LIMITED","2020-04-22",397.40000000000003,"C","7HV","Depots","100",{"$f":"VLOOKUP(I1764,'[1]Sub Lookup'!$A$1:$B$65536,2,FALSE)","v":"Maintenance of Grounds"}]
["Kent County Council",11995685,"AMEY COMMUNITY LIMITED","2020-04-22",1390.48,"C","7HV","Depots","103",{"$f":"VLOOKUP(I1765,'[1]Sub Lookup'!$A$1:$B$65536,2,FALSE)","v":"Planned maintenance of buildings"}]
["Kent County Council",11995685,"AMEY COMMUNITY LIMITED","2020-04-22",258.23,"C","7HV","Depots","104",{"$f":"VLOOKUP(I1766,'[1]Sub Lookup'!$A$1:$B$65536,2,FALSE)","v":"Reactive maintenance of buildings"}]
["Kent County Council",11995685,"AMEY COMMUNITY LIMITED","2020-04-22",1671.1200000000001,"C","7HV","Depots","131",{"$f":"VLOOKUP(I1767,'[1]Sub Lookup'!$A$1:$B$65536,2,FALSE)","v":"Contract Cleaning"}]
["Kent County Council",11995685,"AMEY COMMUNITY LIMITED","2020-04-22",2504.17,"C","7HV","Depots","411",{"$f":"VLOOKUP(I1768,'[1]Sub Lookup'!$A$1:$B$65536,2,FALSE)","v":"Property Services & Construction"}]
["Kent County Council",11995685,"AMEY COMMUNITY LIMITED","2020-04-22",873.65,"C","7HV","Depots","100",{"$f":"VLOOKUP(I1769,'[1]Sub Lookup'!$A$1:$B$65536,2,FALSE)","v":"Maintenance of Grounds"}]
["Kent County Council",11995685,"AMEY COMMUNITY LIMITED","2020-04-22",1705.99,"C","7HV","Depots","103",{"$f":"VLOOKUP(I1770,'[1]Sub Lookup'!$A$1:$B$65536,2,FALSE)","v":"Planned maintenance of buildings"}]
["Kent County Council",11995685,"AMEY COMMUNITY LIMITED","2020-04-22",336.19,"C","7HV","Depots","104",{"$f":"VLOOKUP(I1771,'[1]Sub Lookup'!$A$1:$B$65536,2,FALSE)","v":"Reactive maintenance of buildings"}]
["Kent County Council",11995685,"AMEY COMMUNITY LIMITED","2020-04-22",714.59,"C","7HV","Depots","126",{"$f":"VLOOKUP(I1772,'[1]Sub Lookup'!$A$1:$B$65536,2,FALSE)","v":"Waste Disposal"}]
["Kent County Council",11995685,"AMEY COMMUNITY LIMITED","2020-04-22",2121.04,"C","7HV","Depots","131",{"$f":"VLOOKUP(I1773,'[1]Sub Lookup'!$A$1:$B$65536,2,FALSE)","v":"Contract Cleaning"}]
["Kent County Council",11995685,"AMEY COMMUNITY LIMITED","2020-04-22",2147.1,"C","7HV","Depots","411",{"$f":"VLOOKUP(I1774,'[1]Sub Lookup'!$A$1:$B$65536,2,FALSE)","v":"Property Services & Construction"}]
["Kent County Council",11995685,"AMEY COMMUNITY LIMITED","2020-04-22",331.56,"C","7HV","Depots","103",{"$f":"VLOOKUP(I1775,'[1]Sub Lookup'!$A$1:$B$65536,2,FALSE)","v":"Planned maintenance of buildings"}]
["Kent County Council",11995685,"AMEY COMMUNITY LIMITED","2020-04-22",2041.95,"C","37N","Early Years","103",{"$f":"VLOOKUP(I1776,'[1]Sub Lookup'!$A$1:$B$65536,2,FALSE)","v":"Planned maintenance of buildings"}]
["Kent County Council",11995685,"AMEY COMMUNITY LIMITED","2020-04-22",316.58,"C","2GA","Gateway Delivery","100",{"$f":"VLOOKUP(I1777,'[1]Sub Lookup'!$A$1:$B$65536,2,FALSE)","v":"Maintenance of Grounds"}]
["Kent County Council",11995685,"AMEY COMMUNITY LIMITED","2020-04-22",4638.03,"C","2GA","Gateway Delivery","103",{"$f":"VLOOKUP(I1778,'[1]Sub Lookup'!$A$1:$B$65536,2,FALSE)","v":"Planned maintenance of buildings"}]
["Kent County Council",11995685,"AMEY COMMUNITY LIMITED","2020-04-22",425.81,"C","2GA","Gateway Delivery","104",{"$f":"VLOOKUP(I1779,'[1]Sub Lookup'!$A$1:$B$65536,2,FALSE)","v":"Reactive maintenance of buildings"}]
["Kent County Council",11995685,"AMEY COMMUNITY LIMITED","2020-04-22",308.5,"C","2GA","Gateway Delivery","126",{"$f":"VLOOKUP(I1780,'[1]Sub Lookup'!$A$1:$B$65536,2,FALSE)","v":"Waste Disposal"}]
["Kent County Council",11995685,"AMEY COMMUNITY LIMITED","2020-04-22",2755.9,"C","2GA","Gateway Delivery","131",{"$f":"VLOOKUP(I1781,'[1]Sub Lookup'!$A$1:$B$65536,2,FALSE)","v":"Contract Cleaning"}]
["Kent County Council",11995685,"AMEY COMMUNITY LIMITED","2020-04-22",254.39000000000001,"C","2GA","Gateway Delivery","141",{"$f":"VLOOKUP(I1782,'[1]Sub Lookup'!$A$1:$B$65536,2,FALSE)","v":"Premises Security Charges"}]
["Kent County Council",11995685,"AMEY COMMUNITY LIMITED","2020-04-22",490.92,"C","2GA","Gateway Delivery","411",{"$f":"VLOOKUP(I1783,'[1]Sub Lookup'!$A$1:$B$65536,2,FALSE)","v":"Property Services & Construction"}]
["Kent County Council",11995685,"AMEY COMMUNITY LIMITED","2020-04-22",446,"C","31C","KCC Residential Short Break Units","103",{"$f":"VLOOKUP(I1784,'[1]Sub Lookup'!$A$1:$B$65536,2,FALSE)","v":"Planned maintenance of buildings"}]
["Kent County Council",11995685,"AMEY COMMUNITY LIMITED","2020-04-22",338.31,"C","31C","KCC Residential Short Break Units","103",{"$f":"VLOOKUP(I1785,'[1]Sub Lookup'!$A$1:$B$65536,2,FALSE)","v":"Planned maintenance of buildings"}]
["Kent County Council",11995685,"AMEY COMMUNITY LIMITED","2020-04-22",311.39,"C","31C","KCC Residential Short Break Units","131",{"$f":"VLOOKUP(I1786,'[1]Sub Lookup'!$A$1:$B$65536,2,FALSE)","v":"Contract Cleaning"}]
["Kent County Council",11995685,"AMEY COMMUNITY LIMITED","2020-04-22",1317.53,"C","2RC","Kent Scientific Services","103",{"$f":"VLOOKUP(I1787,'[1]Sub Lookup'!$A$1:$B$65536,2,FALSE)","v":"Planned maintenance of buildings"}]
["Kent County Council",11995685,"AMEY COMMUNITY LIMITED","2020-04-22",291.14,"C","2RC","Kent Scientific Services","126",{"$f":"VLOOKUP(I1788,'[1]Sub Lookup'!$A$1:$B$65536,2,FALSE)","v":"Waste Disposal"}]
["Kent County Council",11995685,"AMEY COMMUNITY LIMITED","2020-04-22",1240.5,"C","2RC","Kent Scientific Services","131",{"$f":"VLOOKUP(I1789,'[1]Sub Lookup'!$A$1:$B$65536,2,FALSE)","v":"Contract Cleaning"}]
["Kent County Council",11995685,"AMEY COMMUNITY LIMITED","2020-04-22",360.40000000000003,"C","5AJ","Learning Disability Support - 18 64 Long Term Support: Community: Day Care","103",{"$f":"VLOOKUP(I1790,'[1]Sub Lookup'!$A$1:$B$65536,2,FALSE)","v":"Planned maintenance of buildings"}]
["Kent County Council",11995685,"AMEY COMMUNITY LIMITED","2020-04-22",290.09000000000003,"C","5AJ","Learning Disability Support - 18 64 Long Term Support: Community: Day Care","131",{"$f":"VLOOKUP(I1791,'[1]Sub Lookup'!$A$1:$B$65536,2,FALSE)","v":"Contract Cleaning"}]
["Kent County Council",11995685,"AMEY COMMUNITY LIMITED","2020-04-22",282.3,"C","5AJ","Learning Disability Support - 18 64 Long Term Support: Community: Day Care","411",{"$f":"VLOOKUP(I1792,'[1]Sub Lookup'!$A$1:$B$65536,2,FALSE)","v":"Property Services & Construction"}]
["Kent County Council",11995685,"AMEY COMMUNITY LIMITED","2020-04-22",255.55,"C","5AJ","Learning Disability Support - 18 64 Long Term Support: Community: Day Care","103",{"$f":"VLOOKUP(I1793,'[1]Sub Lookup'!$A$1:$B$65536,2,FALSE)","v":"Planned maintenance of buildings"}]
["Kent County Council",11995685,"AMEY COMMUNITY LIMITED","2020-04-22",539.47,"C","5AJ","Learning Disability Support - 18 64 Long Term Support: Community: Day Care","131",{"$f":"VLOOKUP(I1794,'[1]Sub Lookup'!$A$1:$B$65536,2,FALSE)","v":"Contract Cleaning"}]
["Kent County Council",11995685,"AMEY COMMUNITY LIMITED","2020-04-22",2302.89,"C","8DP","Property","104",{"$f":"VLOOKUP(I1795,'[1]Sub Lookup'!$A$1:$B$65536,2,FALSE)","v":"Reactive maintenance of buildings"}]
["Kent County Council",11995685,"AMEY COMMUNITY LIMITED","2020-04-22",1494.04,"C","8DP","Property","126",{"$f":"VLOOKUP(I1796,'[1]Sub Lookup'!$A$1:$B$65536,2,FALSE)","v":"Waste Disposal"}]
["Kent County Council",11995685,"AMEY COMMUNITY LIMITED","2020-04-22",788.61,"C","8DP","Property","411",{"$f":"VLOOKUP(I1797,'[1]Sub Lookup'!$A$1:$B$65536,2,FALSE)","v":"Property Services & Construction"}]
["Kent County Council",11995685,"AMEY COMMUNITY LIMITED","2020-04-22",357.87,"C","2RE","Registration","103",{"$f":"VLOOKUP(I1798,'[1]Sub Lookup'!$A$1:$B$65536,2,FALSE)","v":"Planned maintenance of buildings"}]
["Kent County Council",11995685,"AMEY COMMUNITY LIMITED","2020-04-22",1187.9100000000001,"C","2RE","Registration","122",{"$f":"VLOOKUP(I1799,'[1]Sub Lookup'!$A$1:$B$65536,2,FALSE)","v":"Apportionment of expenses of operational buildings"}]
["Kent County Council",11995685,"AMEY COMMUNITY LIMITED","2020-04-22",301.70999999999998,"C","2RE","Registration","126",{"$f":"VLOOKUP(I1800,'[1]Sub Lookup'!$A$1:$B$65536,2,FALSE)","v":"Waste Disposal"}]
["Kent County Council",11995685,"AMEY COMMUNITY LIMITED","2020-04-22",1059.51,"C","2RE","Registration","131",{"$f":"VLOOKUP(I1801,'[1]Sub Lookup'!$A$1:$B$65536,2,FALSE)","v":"Contract Cleaning"}]
["Kent County Council",11995685,"AMEY COMMUNITY LIMITED","2020-04-22",3608.01,"E","1KB","Revenue Maintenance","102",{"$f":"VLOOKUP(I1802,'[1]Sub Lookup'!$A$1:$B$65536,2,FALSE)","v":"Premises spend in relation to REFCUS"}]
["Kent County Council",11995685,"AMEY COMMUNITY LIMITED","2020-04-22",698.67,"C","5WD","Social Support: Support for Carer LD Other","100",{"$f":"VLOOKUP(I1803,'[1]Sub Lookup'!$A$1:$B$65536,2,FALSE)","v":"Maintenance of Grounds"}]
["Kent County Council",11995685,"AMEY COMMUNITY LIMITED","2020-04-22",2082.67,"C","5WD","Social Support: Support for Carer LD Other","103",{"$f":"VLOOKUP(I1804,'[1]Sub Lookup'!$A$1:$B$65536,2,FALSE)","v":"Planned maintenance of buildings"}]
["Kent County Council",11995685,"AMEY COMMUNITY LIMITED","2020-04-22",440.42,"C","5WD","Social Support: Support for Carer LD Other","103",{"$f":"VLOOKUP(I1805,'[1]Sub Lookup'!$A$1:$B$65536,2,FALSE)","v":"Planned maintenance of buildings"}]
["Kent County Council",11995685,"AMEY COMMUNITY LIMITED","2020-04-22",270.52,"C","5WC","Social Support: Support for Carer OPPD Other","411",{"$f":"VLOOKUP(I1806,'[1]Sub Lookup'!$A$1:$B$65536,2,FALSE)","v":"Property Services & Construction"}]
["Kent County Council",11995685,"AMEY COMMUNITY LIMITED","2020-04-22",257.72000000000003,"C","7WA","Waste Management - Service Mng & Support Services","100",{"$f":"VLOOKUP(I1807,'[1]Sub Lookup'!$A$1:$B$65536,2,FALSE)","v":"Maintenance of Grounds"}]
["Kent County Council",11995685,"AMEY COMMUNITY LIMITED","2020-04-22",633.79,"C","7WA","Waste Management - Service Mng & Support Services","103",{"$f":"VLOOKUP(I1808,'[1]Sub Lookup'!$A$1:$B$65536,2,FALSE)","v":"Planned maintenance of buildings"}]
["Kent County Council",11995685,"AMEY COMMUNITY LIMITED","2020-04-22",331.09000000000003,"C","7WA","Waste Management - Service Mng & Support Services","126",{"$f":"VLOOKUP(I1809,'[1]Sub Lookup'!$A$1:$B$65536,2,FALSE)","v":"Waste Disposal"}]
["Kent County Council",11995685,"AMEY COMMUNITY LIMITED","2020-04-22",732.38,"C","7WA","Waste Management - Service Mng & Support Services","131",{"$f":"VLOOKUP(I1810,'[1]Sub Lookup'!$A$1:$B$65536,2,FALSE)","v":"Contract Cleaning"}]
["Kent County Council",11995685,"AMEY COMMUNITY LIMITED","2020-04-22",405.91,"C","2UA","Youth Services","103",{"$f":"VLOOKUP(I1811,'[1]Sub Lookup'!$A$1:$B$65536,2,FALSE)","v":"Planned maintenance of buildings"}]
["Kent County Council",11995685,"AMEY COMMUNITY LIMITED","2020-04-22",469.77,"C","2UA","Youth Services","103",{"$f":"VLOOKUP(I1812,'[1]Sub Lookup'!$A$1:$B$65536,2,FALSE)","v":"Planned maintenance of buildings"}]
["Kent County Council",11995685,"AMEY COMMUNITY LIMITED","2020-04-22",464.1,"C","2UA","Youth Services","131",{"$f":"VLOOKUP(I1813,'[1]Sub Lookup'!$A$1:$B$65536,2,FALSE)","v":"Contract Cleaning"}]
["Kent County Council",11995685,"AMEY COMMUNITY LIMITED","2020-04-22",405.90000000000003,"C","2UA","Youth Services","103",{"$f":"VLOOKUP(I1814,'[1]Sub Lookup'!$A$1:$B$65536,2,FALSE)","v":"Planned maintenance of buildings"}]
["Kent County Council",11995685,"AMEY COMMUNITY LIMITED","2020-04-22",620.9,"C","2UA","Youth Services","131",{"$f":"VLOOKUP(I1815,'[1]Sub Lookup'!$A$1:$B$65536,2,FALSE)","v":"Contract Cleaning"}]
["Kent County Council",11995685,"AMEY COMMUNITY LIMITED","2020-04-22",306.93,"C","2UA","Youth Services","100",{"$f":"VLOOKUP(I1816,'[1]Sub Lookup'!$A$1:$B$65536,2,FALSE)","v":"Maintenance of Grounds"}]
["Kent County Council",11995685,"AMEY COMMUNITY LIMITED","2020-04-22",768.30000000000007,"C","2UA","Youth Services","103",{"$f":"VLOOKUP(I1817,'[1]Sub Lookup'!$A$1:$B$65536,2,FALSE)","v":"Planned maintenance of buildings"}]
["Kent County Council",11995685,"AMEY COMMUNITY LIMITED","2020-04-22",540.06000000000006,"C","2UA","Youth Services","131",{"$f":"VLOOKUP(I1818,'[1]Sub Lookup'!$A$1:$B$65536,2,FALSE)","v":"Contract Cleaning"}]
["Kent County Council",11995685,"AMEY COMMUNITY LIMITED","2020-04-22",423.72,"C","2UA","Youth Services","103",{"$f":"VLOOKUP(I1819,'[1]Sub Lookup'!$A$1:$B$65536,2,FALSE)","v":"Planned maintenance of buildings"}]
["Kent County Council",11995685,"AMEY COMMUNITY LIMITED","2020-04-22",602.33000000000004,"C","2UA","Youth Services","131",{"$f":"VLOOKUP(I1820,'[1]Sub Lookup'!$A$1:$B$65536,2,FALSE)","v":"Contract Cleaning"}]
["Kent County Council",11995685,"AMEY COMMUNITY LIMITED","2020-04-22",295.18,"C","2UA","Youth Services","100",{"$f":"VLOOKUP(I1821,'[1]Sub Lookup'!$A$1:$B$65536,2,FALSE)","v":"Maintenance of Grounds"}]
["Kent County Council",11995685,"AMEY COMMUNITY LIMITED","2020-04-22",500.81,"C","2UA","Youth Services","103",{"$f":"VLOOKUP(I1822,'[1]Sub Lookup'!$A$1:$B$65536,2,FALSE)","v":"Planned maintenance of buildings"}]
["Kent County Council",11995685,"AMEY COMMUNITY LIMITED","2020-04-22",759.94,"C","2UA","Youth Services","131",{"$f":"VLOOKUP(I1823,'[1]Sub Lookup'!$A$1:$B$65536,2,FALSE)","v":"Contract Cleaning"}]
["Kent County Council",11995685,"AMEY COMMUNITY LIMITED","2020-04-22",632.6,"C","2UA","Youth Services","103",{"$f":"VLOOKUP(I1824,'[1]Sub Lookup'!$A$1:$B$65536,2,FALSE)","v":"Planned maintenance of buildings"}]
["Kent County Council",11995685,"AMEY COMMUNITY LIMITED","2020-04-22",450.96000000000004,"C","2UA","Youth Services","131",{"$f":"VLOOKUP(I1825,'[1]Sub Lookup'!$A$1:$B$65536,2,FALSE)","v":"Contract Cleaning"}]
["Kent County Council",11995685,"AMEY COMMUNITY LIMITED","2020-04-22",317.65000000000003,"C","2LC","Libraries, Registration & Archives","131",{"$f":"VLOOKUP(I1826,'[1]Sub Lookup'!$A$1:$B$65536,2,FALSE)","v":"Contract Cleaning"}]
["Kent County Council",11995685,"AMEY COMMUNITY LIMITED","2020-04-22",538.1,"C","2LC","Libraries, Registration & Archives","103",{"$f":"VLOOKUP(I1827,'[1]Sub Lookup'!$A$1:$B$65536,2,FALSE)","v":"Planned maintenance of buildings"}]
["Kent County Council",11995685,"AMEY COMMUNITY LIMITED","2020-04-22",368.24,"C","2LC","Libraries, Registration & Archives","131",{"$f":"VLOOKUP(I1828,'[1]Sub Lookup'!$A$1:$B$65536,2,FALSE)","v":"Contract Cleaning"}]
["Kent County Council",11995685,"AMEY COMMUNITY LIMITED","2020-04-22",1121.2,"C","2LC","Libraries, Registration & Archives","103",{"$f":"VLOOKUP(I1829,'[1]Sub Lookup'!$A$1:$B$65536,2,FALSE)","v":"Planned maintenance of buildings"}]
["Kent County Council",11995685,"AMEY COMMUNITY LIMITED","2020-04-22",291.14,"C","2LC","Libraries, Registration & Archives","126",{"$f":"VLOOKUP(I1830,'[1]Sub Lookup'!$A$1:$B$65536,2,FALSE)","v":"Waste Disposal"}]
["Kent County Council",11995685,"AMEY COMMUNITY LIMITED","2020-04-22",2362.8000000000002,"C","2LC","Libraries, Registration & Archives","131",{"$f":"VLOOKUP(I1831,'[1]Sub Lookup'!$A$1:$B$65536,2,FALSE)","v":"Contract Cleaning"}]
["Kent County Council",11995685,"AMEY COMMUNITY LIMITED","2020-04-22",255.34,"C","2LC","Libraries, Registration & Archives","411",{"$f":"VLOOKUP(I1832,'[1]Sub Lookup'!$A$1:$B$65536,2,FALSE)","v":"Property Services & Construction"}]
["Kent County Council",11995685,"AMEY COMMUNITY LIMITED","2020-04-22",374.76,"C","2LC","Libraries, Registration & Archives","103",{"$f":"VLOOKUP(I1833,'[1]Sub Lookup'!$A$1:$B$65536,2,FALSE)","v":"Planned maintenance of buildings"}]
["Kent County Council",11995685,"AMEY COMMUNITY LIMITED","2020-04-22",343.05,"C","2LC","Libraries, Registration & Archives","131",{"$f":"VLOOKUP(I1834,'[1]Sub Lookup'!$A$1:$B$65536,2,FALSE)","v":"Contract Cleaning"}]
["Kent County Council",11995685,"AMEY COMMUNITY LIMITED","2020-04-22",557.64,"C","2LC","Libraries, Registration & Archives","103",{"$f":"VLOOKUP(I1835,'[1]Sub Lookup'!$A$1:$B$65536,2,FALSE)","v":"Planned maintenance of buildings"}]
["Kent County Council",11995685,"AMEY COMMUNITY LIMITED","2020-04-22",371.25,"C","2LC","Libraries, Registration & Archives","131",{"$f":"VLOOKUP(I1836,'[1]Sub Lookup'!$A$1:$B$65536,2,FALSE)","v":"Contract Cleaning"}]
["Kent County Council",11995685,"AMEY COMMUNITY LIMITED","2020-04-22",-269.72000000000003,"C","2LC","Libraries, Registration & Archives","131",{"$f":"VLOOKUP(I1837,'[1]Sub Lookup'!$A$1:$B$65536,2,FALSE)","v":"Contract Cleaning"}]
["Kent County Council",11995685,"AMEY COMMUNITY LIMITED","2020-04-22",484,"C","2LC","Libraries, Registration & Archives","100",{"$f":"VLOOKUP(I1838,'[1]Sub Lookup'!$A$1:$B$65536,2,FALSE)","v":"Maintenance of Grounds"}]
["Kent County Council",11995685,"AMEY COMMUNITY LIMITED","2020-04-22",6081.83,"C","2LC","Libraries, Registration & Archives","103",{"$f":"VLOOKUP(I1839,'[1]Sub Lookup'!$A$1:$B$65536,2,FALSE)","v":"Planned maintenance of buildings"}]
["Kent County Council",11995685,"AMEY COMMUNITY LIMITED","2020-04-22",784.45,"C","2LC","Libraries, Registration & Archives","104",{"$f":"VLOOKUP(I1840,'[1]Sub Lookup'!$A$1:$B$65536,2,FALSE)","v":"Reactive maintenance of buildings"}]
["Kent County Council",11995685,"AMEY COMMUNITY LIMITED","2020-04-22",304.29000000000002,"C","2LC","Libraries, Registration & Archives","126",{"$f":"VLOOKUP(I1841,'[1]Sub Lookup'!$A$1:$B$65536,2,FALSE)","v":"Waste Disposal"}]
["Kent County Council",11995685,"AMEY COMMUNITY LIMITED","2020-04-22",6750.72,"C","2LC","Libraries, Registration & Archives","131",{"$f":"VLOOKUP(I1842,'[1]Sub Lookup'!$A$1:$B$65536,2,FALSE)","v":"Contract Cleaning"}]
["Kent County Council",11995685,"AMEY COMMUNITY LIMITED","2020-04-22",665.15,"C","2LC","Libraries, Registration & Archives","103",{"$f":"VLOOKUP(I1843,'[1]Sub Lookup'!$A$1:$B$65536,2,FALSE)","v":"Planned maintenance of buildings"}]
["Kent County Council",11995685,"AMEY COMMUNITY LIMITED","2020-04-22",729.80000000000007,"C","2LC","Libraries, Registration & Archives","131",{"$f":"VLOOKUP(I1844,'[1]Sub Lookup'!$A$1:$B$65536,2,FALSE)","v":"Contract Cleaning"}]
["Kent County Council",11995685,"AMEY COMMUNITY LIMITED","2020-04-22",371.69,"C","8DW","Non Operational Properties","131",{"$f":"VLOOKUP(I1845,'[1]Sub Lookup'!$A$1:$B$65536,2,FALSE)","v":"Contract Cleaning"}]
["Kent County Council",11995685,"AMEY COMMUNITY LIMITED","2020-04-22",2177.27,"C","8DW","Non Operational Properties","141",{"$f":"VLOOKUP(I1846,'[1]Sub Lookup'!$A$1:$B$65536,2,FALSE)","v":"Premises Security Charges"}]
["Kent County Council",11995685,"AMEY COMMUNITY LIMITED","2020-04-22",400.46000000000004,"C","8DW","Non Operational Properties","411",{"$f":"VLOOKUP(I1847,'[1]Sub Lookup'!$A$1:$B$65536,2,FALSE)","v":"Property Services & Construction"}]
["Kent County Council",11995685,"AMEY COMMUNITY LIMITED","2020-04-22",346.90000000000003,"C","8DW","Non Operational Properties","141",{"$f":"VLOOKUP(I1848,'[1]Sub Lookup'!$A$1:$B$65536,2,FALSE)","v":"Premises Security Charges"}]
["Kent County Council",11995685,"AMEY COMMUNITY LIMITED","2020-04-22",492.05,"C","8DW","Non Operational Properties","141",{"$f":"VLOOKUP(I1849,'[1]Sub Lookup'!$A$1:$B$65536,2,FALSE)","v":"Premises Security Charges"}]
["Kent County Council",11995685,"AMEY COMMUNITY LIMITED","2020-04-22",753.84,"C","5KP","Physical support - 65+ Short Term - Maximising Independence - Residential","100",{"$f":"VLOOKUP(I1850,'[1]Sub Lookup'!$A$1:$B$65536,2,FALSE)","v":"Maintenance of Grounds"}]
["Kent County Council",11995685,"AMEY COMMUNITY LIMITED","2020-04-22",4189.34,"C","5KP","Physical support - 65+ Short Term - Maximising Independence - Residential","103",{"$f":"VLOOKUP(I1851,'[1]Sub Lookup'!$A$1:$B$65536,2,FALSE)","v":"Planned maintenance of buildings"}]
["Kent County Council",11995685,"AMEY COMMUNITY LIMITED","2020-04-22",321.77,"C","5KP","Physical support - 65+ Short Term - Maximising Independence - Residential","104",{"$f":"VLOOKUP(I1852,'[1]Sub Lookup'!$A$1:$B$65536,2,FALSE)","v":"Reactive maintenance of buildings"}]
["Kent County Council",11995685,"AMEY COMMUNITY LIMITED","2020-04-22",1332.26,"C","5KP","Physical support - 65+ Short Term - Maximising Independence - Residential","126",{"$f":"VLOOKUP(I1853,'[1]Sub Lookup'!$A$1:$B$65536,2,FALSE)","v":"Waste Disposal"}]
["Kent County Council",11995685,"AMEY COMMUNITY LIMITED","2020-04-22",931.14,"C","5KP","Physical support - 65+ Short Term - Maximising Independence - Residential","131",{"$f":"VLOOKUP(I1854,'[1]Sub Lookup'!$A$1:$B$65536,2,FALSE)","v":"Contract Cleaning"}]
["Kent County Council",11995685,"AMEY COMMUNITY LIMITED","2020-04-22",591.52,"C","5KP","Physical support - 65+ Short Term - Maximising Independence - Residential","411",{"$f":"VLOOKUP(I1855,'[1]Sub Lookup'!$A$1:$B$65536,2,FALSE)","v":"Property Services & Construction"}]
["Kent County Council",11995685,"AMEY COMMUNITY LIMITED","2020-04-22",2240.7800000000002,"C","8DP","Property","100",{"$f":"VLOOKUP(I1856,'[1]Sub Lookup'!$A$1:$B$65536,2,FALSE)","v":"Maintenance of Grounds"}]
["Kent County Council",11995685,"AMEY COMMUNITY LIMITED","2020-04-22",2817.51,"C","8DP","Property","103",{"$f":"VLOOKUP(I1857,'[1]Sub Lookup'!$A$1:$B$65536,2,FALSE)","v":"Planned maintenance of buildings"}]
["Kent County Council",11995685,"AMEY COMMUNITY LIMITED","2020-04-22",295.45999999999998,"C","36P","Children's Centres","131",{"$f":"VLOOKUP(I1858,'[1]Sub Lookup'!$A$1:$B$65536,2,FALSE)","v":"Contract Cleaning"}]
["Kent County Council",11995685,"AMEY COMMUNITY LIMITED","2020-04-22",274.95999999999998,"C","36P","Children's Centres","100",{"$f":"VLOOKUP(I1859,'[1]Sub Lookup'!$A$1:$B$65536,2,FALSE)","v":"Maintenance of Grounds"}]
["Kent County Council",11995685,"AMEY COMMUNITY LIMITED","2020-04-22",1041.55,"C","36P","Children's Centres","103",{"$f":"VLOOKUP(I1860,'[1]Sub Lookup'!$A$1:$B$65536,2,FALSE)","v":"Planned maintenance of buildings"}]
["Kent County Council",11995685,"AMEY COMMUNITY LIMITED","2020-04-22",403.46000000000004,"C","36P","Children's Centres","126",{"$f":"VLOOKUP(I1861,'[1]Sub Lookup'!$A$1:$B$65536,2,FALSE)","v":"Waste Disposal"}]
["Kent County Council",11995685,"AMEY COMMUNITY LIMITED","2020-04-22",279.56,"C","36P","Children's Centres","103",{"$f":"VLOOKUP(I1862,'[1]Sub Lookup'!$A$1:$B$65536,2,FALSE)","v":"Planned maintenance of buildings"}]
["Kent County Council",11995685,"AMEY COMMUNITY LIMITED","2020-04-22",285.91000000000003,"C","36P","Children's Centres","131",{"$f":"VLOOKUP(I1863,'[1]Sub Lookup'!$A$1:$B$65536,2,FALSE)","v":"Contract Cleaning"}]
["Kent County Council",11995685,"AMEY COMMUNITY LIMITED","2020-04-22",494.61,"C","36P","Children's Centres","100",{"$f":"VLOOKUP(I1864,'[1]Sub Lookup'!$A$1:$B$65536,2,FALSE)","v":"Maintenance of Grounds"}]
["Kent County Council",11995685,"AMEY COMMUNITY LIMITED","2020-04-22",676.65,"C","36P","Children's Centres","103",{"$f":"VLOOKUP(I1865,'[1]Sub Lookup'!$A$1:$B$65536,2,FALSE)","v":"Planned maintenance of buildings"}]
["Kent County Council",11995685,"AMEY COMMUNITY LIMITED","2020-04-22",480.47,"C","36P","Children's Centres","131",{"$f":"VLOOKUP(I1866,'[1]Sub Lookup'!$A$1:$B$65536,2,FALSE)","v":"Contract Cleaning"}]
["Kent County Council",11995685,"AMEY COMMUNITY LIMITED","2020-04-22",419.8,"C","36P","Children's Centres","103",{"$f":"VLOOKUP(I1867,'[1]Sub Lookup'!$A$1:$B$65536,2,FALSE)","v":"Planned maintenance of buildings"}]
["Kent County Council",11995685,"AMEY COMMUNITY LIMITED","2020-04-22",304.5,"C","36P","Children's Centres","131",{"$f":"VLOOKUP(I1868,'[1]Sub Lookup'!$A$1:$B$65536,2,FALSE)","v":"Contract Cleaning"}]
["Kent County Council",11995685,"AMEY COMMUNITY LIMITED","2020-04-22",331.86,"C","36P","Children's Centres","103",{"$f":"VLOOKUP(I1869,'[1]Sub Lookup'!$A$1:$B$65536,2,FALSE)","v":"Planned maintenance of buildings"}]
["Kent County Council",11995685,"AMEY COMMUNITY LIMITED","2020-04-22",558.73,"C","36P","Children's Centres","131",{"$f":"VLOOKUP(I1870,'[1]Sub Lookup'!$A$1:$B$65536,2,FALSE)","v":"Contract Cleaning"}]
["Kent County Council",11995685,"AMEY COMMUNITY LIMITED","2020-04-22",532.58000000000004,"C","36P","Children's Centres","131",{"$f":"VLOOKUP(I1871,'[1]Sub Lookup'!$A$1:$B$65536,2,FALSE)","v":"Contract Cleaning"}]
["Kent County Council",11995685,"AMEY COMMUNITY LIMITED","2020-04-22",656.28,"C","36P","Children's Centres","103",{"$f":"VLOOKUP(I1872,'[1]Sub Lookup'!$A$1:$B$65536,2,FALSE)","v":"Planned maintenance of buildings"}]
["Kent County Council",11995685,"AMEY COMMUNITY LIMITED","2020-04-22",1062.5999999999999,"C","36P","Children's Centres","131",{"$f":"VLOOKUP(I1873,'[1]Sub Lookup'!$A$1:$B$65536,2,FALSE)","v":"Contract Cleaning"}]
["Kent County Council",11995685,"AMEY COMMUNITY LIMITED","2020-04-22",337.61,"C","36P","Children's Centres","103",{"$f":"VLOOKUP(I1874,'[1]Sub Lookup'!$A$1:$B$65536,2,FALSE)","v":"Planned maintenance of buildings"}]
["Kent County Council",11995685,"AMEY COMMUNITY LIMITED","2020-04-22",560.33000000000004,"C","36P","Children's Centres","131",{"$f":"VLOOKUP(I1875,'[1]Sub Lookup'!$A$1:$B$65536,2,FALSE)","v":"Contract Cleaning"}]
["Kent County Council",11995685,"AMEY COMMUNITY LIMITED","2020-04-22",311.69,"C","36P","Children's Centres","103",{"$f":"VLOOKUP(I1876,'[1]Sub Lookup'!$A$1:$B$65536,2,FALSE)","v":"Planned maintenance of buildings"}]
["Kent County Council",11995685,"AMEY COMMUNITY LIMITED","2020-04-22",553.11,"C","36P","Children's Centres","131",{"$f":"VLOOKUP(I1877,'[1]Sub Lookup'!$A$1:$B$65536,2,FALSE)","v":"Contract Cleaning"}]
["Kent County Council",11995685,"AMEY COMMUNITY LIMITED","2020-04-22",271.70999999999998,"C","36P","Children's Centres","103",{"$f":"VLOOKUP(I1878,'[1]Sub Lookup'!$A$1:$B$65536,2,FALSE)","v":"Planned maintenance of buildings"}]
["Kent County Council",11995685,"AMEY COMMUNITY LIMITED","2020-04-22",541.99,"C","36P","Children's Centres","131",{"$f":"VLOOKUP(I1879,'[1]Sub Lookup'!$A$1:$B$65536,2,FALSE)","v":"Contract Cleaning"}]
["Kent County Council",11995685,"AMEY COMMUNITY LIMITED","2020-04-22",475.71000000000004,"C","36P","Children's Centres","103",{"$f":"VLOOKUP(I1880,'[1]Sub Lookup'!$A$1:$B$65536,2,FALSE)","v":"Planned maintenance of buildings"}]
["Kent County Council",11995685,"AMEY COMMUNITY LIMITED","2020-04-22",598.80000000000007,"C","36P","Children's Centres","131",{"$f":"VLOOKUP(I1881,'[1]Sub Lookup'!$A$1:$B$65536,2,FALSE)","v":"Contract Cleaning"}]
["Kent County Council",11995685,"AMEY COMMUNITY LIMITED","2020-04-22",301.85000000000002,"C","36P","Children's Centres","103",{"$f":"VLOOKUP(I1882,'[1]Sub Lookup'!$A$1:$B$65536,2,FALSE)","v":"Planned maintenance of buildings"}]
["Kent County Council",11995685,"AMEY COMMUNITY LIMITED","2020-04-22",289.3,"C","36P","Children's Centres","131",{"$f":"VLOOKUP(I1883,'[1]Sub Lookup'!$A$1:$B$65536,2,FALSE)","v":"Contract Cleaning"}]
["Kent County Council",11995685,"AMEY COMMUNITY LIMITED","2020-04-22",873.98,"C","36P","Children's Centres","103",{"$f":"VLOOKUP(I1884,'[1]Sub Lookup'!$A$1:$B$65536,2,FALSE)","v":"Planned maintenance of buildings"}]
["Kent County Council",11995685,"AMEY COMMUNITY LIMITED","2020-04-22",647.18000000000006,"C","36P","Children's Centres","131",{"$f":"VLOOKUP(I1885,'[1]Sub Lookup'!$A$1:$B$65536,2,FALSE)","v":"Contract Cleaning"}]
["Kent County Council",11995685,"AMEY COMMUNITY LIMITED","2020-04-22",947.99,"C","36P","Children's Centres","103",{"$f":"VLOOKUP(I1886,'[1]Sub Lookup'!$A$1:$B$65536,2,FALSE)","v":"Planned maintenance of buildings"}]
["Kent County Council",11995685,"AMEY COMMUNITY LIMITED","2020-04-22",760.66,"C","36P","Children's Centres","131",{"$f":"VLOOKUP(I1887,'[1]Sub Lookup'!$A$1:$B$65536,2,FALSE)","v":"Contract Cleaning"}]
["Kent County Council",11995685,"AMEY COMMUNITY LIMITED","2020-04-22",539.32000000000005,"C","36P","Children's Centres","103",{"$f":"VLOOKUP(I1888,'[1]Sub Lookup'!$A$1:$B$65536,2,FALSE)","v":"Planned maintenance of buildings"}]
["Kent County Council",11995685,"AMEY COMMUNITY LIMITED","2020-04-22",1181.5,"C","2LE","Adult Education","103",{"$f":"VLOOKUP(I1889,'[1]Sub Lookup'!$A$1:$B$65536,2,FALSE)","v":"Planned maintenance of buildings"}]
["Kent County Council",11995685,"AMEY COMMUNITY LIMITED","2020-04-22",297.26,"C","2LE","Adult Education","126",{"$f":"VLOOKUP(I1890,'[1]Sub Lookup'!$A$1:$B$65536,2,FALSE)","v":"Waste Disposal"}]
["Kent County Council",11995685,"AMEY COMMUNITY LIMITED","2020-04-22",1533.65,"C","2LE","Adult Education","131",{"$f":"VLOOKUP(I1891,'[1]Sub Lookup'!$A$1:$B$65536,2,FALSE)","v":"Contract Cleaning"}]
["Kent County Council",11995685,"AMEY COMMUNITY LIMITED","2020-04-22",275.66000000000003,"C","2LE","Adult Education","411",{"$f":"VLOOKUP(I1892,'[1]Sub Lookup'!$A$1:$B$65536,2,FALSE)","v":"Property Services & Construction"}]
["Kent County Council",11995685,"AMEY COMMUNITY LIMITED","2020-04-22",1032.6600000000001,"C","2LE","Adult Education","103",{"$f":"VLOOKUP(I1893,'[1]Sub Lookup'!$A$1:$B$65536,2,FALSE)","v":"Planned maintenance of buildings"}]
["Kent County Council",11995685,"AMEY COMMUNITY LIMITED","2020-04-22",343.48,"C","2LE","Adult Education","126",{"$f":"VLOOKUP(I1894,'[1]Sub Lookup'!$A$1:$B$65536,2,FALSE)","v":"Waste Disposal"}]
["Kent County Council",11995685,"AMEY COMMUNITY LIMITED","2020-04-22",1489.63,"C","2LE","Adult Education","131",{"$f":"VLOOKUP(I1895,'[1]Sub Lookup'!$A$1:$B$65536,2,FALSE)","v":"Contract Cleaning"}]
["Kent County Council",11995685,"AMEY COMMUNITY LIMITED","2020-04-22",277.56,"C","2LE","Adult Education","131",{"$f":"VLOOKUP(I1896,'[1]Sub Lookup'!$A$1:$B$65536,2,FALSE)","v":"Contract Cleaning"}]
["Kent County Council",11995685,"AMEY COMMUNITY LIMITED","2020-04-22",829.81000000000006,"C","2LE","Adult Education","103",{"$f":"VLOOKUP(I1897,'[1]Sub Lookup'!$A$1:$B$65536,2,FALSE)","v":"Planned maintenance of buildings"}]
["Kent County Council",11995685,"AMEY COMMUNITY LIMITED","2020-04-22",838.41,"C","2LE","Adult Education","131",{"$f":"VLOOKUP(I1898,'[1]Sub Lookup'!$A$1:$B$65536,2,FALSE)","v":"Contract Cleaning"}]
["Kent County Council",11995685,"AMEY COMMUNITY LIMITED","2020-04-22",292.62,"C","2LE","Adult Education","103",{"$f":"VLOOKUP(I1899,'[1]Sub Lookup'!$A$1:$B$65536,2,FALSE)","v":"Planned maintenance of buildings"}]
["Kent County Council",11995685,"AMEY COMMUNITY LIMITED","2020-04-22",318.41000000000003,"C","2LE","Adult Education","131",{"$f":"VLOOKUP(I1900,'[1]Sub Lookup'!$A$1:$B$65536,2,FALSE)","v":"Contract Cleaning"}]
["Kent County Council",11995685,"AMEY COMMUNITY LIMITED","2020-04-22",270.92,"C","2LE","Adult Education","131",{"$f":"VLOOKUP(I1901,'[1]Sub Lookup'!$A$1:$B$65536,2,FALSE)","v":"Contract Cleaning"}]
["Kent County Council",11995685,"AMEY COMMUNITY LIMITED","2020-04-22",426.13,"C","39C","Children Specialist Services","103",{"$f":"VLOOKUP(I1902,'[1]Sub Lookup'!$A$1:$B$65536,2,FALSE)","v":"Planned maintenance of buildings"}]
["Kent County Council",11995685,"AMEY COMMUNITY LIMITED","2020-04-22",339.05,"C","39C","Children Specialist Services","100",{"$f":"VLOOKUP(I1903,'[1]Sub Lookup'!$A$1:$B$65536,2,FALSE)","v":"Maintenance of Grounds"}]
["Kent County Council",11995685,"AMEY COMMUNITY LIMITED","2020-04-22",987.11,"C","39C","Children Specialist Services","103",{"$f":"VLOOKUP(I1904,'[1]Sub Lookup'!$A$1:$B$65536,2,FALSE)","v":"Planned maintenance of buildings"}]
["Kent County Council",11995685,"AMEY COMMUNITY LIMITED","2020-04-22",845.2,"C","39C","Children Specialist Services","131",{"$f":"VLOOKUP(I1905,'[1]Sub Lookup'!$A$1:$B$65536,2,FALSE)","v":"Contract Cleaning"}]
["Kent County Council",11995685,"AMEY COMMUNITY LIMITED","2020-04-22",908.52,"C","39C","Children Specialist Services","141",{"$f":"VLOOKUP(I1906,'[1]Sub Lookup'!$A$1:$B$65536,2,FALSE)","v":"Premises Security Charges"}]
["Kent County Council",11995685,"AMEY COMMUNITY LIMITED","2020-04-22",648.53,"C","39C","Children Specialist Services","103",{"$f":"VLOOKUP(I1907,'[1]Sub Lookup'!$A$1:$B$65536,2,FALSE)","v":"Planned maintenance of buildings"}]
["Kent County Council",11995685,"AMEY COMMUNITY LIMITED","2020-04-22",450.26,"C","39C","Children Specialist Services","131",{"$f":"VLOOKUP(I1908,'[1]Sub Lookup'!$A$1:$B$65536,2,FALSE)","v":"Contract Cleaning"}]
["Kent County Council",11995685,"AMEY COMMUNITY LIMITED","2020-04-22",418.44,"C","36P","Children's Centres","103",{"$f":"VLOOKUP(I1909,'[1]Sub Lookup'!$A$1:$B$65536,2,FALSE)","v":"Planned maintenance of buildings"}]
["Kent County Council",11995685,"AMEY COMMUNITY LIMITED","2020-04-22",306.27,"C","36P","Children's Centres","131",{"$f":"VLOOKUP(I1910,'[1]Sub Lookup'!$A$1:$B$65536,2,FALSE)","v":"Contract Cleaning"}]
["Kent County Council",11995685,"AMEY COMMUNITY LIMITED","2020-04-22",1308.27,"C","36P","Children's Centres","100",{"$f":"VLOOKUP(I1911,'[1]Sub Lookup'!$A$1:$B$65536,2,FALSE)","v":"Maintenance of Grounds"}]
["Kent County Council",11995685,"AMEY COMMUNITY LIMITED","2020-04-22",1426.15,"C","36P","Children's Centres","103",{"$f":"VLOOKUP(I1912,'[1]Sub Lookup'!$A$1:$B$65536,2,FALSE)","v":"Planned maintenance of buildings"}]
["Kent County Council",11995685,"AMEY COMMUNITY LIMITED","2020-04-22",267.06,"C","36P","Children's Centres","104",{"$f":"VLOOKUP(I1913,'[1]Sub Lookup'!$A$1:$B$65536,2,FALSE)","v":"Reactive maintenance of buildings"}]
["Kent County Council",11995685,"AMEY COMMUNITY LIMITED","2020-04-22",291.14,"C","36P","Children's Centres","126",{"$f":"VLOOKUP(I1914,'[1]Sub Lookup'!$A$1:$B$65536,2,FALSE)","v":"Waste Disposal"}]
["Kent County Council",11995685,"AMEY COMMUNITY LIMITED","2020-04-22",1685.44,"C","36P","Children's Centres","131",{"$f":"VLOOKUP(I1915,'[1]Sub Lookup'!$A$1:$B$65536,2,FALSE)","v":"Contract Cleaning"}]
["Kent County Council",11995685,"AMEY COMMUNITY LIMITED","2020-04-22",295.42,"C","36P","Children's Centres","411",{"$f":"VLOOKUP(I1916,'[1]Sub Lookup'!$A$1:$B$65536,2,FALSE)","v":"Property Services & Construction"}]
["Kent County Council",11995685,"AMEY COMMUNITY LIMITED","2020-04-22",492.7,"C","36P","Children's Centres","103",{"$f":"VLOOKUP(I1917,'[1]Sub Lookup'!$A$1:$B$65536,2,FALSE)","v":"Planned maintenance of buildings"}]
["Kent County Council",11995685,"AMEY COMMUNITY LIMITED","2020-04-22",315.10000000000002,"C","36P","Children's Centres","131",{"$f":"VLOOKUP(I1918,'[1]Sub Lookup'!$A$1:$B$65536,2,FALSE)","v":"Contract Cleaning"}]
["Kent County Council",11995685,"AMEY COMMUNITY LIMITED","2020-04-22",357.6,"C","36P","Children's Centres","103",{"$f":"VLOOKUP(I1919,'[1]Sub Lookup'!$A$1:$B$65536,2,FALSE)","v":"Planned maintenance of buildings"}]
["Kent County Council",11995685,"AMEY COMMUNITY LIMITED","2020-04-22",2582.5100000000002,"C","8DR","Corporate Landlord","126",{"$f":"VLOOKUP(I1920,'[1]Sub Lookup'!$A$1:$B$65536,2,FALSE)","v":"Waste Disposal"}]
["Kent County Council",11995685,"AMEY COMMUNITY LIMITED","2020-04-22",256.68,"C","8DR","Corporate Landlord","127",{"$f":"VLOOKUP(I1921,'[1]Sub Lookup'!$A$1:$B$65536,2,FALSE)","v":"Pest Control"}]
["Kent County Council",11995685,"AMEY COMMUNITY LIMITED","2020-04-22",22969.78,"C","8DR","Corporate Landlord","131",{"$f":"VLOOKUP(I1922,'[1]Sub Lookup'!$A$1:$B$65536,2,FALSE)","v":"Contract Cleaning"}]
["Kent County Council",11995685,"AMEY COMMUNITY LIMITED","2020-04-22",13155.83,"C","8DR","Corporate Landlord","141",{"$f":"VLOOKUP(I1923,'[1]Sub Lookup'!$A$1:$B$65536,2,FALSE)","v":"Premises Security Charges"}]
["Kent County Council",11995685,"AMEY COMMUNITY LIMITED","2020-04-22",13002.06,"C","8DR","Corporate Landlord","310",{"$f":"VLOOKUP(I1924,'[1]Sub Lookup'!$A$1:$B$65536,2,FALSE)","v":"Postage"}]
["Kent County Council",11995685,"AMEY COMMUNITY LIMITED","2020-04-22",9395.880000000001,"C","8DR","Corporate Landlord","411",{"$f":"VLOOKUP(I1925,'[1]Sub Lookup'!$A$1:$B$65536,2,FALSE)","v":"Property Services & Construction"}]
["Kent County Council",11995685,"AMEY COMMUNITY LIMITED","2020-04-22",468.86,"C","8DR","Corporate Landlord","411",{"$f":"VLOOKUP(I1926,'[1]Sub Lookup'!$A$1:$B$65536,2,FALSE)","v":"Property Services & Construction"}]
["Kent County Council",11995685,"AMEY COMMUNITY LIMITED","2020-04-22",508.25,"C","8DR","Corporate Landlord","100",{"$f":"VLOOKUP(I1927,'[1]Sub Lookup'!$A$1:$B$65536,2,FALSE)","v":"Maintenance of Grounds"}]
["Kent County Council",11995685,"AMEY COMMUNITY LIMITED","2020-04-22",3976.88,"C","8DR","Corporate Landlord","103",{"$f":"VLOOKUP(I1928,'[1]Sub Lookup'!$A$1:$B$65536,2,FALSE)","v":"Planned maintenance of buildings"}]
["Kent County Council",11995685,"AMEY COMMUNITY LIMITED","2020-04-22",265.28000000000003,"C","8DR","Corporate Landlord","104",{"$f":"VLOOKUP(I1929,'[1]Sub Lookup'!$A$1:$B$65536,2,FALSE)","v":"Reactive maintenance of buildings"}]
["Kent County Council",11995685,"AMEY COMMUNITY LIMITED","2020-04-22",1570.75,"C","8DR","Corporate Landlord","131",{"$f":"VLOOKUP(I1930,'[1]Sub Lookup'!$A$1:$B$65536,2,FALSE)","v":"Contract Cleaning"}]
["Kent County Council",11995685,"AMEY COMMUNITY LIMITED","2020-04-22",2930.07,"C","8DR","Corporate Landlord","411",{"$f":"VLOOKUP(I1931,'[1]Sub Lookup'!$A$1:$B$65536,2,FALSE)","v":"Property Services & Construction"}]
["Kent County Council",11995685,"AMEY COMMUNITY LIMITED","2020-04-22",783.25,"C","8DR","Corporate Landlord","100",{"$f":"VLOOKUP(I1932,'[1]Sub Lookup'!$A$1:$B$65536,2,FALSE)","v":"Maintenance of Grounds"}]
["Kent County Council",11995685,"AMEY COMMUNITY LIMITED","2020-04-22",1962.8500000000001,"C","8DR","Corporate Landlord","103",{"$f":"VLOOKUP(I1933,'[1]Sub Lookup'!$A$1:$B$65536,2,FALSE)","v":"Planned maintenance of buildings"}]
["Kent County Council",11995685,"AMEY COMMUNITY LIMITED","2020-04-22",399.66,"C","8DR","Corporate Landlord","104",{"$f":"VLOOKUP(I1934,'[1]Sub Lookup'!$A$1:$B$65536,2,FALSE)","v":"Reactive maintenance of buildings"}]
["Kent County Council",11995685,"AMEY COMMUNITY LIMITED","2020-04-22",291.14,"C","8DR","Corporate Landlord","126",{"$f":"VLOOKUP(I1935,'[1]Sub Lookup'!$A$1:$B$65536,2,FALSE)","v":"Waste Disposal"}]
["Kent County Council",11995685,"AMEY COMMUNITY LIMITED","2020-04-22",2668.67,"C","8DR","Corporate Landlord","131",{"$f":"VLOOKUP(I1936,'[1]Sub Lookup'!$A$1:$B$65536,2,FALSE)","v":"Contract Cleaning"}]
["Kent County Council",11995685,"AMEY COMMUNITY LIMITED","2020-04-22",261.17,"C","8DR","Corporate Landlord","141",{"$f":"VLOOKUP(I1937,'[1]Sub Lookup'!$A$1:$B$65536,2,FALSE)","v":"Premises Security Charges"}]
["Kent County Council",11995685,"AMEY COMMUNITY LIMITED","2020-04-22",460.77,"C","8DR","Corporate Landlord","411",{"$f":"VLOOKUP(I1938,'[1]Sub Lookup'!$A$1:$B$65536,2,FALSE)","v":"Property Services & Construction"}]
["Kent County Council",11995685,"AMEY COMMUNITY LIMITED","2020-04-22",412.82,"C","8DR","Corporate Landlord","103",{"$f":"VLOOKUP(I1939,'[1]Sub Lookup'!$A$1:$B$65536,2,FALSE)","v":"Planned maintenance of buildings"}]
["Kent County Council",11995685,"AMEY COMMUNITY LIMITED","2020-04-22",714.6,"C","8DR","Corporate Landlord","126",{"$f":"VLOOKUP(I1940,'[1]Sub Lookup'!$A$1:$B$65536,2,FALSE)","v":"Waste Disposal"}]
["Kent County Council",11995685,"AMEY COMMUNITY LIMITED","2020-04-22",1274.21,"C","8DR","Corporate Landlord","131",{"$f":"VLOOKUP(I1941,'[1]Sub Lookup'!$A$1:$B$65536,2,FALSE)","v":"Contract Cleaning"}]
["Kent County Council",11995685,"AMEY COMMUNITY LIMITED","2020-04-22",2875.54,"C","8DR","Corporate Landlord","411",{"$f":"VLOOKUP(I1942,'[1]Sub Lookup'!$A$1:$B$65536,2,FALSE)","v":"Property Services & Construction"}]
["Kent County Council",11995685,"AMEY COMMUNITY LIMITED","2020-04-22",17975.62,"C","8DR","Corporate Landlord","310",{"$f":"VLOOKUP(I1943,'[1]Sub Lookup'!$A$1:$B$65536,2,FALSE)","v":"Postage"}]
["Kent County Council",11995685,"AMEY COMMUNITY LIMITED","2020-04-22",48007.17,"C","8DR","Corporate Landlord","411",{"$f":"VLOOKUP(I1944,'[1]Sub Lookup'!$A$1:$B$65536,2,FALSE)","v":"Property Services & Construction"}]
["Kent County Council",11995685,"AMEY COMMUNITY LIMITED","2020-04-22",397.36,"C","2LG","Country Parks","103",{"$f":"VLOOKUP(I1945,'[1]Sub Lookup'!$A$1:$B$65536,2,FALSE)","v":"Planned maintenance of buildings"}]
["Kent County Council",11995685,"AMEY COMMUNITY LIMITED","2020-04-22",1506.99,"C","2LG","Country Parks","126",{"$f":"VLOOKUP(I1946,'[1]Sub Lookup'!$A$1:$B$65536,2,FALSE)","v":"Waste Disposal"}]
["Kent County Council",11995685,"AMEY COMMUNITY LIMITED","2020-04-22",626.78,"C","2LG","Country Parks","103",{"$f":"VLOOKUP(I1947,'[1]Sub Lookup'!$A$1:$B$65536,2,FALSE)","v":"Planned maintenance of buildings"}]
["Kent County Council",11995685,"AMEY COMMUNITY LIMITED","2020-04-22",299.06,"C","2LG","Country Parks","103",{"$f":"VLOOKUP(I1948,'[1]Sub Lookup'!$A$1:$B$65536,2,FALSE)","v":"Planned maintenance of buildings"}]
["Kent County Council",11995685,"AMEY COMMUNITY LIMITED","2020-04-22",1085.6600000000001,"C","2LG","Country Parks","126",{"$f":"VLOOKUP(I1949,'[1]Sub Lookup'!$A$1:$B$65536,2,FALSE)","v":"Waste Disposal"}]
["Kent County Council",11995685,"AMEY COMMUNITY LIMITED","2020-04-22",1108,"C","2LG","Country Parks","126",{"$f":"VLOOKUP(I1950,'[1]Sub Lookup'!$A$1:$B$65536,2,FALSE)","v":"Waste Disposal"}]
["Kent County Council",11995685,"AMEY COMMUNITY LIMITED","2020-04-22",397.8,"C","36P","Children's Centres","103",{"$f":"VLOOKUP(I1951,'[1]Sub Lookup'!$A$1:$B$65536,2,FALSE)","v":"Planned maintenance of buildings"}]
["Kent County Council",11995685,"AMEY COMMUNITY LIMITED","2020-04-22",301.3,"C","36P","Children's Centres","131",{"$f":"VLOOKUP(I1952,'[1]Sub Lookup'!$A$1:$B$65536,2,FALSE)","v":"Contract Cleaning"}]
["Kent County Council",11995685,"AMEY COMMUNITY LIMITED","2020-04-22",290.3,"C","36P","Children's Centres","103",{"$f":"VLOOKUP(I1953,'[1]Sub Lookup'!$A$1:$B$65536,2,FALSE)","v":"Planned maintenance of buildings"}]
["Kent County Council",11995685,"AMEY COMMUNITY LIMITED","2020-04-22",535.47,"C","36P","Children's Centres","131",{"$f":"VLOOKUP(I1954,'[1]Sub Lookup'!$A$1:$B$65536,2,FALSE)","v":"Contract Cleaning"}]
["Kent County Council",11995685,"AMEY COMMUNITY LIMITED","2020-04-22",608.71,"C","8DR","Corporate Landlord","103",{"$f":"VLOOKUP(I1955,'[1]Sub Lookup'!$A$1:$B$65536,2,FALSE)","v":"Planned maintenance of buildings"}]
["Kent County Council",11995685,"AMEY COMMUNITY LIMITED","2020-04-22",810.27,"C","8DR","Corporate Landlord","131",{"$f":"VLOOKUP(I1956,'[1]Sub Lookup'!$A$1:$B$65536,2,FALSE)","v":"Contract Cleaning"}]
["Kent County Council",11995685,"AMEY COMMUNITY LIMITED","2020-04-22",3455.7000000000003,"C","8DR","Corporate Landlord","411",{"$f":"VLOOKUP(I1957,'[1]Sub Lookup'!$A$1:$B$65536,2,FALSE)","v":"Property Services & Construction"}]
["Kent County Council",11995685,"AMEY COMMUNITY LIMITED","2020-04-22",377.77,"C","8DR","Corporate Landlord","103",{"$f":"VLOOKUP(I1958,'[1]Sub Lookup'!$A$1:$B$65536,2,FALSE)","v":"Planned maintenance of buildings"}]
["Kent County Council",11995685,"AMEY COMMUNITY LIMITED","2020-04-22",291.44,"C","8DR","Corporate Landlord","131",{"$f":"VLOOKUP(I1959,'[1]Sub Lookup'!$A$1:$B$65536,2,FALSE)","v":"Contract Cleaning"}]
["Kent County Council",11995685,"AMEY COMMUNITY LIMITED","2020-04-22",2576.37,"C","8DR","Corporate Landlord","103",{"$f":"VLOOKUP(I1960,'[1]Sub Lookup'!$A$1:$B$65536,2,FALSE)","v":"Planned maintenance of buildings"}]
["Kent County Council",11995685,"AMEY COMMUNITY LIMITED","2020-04-22",385.94,"C","8DR","Corporate Landlord","104",{"$f":"VLOOKUP(I1961,'[1]Sub Lookup'!$A$1:$B$65536,2,FALSE)","v":"Reactive maintenance of buildings"}]
["Kent County Council",11995685,"AMEY COMMUNITY LIMITED","2020-04-22",701.16,"C","8DR","Corporate Landlord","126",{"$f":"VLOOKUP(I1962,'[1]Sub Lookup'!$A$1:$B$65536,2,FALSE)","v":"Waste Disposal"}]
["Kent County Council",11995685,"AMEY COMMUNITY LIMITED","2020-04-22",2515.92,"C","8DR","Corporate Landlord","131",{"$f":"VLOOKUP(I1963,'[1]Sub Lookup'!$A$1:$B$65536,2,FALSE)","v":"Contract Cleaning"}]
["Kent County Council",11995685,"AMEY COMMUNITY LIMITED","2020-04-22",267,"C","8DR","Corporate Landlord","141",{"$f":"VLOOKUP(I1964,'[1]Sub Lookup'!$A$1:$B$65536,2,FALSE)","v":"Premises Security Charges"}]
["Kent County Council",11995685,"AMEY COMMUNITY LIMITED","2020-04-22",7778.45,"C","8DR","Corporate Landlord","310",{"$f":"VLOOKUP(I1965,'[1]Sub Lookup'!$A$1:$B$65536,2,FALSE)","v":"Postage"}]
["Kent County Council",11995685,"AMEY COMMUNITY LIMITED","2020-04-22",444.94,"C","8DR","Corporate Landlord","411",{"$f":"VLOOKUP(I1966,'[1]Sub Lookup'!$A$1:$B$65536,2,FALSE)","v":"Property Services & Construction"}]
["Kent County Council",11995685,"AMEY COMMUNITY LIMITED","2020-04-22",3567.6800000000003,"C","8DR","Corporate Landlord","104",{"$f":"VLOOKUP(I1967,'[1]Sub Lookup'!$A$1:$B$65536,2,FALSE)","v":"Reactive maintenance of buildings"}]
["Kent County Council",11995685,"AMEY COMMUNITY LIMITED","2020-04-22",23608.58,"C","8DR","Corporate Landlord","103",{"$f":"VLOOKUP(I1968,'[1]Sub Lookup'!$A$1:$B$65536,2,FALSE)","v":"Planned maintenance of buildings"}]
["Kent County Council",11995685,"AMEY COMMUNITY LIMITED","2020-04-22",402.14,"C","8DR","Corporate Landlord","100",{"$f":"VLOOKUP(I1969,'[1]Sub Lookup'!$A$1:$B$65536,2,FALSE)","v":"Maintenance of Grounds"}]
["Kent County Council",11995685,"AMEY COMMUNITY LIMITED","2020-04-22",1700.8400000000001,"C","8DR","Corporate Landlord","411",{"$f":"VLOOKUP(I1970,'[1]Sub Lookup'!$A$1:$B$65536,2,FALSE)","v":"Property Services & Construction"}]
["Kent County Council",11995685,"AMEY COMMUNITY LIMITED","2020-04-22",8571.35,"C","8DR","Corporate Landlord","131",{"$f":"VLOOKUP(I1971,'[1]Sub Lookup'!$A$1:$B$65536,2,FALSE)","v":"Contract Cleaning"}]
["Kent County Council",11995685,"AMEY COMMUNITY LIMITED","2020-04-22",1461.26,"C","8DR","Corporate Landlord","126",{"$f":"VLOOKUP(I1972,'[1]Sub Lookup'!$A$1:$B$65536,2,FALSE)","v":"Waste Disposal"}]
["Kent County Council",11995685,"AMEY COMMUNITY LIMITED","2020-04-22",1611.89,"C","8DR","Corporate Landlord","104",{"$f":"VLOOKUP(I1973,'[1]Sub Lookup'!$A$1:$B$65536,2,FALSE)","v":"Reactive maintenance of buildings"}]
["Kent County Council",11995685,"AMEY COMMUNITY LIMITED","2020-04-22",8884.130000000001,"C","8DR","Corporate Landlord","103",{"$f":"VLOOKUP(I1974,'[1]Sub Lookup'!$A$1:$B$65536,2,FALSE)","v":"Planned maintenance of buildings"}]
["Kent County Council",11995685,"AMEY COMMUNITY LIMITED","2020-04-22",328.28000000000003,"C","8DR","Corporate Landlord","411",{"$f":"VLOOKUP(I1975,'[1]Sub Lookup'!$A$1:$B$65536,2,FALSE)","v":"Property Services & Construction"}]
["Kent County Council",11995685,"AMEY COMMUNITY LIMITED","2020-04-22",2401.9500000000003,"C","8DR","Corporate Landlord","131",{"$f":"VLOOKUP(I1976,'[1]Sub Lookup'!$A$1:$B$65536,2,FALSE)","v":"Contract Cleaning"}]
["Kent County Council",11995685,"AMEY COMMUNITY LIMITED","2020-04-22",1052,"C","8DR","Corporate Landlord","126",{"$f":"VLOOKUP(I1977,'[1]Sub Lookup'!$A$1:$B$65536,2,FALSE)","v":"Waste Disposal"}]
["Kent County Council",11995685,"AMEY COMMUNITY LIMITED","2020-04-22",284.73,"C","8DR","Corporate Landlord","104",{"$f":"VLOOKUP(I1978,'[1]Sub Lookup'!$A$1:$B$65536,2,FALSE)","v":"Reactive maintenance of buildings"}]
["Kent County Council",11995685,"AMEY COMMUNITY LIMITED","2020-04-22",1550.06,"C","8DR","Corporate Landlord","103",{"$f":"VLOOKUP(I1979,'[1]Sub Lookup'!$A$1:$B$65536,2,FALSE)","v":"Planned maintenance of buildings"}]
["Kent County Council",11995685,"AMEY COMMUNITY LIMITED","2020-04-22",2539.42,"C","8DR","Corporate Landlord","411",{"$f":"VLOOKUP(I1980,'[1]Sub Lookup'!$A$1:$B$65536,2,FALSE)","v":"Property Services & Construction"}]
["Kent County Council",11995685,"AMEY COMMUNITY LIMITED","2020-04-22",308.85000000000002,"C","8DR","Corporate Landlord","131",{"$f":"VLOOKUP(I1981,'[1]Sub Lookup'!$A$1:$B$65536,2,FALSE)","v":"Contract Cleaning"}]
["Kent County Council",11995685,"AMEY COMMUNITY LIMITED","2020-04-22",476.31,"C","8DR","Corporate Landlord","103",{"$f":"VLOOKUP(I1982,'[1]Sub Lookup'!$A$1:$B$65536,2,FALSE)","v":"Planned maintenance of buildings"}]
["Kent County Council",11994097,"AMEY COMMUNITY LIMITED","2020-04-28",1162.6400000000001,"C","2LC","Libraries, Registration & Archives","125",{"$f":"VLOOKUP(I1983,'[1]Sub Lookup'!$A$1:$B$65536,2,FALSE)","v":"Water & Sewerage"}]
["Kent County Council",11994097,"AMEY COMMUNITY LIMITED","2020-04-28",324.67,"C","2LC","Libraries, Registration & Archives","125",{"$f":"VLOOKUP(I1984,'[1]Sub Lookup'!$A$1:$B$65536,2,FALSE)","v":"Water & Sewerage"}]
["Kent County Council",11994097,"AMEY COMMUNITY LIMITED","2020-04-28",320.94,"C","2LC","Libraries, Registration & Archives","125",{"$f":"VLOOKUP(I1985,'[1]Sub Lookup'!$A$1:$B$65536,2,FALSE)","v":"Water & Sewerage"}]
["Kent County Council",11994097,"AMEY COMMUNITY LIMITED","2020-04-28",355.44,"C","2LC","Libraries, Registration & Archives","125",{"$f":"VLOOKUP(I1986,'[1]Sub Lookup'!$A$1:$B$65536,2,FALSE)","v":"Water & Sewerage"}]
["Kent County Council",11994165,"AMEY COMMUNITY LIMITED","2020-04-28",259.52,"C","8DM","Management","646",{"$f":"VLOOKUP(I1987,'[1]Sub Lookup'!$A$1:$B$65536,2,FALSE)","v":"Property"}]
["Kent County Council",11994165,"AMEY COMMUNITY LIMITED","2020-04-28",1143.76,"C","8DH","Personnel and Development","646",{"$f":"VLOOKUP(I1988,'[1]Sub Lookup'!$A$1:$B$65536,2,FALSE)","v":"Property"}]
["Kent County Council",11998470,"AMEY COMMUNITY LIMITED","2020-04-28",1149.1300000000001,"C","5KP","Physical support - 65+ Short Term - Maximising Independence - Residential","130",{"$f":"VLOOKUP(I1989,'[1]Sub Lookup'!$A$1:$B$65536,2,FALSE)","v":"Cleaning Materials and Domestic Supplies"}]
["Kent County Council",11998470,"AMEY COMMUNITY LIMITED","2020-04-28",1205.55,"S","38H","SCS Area Management","401",{"$f":"VLOOKUP(I1990,'[1]Sub Lookup'!$A$1:$B$65536,2,FALSE)","v":"Specialists Fees"}]
["Kent County Council",11998470,"AMEY COMMUNITY LIMITED","2020-04-28",815.21,"C","5WD","Social Support: Support for Carer LD Other","130",{"$f":"VLOOKUP(I1991,'[1]Sub Lookup'!$A$1:$B$65536,2,FALSE)","v":"Cleaning Materials and Domestic Supplies"}]
["Kent County Council",11994165,"AMEY COMMUNITY LIMITED","2020-04-28",591.18000000000006,"P","7PC","Sustainability & Climate Change","441",{"$f":"VLOOKUP(I1992,'[1]Sub Lookup'!$A$1:$B$65536,2,FALSE)","v":"Subsistence Expenses"}]
["Kent County Council",11998470,"AMEY COMMUNITY LIMITED","2020-04-28",660.41,"S","36P","Children's Centres","351",{"$f":"VLOOKUP(I1993,'[1]Sub Lookup'!$A$1:$B$65536,2,FALSE)","v":"Stationery and Office Expenses"}]
["Kent County Council",11994097,"AMEY COMMUNITY LIMITED","2020-04-28",4532.7,"C","8DR","Corporate Landlord","125",{"$f":"VLOOKUP(I1994,'[1]Sub Lookup'!$A$1:$B$65536,2,FALSE)","v":"Water & Sewerage"}]
["Kent County Council",11994097,"AMEY COMMUNITY LIMITED","2020-04-28",10957.58,"C","8DR","Corporate Landlord","125",{"$f":"VLOOKUP(I1995,'[1]Sub Lookup'!$A$1:$B$65536,2,FALSE)","v":"Water & Sewerage"}]
["Kent County Council",11994165,"AMEY COMMUNITY LIMITED","2020-04-28",1090.58,"C","8DS","Council Secretariat","646",{"$f":"VLOOKUP(I1996,'[1]Sub Lookup'!$A$1:$B$65536,2,FALSE)","v":"Property"}]
["Kent County Council",11994165,"AMEY COMMUNITY LIMITED","2020-04-28",969.01,"C","8DS","Council Secretariat","646",{"$f":"VLOOKUP(I1997,'[1]Sub Lookup'!$A$1:$B$65536,2,FALSE)","v":"Property"}]
["Kent County Council",11998470,"AMEY COMMUNITY LIMITED","2020-04-28",410,"C","7HV","Depots","110",{"$f":"VLOOKUP(I1998,'[1]Sub Lookup'!$A$1:$B$65536,2,FALSE)","v":"Solid Fuels and Fuel Oil"}]
["Kent County Council",11994165,"AMEY COMMUNITY LIMITED","2020-04-28",354.04,"E","1PP","Educational Psychology Service","646",{"$f":"VLOOKUP(I1999,'[1]Sub Lookup'!$A$1:$B$65536,2,FALSE)","v":"Property"}]
["Kent County Council",11998470,"AMEY COMMUNITY LIMITED","2020-04-28",598.02,"C","31C","KCC Residential Short Break Units","104",{"$f":"VLOOKUP(I2000,'[1]Sub Lookup'!$A$1:$B$65536,2,FALSE)","v":"Reactive maintenance of buildings"}]
["Kent County Council",11948926,"AMPERSAND HOUSE","2020-04-09",654.69000000000005,"S","9AR","Revenue Balance Sheet","BEA",{"$f":"VLOOKUP(I2009,'[1]Sub Lookup'!$A$1:$B$65536,2,FALSE)","v":"Payments in Advance - General"}]
["Kent County Council",11979604,"ANCHOR SUPPORT SERVICES LTD","2020-04-07",6190.6,"S","5AH","Learning Disability Support - 18 64 Long Term Support: Community: Supported Living","530",{"$f":"VLOOKUP(I2025,'[1]Sub Lookup'!$A$1:$B$65536,2,FALSE)","v":"Commissioned Service - Other"}]
["Kent County Council",12017658,"ANCHOR SUPPORT SERVICES LTD","2020-04-29",1523.6100000000001,"S","5XC","Commissioning & Service Delivery","530",{"$f":"VLOOKUP(I2030,'[1]Sub Lookup'!$A$1:$B$65536,2,FALSE)","v":"Commissioned Service - Other"}]
["Kent County Council",12018290,"ANGELIC CARE RESOURCING LTD","2020-04-29",873.97,"S","5XC","Commissioning & Service Delivery","530",{"$f":"VLOOKUP(I2049,'[1]Sub Lookup'!$A$1:$B$65536,2,FALSE)","v":"Commissioned Service - Other"}]
["Kent County Council",11967374,"ANGELS HOMECARE (KENT) LTD","2020-04-01",320.91000000000003,"S","5KG","Physical support - 65+ Long Term Support: Community: Home Care","530",{"$f":"VLOOKUP(I2056,'[1]Sub Lookup'!$A$1:$B$65536,2,FALSE)","v":"Commissioned Service - Other"}]
["Kent County Council",11997358,"ANGLIAN TAXI SERVICES LTD T/AS CENTRAL CARS","2020-04-20",573.5,"E","1RX","Admissions & Transport","222",{"$f":"VLOOKUP(I2077,'[1]Sub Lookup'!$A$1:$B$65536,2,FALSE)","v":"Home to School Transport - Hired"}]
["Kent County Council",12000940,"ANGLIAN TAXI SERVICES LTD T/AS CENTRAL CARS","2020-04-22",2547,"E","1RX","Admissions & Transport","222",{"$f":"VLOOKUP(I2093,'[1]Sub Lookup'!$A$1:$B$65536,2,FALSE)","v":"Home to School Transport - Hired"}]
["Kent County Council",12008844,"ANGLIAN TAXI SERVICES LTD T/AS CENTRAL CARS","2020-04-24",936,"E","1RX","Admissions & Transport","222",{"$f":"VLOOKUP(I2096,'[1]Sub Lookup'!$A$1:$B$65536,2,FALSE)","v":"Home to School Transport - Hired"}]
["Kent County Council",11966725,"APEX PRIME CARE LTD","2020-04-01",750,"S","5XC","Commissioning & Service Delivery","530",{"$f":"VLOOKUP(I2117,'[1]Sub Lookup'!$A$1:$B$65536,2,FALSE)","v":"Commissioned Service - Other"}]
["Kent County Council",11976773,"APEX PRIME CARE LTD","2020-04-06",1740.65,"S","5BH","Learning Disability Support - 65+ Long Term Support: Community: Supported Living","520",{"$f":"VLOOKUP(I2124,'[1]Sub Lookup'!$A$1:$B$65536,2,FALSE)","v":"Voluntary Associations"}]
["Kent County Council",11988060,"APEX PRIME CARE LTD","2020-04-14",770.55000000000007,"S","5KG","Physical support - 65+ Long Term Support: Community: Home Care","530",{"$f":"VLOOKUP(I2143,'[1]Sub Lookup'!$A$1:$B$65536,2,FALSE)","v":"Commissioned Service - Other"}]
["Kent County Council",11934841,"APEX PRIME CARE LTD","2020-04-16",3349.51,"S","9AR","Revenue Balance Sheet","BEA",{"$f":"VLOOKUP(I2148,'[1]Sub Lookup'!$A$1:$B$65536,2,FALSE)","v":"Payments in Advance - General"}]
["Kent County Council",11965456,"APEX PRIME CARE LTD","2020-04-17",697,"S","5AH","Learning Disability Support - 18 64 Long Term Support: Community: Supported Living","523",{"$f":"VLOOKUP(I2162,'[1]Sub Lookup'!$A$1:$B$65536,2,FALSE)","v":"Private Contractors"}]
["Kent County Council",12000586,"APEX PRIME CARE LTD","2020-04-21",404.25,"S","5EH","Mental Health Support - 18 64 Long Term Support: Community: Supported Living","530",{"$f":"VLOOKUP(I2176,'[1]Sub Lookup'!$A$1:$B$65536,2,FALSE)","v":"Commissioned Service - Other"}]
["Kent County Council",12000530,"APEX PRIME CARE LTD","2020-04-21",529.93000000000006,"S","5AH","Learning Disability Support - 18 64 Long Term Support: Community: Supported Living","530",{"$f":"VLOOKUP(I2192,'[1]Sub Lookup'!$A$1:$B$65536,2,FALSE)","v":"Commissioned Service - Other"}]
["Kent County Council",12007516,"APEX PRIME CARE LTD","2020-04-24",592.06000000000006,"S","5KG","Physical support - 65+ Long Term Support: Community: Home Care","530",{"$f":"VLOOKUP(I2209,'[1]Sub Lookup'!$A$1:$B$65536,2,FALSE)","v":"Commissioned Service - Other"}]
["Kent County Council",12007529,"APEX PRIME CARE LTD","2020-04-24",922.88,"S","5KG","Physical support - 65+ Long Term Support: Community: Home Care","530",{"$f":"VLOOKUP(I2216,'[1]Sub Lookup'!$A$1:$B$65536,2,FALSE)","v":"Commissioned Service - Other"}]
["Kent County Council",12013927,"APNA GHAR RESIDENTIAL HOME","2020-04-28",2219.66,"S","5EA","Mental Health Support - 18 64 Long Term Support: Residential","530",{"$f":"VLOOKUP(I2228,'[1]Sub Lookup'!$A$1:$B$65536,2,FALSE)","v":"Commissioned Service - Other"}]
["Kent County Council",11993085,"APOLLO TAXIS GRAVESEND LTD","2020-04-16",812.15,"E","1RX","Admissions & Transport","222",{"$f":"VLOOKUP(I2244,'[1]Sub Lookup'!$A$1:$B$65536,2,FALSE)","v":"Home to School Transport - Hired"}]
["Kent County Council",11997565,"APOLLO TAXIS GRAVESEND LTD","2020-04-20",1300,"S","5AJ","Learning Disability Support - 18 64 Long Term Support: Community: Day Care","232",{"$f":"VLOOKUP(I2260,'[1]Sub Lookup'!$A$1:$B$65536,2,FALSE)","v":"Public Transport (Clients)"}]
["Kent County Council",11997564,"APOLLO TAXIS GRAVESEND LTD","2020-04-20",952.75,"E","1RX","Admissions & Transport","222",{"$f":"VLOOKUP(I2275,'[1]Sub Lookup'!$A$1:$B$65536,2,FALSE)","v":"Home to School Transport - Hired"}]
["Kent County Council",11997573,"APOLLO TAXIS GRAVESEND LTD","2020-04-20",2025.75,"E","1RX","Admissions & Transport","222",{"$f":"VLOOKUP(I2284,'[1]Sub Lookup'!$A$1:$B$65536,2,FALSE)","v":"Home to School Transport - Hired"}]
["Kent County Council",11964691,"APPLECROFT NURSING HOME","2020-04-01",4003.57,"S","9AR","Revenue Balance Sheet","BEA",{"$f":"VLOOKUP(I2308,'[1]Sub Lookup'!$A$1:$B$65536,2,FALSE)","v":"Payments in Advance - General"}]
["Kent County Council",11964687,"APPLECROFT NURSING HOME","2020-04-01",1437.7,"S","9AR","Revenue Balance Sheet","BEA",{"$f":"VLOOKUP(I2312,'[1]Sub Lookup'!$A$1:$B$65536,2,FALSE)","v":"Payments in Advance - General"}]
["Kent County Council",11964676,"APPLECROFT NURSING HOME","2020-04-01",804.82,"S","5KB","Physical support - 65+ Long Term Support: Nursing","530",{"$f":"VLOOKUP(I2328,'[1]Sub Lookup'!$A$1:$B$65536,2,FALSE)","v":"Commissioned Service - Other"}]
["Kent County Council",11964677,"APPLECROFT NURSING HOME","2020-04-01",1553.3600000000001,"S","9AR","Revenue Balance Sheet","BEA",{"$f":"VLOOKUP(I2341,'[1]Sub Lookup'!$A$1:$B$65536,2,FALSE)","v":"Payments in Advance - General"}]
["Kent County Council",11964686,"APPLECROFT NURSING HOME","2020-04-01",700.35,"S","5KB","Physical support - 65+ Long Term Support: Nursing","530",{"$f":"VLOOKUP(I2356,'[1]Sub Lookup'!$A$1:$B$65536,2,FALSE)","v":"Commissioned Service - Other"}]
["Kent County Council",11964706,"APPLECROFT NURSING HOME","2020-04-01",1478.53,"S","9AR","Revenue Balance Sheet","BEA",{"$f":"VLOOKUP(I2374,'[1]Sub Lookup'!$A$1:$B$65536,2,FALSE)","v":"Payments in Advance - General"}]
["Kent County Council",11964694,"APPLECROFT NURSING HOME","2020-04-01",1715.05,"S","5KA","Physical support - 65+ Long Term Support: Residential","530",{"$f":"VLOOKUP(I2380,'[1]Sub Lookup'!$A$1:$B$65536,2,FALSE)","v":"Commissioned Service - Other"}]
["Kent County Council",12018770,"APPLECROFT NURSING HOME","2020-04-29",2289.16,"S","5KB","Physical support - 65+ Long Term Support: Nursing","530",{"$f":"VLOOKUP(I2396,'[1]Sub Lookup'!$A$1:$B$65536,2,FALSE)","v":"Commissioned Service - Other"}]
["Kent County Council",12018771,"APPLECROFT NURSING HOME","2020-04-29",2178.88,"S","5KB","Physical support - 65+ Long Term Support: Nursing","530",{"$f":"VLOOKUP(I2407,'[1]Sub Lookup'!$A$1:$B$65536,2,FALSE)","v":"Commissioned Service - Other"}]
["Kent County Council",12018769,"APPLECROFT NURSING HOME","2020-04-29",2178.88,"S","5KB","Physical support - 65+ Long Term Support: Nursing","530",{"$f":"VLOOKUP(I2424,'[1]Sub Lookup'!$A$1:$B$65536,2,FALSE)","v":"Commissioned Service - Other"}]
["Kent County Council",11963748,"APPROCARE","2020-04-09",863.4,"S","5KG","Physical support - 65+ Long Term Support: Community: Home Care","530",{"$f":"VLOOKUP(I2440,'[1]Sub Lookup'!$A$1:$B$65536,2,FALSE)","v":"Commissioned Service - Other"}]
["Kent County Council",11974337,"APPROCARE","2020-04-09",361.08,"S","5KG","Physical support - 65+ Long Term Support: Community: Home Care","530",{"$f":"VLOOKUP(I2448,'[1]Sub Lookup'!$A$1:$B$65536,2,FALSE)","v":"Commissioned Service - Other"}]
["Kent County Council",12020064,"AQUARIUS LODGE","2020-04-30",3646.6800000000003,"S","5KA","Physical support - 65+ Long Term Support: Residential","530",{"$f":"VLOOKUP(I2468,'[1]Sub Lookup'!$A$1:$B$65536,2,FALSE)","v":"Commissioned Service - Other"}]
["Kent County Council",11990242,"ARCADIA CONSULTING LIMITED","2020-04-24",6750,"C","8DH","Personnel and Development","064",{"$f":"VLOOKUP(I2473,'[1]Sub Lookup'!$A$1:$B$65536,2,FALSE)","v":"External Training"}]
["Kent County Council",11961816,"ARRIVA KENT & SURREY LTD","2020-04-08",19377.53,"P","7HE","Public Transport","523",{"$f":"VLOOKUP(I2492,'[1]Sub Lookup'!$A$1:$B$65536,2,FALSE)","v":"Private Contractors"}]
["Kent County Council",11964775,"ARTHUR COURT CARE HOME","2020-04-01",1301.07,"S","9AR","Revenue Balance Sheet","BEA",{"$f":"VLOOKUP(I2506,'[1]Sub Lookup'!$A$1:$B$65536,2,FALSE)","v":"Payments in Advance - General"}]
["Kent County Council",12011022,"ARTHUR COURT CARE HOME","2020-04-27",1917.3600000000001,"S","5TA","Support with Memory & Cognition - 65+ Long Term Support: Residential","530",{"$f":"VLOOKUP(I2516,'[1]Sub Lookup'!$A$1:$B$65536,2,FALSE)","v":"Commissioned Service - Other"}]
["Kent County Council",11966255,"ASD UNIQUE SERVICES LIMITED","2020-04-01",2196.42,"S","5XC","Commissioning & Service Delivery","530",{"$f":"VLOOKUP(I2523,'[1]Sub Lookup'!$A$1:$B$65536,2,FALSE)","v":"Commissioned Service - Other"}]
["Kent County Council",11959518,"ASHDOWN PRIMARY SCHOOL","2020-04-03",400,"S","36D","Virtual Schools Kent","401",{"$f":"VLOOKUP(I2539,'[1]Sub Lookup'!$A$1:$B$65536,2,FALSE)","v":"Specialists Fees"}]
["Kent County Council",11984057,"ASHFORD BOROUGH COUNCIL","2020-04-14",15219.5,"C","36P","Children's Centres","123",{"$f":"VLOOKUP(I2560,'[1]Sub Lookup'!$A$1:$B$65536,2,FALSE)","v":"National and Non Domestic Rates and Council Tax"}]
["Kent County Council",11996835,"ASHFORD BOROUGH COUNCIL","2020-04-20",35072,"C","8DW","Non Operational Properties","123",{"$f":"VLOOKUP(I2572,'[1]Sub Lookup'!$A$1:$B$65536,2,FALSE)","v":"National and Non Domestic Rates and Council Tax"}]
["Kent County Council",12019158,"ASHFORD BOROUGH COUNCIL","2020-04-30",350.24,"S","35P","Section 24","123",{"$f":"VLOOKUP(I2584,'[1]Sub Lookup'!$A$1:$B$65536,2,FALSE)","v":"National and Non Domestic Rates and Council Tax"}]
["Kent County Council",12019228,"ASHFORD BOROUGH COUNCIL","2020-04-30",1601.07,"S","32Q","Rented Accommodation Asylum 18+","123",{"$f":"VLOOKUP(I2591,'[1]Sub Lookup'!$A$1:$B$65536,2,FALSE)","v":"National and Non Domestic Rates and Council Tax"}]
["Kent County Council",11973879,"ASHFORD INTERNATIONAL HOTEL LTD","2020-04-09",3075.58,"E","1KA","School Resources","342",{"$f":"VLOOKUP(I2605,'[1]Sub Lookup'!$A$1:$B$65536,2,FALSE)","v":"Refreshments"}]
["Kent County Council",11970176,"ASHFORD PERSONNEL & SOLUTIONS","2020-04-01",718.2,"S","5BH","Learning Disability Support - 65+ Long Term Support: Community: Supported Living","530",{"$f":"VLOOKUP(I2628,'[1]Sub Lookup'!$A$1:$B$65536,2,FALSE)","v":"Commissioned Service - Other"}]
["Kent County Council",11973626,"ASHFORD PERSONNEL & SOLUTIONS","2020-04-03",718.2,"S","5BH","Learning Disability Support - 65+ Long Term Support: Community: Supported Living","530",{"$f":"VLOOKUP(I2634,'[1]Sub Lookup'!$A$1:$B$65536,2,FALSE)","v":"Commissioned Service - Other"}]
["Kent County Council",12005447,"ASHFORD VINEYARD CHURCH","2020-04-23",2000,"K","2AB","Community Liason","450",{"$f":"VLOOKUP(I2652,'[1]Sub Lookup'!$A$1:$B$65536,2,FALSE)","v":"Grants"}]
["Kent County Council",12011345,"ASHGROVE EDUCATION LTD","2020-04-28",1250,"E","1EF","Standards & School Improvement","401",{"$f":"VLOOKUP(I2659,'[1]Sub Lookup'!$A$1:$B$65536,2,FALSE)","v":"Specialists Fees"}]
["Kent County Council",11973527,"ASHLEY DOWN NURSING HOME","2020-04-03",6536.64,"S","5KB","Physical support - 65+ Long Term Support: Nursing","530",{"$f":"VLOOKUP(I2671,'[1]Sub Lookup'!$A$1:$B$65536,2,FALSE)","v":"Commissioned Service - Other"}]
["Kent County Council",11970619,"ASHLEY GARDENS-HEALTHCARE HOMES (LSC) LTD","2020-04-01",1281.6400000000001,"S","5KB","Physical support - 65+ Long Term Support: Nursing","530",{"$f":"VLOOKUP(I2696,'[1]Sub Lookup'!$A$1:$B$65536,2,FALSE)","v":"Commissioned Service - Other"}]
["Kent County Council",11970622,"ASHLEY GARDENS-HEALTHCARE HOMES (LSC) LTD","2020-04-01",1439.56,"S","5FB","Mental Health Support - 65+ Long Term Support: Nursing","530",{"$f":"VLOOKUP(I2700,'[1]Sub Lookup'!$A$1:$B$65536,2,FALSE)","v":"Commissioned Service - Other"}]
["Kent County Council",11970644,"ASHLEY GARDENS-HEALTHCARE HOMES (LSC) LTD","2020-04-01",2800,"S","5KB","Physical support - 65+ Long Term Support: Nursing","530",{"$f":"VLOOKUP(I2720,'[1]Sub Lookup'!$A$1:$B$65536,2,FALSE)","v":"Commissioned Service - Other"}]
["Kent County Council",11970649,"ASHLEY GARDENS-HEALTHCARE HOMES (LSC) LTD","2020-04-01",2800,"S","5KB","Physical support - 65+ Long Term Support: Nursing","530",{"$f":"VLOOKUP(I2727,'[1]Sub Lookup'!$A$1:$B$65536,2,FALSE)","v":"Commissioned Service - Other"}]
["Kent County Council",11970620,"ASHLEY GARDENS-HEALTHCARE HOMES (LSC) LTD","2020-04-01",2883.7200000000003,"S","5KB","Physical support - 65+ Long Term Support: Nursing","530",{"$f":"VLOOKUP(I2737,'[1]Sub Lookup'!$A$1:$B$65536,2,FALSE)","v":"Commissioned Service - Other"}]
["Kent County Council",11966322,"ASHLEY HOUSE NURSING HOME","2020-04-01",5850.36,"S","5XC","Commissioning & Service Delivery","530",{"$f":"VLOOKUP(I2751,'[1]Sub Lookup'!$A$1:$B$65536,2,FALSE)","v":"Commissioned Service - Other"}]
["Kent County Council",11961608,"ASHLEY HOUSE NURSING HOME","2020-04-01",1323.3,"S","9AR","Revenue Balance Sheet","BEA",{"$f":"VLOOKUP(I2766,'[1]Sub Lookup'!$A$1:$B$65536,2,FALSE)","v":"Payments in Advance - General"}]
["Kent County Council",12017460,"ASHLEY HOUSE NURSING HOME","2020-04-29",2003.56,"S","5KA","Physical support - 65+ Long Term Support: Residential","530",{"$f":"VLOOKUP(I2788,'[1]Sub Lookup'!$A$1:$B$65536,2,FALSE)","v":"Commissioned Service - Other"}]
["Kent County Council",11976778,"ASHMINSTER HOUSE","2020-04-06",3719.35,"S","5KB","Physical support - 65+ Long Term Support: Nursing","530",{"$f":"VLOOKUP(I2795,'[1]Sub Lookup'!$A$1:$B$65536,2,FALSE)","v":"Commissioned Service - Other"}]
["Kent County Council",11971336,"ASHPOINT HOUSE LTD","2020-04-02",1271,"S","5EH","Mental Health Support - 18 64 Long Term Support: Community: Supported Living","530",{"$f":"VLOOKUP(I2813,'[1]Sub Lookup'!$A$1:$B$65536,2,FALSE)","v":"Commissioned Service - Other"}]
["Kent County Council",11982544,"ASHURST HOUSE-ALLIED CARE LTD","2020-04-08",2943.32,"S","5BA","Learning Disability Support - 65+ Long Term Support: Residential","530",{"$f":"VLOOKUP(I2819,'[1]Sub Lookup'!$A$1:$B$65536,2,FALSE)","v":"Commissioned Service - Other"}]
["Kent County Council",11967127,"ASHURST PARK NURSING HOME","2020-04-01",467.09000000000003,"S","5XC","Commissioning & Service Delivery","530",{"$f":"VLOOKUP(I2832,'[1]Sub Lookup'!$A$1:$B$65536,2,FALSE)","v":"Commissioned Service - Other"}]
["Kent County Council",11957350,"ASKEWS & HOLTS LIBRARY SERVICES LTD","2020-04-03",564.29,"K","2LC","Libraries, Registration & Archives","330",{"$f":"VLOOKUP(I2856,'[1]Sub Lookup'!$A$1:$B$65536,2,FALSE)","v":"Books, Publications and Newspapers etc"}]
["Kent County Council",11957371,"ASKEWS & HOLTS LIBRARY SERVICES LTD","2020-04-06",498.76,"K","2LC","Libraries, Registration & Archives","330",{"$f":"VLOOKUP(I2863,'[1]Sub Lookup'!$A$1:$B$65536,2,FALSE)","v":"Books, Publications and Newspapers etc"}]
["Kent County Council",11972239,"ASKEWS & HOLTS LIBRARY SERVICES LTD","2020-04-09",521.29,"K","2LC","Libraries, Registration & Archives","330",{"$f":"VLOOKUP(I2879,'[1]Sub Lookup'!$A$1:$B$65536,2,FALSE)","v":"Books, Publications and Newspapers etc"}]
["Kent County Council",11972234,"ASKEWS & HOLTS LIBRARY SERVICES LTD","2020-04-09",626.08000000000004,"K","2LC","Libraries, Registration & Archives","330",{"$f":"VLOOKUP(I2887,'[1]Sub Lookup'!$A$1:$B$65536,2,FALSE)","v":"Books, Publications and Newspapers etc"}]
["Kent County Council",11966327,"ASPEN LODGE","2020-04-01",7098.8,"S","5XC","Commissioning & Service Delivery","530",{"$f":"VLOOKUP(I2898,'[1]Sub Lookup'!$A$1:$B$65536,2,FALSE)","v":"Commissioned Service - Other"}]
["Kent County Council",11971501,"ASPENS CHARITIES","2020-04-02",3806.04,"S","5AH","Learning Disability Support - 18 64 Long Term Support: Community: Supported Living","530",{"$f":"VLOOKUP(I2915,'[1]Sub Lookup'!$A$1:$B$65536,2,FALSE)","v":"Commissioned Service - Other"}]
["Kent County Council",11976850,"ASPENS CHARITIES","2020-04-06",1625.4,"S","5BH","Learning Disability Support - 65+ Long Term Support: Community: Supported Living","530",{"$f":"VLOOKUP(I2931,'[1]Sub Lookup'!$A$1:$B$65536,2,FALSE)","v":"Commissioned Service - Other"}]
["Kent County Council",11976513,"ASPENS CHARITIES","2020-04-06",467.04,"S","5AJ","Learning Disability Support - 18 64 Long Term Support: Community: Day Care","530",{"$f":"VLOOKUP(I2945,'[1]Sub Lookup'!$A$1:$B$65536,2,FALSE)","v":"Commissioned Service - Other"}]
["Kent County Council",11976873,"ASPENS CHARITIES","2020-04-06",2136.6799999999998,"S","5AH","Learning Disability Support - 18 64 Long Term Support: Community: Supported Living","530",{"$f":"VLOOKUP(I2955,'[1]Sub Lookup'!$A$1:$B$65536,2,FALSE)","v":"Commissioned Service - Other"}]
["Kent County Council",11976851,"ASPENS CHARITIES","2020-04-06",1625.4,"S","5BH","Learning Disability Support - 65+ Long Term Support: Community: Supported Living","530",{"$f":"VLOOKUP(I2978,'[1]Sub Lookup'!$A$1:$B$65536,2,FALSE)","v":"Commissioned Service - Other"}]
["Kent County Council",11989488,"ASPENS CHARITIES","2020-04-14",5709.68,"S","5AA","Learning Disability Support - 18 64 Long Term Support: Residential","530",{"$f":"VLOOKUP(I2983,'[1]Sub Lookup'!$A$1:$B$65536,2,FALSE)","v":"Commissioned Service - Other"}]
["Kent County Council",11992102,"ASPENS CHARITIES","2020-04-15",-496.44,"S","5EH","Mental Health Support - 18 64 Long Term Support: Community: Supported Living","530",{"$f":"VLOOKUP(I2999,'[1]Sub Lookup'!$A$1:$B$65536,2,FALSE)","v":"Commissioned Service - Other"}]
["Kent County Council",11994439,"ASPENS CHARITIES","2020-04-17",4224.8,"S","5AA","Learning Disability Support - 18 64 Long Term Support: Residential","530",{"$f":"VLOOKUP(I3011,'[1]Sub Lookup'!$A$1:$B$65536,2,FALSE)","v":"Commissioned Service - Other"}]
["Kent County Council",12005037,"ASPENS CHARITIES","2020-04-22",602,"S","5AH","Learning Disability Support - 18 64 Long Term Support: Community: Supported Living","530",{"$f":"VLOOKUP(I3023,'[1]Sub Lookup'!$A$1:$B$65536,2,FALSE)","v":"Commissioned Service - Other"}]
["Kent County Council",12005041,"ASPENS CHARITIES","2020-04-22",602,"S","5AH","Learning Disability Support - 18 64 Long Term Support: Community: Supported Living","530",{"$f":"VLOOKUP(I3044,'[1]Sub Lookup'!$A$1:$B$65536,2,FALSE)","v":"Commissioned Service - Other"}]
["Kent County Council",12005044,"ASPENS CHARITIES","2020-04-22",903,"S","5AH","Learning Disability Support - 18 64 Long Term Support: Community: Supported Living","530",{"$f":"VLOOKUP(I3051,'[1]Sub Lookup'!$A$1:$B$65536,2,FALSE)","v":"Commissioned Service - Other"}]
["Kent County Council",12011699,"ASPENS CHARITIES","2020-04-28",763.38,"S","5AJ","Learning Disability Support - 18 64 Long Term Support: Community: Day Care","523",{"$f":"VLOOKUP(I3067,'[1]Sub Lookup'!$A$1:$B$65536,2,FALSE)","v":"Private Contractors"}]
["Kent County Council",12018881,"ASPENS CHARITIES","2020-04-29",1632.96,"S","5AH","Learning Disability Support - 18 64 Long Term Support: Community: Supported Living","530",{"$f":"VLOOKUP(I3077,'[1]Sub Lookup'!$A$1:$B$65536,2,FALSE)","v":"Commissioned Service - Other"}]
["Kent County Council",11974051,"ASPIRATIONS CARE LTD","2020-04-03",4083.88,"S","5AH","Learning Disability Support - 18 64 Long Term Support: Community: Supported Living","530",{"$f":"VLOOKUP(I3095,'[1]Sub Lookup'!$A$1:$B$65536,2,FALSE)","v":"Commissioned Service - Other"}]
["Kent County Council",11974080,"ASPIRATIONS CARE LTD","2020-04-03",272.88,"S","5EH","Mental Health Support - 18 64 Long Term Support: Community: Supported Living","530",{"$f":"VLOOKUP(I3111,'[1]Sub Lookup'!$A$1:$B$65536,2,FALSE)","v":"Commissioned Service - Other"}]
["Kent County Council",11973800,"ASPIRATIONS CARE LTD","2020-04-03",424.48,"S","5FH","Mental Health Support - 65+ Long Term Support: Community: Supported Living","530",{"$f":"VLOOKUP(I3124,'[1]Sub Lookup'!$A$1:$B$65536,2,FALSE)","v":"Commissioned Service - Other"}]
["Kent County Council",11974072,"ASPIRATIONS CARE LTD","2020-04-03",424.48,"S","5AH","Learning Disability Support - 18 64 Long Term Support: Community: Supported Living","530",{"$f":"VLOOKUP(I3135,'[1]Sub Lookup'!$A$1:$B$65536,2,FALSE)","v":"Commissioned Service - Other"}]
["Kent County Council",12011588,"ASPIRATIONS CARE LTD","2020-04-28",1030.8800000000001,"S","5AH","Learning Disability Support - 18 64 Long Term Support: Community: Supported Living","523",{"$f":"VLOOKUP(I3143,'[1]Sub Lookup'!$A$1:$B$65536,2,FALSE)","v":"Private Contractors"}]
["Kent County Council",11964810,"ASPIRE LIFE CARE LTD","2020-04-01",1606.18,"S","9AR","Revenue Balance Sheet","BEA",{"$f":"VLOOKUP(I3163,'[1]Sub Lookup'!$A$1:$B$65536,2,FALSE)","v":"Payments in Advance - General"}]
["Kent County Council",11984708,"ASPIRE NURSERY SCHOOL-A.N. LTD","2020-04-14",28783.170000000002,"E","1KA","School Resources","528",{"$f":"VLOOKUP(I3166,'[1]Sub Lookup'!$A$1:$B$65536,2,FALSE)","v":"Early Years Education"}]
["Kent County Council",11977319,"ATHLONE CARE","2020-04-07",320.32,"S","5KG","Physical support - 65+ Long Term Support: Community: Home Care","530",{"$f":"VLOOKUP(I3190,'[1]Sub Lookup'!$A$1:$B$65536,2,FALSE)","v":"Commissioned Service - Other"}]
["Kent County Council",11977514,"ATHLONE CARE","2020-04-07",331.74,"S","5KG","Physical support - 65+ Long Term Support: Community: Home Care","530",{"$f":"VLOOKUP(I3194,'[1]Sub Lookup'!$A$1:$B$65536,2,FALSE)","v":"Commissioned Service - Other"}]
["Kent County Council",11994128,"ATHLONE CARE","2020-04-24",480.48,"S","5KG","Physical support - 65+ Long Term Support: Community: Home Care","530",{"$f":"VLOOKUP(I3209,'[1]Sub Lookup'!$A$1:$B$65536,2,FALSE)","v":"Commissioned Service - Other"}]
["Kent County Council",11975886,"AUDAX SUPPORTED LIVING CIC","2020-04-06",4000,"S","35P","Section 24","527",{"$f":"VLOOKUP(I3231,'[1]Sub Lookup'!$A$1:$B$65536,2,FALSE)","v":"Services"}]
["Kent County Council",11971895,"AUDLEY CARE LTD","2020-04-03",2165.35,"S","5KG","Physical support - 65+ Long Term Support: Community: Home Care","530",{"$f":"VLOOKUP(I3234,'[1]Sub Lookup'!$A$1:$B$65536,2,FALSE)","v":"Commissioned Service - Other"}]
["Kent County Council",12007127,"AUDLEY WILLICOMBE MANAGEMENT LIMITED","2020-04-24",682.6,"S","5KG","Physical support - 65+ Long Term Support: Community: Home Care","530",{"$f":"VLOOKUP(I3256,'[1]Sub Lookup'!$A$1:$B$65536,2,FALSE)","v":"Commissioned Service - Other"}]
["Kent County Council",12017695,"AUDLEY WILLICOMBE MANAGEMENT LIMITED","2020-04-29",7031.85,"S","5XC","Commissioning & Service Delivery","530",{"$f":"VLOOKUP(I3262,'[1]Sub Lookup'!$A$1:$B$65536,2,FALSE)","v":"Commissioned Service - Other"}]
["Kent County Council",11968199,"AUSTEN ALLEN HOMECARE","2020-04-01",358,"S","5KG","Physical support - 65+ Long Term Support: Community: Home Care","530",{"$f":"VLOOKUP(I3275,'[1]Sub Lookup'!$A$1:$B$65536,2,FALSE)","v":"Commissioned Service - Other"}]
["Kent County Council",11980566,"AUSTEN ALLEN HOMECARE","2020-04-08",480.98,"S","5KG","Physical support - 65+ Long Term Support: Community: Home Care","530",{"$f":"VLOOKUP(I3299,'[1]Sub Lookup'!$A$1:$B$65536,2,FALSE)","v":"Commissioned Service - Other"}]
["Kent County Council",11980539,"AUSTEN ALLEN HOMECARE","2020-04-08",403.32,"S","5KG","Physical support - 65+ Long Term Support: Community: Home Care","530",{"$f":"VLOOKUP(I3302,'[1]Sub Lookup'!$A$1:$B$65536,2,FALSE)","v":"Commissioned Service - Other"}]
["Kent County Council",11991254,"AUSTEN ALLEN HOMECARE","2020-04-15",457.94,"S","5KG","Physical support - 65+ Long Term Support: Community: Home Care","530",{"$f":"VLOOKUP(I3322,'[1]Sub Lookup'!$A$1:$B$65536,2,FALSE)","v":"Commissioned Service - Other"}]
["Kent County Council",11991256,"AUSTEN ALLEN HOMECARE","2020-04-15",517.68000000000006,"S","5KG","Physical support - 65+ Long Term Support: Community: Home Care","530",{"$f":"VLOOKUP(I3330,'[1]Sub Lookup'!$A$1:$B$65536,2,FALSE)","v":"Commissioned Service - Other"}]
["Kent County Council",11991238,"AUSTEN ALLEN HOMECARE","2020-04-15",705.98,"S","5JG","Physical Support - 18 64 Long Term Support: Community: Home Care","530",{"$f":"VLOOKUP(I3341,'[1]Sub Lookup'!$A$1:$B$65536,2,FALSE)","v":"Commissioned Service - Other"}]
["Kent County Council",12003740,"AUSTEN ALLEN HOMECARE","2020-04-22",457.94,"S","5KG","Physical support - 65+ Long Term Support: Community: Home Care","530",{"$f":"VLOOKUP(I3354,'[1]Sub Lookup'!$A$1:$B$65536,2,FALSE)","v":"Commissioned Service - Other"}]
["Kent County Council",12015898,"AUSTEN ALLEN HOMECARE","2020-04-29",454.3,"S","5KG","Physical support - 65+ Long Term Support: Community: Home Care","530",{"$f":"VLOOKUP(I3374,'[1]Sub Lookup'!$A$1:$B$65536,2,FALSE)","v":"Commissioned Service - Other"}]
["Kent County Council",12016720,"AUSTEN ALLEN HOMECARE","2020-04-29",406.68,"S","5KG","Physical support - 65+ Long Term Support: Community: Home Care","530",{"$f":"VLOOKUP(I3388,'[1]Sub Lookup'!$A$1:$B$65536,2,FALSE)","v":"Commissioned Service - Other"}]
["Kent County Council",12015884,"AUSTEN ALLEN HOMECARE","2020-04-29",454.3,"S","5KG","Physical support - 65+ Long Term Support: Community: Home Care","530",{"$f":"VLOOKUP(I3398,'[1]Sub Lookup'!$A$1:$B$65536,2,FALSE)","v":"Commissioned Service - Other"}]
["Kent County Council",12008217,"AUTISM ANGLIA","2020-04-24",10308.120000000001,"S","5AA","Learning Disability Support - 18 64 Long Term Support: Residential","530",{"$f":"VLOOKUP(I3407,'[1]Sub Lookup'!$A$1:$B$65536,2,FALSE)","v":"Commissioned Service - Other"}]
["Kent County Council",12018698,"AVALON CARE","2020-04-29",2905.98,"S","5BC","Learning Disability Support - 65+ Long Term Support: Supported Accommodation","530",{"$f":"VLOOKUP(I3422,'[1]Sub Lookup'!$A$1:$B$65536,2,FALSE)","v":"Commissioned Service - Other"}]
["Kent County Council",11980649,"AVANTE CARE & SUPPORT LTD","2020-04-08",307.11,"S","5JG","Physical Support - 18 64 Long Term Support: Community: Home Care","520",{"$f":"VLOOKUP(I3442,'[1]Sub Lookup'!$A$1:$B$65536,2,FALSE)","v":"Voluntary Associations"}]
["Kent County Council",11980906,"AVANTE CARE & SUPPORT LTD","2020-04-08",459.04,"S","5KG","Physical support - 65+ Long Term Support: Community: Home Care","520",{"$f":"VLOOKUP(I3454,'[1]Sub Lookup'!$A$1:$B$65536,2,FALSE)","v":"Voluntary Associations"}]
["Kent County Council",11966455,"AVANTE CARE SERVICES LTD","2020-04-01",8133.81,"S","5XC","Commissioning & Service Delivery","530",{"$f":"VLOOKUP(I3466,'[1]Sub Lookup'!$A$1:$B$65536,2,FALSE)","v":"Commissioned Service - Other"}]
["Kent County Council",11989296,"AVENS LIMITED","2020-04-14",5227.12,"S","5AA","Learning Disability Support - 18 64 Long Term Support: Residential","530",{"$f":"VLOOKUP(I3487,'[1]Sub Lookup'!$A$1:$B$65536,2,FALSE)","v":"Commissioned Service - Other"}]
["Kent County Council",11989297,"AVENS LIMITED","2020-04-14",3053.64,"S","5AA","Learning Disability Support - 18 64 Long Term Support: Residential","530",{"$f":"VLOOKUP(I3490,'[1]Sub Lookup'!$A$1:$B$65536,2,FALSE)","v":"Commissioned Service - Other"}]
["Kent County Council",12009490,"AVENUES TRUST","2020-04-27",252.66,"S","35F","IS Day Care Dis Child","527",{"$f":"VLOOKUP(I3510,'[1]Sub Lookup'!$A$1:$B$65536,2,FALSE)","v":"Services"}]
["Kent County Council",11982539,"AVERY HOMES (NELSON) LTD-ELVY COURT","2020-04-08",1959.44,"S","5KB","Physical support - 65+ Long Term Support: Nursing","530",{"$f":"VLOOKUP(I3520,'[1]Sub Lookup'!$A$1:$B$65536,2,FALSE)","v":"Commissioned Service - Other"}]
["Kent County Council",11970230,"AVONDALECARE (KENT) LTD","2020-04-01",658.80000000000007,"S","5JH","Physical Support - 18 64 Long Term Support: Community: Supported Living","530",{"$f":"VLOOKUP(I3534,'[1]Sub Lookup'!$A$1:$B$65536,2,FALSE)","v":"Commissioned Service - Other"}]
["Kent County Council",11974093,"AVONDALECARE (KENT) LTD","2020-04-03",841.68000000000006,"S","5EH","Mental Health Support - 18 64 Long Term Support: Community: Supported Living","530",{"$f":"VLOOKUP(I3549,'[1]Sub Lookup'!$A$1:$B$65536,2,FALSE)","v":"Commissioned Service - Other"}]
["Kent County Council",11970258,"AVONDALECARE (KENT) LTD","2020-04-03",601.20000000000005,"S","5EH","Mental Health Support - 18 64 Long Term Support: Community: Supported Living","530",{"$f":"VLOOKUP(I3558,'[1]Sub Lookup'!$A$1:$B$65536,2,FALSE)","v":"Commissioned Service - Other"}]
["Kent County Council",11974116,"AVONDALECARE (KENT) LTD","2020-04-03",263.52,"S","5AH","Learning Disability Support - 18 64 Long Term Support: Community: Supported Living","530",{"$f":"VLOOKUP(I3578,'[1]Sub Lookup'!$A$1:$B$65536,2,FALSE)","v":"Commissioned Service - Other"}]
["Kent County Council",11971355,"AVONDALECARE (KENT) LTD","2020-04-03",829.92000000000007,"S","5EC","Mental Health Support - 18 64 Long Term Support: Supported Accommodation","530",{"$f":"VLOOKUP(I3586,'[1]Sub Lookup'!$A$1:$B$65536,2,FALSE)","v":"Commissioned Service - Other"}]
["Kent County Council",11970243,"AVONDALECARE (KENT) LTD","2020-04-03",751.5,"S","5AH","Learning Disability Support - 18 64 Long Term Support: Community: Supported Living","530",{"$f":"VLOOKUP(I3602,'[1]Sub Lookup'!$A$1:$B$65536,2,FALSE)","v":"Commissioned Service - Other"}]
["Kent County Council",11966109,"AVONDALECARE (KENT) LTD","2020-04-03",601.20000000000005,"S","5AH","Learning Disability Support - 18 64 Long Term Support: Community: Supported Living","530",{"$f":"VLOOKUP(I3615,'[1]Sub Lookup'!$A$1:$B$65536,2,FALSE)","v":"Commissioned Service - Other"}]
["Kent County Council",11970257,"AVONDALECARE (KENT) LTD","2020-04-03",709.2,"S","5EH","Mental Health Support - 18 64 Long Term Support: Community: Supported Living","530",{"$f":"VLOOKUP(I3626,'[1]Sub Lookup'!$A$1:$B$65536,2,FALSE)","v":"Commissioned Service - Other"}]
["Kent County Council",11974120,"AVONDALECARE (KENT) LTD","2020-04-03",841.68000000000006,"S","5JH","Physical Support - 18 64 Long Term Support: Community: Supported Living","530",{"$f":"VLOOKUP(I3646,'[1]Sub Lookup'!$A$1:$B$65536,2,FALSE)","v":"Commissioned Service - Other"}]
["Kent County Council",11966098,"AVONDALECARE (KENT) LTD","2020-04-03",1082.1600000000001,"S","5EH","Mental Health Support - 18 64 Long Term Support: Community: Supported Living","530",{"$f":"VLOOKUP(I3648,'[1]Sub Lookup'!$A$1:$B$65536,2,FALSE)","v":"Commissioned Service - Other"}]
["Kent County Council",11970236,"AVONDALECARE (KENT) LTD","2020-04-03",1106.56,"S","5EH","Mental Health Support - 18 64 Long Term Support: Community: Supported Living","530",{"$f":"VLOOKUP(I3670,'[1]Sub Lookup'!$A$1:$B$65536,2,FALSE)","v":"Commissioned Service - Other"}]
["Kent County Council",11975054,"AVONDALECARE (KENT) LTD","2020-04-06",538.88,"S","38W","Care Leavers Unit - non-Asylum","321",{"$f":"VLOOKUP(I3681,'[1]Sub Lookup'!$A$1:$B$65536,2,FALSE)","v":"Personal Expenses/Adaptations"}]
["Kent County Council",12017545,"AVONDALECARE (KENT) LTD","2020-04-29",1454.91,"S","5XC","Commissioning & Service Delivery","530",{"$f":"VLOOKUP(I3694,'[1]Sub Lookup'!$A$1:$B$65536,2,FALSE)","v":"Commissioned Service - Other"}]
["Kent County Council",11996987,"B PARSONS & SONS","2020-04-20",1458.8,"P","7WG","Household Waste Recycling Centres","523",{"$f":"VLOOKUP(I3714,'[1]Sub Lookup'!$A$1:$B$65536,2,FALSE)","v":"Private Contractors"}]
["Kent County Council",11972062,"BAC CARE LTD","2020-04-09",659.44,"S","5KG","Physical support - 65+ Long Term Support: Community: Home Care","530",{"$f":"VLOOKUP(I3728,'[1]Sub Lookup'!$A$1:$B$65536,2,FALSE)","v":"Commissioned Service - Other"}]
["Kent County Council",11961517,"BAC CARE LTD","2020-04-09",964.16,"S","5KG","Physical support - 65+ Long Term Support: Community: Home Care","530",{"$f":"VLOOKUP(I3738,'[1]Sub Lookup'!$A$1:$B$65536,2,FALSE)","v":"Commissioned Service - Other"}]
["Kent County Council",12009303,"BAILEY PARTNERSHIP","2020-04-27",3192.2000000000003,"E","1RC","Capital Projects","401",{"$f":"VLOOKUP(I3747,'[1]Sub Lookup'!$A$1:$B$65536,2,FALSE)","v":"Specialists Fees"}]
["Kent County Council",11992881,"BAILEY PARTNERSHIP","2020-04-29",-7512.5,"E","1RC","Capital Projects","401",{"$f":"VLOOKUP(I3762,'[1]Sub Lookup'!$A$1:$B$65536,2,FALSE)","v":"Specialists Fees"}]
["Kent County Council",11977309,"BALDWINS BUSINESS TRAVEL MANAGEMENT","2020-04-07",280.91000000000003,"K","2UA","Youth Services","401",{"$f":"VLOOKUP(I3769,'[1]Sub Lookup'!$A$1:$B$65536,2,FALSE)","v":"Specialists Fees"}]
["Kent County Council",11990395,"BANNER GROUP LTD","2020-04-24",252.28,"K","2RF","Coroners","302",{"$f":"VLOOKUP(I3794,'[1]Sub Lookup'!$A$1:$B$65536,2,FALSE)","v":"Computer and Other IT Expenditure (Hardware)"}]
["Kent County Council",11997431,"BANNER TRANSPORT LIMITED","2020-04-20",1697.5,"E","1RX","Admissions & Transport","222",{"$f":"VLOOKUP(I3806,'[1]Sub Lookup'!$A$1:$B$65536,2,FALSE)","v":"Home to School Transport - Hired"}]
["Kent County Council",11997446,"BANNER TRANSPORT LIMITED","2020-04-20",629,"E","1RX","Admissions & Transport","222",{"$f":"VLOOKUP(I3813,'[1]Sub Lookup'!$A$1:$B$65536,2,FALSE)","v":"Home to School Transport - Hired"}]
["Kent County Council",11984847,"BARBIES FOOTSTEPS","2020-04-14",45035.25,"E","1KA","School Resources","528",{"$f":"VLOOKUP(I3834,'[1]Sub Lookup'!$A$1:$B$65536,2,FALSE)","v":"Early Years Education"}]
["Kent County Council",11984670,"BARBIES PLAYSCHOOL & SELWYN HOUSE NURSERY SCHOOL","2020-04-14",59787,"E","1KA","School Resources","528",{"$f":"VLOOKUP(I3837,'[1]Sub Lookup'!$A$1:$B$65536,2,FALSE)","v":"Early Years Education"}]
["Kent County Council",12019105,"BARCHESTER HEALTHCARE LIMITED (SUTTON VALENCE CARE HOME)","2020-04-29",3290.88,"S","5JA","Physical Support - 18 64 Long Term Support: Residential","530",{"$f":"VLOOKUP(I3860,'[1]Sub Lookup'!$A$1:$B$65536,2,FALSE)","v":"Commissioned Service - Other"}]
["Kent County Council",12020166,"BARCHESTER HEALTHCARE LIMITED (SUTTON VALENCE CARE HOME)","2020-04-30",3496.56,"S","5KB","Physical support - 65+ Long Term Support: Nursing","530",{"$f":"VLOOKUP(I3874,'[1]Sub Lookup'!$A$1:$B$65536,2,FALSE)","v":"Commissioned Service - Other"}]
["Kent County Council",11944480,"BARNARDO'S","2020-04-14",47550.75,"C","8PN","Children 5-19 Public Health programmes","520",{"$f":"VLOOKUP(I3879,'[1]Sub Lookup'!$A$1:$B$65536,2,FALSE)","v":"Voluntary Associations"}]
["Kent County Council",12011648,"BARONSMEDE SUPPORT SERVICES LTD","2020-04-28",4462.08,"S","5AH","Learning Disability Support - 18 64 Long Term Support: Community: Supported Living","523",{"$f":"VLOOKUP(I3902,'[1]Sub Lookup'!$A$1:$B$65536,2,FALSE)","v":"Private Contractors"}]
["Kent County Council",12018754,"BARONSMEDE SUPPORT SERVICES LTD","2020-04-29",-560.08000000000004,"S","5AA","Learning Disability Support - 18 64 Long Term Support: Residential","937",{"$f":"VLOOKUP(I3905,'[1]Sub Lookup'!$A$1:$B$65536,2,FALSE)","v":"KASS Notional Income"}]
["Kent County Council",12011466,"BARTON COURT CARE HOME LIMITED","2020-04-29",2003.56,"S","5TA","Support with Memory & Cognition - 65+ Long Term Support: Residential","520",{"$f":"VLOOKUP(I3926,'[1]Sub Lookup'!$A$1:$B$65536,2,FALSE)","v":"Voluntary Associations"}]
["Kent County Council",11983264,"BAY TREE HOUSE (GRAVESEND) LTD","2020-04-23",19200,"S","31D","IS  Res Care for Dis Child","527",{"$f":"VLOOKUP(I3942,'[1]Sub Lookup'!$A$1:$B$65536,2,FALSE)","v":"Services"}]
["Kent County Council",11982547,"BBS CONSTRUCTION LIMITED","2020-04-09",113523.7,"E","1TA","Capital - Primary Schools ES&PS","C05",{"$f":"VLOOKUP(I3945,'[1]Sub Lookup'!$A$1:$B$65536,2,FALSE)","v":"Building Works - Main Contract"}]
["Kent County Council",11975720,"BE MY FAMILY FOSTERING AGENCY LTD","2020-04-06",3411.9900000000002,"S","32R","IFA Asylum U16","527",{"$f":"VLOOKUP(I3957,'[1]Sub Lookup'!$A$1:$B$65536,2,FALSE)","v":"Services"}]
["Kent County Council",12017716,"BEACH HOUSE BIRCHINGTON LIMITED","2020-04-29",6071.83,"S","5XC","Commissioning & Service Delivery","530",{"$f":"VLOOKUP(I3973,'[1]Sub Lookup'!$A$1:$B$65536,2,FALSE)","v":"Commissioned Service - Other"}]
["Kent County Council",11961685,"BEECH CARE LTD","2020-04-09",5363.4000000000005,"S","9AR","Revenue Balance Sheet","BEA",{"$f":"VLOOKUP(I3992,'[1]Sub Lookup'!$A$1:$B$65536,2,FALSE)","v":"Payments in Advance - General"}]
["Kent County Council",11968290,"BEECH TREE TOTAL CARE LTD","2020-04-01",540.4,"S","5KG","Physical support - 65+ Long Term Support: Community: Home Care","530",{"$f":"VLOOKUP(I4001,'[1]Sub Lookup'!$A$1:$B$65536,2,FALSE)","v":"Commissioned Service - Other"}]
["Kent County Council",11968452,"BEECH TREE TOTAL CARE LTD","2020-04-01",405.3,"S","5KG","Physical support - 65+ Long Term Support: Community: Home Care","530",{"$f":"VLOOKUP(I4011,'[1]Sub Lookup'!$A$1:$B$65536,2,FALSE)","v":"Commissioned Service - Other"}]
["Kent County Council",11968447,"BEECH TREE TOTAL CARE LTD","2020-04-01",270.2,"S","5KG","Physical support - 65+ Long Term Support: Community: Home Care","530",{"$f":"VLOOKUP(I4025,'[1]Sub Lookup'!$A$1:$B$65536,2,FALSE)","v":"Commissioned Service - Other"}]
["Kent County Council",11968504,"BEECH TREE TOTAL CARE LTD","2020-04-01",630.70000000000005,"S","5TG","Support with Memory & Cognition - 65+ Long Term Support: Community: Home Care","530",{"$f":"VLOOKUP(I4041,'[1]Sub Lookup'!$A$1:$B$65536,2,FALSE)","v":"Commissioned Service - Other"}]
["Kent County Council",11968454,"BEECH TREE TOTAL CARE LTD","2020-04-01",405.3,"S","5KG","Physical support - 65+ Long Term Support: Community: Home Care","530",{"$f":"VLOOKUP(I4058,'[1]Sub Lookup'!$A$1:$B$65536,2,FALSE)","v":"Commissioned Service - Other"}]
["Kent County Council",11955570,"BEECH TREE TOTAL CARE LTD","2020-04-06",10148.77,"S","5KG","Physical support - 65+ Long Term Support: Community: Home Care","530",{"$f":"VLOOKUP(I4069,'[1]Sub Lookup'!$A$1:$B$65536,2,FALSE)","v":"Commissioned Service - Other"}]
["Kent County Council",11988631,"BEECH TREE TOTAL CARE LTD","2020-04-14",405.3,"S","5KG","Physical support - 65+ Long Term Support: Community: Home Care","530",{"$f":"VLOOKUP(I4077,'[1]Sub Lookup'!$A$1:$B$65536,2,FALSE)","v":"Commissioned Service - Other"}]
["Kent County Council",11988626,"BEECH TREE TOTAL CARE LTD","2020-04-14",270.2,"S","5KG","Physical support - 65+ Long Term Support: Community: Home Care","530",{"$f":"VLOOKUP(I4093,'[1]Sub Lookup'!$A$1:$B$65536,2,FALSE)","v":"Commissioned Service - Other"}]
["Kent County Council",11988633,"BEECH TREE TOTAL CARE LTD","2020-04-14",405.3,"S","5KG","Physical support - 65+ Long Term Support: Community: Home Care","530",{"$f":"VLOOKUP(I4113,'[1]Sub Lookup'!$A$1:$B$65536,2,FALSE)","v":"Commissioned Service - Other"}]
["Kent County Council",11995089,"BEECH TREE TOTAL CARE LTD","2020-04-17",510.86,"S","5KG","Physical support - 65+ Long Term Support: Community: Home Care","530",{"$f":"VLOOKUP(I4124,'[1]Sub Lookup'!$A$1:$B$65536,2,FALSE)","v":"Commissioned Service - Other"}]
["Kent County Council",11994965,"BEECH TREE TOTAL CARE LTD","2020-04-17",354.93,"S","5KG","Physical support - 65+ Long Term Support: Community: Home Care","530",{"$f":"VLOOKUP(I4137,'[1]Sub Lookup'!$A$1:$B$65536,2,FALSE)","v":"Commissioned Service - Other"}]
["Kent County Council",11994980,"BEECH TREE TOTAL CARE LTD","2020-04-17",650.16,"S","5KG","Physical support - 65+ Long Term Support: Community: Home Care","530",{"$f":"VLOOKUP(I4153,'[1]Sub Lookup'!$A$1:$B$65536,2,FALSE)","v":"Commissioned Service - Other"}]
["Kent County Council",11995102,"BEECH TREE TOTAL CARE LTD","2020-04-17",278.60000000000002,"S","5KG","Physical support - 65+ Long Term Support: Community: Home Care","530",{"$f":"VLOOKUP(I4157,'[1]Sub Lookup'!$A$1:$B$65536,2,FALSE)","v":"Commissioned Service - Other"}]
["Kent County Council",12003839,"BEECH TREE TOTAL CARE LTD","2020-04-22",306.60000000000002,"S","5KG","Physical support - 65+ Long Term Support: Community: Home Care","530",{"$f":"VLOOKUP(I4181,'[1]Sub Lookup'!$A$1:$B$65536,2,FALSE)","v":"Commissioned Service - Other"}]
["Kent County Council",12003826,"BEECH TREE TOTAL CARE LTD","2020-04-22",292.77,"S","5KG","Physical support - 65+ Long Term Support: Community: Home Care","530",{"$f":"VLOOKUP(I4190,'[1]Sub Lookup'!$A$1:$B$65536,2,FALSE)","v":"Commissioned Service - Other"}]
["Kent County Council",12003865,"BEECH TREE TOTAL CARE LTD","2020-04-22",354.93,"S","5KG","Physical support - 65+ Long Term Support: Community: Home Care","530",{"$f":"VLOOKUP(I4205,'[1]Sub Lookup'!$A$1:$B$65536,2,FALSE)","v":"Commissioned Service - Other"}]
["Kent County Council",12003973,"BEECH TREE TOTAL CARE LTD","2020-04-22",417.90000000000003,"S","5KG","Physical support - 65+ Long Term Support: Community: Home Care","530",{"$f":"VLOOKUP(I4221,'[1]Sub Lookup'!$A$1:$B$65536,2,FALSE)","v":"Commissioned Service - Other"}]
["Kent County Council",12004012,"BEECH TREE TOTAL CARE LTD","2020-04-22",255.5,"S","5KG","Physical support - 65+ Long Term Support: Community: Home Care","530",{"$f":"VLOOKUP(I4237,'[1]Sub Lookup'!$A$1:$B$65536,2,FALSE)","v":"Commissioned Service - Other"}]
["Kent County Council",12015331,"BEECH TREE TOTAL CARE LTD","2020-04-29",510.86,"S","5KG","Physical support - 65+ Long Term Support: Community: Home Care","530",{"$f":"VLOOKUP(I4249,'[1]Sub Lookup'!$A$1:$B$65536,2,FALSE)","v":"Commissioned Service - Other"}]
["Kent County Council",12015343,"BEECH TREE TOTAL CARE LTD","2020-04-29",278.60000000000002,"S","5KG","Physical support - 65+ Long Term Support: Community: Home Care","530",{"$f":"VLOOKUP(I4256,'[1]Sub Lookup'!$A$1:$B$65536,2,FALSE)","v":"Commissioned Service - Other"}]
["Kent County Council",12015346,"BEECH TREE TOTAL CARE LTD","2020-04-29",417.90000000000003,"S","5KG","Physical support - 65+ Long Term Support: Community: Home Care","530",{"$f":"VLOOKUP(I4273,'[1]Sub Lookup'!$A$1:$B$65536,2,FALSE)","v":"Commissioned Service - Other"}]
["Kent County Council",12016091,"BEECH TREE TOTAL CARE LTD","2020-04-29",510.86,"S","5KG","Physical support - 65+ Long Term Support: Community: Home Care","530",{"$f":"VLOOKUP(I4280,'[1]Sub Lookup'!$A$1:$B$65536,2,FALSE)","v":"Commissioned Service - Other"}]
["Kent County Council",12015329,"BEECH TREE TOTAL CARE LTD","2020-04-29",417.90000000000003,"S","5KG","Physical support - 65+ Long Term Support: Community: Home Care","530",{"$f":"VLOOKUP(I4303,'[1]Sub Lookup'!$A$1:$B$65536,2,FALSE)","v":"Commissioned Service - Other"}]
["Kent County Council",12016912,"BEECH TREE TOTAL CARE LTD","2020-04-29",501.27000000000004,"S","5JG","Physical Support - 18 64 Long Term Support: Community: Home Care","530",{"$f":"VLOOKUP(I4317,'[1]Sub Lookup'!$A$1:$B$65536,2,FALSE)","v":"Commissioned Service - Other"}]
["Kent County Council",11966132,"BEECHCARE CENTRES","2020-04-01",626.82000000000005,"S","5KA","Physical support - 65+ Long Term Support: Residential","530",{"$f":"VLOOKUP(I4322,'[1]Sub Lookup'!$A$1:$B$65536,2,FALSE)","v":"Commissioned Service - Other"}]
["Kent County Council",11966128,"BEECHCARE CENTRES","2020-04-01",1478.53,"S","9AR","Revenue Balance Sheet","BEA",{"$f":"VLOOKUP(I4341,'[1]Sub Lookup'!$A$1:$B$65536,2,FALSE)","v":"Payments in Advance - General"}]
["Kent County Council",11966122,"BEECHCARE CENTRES","2020-04-01",2130.1999999999998,"S","5JA","Physical Support - 18 64 Long Term Support: Residential","530",{"$f":"VLOOKUP(I4348,'[1]Sub Lookup'!$A$1:$B$65536,2,FALSE)","v":"Commissioned Service - Other"}]
["Kent County Council",11973512,"BEECHFIELDS","2020-04-03",3200,"S","5KA","Physical support - 65+ Long Term Support: Residential","530",{"$f":"VLOOKUP(I4369,'[1]Sub Lookup'!$A$1:$B$65536,2,FALSE)","v":"Commissioned Service - Other"}]
["Kent County Council",11984470,"BEECHWOOD SACRED HEART PREP SCHOOL","2020-04-14",7270.56,"E","1KA","School Resources","528",{"$f":"VLOOKUP(I4372,'[1]Sub Lookup'!$A$1:$B$65536,2,FALSE)","v":"Early Years Education"}]
["Kent County Council",12018010,"BELMONT HEALTHCARE (HASLINGTON) LTD","2020-04-29",8930.06,"S","5XC","Commissioning & Service Delivery","530",{"$f":"VLOOKUP(I4398,'[1]Sub Lookup'!$A$1:$B$65536,2,FALSE)","v":"Commissioned Service - Other"}]
["Kent County Council",11996572,"BEMIX CIC","2020-04-24",402.72,"S","5AJ","Learning Disability Support - 18 64 Long Term Support: Community: Day Care","530",{"$f":"VLOOKUP(I4409,'[1]Sub Lookup'!$A$1:$B$65536,2,FALSE)","v":"Commissioned Service - Other"}]
["Kent County Council",11970019,"BEN COTTERILL T/A ONE MAN AND HIS DOG","2020-04-01",475.5,"P","7PD","Flood Risk & Natural Environment","350",{"$f":"VLOOKUP(I4416,'[1]Sub Lookup'!$A$1:$B$65536,2,FALSE)","v":"Printing and photocopying"}]
["Kent County Council",11982857,"BERTIE'S NURSERY - BERTIE'S NURSERY LTD","2020-04-09",620.64,"E","1KA","School Resources","528",{"$f":"VLOOKUP(I4435,'[1]Sub Lookup'!$A$1:$B$65536,2,FALSE)","v":"Early Years Education"}]
["Kent County Council",11970585,"BETHANY HOUSE NURSING HOME","2020-04-01",4614.5600000000004,"S","5JA","Physical Support - 18 64 Long Term Support: Residential","530",{"$f":"VLOOKUP(I4440,'[1]Sub Lookup'!$A$1:$B$65536,2,FALSE)","v":"Commissioned Service - Other"}]
["Kent County Council",12018801,"BETHANY LODGE KENT LTD","2020-04-29",3899.04,"S","5BA","Learning Disability Support - 65+ Long Term Support: Residential","530",{"$f":"VLOOKUP(I4464,'[1]Sub Lookup'!$A$1:$B$65536,2,FALSE)","v":"Commissioned Service - Other"}]
["Kent County Council",11970579,"BETSY CLARA HOUSE","2020-04-01",3002.7400000000002,"S","5KB","Physical support - 65+ Long Term Support: Nursing","530",{"$f":"VLOOKUP(I4477,'[1]Sub Lookup'!$A$1:$B$65536,2,FALSE)","v":"Commissioned Service - Other"}]
["Kent County Council",11970578,"BETSY CLARA HOUSE","2020-04-01",991.67000000000007,"S","5KB","Physical support - 65+ Long Term Support: Nursing","530",{"$f":"VLOOKUP(I4484,'[1]Sub Lookup'!$A$1:$B$65536,2,FALSE)","v":"Commissioned Service - Other"}]
["Kent County Council",12008402,"BETSY CLARA HOUSE","2020-04-24",2289.2000000000003,"S","5TB","Support with Memory & Cognition - 65+ Long Term Support: Nursing","530",{"$f":"VLOOKUP(I4501,'[1]Sub Lookup'!$A$1:$B$65536,2,FALSE)","v":"Commissioned Service - Other"}]
["Kent County Council",12008402,"BETSY CLARA HOUSE","2020-04-24",3240,"S","5BA","Learning Disability Support - 65+ Long Term Support: Residential","530",{"$f":"VLOOKUP(I4508,'[1]Sub Lookup'!$A$1:$B$65536,2,FALSE)","v":"Commissioned Service - Other"}]
["Kent County Council",12009075,"BGT STATION CARS LTD T/A BOROUGH GREEN TAXIS","2020-04-24",617.81000000000006,"S","5AJ","Learning Disability Support - 18 64 Long Term Support: Community: Day Care","232",{"$f":"VLOOKUP(I4530,'[1]Sub Lookup'!$A$1:$B$65536,2,FALSE)","v":"Public Transport (Clients)"}]
["Kent County Council",11984023,"BIFFA MUNICIPAL LTD","2020-04-20",23673.77,"P","7WF","Transfer Stations","523",{"$f":"VLOOKUP(I4545,'[1]Sub Lookup'!$A$1:$B$65536,2,FALSE)","v":"Private Contractors"}]
["Kent County Council",11990381,"BIFFA MUNICIPAL LTD","2020-04-21",11129.11,"P","7WG","Household Waste Recycling Centres","523",{"$f":"VLOOKUP(I4552,'[1]Sub Lookup'!$A$1:$B$65536,2,FALSE)","v":"Private Contractors"}]
["Kent County Council",12005004,"BIRCHWOOD CARE SERVICES","2020-04-23",732,"S","5KG","Physical support - 65+ Long Term Support: Community: Home Care","530",{"$f":"VLOOKUP(I4563,'[1]Sub Lookup'!$A$1:$B$65536,2,FALSE)","v":"Commissioned Service - Other"}]
["Kent County Council",12005148,"BIRCHWOOD CARE SERVICES","2020-04-23",366,"S","5JG","Physical Support - 18 64 Long Term Support: Community: Home Care","530",{"$f":"VLOOKUP(I4576,'[1]Sub Lookup'!$A$1:$B$65536,2,FALSE)","v":"Commissioned Service - Other"}]
["Kent County Council",12019578,"BIRCHWOOD CARE SERVICES","2020-04-30",258,"S","5KG","Physical support - 65+ Long Term Support: Community: Home Care","530",{"$f":"VLOOKUP(I4596,'[1]Sub Lookup'!$A$1:$B$65536,2,FALSE)","v":"Commissioned Service - Other"}]
["Kent County Council",12019582,"BIRCHWOOD CARE SERVICES","2020-04-30",954,"S","5KG","Physical support - 65+ Long Term Support: Community: Home Care","530",{"$f":"VLOOKUP(I4600,'[1]Sub Lookup'!$A$1:$B$65536,2,FALSE)","v":"Commissioned Service - Other"}]
["Kent County Council",11984205,"BIRDS FAMILY FUNERAL DIRECTORS","2020-04-14",3910,"K","2RF","Coroners","401",{"$f":"VLOOKUP(I4620,'[1]Sub Lookup'!$A$1:$B$65536,2,FALSE)","v":"Specialists Fees"}]
["Kent County Council",11989208,"BIRKIN LODGE CARE HOME - ALLIANCE CARE (DALES) LIMITED","2020-04-29",-2600,"S","5KB","Physical support - 65+ Long Term Support: Nursing","530",{"$f":"VLOOKUP(I4629,'[1]Sub Lookup'!$A$1:$B$65536,2,FALSE)","v":"Commissioned Service - Other"}]
["Kent County Council",12008740,"BIRTLEY HOUSE (KENT) LTD","2020-04-27",5887,"E","1PA","Additional Educational Needs and Resources","530",{"$f":"VLOOKUP(I4644,'[1]Sub Lookup'!$A$1:$B$65536,2,FALSE)","v":"Commissioned Service - Other"}]
["Kent County Council",12008578,"BIRTLEY HOUSE (KENT) LTD","2020-04-27",5347,"E","1PA","Additional Educational Needs and Resources","530",{"$f":"VLOOKUP(I4662,'[1]Sub Lookup'!$A$1:$B$65536,2,FALSE)","v":"Commissioned Service - Other"}]
["Kent County Council",11997451,"BJL LIMITED T/A AIRPORT CRUISE TRANSFERS","2020-04-20",5692.5,"E","1RX","Admissions & Transport","222",{"$f":"VLOOKUP(I4668,'[1]Sub Lookup'!$A$1:$B$65536,2,FALSE)","v":"Home to School Transport - Hired"}]
["Kent County Council",11964869,"BLAIR PARK RESIDENTIAL HOME","2020-04-01",698.93000000000006,"S","5KA","Physical support - 65+ Long Term Support: Residential","530",{"$f":"VLOOKUP(I4688,'[1]Sub Lookup'!$A$1:$B$65536,2,FALSE)","v":"Commissioned Service - Other"}]
["Kent County Council",11964866,"BLAIR PARK RESIDENTIAL HOME","2020-04-01",1475.51,"S","9AR","Revenue Balance Sheet","BEA",{"$f":"VLOOKUP(I4695,'[1]Sub Lookup'!$A$1:$B$65536,2,FALSE)","v":"Payments in Advance - General"}]
["Kent County Council",12008522,"BLAIR PARK RESIDENTIAL HOME","2020-04-29",2220,"S","5KA","Physical support - 65+ Long Term Support: Residential","530",{"$f":"VLOOKUP(I4712,'[1]Sub Lookup'!$A$1:$B$65536,2,FALSE)","v":"Commissioned Service - Other"}]
["Kent County Council",11971440,"BLOSSOMS CARE HOME LTD","2020-04-02",1923.96,"S","5SA","Support with Memory & Cognition - 18 64 Long Term Support: Residential","530",{"$f":"VLOOKUP(I4728,'[1]Sub Lookup'!$A$1:$B$65536,2,FALSE)","v":"Commissioned Service - Other"}]
["Kent County Council",11967181,"BLOSSOMS CARE SERVICES LTD","2020-04-01",8404.1,"S","5XC","Commissioning & Service Delivery","530",{"$f":"VLOOKUP(I4740,'[1]Sub Lookup'!$A$1:$B$65536,2,FALSE)","v":"Commissioned Service - Other"}]
["Kent County Council",11973582,"BLOSSOMS CARE SERVICES LTD","2020-04-03",3713.92,"S","5AH","Learning Disability Support - 18 64 Long Term Support: Community: Supported Living","530",{"$f":"VLOOKUP(I4756,'[1]Sub Lookup'!$A$1:$B$65536,2,FALSE)","v":"Commissioned Service - Other"}]
["Kent County Council",11973565,"BLOSSOMS CARE SERVICES LTD","2020-04-03",6487.88,"S","5BH","Learning Disability Support - 65+ Long Term Support: Community: Supported Living","530",{"$f":"VLOOKUP(I4761,'[1]Sub Lookup'!$A$1:$B$65536,2,FALSE)","v":"Commissioned Service - Other"}]
["Kent County Council",11976644,"BLOSSOMS CARE SERVICES LTD","2020-04-06",406.8,"S","5JH","Physical Support - 18 64 Long Term Support: Community: Supported Living","530",{"$f":"VLOOKUP(I4780,'[1]Sub Lookup'!$A$1:$B$65536,2,FALSE)","v":"Commissioned Service - Other"}]
["Kent County Council",11979705,"BLOSSOMS CARE SERVICES LTD","2020-04-17",849.24,"S","5KG","Physical support - 65+ Long Term Support: Community: Home Care","530",{"$f":"VLOOKUP(I4794,'[1]Sub Lookup'!$A$1:$B$65536,2,FALSE)","v":"Commissioned Service - Other"}]
["Kent County Council",12011060,"BLOSSOMS CARE SERVICES LTD","2020-04-27",341.04,"S","5EH","Mental Health Support - 18 64 Long Term Support: Community: Supported Living","530",{"$f":"VLOOKUP(I4808,'[1]Sub Lookup'!$A$1:$B$65536,2,FALSE)","v":"Commissioned Service - Other"}]
["Kent County Council",12017744,"BLOSSOMS CARE SERVICES LTD","2020-04-29",24639.75,"S","5XC","Commissioning & Service Delivery","530",{"$f":"VLOOKUP(I4824,'[1]Sub Lookup'!$A$1:$B$65536,2,FALSE)","v":"Commissioned Service - Other"}]
["Kent County Council",11984021,"BLOSSOMS TRADING LIMITED T/A CLARITY HOMECARE","2020-04-14",903,"S","5KG","Physical support - 65+ Long Term Support: Community: Home Care","530",{"$f":"VLOOKUP(I4827,'[1]Sub Lookup'!$A$1:$B$65536,2,FALSE)","v":"Commissioned Service - Other"}]
["Kent County Council",11989658,"BLUEBELLS PTY LTD T/A BLUEBELLS GUEST HOUSE","2020-04-20",3552,"S","35L","Section 17","441",{"$f":"VLOOKUP(I4852,'[1]Sub Lookup'!$A$1:$B$65536,2,FALSE)","v":"Subsistence Expenses"}]
["Kent County Council",11957628,"BLUEBIRD CARE (ASHFORD & SWALE)","2020-04-03",509.28000000000003,"S","5KG","Physical support - 65+ Long Term Support: Community: Home Care","530",{"$f":"VLOOKUP(I4860,'[1]Sub Lookup'!$A$1:$B$65536,2,FALSE)","v":"Commissioned Service - Other"}]
["Kent County Council",11959683,"BLUEBIRD CARE (MAIDSTONE)","2020-04-03",445.64,"S","5KG","Physical support - 65+ Long Term Support: Community: Home Care","530",{"$f":"VLOOKUP(I4876,'[1]Sub Lookup'!$A$1:$B$65536,2,FALSE)","v":"Commissioned Service - Other"}]
["Kent County Council",11979730,"BLUEBIRD CARE (MAIDSTONE)","2020-04-17",1680,"S","5JG","Physical Support - 18 64 Long Term Support: Community: Home Care","530",{"$f":"VLOOKUP(I4892,'[1]Sub Lookup'!$A$1:$B$65536,2,FALSE)","v":"Commissioned Service - Other"}]
["Kent County Council",11959561,"BLUEBIRD CARE (TONBRIDGE & TUNBRIDGE WELLS)","2020-04-03",277.18,"S","5KG","Physical support - 65+ Long Term Support: Community: Home Care","530",{"$f":"VLOOKUP(I4907,'[1]Sub Lookup'!$A$1:$B$65536,2,FALSE)","v":"Commissioned Service - Other"}]
["Kent County Council",11979974,"BLUEBIRD CARE (TONBRIDGE & TUNBRIDGE WELLS)","2020-04-17",842.08,"S","5KG","Physical support - 65+ Long Term Support: Community: Home Care","530",{"$f":"VLOOKUP(I4920,'[1]Sub Lookup'!$A$1:$B$65536,2,FALSE)","v":"Commissioned Service - Other"}]
["Kent County Council",11967183,"BLUEBIRD CARE CANTERBURY & THANET","2020-04-01",1247.07,"S","5XC","Commissioning & Service Delivery","530",{"$f":"VLOOKUP(I4926,'[1]Sub Lookup'!$A$1:$B$65536,2,FALSE)","v":"Commissioned Service - Other"}]
["Kent County Council",11957420,"BLUEBIRD CARE GRAVESHAM & DARTFORD","2020-04-03",1420.09,"S","5KG","Physical support - 65+ Long Term Support: Community: Home Care","530",{"$f":"VLOOKUP(I4944,'[1]Sub Lookup'!$A$1:$B$65536,2,FALSE)","v":"Commissioned Service - Other"}]
["Kent County Council",11969948,"BOLDGLEN LTD","2020-04-01",600.6,"S","5KG","Physical support - 65+ Long Term Support: Community: Home Care","530",{"$f":"VLOOKUP(I4960,'[1]Sub Lookup'!$A$1:$B$65536,2,FALSE)","v":"Commissioned Service - Other"}]
["Kent County Council",11981880,"BOLDGLEN LTD","2020-04-08",277.2,"S","5KG","Physical support - 65+ Long Term Support: Community: Home Care","530",{"$f":"VLOOKUP(I4973,'[1]Sub Lookup'!$A$1:$B$65536,2,FALSE)","v":"Commissioned Service - Other"}]
["Kent County Council",11981820,"BOLDGLEN LTD","2020-04-08",554.4,"S","5KG","Physical support - 65+ Long Term Support: Community: Home Care","530",{"$f":"VLOOKUP(I4975,'[1]Sub Lookup'!$A$1:$B$65536,2,FALSE)","v":"Commissioned Service - Other"}]
["Kent County Council",11992059,"BOLDGLEN LTD","2020-04-15",333.48,"S","5KG","Physical support - 65+ Long Term Support: Community: Home Care","530",{"$f":"VLOOKUP(I4992,'[1]Sub Lookup'!$A$1:$B$65536,2,FALSE)","v":"Commissioned Service - Other"}]
["Kent County Council",12008063,"BOLDGLEN LTD","2020-04-24",333.48,"S","5KG","Physical support - 65+ Long Term Support: Community: Home Care","530",{"$f":"VLOOKUP(I5012,'[1]Sub Lookup'!$A$1:$B$65536,2,FALSE)","v":"Commissioned Service - Other"}]
["Kent County Council",12017380,"BOLDGLEN LTD","2020-04-29",524.02,"S","5KG","Physical support - 65+ Long Term Support: Community: Home Care","530",{"$f":"VLOOKUP(I5019,'[1]Sub Lookup'!$A$1:$B$65536,2,FALSE)","v":"Commissioned Service - Other"}]
["Kent County Council",11977647,"BOOKER CASH & CARRY","2020-04-09",1670.3,"S","5KP","Physical support - 65+ Short Term - Maximising Independence - Residential","340",{"$f":"VLOOKUP(I5039,'[1]Sub Lookup'!$A$1:$B$65536,2,FALSE)","v":"Catering Provisions and Catering Equipment"}]
["Kent County Council",11996788,"BOOKER CASH & CARRY","2020-04-23",422.96000000000004,"S","5KP","Physical support - 65+ Short Term - Maximising Independence - Residential","340",{"$f":"VLOOKUP(I5043,'[1]Sub Lookup'!$A$1:$B$65536,2,FALSE)","v":"Catering Provisions and Catering Equipment"}]
["Kent County Council",11992409,"BOUGHTON-UNDER-BLEAN VLLAGE HLL MNGMNT CTTEE","2020-04-16",1200,"C","2LC","Libraries, Registration & Archives","120",{"$f":"VLOOKUP(I5058,'[1]Sub Lookup'!$A$1:$B$65536,2,FALSE)","v":"External - Rent, Room Hire & Service Charges"}]
["Kent County Council",11979675,"BOUYGUES E&S INFRASTUCTURE UK LIMITED","2020-04-07",504.19,"P","7HB","Highways Routine","523",{"$f":"VLOOKUP(I5080,'[1]Sub Lookup'!$A$1:$B$65536,2,FALSE)","v":"Private Contractors"}]
["Kent County Council",11979675,"BOUYGUES E&S INFRASTUCTURE UK LIMITED","2020-04-07",40262.870000000003,"P","7HN","Street Lighting Maintenance","523",{"$f":"VLOOKUP(I5087,'[1]Sub Lookup'!$A$1:$B$65536,2,FALSE)","v":"Private Contractors"}]
["Kent County Council",12017760,"BOWERCROFT CARE LTD","2020-04-29",3322.35,"S","5XC","Commissioning & Service Delivery","530",{"$f":"VLOOKUP(I5105,'[1]Sub Lookup'!$A$1:$B$65536,2,FALSE)","v":"Commissioned Service - Other"}]
["Kent County Council",11967201,"BRADFIELD RES. HOME","2020-04-01",714.49,"S","5XC","Commissioning & Service Delivery","530",{"$f":"VLOOKUP(I5111,'[1]Sub Lookup'!$A$1:$B$65536,2,FALSE)","v":"Commissioned Service - Other"}]
["Kent County Council",11955739,"BRAEBURN CARE LTD","2020-04-24",373.40000000000003,"S","5KG","Physical support - 65+ Long Term Support: Community: Home Care","530",{"$f":"VLOOKUP(I5134,'[1]Sub Lookup'!$A$1:$B$65536,2,FALSE)","v":"Commissioned Service - Other"}]
["Kent County Council",12000804,"BRAEBURN CARE LTD","2020-04-24",436.5,"S","5KG","Physical support - 65+ Long Term Support: Community: Home Care","530",{"$f":"VLOOKUP(I5148,'[1]Sub Lookup'!$A$1:$B$65536,2,FALSE)","v":"Commissioned Service - Other"}]
["Kent County Council",11993576,"BRAEBURN CARE LTD","2020-04-24",414.42,"S","5KG","Physical support - 65+ Long Term Support: Community: Home Care","530",{"$f":"VLOOKUP(I5155,'[1]Sub Lookup'!$A$1:$B$65536,2,FALSE)","v":"Commissioned Service - Other"}]
["Kent County Council",11973675,"BRAEBURN CARE LTD","2020-04-24",314.61,"S","5KG","Physical support - 65+ Long Term Support: Community: Home Care","530",{"$f":"VLOOKUP(I5171,'[1]Sub Lookup'!$A$1:$B$65536,2,FALSE)","v":"Commissioned Service - Other"}]
["Kent County Council",11993542,"BRAEBURN CARE LTD","2020-04-24",470.12,"S","5KG","Physical support - 65+ Long Term Support: Community: Home Care","530",{"$f":"VLOOKUP(I5179,'[1]Sub Lookup'!$A$1:$B$65536,2,FALSE)","v":"Commissioned Service - Other"}]
["Kent County Council",11974160,"BRAEBURN CARE LTD","2020-04-24",284.16000000000003,"S","5KG","Physical support - 65+ Long Term Support: Community: Home Care","530",{"$f":"VLOOKUP(I5200,'[1]Sub Lookup'!$A$1:$B$65536,2,FALSE)","v":"Commissioned Service - Other"}]
["Kent County Council",11971664,"BRAEBURN CARE LTD","2020-04-24",332.32,"S","5KG","Physical support - 65+ Long Term Support: Community: Home Care","530",{"$f":"VLOOKUP(I5203,'[1]Sub Lookup'!$A$1:$B$65536,2,FALSE)","v":"Commissioned Service - Other"}]
["Kent County Council",11994261,"BRAINS MATTER","2020-04-24",250,"S","5JJ","Physical Support - 18 64 Long Term Support: Community: Day Care","520",{"$f":"VLOOKUP(I5223,'[1]Sub Lookup'!$A$1:$B$65536,2,FALSE)","v":"Voluntary Associations"}]
["Kent County Council",11971329,"BRAMBLING HOUSE","2020-04-02",1192.92,"S","5TA","Support with Memory & Cognition - 65+ Long Term Support: Residential","530",{"$f":"VLOOKUP(I5237,'[1]Sub Lookup'!$A$1:$B$65536,2,FALSE)","v":"Commissioned Service - Other"}]
["Kent County Council",11971328,"BRAMBLING HOUSE","2020-04-02",5006.82,"S","5KA","Physical support - 65+ Long Term Support: Residential","530",{"$f":"VLOOKUP(I5247,'[1]Sub Lookup'!$A$1:$B$65536,2,FALSE)","v":"Commissioned Service - Other"}]
["Kent County Council",11970286,"BRAMBLING LODGE","2020-04-01",1566.5,"S","9AR","Revenue Balance Sheet","BEA",{"$f":"VLOOKUP(I5267,'[1]Sub Lookup'!$A$1:$B$65536,2,FALSE)","v":"Payments in Advance - General"}]
["Kent County Council",11970286,"BRAMBLING LODGE","2020-04-01",2582.4700000000003,"S","9AR","Revenue Balance Sheet","BEA",{"$f":"VLOOKUP(I5270,'[1]Sub Lookup'!$A$1:$B$65536,2,FALSE)","v":"Payments in Advance - General"}]
["Kent County Council",12017487,"BRAMBLINGS KENT LTD","2020-04-29",2671.2400000000002,"S","5KU","Physical support - 65+ Short Term - Other - Residential","530",{"$f":"VLOOKUP(I5291,'[1]Sub Lookup'!$A$1:$B$65536,2,FALSE)","v":"Commissioned Service - Other"}]
["Kent County Council",12017769,"BRAMPTON CARE LTD T/A BRAMPTON LODGE","2020-04-29",920,"S","5XC","Commissioning & Service Delivery","530",{"$f":"VLOOKUP(I5299,'[1]Sub Lookup'!$A$1:$B$65536,2,FALSE)","v":"Commissioned Service - Other"}]
["Kent County Council",12017773,"BRETON COURT- A BETTER CAREHOME LTD","2020-04-29",3387.86,"S","5XC","Commissioning & Service Delivery","530",{"$f":"VLOOKUP(I5315,'[1]Sub Lookup'!$A$1:$B$65536,2,FALSE)","v":"Commissioned Service - Other"}]
["Kent County Council",12017777,"BRIGHT CARE LTD","2020-04-29",3340.23,"S","5XC","Commissioning & Service Delivery","530",{"$f":"VLOOKUP(I5335,'[1]Sub Lookup'!$A$1:$B$65536,2,FALSE)","v":"Commissioned Service - Other"}]
["Kent County Council",11985291,"BRIGHT HORIZONS MAIDSTONE DAY NURSERY AND PRESCHOOL - BHFS LTD","2020-04-14",31560.75,"E","1KA","School Resources","528",{"$f":"VLOOKUP(I5336,'[1]Sub Lookup'!$A$1:$B$65536,2,FALSE)","v":"Early Years Education"}]
["Kent County Council",11997133,"BRIGHTSTART PRESCHOOL","2020-04-20",262.35000000000002,"E","1KA","School Resources","528",{"$f":"VLOOKUP(I5359,'[1]Sub Lookup'!$A$1:$B$65536,2,FALSE)","v":"Early Years Education"}]
["Kent County Council",12001325,"BRITANNIA COACHES LIMITED","2020-04-22",3967.7000000000003,"E","1RX","Admissions & Transport","222",{"$f":"VLOOKUP(I5365,'[1]Sub Lookup'!$A$1:$B$65536,2,FALSE)","v":"Home to School Transport - Hired"}]
["Kent County Council",12001321,"BRITANNIA COACHES LIMITED","2020-04-22",4898.08,"E","1RX","Admissions & Transport","222",{"$f":"VLOOKUP(I5383,'[1]Sub Lookup'!$A$1:$B$65536,2,FALSE)","v":"Home to School Transport - Hired"}]
["Kent County Council",11981956,"BRITISH FIRE ADVISORY SERVICES LIMITED","2020-04-24",336,"C","8DP","Property","401",{"$f":"VLOOKUP(I5390,'[1]Sub Lookup'!$A$1:$B$65536,2,FALSE)","v":"Specialists Fees"}]
["Kent County Council",11964965,"BROMFIELD HOUSE RESIDENTIAL HOME LTD","2020-04-01",771.43000000000006,"S","5KA","Physical support - 65+ Long Term Support: Residential","530",{"$f":"VLOOKUP(I5416,'[1]Sub Lookup'!$A$1:$B$65536,2,FALSE)","v":"Commissioned Service - Other"}]
["Kent County Council",11966457,"BROOK HOUSE","2020-04-01",6509.4000000000005,"S","5XC","Commissioning & Service Delivery","530",{"$f":"VLOOKUP(I5427,'[1]Sub Lookup'!$A$1:$B$65536,2,FALSE)","v":"Commissioned Service - Other"}]
["Kent County Council",11964721,"BROOK HOUSE","2020-04-01",1742.68,"S","5BA","Learning Disability Support - 65+ Long Term Support: Residential","530",{"$f":"VLOOKUP(I5431,'[1]Sub Lookup'!$A$1:$B$65536,2,FALSE)","v":"Commissioned Service - Other"}]
["Kent County Council",11969842,"BROOKLANDS HOMECARE LTD","2020-04-01",687.96,"S","5KG","Physical support - 65+ Long Term Support: Community: Home Care","530",{"$f":"VLOOKUP(I5451,'[1]Sub Lookup'!$A$1:$B$65536,2,FALSE)","v":"Commissioned Service - Other"}]
["Kent County Council",11973316,"BROOKLANDS HOMECARE LTD","2020-04-03",264.60000000000002,"S","5JG","Physical Support - 18 64 Long Term Support: Community: Home Care","530",{"$f":"VLOOKUP(I5458,'[1]Sub Lookup'!$A$1:$B$65536,2,FALSE)","v":"Commissioned Service - Other"}]
["Kent County Council",12013931,"BROOMFIELD LODGE NURSING HOME","2020-04-28",2498.64,"S","5KA","Physical support - 65+ Long Term Support: Residential","530",{"$f":"VLOOKUP(I5478,'[1]Sub Lookup'!$A$1:$B$65536,2,FALSE)","v":"Commissioned Service - Other"}]
["Kent County Council",12005250,"BROWNE JACOBSON LLP","2020-04-23",551,"C","8DR","Corporate Landlord","404",{"$f":"VLOOKUP(I5495,'[1]Sub Lookup'!$A$1:$B$65536,2,FALSE)","v":"Legal Fees"}]
["Kent County Council",12005805,"BROWNE JACOBSON LLP","2020-04-23",3652.6,"C","8DP","Property","401",{"$f":"VLOOKUP(I5497,'[1]Sub Lookup'!$A$1:$B$65536,2,FALSE)","v":"Specialists Fees"}]
["Kent County Council",11967216,"BUPA CARE SERVICES LIMITED","2020-04-01",2475.3000000000002,"S","5XC","Commissioning & Service Delivery","530",{"$f":"VLOOKUP(I5519,'[1]Sub Lookup'!$A$1:$B$65536,2,FALSE)","v":"Commissioned Service - Other"}]
["Kent County Council",11966875,"BUPA CARE SERVICES LIMITED","2020-04-01",617.04,"S","5XC","Commissioning & Service Delivery","530",{"$f":"VLOOKUP(I5526,'[1]Sub Lookup'!$A$1:$B$65536,2,FALSE)","v":"Commissioned Service - Other"}]
["Kent County Council",11976748,"BUPA CARE SERVICES LIMITED","2020-04-06",1807.16,"S","5KA","Physical support - 65+ Long Term Support: Residential","530",{"$f":"VLOOKUP(I5544,'[1]Sub Lookup'!$A$1:$B$65536,2,FALSE)","v":"Commissioned Service - Other"}]
["Kent County Council",11989372,"BUPA CARE SERVICES LIMITED","2020-04-14",2447.59,"S","5KB","Physical support - 65+ Long Term Support: Nursing","530",{"$f":"VLOOKUP(I5563,'[1]Sub Lookup'!$A$1:$B$65536,2,FALSE)","v":"Commissioned Service - Other"}]
["Kent County Council",11970215,"BUPA CARE SERVICES LIMITED","2020-04-29",-1432,"S","9AR","Revenue Balance Sheet","BEA",{"$f":"VLOOKUP(I5577,'[1]Sub Lookup'!$A$1:$B$65536,2,FALSE)","v":"Payments in Advance - General"}]
["Kent County Council",12018372,"BUPA CARE SERVICES LIMITED","2020-04-29",10850.28,"S","5XC","Commissioning & Service Delivery","530",{"$f":"VLOOKUP(I5578,'[1]Sub Lookup'!$A$1:$B$65536,2,FALSE)","v":"Commissioned Service - Other"}]
["Kent County Council",12006680,"BUREAUCOM LTD","2020-04-23",1752.64,"S","5KA","Physical support - 65+ Long Term Support: Residential","530",{"$f":"VLOOKUP(I5594,'[1]Sub Lookup'!$A$1:$B$65536,2,FALSE)","v":"Commissioned Service - Other"}]
["Kent County Council",11984958,"BUSY BEES DAY NURSERY AT ASHFORD  - BBN LTD","2020-04-14",26334.36,"E","1KA","School Resources","528",{"$f":"VLOOKUP(I5610,'[1]Sub Lookup'!$A$1:$B$65536,2,FALSE)","v":"Early Years Education"}]
["Kent County Council",12006437,"BUSY BEES DAY NURSERY AT MAIDSTONE ALLINGTON","2020-04-23",265.08,"E","1PA","Additional Educational Needs and Resources","528",{"$f":"VLOOKUP(I5618,'[1]Sub Lookup'!$A$1:$B$65536,2,FALSE)","v":"Early Years Education"}]
["Kent County Council",11997308,"BY THE BRIDGE","2020-04-20",-289.5,"S","35R","IS Fostering","527",{"$f":"VLOOKUP(I5643,'[1]Sub Lookup'!$A$1:$B$65536,2,FALSE)","v":"Services"}]
["Kent County Council",11983290,"BY THE BRIDGE","2020-04-21",12385.92,"S","35R","IS Fostering","527",{"$f":"VLOOKUP(I5646,'[1]Sub Lookup'!$A$1:$B$65536,2,FALSE)","v":"Services"}]
["Kent County Council",12001053,"C J S TAXIS","2020-04-22",740,"E","1RX","Admissions & Transport","222",{"$f":"VLOOKUP(I5662,'[1]Sub Lookup'!$A$1:$B$65536,2,FALSE)","v":"Home to School Transport - Hired"}]
["Kent County Council",12001297,"CAB LINE 6 LIMITED","2020-04-22",816.49,"S","5AJ","Learning Disability Support - 18 64 Long Term Support: Community: Day Care","232",{"$f":"VLOOKUP(I5676,'[1]Sub Lookup'!$A$1:$B$65536,2,FALSE)","v":"Public Transport (Clients)"}]
["Kent County Council",12001288,"CAB LINE 6 LIMITED","2020-04-22",2380,"E","1RX","Admissions & Transport","222",{"$f":"VLOOKUP(I5686,'[1]Sub Lookup'!$A$1:$B$65536,2,FALSE)","v":"Home to School Transport - Hired"}]
["Kent County Council",12001267,"CAB LINE 6 LIMITED","2020-04-22",2872,"E","1RX","Admissions & Transport","222",{"$f":"VLOOKUP(I5709,'[1]Sub Lookup'!$A$1:$B$65536,2,FALSE)","v":"Home to School Transport - Hired"}]
["Kent County Council",12001272,"CAB LINE 6 LIMITED","2020-04-22",1665,"E","1RX","Admissions & Transport","222",{"$f":"VLOOKUP(I5714,'[1]Sub Lookup'!$A$1:$B$65536,2,FALSE)","v":"Home to School Transport - Hired"}]
["Kent County Council",12008990,"REDACTED - Personal Payment","2020-04-24",2528,"S","35H","Fostering NR Payments","232",{"$f":"VLOOKUP(I5730,'[1]Sub Lookup'!$A$1:$B$65536,2,FALSE)","v":"Public Transport (Clients)"}]
["Kent County Council",11997320,"CAB-IT (SITTINGBOURNE) LTD","2020-04-20",351.5,"E","1RX","Admissions & Transport","222",{"$f":"VLOOKUP(I5742,'[1]Sub Lookup'!$A$1:$B$65536,2,FALSE)","v":"Home to School Transport - Hired"}]
["Kent County Council",12018851,"CALFORDSEADEN LLP","2020-04-30",366,"E","1TA","Capital - Primary Schools ES&PS","C04",{"$f":"VLOOKUP(I5758,'[1]Sub Lookup'!$A$1:$B$65536,2,FALSE)","v":"Design Fees - External"}]
["Kent County Council",11997262,"CAMBIAN CHILDCARE LTD","2020-04-20",24135.71,"S","31B","IS  Res Care Children","527",{"$f":"VLOOKUP(I5775,'[1]Sub Lookup'!$A$1:$B$65536,2,FALSE)","v":"Services"}]
["Kent County Council",11964811,"CAMELOT LODGE","2020-04-01",1776.23,"S","9AR","Revenue Balance Sheet","BEA",{"$f":"VLOOKUP(I5782,'[1]Sub Lookup'!$A$1:$B$65536,2,FALSE)","v":"Payments in Advance - General"}]
["Kent County Council",12017797,"CAMERON LODGE CARE","2020-04-29",6125.8600000000006,"S","5XC","Commissioning & Service Delivery","530",{"$f":"VLOOKUP(I5798,'[1]Sub Lookup'!$A$1:$B$65536,2,FALSE)","v":"Commissioned Service - Other"}]
["Kent County Council",12009313,"CANDICE EDUCATION SERVICES LTD T/A SMALL HAVEN SCHOOL","2020-04-27",6669.76,"E","1PA","Additional Educational Needs and Resources","530",{"$f":"VLOOKUP(I5808,'[1]Sub Lookup'!$A$1:$B$65536,2,FALSE)","v":"Commissioned Service - Other"}]
["Kent County Council",12009276,"CANDICE EDUCATION SERVICES LTD T/A SMALL HAVEN SCHOOL","2020-04-27",4563.5200000000004,"E","1PA","Additional Educational Needs and Resources","530",{"$f":"VLOOKUP(I5826,'[1]Sub Lookup'!$A$1:$B$65536,2,FALSE)","v":"Commissioned Service - Other"}]
["Kent County Council",12011389,"CANDICE EDUCATION SERVICES LTD T/A SMALL HAVEN SCHOOL","2020-04-28",6669.76,"E","1PA","Additional Educational Needs and Resources","530",{"$f":"VLOOKUP(I5841,'[1]Sub Lookup'!$A$1:$B$65536,2,FALSE)","v":"Commissioned Service - Other"}]
["Kent County Council",12014145,"CANDICE EDUCATION SERVICES LTD T/A SMALL HAVEN SCHOOL","2020-04-29",4563.5200000000004,"E","1PA","Additional Educational Needs and Resources","530",{"$f":"VLOOKUP(I5850,'[1]Sub Lookup'!$A$1:$B$65536,2,FALSE)","v":"Commissioned Service - Other"}]
["Kent County Council",12013979,"CANDICE EDUCATION SERVICES LTD T/A SMALL HAVEN SCHOOL","2020-04-30",6383.52,"E","1PA","Additional Educational Needs and Resources","530",{"$f":"VLOOKUP(I5866,'[1]Sub Lookup'!$A$1:$B$65536,2,FALSE)","v":"Commissioned Service - Other"}]
["Kent County Council",11957794,"CANTERBURY AND DISTRICT EARLY YEARS PROJECT","2020-04-14",5562.77,"S","36P","Children's Centres","401",{"$f":"VLOOKUP(I5874,'[1]Sub Lookup'!$A$1:$B$65536,2,FALSE)","v":"Specialists Fees"}]
["Kent County Council",11972002,"CANTERBURY CITY COUNCIL","2020-04-03",2261.0700000000002,"C","5WD","Social Support: Support for Carer LD Other","123",{"$f":"VLOOKUP(I5894,'[1]Sub Lookup'!$A$1:$B$65536,2,FALSE)","v":"National and Non Domestic Rates and Council Tax"}]
["Kent County Council",11971995,"CANTERBURY CITY COUNCIL","2020-04-03",998,"C","39C","Children Specialist Services","123",{"$f":"VLOOKUP(I5907,'[1]Sub Lookup'!$A$1:$B$65536,2,FALSE)","v":"National and Non Domestic Rates and Council Tax"}]
["Kent County Council",11905862,"CANTERBURY CITY COUNCIL","2020-04-24",-420.73,"S","32Q","Rented Accommodation Asylum 18+","123",{"$f":"VLOOKUP(I5918,'[1]Sub Lookup'!$A$1:$B$65536,2,FALSE)","v":"National and Non Domestic Rates and Council Tax"}]
["Kent County Council",11966645,"CANTERBURY OAST TRUST","2020-04-01",1055.75,"S","5XC","Commissioning & Service Delivery","530",{"$f":"VLOOKUP(I5938,'[1]Sub Lookup'!$A$1:$B$65536,2,FALSE)","v":"Commissioned Service - Other"}]
["Kent County Council",11966383,"CANTERBURY OAST TRUST","2020-04-01",7475.25,"S","5XC","Commissioning & Service Delivery","530",{"$f":"VLOOKUP(I5940,'[1]Sub Lookup'!$A$1:$B$65536,2,FALSE)","v":"Commissioned Service - Other"}]
["Kent County Council",11997204,"CANTERBURY OAST TRUST","2020-04-20",324.24,"S","5AJ","Learning Disability Support - 18 64 Long Term Support: Community: Day Care","530",{"$f":"VLOOKUP(I5962,'[1]Sub Lookup'!$A$1:$B$65536,2,FALSE)","v":"Commissioned Service - Other"}]
["Kent County Council",12000858,"CANTERBURY OAST TRUST","2020-04-21",3734.21,"S","5AA","Learning Disability Support - 18 64 Long Term Support: Residential","530",{"$f":"VLOOKUP(I5973,'[1]Sub Lookup'!$A$1:$B$65536,2,FALSE)","v":"Commissioned Service - Other"}]
["Kent County Council",12000876,"CANTERBURY OAST TRUST","2020-04-21",1152.1600000000001,"S","5AH","Learning Disability Support - 18 64 Long Term Support: Community: Supported Living","530",{"$f":"VLOOKUP(I5986,'[1]Sub Lookup'!$A$1:$B$65536,2,FALSE)","v":"Commissioned Service - Other"}]
["Kent County Council",12006732,"CANTERBURY OAST TRUST","2020-04-23",17403.61,"S","5AA","Learning Disability Support - 18 64 Long Term Support: Residential","530",{"$f":"VLOOKUP(I5993,'[1]Sub Lookup'!$A$1:$B$65536,2,FALSE)","v":"Commissioned Service - Other"}]
["Kent County Council",11737902,"CANTIUM BUSINESS SOLUTIONS LTD","2020-04-01",882.63,"S","5WQ","Assistive Equipment & Technology","303",{"$f":"VLOOKUP(I6006,'[1]Sub Lookup'!$A$1:$B$65536,2,FALSE)","v":"Computer and Other IT Expenditure (Software)"}]
["Kent County Council",11972621,"CANTIUM BUSINESS SOLUTIONS LTD","2020-04-03",1407.6000000000001,"P","7HG","Freedom Pass","303",{"$f":"VLOOKUP(I6030,'[1]Sub Lookup'!$A$1:$B$65536,2,FALSE)","v":"Computer and Other IT Expenditure (Software)"}]
["Kent County Council",11972621,"CANTIUM BUSINESS SOLUTIONS LTD","2020-04-03",375,"P","7HA","Highway Management","650",{"$f":"VLOOKUP(I6035,'[1]Sub Lookup'!$A$1:$B$65536,2,FALSE)","v":"Human Resources"}]
["Kent County Council",11972621,"CANTIUM BUSINESS SOLUTIONS LTD","2020-04-03",283.5,"E","1BM","Strategic Management","302",{"$f":"VLOOKUP(I6054,'[1]Sub Lookup'!$A$1:$B$65536,2,FALSE)","v":"Computer and Other IT Expenditure (Hardware)"}]
["Kent County Council",11972621,"CANTIUM BUSINESS SOLUTIONS LTD","2020-04-03",670,"S","36D","Virtual Schools Kent","307",{"$f":"VLOOKUP(I6061,'[1]Sub Lookup'!$A$1:$B$65536,2,FALSE)","v":"Computer and Other IT Expenditure (IT Technical/Installation Services)"}]
["Kent County Council",11972621,"CANTIUM BUSINESS SOLUTIONS LTD","2020-04-03",324.41000000000003,"S","34A","Children in Care Team","302",{"$f":"VLOOKUP(I6086,'[1]Sub Lookup'!$A$1:$B$65536,2,FALSE)","v":"Computer and Other IT Expenditure (Hardware)"}]
["Kent County Council",11972621,"CANTIUM BUSINESS SOLUTIONS LTD","2020-04-03",335,"S","38J","Children's Social Work Team (CSWT)","302",{"$f":"VLOOKUP(I6098,'[1]Sub Lookup'!$A$1:$B$65536,2,FALSE)","v":"Computer and Other IT Expenditure (Hardware)"}]
["Kent County Council",11972621,"CANTIUM BUSINESS SOLUTIONS LTD","2020-04-03",730,"S","38K","Childrens Area Assessment Admin","307",{"$f":"VLOOKUP(I6101,'[1]Sub Lookup'!$A$1:$B$65536,2,FALSE)","v":"Computer and Other IT Expenditure (IT Technical/Installation Services)"}]
["Kent County Council",11972621,"CANTIUM BUSINESS SOLUTIONS LTD","2020-04-03",275,"S","35T","County Adoption Team","302",{"$f":"VLOOKUP(I6122,'[1]Sub Lookup'!$A$1:$B$65536,2,FALSE)","v":"Computer and Other IT Expenditure (Hardware)"}]
["Kent County Council",11972621,"CANTIUM BUSINESS SOLUTIONS LTD","2020-04-03",1050,"S","38X","Disabled Children's Services Unit Staffing (assessment)","307",{"$f":"VLOOKUP(I6129,'[1]Sub Lookup'!$A$1:$B$65536,2,FALSE)","v":"Computer and Other IT Expenditure (IT Technical/Installation Services)"}]
["Kent County Council",11972621,"CANTIUM BUSINESS SOLUTIONS LTD","2020-04-03",400,"C","8DS","Council Secretariat","307",{"$f":"VLOOKUP(I6152,'[1]Sub Lookup'!$A$1:$B$65536,2,FALSE)","v":"Computer and Other IT Expenditure (IT Technical/Installation Services)"}]
["Kent County Council",11976489,"CANTIUM BUSINESS SOLUTIONS LTD","2020-04-06",313.5,"K","2LC","Libraries, Registration & Archives","061",{"$f":"VLOOKUP(I6166,'[1]Sub Lookup'!$A$1:$B$65536,2,FALSE)","v":"Other Recruitment Expenses"}]
["Kent County Council",11976489,"CANTIUM BUSINESS SOLUTIONS LTD","2020-04-06",400,"S","5AH","Learning Disability Support - 18 64 Long Term Support: Community: Supported Living","530",{"$f":"VLOOKUP(I6167,'[1]Sub Lookup'!$A$1:$B$65536,2,FALSE)","v":"Commissioned Service - Other"}]
["Kent County Council",12014315,"CANTIUM BUSINESS SOLUTIONS LTD","2020-04-29",340700,"C","8DF","Finance","530",{"$f":"VLOOKUP(I6190,'[1]Sub Lookup'!$A$1:$B$65536,2,FALSE)","v":"Commissioned Service - Other"}]
["Kent County Council",12017800,"CAPEL GRANGE RESIDENTIAL HOME","2020-04-29",5800,"S","5XC","Commissioning & Service Delivery","530",{"$f":"VLOOKUP(I6197,'[1]Sub Lookup'!$A$1:$B$65536,2,FALSE)","v":"Commissioned Service - Other"}]
["Kent County Council",11959741,"CAPELLA CARE LIMITED T/A EXPERTISE HOMECARE (ASHFORD)","2020-04-03",384.5,"S","5KG","Physical support - 65+ Long Term Support: Community: Home Care","530",{"$f":"VLOOKUP(I6214,'[1]Sub Lookup'!$A$1:$B$65536,2,FALSE)","v":"Commissioned Service - Other"}]
["Kent County Council",11976373,"CAPELLA CARE LIMITED T/A EXPERTISE HOMECARE (ASHFORD)","2020-04-06",449.5,"S","5KG","Physical support - 65+ Long Term Support: Community: Home Care","530",{"$f":"VLOOKUP(I6221,'[1]Sub Lookup'!$A$1:$B$65536,2,FALSE)","v":"Commissioned Service - Other"}]
["Kent County Council",11983025,"CAPELLA CARE LIMITED T/A EXPERTISE HOMECARE (ASHFORD)","2020-04-17",298.5,"S","5KG","Physical support - 65+ Long Term Support: Community: Home Care","530",{"$f":"VLOOKUP(I6247,'[1]Sub Lookup'!$A$1:$B$65536,2,FALSE)","v":"Commissioned Service - Other"}]
["Kent County Council",11992498,"CAPELLA CARE LIMITED T/A EXPERTISE HOMECARE (ASHFORD)","2020-04-24",251,"S","5KG","Physical support - 65+ Long Term Support: Community: Home Care","530",{"$f":"VLOOKUP(I6258,'[1]Sub Lookup'!$A$1:$B$65536,2,FALSE)","v":"Commissioned Service - Other"}]
["Kent County Council",12017801,"CAPELLA CARE LIMITED T/A EXPERTISE HOMECARE (ASHFORD)","2020-04-29",6377.2,"S","5XC","Commissioning & Service Delivery","530",{"$f":"VLOOKUP(I6265,'[1]Sub Lookup'!$A$1:$B$65536,2,FALSE)","v":"Commissioned Service - Other"}]
["Kent County Council",11968251,"CARE 77 LIMITED","2020-04-01",278.14,"S","5KG","Physical support - 65+ Long Term Support: Community: Home Care","530",{"$f":"VLOOKUP(I6280,'[1]Sub Lookup'!$A$1:$B$65536,2,FALSE)","v":"Commissioned Service - Other"}]
["Kent County Council",11972321,"CARE 77 LIMITED","2020-04-03",360.41,"S","5KG","Physical support - 65+ Long Term Support: Community: Home Care","530",{"$f":"VLOOKUP(I6289,'[1]Sub Lookup'!$A$1:$B$65536,2,FALSE)","v":"Commissioned Service - Other"}]
["Kent County Council",11988546,"CARE 77 LIMITED","2020-04-14",602.54,"S","5KG","Physical support - 65+ Long Term Support: Community: Home Care","530",{"$f":"VLOOKUP(I6309,'[1]Sub Lookup'!$A$1:$B$65536,2,FALSE)","v":"Commissioned Service - Other"}]
["Kent County Council",11982721,"CARE 77 LIMITED","2020-04-17",262.88,"S","5KG","Physical support - 65+ Long Term Support: Community: Home Care","530",{"$f":"VLOOKUP(I6327,'[1]Sub Lookup'!$A$1:$B$65536,2,FALSE)","v":"Commissioned Service - Other"}]
["Kent County Council",11983974,"CARE 77 LIMITED","2020-04-17",386.32,"S","5KG","Physical support - 65+ Long Term Support: Community: Home Care","530",{"$f":"VLOOKUP(I6333,'[1]Sub Lookup'!$A$1:$B$65536,2,FALSE)","v":"Commissioned Service - Other"}]
["Kent County Council",12003802,"CARE 77 LIMITED","2020-04-22",339.74,"S","5KG","Physical support - 65+ Long Term Support: Community: Home Care","530",{"$f":"VLOOKUP(I6346,'[1]Sub Lookup'!$A$1:$B$65536,2,FALSE)","v":"Commissioned Service - Other"}]
["Kent County Council",12016844,"CARE 77 LIMITED","2020-04-29",292.88,"S","5JG","Physical Support - 18 64 Long Term Support: Community: Home Care","530",{"$f":"VLOOKUP(I6357,'[1]Sub Lookup'!$A$1:$B$65536,2,FALSE)","v":"Commissioned Service - Other"}]
["Kent County Council",11970675,"CARE AT HOME SERVICES (SOUTH EAST)","2020-04-03",600.32000000000005,"S","5AH","Learning Disability Support - 18 64 Long Term Support: Community: Supported Living","530",{"$f":"VLOOKUP(I6377,'[1]Sub Lookup'!$A$1:$B$65536,2,FALSE)","v":"Commissioned Service - Other"}]
["Kent County Council",11981818,"CARE AT HOME SERVICES (SOUTH EAST)","2020-04-08",602.38,"S","5JG","Physical Support - 18 64 Long Term Support: Community: Home Care","530",{"$f":"VLOOKUP(I6393,'[1]Sub Lookup'!$A$1:$B$65536,2,FALSE)","v":"Commissioned Service - Other"}]
["Kent County Council",11981645,"CARE AT HOME SERVICES (SOUTH EAST)","2020-04-08",379.19,"S","5KG","Physical support - 65+ Long Term Support: Community: Home Care","530",{"$f":"VLOOKUP(I6401,'[1]Sub Lookup'!$A$1:$B$65536,2,FALSE)","v":"Commissioned Service - Other"}]
["Kent County Council",11988401,"CARE AT HOME SERVICES (SOUTH EAST)","2020-04-14",329.38,"S","5JG","Physical Support - 18 64 Long Term Support: Community: Home Care","530",{"$f":"VLOOKUP(I6412,'[1]Sub Lookup'!$A$1:$B$65536,2,FALSE)","v":"Commissioned Service - Other"}]
["Kent County Council",11988382,"CARE AT HOME SERVICES (SOUTH EAST)","2020-04-14",269.20999999999998,"S","5KG","Physical support - 65+ Long Term Support: Community: Home Care","530",{"$f":"VLOOKUP(I6425,'[1]Sub Lookup'!$A$1:$B$65536,2,FALSE)","v":"Commissioned Service - Other"}]
["Kent County Council",11989039,"CARE AT HOME SERVICES (SOUTH EAST)","2020-04-14",329.90000000000003,"S","5KG","Physical support - 65+ Long Term Support: Community: Home Care","530",{"$f":"VLOOKUP(I6445,'[1]Sub Lookup'!$A$1:$B$65536,2,FALSE)","v":"Commissioned Service - Other"}]
["Kent County Council",11988298,"CARE AT HOME SERVICES (SOUTH EAST)","2020-04-14",278.68,"S","5KG","Physical support - 65+ Long Term Support: Community: Home Care","530",{"$f":"VLOOKUP(I6459,'[1]Sub Lookup'!$A$1:$B$65536,2,FALSE)","v":"Commissioned Service - Other"}]
["Kent County Council",11989098,"CARE AT HOME SERVICES (SOUTH EAST)","2020-04-14",300.09000000000003,"S","5KG","Physical support - 65+ Long Term Support: Community: Home Care","530",{"$f":"VLOOKUP(I6469,'[1]Sub Lookup'!$A$1:$B$65536,2,FALSE)","v":"Commissioned Service - Other"}]
["Kent County Council",11988334,"CARE AT HOME SERVICES (SOUTH EAST)","2020-04-14",620.76,"S","5KG","Physical support - 65+ Long Term Support: Community: Home Care","530",{"$f":"VLOOKUP(I6478,'[1]Sub Lookup'!$A$1:$B$65536,2,FALSE)","v":"Commissioned Service - Other"}]
["Kent County Council",11988372,"CARE AT HOME SERVICES (SOUTH EAST)","2020-04-14",399,"S","5KG","Physical support - 65+ Long Term Support: Community: Home Care","530",{"$f":"VLOOKUP(I6497,'[1]Sub Lookup'!$A$1:$B$65536,2,FALSE)","v":"Commissioned Service - Other"}]
["Kent County Council",11988985,"CARE AT HOME SERVICES (SOUTH EAST)","2020-04-14",579.21,"S","5KG","Physical support - 65+ Long Term Support: Community: Home Care","530",{"$f":"VLOOKUP(I6513,'[1]Sub Lookup'!$A$1:$B$65536,2,FALSE)","v":"Commissioned Service - Other"}]
["Kent County Council",11995513,"CARE AT HOME SERVICES (SOUTH EAST)","2020-04-17",456.96000000000004,"S","5KG","Physical support - 65+ Long Term Support: Community: Home Care","530",{"$f":"VLOOKUP(I6525,'[1]Sub Lookup'!$A$1:$B$65536,2,FALSE)","v":"Commissioned Service - Other"}]
["Kent County Council",11995494,"CARE AT HOME SERVICES (SOUTH EAST)","2020-04-17",456.96000000000004,"S","5KG","Physical support - 65+ Long Term Support: Community: Home Care","530",{"$f":"VLOOKUP(I6537,'[1]Sub Lookup'!$A$1:$B$65536,2,FALSE)","v":"Commissioned Service - Other"}]
["Kent County Council",12003550,"CARE AT HOME SERVICES (SOUTH EAST)","2020-04-22",342.86,"S","5KG","Physical support - 65+ Long Term Support: Community: Home Care","530",{"$f":"VLOOKUP(I6544,'[1]Sub Lookup'!$A$1:$B$65536,2,FALSE)","v":"Commissioned Service - Other"}]
["Kent County Council",12003468,"CARE AT HOME SERVICES (SOUTH EAST)","2020-04-22",274.12,"S","5JG","Physical Support - 18 64 Long Term Support: Community: Home Care","530",{"$f":"VLOOKUP(I6565,'[1]Sub Lookup'!$A$1:$B$65536,2,FALSE)","v":"Commissioned Service - Other"}]
["Kent County Council",12007553,"CARE AT HOME SERVICES (SOUTH EAST)","2020-04-24",391.02,"S","5KG","Physical support - 65+ Long Term Support: Community: Home Care","530",{"$f":"VLOOKUP(I6581,'[1]Sub Lookup'!$A$1:$B$65536,2,FALSE)","v":"Commissioned Service - Other"}]
["Kent County Council",12017246,"CARE AT HOME SERVICES (SOUTH EAST)","2020-04-29",278.45999999999998,"S","5KG","Physical support - 65+ Long Term Support: Community: Home Care","530",{"$f":"VLOOKUP(I6591,'[1]Sub Lookup'!$A$1:$B$65536,2,FALSE)","v":"Commissioned Service - Other"}]
["Kent County Council",12017168,"CARE AT HOME SERVICES (SOUTH EAST)","2020-04-29",278.45999999999998,"S","5PG","Sensory Support - 65+ Long Term Support: Community: Home Care","530",{"$f":"VLOOKUP(I6605,'[1]Sub Lookup'!$A$1:$B$65536,2,FALSE)","v":"Commissioned Service - Other"}]
["Kent County Council",12017080,"CARE AT HOME SERVICES (SOUTH EAST)","2020-04-29",339.42,"S","5KG","Physical support - 65+ Long Term Support: Community: Home Care","530",{"$f":"VLOOKUP(I6610,'[1]Sub Lookup'!$A$1:$B$65536,2,FALSE)","v":"Commissioned Service - Other"}]
["Kent County Council",12017250,"CARE AT HOME SERVICES (SOUTH EAST)","2020-04-29",309.40000000000003,"S","5KG","Physical support - 65+ Long Term Support: Community: Home Care","530",{"$f":"VLOOKUP(I6633,'[1]Sub Lookup'!$A$1:$B$65536,2,FALSE)","v":"Commissioned Service - Other"}]
["Kent County Council",12017187,"CARE AT HOME SERVICES (SOUTH EAST)","2020-04-29",282.88,"S","5KG","Physical support - 65+ Long Term Support: Community: Home Care","530",{"$f":"VLOOKUP(I6636,'[1]Sub Lookup'!$A$1:$B$65536,2,FALSE)","v":"Commissioned Service - Other"}]
["Kent County Council",12017016,"CARE AT HOME SERVICES (SOUTH EAST)","2020-04-29",391.02,"S","5KG","Physical support - 65+ Long Term Support: Community: Home Care","530",{"$f":"VLOOKUP(I6657,'[1]Sub Lookup'!$A$1:$B$65536,2,FALSE)","v":"Commissioned Service - Other"}]
["Kent County Council",12016614,"CARE AT HOME SERVICES (SOUTH EAST)","2020-04-29",548.24,"S","5KG","Physical support - 65+ Long Term Support: Community: Home Care","530",{"$f":"VLOOKUP(I6664,'[1]Sub Lookup'!$A$1:$B$65536,2,FALSE)","v":"Commissioned Service - Other"}]
["Kent County Council",12005278,"CARE ENTERPRISES (TEMPLE EWELL) LIMITED","2020-04-22",2367,"S","5KB","Physical support - 65+ Long Term Support: Nursing","530",{"$f":"VLOOKUP(I6676,'[1]Sub Lookup'!$A$1:$B$65536,2,FALSE)","v":"Commissioned Service - Other"}]
["Kent County Council",11972524,"CARE IN KENT LIMITED","2020-04-03",253.5,"S","5JH","Physical Support - 18 64 Long Term Support: Community: Supported Living","530",{"$f":"VLOOKUP(I6701,'[1]Sub Lookup'!$A$1:$B$65536,2,FALSE)","v":"Commissioned Service - Other"}]
["Kent County Council",11972518,"CARE IN KENT LIMITED","2020-04-03",338,"S","5JH","Physical Support - 18 64 Long Term Support: Community: Supported Living","530",{"$f":"VLOOKUP(I6704,'[1]Sub Lookup'!$A$1:$B$65536,2,FALSE)","v":"Commissioned Service - Other"}]
["Kent County Council",11995755,"CARE IN KENT LIMITED","2020-04-17",1453.4,"S","5BH","Learning Disability Support - 65+ Long Term Support: Community: Supported Living","530",{"$f":"VLOOKUP(I6723,'[1]Sub Lookup'!$A$1:$B$65536,2,FALSE)","v":"Commissioned Service - Other"}]
["Kent County Council",11987354,"CARE IN KENT LIMITED","2020-04-17",607.89,"S","5KG","Physical support - 65+ Long Term Support: Community: Home Care","530",{"$f":"VLOOKUP(I6732,'[1]Sub Lookup'!$A$1:$B$65536,2,FALSE)","v":"Commissioned Service - Other"}]
["Kent County Council",11996985,"CARE IN KENT LIMITED","2020-04-20",469.82,"S","5KG","Physical support - 65+ Long Term Support: Community: Home Care","530",{"$f":"VLOOKUP(I6756,'[1]Sub Lookup'!$A$1:$B$65536,2,FALSE)","v":"Commissioned Service - Other"}]
["Kent County Council",12011825,"CARE IN KENT LIMITED","2020-04-28",1372.8,"S","5AH","Learning Disability Support - 18 64 Long Term Support: Community: Supported Living","523",{"$f":"VLOOKUP(I6769,'[1]Sub Lookup'!$A$1:$B$65536,2,FALSE)","v":"Private Contractors"}]
["Kent County Council",11966868,"CARE MANAGEMENT GROUP LTD","2020-04-01",1629.8,"S","5XC","Commissioning & Service Delivery","530",{"$f":"VLOOKUP(I6776,'[1]Sub Lookup'!$A$1:$B$65536,2,FALSE)","v":"Commissioned Service - Other"}]
["Kent County Council",11955023,"CARE MANAGEMENT GROUP LTD","2020-04-09",11531.79,"S","9AR","Revenue Balance Sheet","BEA",{"$f":"VLOOKUP(I6789,'[1]Sub Lookup'!$A$1:$B$65536,2,FALSE)","v":"Payments in Advance - General"}]
["Kent County Council",12017582,"CARE MANAGEMENT GROUP LTD","2020-04-29",5661.79,"S","5XC","Commissioning & Service Delivery","530",{"$f":"VLOOKUP(I6800,'[1]Sub Lookup'!$A$1:$B$65536,2,FALSE)","v":"Commissioned Service - Other"}]
["Kent County Council",11984978,"CARE4KIDS CHILDCARE","2020-04-14",7478.64,"E","1KA","School Resources","528",{"$f":"VLOOKUP(I6822,'[1]Sub Lookup'!$A$1:$B$65536,2,FALSE)","v":"Early Years Education"}]
["Kent County Council",11966391,"CAREMARK THANET","2020-04-01",8970.43,"S","5XC","Commissioning & Service Delivery","530",{"$f":"VLOOKUP(I6824,'[1]Sub Lookup'!$A$1:$B$65536,2,FALSE)","v":"Commissioned Service - Other"}]
["Kent County Council",12014160,"CAREMARK THANET","2020-04-29",845.80000000000007,"S","5JG","Physical Support - 18 64 Long Term Support: Community: Home Care","530",{"$f":"VLOOKUP(I6844,'[1]Sub Lookup'!$A$1:$B$65536,2,FALSE)","v":"Commissioned Service - Other"}]
["Kent County Council",12017809,"CARERS 4 U LIMITED","2020-04-29",980.30000000000007,"S","5XC","Commissioning & Service Delivery","530",{"$f":"VLOOKUP(I6855,'[1]Sub Lookup'!$A$1:$B$65536,2,FALSE)","v":"Commissioned Service - Other"}]
["Kent County Council",11959586,"CARERS\u0092 SUPPORT EAST KENT","2020-04-06",1382,"S","5WC","Social Support: Support for Carer OPPD Other","520",{"$f":"VLOOKUP(I6868,'[1]Sub Lookup'!$A$1:$B$65536,2,FALSE)","v":"Voluntary Associations"}]
["Kent County Council",11966236,"CARETECH COMMUNITY SERVICES LTD","2020-04-01",1413.5,"S","5XC","Commissioning & Service Delivery","530",{"$f":"VLOOKUP(I6888,'[1]Sub Lookup'!$A$1:$B$65536,2,FALSE)","v":"Commissioned Service - Other"}]
["Kent County Council",11970111,"CARETECH COMMUNITY SERVICES LTD","2020-04-01",18024.23,"S","5BA","Learning Disability Support - 65+ Long Term Support: Residential","530",{"$f":"VLOOKUP(I6892,'[1]Sub Lookup'!$A$1:$B$65536,2,FALSE)","v":"Commissioned Service - Other"}]
["Kent County Council",11977910,"CARETECH COMMUNITY SERVICES LTD","2020-04-07",7370.38,"S","5AH","Learning Disability Support - 18 64 Long Term Support: Community: Supported Living","530",{"$f":"VLOOKUP(I6912,'[1]Sub Lookup'!$A$1:$B$65536,2,FALSE)","v":"Commissioned Service - Other"}]
["Kent County Council",11983779,"CARETECH COMMUNITY SERVICES LTD","2020-04-09",6259.79,"S","5BA","Learning Disability Support - 65+ Long Term Support: Residential","530",{"$f":"VLOOKUP(I6921,'[1]Sub Lookup'!$A$1:$B$65536,2,FALSE)","v":"Commissioned Service - Other"}]
["Kent County Council",11976600,"CARETECH COMMUNITY SERVICES LTD","2020-04-09",7132.63,"S","5AH","Learning Disability Support - 18 64 Long Term Support: Community: Supported Living","530",{"$f":"VLOOKUP(I6936,'[1]Sub Lookup'!$A$1:$B$65536,2,FALSE)","v":"Commissioned Service - Other"}]
["Kent County Council",11934884,"CARETECH COMMUNITY SERVICES LTD","2020-04-09",-3041.44,"S","5AA","Learning Disability Support - 18 64 Long Term Support: Residential","530",{"$f":"VLOOKUP(I6950,'[1]Sub Lookup'!$A$1:$B$65536,2,FALSE)","v":"Commissioned Service - Other"}]
["Kent County Council",11959372,"CARETECH COMMUNITY SERVICES LTD","2020-04-09",5413.54,"S","9AR","Revenue Balance Sheet","BEA",{"$f":"VLOOKUP(I6960,'[1]Sub Lookup'!$A$1:$B$65536,2,FALSE)","v":"Payments in Advance - General"}]
["Kent County Council",11992135,"CARETECH COMMUNITY SERVICES LTD","2020-04-15",2687.66,"S","5AA","Learning Disability Support - 18 64 Long Term Support: Residential","530",{"$f":"VLOOKUP(I6980,'[1]Sub Lookup'!$A$1:$B$65536,2,FALSE)","v":"Commissioned Service - Other"}]
["Kent County Council",11995833,"CARETECH COMMUNITY SERVICES LTD","2020-04-17",5774.36,"S","5AA","Learning Disability Support - 18 64 Long Term Support: Residential","530",{"$f":"VLOOKUP(I6987,'[1]Sub Lookup'!$A$1:$B$65536,2,FALSE)","v":"Commissioned Service - Other"}]
["Kent County Council",11998044,"CARETECH COMMUNITY SERVICES LTD","2020-04-20",7463.87,"S","5AA","Learning Disability Support - 18 64 Long Term Support: Residential","530",{"$f":"VLOOKUP(I7004,'[1]Sub Lookup'!$A$1:$B$65536,2,FALSE)","v":"Commissioned Service - Other"}]
["Kent County Council",12005140,"CARETECH COMMUNITY SERVICES LTD","2020-04-22",3672.2200000000003,"S","5EA","Mental Health Support - 18 64 Long Term Support: Residential","530",{"$f":"VLOOKUP(I7016,'[1]Sub Lookup'!$A$1:$B$65536,2,FALSE)","v":"Commissioned Service - Other"}]
["Kent County Council",12006698,"CARETECH COMMUNITY SERVICES LTD","2020-04-23",6625.16,"S","5AA","Learning Disability Support - 18 64 Long Term Support: Residential","530",{"$f":"VLOOKUP(I7028,'[1]Sub Lookup'!$A$1:$B$65536,2,FALSE)","v":"Commissioned Service - Other"}]
["Kent County Council",12018150,"CARETECH COMMUNITY SERVICES LTD","2020-04-29",2422,"S","5XC","Commissioning & Service Delivery","530",{"$f":"VLOOKUP(I7048,'[1]Sub Lookup'!$A$1:$B$65536,2,FALSE)","v":"Commissioned Service - Other"}]
["Kent County Council",12018229,"CARETECH COMMUNITY SERVICES LTD","2020-04-29",22309.170000000002,"S","5XC","Commissioning & Service Delivery","530",{"$f":"VLOOKUP(I7053,'[1]Sub Lookup'!$A$1:$B$65536,2,FALSE)","v":"Commissioned Service - Other"}]
["Kent County Council",11965434,"REDACTED - Personal Payment","2020-04-01",3052.2400000000002,"S","5AC","Learning Disability Support - 18 64 Long Term Support: Supported accommodation","523",{"$f":"VLOOKUP(I7072,'[1]Sub Lookup'!$A$1:$B$65536,2,FALSE)","v":"Private Contractors"}]
["Kent County Council",11964729,"CARNALEA","2020-04-01",1085.23,"S","9AR","Revenue Balance Sheet","BEA",{"$f":"VLOOKUP(I7082,'[1]Sub Lookup'!$A$1:$B$65536,2,FALSE)","v":"Payments in Advance - General"}]
["Kent County Council",11964727,"CARNALEA","2020-04-01",626.82000000000005,"S","5TA","Support with Memory & Cognition - 65+ Long Term Support: Residential","530",{"$f":"VLOOKUP(I7096,'[1]Sub Lookup'!$A$1:$B$65536,2,FALSE)","v":"Commissioned Service - Other"}]
["Kent County Council",12011437,"CARNALEA","2020-04-29",2003.56,"S","5KA","Physical support - 65+ Long Term Support: Residential","530",{"$f":"VLOOKUP(I7116,'[1]Sub Lookup'!$A$1:$B$65536,2,FALSE)","v":"Commissioned Service - Other"}]
["Kent County Council",11989274,"REDACTED - Personal Payment","2020-04-14",1544.4,"S","5AC","Learning Disability Support - 18 64 Long Term Support: Supported accommodation","530",{"$f":"VLOOKUP(I7129,'[1]Sub Lookup'!$A$1:$B$65536,2,FALSE)","v":"Commissioned Service - Other"}]
["Kent County Council",12008504,"CARRINGTON COURT  HC-ONE LTD","2020-04-29",1882.92,"S","5KB","Physical support - 65+ Long Term Support: Nursing","530",{"$f":"VLOOKUP(I7140,'[1]Sub Lookup'!$A$1:$B$65536,2,FALSE)","v":"Commissioned Service - Other"}]
["Kent County Council",11966401,"CARTREF HOMES UK LTD (NO 471369)","2020-04-01",4675.54,"S","5XC","Commissioning & Service Delivery","530",{"$f":"VLOOKUP(I7148,'[1]Sub Lookup'!$A$1:$B$65536,2,FALSE)","v":"Commissioned Service - Other"}]
["Kent County Council",11934779,"CARTREF HOMES UK LTD (NO 471369)","2020-04-17",6444.32,"S","5AH","Learning Disability Support - 18 64 Long Term Support: Community: Supported Living","530",{"$f":"VLOOKUP(I7164,'[1]Sub Lookup'!$A$1:$B$65536,2,FALSE)","v":"Commissioned Service - Other"}]
["Kent County Council",11975880,"CASCADE (BANKS HOUSE) LIMITED","2020-04-06",33786.520000000004,"S","31D","IS  Res Care for Dis Child","527",{"$f":"VLOOKUP(I7184,'[1]Sub Lookup'!$A$1:$B$65536,2,FALSE)","v":"Services"}]
["Kent County Council",11957712,"CASTLEWATER LTD","2020-04-01",665.68000000000006,"C","2LE","Adult Education","125",{"$f":"VLOOKUP(I7195,'[1]Sub Lookup'!$A$1:$B$65536,2,FALSE)","v":"Water & Sewerage"}]
["Kent County Council",11993383,"CASTLEWATER LTD","2020-04-17",483.86,"C","2UA","Youth Services","125",{"$f":"VLOOKUP(I7208,'[1]Sub Lookup'!$A$1:$B$65536,2,FALSE)","v":"Water & Sewerage"}]
["Kent County Council",12004942,"CASTLEWATER LTD","2020-04-24",1397.13,"C","5KP","Physical support - 65+ Short Term - Maximising Independence - Residential","125",{"$f":"VLOOKUP(I7214,'[1]Sub Lookup'!$A$1:$B$65536,2,FALSE)","v":"Water & Sewerage"}]
["Kent County Council",12009478,"CATCH 22 CHARITY LTD","2020-04-27",1842.8700000000001,"S","35P","Section 24","527",{"$f":"VLOOKUP(I7236,'[1]Sub Lookup'!$A$1:$B$65536,2,FALSE)","v":"Services"}]
["Kent County Council",11980013,"CATCHING LIVES","2020-04-08",3000,"K","2AB","Community Liason","450",{"$f":"VLOOKUP(I7239,'[1]Sub Lookup'!$A$1:$B$65536,2,FALSE)","v":"Grants"}]
["Kent County Council",11971001,"CEDARDALE RESIDENTIAL CARE HOME","2020-04-01",1253.6400000000001,"S","5TA","Support with Memory & Cognition - 65+ Long Term Support: Residential","530",{"$f":"VLOOKUP(I7261,'[1]Sub Lookup'!$A$1:$B$65536,2,FALSE)","v":"Commissioned Service - Other"}]
["Kent County Council",12000670,"CEDARDALE RESIDENTIAL CARE HOME","2020-04-21",6010.56,"S","5KA","Physical support - 65+ Long Term Support: Residential","530",{"$f":"VLOOKUP(I7276,'[1]Sub Lookup'!$A$1:$B$65536,2,FALSE)","v":"Commissioned Service - Other"}]
["Kent County Council",12017825,"CEDARDALE RESIDENTIAL CARE HOME","2020-04-29",9263.07,"S","5XC","Commissioning & Service Delivery","530",{"$f":"VLOOKUP(I7280,'[1]Sub Lookup'!$A$1:$B$65536,2,FALSE)","v":"Commissioned Service - Other"}]
["Kent County Council",11961803,"CHALKWELL COACH HIRE LTD","2020-04-08",36900.06,"P","7HE","Public Transport","523",{"$f":"VLOOKUP(I7304,'[1]Sub Lookup'!$A$1:$B$65536,2,FALSE)","v":"Private Contractors"}]
["Kent County Council",12009372,"CHALKWELL COACH HIRE LTD","2020-04-29",1610,"E","1RX","Admissions & Transport","225",{"$f":"VLOOKUP(I7307,'[1]Sub Lookup'!$A$1:$B$65536,2,FALSE)","v":"Home to School Transport - Bus"}]
["Kent County Council",11969867,"CHAMELEON CARE","2020-04-01",358.79,"S","5KG","Physical support - 65+ Long Term Support: Community: Home Care","530",{"$f":"VLOOKUP(I7327,'[1]Sub Lookup'!$A$1:$B$65536,2,FALSE)","v":"Commissioned Service - Other"}]
["Kent County Council",11989564,"CHAMELEON CARE","2020-04-17",730.26,"S","5KG","Physical support - 65+ Long Term Support: Community: Home Care","530",{"$f":"VLOOKUP(I7344,'[1]Sub Lookup'!$A$1:$B$65536,2,FALSE)","v":"Commissioned Service - Other"}]
["Kent County Council",11989575,"CHAMELEON CARE","2020-04-17",680,"S","5KG","Physical support - 65+ Long Term Support: Community: Home Care","530",{"$f":"VLOOKUP(I7346,'[1]Sub Lookup'!$A$1:$B$65536,2,FALSE)","v":"Commissioned Service - Other"}]
["Kent County Council",11970281,"CHAMPIONS PLACE REST HOME","2020-04-01",2221.4299999999998,"S","9AR","Revenue Balance Sheet","BEA",{"$f":"VLOOKUP(I7372,'[1]Sub Lookup'!$A$1:$B$65536,2,FALSE)","v":"Payments in Advance - General"}]
["Kent County Council",11970278,"CHAMPIONS PLACE REST HOME","2020-04-01",1170.4100000000001,"S","5BA","Learning Disability Support - 65+ Long Term Support: Residential","530",{"$f":"VLOOKUP(I7375,'[1]Sub Lookup'!$A$1:$B$65536,2,FALSE)","v":"Commissioned Service - Other"}]
["Kent County Council",12008559,"CHAMPIONS PLACE REST HOME","2020-04-29",2673.64,"S","5AA","Learning Disability Support - 18 64 Long Term Support: Residential","530",{"$f":"VLOOKUP(I7393,'[1]Sub Lookup'!$A$1:$B$65536,2,FALSE)","v":"Commissioned Service - Other"}]
["Kent County Council",12001214,"CHANNEL CARS FOLKESTONE LTD","2020-04-22",616.66999999999996,"E","1RX","Admissions & Transport","222",{"$f":"VLOOKUP(I7403,'[1]Sub Lookup'!$A$1:$B$65536,2,FALSE)","v":"Home to School Transport - Hired"}]
["Kent County Council",12008961,"CHANNEL CARS FOLKESTONE LTD","2020-04-24",3281,"E","1RX","Admissions & Transport","222",{"$f":"VLOOKUP(I7419,'[1]Sub Lookup'!$A$1:$B$65536,2,FALSE)","v":"Home to School Transport - Hired"}]
["Kent County Council",12008936,"CHANNEL CARS FOLKESTONE LTD","2020-04-24",1806,"E","1RX","Admissions & Transport","222",{"$f":"VLOOKUP(I7426,'[1]Sub Lookup'!$A$1:$B$65536,2,FALSE)","v":"Home to School Transport - Hired"}]
["Kent County Council",12008950,"CHANNEL CARS FOLKESTONE LTD","2020-04-24",2289,"E","1RX","Admissions & Transport","222",{"$f":"VLOOKUP(I7443,'[1]Sub Lookup'!$A$1:$B$65536,2,FALSE)","v":"Home to School Transport - Hired"}]
["Kent County Council",11972497,"CHANNEL HOMES (UK) LTD T/A THE SUPPORTED LIVING SCHEME","2020-04-03",1396.64,"S","5AH","Learning Disability Support - 18 64 Long Term Support: Community: Supported Living","530",{"$f":"VLOOKUP(I7459,'[1]Sub Lookup'!$A$1:$B$65536,2,FALSE)","v":"Commissioned Service - Other"}]
["Kent County Council",11993115,"CHANNEL PORTS LTD","2020-04-16",500,"K","2LE","Adult Education","401",{"$f":"VLOOKUP(I7471,'[1]Sub Lookup'!$A$1:$B$65536,2,FALSE)","v":"Specialists Fees"}]
["Kent County Council",11966416,"CHARING COURT RESIDENTIAL HOME","2020-04-01",6799.12,"S","5XC","Commissioning & Service Delivery","530",{"$f":"VLOOKUP(I7487,'[1]Sub Lookup'!$A$1:$B$65536,2,FALSE)","v":"Commissioned Service - Other"}]
["Kent County Council",11966828,"CHARING HOUSE CHARING GARDENS LTD","2020-04-01",1139.71,"S","5XC","Commissioning & Service Delivery","530",{"$f":"VLOOKUP(I7506,'[1]Sub Lookup'!$A$1:$B$65536,2,FALSE)","v":"Commissioned Service - Other"}]
["Kent County Council",11964835,"CHARING HOUSE CHARING GARDENS LTD","2020-04-01",743.07,"S","5KA","Physical support - 65+ Long Term Support: Residential","530",{"$f":"VLOOKUP(I7515,'[1]Sub Lookup'!$A$1:$B$65536,2,FALSE)","v":"Commissioned Service - Other"}]
["Kent County Council",11992771,"CHARLES DARWIN ACADEMY TRUST","2020-04-24",3779,"E","1PA","Additional Educational Needs and Resources","510",{"$f":"VLOOKUP(I7525,'[1]Sub Lookup'!$A$1:$B$65536,2,FALSE)","v":"Other Local Authorities"}]
["Kent County Council",11976935,"CHARTHAM PRIMARY SCHOOL","2020-04-07",270.01,"C","36P","Children's Centres","125",{"$f":"VLOOKUP(I7539,'[1]Sub Lookup'!$A$1:$B$65536,2,FALSE)","v":"Water & Sewerage"}]
["Kent County Council",11948034,"CHILD FIRST LTD","2020-04-08",48099.99,"S","31B","IS  Res Care Children","527",{"$f":"VLOOKUP(I7555,'[1]Sub Lookup'!$A$1:$B$65536,2,FALSE)","v":"Services"}]
["Kent County Council",11966423,"CHIPPENDAYLE LODGE CARE HOME","2020-04-01",11220.83,"S","5XC","Commissioning & Service Delivery","530",{"$f":"VLOOKUP(I7572,'[1]Sub Lookup'!$A$1:$B$65536,2,FALSE)","v":"Commissioned Service - Other"}]
["Kent County Council",11970704,"CHIPPENDAYLE LODGE CARE HOME","2020-04-01",2316,"S","5KA","Physical support - 65+ Long Term Support: Residential","530",{"$f":"VLOOKUP(I7583,'[1]Sub Lookup'!$A$1:$B$65536,2,FALSE)","v":"Commissioned Service - Other"}]
["Kent County Council",11970696,"CHIPPENDAYLE LODGE CARE HOME","2020-04-01",2280,"S","5KA","Physical support - 65+ Long Term Support: Residential","530",{"$f":"VLOOKUP(I7591,'[1]Sub Lookup'!$A$1:$B$65536,2,FALSE)","v":"Commissioned Service - Other"}]
["Kent County Council",12008533,"CHIPPENDAYLE LODGE CARE HOME","2020-04-29",1950.1200000000001,"S","5TA","Support with Memory & Cognition - 65+ Long Term Support: Residential","530",{"$f":"VLOOKUP(I7607,'[1]Sub Lookup'!$A$1:$B$65536,2,FALSE)","v":"Commissioned Service - Other"}]
["Kent County Council",11964816,"CHISLEHURST CARE LIMITED","2020-04-01",1462.78,"S","9AR","Revenue Balance Sheet","BEA",{"$f":"VLOOKUP(I7623,'[1]Sub Lookup'!$A$1:$B$65536,2,FALSE)","v":"Payments in Advance - General"}]
["Kent County Council",11989749,"REDACTED - Personal Payment","2020-04-15",289.47000000000003,"E","1RX","Admissions & Transport","226",{"$f":"VLOOKUP(I7638,'[1]Sub Lookup'!$A$1:$B$65536,2,FALSE)","v":"Home to School Transport - Cash allows"}]
["Kent County Council",11965650,"CHOICE SUPPORT","2020-04-29",361.68,"S","5AH","Learning Disability Support - 18 64 Long Term Support: Community: Supported Living","523",{"$f":"VLOOKUP(I7651,'[1]Sub Lookup'!$A$1:$B$65536,2,FALSE)","v":"Private Contractors"}]
["Kent County Council",12011800,"CHOICE SUPPORT","2020-04-29",300.16000000000003,"S","5AJ","Learning Disability Support - 18 64 Long Term Support: Community: Day Care","523",{"$f":"VLOOKUP(I7657,'[1]Sub Lookup'!$A$1:$B$65536,2,FALSE)","v":"Private Contractors"}]
["Kent County Council",11965622,"CHOICE SUPPORT","2020-04-29",486,"S","5AJ","Learning Disability Support - 18 64 Long Term Support: Community: Day Care","523",{"$f":"VLOOKUP(I7675,'[1]Sub Lookup'!$A$1:$B$65536,2,FALSE)","v":"Private Contractors"}]
["Kent County Council",11990566,"CHOICE SUPPORT","2020-04-29",592,"S","5AJ","Learning Disability Support - 18 64 Long Term Support: Community: Day Care","520",{"$f":"VLOOKUP(I7682,'[1]Sub Lookup'!$A$1:$B$65536,2,FALSE)","v":"Voluntary Associations"}]
["Kent County Council",12011804,"CHOICE SUPPORT","2020-04-29",486,"S","5AJ","Learning Disability Support - 18 64 Long Term Support: Community: Day Care","523",{"$f":"VLOOKUP(I7704,'[1]Sub Lookup'!$A$1:$B$65536,2,FALSE)","v":"Private Contractors"}]
["Kent County Council",11990531,"CHOICE SUPPORT","2020-04-29",592,"S","5AJ","Learning Disability Support - 18 64 Long Term Support: Community: Day Care","520",{"$f":"VLOOKUP(I7719,'[1]Sub Lookup'!$A$1:$B$65536,2,FALSE)","v":"Voluntary Associations"}]
["Kent County Council",11990535,"CHOICE SUPPORT","2020-04-29",296,"S","5AJ","Learning Disability Support - 18 64 Long Term Support: Community: Day Care","520",{"$f":"VLOOKUP(I7723,'[1]Sub Lookup'!$A$1:$B$65536,2,FALSE)","v":"Voluntary Associations"}]
["Kent County Council",12005844,"CHOICE SUPPORT","2020-04-29",9754.48,"S","5EA","Mental Health Support - 18 64 Long Term Support: Residential","530",{"$f":"VLOOKUP(I7743,'[1]Sub Lookup'!$A$1:$B$65536,2,FALSE)","v":"Commissioned Service - Other"}]
["Kent County Council",12018981,"CHOICE SUPPORT","2020-04-29",1363.68,"S","5FA","Mental Health Support - 65+ Long Term Support: Residential","530",{"$f":"VLOOKUP(I7750,'[1]Sub Lookup'!$A$1:$B$65536,2,FALSE)","v":"Commissioned Service - Other"}]
["Kent County Council",11965592,"CHOICE SUPPORT","2020-04-29",504.79,"S","5AJ","Learning Disability Support - 18 64 Long Term Support: Community: Day Care","523",{"$f":"VLOOKUP(I7770,'[1]Sub Lookup'!$A$1:$B$65536,2,FALSE)","v":"Private Contractors"}]
["Kent County Council",11965594,"CHOICE SUPPORT","2020-04-29",421.3,"S","5AJ","Learning Disability Support - 18 64 Long Term Support: Community: Day Care","523",{"$f":"VLOOKUP(I7787,'[1]Sub Lookup'!$A$1:$B$65536,2,FALSE)","v":"Private Contractors"}]
["Kent County Council",11965595,"CHOICE SUPPORT","2020-04-29",367.12,"S","5AJ","Learning Disability Support - 18 64 Long Term Support: Community: Day Care","523",{"$f":"VLOOKUP(I7789,'[1]Sub Lookup'!$A$1:$B$65536,2,FALSE)","v":"Private Contractors"}]
["Kent County Council",11965589,"CHOICE SUPPORT","2020-04-29",9008.880000000001,"S","5AH","Learning Disability Support - 18 64 Long Term Support: Community: Supported Living","523",{"$f":"VLOOKUP(I7811,'[1]Sub Lookup'!$A$1:$B$65536,2,FALSE)","v":"Private Contractors"}]
["Kent County Council",11984318,"CHRISTCHURCH NURSERY SCHOOL (FOLKESTONE) LTD","2020-04-14",25539.54,"E","1KA","School Resources","528",{"$f":"VLOOKUP(I7818,'[1]Sub Lookup'!$A$1:$B$65536,2,FALSE)","v":"Early Years Education"}]
["Kent County Council",12000154,"REDACTED - Personal Payment","2020-04-28",1641.6000000000001,"S","5KF","Physical support - 65+ Long Term Support: Community: Direct Payments","530",{"$f":"VLOOKUP(I7836,'[1]Sub Lookup'!$A$1:$B$65536,2,FALSE)","v":"Commissioned Service - Other"}]
["Kent County Council",11985388,"CHROMATOGRAPHY DIRECT LTD","2020-04-21",433,"K","2RC","Kent Scientific Services","300",{"$f":"VLOOKUP(I7842,'[1]Sub Lookup'!$A$1:$B$65536,2,FALSE)","v":"Equipment, Furniture and Materials and Livestock"}]
["Kent County Council",11992855,"CITY SUBURBAN TREE SURGEONS LTD","2020-04-24",406.61,"P","7HM","Tree Maintenance","C20",{"$f":"VLOOKUP(I7865,'[1]Sub Lookup'!$A$1:$B$65536,2,FALSE)","v":"Infrastructure"}]
["Kent County Council",11990323,"CIVICA UK LTD","2020-04-20",11025,"K","2RF","Coroners","304",{"$f":"VLOOKUP(I7879,'[1]Sub Lookup'!$A$1:$B$65536,2,FALSE)","v":"Computer and Other IT Expenditure (Maintenance)"}]
["Kent County Council",11993921,"REDACTED - Personal Payment","2020-04-17",2668.5,"S","35H","Fostering NR Payments","401",{"$f":"VLOOKUP(I7886,'[1]Sub Lookup'!$A$1:$B$65536,2,FALSE)","v":"Specialists Fees"}]
["Kent County Council",11959387,"CLARION HOUSING ASSOCIATION LIMITED","2020-04-07",42288.29,"K","2BJ","Prevention of Domestic Abuse","530",{"$f":"VLOOKUP(I7902,'[1]Sub Lookup'!$A$1:$B$65536,2,FALSE)","v":"Commissioned Service - Other"}]
["Kent County Council",11997894,"CLARION HOUSING ASSOCIATION LIMITED","2020-04-24",35706.840000000004,"K","2SF","Social Fund (including Refugee Families)","530",{"$f":"VLOOKUP(I7910,'[1]Sub Lookup'!$A$1:$B$65536,2,FALSE)","v":"Commissioned Service - Other"}]
["Kent County Council",11961398,"CLARITY AND IMPACT LIMITED","2020-04-03",3000,"C","8DF","Finance","064",{"$f":"VLOOKUP(I7931,'[1]Sub Lookup'!$A$1:$B$65536,2,FALSE)","v":"External Training"}]
["Kent County Council",11966172,"CLBD LIMITED","2020-04-01",11609.4,"S","5XC","Commissioning & Service Delivery","530",{"$f":"VLOOKUP(I7947,'[1]Sub Lookup'!$A$1:$B$65536,2,FALSE)","v":"Commissioned Service - Other"}]
["Kent County Council",11970247,"CLBD LIMITED","2020-04-01",2629.4500000000003,"S","9AR","Revenue Balance Sheet","BEA",{"$f":"VLOOKUP(I7954,'[1]Sub Lookup'!$A$1:$B$65536,2,FALSE)","v":"Payments in Advance - General"}]
["Kent County Council",11972439,"CLBD LIMITED","2020-04-03",8588.0400000000009,"S","5AA","Learning Disability Support - 18 64 Long Term Support: Residential","530",{"$f":"VLOOKUP(I7964,'[1]Sub Lookup'!$A$1:$B$65536,2,FALSE)","v":"Commissioned Service - Other"}]
["Kent County Council",11961274,"CLEANSING SERVICE GROUP LTD","2020-04-02",566,"P","7HL","Drainage","523",{"$f":"VLOOKUP(I7978,'[1]Sub Lookup'!$A$1:$B$65536,2,FALSE)","v":"Private Contractors"}]
["Kent County Council",11975619,"CLEARSPRINGS READY HOMES LTD","2020-04-06",11785.710000000001,"S","32P","Rented Accommodation Asylum 16-17","527",{"$f":"VLOOKUP(I7997,'[1]Sub Lookup'!$A$1:$B$65536,2,FALSE)","v":"Services"}]
["Kent County Council",11997252,"CLEARSPRINGS READY HOMES LTD","2020-04-20",642.86,"S","32P","Rented Accommodation Asylum 16-17","527",{"$f":"VLOOKUP(I8015,'[1]Sub Lookup'!$A$1:$B$65536,2,FALSE)","v":"Services"}]
["Kent County Council",12004938,"CLEARWAY ENVIRONMENTAL SERVICES (UK) LTD","2020-04-23",797,"C","8DW","Non Operational Properties","141",{"$f":"VLOOKUP(I8022,'[1]Sub Lookup'!$A$1:$B$65536,2,FALSE)","v":"Premises Security Charges"}]
["Kent County Council",11977489,"CLEVER KIDS LIMITED","2020-04-14",3315,"E","1PA","Additional Educational Needs and Resources","401",{"$f":"VLOOKUP(I8030,'[1]Sub Lookup'!$A$1:$B$65536,2,FALSE)","v":"Specialists Fees"}]
["Kent County Council",11984954,"COBNUTS WOODLAND NURSERY AND FOREST SCHOOL LIMITED","2020-04-14",25248.600000000002,"E","1KA","School Resources","528",{"$f":"VLOOKUP(I8046,'[1]Sub Lookup'!$A$1:$B$65536,2,FALSE)","v":"Early Years Education"}]
["Kent County Council",11971473,"COLLISDENE CARE CENTRE","2020-04-02",4032,"S","5AA","Learning Disability Support - 18 64 Long Term Support: Residential","530",{"$f":"VLOOKUP(I8063,'[1]Sub Lookup'!$A$1:$B$65536,2,FALSE)","v":"Commissioned Service - Other"}]
["Kent County Council",11983141,"COMMERCIAL SERVICES KENT LTD","2020-04-21",260.86,"S","31C","KCC Residential Short Break Units","200",{"$f":"VLOOKUP(I8070,'[1]Sub Lookup'!$A$1:$B$65536,2,FALSE)","v":"Repairs, Maintenance and Running Costs"}]
["Kent County Council",12001798,"COMMERCIAL SERVICES KENT LTD","2020-04-22",51711.08,"P","7WF","Transfer Stations","523",{"$f":"VLOOKUP(I8090,'[1]Sub Lookup'!$A$1:$B$65536,2,FALSE)","v":"Private Contractors"}]
["Kent County Council",11961426,"COMMERCIAL SERVICES TRADING LTD","2020-04-06",767.29,"P","7HM","Tree Maintenance","523",{"$f":"VLOOKUP(I8096,'[1]Sub Lookup'!$A$1:$B$65536,2,FALSE)","v":"Private Contractors"}]
["Kent County Council",12008664,"COMMERCIAL SERVICES TRADING LTD","2020-04-27",2787.31,"P","7HV","Depots","211",{"$f":"VLOOKUP(I8114,'[1]Sub Lookup'!$A$1:$B$65536,2,FALSE)","v":"Contract Hire and Operating Leases"}]
["Kent County Council",11992760,"COMPAID TRUST","2020-04-24",337.32,"S","5JJ","Physical Support - 18 64 Long Term Support: Community: Day Care","520",{"$f":"VLOOKUP(I8129,'[1]Sub Lookup'!$A$1:$B$65536,2,FALSE)","v":"Voluntary Associations"}]
["Kent County Council",11975893,"COMPASS FOSTERING EASTERN LTD","2020-04-06",3428.83,"S","35R","IS Fostering","527",{"$f":"VLOOKUP(I8142,'[1]Sub Lookup'!$A$1:$B$65536,2,FALSE)","v":"Services"}]
["Kent County Council",12009567,"COMPASS FOSTERING EASTERN LTD","2020-04-27",6771.6,"S","35R","IS Fostering","527",{"$f":"VLOOKUP(I8158,'[1]Sub Lookup'!$A$1:$B$65536,2,FALSE)","v":"Services"}]
["Kent County Council",12000957,"CONNECTIONS 4 YOU LTD T/A AIRPORT CONNECTIONS","2020-04-22",1540,"E","1RX","Admissions & Transport","222",{"$f":"VLOOKUP(I8176,'[1]Sub Lookup'!$A$1:$B$65536,2,FALSE)","v":"Home to School Transport - Hired"}]
["Kent County Council",12000965,"CONNECTIONS 4 YOU LTD T/A AIRPORT CONNECTIONS","2020-04-22",3520,"E","1RX","Admissions & Transport","222",{"$f":"VLOOKUP(I8182,'[1]Sub Lookup'!$A$1:$B$65536,2,FALSE)","v":"Home to School Transport - Hired"}]
["Kent County Council",11997267,"CONTINUITY OF CARE SERVICES LIMITED","2020-04-20",1075,"S","35F","IS Day Care Dis Child","527",{"$f":"VLOOKUP(I8195,'[1]Sub Lookup'!$A$1:$B$65536,2,FALSE)","v":"Services"}]
["Kent County Council",12018752,"COOKSDITCH HOUSE CARE LTD","2020-04-29",1741.04,"S","5PA","Sensory Support - 65+ Long Term Support: Residential","530",{"$f":"VLOOKUP(I8210,'[1]Sub Lookup'!$A$1:$B$65536,2,FALSE)","v":"Commissioned Service - Other"}]
["Kent County Council",11966136,"COPPER BEECHES CARE HOME FOUR SEASONS HEALTH CARE","2020-04-01",1685.22,"S","9AR","Revenue Balance Sheet","BEA",{"$f":"VLOOKUP(I8226,'[1]Sub Lookup'!$A$1:$B$65536,2,FALSE)","v":"Payments in Advance - General"}]
["Kent County Council",11976570,"CORAM ACADEMY LIMITED T/A CORAMBAAF ADOPTION AND FOSTERING ACADEMY","2020-04-14",12163.5,"S","35K","County Fostering Team","451",{"$f":"VLOOKUP(I8242,'[1]Sub Lookup'!$A$1:$B$65536,2,FALSE)","v":"Subscriptions"}]
["Kent County Council",11997142,"CORNFORD HOUSE LIMITED","2020-04-24",824.51,"S","5KG","Physical support - 65+ Long Term Support: Community: Home Care","530",{"$f":"VLOOKUP(I8254,'[1]Sub Lookup'!$A$1:$B$65536,2,FALSE)","v":"Commissioned Service - Other"}]
["Kent County Council",11976390,"COSMOS CARE LTD T/A EXPERTISE HOMECARE (SOUTH EAST COAST)","2020-04-06",733,"S","5KG","Physical support - 65+ Long Term Support: Community: Home Care","530",{"$f":"VLOOKUP(I8261,'[1]Sub Lookup'!$A$1:$B$65536,2,FALSE)","v":"Commissioned Service - Other"}]
["Kent County Council",11979726,"COSMOS CARE LTD T/A EXPERTISE HOMECARE (SOUTH EAST COAST)","2020-04-08",924,"S","5KG","Physical support - 65+ Long Term Support: Community: Home Care","530",{"$f":"VLOOKUP(I8278,'[1]Sub Lookup'!$A$1:$B$65536,2,FALSE)","v":"Commissioned Service - Other"}]
["Kent County Council",11992372,"COSMOS CARE LTD T/A EXPERTISE HOMECARE (SOUTH EAST COAST)","2020-04-16",914,"S","5KG","Physical support - 65+ Long Term Support: Community: Home Care","530",{"$f":"VLOOKUP(I8294,'[1]Sub Lookup'!$A$1:$B$65536,2,FALSE)","v":"Commissioned Service - Other"}]
["Kent County Council",12017868,"COSMOS CARE LTD T/A EXPERTISE HOMECARE (SOUTH EAST COAST)","2020-04-29",8011.38,"S","5XC","Commissioning & Service Delivery","530",{"$f":"VLOOKUP(I8308,'[1]Sub Lookup'!$A$1:$B$65536,2,FALSE)","v":"Commissioned Service - Other"}]
["Kent County Council",11992897,"COUNTRYSTYLE RECYCLING LTD","2020-04-24",14590.550000000001,"P","7WC","Recycling (Cost of processing recyclables)","523",{"$f":"VLOOKUP(I8322,'[1]Sub Lookup'!$A$1:$B$65536,2,FALSE)","v":"Private Contractors"}]
["Kent County Council",11994111,"COUNTRYSTYLE RECYCLING LTD","2020-04-24",364.95,"P","7WD","Compostable Waste (Windrow & In-vessel)","523",{"$f":"VLOOKUP(I8327,'[1]Sub Lookup'!$A$1:$B$65536,2,FALSE)","v":"Private Contractors"}]
["Kent County Council",11981981,"CPCAB","2020-04-09",1837,"K","2LE","Adult Education","400",{"$f":"VLOOKUP(I8346,'[1]Sub Lookup'!$A$1:$B$65536,2,FALSE)","v":"Examination Fees"}]
["Kent County Council",11964856,"CRAEGMOOR","2020-04-01",2560.11,"S","9AR","Revenue Balance Sheet","BEA",{"$f":"VLOOKUP(I8362,'[1]Sub Lookup'!$A$1:$B$65536,2,FALSE)","v":"Payments in Advance - General"}]
["Kent County Council",11966810,"CRAEGMOOR","2020-04-01",1254.8399999999999,"S","5XC","Commissioning & Service Delivery","530",{"$f":"VLOOKUP(I8374,'[1]Sub Lookup'!$A$1:$B$65536,2,FALSE)","v":"Commissioned Service - Other"}]
["Kent County Council",11966456,"CRAEGMOOR","2020-04-01",12972.470000000001,"S","5XC","Commissioning & Service Delivery","530",{"$f":"VLOOKUP(I8390,'[1]Sub Lookup'!$A$1:$B$65536,2,FALSE)","v":"Commissioned Service - Other"}]
["Kent County Council",11964852,"CRAEGMOOR","2020-04-01",1219.26,"S","9AR","Revenue Balance Sheet","BEA",{"$f":"VLOOKUP(I8393,'[1]Sub Lookup'!$A$1:$B$65536,2,FALSE)","v":"Payments in Advance - General"}]
["Kent County Council",11961636,"CRAEGMOOR","2020-04-01",2908,"S","9AR","Revenue Balance Sheet","BEA",{"$f":"VLOOKUP(I8414,'[1]Sub Lookup'!$A$1:$B$65536,2,FALSE)","v":"Payments in Advance - General"}]
["Kent County Council",11961651,"CRAEGMOOR","2020-04-01",1301.81,"S","5AA","Learning Disability Support - 18 64 Long Term Support: Residential","530",{"$f":"VLOOKUP(I8421,'[1]Sub Lookup'!$A$1:$B$65536,2,FALSE)","v":"Commissioned Service - Other"}]
["Kent County Council",11966748,"CRAEGMOOR","2020-04-01",6955.58,"S","5XC","Commissioning & Service Delivery","530",{"$f":"VLOOKUP(I8440,'[1]Sub Lookup'!$A$1:$B$65536,2,FALSE)","v":"Commissioned Service - Other"}]
["Kent County Council",11961663,"CRAEGMOOR","2020-04-01",6046.86,"S","9AR","Revenue Balance Sheet","BEA",{"$f":"VLOOKUP(I8445,'[1]Sub Lookup'!$A$1:$B$65536,2,FALSE)","v":"Payments in Advance - General"}]
["Kent County Council",11966692,"CRAEGMOOR","2020-04-01",7343.02,"S","5XC","Commissioning & Service Delivery","530",{"$f":"VLOOKUP(I8461,'[1]Sub Lookup'!$A$1:$B$65536,2,FALSE)","v":"Commissioned Service - Other"}]
["Kent County Council",11912589,"CRAEGMOOR","2020-04-03",2785.44,"S","5AH","Learning Disability Support - 18 64 Long Term Support: Community: Supported Living","530",{"$f":"VLOOKUP(I8473,'[1]Sub Lookup'!$A$1:$B$65536,2,FALSE)","v":"Commissioned Service - Other"}]
["Kent County Council",11912587,"CRAEGMOOR","2020-04-03",1564.76,"S","5BH","Learning Disability Support - 65+ Long Term Support: Community: Supported Living","530",{"$f":"VLOOKUP(I8489,'[1]Sub Lookup'!$A$1:$B$65536,2,FALSE)","v":"Commissioned Service - Other"}]
["Kent County Council",12013321,"CRAEGMOOR","2020-04-28",3192.52,"S","5BA","Learning Disability Support - 65+ Long Term Support: Residential","530",{"$f":"VLOOKUP(I8506,'[1]Sub Lookup'!$A$1:$B$65536,2,FALSE)","v":"Commissioned Service - Other"}]
["Kent County Council",12013316,"CRAEGMOOR","2020-04-28",3673.12,"S","5AA","Learning Disability Support - 18 64 Long Term Support: Residential","530",{"$f":"VLOOKUP(I8513,'[1]Sub Lookup'!$A$1:$B$65536,2,FALSE)","v":"Commissioned Service - Other"}]
["Kent County Council",12013325,"CRAEGMOOR","2020-04-28",6458.32,"S","5AA","Learning Disability Support - 18 64 Long Term Support: Residential","530",{"$f":"VLOOKUP(I8529,'[1]Sub Lookup'!$A$1:$B$65536,2,FALSE)","v":"Commissioned Service - Other"}]
["Kent County Council",12013312,"CRAEGMOOR","2020-04-28",3673.12,"S","5AA","Learning Disability Support - 18 64 Long Term Support: Residential","530",{"$f":"VLOOKUP(I8539,'[1]Sub Lookup'!$A$1:$B$65536,2,FALSE)","v":"Commissioned Service - Other"}]
["Kent County Council",12017616,"CRAEGMOOR","2020-04-29",6325,"S","5XC","Commissioning & Service Delivery","530",{"$f":"VLOOKUP(I8557,'[1]Sub Lookup'!$A$1:$B$65536,2,FALSE)","v":"Commissioned Service - Other"}]
["Kent County Council",12001775,"CRAWFORD SCIENTIFIC","2020-04-28",658.5,"K","2RC","Kent Scientific Services","300",{"$f":"VLOOKUP(I8572,'[1]Sub Lookup'!$A$1:$B$65536,2,FALSE)","v":"Equipment, Furniture and Materials and Livestock"}]
["Kent County Council",12007137,"CREATIVE FOLKESTONE","2020-04-24",5395.5,"K","2LB","Arts Development","401",{"$f":"VLOOKUP(I8581,'[1]Sub Lookup'!$A$1:$B$65536,2,FALSE)","v":"Specialists Fees"}]
["Kent County Council",11976682,"CREEDY NUMBER 1 LIMITED-CREEDY HOUSE","2020-04-15",-1757.8,"S","5KB","Physical support - 65+ Long Term Support: Nursing","530",{"$f":"VLOOKUP(I8601,'[1]Sub Lookup'!$A$1:$B$65536,2,FALSE)","v":"Commissioned Service - Other"}]
["Kent County Council",11984264,"CREEPY CLAWS","2020-04-14",1300,"E","1PA","Additional Educational Needs and Resources","401",{"$f":"VLOOKUP(I8605,'[1]Sub Lookup'!$A$1:$B$65536,2,FALSE)","v":"Specialists Fees"}]
["Kent County Council",11966461,"CROSSWAYS COMMUNITY","2020-04-01",6543.4400000000005,"S","5XC","Commissioning & Service Delivery","530",{"$f":"VLOOKUP(I8625,'[1]Sub Lookup'!$A$1:$B$65536,2,FALSE)","v":"Commissioned Service - Other"}]
["Kent County Council",11970682,"CROSSWAYS COMMUNITY","2020-04-09",1347.8600000000001,"S","5EA","Mental Health Support - 18 64 Long Term Support: Residential","530",{"$f":"VLOOKUP(I8638,'[1]Sub Lookup'!$A$1:$B$65536,2,FALSE)","v":"Commissioned Service - Other"}]
["Kent County Council",11974263,"CRUSADERS COMMUNITY BASKETBALL LTD","2020-04-07",485,"K","2LD","Sports & Leisure","450",{"$f":"VLOOKUP(I8649,'[1]Sub Lookup'!$A$1:$B$65536,2,FALSE)","v":"Grants"}]
["Kent County Council",12007670,"CSN CARE GROUP LTD T/A MYLIFE","2020-04-24",314.7,"S","5JH","Physical Support - 18 64 Long Term Support: Community: Supported Living","530",{"$f":"VLOOKUP(I8669,'[1]Sub Lookup'!$A$1:$B$65536,2,FALSE)","v":"Commissioned Service - Other"}]
["Kent County Council",11961546,"CUBIC TRANSPORTATION SYSTEM LTD","2020-04-03",11271.460000000001,"P","7HK","Road Safety","523",{"$f":"VLOOKUP(I8685,'[1]Sub Lookup'!$A$1:$B$65536,2,FALSE)","v":"Private Contractors"}]
["Kent County Council",11966955,"CUMBERLAND RESIDENTIAL CARE HOME","2020-04-01",2060,"S","5XC","Commissioning & Service Delivery","530",{"$f":"VLOOKUP(I8693,'[1]Sub Lookup'!$A$1:$B$65536,2,FALSE)","v":"Commissioned Service - Other"}]
["Kent County Council",12018272,"CUMBERLAND RESIDENTIAL CARE HOME","2020-04-29",600,"S","5XC","Commissioning & Service Delivery","530",{"$f":"VLOOKUP(I8700,'[1]Sub Lookup'!$A$1:$B$65536,2,FALSE)","v":"Commissioned Service - Other"}]
["Kent County Council",11982611,"CUMBRIA HOUSE RESIDENTIAL HOME","2020-04-08",1950.1200000000001,"S","5TA","Support with Memory & Cognition - 65+ Long Term Support: Residential","530",{"$f":"VLOOKUP(I8717,'[1]Sub Lookup'!$A$1:$B$65536,2,FALSE)","v":"Commissioned Service - Other"}]
["Kent County Council",11997417,"D J S MINIBUSES","2020-04-20",3300,"E","1RX","Admissions & Transport","222",{"$f":"VLOOKUP(I8737,'[1]Sub Lookup'!$A$1:$B$65536,2,FALSE)","v":"Home to School Transport - Hired"}]
["Kent County Council",11977379,"DAISY UPDATA COMMUNICATIONS LTD","2020-04-07",18900,"C","8DT","Information Services","305",{"$f":"VLOOKUP(I8751,'[1]Sub Lookup'!$A$1:$B$65536,2,FALSE)","v":"Computer and Other IT Expenditure (Comms Charges)"}]
["Kent County Council",11966470,"DARENTH GRANGE RESIDENTIAL HOME","2020-04-01",2884.62,"S","5XC","Commissioning & Service Delivery","530",{"$f":"VLOOKUP(I8761,'[1]Sub Lookup'!$A$1:$B$65536,2,FALSE)","v":"Commissioned Service - Other"}]
["Kent County Council",12011467,"DARENTH GRANGE RESIDENTIAL HOME","2020-04-29",-2360,"S","5KU","Physical support - 65+ Short Term - Other - Residential","530",{"$f":"VLOOKUP(I8766,'[1]Sub Lookup'!$A$1:$B$65536,2,FALSE)","v":"Commissioned Service - Other"}]
["Kent County Council",11984120,"DARTFORD BOROUGH COUNCIL","2020-04-14",1546.9,"C","36P","Children's Centres","123",{"$f":"VLOOKUP(I8785,'[1]Sub Lookup'!$A$1:$B$65536,2,FALSE)","v":"National and Non Domestic Rates and Council Tax"}]
["Kent County Council",11973794,"DARTFORD JUDO CLUB","2020-04-09",540,"P","7HK","Road Safety","120",{"$f":"VLOOKUP(I8805,'[1]Sub Lookup'!$A$1:$B$65536,2,FALSE)","v":"External - Rent, Room Hire & Service Charges"}]
["Kent County Council",11966547,"DAVIS CARE LTD \u0096- GARLAND HOUSE","2020-04-01",4992.5,"S","5XC","Commissioning & Service Delivery","530",{"$f":"VLOOKUP(I8817,'[1]Sub Lookup'!$A$1:$B$65536,2,FALSE)","v":"Commissioned Service - Other"}]
["Kent County Council",12019087,"DAYA CARE GROUP LTD T/A CAREMARK DARTFORD AND GRAVESHAM","2020-04-29",1194,"S","5AH","Learning Disability Support - 18 64 Long Term Support: Community: Supported Living","530",{"$f":"VLOOKUP(I8829,'[1]Sub Lookup'!$A$1:$B$65536,2,FALSE)","v":"Commissioned Service - Other"}]
["Kent County Council",11970900,"DEERS PARK CARE CENTRE","2020-04-01",2240.44,"S","5FA","Mental Health Support - 65+ Long Term Support: Residential","530",{"$f":"VLOOKUP(I8846,'[1]Sub Lookup'!$A$1:$B$65536,2,FALSE)","v":"Commissioned Service - Other"}]
["Kent County Council",11971655,"DEERS PARK CARE CENTRE","2020-04-02",3374.16,"S","5EA","Mental Health Support - 18 64 Long Term Support: Residential","530",{"$f":"VLOOKUP(I8853,'[1]Sub Lookup'!$A$1:$B$65536,2,FALSE)","v":"Commissioned Service - Other"}]
["Kent County Council",12017455,"DEERS PARK CARE CENTRE","2020-04-29",2282.6799999999998,"S","5FA","Mental Health Support - 65+ Long Term Support: Residential","530",{"$f":"VLOOKUP(I8860,'[1]Sub Lookup'!$A$1:$B$65536,2,FALSE)","v":"Commissioned Service - Other"}]
["Kent County Council",11989285,"REDACTED - Personal Payment","2020-04-14",1527.3600000000001,"S","5BC","Learning Disability Support - 65+ Long Term Support: Supported Accommodation","530",{"$f":"VLOOKUP(I8879,'[1]Sub Lookup'!$A$1:$B$65536,2,FALSE)","v":"Commissioned Service - Other"}]
["Kent County Council",11976764,"DHYANI CARE LTD","2020-04-06",2800,"S","5KA","Physical support - 65+ Long Term Support: Residential","530",{"$f":"VLOOKUP(I8897,'[1]Sub Lookup'!$A$1:$B$65536,2,FALSE)","v":"Commissioned Service - Other"}]
["Kent County Council",11973967,"DIMENSIONS (ADP) LTD","2020-04-03",7336,"S","5AH","Learning Disability Support - 18 64 Long Term Support: Community: Supported Living","530",{"$f":"VLOOKUP(I8912,'[1]Sub Lookup'!$A$1:$B$65536,2,FALSE)","v":"Commissioned Service - Other"}]
["Kent County Council",11997795,"DIMENSIONS (ADP) LTD","2020-04-20",7336,"S","5BH","Learning Disability Support - 65+ Long Term Support: Community: Supported Living","530",{"$f":"VLOOKUP(I8921,'[1]Sub Lookup'!$A$1:$B$65536,2,FALSE)","v":"Commissioned Service - Other"}]
["Kent County Council",12017895,"DIMENSIONS (ADP) LTD","2020-04-29",21008.920000000002,"S","5XC","Commissioning & Service Delivery","530",{"$f":"VLOOKUP(I8928,'[1]Sub Lookup'!$A$1:$B$65536,2,FALSE)","v":"Commissioned Service - Other"}]
["Kent County Council",11997466,"DIRECT CARS (TAXIS) LIMITED","2020-04-20",2316.5,"E","1RX","Admissions & Transport","222",{"$f":"VLOOKUP(I8945,'[1]Sub Lookup'!$A$1:$B$65536,2,FALSE)","v":"Home to School Transport - Hired"}]
["Kent County Council",11953199,"DISABILITY DIRECT","2020-04-06",266,"S","5JF","Physical Support - 18 64 Long Term Support: Community: Direct Payments","530",{"$f":"VLOOKUP(I8965,'[1]Sub Lookup'!$A$1:$B$65536,2,FALSE)","v":"Commissioned Service - Other"}]
["Kent County Council",11963916,"DISABILITY DIRECT","2020-04-09",2362.16,"S","5AF","Learning Disability Support - 18 64 Long Term Support: Community: Direct Payments","530",{"$f":"VLOOKUP(I8978,'[1]Sub Lookup'!$A$1:$B$65536,2,FALSE)","v":"Commissioned Service - Other"}]
["Kent County Council",11862790,"DISABILITY DIRECT","2020-04-09",690.04,"S","5AF","Learning Disability Support - 18 64 Long Term Support: Community: Direct Payments","530",{"$f":"VLOOKUP(I8989,'[1]Sub Lookup'!$A$1:$B$65536,2,FALSE)","v":"Commissioned Service - Other"}]
["Kent County Council",11985470,"DISABILITY DIRECT","2020-04-14",3256.52,"S","5AF","Learning Disability Support - 18 64 Long Term Support: Community: Direct Payments","523",{"$f":"VLOOKUP(I8996,'[1]Sub Lookup'!$A$1:$B$65536,2,FALSE)","v":"Private Contractors"}]
["Kent County Council",12000304,"DISABILITY DIRECT","2020-04-21",1460.3700000000001,"S","5AF","Learning Disability Support - 18 64 Long Term Support: Community: Direct Payments","530",{"$f":"VLOOKUP(I9011,'[1]Sub Lookup'!$A$1:$B$65536,2,FALSE)","v":"Commissioned Service - Other"}]
["Kent County Council",11943896,"DISABILITY DIRECT","2020-04-27",4346.8,"S","5AF","Learning Disability Support - 18 64 Long Term Support: Community: Direct Payments","530",{"$f":"VLOOKUP(I9033,'[1]Sub Lookup'!$A$1:$B$65536,2,FALSE)","v":"Commissioned Service - Other"}]
["Kent County Council",12006425,"DISCOVERY NURSERY LTD","2020-04-23",313.28000000000003,"E","1PA","Additional Educational Needs and Resources","528",{"$f":"VLOOKUP(I9044,'[1]Sub Lookup'!$A$1:$B$65536,2,FALSE)","v":"Early Years Education"}]
["Kent County Council",11975655,"DIVERSE CARE (UK) LTD","2020-04-06",3491.53,"S","35R","IS Fostering","527",{"$f":"VLOOKUP(I9048,'[1]Sub Lookup'!$A$1:$B$65536,2,FALSE)","v":"Services"}]
["Kent County Council",11981888,"DMC CONSULTING SERVICES LTD","2020-04-16",294,"S","5KG","Physical support - 65+ Long Term Support: Community: Home Care","530",{"$f":"VLOOKUP(I9064,'[1]Sub Lookup'!$A$1:$B$65536,2,FALSE)","v":"Commissioned Service - Other"}]
["Kent County Council",11985856,"DMC CONSULTING SERVICES LTD","2020-04-23",448,"S","5KG","Physical support - 65+ Long Term Support: Community: Home Care","530",{"$f":"VLOOKUP(I9077,'[1]Sub Lookup'!$A$1:$B$65536,2,FALSE)","v":"Commissioned Service - Other"}]
["Kent County Council",11992728,"DMC CONSULTING SERVICES LTD","2020-04-30",252,"S","5KG","Physical support - 65+ Long Term Support: Community: Home Care","530",{"$f":"VLOOKUP(I9088,'[1]Sub Lookup'!$A$1:$B$65536,2,FALSE)","v":"Commissioned Service - Other"}]
["Kent County Council",11984184,"DOVER DISTRICT COUNCIL","2020-04-14",1372.25,"C","2LC","Libraries, Registration & Archives","123",{"$f":"VLOOKUP(I9110,'[1]Sub Lookup'!$A$1:$B$65536,2,FALSE)","v":"National and Non Domestic Rates and Council Tax"}]
["Kent County Council",11984186,"DOVER DISTRICT COUNCIL","2020-04-14",3642.7000000000003,"C","37N","Early Years","123",{"$f":"VLOOKUP(I9116,'[1]Sub Lookup'!$A$1:$B$65536,2,FALSE)","v":"National and Non Domestic Rates and Council Tax"}]
["Kent County Council",11992513,"DR CHRISTOPHER MAYER","2020-04-16",339.78000000000003,"S","39X","SCS - Legal Charges","401",{"$f":"VLOOKUP(I9132,'[1]Sub Lookup'!$A$1:$B$65536,2,FALSE)","v":"Specialists Fees"}]
["Kent County Council",11992396,"DR K ABOUALFA","2020-04-16",986.2,"K","2RF","Coroners","401",{"$f":"VLOOKUP(I9143,'[1]Sub Lookup'!$A$1:$B$65536,2,FALSE)","v":"Specialists Fees"}]
["Kent County Council",11972100,"DUKE (CONTRACTORS) LTD","2020-04-16",22139.83,"P","7HZ","Structural Maintenance and Major Improvements","C20",{"$f":"VLOOKUP(I9160,'[1]Sub Lookup'!$A$1:$B$65536,2,FALSE)","v":"Infrastructure"}]
["Kent County Council",12017824,"DYZACK LIMITED","2020-04-29",1181.3700000000001,"S","5XC","Commissioning & Service Delivery","530",{"$f":"VLOOKUP(I9176,'[1]Sub Lookup'!$A$1:$B$65536,2,FALSE)","v":"Commissioned Service - Other"}]
["Kent County Council",11980106,"EARLY BIRDS NURSERY FINBERRY PRIMARY SCHOOL","2020-04-08",1617,"E","1KA","School Resources","528",{"$f":"VLOOKUP(I9184,'[1]Sub Lookup'!$A$1:$B$65536,2,FALSE)","v":"Early Years Education"}]
["Kent County Council",11959423,"EAST KENT HOSPITALS UNIVERSITY NHS FOUNDATION TRUST","2020-04-03",4915,"E","1PA","Additional Educational Needs and Resources","401",{"$f":"VLOOKUP(I9200,'[1]Sub Lookup'!$A$1:$B$65536,2,FALSE)","v":"Specialists Fees"}]
["Kent County Council",11959118,"EAST KENT HOSPITALS UNIVERSITY NHS FOUNDATION TRUST","2020-04-03",3477,"E","1PA","Additional Educational Needs and Resources","401",{"$f":"VLOOKUP(I9209,'[1]Sub Lookup'!$A$1:$B$65536,2,FALSE)","v":"Specialists Fees"}]
["Kent County Council",11976187,"EAST KENT MENCAP","2020-04-06",3911.28,"S","5AH","Learning Disability Support - 18 64 Long Term Support: Community: Supported Living","520",{"$f":"VLOOKUP(I9228,'[1]Sub Lookup'!$A$1:$B$65536,2,FALSE)","v":"Voluntary Associations"}]
["Kent County Council",11984133,"EAST KENT MENCAP","2020-04-17",282.98,"S","5AJ","Learning Disability Support - 18 64 Long Term Support: Community: Day Care","520",{"$f":"VLOOKUP(I9242,'[1]Sub Lookup'!$A$1:$B$65536,2,FALSE)","v":"Voluntary Associations"}]
["Kent County Council",11983546,"EAST KENT MENCAP","2020-04-17",301.84000000000003,"S","5AJ","Learning Disability Support - 18 64 Long Term Support: Community: Day Care","530",{"$f":"VLOOKUP(I9252,'[1]Sub Lookup'!$A$1:$B$65536,2,FALSE)","v":"Commissioned Service - Other"}]
["Kent County Council",12007288,"EAST KENT MENCAP","2020-04-24",1091.52,"S","5AH","Learning Disability Support - 18 64 Long Term Support: Community: Supported Living","520",{"$f":"VLOOKUP(I9268,'[1]Sub Lookup'!$A$1:$B$65536,2,FALSE)","v":"Voluntary Associations"}]
["Kent County Council",12007226,"EAST KENT MENCAP","2020-04-24",394.8,"S","5AH","Learning Disability Support - 18 64 Long Term Support: Community: Supported Living","520",{"$f":"VLOOKUP(I9275,'[1]Sub Lookup'!$A$1:$B$65536,2,FALSE)","v":"Voluntary Associations"}]
["Kent County Council",12007254,"EAST KENT MENCAP","2020-04-24",493.36,"S","5AH","Learning Disability Support - 18 64 Long Term Support: Community: Supported Living","520",{"$f":"VLOOKUP(I9296,'[1]Sub Lookup'!$A$1:$B$65536,2,FALSE)","v":"Voluntary Associations"}]
["Kent County Council",12007223,"EAST KENT MENCAP","2020-04-24",970.24,"S","5AH","Learning Disability Support - 18 64 Long Term Support: Community: Supported Living","520",{"$f":"VLOOKUP(I9308,'[1]Sub Lookup'!$A$1:$B$65536,2,FALSE)","v":"Voluntary Associations"}]
["Kent County Council",12007239,"EAST KENT MENCAP","2020-04-24",424.48,"S","5AH","Learning Disability Support - 18 64 Long Term Support: Community: Supported Living","520",{"$f":"VLOOKUP(I9320,'[1]Sub Lookup'!$A$1:$B$65536,2,FALSE)","v":"Voluntary Associations"}]
["Kent County Council",11990195,"EAST SUSSEX COUNTY COUNCIL","2020-04-15",23979.16,"P","7HE","Public Transport","510",{"$f":"VLOOKUP(I9340,'[1]Sub Lookup'!$A$1:$B$65536,2,FALSE)","v":"Other Local Authorities"}]
["Kent County Council",11976327,"EC1 SOLUTIONS","2020-04-06",1860,"S","36D","Virtual Schools Kent","304",{"$f":"VLOOKUP(I9355,'[1]Sub Lookup'!$A$1:$B$65536,2,FALSE)","v":"Computer and Other IT Expenditure (Maintenance)"}]
["Kent County Council",11970320,"EDENDALE LODGE","2020-04-01",1976.8400000000001,"S","5KA","Physical support - 65+ Long Term Support: Residential","530",{"$f":"VLOOKUP(I9364,'[1]Sub Lookup'!$A$1:$B$65536,2,FALSE)","v":"Commissioned Service - Other"}]
["Kent County Council",11983581,"EDIFY TRAINING","2020-04-17",300,"C","8DH","Personnel and Development","064",{"$f":"VLOOKUP(I9374,'[1]Sub Lookup'!$A$1:$B$65536,2,FALSE)","v":"External Training"}]
["Kent County Council",12007190,"EDSECO LTD T/A THE EDUCATION PEOPLE","2020-04-24",745,"E","1PA","Additional Educational Needs and Resources","064",{"$f":"VLOOKUP(I9388,'[1]Sub Lookup'!$A$1:$B$65536,2,FALSE)","v":"External Training"}]
["Kent County Council",11966232,"EGERTON ROAD (PRIORY HEALTHCARE)","2020-04-01",1073.73,"S","5XC","Commissioning & Service Delivery","530",{"$f":"VLOOKUP(I9408,'[1]Sub Lookup'!$A$1:$B$65536,2,FALSE)","v":"Commissioned Service - Other"}]
["Kent County Council",11983259,"ELISHA CURRIER T/A HALFWAY HOMES","2020-04-09",2000,"S","32P","Rented Accommodation Asylum 16-17","527",{"$f":"VLOOKUP(I9421,'[1]Sub Lookup'!$A$1:$B$65536,2,FALSE)","v":"Services"}]
["Kent County Council",11982642,"ELLENOR","2020-04-17",5000,"S","35M","Other Preventative Services","450",{"$f":"VLOOKUP(I9432,'[1]Sub Lookup'!$A$1:$B$65536,2,FALSE)","v":"Grants"}]
["Kent County Council",11976758,"ELLIOTT HOUSE","2020-04-06",1900.3600000000001,"S","5TA","Support with Memory & Cognition - 65+ Long Term Support: Residential","530",{"$f":"VLOOKUP(I9436,'[1]Sub Lookup'!$A$1:$B$65536,2,FALSE)","v":"Commissioned Service - Other"}]
["Kent County Council",11976724,"ELM LEA RESIDENTIAL CARE HOME","2020-04-06",5199.66,"S","5KA","Physical support - 65+ Long Term Support: Residential","530",{"$f":"VLOOKUP(I9456,'[1]Sub Lookup'!$A$1:$B$65536,2,FALSE)","v":"Commissioned Service - Other"}]
["Kent County Council",11997940,"ELM LEA RESIDENTIAL CARE HOME","2020-04-29",-970.99,"S","5KA","Physical support - 65+ Long Term Support: Residential","530",{"$f":"VLOOKUP(I9463,'[1]Sub Lookup'!$A$1:$B$65536,2,FALSE)","v":"Commissioned Service - Other"}]
["Kent County Council",12011765,"ELYSIUM HEALTHCARE LTD","2020-04-28",8085.42,"S","5AA","Learning Disability Support - 18 64 Long Term Support: Residential","523",{"$f":"VLOOKUP(I9487,'[1]Sub Lookup'!$A$1:$B$65536,2,FALSE)","v":"Private Contractors"}]
["Kent County Council",12019047,"ELYSIUM HEALTHCARE LTD","2020-04-29",7186.76,"S","5AA","Learning Disability Support - 18 64 Long Term Support: Residential","530",{"$f":"VLOOKUP(I9500,'[1]Sub Lookup'!$A$1:$B$65536,2,FALSE)","v":"Commissioned Service - Other"}]
["Kent County Council",12019045,"ELYSIUM HEALTHCARE LTD","2020-04-29",7609.84,"S","5AA","Learning Disability Support - 18 64 Long Term Support: Residential","530",{"$f":"VLOOKUP(I9507,'[1]Sub Lookup'!$A$1:$B$65536,2,FALSE)","v":"Commissioned Service - Other"}]
["Kent County Council",11982577,"ELYSIUM SUPPORTED LIVING","2020-04-08",6663.79,"S","5AH","Learning Disability Support - 18 64 Long Term Support: Community: Supported Living","530",{"$f":"VLOOKUP(I9520,'[1]Sub Lookup'!$A$1:$B$65536,2,FALSE)","v":"Commissioned Service - Other"}]
["Kent County Council",11983830,"ELYSIUM SUPPORTED LIVING","2020-04-09",3479.6,"S","5JH","Physical Support - 18 64 Long Term Support: Community: Supported Living","530",{"$f":"VLOOKUP(I9531,'[1]Sub Lookup'!$A$1:$B$65536,2,FALSE)","v":"Commissioned Service - Other"}]
["Kent County Council",11971291,"EMERSON GRANGE CARE HOME","2020-04-02",4800,"S","5KB","Physical support - 65+ Long Term Support: Nursing","530",{"$f":"VLOOKUP(I9553,'[1]Sub Lookup'!$A$1:$B$65536,2,FALSE)","v":"Commissioned Service - Other"}]
["Kent County Council",12004482,"EMILY JACKSON HOUSE","2020-04-22",8328.57,"S","5KB","Physical support - 65+ Long Term Support: Nursing","530",{"$f":"VLOOKUP(I9568,'[1]Sub Lookup'!$A$1:$B$65536,2,FALSE)","v":"Commissioned Service - Other"}]
["Kent County Council",11967084,"ENABLING CARE FOR YOU LTD","2020-04-01",349.14,"S","5XC","Commissioning & Service Delivery","530",{"$f":"VLOOKUP(I9575,'[1]Sub Lookup'!$A$1:$B$65536,2,FALSE)","v":"Commissioned Service - Other"}]
["Kent County Council",11959569,"ENABLING CARE FOR YOU LTD","2020-04-03",1005.76,"S","5KG","Physical support - 65+ Long Term Support: Community: Home Care","530",{"$f":"VLOOKUP(I9586,'[1]Sub Lookup'!$A$1:$B$65536,2,FALSE)","v":"Commissioned Service - Other"}]
["Kent County Council",11961260,"ENABLING CARE FOR YOU LTD","2020-04-09",256.02,"S","5KG","Physical support - 65+ Long Term Support: Community: Home Care","530",{"$f":"VLOOKUP(I9599,'[1]Sub Lookup'!$A$1:$B$65536,2,FALSE)","v":"Commissioned Service - Other"}]
["Kent County Council",12018408,"ENABLING CARE FOR YOU LTD","2020-04-29",349.14,"S","5XC","Commissioning & Service Delivery","530",{"$f":"VLOOKUP(I9615,'[1]Sub Lookup'!$A$1:$B$65536,2,FALSE)","v":"Commissioned Service - Other"}]
["Kent County Council",11971332,"ENDURANCE CARE LTD","2020-04-02",4457.2,"S","5AH","Learning Disability Support - 18 64 Long Term Support: Community: Supported Living","530",{"$f":"VLOOKUP(I9636,'[1]Sub Lookup'!$A$1:$B$65536,2,FALSE)","v":"Commissioned Service - Other"}]
["Kent County Council",11976912,"ENDURANCE CARE LTD","2020-04-06",1277.56,"S","5JH","Physical Support - 18 64 Long Term Support: Community: Supported Living","530",{"$f":"VLOOKUP(I9643,'[1]Sub Lookup'!$A$1:$B$65536,2,FALSE)","v":"Commissioned Service - Other"}]
["Kent County Council",11976648,"ENDURANCE CARE LTD","2020-04-06",2577.44,"S","5JH","Physical Support - 18 64 Long Term Support: Community: Supported Living","530",{"$f":"VLOOKUP(I9652,'[1]Sub Lookup'!$A$1:$B$65536,2,FALSE)","v":"Commissioned Service - Other"}]
["Kent County Council",11993501,"ENDURANCE CARE LTD","2020-04-16",3404.08,"S","5AH","Learning Disability Support - 18 64 Long Term Support: Community: Supported Living","530",{"$f":"VLOOKUP(I9667,'[1]Sub Lookup'!$A$1:$B$65536,2,FALSE)","v":"Commissioned Service - Other"}]
["Kent County Council",11995856,"ENDURANCE CARE LTD","2020-04-17",3669.36,"S","5AH","Learning Disability Support - 18 64 Long Term Support: Community: Supported Living","530",{"$f":"VLOOKUP(I9681,'[1]Sub Lookup'!$A$1:$B$65536,2,FALSE)","v":"Commissioned Service - Other"}]
["Kent County Council",12008675,"ENDURANCE CARE LTD","2020-04-24",5910.9400000000005,"S","5AH","Learning Disability Support - 18 64 Long Term Support: Community: Supported Living","530",{"$f":"VLOOKUP(I9691,'[1]Sub Lookup'!$A$1:$B$65536,2,FALSE)","v":"Commissioned Service - Other"}]
["Kent County Council",12008322,"ENDURANCE CARE LTD","2020-04-24",2958.12,"S","5AH","Learning Disability Support - 18 64 Long Term Support: Community: Supported Living","530",{"$f":"VLOOKUP(I9711,'[1]Sub Lookup'!$A$1:$B$65536,2,FALSE)","v":"Commissioned Service - Other"}]
["Kent County Council",12010965,"ENDURANCE CARE LTD","2020-04-27",3562.86,"S","5AH","Learning Disability Support - 18 64 Long Term Support: Community: Supported Living","530",{"$f":"VLOOKUP(I9718,'[1]Sub Lookup'!$A$1:$B$65536,2,FALSE)","v":"Commissioned Service - Other"}]
["Kent County Council",12011719,"ENDURANCE CARE LTD","2020-04-28",758.4,"S","5AJ","Learning Disability Support - 18 64 Long Term Support: Community: Day Care","523",{"$f":"VLOOKUP(I9735,'[1]Sub Lookup'!$A$1:$B$65536,2,FALSE)","v":"Private Contractors"}]
["Kent County Council",12013879,"ENDURANCE CARE LTD","2020-04-28",1710.04,"S","5AH","Learning Disability Support - 18 64 Long Term Support: Community: Supported Living","530",{"$f":"VLOOKUP(I9747,'[1]Sub Lookup'!$A$1:$B$65536,2,FALSE)","v":"Commissioned Service - Other"}]
["Kent County Council",12014485,"ENDURANCE CARE LTD","2020-04-29",3729.84,"S","5AH","Learning Disability Support - 18 64 Long Term Support: Community: Supported Living","530",{"$f":"VLOOKUP(I9759,'[1]Sub Lookup'!$A$1:$B$65536,2,FALSE)","v":"Commissioned Service - Other"}]
["Kent County Council",12009411,"ENSIGN BUS COMPANY LTD","2020-04-29",1450,"P","7HF","Concessionary Fares","523",{"$f":"VLOOKUP(I9779,'[1]Sub Lookup'!$A$1:$B$65536,2,FALSE)","v":"Private Contractors"}]
["Kent County Council",11975386,"ETHELBERT SPECIALIST HOMES LIMITED","2020-04-06",3133.4300000000003,"S","35R","IS Fostering","527",{"$f":"VLOOKUP(I9794,'[1]Sub Lookup'!$A$1:$B$65536,2,FALSE)","v":"Services"}]
["Kent County Council",11997212,"ETHELBERT SPECIALIST HOMES LIMITED","2020-04-24",3651.04,"S","35R","IS Fostering","527",{"$f":"VLOOKUP(I9803,'[1]Sub Lookup'!$A$1:$B$65536,2,FALSE)","v":"Services"}]
["Kent County Council",11959483,"EUCLID LTD","2020-04-03",3395,"P","7HC","Transport Planning, Policy & Strategy","523",{"$f":"VLOOKUP(I9813,'[1]Sub Lookup'!$A$1:$B$65536,2,FALSE)","v":"Private Contractors"}]
["Kent County Council",11966512,"EVERYCARE WEST KENT LTD","2020-04-01",8821.8000000000011,"S","5XC","Commissioning & Service Delivery","530",{"$f":"VLOOKUP(I9827,'[1]Sub Lookup'!$A$1:$B$65536,2,FALSE)","v":"Commissioned Service - Other"}]
["Kent County Council",11961549,"EVERYCARE WEST KENT LTD","2020-04-09",529.6,"S","5KG","Physical support - 65+ Long Term Support: Community: Home Care","530",{"$f":"VLOOKUP(I9847,'[1]Sub Lookup'!$A$1:$B$65536,2,FALSE)","v":"Commissioned Service - Other"}]
["Kent County Council",11955369,"EVERYCARE WEST KENT LTD","2020-04-30",951,"S","5JG","Physical Support - 18 64 Long Term Support: Community: Home Care","530",{"$f":"VLOOKUP(I9860,'[1]Sub Lookup'!$A$1:$B$65536,2,FALSE)","v":"Commissioned Service - Other"}]
["Kent County Council",12009556,"EXCLUSIVE ALLIED SERVICES LIMITED","2020-04-28",540,"S","35F","IS Day Care Dis Child","527",{"$f":"VLOOKUP(I9871,'[1]Sub Lookup'!$A$1:$B$65536,2,FALSE)","v":"Services"}]
["Kent County Council",11957175,"EXEGESIS SDM LTD","2020-04-01",12707,"P","7PF","Heritage Conservation","303",{"$f":"VLOOKUP(I9879,'[1]Sub Lookup'!$A$1:$B$65536,2,FALSE)","v":"Computer and Other IT Expenditure (Software)"}]
["Kent County Council",11959523,"EXPERTISE HOMECARE (CENTRAL & WEST KENT) LIMITED","2020-04-03",287.14,"S","5PG","Sensory Support - 65+ Long Term Support: Community: Home Care","530",{"$f":"VLOOKUP(I9899,'[1]Sub Lookup'!$A$1:$B$65536,2,FALSE)","v":"Commissioned Service - Other"}]
["Kent County Council",11959296,"EXPERTISE HOMECARE (CENTRAL & WEST KENT) LIMITED","2020-04-03",422.38,"S","5KG","Physical support - 65+ Long Term Support: Community: Home Care","530",{"$f":"VLOOKUP(I9915,'[1]Sub Lookup'!$A$1:$B$65536,2,FALSE)","v":"Commissioned Service - Other"}]
["Kent County Council",11959505,"EXPERTISE HOMECARE (CENTRAL & WEST KENT) LIMITED","2020-04-03",574.28,"S","5KG","Physical support - 65+ Long Term Support: Community: Home Care","530",{"$f":"VLOOKUP(I9926,'[1]Sub Lookup'!$A$1:$B$65536,2,FALSE)","v":"Commissioned Service - Other"}]
["Kent County Council",11961498,"EXPERTISE HOMECARE (CENTRAL & WEST KENT) LIMITED","2020-04-09",703,"S","5KG","Physical support - 65+ Long Term Support: Community: Home Care","530",{"$f":"VLOOKUP(I9939,'[1]Sub Lookup'!$A$1:$B$65536,2,FALSE)","v":"Commissioned Service - Other"}]
["Kent County Council",11961367,"EXPERTISE HOMECARE (CENTRAL & WEST KENT) LIMITED","2020-04-09",371.78000000000003,"S","5JG","Physical Support - 18 64 Long Term Support: Community: Home Care","530",{"$f":"VLOOKUP(I9945,'[1]Sub Lookup'!$A$1:$B$65536,2,FALSE)","v":"Commissioned Service - Other"}]
["Kent County Council",11983057,"EXPERTISE HOMECARE (CENTRAL & WEST KENT) LIMITED","2020-04-17",914,"S","5KG","Physical support - 65+ Long Term Support: Community: Home Care","530",{"$f":"VLOOKUP(I9967,'[1]Sub Lookup'!$A$1:$B$65536,2,FALSE)","v":"Commissioned Service - Other"}]
["Kent County Council",11983047,"EXPERTISE HOMECARE (CENTRAL & WEST KENT) LIMITED","2020-04-17",482,"S","5KG","Physical support - 65+ Long Term Support: Community: Home Care","530",{"$f":"VLOOKUP(I9983,'[1]Sub Lookup'!$A$1:$B$65536,2,FALSE)","v":"Commissioned Service - Other"}]
["Kent County Council",11979865,"EXPERTISE HOMECARE (CENTRAL & WEST KENT) LIMITED","2020-04-24",728.9,"S","5KG","Physical support - 65+ Long Term Support: Community: Home Care","530",{"$f":"VLOOKUP(I9992,'[1]Sub Lookup'!$A$1:$B$65536,2,FALSE)","v":"Commissioned Service - Other"}]
["Kent County Council",11990372,"EXPERTISE HOMECARE (CENTRAL & WEST KENT) LIMITED","2020-04-24",829.4,"S","5JG","Physical Support - 18 64 Long Term Support: Community: Home Care","530",{"$f":"VLOOKUP(I10007,'[1]Sub Lookup'!$A$1:$B$65536,2,FALSE)","v":"Commissioned Service - Other"}]
["Kent County Council",12019548,"EXPERTISE HOMECARE (CENTRAL & WEST KENT) LIMITED","2020-04-30",603.4,"S","5KG","Physical support - 65+ Long Term Support: Community: Home Care","530",{"$f":"VLOOKUP(I10025,'[1]Sub Lookup'!$A$1:$B$65536,2,FALSE)","v":"Commissioned Service - Other"}]
["Kent County Council",11997342,"EXPRESS CABS & COURIERS LTD","2020-04-20",838.38,"S","5AJ","Learning Disability Support - 18 64 Long Term Support: Community: Day Care","232",{"$f":"VLOOKUP(I10035,'[1]Sub Lookup'!$A$1:$B$65536,2,FALSE)","v":"Public Transport (Clients)"}]
["Kent County Council",11997326,"EXPRESS CABS & COURIERS LTD","2020-04-20",2478,"E","1RX","Admissions & Transport","222",{"$f":"VLOOKUP(I10051,'[1]Sub Lookup'!$A$1:$B$65536,2,FALSE)","v":"Home to School Transport - Hired"}]
["Kent County Council",11997333,"EXPRESS CABS & COURIERS LTD","2020-04-20",314,"E","1RX","Admissions & Transport","222",{"$f":"VLOOKUP(I10058,'[1]Sub Lookup'!$A$1:$B$65536,2,FALSE)","v":"Home to School Transport - Hired"}]
["Kent County Council",12008809,"EXPRESS CABS & COURIERS LTD","2020-04-24",2356,"E","1RX","Admissions & Transport","222",{"$f":"VLOOKUP(I10066,'[1]Sub Lookup'!$A$1:$B$65536,2,FALSE)","v":"Home to School Transport - Hired"}]
["Kent County Council",12008837,"EXPRESS CABS & COURIERS LTD","2020-04-24",2420,"E","1RX","Admissions & Transport","222",{"$f":"VLOOKUP(I10091,'[1]Sub Lookup'!$A$1:$B$65536,2,FALSE)","v":"Home to School Transport - Hired"}]
["Kent County Council",12008825,"EXPRESS CABS & COURIERS LTD","2020-04-24",1848,"E","1RX","Admissions & Transport","222",{"$f":"VLOOKUP(I10103,'[1]Sub Lookup'!$A$1:$B$65536,2,FALSE)","v":"Home to School Transport - Hired"}]
["Kent County Council",12008822,"EXPRESS CABS & COURIERS LTD","2020-04-24",2220,"S","5AJ","Learning Disability Support - 18 64 Long Term Support: Community: Day Care","232",{"$f":"VLOOKUP(I10106,'[1]Sub Lookup'!$A$1:$B$65536,2,FALSE)","v":"Public Transport (Clients)"}]
["Kent County Council",12008758,"EXPRESS CABS & COURIERS LTD","2020-04-24",2948,"E","1RX","Admissions & Transport","222",{"$f":"VLOOKUP(I10124,'[1]Sub Lookup'!$A$1:$B$65536,2,FALSE)","v":"Home to School Transport - Hired"}]
["Kent County Council",12008794,"EXPRESS CABS & COURIERS LTD","2020-04-24",2185,"E","1RX","Admissions & Transport","222",{"$f":"VLOOKUP(I10134,'[1]Sub Lookup'!$A$1:$B$65536,2,FALSE)","v":"Home to School Transport - Hired"}]
["Kent County Council",12019512,"EXPRESS CABS & COURIERS LTD","2020-04-30",3256,"E","1RX","Admissions & Transport","222",{"$f":"VLOOKUP(I10157,'[1]Sub Lookup'!$A$1:$B$65536,2,FALSE)","v":"Home to School Transport - Hired"}]
["Kent County Council",11971395,"FAIRLAWN RESIDENTIAL HOME","2020-04-08",2010,"S","5KA","Physical support - 65+ Long Term Support: Residential","530",{"$f":"VLOOKUP(I10171,'[1]Sub Lookup'!$A$1:$B$65536,2,FALSE)","v":"Commissioned Service - Other"}]
["Kent County Council",11996645,"FAMILY CARE UK LIMITED T/A LARCHMERE HOUSE NURSING HOME","2020-04-17",36142.86,"S","5KB","Physical support - 65+ Long Term Support: Nursing","530",{"$f":"VLOOKUP(I10178,'[1]Sub Lookup'!$A$1:$B$65536,2,FALSE)","v":"Commissioned Service - Other"}]
["Kent County Council",11983258,"FAMILY FOSTERING LIMITED","2020-04-09",5004.29,"S","35R","IS Fostering","527",{"$f":"VLOOKUP(I10190,'[1]Sub Lookup'!$A$1:$B$65536,2,FALSE)","v":"Services"}]
["Kent County Council",12002026,"FARLEIGH COACHES","2020-04-22",346,"P","7HC","Transport Planning, Policy & Strategy","523",{"$f":"VLOOKUP(I10202,'[1]Sub Lookup'!$A$1:$B$65536,2,FALSE)","v":"Private Contractors"}]
["Kent County Council",12017937,"FAVORITA HOUSE","2020-04-29",2927.41,"S","5XC","Commissioning & Service Delivery","530",{"$f":"VLOOKUP(I10223,'[1]Sub Lookup'!$A$1:$B$65536,2,FALSE)","v":"Commissioned Service - Other"}]
["Kent County Council",11992499,"FCC RECYCLING (UK) LIMITED","2020-04-24",93330.67,"P","7WB","Disposal of Waste (Landfill & Incineration)","523",{"$f":"VLOOKUP(I10239,'[1]Sub Lookup'!$A$1:$B$65536,2,FALSE)","v":"Private Contractors"}]
["Kent County Council",11966529,"FERNHILL - COLTEN CARE LTD","2020-04-01",1179,"S","5XC","Commissioning & Service Delivery","530",{"$f":"VLOOKUP(I10246,'[1]Sub Lookup'!$A$1:$B$65536,2,FALSE)","v":"Commissioned Service - Other"}]
["Kent County Council",11979886,"FGS PILCHER LTD","2020-04-24",2950,"K","2LR","Countryside Partnerships","100",{"$f":"VLOOKUP(I10256,'[1]Sub Lookup'!$A$1:$B$65536,2,FALSE)","v":"Maintenance of Grounds"}]
["Kent County Council",11982759,"FINANCIAL DATA MANAGEMENT PLC","2020-04-17",788.1,"C","8DH","Personnel and Development","350",{"$f":"VLOOKUP(I10270,'[1]Sub Lookup'!$A$1:$B$65536,2,FALSE)","v":"Printing and photocopying"}]
["Kent County Council",11989355,"FIRTREE HOUSE","2020-04-14",2461.2000000000003,"S","5KB","Physical support - 65+ Long Term Support: Nursing","530",{"$f":"VLOOKUP(I10289,'[1]Sub Lookup'!$A$1:$B$65536,2,FALSE)","v":"Commissioned Service - Other"}]
["Kent County Council",11989345,"FIRTREE HOUSE","2020-04-14",2234.44,"S","5KB","Physical support - 65+ Long Term Support: Nursing","530",{"$f":"VLOOKUP(I10294,'[1]Sub Lookup'!$A$1:$B$65536,2,FALSE)","v":"Commissioned Service - Other"}]
["Kent County Council",11967196,"FITZROY SUPPORT","2020-04-01",4140.51,"S","5XC","Commissioning & Service Delivery","530",{"$f":"VLOOKUP(I10314,'[1]Sub Lookup'!$A$1:$B$65536,2,FALSE)","v":"Commissioned Service - Other"}]
["Kent County Council",11971382,"FITZROY SUPPORT","2020-04-02",2130.3000000000002,"S","5AH","Learning Disability Support - 18 64 Long Term Support: Community: Supported Living","530",{"$f":"VLOOKUP(I10322,'[1]Sub Lookup'!$A$1:$B$65536,2,FALSE)","v":"Commissioned Service - Other"}]
["Kent County Council",12017914,"FITZROY SUPPORT","2020-04-29",2601.1,"S","5XC","Commissioning & Service Delivery","530",{"$f":"VLOOKUP(I10338,'[1]Sub Lookup'!$A$1:$B$65536,2,FALSE)","v":"Commissioned Service - Other"}]
["Kent County Council",11972619,"FLEDGLINGS NURSERY SCHOOL LTD","2020-04-03",1355.4,"E","1KA","School Resources","528",{"$f":"VLOOKUP(I10351,'[1]Sub Lookup'!$A$1:$B$65536,2,FALSE)","v":"Early Years Education"}]
["Kent County Council",11972371,"FM CONWAY LIMITED","2020-04-17",25757.4,"P","7HZ","Structural Maintenance and Major Improvements","C20",{"$f":"VLOOKUP(I10362,'[1]Sub Lookup'!$A$1:$B$65536,2,FALSE)","v":"Infrastructure"}]
["Kent County Council",11990599,"FOLKESTONE  & HYTHE DISTRICT COUNCIL","2020-04-15",39680,"C","8DR","Corporate Landlord","123",{"$f":"VLOOKUP(I10382,'[1]Sub Lookup'!$A$1:$B$65536,2,FALSE)","v":"National and Non Domestic Rates and Council Tax"}]
["Kent County Council",11993812,"FOLKESTONE  & HYTHE DISTRICT COUNCIL","2020-04-17",8192,"C","8DW","Non Operational Properties","123",{"$f":"VLOOKUP(I10388,'[1]Sub Lookup'!$A$1:$B$65536,2,FALSE)","v":"National and Non Domestic Rates and Council Tax"}]
["Kent County Council",11997369,"FOLKESTONE TAXI CO LTD","2020-04-20",1147,"E","1RX","Admissions & Transport","222",{"$f":"VLOOKUP(I10406,'[1]Sub Lookup'!$A$1:$B$65536,2,FALSE)","v":"Home to School Transport - Hired"}]
["Kent County Council",11997371,"FOLKESTONE TAXI CO LTD","2020-04-20",3078,"E","1RX","Admissions & Transport","222",{"$f":"VLOOKUP(I10417,'[1]Sub Lookup'!$A$1:$B$65536,2,FALSE)","v":"Home to School Transport - Hired"}]
["Kent County Council",11975626,"FOLLOWING WHISPERS FAMILY SERVICE LTD","2020-04-09",6177.8600000000006,"S","35R","IS Fostering","527",{"$f":"VLOOKUP(I10430,'[1]Sub Lookup'!$A$1:$B$65536,2,FALSE)","v":"Services"}]
["Kent County Council",11973491,"FORGE HOUSE CARE LTD","2020-04-03",5015.7300000000005,"S","5AH","Learning Disability Support - 18 64 Long Term Support: Community: Supported Living","530",{"$f":"VLOOKUP(I10450,'[1]Sub Lookup'!$A$1:$B$65536,2,FALSE)","v":"Commissioned Service - Other"}]
["Kent County Council",11976762,"FORGE HOUSE CARE LTD","2020-04-06",7387.7,"S","5AH","Learning Disability Support - 18 64 Long Term Support: Community: Supported Living","530",{"$f":"VLOOKUP(I10454,'[1]Sub Lookup'!$A$1:$B$65536,2,FALSE)","v":"Commissioned Service - Other"}]
["Kent County Council",12014003,"FORGE HOUSE CARE LTD","2020-04-29",-505.71000000000004,"S","5AH","Learning Disability Support - 18 64 Long Term Support: Community: Supported Living","530",{"$f":"VLOOKUP(I10474,'[1]Sub Lookup'!$A$1:$B$65536,2,FALSE)","v":"Commissioned Service - Other"}]
["Kent County Council",11998507,"FORTIS TRUST","2020-04-21",833.33,"E","1PA","Additional Educational Needs and Resources","510",{"$f":"VLOOKUP(I10483,'[1]Sub Lookup'!$A$1:$B$65536,2,FALSE)","v":"Other Local Authorities"}]
["Kent County Council",11975368,"FOSTERING SUPPORT GROUP LIMITED","2020-04-06",3538.4300000000003,"S","32R","IFA Asylum U16","527",{"$f":"VLOOKUP(I10498,'[1]Sub Lookup'!$A$1:$B$65536,2,FALSE)","v":"Services"}]
["Kent County Council",12017953,"FOUR SEASONS CARE HOME","2020-04-29",13723.23,"S","5XC","Commissioning & Service Delivery","530",{"$f":"VLOOKUP(I10518,'[1]Sub Lookup'!$A$1:$B$65536,2,FALSE)","v":"Commissioned Service - Other"}]
["Kent County Council",11981932,"FRIESIAN ITS","2020-04-17",4281.25,"P","7HS","Traffic Systems - Maint/Energy","523",{"$f":"VLOOKUP(I10530,'[1]Sub Lookup'!$A$1:$B$65536,2,FALSE)","v":"Private Contractors"}]
["Kent County Council",12006780,"FRISTON HOUSE","2020-04-23",2520,"S","5KA","Physical support - 65+ Long Term Support: Residential","530",{"$f":"VLOOKUP(I10542,'[1]Sub Lookup'!$A$1:$B$65536,2,FALSE)","v":"Commissioned Service - Other"}]
["Kent County Council",12011093,"FRISTON HOUSE","2020-04-27",2400,"S","5KA","Physical support - 65+ Long Term Support: Residential","530",{"$f":"VLOOKUP(I10549,'[1]Sub Lookup'!$A$1:$B$65536,2,FALSE)","v":"Commissioned Service - Other"}]
["Kent County Council",11966545,"FUTURE HOME CARE LTD","2020-04-01",45855.950000000004,"S","5XC","Commissioning & Service Delivery","530",{"$f":"VLOOKUP(I10566,'[1]Sub Lookup'!$A$1:$B$65536,2,FALSE)","v":"Commissioned Service - Other"}]
["Kent County Council",11983754,"FUTURE HOME CARE LTD","2020-04-09",5857.84,"S","5BH","Learning Disability Support - 65+ Long Term Support: Community: Supported Living","530",{"$f":"VLOOKUP(I10586,'[1]Sub Lookup'!$A$1:$B$65536,2,FALSE)","v":"Commissioned Service - Other"}]
["Kent County Council",11983752,"FUTURE HOME CARE LTD","2020-04-09",6791.4000000000005,"S","5AH","Learning Disability Support - 18 64 Long Term Support: Community: Supported Living","530",{"$f":"VLOOKUP(I10596,'[1]Sub Lookup'!$A$1:$B$65536,2,FALSE)","v":"Commissioned Service - Other"}]
["Kent County Council",12005442,"FUTURE HOME CARE LTD","2020-04-22",4729.32,"S","5BH","Learning Disability Support - 65+ Long Term Support: Community: Supported Living","530",{"$f":"VLOOKUP(I10610,'[1]Sub Lookup'!$A$1:$B$65536,2,FALSE)","v":"Commissioned Service - Other"}]
["Kent County Council",12008259,"FUTURE HOME CARE LTD","2020-04-24",5441,"S","5AH","Learning Disability Support - 18 64 Long Term Support: Community: Supported Living","530",{"$f":"VLOOKUP(I10617,'[1]Sub Lookup'!$A$1:$B$65536,2,FALSE)","v":"Commissioned Service - Other"}]
["Kent County Council",12014044,"FUTURE HOME CARE LTD","2020-04-28",4909.6400000000003,"S","5AH","Learning Disability Support - 18 64 Long Term Support: Community: Supported Living","530",{"$f":"VLOOKUP(I10629,'[1]Sub Lookup'!$A$1:$B$65536,2,FALSE)","v":"Commissioned Service - Other"}]
["Kent County Council",11960778,"G BRIDGLAND LTD","2020-04-16",485.03000000000003,"P","7HM","Tree Maintenance","523",{"$f":"VLOOKUP(I10654,'[1]Sub Lookup'!$A$1:$B$65536,2,FALSE)","v":"Private Contractors"}]
["Kent County Council",11992177,"G MINGAY-THE ISIS","2020-04-15",784,"S","5AH","Learning Disability Support - 18 64 Long Term Support: Community: Supported Living","530",{"$f":"VLOOKUP(I10662,'[1]Sub Lookup'!$A$1:$B$65536,2,FALSE)","v":"Commissioned Service - Other"}]
["Kent County Council",11977321,"GARDINER & THEOBALD LLP","2020-04-15",5860.5,"C","8DP","Property","401",{"$f":"VLOOKUP(I10678,'[1]Sub Lookup'!$A$1:$B$65536,2,FALSE)","v":"Specialists Fees"}]
["Kent County Council",12009105,"GARY DAVIS T/AS AERO CARS TENTERDEN","2020-04-24",1424.5,"E","1RX","Admissions & Transport","222",{"$f":"VLOOKUP(I10685,'[1]Sub Lookup'!$A$1:$B$65536,2,FALSE)","v":"Home to School Transport - Hired"}]
["Kent County Council",11976586,"GAVIN ASTOR HOUSE","2020-04-06",4379.8,"S","5BB","Learning Disability Support - 65+ Long Term Support: Nursing","520",{"$f":"VLOOKUP(I10695,'[1]Sub Lookup'!$A$1:$B$65536,2,FALSE)","v":"Voluntary Associations"}]
["Kent County Council",11987483,"GAVIN ASTOR HOUSE","2020-04-14",-569.4,"S","5KB","Physical support - 65+ Long Term Support: Nursing","937",{"$f":"VLOOKUP(I10709,'[1]Sub Lookup'!$A$1:$B$65536,2,FALSE)","v":"KASS Notional Income"}]
["Kent County Council",12009168,"GB DIRECT TRAVEL MINIBUS COMPANY LTD","2020-04-24",2450,"E","1RX","Admissions & Transport","222",{"$f":"VLOOKUP(I10728,'[1]Sub Lookup'!$A$1:$B$65536,2,FALSE)","v":"Home to School Transport - Hired"}]
["Kent County Council",11989275,"REDACTED - Personal Payment","2020-04-14",2184.4,"S","5JC","Physical Support - 18 64 Long Term Support: Supported Accommodation","530",{"$f":"VLOOKUP(I10746,'[1]Sub Lookup'!$A$1:$B$65536,2,FALSE)","v":"Commissioned Service - Other"}]
["Kent County Council",11962072,"GIFFORDS RECYCLING LIMITED","2020-04-09",4080,"K","2LG","Country Parks","C40",{"$f":"VLOOKUP(I10753,'[1]Sub Lookup'!$A$1:$B$65536,2,FALSE)","v":"Community Asset"}]
["Kent County Council",12017571,"GLENHOLME HEALTHCARE (NGC) LTD","2020-04-29",1716.0900000000001,"S","5XC","Commissioning & Service Delivery","530",{"$f":"VLOOKUP(I10775,'[1]Sub Lookup'!$A$1:$B$65536,2,FALSE)","v":"Commissioned Service - Other"}]
["Kent County Council",11966554,"GLENSIDE MANOR HEALTHCARE SERVICES LTD","2020-04-01",1763.3600000000001,"S","5XC","Commissioning & Service Delivery","530",{"$f":"VLOOKUP(I10777,'[1]Sub Lookup'!$A$1:$B$65536,2,FALSE)","v":"Commissioned Service - Other"}]
["Kent County Council",11966557,"GLOUCESTERSHIRE GROUP HOMES","2020-04-01",1039.52,"S","5XC","Commissioning & Service Delivery","530",{"$f":"VLOOKUP(I10794,'[1]Sub Lookup'!$A$1:$B$65536,2,FALSE)","v":"Commissioned Service - Other"}]
["Kent County Council",11997080,"GO-COACH HIRE LIMITED","2020-04-24",3300,"P","7HG","Freedom Pass","523",{"$f":"VLOOKUP(I10805,'[1]Sub Lookup'!$A$1:$B$65536,2,FALSE)","v":"Private Contractors"}]
["Kent County Council",11984626,"GOLDFINCH NURSERY","2020-04-14",34884,"E","1KA","School Resources","528",{"$f":"VLOOKUP(I10821,'[1]Sub Lookup'!$A$1:$B$65536,2,FALSE)","v":"Early Years Education"}]
["Kent County Council",12008972,"GOLDLINE TRAVEL LIMITED","2020-04-24",1168,"E","1RX","Admissions & Transport","222",{"$f":"VLOOKUP(I10841,'[1]Sub Lookup'!$A$1:$B$65536,2,FALSE)","v":"Home to School Transport - Hired"}]
["Kent County Council",11966560,"GORDON LODGE REST HOME","2020-04-01",1804.02,"S","5XC","Commissioning & Service Delivery","530",{"$f":"VLOOKUP(I10845,'[1]Sub Lookup'!$A$1:$B$65536,2,FALSE)","v":"Commissioned Service - Other"}]
["Kent County Council",12017975,"GRANGE WHITEFIELD CARE SERVICES LTD","2020-04-29",1059,"S","5XC","Commissioning & Service Delivery","530",{"$f":"VLOOKUP(I10860,'[1]Sub Lookup'!$A$1:$B$65536,2,FALSE)","v":"Commissioned Service - Other"}]
["Kent County Council",11985439,"GRAVESHAM BOROUGH COUNCIL","2020-04-14",1113.1000000000001,"C","2LC","Libraries, Registration & Archives","123",{"$f":"VLOOKUP(I10873,'[1]Sub Lookup'!$A$1:$B$65536,2,FALSE)","v":"National and Non Domestic Rates and Council Tax"}]
["Kent County Council",11985421,"GRAVESHAM BOROUGH COUNCIL","2020-04-14",7923.7300000000005,"C","36P","Children's Centres","123",{"$f":"VLOOKUP(I10889,'[1]Sub Lookup'!$A$1:$B$65536,2,FALSE)","v":"National and Non Domestic Rates and Council Tax"}]
["Kent County Council",12014310,"GRAVESHAM BOROUGH COUNCIL","2020-04-29",1637.14,"S","32Q","Rented Accommodation Asylum 18+","123",{"$f":"VLOOKUP(I10907,'[1]Sub Lookup'!$A$1:$B$65536,2,FALSE)","v":"National and Non Domestic Rates and Council Tax"}]
["Kent County Council",12014481,"GRAVESHAM BOROUGH COUNCIL","2020-04-29",1637.14,"S","32Q","Rented Accommodation Asylum 18+","123",{"$f":"VLOOKUP(I10913,'[1]Sub Lookup'!$A$1:$B$65536,2,FALSE)","v":"National and Non Domestic Rates and Council Tax"}]
["Kent County Council",12014104,"GRAVESHAM BOROUGH COUNCIL","2020-04-29",1432.5,"S","32Q","Rented Accommodation Asylum 18+","123",{"$f":"VLOOKUP(I10926,'[1]Sub Lookup'!$A$1:$B$65536,2,FALSE)","v":"National and Non Domestic Rates and Council Tax"}]
["Kent County Council",11997037,"GREAT CHART & SINGLETON PRE-SCHOOL","2020-04-20",615,"E","1KA","School Resources","528",{"$f":"VLOOKUP(I10941,'[1]Sub Lookup'!$A$1:$B$65536,2,FALSE)","v":"Early Years Education"}]
["Kent County Council",12017981,"GREAT PROSPECTS CARE LTD","2020-04-29",1238.48,"S","5XC","Commissioning & Service Delivery","530",{"$f":"VLOOKUP(I10957,'[1]Sub Lookup'!$A$1:$B$65536,2,FALSE)","v":"Commissioned Service - Other"}]
["Kent County Council",11982864,"GREEN OAK SERVICES (KENT) LIMITED","2020-04-09",385,"P","7HM","Tree Maintenance","523",{"$f":"VLOOKUP(I10973,'[1]Sub Lookup'!$A$1:$B$65536,2,FALSE)","v":"Private Contractors"}]
["Kent County Council",11976743,"GREENBANKS HOUSE LIMITED","2020-04-06",-1242.6000000000001,"S","5AA","Learning Disability Support - 18 64 Long Term Support: Residential","937",{"$f":"VLOOKUP(I10985,'[1]Sub Lookup'!$A$1:$B$65536,2,FALSE)","v":"KASS Notional Income"}]
["Kent County Council",11976737,"GREENBANKS HOUSE LIMITED","2020-04-06",2823.2000000000003,"S","5AA","Learning Disability Support - 18 64 Long Term Support: Residential","530",{"$f":"VLOOKUP(I10992,'[1]Sub Lookup'!$A$1:$B$65536,2,FALSE)","v":"Commissioned Service - Other"}]
["Kent County Council",12009024,"GREENLINE TRANSPORT LTD","2020-04-24",2405,"E","1RX","Admissions & Transport","222",{"$f":"VLOOKUP(I11009,'[1]Sub Lookup'!$A$1:$B$65536,2,FALSE)","v":"Home to School Transport - Hired"}]
["Kent County Council",11977951,"GRENHAM BAY CARE CENTRE LTD","2020-04-07",2600,"S","5KA","Physical support - 65+ Long Term Support: Residential","530",{"$f":"VLOOKUP(I11025,'[1]Sub Lookup'!$A$1:$B$65536,2,FALSE)","v":"Commissioned Service - Other"}]
["Kent County Council",11976747,"GRIMSTON HOUSE CARE HOME","2020-04-06",2754.84,"S","5FA","Mental Health Support - 65+ Long Term Support: Residential","530",{"$f":"VLOOKUP(I11039,'[1]Sub Lookup'!$A$1:$B$65536,2,FALSE)","v":"Commissioned Service - Other"}]
["Kent County Council",11976922,"GTCI LIMITED","2020-04-08",26837.14,"E","1TA","Capital - Primary Schools ES&PS","C15",{"$f":"VLOOKUP(I11053,'[1]Sub Lookup'!$A$1:$B$65536,2,FALSE)","v":"Building Works - Main Contract"}]
["Kent County Council",11997519,"H & A TRANSPORT SERVICES LTD","2020-04-20",10507.18,"E","1RX","Admissions & Transport","222",{"$f":"VLOOKUP(I11058,'[1]Sub Lookup'!$A$1:$B$65536,2,FALSE)","v":"Home to School Transport - Hired"}]
["Kent County Council",11976572,"HALDEN HEIGHTS LTD","2020-04-06",3179.36,"S","5KB","Physical support - 65+ Long Term Support: Nursing","530",{"$f":"VLOOKUP(I11077,'[1]Sub Lookup'!$A$1:$B$65536,2,FALSE)","v":"Commissioned Service - Other"}]
["Kent County Council",11961904,"HALLCONSULT","2020-04-09",900,"C","8EK","Economic Development","530",{"$f":"VLOOKUP(I11084,'[1]Sub Lookup'!$A$1:$B$65536,2,FALSE)","v":"Commissioned Service - Other"}]
["Kent County Council",11983144,"HAMPSHIRE COUNTY COUNCIL","2020-04-15",610.4,"K","2RC","Kent Scientific Services","401",{"$f":"VLOOKUP(I11105,'[1]Sub Lookup'!$A$1:$B$65536,2,FALSE)","v":"Specialists Fees"}]
["Kent County Council",12006413,"HAND IN HAND NURSEY AT NEWLANDS CHILDREN'S CENTRE","2020-04-23",450.3,"E","1PA","Additional Educational Needs and Resources","528",{"$f":"VLOOKUP(I11121,'[1]Sub Lookup'!$A$1:$B$65536,2,FALSE)","v":"Early Years Education"}]
["Kent County Council",11989204,"HANNINGFIELD RETIREMENT HOME","2020-04-14",4785.71,"S","5KA","Physical support - 65+ Long Term Support: Residential","530",{"$f":"VLOOKUP(I11124,'[1]Sub Lookup'!$A$1:$B$65536,2,FALSE)","v":"Commissioned Service - Other"}]
["Kent County Council",11982512,"HARBOUR HOMES","2020-04-08",4328.32,"S","5EA","Mental Health Support - 18 64 Long Term Support: Residential","530",{"$f":"VLOOKUP(I11145,'[1]Sub Lookup'!$A$1:$B$65536,2,FALSE)","v":"Commissioned Service - Other"}]
["Kent County Council",11985086,"HARLEQUIN FOREST PRE-SCHOOL TUN WELLS-HOOSC LTD","2020-04-14",1780.3500000000001,"E","1KA","School Resources","528",{"$f":"VLOOKUP(I11152,'[1]Sub Lookup'!$A$1:$B$65536,2,FALSE)","v":"Early Years Education"}]
["Kent County Council",12013997,"HARPWOOD HOUSE LIMITED","2020-04-28",11196.36,"S","5KA","Physical support - 65+ Long Term Support: Residential","530",{"$f":"VLOOKUP(I11171,'[1]Sub Lookup'!$A$1:$B$65536,2,FALSE)","v":"Commissioned Service - Other"}]
["Kent County Council",11992386,"HARVEL CRICKET CLUB","2020-04-17",2174,"K","2TS","Sports and Leisure","C70",{"$f":"VLOOKUP(I11189,'[1]Sub Lookup'!$A$1:$B$65536,2,FALSE)","v":"Capital Grants and Advances"}]
["Kent County Council",11967266,"HAZELDENE UK LTD","2020-04-01",5015.4400000000005,"S","5XC","Commissioning & Service Delivery","530",{"$f":"VLOOKUP(I11204,'[1]Sub Lookup'!$A$1:$B$65536,2,FALSE)","v":"Commissioned Service - Other"}]
["Kent County Council",11970082,"HAZELDENE UK LTD","2020-04-01",11018.33,"S","5BA","Learning Disability Support - 65+ Long Term Support: Residential","530",{"$f":"VLOOKUP(I11213,'[1]Sub Lookup'!$A$1:$B$65536,2,FALSE)","v":"Commissioned Service - Other"}]
["Kent County Council",11939803,"HAZELDENE UK LTD","2020-04-09",4813.67,"S","9AR","Revenue Balance Sheet","BEA",{"$f":"VLOOKUP(I11220,'[1]Sub Lookup'!$A$1:$B$65536,2,FALSE)","v":"Payments in Advance - General"}]
["Kent County Council",11939799,"HAZELDENE UK LTD","2020-04-09",5725.89,"S","9AR","Revenue Balance Sheet","BEA",{"$f":"VLOOKUP(I11237,'[1]Sub Lookup'!$A$1:$B$65536,2,FALSE)","v":"Payments in Advance - General"}]
["Kent County Council",11994432,"HAZELDENE UK LTD","2020-04-17",604.80000000000007,"S","5AJ","Learning Disability Support - 18 64 Long Term Support: Community: Day Care","530",{"$f":"VLOOKUP(I11257,'[1]Sub Lookup'!$A$1:$B$65536,2,FALSE)","v":"Commissioned Service - Other"}]
["Kent County Council",12000143,"HAZELDENE UK LTD","2020-04-21",1860,"S","5AJ","Learning Disability Support - 18 64 Long Term Support: Community: Day Care","530",{"$f":"VLOOKUP(I11266,'[1]Sub Lookup'!$A$1:$B$65536,2,FALSE)","v":"Commissioned Service - Other"}]
["Kent County Council",11998479,"HAZELDENE UK LTD","2020-04-21",680.4,"S","5AJ","Learning Disability Support - 18 64 Long Term Support: Community: Day Care","530",{"$f":"VLOOKUP(I11281,'[1]Sub Lookup'!$A$1:$B$65536,2,FALSE)","v":"Commissioned Service - Other"}]
["Kent County Council",12018558,"HAZELDENE UK LTD","2020-04-29",5015.4400000000005,"S","5XC","Commissioning & Service Delivery","530",{"$f":"VLOOKUP(I11288,'[1]Sub Lookup'!$A$1:$B$65536,2,FALSE)","v":"Commissioned Service - Other"}]
["Kent County Council",12019397,"HAZELDENE UK LTD","2020-04-30",533.82000000000005,"S","5AJ","Learning Disability Support - 18 64 Long Term Support: Community: Day Care","530",{"$f":"VLOOKUP(I11303,'[1]Sub Lookup'!$A$1:$B$65536,2,FALSE)","v":"Commissioned Service - Other"}]
["Kent County Council",12019381,"HAZELDENE UK LTD","2020-04-30",597.37,"S","5AJ","Learning Disability Support - 18 64 Long Term Support: Community: Day Care","530",{"$f":"VLOOKUP(I11312,'[1]Sub Lookup'!$A$1:$B$65536,2,FALSE)","v":"Commissioned Service - Other"}]
["Kent County Council",11977976,"HAZELWOOD NURSING HOME","2020-04-07",3280,"S","5JB","Physical Support - 18 64 Long Term Support: Nursing","530",{"$f":"VLOOKUP(I11332,'[1]Sub Lookup'!$A$1:$B$65536,2,FALSE)","v":"Commissioned Service - Other"}]
["Kent County Council",11976237,"HC-ONE OVAL LIMITED","2020-04-06",-1062.8600000000001,"S","5KB","Physical support - 65+ Long Term Support: Nursing","530",{"$f":"VLOOKUP(I11349,'[1]Sub Lookup'!$A$1:$B$65536,2,FALSE)","v":"Commissioned Service - Other"}]
["Kent County Council",11992202,"HC-ONE OVAL LIMITED","2020-04-15",2327.16,"S","5KA","Physical support - 65+ Long Term Support: Residential","530",{"$f":"VLOOKUP(I11356,'[1]Sub Lookup'!$A$1:$B$65536,2,FALSE)","v":"Commissioned Service - Other"}]
["Kent County Council",11992214,"HC-ONE OVAL LIMITED","2020-04-15",2700.8,"S","5JA","Physical Support - 18 64 Long Term Support: Residential","530",{"$f":"VLOOKUP(I11365,'[1]Sub Lookup'!$A$1:$B$65536,2,FALSE)","v":"Commissioned Service - Other"}]
["Kent County Council",11992231,"HC-ONE OVAL LIMITED","2020-04-15",2406.44,"S","5KB","Physical support - 65+ Long Term Support: Nursing","530",{"$f":"VLOOKUP(I11380,'[1]Sub Lookup'!$A$1:$B$65536,2,FALSE)","v":"Commissioned Service - Other"}]
["Kent County Council",11997958,"HC-ONE OVAL LIMITED","2020-04-20",544.72,"S","5KV","Physical support - 65+ Short Term - Other - Nursing","530",{"$f":"VLOOKUP(I11398,'[1]Sub Lookup'!$A$1:$B$65536,2,FALSE)","v":"Commissioned Service - Other"}]
["Kent County Council",12000749,"HC-ONE OVAL LIMITED","2020-04-21",2178.88,"S","5KB","Physical support - 65+ Long Term Support: Nursing","530",{"$f":"VLOOKUP(I11417,'[1]Sub Lookup'!$A$1:$B$65536,2,FALSE)","v":"Commissioned Service - Other"}]
["Kent County Council",12005298,"HC-ONE OVAL LIMITED","2020-04-22",2178.88,"S","5KB","Physical support - 65+ Long Term Support: Nursing","530",{"$f":"VLOOKUP(I11424,'[1]Sub Lookup'!$A$1:$B$65536,2,FALSE)","v":"Commissioned Service - Other"}]
["Kent County Council",12005306,"HC-ONE OVAL LIMITED","2020-04-22",2178.88,"S","5KB","Physical support - 65+ Long Term Support: Nursing","530",{"$f":"VLOOKUP(I11445,'[1]Sub Lookup'!$A$1:$B$65536,2,FALSE)","v":"Commissioned Service - Other"}]
["Kent County Council",12002467,"HC-ONE OVAL LIMITED","2020-04-22",2178.88,"S","5KB","Physical support - 65+ Long Term Support: Nursing","530",{"$f":"VLOOKUP(I11448,'[1]Sub Lookup'!$A$1:$B$65536,2,FALSE)","v":"Commissioned Service - Other"}]
["Kent County Council",12002465,"HC-ONE OVAL LIMITED","2020-04-22",2178.88,"S","5KB","Physical support - 65+ Long Term Support: Nursing","530",{"$f":"VLOOKUP(I11464,'[1]Sub Lookup'!$A$1:$B$65536,2,FALSE)","v":"Commissioned Service - Other"}]
["Kent County Council",12005368,"HC-ONE OVAL LIMITED","2020-04-23",3655.12,"S","5KB","Physical support - 65+ Long Term Support: Nursing","530",{"$f":"VLOOKUP(I11485,'[1]Sub Lookup'!$A$1:$B$65536,2,FALSE)","v":"Commissioned Service - Other"}]
["Kent County Council",12007341,"HC-ONE OVAL LIMITED","2020-04-24",1950.1200000000001,"S","5KA","Physical support - 65+ Long Term Support: Residential","530",{"$f":"VLOOKUP(I11492,'[1]Sub Lookup'!$A$1:$B$65536,2,FALSE)","v":"Commissioned Service - Other"}]
["Kent County Council",11980107,"HDE NURSERIES LTD T/A BLUE SKY DAY NURSERY","2020-04-08",3080,"E","1KA","School Resources","528",{"$f":"VLOOKUP(I11511,'[1]Sub Lookup'!$A$1:$B$65536,2,FALSE)","v":"Early Years Education"}]
["Kent County Council",11955283,"HEADCORN SURGERY","2020-04-21",785.5,"C","8PB","Sexual Health Services - Contraception","522",{"$f":"VLOOKUP(I11516,'[1]Sub Lookup'!$A$1:$B$65536,2,FALSE)","v":"District Health Authorities"}]
["Kent County Council",11977444,"HEADWAY EAST KENT LIMITED","2020-04-07",444,"S","5AJ","Learning Disability Support - 18 64 Long Term Support: Community: Day Care","530",{"$f":"VLOOKUP(I11530,'[1]Sub Lookup'!$A$1:$B$65536,2,FALSE)","v":"Commissioned Service - Other"}]
["Kent County Council",11996971,"HEADWAY EAST KENT LIMITED","2020-04-24",777,"S","5JJ","Physical Support - 18 64 Long Term Support: Community: Day Care","520",{"$f":"VLOOKUP(I11544,'[1]Sub Lookup'!$A$1:$B$65536,2,FALSE)","v":"Voluntary Associations"}]
["Kent County Council",11966610,"HEATHERDENE LTD","2020-04-01",657.2,"S","5XC","Commissioning & Service Delivery","530",{"$f":"VLOOKUP(I11560,'[1]Sub Lookup'!$A$1:$B$65536,2,FALSE)","v":"Commissioned Service - Other"}]
["Kent County Council",11997950,"HEATHFIELD RESIDENTIAL CARE HOME - (HEATHFIELD HEALTHCARE LTD)","2020-04-29",-1221.76,"S","5KA","Physical support - 65+ Long Term Support: Residential","530",{"$f":"VLOOKUP(I11577,'[1]Sub Lookup'!$A$1:$B$65536,2,FALSE)","v":"Commissioned Service - Other"}]
["Kent County Council",11971970,"HELPING HAND CARE COMPANY LIMITED","2020-04-03",317.44,"S","5KA","Physical support - 65+ Long Term Support: Residential","530",{"$f":"VLOOKUP(I11584,'[1]Sub Lookup'!$A$1:$B$65536,2,FALSE)","v":"Commissioned Service - Other"}]
["Kent County Council",11995715,"HELPING HAND CARE COMPANY LIMITED","2020-04-20",317.64,"S","5KG","Physical support - 65+ Long Term Support: Community: Home Care","530",{"$f":"VLOOKUP(I11596,'[1]Sub Lookup'!$A$1:$B$65536,2,FALSE)","v":"Commissioned Service - Other"}]
["Kent County Council",11994028,"HELPING HAND CARE COMPANY LIMITED","2020-04-24",1944.32,"S","5KG","Physical support - 65+ Long Term Support: Community: Home Care","530",{"$f":"VLOOKUP(I11612,'[1]Sub Lookup'!$A$1:$B$65536,2,FALSE)","v":"Commissioned Service - Other"}]
["Kent County Council",11971314,"HENGIST FIELD CARE CENTRE","2020-04-06",-4978.57,"S","5KB","Physical support - 65+ Long Term Support: Nursing","530",{"$f":"VLOOKUP(I11628,'[1]Sub Lookup'!$A$1:$B$65536,2,FALSE)","v":"Commissioned Service - Other"}]
["Kent County Council",11972889,"HERE 2 CARE LTD","2020-04-03",459.48,"S","5KG","Physical support - 65+ Long Term Support: Community: Home Care","530",{"$f":"VLOOKUP(I11643,'[1]Sub Lookup'!$A$1:$B$65536,2,FALSE)","v":"Commissioned Service - Other"}]
["Kent County Council",11972872,"HERE 2 CARE LTD","2020-04-03",612.64,"S","5KG","Physical support - 65+ Long Term Support: Community: Home Care","530",{"$f":"VLOOKUP(I11652,'[1]Sub Lookup'!$A$1:$B$65536,2,FALSE)","v":"Commissioned Service - Other"}]
["Kent County Council",11972797,"HERE 2 CARE LTD","2020-04-03",406.21000000000004,"S","5KG","Physical support - 65+ Long Term Support: Community: Home Care","530",{"$f":"VLOOKUP(I11672,'[1]Sub Lookup'!$A$1:$B$65536,2,FALSE)","v":"Commissioned Service - Other"}]
["Kent County Council",11987549,"HERE 2 CARE LTD","2020-04-14",255.29,"S","5KG","Physical support - 65+ Long Term Support: Community: Home Care","530",{"$f":"VLOOKUP(I11676,'[1]Sub Lookup'!$A$1:$B$65536,2,FALSE)","v":"Commissioned Service - Other"}]
["Kent County Council",11987563,"HERE 2 CARE LTD","2020-04-14",590.76,"S","5KG","Physical support - 65+ Long Term Support: Community: Home Care","530",{"$f":"VLOOKUP(I11696,'[1]Sub Lookup'!$A$1:$B$65536,2,FALSE)","v":"Commissioned Service - Other"}]
["Kent County Council",11994693,"HERE 2 CARE LTD","2020-04-17",651.56000000000006,"S","5KG","Physical support - 65+ Long Term Support: Community: Home Care","530",{"$f":"VLOOKUP(I11709,'[1]Sub Lookup'!$A$1:$B$65536,2,FALSE)","v":"Commissioned Service - Other"}]
["Kent County Council",11994774,"HERE 2 CARE LTD","2020-04-17",473.76,"S","5KG","Physical support - 65+ Long Term Support: Community: Home Care","530",{"$f":"VLOOKUP(I11724,'[1]Sub Lookup'!$A$1:$B$65536,2,FALSE)","v":"Commissioned Service - Other"}]
["Kent County Council",11994695,"HERE 2 CARE LTD","2020-04-17",418.74,"S","5KG","Physical support - 65+ Long Term Support: Community: Home Care","530",{"$f":"VLOOKUP(I11727,'[1]Sub Lookup'!$A$1:$B$65536,2,FALSE)","v":"Commissioned Service - Other"}]
["Kent County Council",11994813,"HERE 2 CARE LTD","2020-04-17",263.2,"S","5KG","Physical support - 65+ Long Term Support: Community: Home Care","530",{"$f":"VLOOKUP(I11742,'[1]Sub Lookup'!$A$1:$B$65536,2,FALSE)","v":"Commissioned Service - Other"}]
["Kent County Council",12007423,"HERE 2 CARE LTD","2020-04-24",473.76,"S","5KG","Physical support - 65+ Long Term Support: Community: Home Care","530",{"$f":"VLOOKUP(I11764,'[1]Sub Lookup'!$A$1:$B$65536,2,FALSE)","v":"Commissioned Service - Other"}]
["Kent County Council",12007457,"HERE 2 CARE LTD","2020-04-24",342.16,"S","5KG","Physical support - 65+ Long Term Support: Community: Home Care","530",{"$f":"VLOOKUP(I11775,'[1]Sub Lookup'!$A$1:$B$65536,2,FALSE)","v":"Commissioned Service - Other"}]
["Kent County Council",12014722,"HERE 2 CARE LTD","2020-04-29",653.04,"S","5KG","Physical support - 65+ Long Term Support: Community: Home Care","530",{"$f":"VLOOKUP(I11792,'[1]Sub Lookup'!$A$1:$B$65536,2,FALSE)","v":"Commissioned Service - Other"}]
["Kent County Council",12014814,"HERE 2 CARE LTD","2020-04-29",263.2,"S","5KG","Physical support - 65+ Long Term Support: Community: Home Care","530",{"$f":"VLOOKUP(I11795,'[1]Sub Lookup'!$A$1:$B$65536,2,FALSE)","v":"Commissioned Service - Other"}]
["Kent County Council",12014813,"HERE 2 CARE LTD","2020-04-29",315.84000000000003,"S","5KG","Physical support - 65+ Long Term Support: Community: Home Care","530",{"$f":"VLOOKUP(I11808,'[1]Sub Lookup'!$A$1:$B$65536,2,FALSE)","v":"Commissioned Service - Other"}]
["Kent County Council",12014727,"HERE 2 CARE LTD","2020-04-29",418.81,"S","5KG","Physical support - 65+ Long Term Support: Community: Home Care","530",{"$f":"VLOOKUP(I11823,'[1]Sub Lookup'!$A$1:$B$65536,2,FALSE)","v":"Commissioned Service - Other"}]
["Kent County Council",12001589,"HERNE CARS LTD","2020-04-22",426.5,"S","5AJ","Learning Disability Support - 18 64 Long Term Support: Community: Day Care","232",{"$f":"VLOOKUP(I11841,'[1]Sub Lookup'!$A$1:$B$65536,2,FALSE)","v":"Public Transport (Clients)"}]
["Kent County Council",11979606,"HEVERCOURT LIMITED","2020-04-07",1854,"S","5KU","Physical support - 65+ Short Term - Other - Residential","530",{"$f":"VLOOKUP(I11860,'[1]Sub Lookup'!$A$1:$B$65536,2,FALSE)","v":"Commissioned Service - Other"}]
["Kent County Council",11979599,"HEVERCOURT LIMITED","2020-04-07",2502.38,"S","5TA","Support with Memory & Cognition - 65+ Long Term Support: Residential","530",{"$f":"VLOOKUP(I11863,'[1]Sub Lookup'!$A$1:$B$65536,2,FALSE)","v":"Commissioned Service - Other"}]
["Kent County Council",11979610,"HEVERCOURT LIMITED","2020-04-07",-2505.86,"S","5KA","Physical support - 65+ Long Term Support: Residential","530",{"$f":"VLOOKUP(I11874,'[1]Sub Lookup'!$A$1:$B$65536,2,FALSE)","v":"Commissioned Service - Other"}]
["Kent County Council",11983109,"HEXTALLS LIMITED","2020-04-09",420,"E","1PA","Additional Educational Needs and Resources","404",{"$f":"VLOOKUP(I11891,'[1]Sub Lookup'!$A$1:$B$65536,2,FALSE)","v":"Legal Fees"}]
["Kent County Council",11976529,"HF TRUST LIMITED","2020-04-06",389.48,"S","5AJ","Learning Disability Support - 18 64 Long Term Support: Community: Day Care","530",{"$f":"VLOOKUP(I11907,'[1]Sub Lookup'!$A$1:$B$65536,2,FALSE)","v":"Commissioned Service - Other"}]
["Kent County Council",11982636,"HF TRUST LIMITED","2020-04-08",2340.3200000000002,"S","5AH","Learning Disability Support - 18 64 Long Term Support: Community: Supported Living","530",{"$f":"VLOOKUP(I11915,'[1]Sub Lookup'!$A$1:$B$65536,2,FALSE)","v":"Commissioned Service - Other"}]
["Kent County Council",11980481,"HF TRUST LIMITED","2020-04-08",2491.4,"S","5AH","Learning Disability Support - 18 64 Long Term Support: Community: Supported Living","520",{"$f":"VLOOKUP(I11931,'[1]Sub Lookup'!$A$1:$B$65536,2,FALSE)","v":"Voluntary Associations"}]
["Kent County Council",11982631,"HF TRUST LIMITED","2020-04-08",2094.6799999999998,"S","5BH","Learning Disability Support - 65+ Long Term Support: Community: Supported Living","530",{"$f":"VLOOKUP(I11954,'[1]Sub Lookup'!$A$1:$B$65536,2,FALSE)","v":"Commissioned Service - Other"}]
["Kent County Council",11980472,"HF TRUST LIMITED","2020-04-08",1824.3600000000001,"S","5AH","Learning Disability Support - 18 64 Long Term Support: Community: Supported Living","520",{"$f":"VLOOKUP(I11959,'[1]Sub Lookup'!$A$1:$B$65536,2,FALSE)","v":"Voluntary Associations"}]
["Kent County Council",11983843,"HF TRUST LIMITED","2020-04-09",1637.28,"S","5AH","Learning Disability Support - 18 64 Long Term Support: Community: Supported Living","520",{"$f":"VLOOKUP(I11973,'[1]Sub Lookup'!$A$1:$B$65536,2,FALSE)","v":"Voluntary Associations"}]
["Kent County Council",11983848,"HF TRUST LIMITED","2020-04-09",2792.04,"S","5BH","Learning Disability Support - 65+ Long Term Support: Community: Supported Living","530",{"$f":"VLOOKUP(I11983,'[1]Sub Lookup'!$A$1:$B$65536,2,FALSE)","v":"Commissioned Service - Other"}]
["Kent County Council",11994444,"HF TRUST LIMITED","2020-04-17",2188.2000000000003,"S","5AH","Learning Disability Support - 18 64 Long Term Support: Community: Supported Living","520",{"$f":"VLOOKUP(I12003,'[1]Sub Lookup'!$A$1:$B$65536,2,FALSE)","v":"Voluntary Associations"}]
["Kent County Council",11994445,"HF TRUST LIMITED","2020-04-17",2125,"S","5AH","Learning Disability Support - 18 64 Long Term Support: Community: Supported Living","530",{"$f":"VLOOKUP(I12020,'[1]Sub Lookup'!$A$1:$B$65536,2,FALSE)","v":"Commissioned Service - Other"}]
["Kent County Council",11994446,"HF TRUST LIMITED","2020-04-17",4544.4400000000005,"S","5AH","Learning Disability Support - 18 64 Long Term Support: Community: Supported Living","530",{"$f":"VLOOKUP(I12027,'[1]Sub Lookup'!$A$1:$B$65536,2,FALSE)","v":"Commissioned Service - Other"}]
["Kent County Council",11994521,"HF TRUST LIMITED","2020-04-17",2179.4,"S","5AH","Learning Disability Support - 18 64 Long Term Support: Community: Supported Living","520",{"$f":"VLOOKUP(I12039,'[1]Sub Lookup'!$A$1:$B$65536,2,FALSE)","v":"Voluntary Associations"}]
["Kent County Council",11997779,"HF TRUST LIMITED","2020-04-20",2066.92,"S","5AH","Learning Disability Support - 18 64 Long Term Support: Community: Supported Living","520",{"$f":"VLOOKUP(I12051,'[1]Sub Lookup'!$A$1:$B$65536,2,FALSE)","v":"Voluntary Associations"}]
["Kent County Council",12000656,"HF TRUST LIMITED","2020-04-21",2066.92,"S","5AH","Learning Disability Support - 18 64 Long Term Support: Community: Supported Living","520",{"$f":"VLOOKUP(I12071,'[1]Sub Lookup'!$A$1:$B$65536,2,FALSE)","v":"Voluntary Associations"}]
["Kent County Council",12000626,"HF TRUST LIMITED","2020-04-21",2003.72,"S","5AH","Learning Disability Support - 18 64 Long Term Support: Community: Supported Living","530",{"$f":"VLOOKUP(I12086,'[1]Sub Lookup'!$A$1:$B$65536,2,FALSE)","v":"Commissioned Service - Other"}]
["Kent County Council",12000647,"HF TRUST LIMITED","2020-04-21",5246.4800000000005,"S","5AA","Learning Disability Support - 18 64 Long Term Support: Residential","530",{"$f":"VLOOKUP(I12095,'[1]Sub Lookup'!$A$1:$B$65536,2,FALSE)","v":"Commissioned Service - Other"}]
["Kent County Council",12000652,"HF TRUST LIMITED","2020-04-21",1976.4,"S","5AH","Learning Disability Support - 18 64 Long Term Support: Community: Supported Living","530",{"$f":"VLOOKUP(I12105,'[1]Sub Lookup'!$A$1:$B$65536,2,FALSE)","v":"Commissioned Service - Other"}]
["Kent County Council",12000638,"HF TRUST LIMITED","2020-04-21",1673.2,"S","5AH","Learning Disability Support - 18 64 Long Term Support: Community: Supported Living","530",{"$f":"VLOOKUP(I12119,'[1]Sub Lookup'!$A$1:$B$65536,2,FALSE)","v":"Commissioned Service - Other"}]
["Kent County Council",11995963,"HF TRUST LIMITED","2020-04-24",389.48,"S","5AJ","Learning Disability Support - 18 64 Long Term Support: Community: Day Care","520",{"$f":"VLOOKUP(I12139,'[1]Sub Lookup'!$A$1:$B$65536,2,FALSE)","v":"Voluntary Associations"}]
["Kent County Council",11980437,"HIGH PINES RESIDENTIAL HOME","2020-04-08",1502.64,"S","5KA","Physical support - 65+ Long Term Support: Residential","530",{"$f":"VLOOKUP(I12152,'[1]Sub Lookup'!$A$1:$B$65536,2,FALSE)","v":"Commissioned Service - Other"}]
["Kent County Council",12018040,"HIGH PINES RESIDENTIAL HOME","2020-04-29",8624.7000000000007,"S","5XC","Commissioning & Service Delivery","530",{"$f":"VLOOKUP(I12163,'[1]Sub Lookup'!$A$1:$B$65536,2,FALSE)","v":"Commissioned Service - Other"}]
["Kent County Council",11966631,"HIGHFIELDS","2020-04-01",2225.17,"S","5XC","Commissioning & Service Delivery","530",{"$f":"VLOOKUP(I12181,'[1]Sub Lookup'!$A$1:$B$65536,2,FALSE)","v":"Commissioned Service - Other"}]
["Kent County Council",11984460,"HIGHWAYS AT HAMSTREET KINDERGARTEN","2020-04-14",19158.12,"E","1KA","School Resources","528",{"$f":"VLOOKUP(I12187,'[1]Sub Lookup'!$A$1:$B$65536,2,FALSE)","v":"Early Years Education"}]
["Kent County Council",11983576,"HILTON NURSING PARTNERS LTD","2020-04-16",18161.600000000002,"S","5KR","Physical support - 65+ Short Term - Maximising Independence - Non-Residential Care Services","530",{"$f":"VLOOKUP(I12207,'[1]Sub Lookup'!$A$1:$B$65536,2,FALSE)","v":"Commissioned Service - Other"}]
["Kent County Council",11984104,"HLC CARE","2020-04-21",750,"S","5KG","Physical support - 65+ Long Term Support: Community: Home Care","530",{"$f":"VLOOKUP(I12218,'[1]Sub Lookup'!$A$1:$B$65536,2,FALSE)","v":"Commissioned Service - Other"}]
["Kent County Council",11951881,"HM REVENUE & CUSTOMS","2020-04-09",420,"A","9AR","Revenue Balance Sheet","BLE",{"$f":"VLOOKUP(I12231,'[1]Sub Lookup'!$A$1:$B$65536,2,FALSE)","v":"Sundry Creditors - Salary Suspense"}]
["Kent County Council",11971217,"HM REVENUE & CUSTOMS","2020-04-09",3154.2000000000003,"A","9AR","Revenue Balance Sheet","BLE",{"$f":"VLOOKUP(I12247,'[1]Sub Lookup'!$A$1:$B$65536,2,FALSE)","v":"Sundry Creditors - Salary Suspense"}]
["Kent County Council",11982121,"HMT CARE LTD","2020-04-08",6391.03,"S","5JA","Physical Support - 18 64 Long Term Support: Residential","530",{"$f":"VLOOKUP(I12255,'[1]Sub Lookup'!$A$1:$B$65536,2,FALSE)","v":"Commissioned Service - Other"}]
["Kent County Council",11973523,"HOLSWORTHY HEALTHCARE LIMITED","2020-04-03",3450,"S","5TA","Support with Memory & Cognition - 65+ Long Term Support: Residential","530",{"$f":"VLOOKUP(I12275,'[1]Sub Lookup'!$A$1:$B$65536,2,FALSE)","v":"Commissioned Service - Other"}]
["Kent County Council",11976603,"HOLY CROSS CARE HOME","2020-04-08",2021.8,"S","5KA","Physical support - 65+ Long Term Support: Residential","530",{"$f":"VLOOKUP(I12280,'[1]Sub Lookup'!$A$1:$B$65536,2,FALSE)","v":"Commissioned Service - Other"}]
["Kent County Council",11971703,"HOME SERVICE COMPLETE CARE LLP","2020-04-09",792.91,"S","5KG","Physical support - 65+ Long Term Support: Community: Home Care","530",{"$f":"VLOOKUP(I12299,'[1]Sub Lookup'!$A$1:$B$65536,2,FALSE)","v":"Commissioned Service - Other"}]
["Kent County Council",11959415,"HOMELEIGH TIMBER & BUILDING SUPPLIES LTD","2020-04-03",392.1,"K","2LR","Countryside Partnerships","100",{"$f":"VLOOKUP(I12313,'[1]Sub Lookup'!$A$1:$B$65536,2,FALSE)","v":"Maintenance of Grounds"}]
["Kent County Council",11967861,"HOO ST WERBURGH PRIMARY SCHOOL & MARLBOROUGH CENTRE","2020-04-01",4065,"E","1PA","Additional Educational Needs and Resources","510",{"$f":"VLOOKUP(I12323,'[1]Sub Lookup'!$A$1:$B$65536,2,FALSE)","v":"Other Local Authorities"}]
["Kent County Council",11997892,"HOPE VIEW SCHOOL","2020-04-20",5000,"E","1PA","Additional Educational Needs and Resources","530",{"$f":"VLOOKUP(I12330,'[1]Sub Lookup'!$A$1:$B$65536,2,FALSE)","v":"Commissioned Service - Other"}]
["Kent County Council",12000734,"HOPE VIEW SCHOOL","2020-04-21",9333.33,"E","1PA","Additional Educational Needs and Resources","530",{"$f":"VLOOKUP(I12346,'[1]Sub Lookup'!$A$1:$B$65536,2,FALSE)","v":"Commissioned Service - Other"}]
["Kent County Council",12002163,"HOPE VIEW SCHOOL","2020-04-22",8202,"E","1PA","Additional Educational Needs and Resources","530",{"$f":"VLOOKUP(I12367,'[1]Sub Lookup'!$A$1:$B$65536,2,FALSE)","v":"Commissioned Service - Other"}]
["Kent County Council",12001950,"HOPE VIEW SCHOOL","2020-04-22",9333.33,"E","1PA","Additional Educational Needs and Resources","530",{"$f":"VLOOKUP(I12379,'[1]Sub Lookup'!$A$1:$B$65536,2,FALSE)","v":"Commissioned Service - Other"}]
["Kent County Council",11977739,"HORIZON CARE AND EDUCATION GROUP LTD","2020-04-07",15600,"E","1PA","Additional Educational Needs and Resources","530",{"$f":"VLOOKUP(I12391,'[1]Sub Lookup'!$A$1:$B$65536,2,FALSE)","v":"Commissioned Service - Other"}]
["Kent County Council",11977513,"HORIZON CARE AND EDUCATION GROUP LTD","2020-04-07",15600,"E","1PA","Additional Educational Needs and Resources","530",{"$f":"VLOOKUP(I12398,'[1]Sub Lookup'!$A$1:$B$65536,2,FALSE)","v":"Commissioned Service - Other"}]
["Kent County Council",11984351,"HORSMONDEN KINDERGARTEN","2020-04-14",12729.6,"E","1KA","School Resources","528",{"$f":"VLOOKUP(I12412,'[1]Sub Lookup'!$A$1:$B$65536,2,FALSE)","v":"Early Years Education"}]
["Kent County Council",12017539,"HOTHFIELD MANOR","2020-04-29",3432.2400000000002,"S","5XC","Commissioning & Service Delivery","530",{"$f":"VLOOKUP(I12435,'[1]Sub Lookup'!$A$1:$B$65536,2,FALSE)","v":"Commissioned Service - Other"}]
["Kent County Council",11984463,"HUNTON & LINTON UNDER FIVES","2020-04-14",13260,"E","1KA","School Resources","528",{"$f":"VLOOKUP(I12445,'[1]Sub Lookup'!$A$1:$B$65536,2,FALSE)","v":"Early Years Education"}]
["Kent County Council",12006364,"HYTHE HOUSE SUPPORT LTD-LYNDHURST NURSERY","2020-04-23",385.57,"E","1PA","Additional Educational Needs and Resources","528",{"$f":"VLOOKUP(I12463,'[1]Sub Lookup'!$A$1:$B$65536,2,FALSE)","v":"Early Years Education"}]
["Kent County Council",11980468,"HYTHE NURSING HOME","2020-04-08",2943.01,"S","5KV","Physical support - 65+ Short Term - Other - Nursing","530",{"$f":"VLOOKUP(I12466,'[1]Sub Lookup'!$A$1:$B$65536,2,FALSE)","v":"Commissioned Service - Other"}]
["Kent County Council",12006772,"I SAY SUPPORTED LIVING SERVICES LTD","2020-04-23",955.08,"S","5AH","Learning Disability Support - 18 64 Long Term Support: Community: Supported Living","530",{"$f":"VLOOKUP(I12478,'[1]Sub Lookup'!$A$1:$B$65536,2,FALSE)","v":"Commissioned Service - Other"}]
["Kent County Council",11994158,"IMAGO COMMUNITY","2020-04-24",14454.16,"S","5WC","Social Support: Support for Carer OPPD Other","520",{"$f":"VLOOKUP(I12503,'[1]Sub Lookup'!$A$1:$B$65536,2,FALSE)","v":"Voluntary Associations"}]
["Kent County Council",11993724,"IMAGO COMMUNITY","2020-04-24",29616,"S","35M","Other Preventative Services","450",{"$f":"VLOOKUP(I12511,'[1]Sub Lookup'!$A$1:$B$65536,2,FALSE)","v":"Grants"}]
["Kent County Council",11983279,"IMAP CENTRE LTD","2020-04-23",65321.450000000004,"S","31B","IS  Res Care Children","527",{"$f":"VLOOKUP(I12518,'[1]Sub Lookup'!$A$1:$B$65536,2,FALSE)","v":"Services"}]
["Kent County Council",11997900,"INDEPENDENCE WAY LTD","2020-04-22",289.5,"S","32P","Rented Accommodation Asylum 16-17","322",{"$f":"VLOOKUP(I12534,'[1]Sub Lookup'!$A$1:$B$65536,2,FALSE)","v":"Social Services Section 17 Payments"}]
["Kent County Council",11975547,"INDEPENDENCE-DEVELOPMENT LTD","2020-04-06",771.43000000000006,"S","32P","Rented Accommodation Asylum 16-17","527",{"$f":"VLOOKUP(I12544,'[1]Sub Lookup'!$A$1:$B$65536,2,FALSE)","v":"Services"}]
["Kent County Council",11966658,"INDEPENDENT PEOPLE HOMECARE SERVICES","2020-04-01",963,"S","5XC","Commissioning & Service Delivery","530",{"$f":"VLOOKUP(I12562,'[1]Sub Lookup'!$A$1:$B$65536,2,FALSE)","v":"Commissioned Service - Other"}]
["Kent County Council",11979564,"INITIAL CARE SERVICES SOUTH EAST LTD","2020-04-07",1853.04,"S","5AH","Learning Disability Support - 18 64 Long Term Support: Community: Supported Living","530",{"$f":"VLOOKUP(I12577,'[1]Sub Lookup'!$A$1:$B$65536,2,FALSE)","v":"Commissioned Service - Other"}]
["Kent County Council",11979568,"INITIAL CARE SERVICES SOUTH EAST LTD","2020-04-07",324,"S","5JH","Physical Support - 18 64 Long Term Support: Community: Supported Living","530",{"$f":"VLOOKUP(I12586,'[1]Sub Lookup'!$A$1:$B$65536,2,FALSE)","v":"Commissioned Service - Other"}]
["Kent County Council",11989251,"INITIAL CARE SERVICES SOUTH EAST LTD","2020-04-14",324,"S","5JH","Physical Support - 18 64 Long Term Support: Community: Supported Living","530",{"$f":"VLOOKUP(I12602,'[1]Sub Lookup'!$A$1:$B$65536,2,FALSE)","v":"Commissioned Service - Other"}]
["Kent County Council",11967887,"INPHASE LTD","2020-04-01",6140,"C","8DY","Policy and Review","304",{"$f":"VLOOKUP(I12624,'[1]Sub Lookup'!$A$1:$B$65536,2,FALSE)","v":"Computer and Other IT Expenditure (Maintenance)"}]
["Kent County Council",11966662,"INSIGHT SPECIALIST BEHAVIOURAL SERVICE LIMITED","2020-04-01",3224.19,"S","5XC","Commissioning & Service Delivery","530",{"$f":"VLOOKUP(I12630,'[1]Sub Lookup'!$A$1:$B$65536,2,FALSE)","v":"Commissioned Service - Other"}]
["Kent County Council",11983832,"INSIGHT SPECIALIST BEHAVIOURAL SERVICE LIMITED","2020-04-09",12896.76,"S","5AA","Learning Disability Support - 18 64 Long Term Support: Residential","530",{"$f":"VLOOKUP(I12643,'[1]Sub Lookup'!$A$1:$B$65536,2,FALSE)","v":"Commissioned Service - Other"}]
["Kent County Council",11996635,"INSPIRE CARE OUTREACH LIMITED","2020-04-17",3727.19,"S","5AA","Learning Disability Support - 18 64 Long Term Support: Residential","530",{"$f":"VLOOKUP(I12654,'[1]Sub Lookup'!$A$1:$B$65536,2,FALSE)","v":"Commissioned Service - Other"}]
["Kent County Council",11960619,"INTEGRATED SERVICES PROGRAMME","2020-04-07",386.28000000000003,"S","31G","Children Res. - Not Looker After","527",{"$f":"VLOOKUP(I12670,'[1]Sub Lookup'!$A$1:$B$65536,2,FALSE)","v":"Services"}]
["Kent County Council",11997299,"INTEGRATED SERVICES PROGRAMME","2020-04-20",5987.43,"S","35R","IS Fostering","527",{"$f":"VLOOKUP(I12690,'[1]Sub Lookup'!$A$1:$B$65536,2,FALSE)","v":"Services"}]
["Kent County Council",11981979,"INTERQUEST GROUP (UK) LIMITED","2020-04-21",3600,"S","5XC","Commissioning & Service Delivery","401",{"$f":"VLOOKUP(I12698,'[1]Sub Lookup'!$A$1:$B$65536,2,FALSE)","v":"Specialists Fees"}]
["Kent County Council",11976829,"INVICTA LAW LIMITED","2020-04-06",6838.02,"S","39X","SCS - Legal Charges","404",{"$f":"VLOOKUP(I12709,'[1]Sub Lookup'!$A$1:$B$65536,2,FALSE)","v":"Legal Fees"}]
["Kent County Council",11976829,"INVICTA LAW LIMITED","2020-04-06",1023.6,"S","36D","Virtual Schools Kent","404",{"$f":"VLOOKUP(I12722,'[1]Sub Lookup'!$A$1:$B$65536,2,FALSE)","v":"Legal Fees"}]
["Kent County Council",11976829,"INVICTA LAW LIMITED","2020-04-06",416,"C","8DF","Finance","404",{"$f":"VLOOKUP(I12742,'[1]Sub Lookup'!$A$1:$B$65536,2,FALSE)","v":"Legal Fees"}]
["Kent County Council",11976829,"INVICTA LAW LIMITED","2020-04-06",1601.2,"E","1RC","Capital Projects","404",{"$f":"VLOOKUP(I12756,'[1]Sub Lookup'!$A$1:$B$65536,2,FALSE)","v":"Legal Fees"}]
["Kent County Council",11976829,"INVICTA LAW LIMITED","2020-04-06",5853.1,"C","8DP","Property","404",{"$f":"VLOOKUP(I12766,'[1]Sub Lookup'!$A$1:$B$65536,2,FALSE)","v":"Legal Fees"}]
["Kent County Council",11976829,"INVICTA LAW LIMITED","2020-04-06",514,"C","8DW","Non Operational Properties","404",{"$f":"VLOOKUP(I12782,'[1]Sub Lookup'!$A$1:$B$65536,2,FALSE)","v":"Legal Fees"}]
["Kent County Council",12006343,"INVICTA PARK PLAYGROUP","2020-04-23",271.95,"E","1PA","Additional Educational Needs and Resources","528",{"$f":"VLOOKUP(I12789,'[1]Sub Lookup'!$A$1:$B$65536,2,FALSE)","v":"Early Years Education"}]
["Kent County Council",11980463,"IVYBANK HEALTH CARE LTD","2020-04-08",1990.17,"S","5KA","Physical support - 65+ Long Term Support: Residential","530",{"$f":"VLOOKUP(I12810,'[1]Sub Lookup'!$A$1:$B$65536,2,FALSE)","v":"Commissioned Service - Other"}]
["Kent County Council",11980490,"IVYBANK HEALTH CARE LTD","2020-04-08",1632.16,"S","5KA","Physical support - 65+ Long Term Support: Residential","530",{"$f":"VLOOKUP(I12822,'[1]Sub Lookup'!$A$1:$B$65536,2,FALSE)","v":"Commissioned Service - Other"}]
["Kent County Council",11996704,"JACK ROLFE T/A THE COACHING LAB","2020-04-20",330,"K","2LD","Sports & Leisure","401",{"$f":"VLOOKUP(I12834,'[1]Sub Lookup'!$A$1:$B$65536,2,FALSE)","v":"Specialists Fees"}]
["Kent County Council",11975967,"JAMMA UMOJA (RESIDENTIAL SERVICES) LIMITED","2020-04-06",5034.8599999999997,"S","31B","IS  Res Care Children","527",{"$f":"VLOOKUP(I12850,'[1]Sub Lookup'!$A$1:$B$65536,2,FALSE)","v":"Services"}]
["Kent County Council",12011635,"REDACTED - Personal Payment","2020-04-29",2036.24,"S","5AC","Learning Disability Support - 18 64 Long Term Support: Supported accommodation","523",{"$f":"VLOOKUP(I12855,'[1]Sub Lookup'!$A$1:$B$65536,2,FALSE)","v":"Private Contractors"}]
["Kent County Council",11966671,"JEMINI RESPONSE LTD","2020-04-01",2945.1,"S","5XC","Commissioning & Service Delivery","530",{"$f":"VLOOKUP(I12878,'[1]Sub Lookup'!$A$1:$B$65536,2,FALSE)","v":"Commissioned Service - Other"}]
["Kent County Council",12000289,"REDACTED - Personal Payment","2020-04-21",1828.64,"S","5KF","Physical support - 65+ Long Term Support: Community: Direct Payments","530",{"$f":"VLOOKUP(I12888,'[1]Sub Lookup'!$A$1:$B$65536,2,FALSE)","v":"Commissioned Service - Other"}]
["Kent County Council",12005386,"JIVA HEALTHCARE LIMITED","2020-04-22",2628.8,"S","5EA","Mental Health Support - 18 64 Long Term Support: Residential","530",{"$f":"VLOOKUP(I12902,'[1]Sub Lookup'!$A$1:$B$65536,2,FALSE)","v":"Commissioned Service - Other"}]
["Kent County Council",11985094,"JO JO'S DAY CARE NURSERY LTD","2020-04-14",33438.020000000004,"E","1KA","School Resources","528",{"$f":"VLOOKUP(I12909,'[1]Sub Lookup'!$A$1:$B$65536,2,FALSE)","v":"Early Years Education"}]
["Kent County Council",11984682,"JOHNSON GARDEN DAY NURSERY LTD","2020-04-14",37488.42,"E","1KA","School Resources","528",{"$f":"VLOOKUP(I12921,'[1]Sub Lookup'!$A$1:$B$65536,2,FALSE)","v":"Early Years Education"}]
["Kent County Council",11959289,"JUBILEE MEDICAL GROUP","2020-04-03",389.5,"C","8PB","Sexual Health Services - Contraception","522",{"$f":"VLOOKUP(I12933,'[1]Sub Lookup'!$A$1:$B$65536,2,FALSE)","v":"District Health Authorities"}]
["Kent County Council",11984454,"JUST LEARNING NURSERY M/STONE-JUST LEARNING LTD","2020-04-14",54719.340000000004,"E","1KA","School Resources","528",{"$f":"VLOOKUP(I12954,'[1]Sub Lookup'!$A$1:$B$65536,2,FALSE)","v":"Early Years Education"}]
["Kent County Council",12002507,"KANDER CARE COMMUNITY LTD","2020-04-22",3539.64,"S","5AH","Learning Disability Support - 18 64 Long Term Support: Community: Supported Living","530",{"$f":"VLOOKUP(I12970,'[1]Sub Lookup'!$A$1:$B$65536,2,FALSE)","v":"Commissioned Service - Other"}]
["Kent County Council",11965657,"REDACTED - Personal Payment","2020-04-01",2154.52,"S","5AC","Learning Disability Support - 18 64 Long Term Support: Supported accommodation","523",{"$f":"VLOOKUP(I12977,'[1]Sub Lookup'!$A$1:$B$65536,2,FALSE)","v":"Private Contractors"}]
["Kent County Council",11993526,"KAROBEN","2020-04-24",742,"S","5AJ","Learning Disability Support - 18 64 Long Term Support: Community: Day Care","530",{"$f":"VLOOKUP(I12987,'[1]Sub Lookup'!$A$1:$B$65536,2,FALSE)","v":"Commissioned Service - Other"}]
["Kent County Council",11964828,"REDACTED - Personal Payment","2020-04-01",1840.29,"S","9AR","Revenue Balance Sheet","BEA",{"$f":"VLOOKUP(I13001,'[1]Sub Lookup'!$A$1:$B$65536,2,FALSE)","v":"Payments in Advance - General"}]
["Kent County Council",11948976,"KCS","2020-04-02",306.75,"S","5AJ","Learning Disability Support - 18 64 Long Term Support: Community: Day Care","300",{"$f":"VLOOKUP(I13016,'[1]Sub Lookup'!$A$1:$B$65536,2,FALSE)","v":"Equipment, Furniture and Materials and Livestock"}]
["Kent County Council",12007141,"KCS","2020-04-24",269.5,"S","5KR","Physical support - 65+ Short Term - Maximising Independence - Non-Residential Care Services","320",{"$f":"VLOOKUP(I13038,'[1]Sub Lookup'!$A$1:$B$65536,2,FALSE)","v":"Uniforms, Protective Clothing, Footwear Laundry, Toiletries, Personal Req Medical, First Aid"}]
["Kent County Council",11975098,"KEITH TAIT TREE SURGERY","2020-04-07",495,"K","2LG","Country Parks","100",{"$f":"VLOOKUP(I13045,'[1]Sub Lookup'!$A$1:$B$65536,2,FALSE)","v":"Maintenance of Grounds"}]
["Kent County Council",11972182,"KENSON CONTRACTORS BENINGTON LTD","2020-04-24",110091.78,"P","7HZ","Structural Maintenance and Major Improvements","C20",{"$f":"VLOOKUP(I13053,'[1]Sub Lookup'!$A$1:$B$65536,2,FALSE)","v":"Infrastructure"}]
["Kent County Council",11959662,"KENT ASSOCIATION FOR THE BLIND","2020-04-03",66984.13,"S","5WP","Social Support:Support for Social Isolation","450",{"$f":"VLOOKUP(I13069,'[1]Sub Lookup'!$A$1:$B$65536,2,FALSE)","v":"Grants"}]
["Kent County Council",12011472,"KENT ASSOCIATION FOR THE BLIND","2020-04-28",278.05,"S","5KH","Physical support - 65+ Long Term Support: Community: Supported Living","520",{"$f":"VLOOKUP(I13082,'[1]Sub Lookup'!$A$1:$B$65536,2,FALSE)","v":"Voluntary Associations"}]
["Kent County Council",12006659,"KENT AUTISTIC TRUST","2020-04-23",9028.94,"S","5AH","Learning Disability Support - 18 64 Long Term Support: Community: Supported Living","530",{"$f":"VLOOKUP(I13106,'[1]Sub Lookup'!$A$1:$B$65536,2,FALSE)","v":"Commissioned Service - Other"}]
["Kent County Council",12011513,"KENT AUTISTIC TRUST","2020-04-28",6745.62,"S","5AH","Learning Disability Support - 18 64 Long Term Support: Community: Supported Living","523",{"$f":"VLOOKUP(I13113,'[1]Sub Lookup'!$A$1:$B$65536,2,FALSE)","v":"Private Contractors"}]
["Kent County Council",12017499,"KENT AUTISTIC TRUST","2020-04-29",11664.54,"S","5XC","Commissioning & Service Delivery","530",{"$f":"VLOOKUP(I13133,'[1]Sub Lookup'!$A$1:$B$65536,2,FALSE)","v":"Commissioned Service - Other"}]
["Kent County Council",12017501,"KENT CARERS LTD","2020-04-29",1680,"S","5XC","Commissioning & Service Delivery","530",{"$f":"VLOOKUP(I13137,'[1]Sub Lookup'!$A$1:$B$65536,2,FALSE)","v":"Commissioned Service - Other"}]
["Kent County Council",11893109,"KENT COAST ACCOUNTS LTD","2020-04-06",930.44,"S","5JF","Physical Support - 18 64 Long Term Support: Community: Direct Payments","530",{"$f":"VLOOKUP(I13148,'[1]Sub Lookup'!$A$1:$B$65536,2,FALSE)","v":"Commissioned Service - Other"}]
["Kent County Council",11974190,"KENT COMMUNITY HEALTH NHS FOUNDATION TRUST","2020-04-09",146307,"E","1PA","Additional Educational Needs and Resources","401",{"$f":"VLOOKUP(I13161,'[1]Sub Lookup'!$A$1:$B$65536,2,FALSE)","v":"Specialists Fees"}]
["Kent County Council",12019538,"KENT COMMUNITY HEALTH NHS FOUNDATION TRUST","2020-04-30",12383.25,"C","8PB","Sexual Health Services - Contraception","522",{"$f":"VLOOKUP(I13181,'[1]Sub Lookup'!$A$1:$B$65536,2,FALSE)","v":"District Health Authorities"}]
["Kent County Council",11993845,"KENT ENVIROPOWER LIMITED","2020-04-24",13975.01,"P","7WF","Transfer Stations","523",{"$f":"VLOOKUP(I13195,'[1]Sub Lookup'!$A$1:$B$65536,2,FALSE)","v":"Private Contractors"}]
["Kent County Council",11948031,"KENT HOMEFINDING AND FOSTERING LTD","2020-04-06",-3175.9,"S","35R","IS Fostering","527",{"$f":"VLOOKUP(I13205,'[1]Sub Lookup'!$A$1:$B$65536,2,FALSE)","v":"Services"}]
["Kent County Council",11971566,"KENT HOUSE CARE HOME LIMITED","2020-04-09",1713.51,"S","5PA","Sensory Support - 65+ Long Term Support: Residential","530",{"$f":"VLOOKUP(I13214,'[1]Sub Lookup'!$A$1:$B$65536,2,FALSE)","v":"Commissioned Service - Other"}]
["Kent County Council",11983636,"KENT INVICTA CHAMBER OF COMMERCE","2020-04-14",372.5,"P","7HA","Highway Management","120",{"$f":"VLOOKUP(I13229,'[1]Sub Lookup'!$A$1:$B$65536,2,FALSE)","v":"External - Rent, Room Hire & Service Charges"}]
["Kent County Council",12009129,"KENT SCHOOL TRANSPORT LTD","2020-04-24",1955,"S","5AJ","Learning Disability Support - 18 64 Long Term Support: Community: Day Care","232",{"$f":"VLOOKUP(I13249,'[1]Sub Lookup'!$A$1:$B$65536,2,FALSE)","v":"Public Transport (Clients)"}]
["Kent County Council",11970408,"KENT SOCIAL CARE PROFESSIONALS LTD","2020-04-01",411.6,"S","5TG","Support with Memory & Cognition - 65+ Long Term Support: Community: Home Care","523",{"$f":"VLOOKUP(I13261,'[1]Sub Lookup'!$A$1:$B$65536,2,FALSE)","v":"Private Contractors"}]
["Kent County Council",11967679,"KENT SOCIAL CARE PROFESSIONALS LTD","2020-04-06",14031.84,"S","5KG","Physical support - 65+ Long Term Support: Community: Home Care","530",{"$f":"VLOOKUP(I13273,'[1]Sub Lookup'!$A$1:$B$65536,2,FALSE)","v":"Commissioned Service - Other"}]
["Kent County Council",11975398,"KENT SOCIAL CARE PROFESSIONALS LTD","2020-04-20",384.02,"S","35F","IS Day Care Dis Child","527",{"$f":"VLOOKUP(I13294,'[1]Sub Lookup'!$A$1:$B$65536,2,FALSE)","v":"Services"}]
["Kent County Council",12002718,"KENT SOCIAL CARE PROFESSIONALS LTD","2020-04-22",255.71,"S","5KG","Physical support - 65+ Long Term Support: Community: Home Care","530",{"$f":"VLOOKUP(I13301,'[1]Sub Lookup'!$A$1:$B$65536,2,FALSE)","v":"Commissioned Service - Other"}]
["Kent County Council",12003675,"KENT SOCIAL CARE PROFESSIONALS LTD","2020-04-22",637.28,"S","5KG","Physical support - 65+ Long Term Support: Community: Home Care","530",{"$f":"VLOOKUP(I13317,'[1]Sub Lookup'!$A$1:$B$65536,2,FALSE)","v":"Commissioned Service - Other"}]
["Kent County Council",12005849,"KENT SOCIAL CARE PROFESSIONALS LTD","2020-04-23",628.16999999999996,"S","5EH","Mental Health Support - 18 64 Long Term Support: Community: Supported Living","530",{"$f":"VLOOKUP(I13327,'[1]Sub Lookup'!$A$1:$B$65536,2,FALSE)","v":"Commissioned Service - Other"}]
["Kent County Council",12015070,"KENT SOCIAL CARE PROFESSIONALS LTD","2020-04-29",778.4,"S","5KG","Physical support - 65+ Long Term Support: Community: Home Care","530",{"$f":"VLOOKUP(I13341,'[1]Sub Lookup'!$A$1:$B$65536,2,FALSE)","v":"Commissioned Service - Other"}]
["Kent County Council",12015213,"KENT SOCIAL CARE PROFESSIONALS LTD","2020-04-29",673.4,"S","5KG","Physical support - 65+ Long Term Support: Community: Home Care","530",{"$f":"VLOOKUP(I13360,'[1]Sub Lookup'!$A$1:$B$65536,2,FALSE)","v":"Commissioned Service - Other"}]
["Kent County Council",12015246,"KENT SOCIAL CARE PROFESSIONALS LTD","2020-04-29",310.8,"S","5KG","Physical support - 65+ Long Term Support: Community: Home Care","530",{"$f":"VLOOKUP(I13369,'[1]Sub Lookup'!$A$1:$B$65536,2,FALSE)","v":"Commissioned Service - Other"}]
["Kent County Council",12015313,"KENT SOCIAL CARE PROFESSIONALS LTD","2020-04-29",285.56,"S","5PG","Sensory Support - 65+ Long Term Support: Community: Home Care","530",{"$f":"VLOOKUP(I13385,'[1]Sub Lookup'!$A$1:$B$65536,2,FALSE)","v":"Commissioned Service - Other"}]
["Kent County Council",12015126,"KENT SOCIAL CARE PROFESSIONALS LTD","2020-04-29",683.2,"S","5KG","Physical support - 65+ Long Term Support: Community: Home Care","530",{"$f":"VLOOKUP(I13393,'[1]Sub Lookup'!$A$1:$B$65536,2,FALSE)","v":"Commissioned Service - Other"}]
["Kent County Council",12015873,"KENT SOCIAL CARE PROFESSIONALS LTD","2020-04-29",280.56,"S","5KG","Physical support - 65+ Long Term Support: Community: Home Care","530",{"$f":"VLOOKUP(I13409,'[1]Sub Lookup'!$A$1:$B$65536,2,FALSE)","v":"Commissioned Service - Other"}]
["Kent County Council",12015121,"KENT SOCIAL CARE PROFESSIONALS LTD","2020-04-29",418.32,"S","5KG","Physical support - 65+ Long Term Support: Community: Home Care","530",{"$f":"VLOOKUP(I13426,'[1]Sub Lookup'!$A$1:$B$65536,2,FALSE)","v":"Commissioned Service - Other"}]
["Kent County Council",12015242,"KENT SOCIAL CARE PROFESSIONALS LTD","2020-04-29",336.7,"S","5KG","Physical support - 65+ Long Term Support: Community: Home Care","530",{"$f":"VLOOKUP(I13437,'[1]Sub Lookup'!$A$1:$B$65536,2,FALSE)","v":"Commissioned Service - Other"}]
["Kent County Council",12015176,"KENT SOCIAL CARE PROFESSIONALS LTD","2020-04-29",287.56,"S","5KG","Physical support - 65+ Long Term Support: Community: Home Care","530",{"$f":"VLOOKUP(I13453,'[1]Sub Lookup'!$A$1:$B$65536,2,FALSE)","v":"Commissioned Service - Other"}]
["Kent County Council",12015750,"KENT SOCIAL CARE PROFESSIONALS LTD","2020-04-29",718.48,"S","5KG","Physical support - 65+ Long Term Support: Community: Home Care","530",{"$f":"VLOOKUP(I13459,'[1]Sub Lookup'!$A$1:$B$65536,2,FALSE)","v":"Commissioned Service - Other"}]
["Kent County Council",11993537,"KENTSTONE PROPERTIES LIMITED","2020-04-17",15000,"C","2LE","Adult Education","120",{"$f":"VLOOKUP(I13481,'[1]Sub Lookup'!$A$1:$B$65536,2,FALSE)","v":"External - Rent, Room Hire & Service Charges"}]
["Kent County Council",11982581,"KESSON HOUSE-RANC CARE HOMES LTD","2020-04-08",6400.24,"S","5KA","Physical support - 65+ Long Term Support: Residential","530",{"$f":"VLOOKUP(I13492,'[1]Sub Lookup'!$A$1:$B$65536,2,FALSE)","v":"Commissioned Service - Other"}]
["Kent County Council",12001561,"KEVINS AIRPORT TRANSFERS","2020-04-22",3192,"E","1RX","Admissions & Transport","222",{"$f":"VLOOKUP(I13505,'[1]Sub Lookup'!$A$1:$B$65536,2,FALSE)","v":"Home to School Transport - Hired"}]
["Kent County Council",11982850,"KID EASE LTD @ ST RADIGUNDS","2020-04-09",285.60000000000002,"E","1KA","School Resources","528",{"$f":"VLOOKUP(I13521,'[1]Sub Lookup'!$A$1:$B$65536,2,FALSE)","v":"Early Years Education"}]
["Kent County Council",11984764,"KID EASE NURSERY","2020-04-14",34610.76,"E","1KA","School Resources","528",{"$f":"VLOOKUP(I13525,'[1]Sub Lookup'!$A$1:$B$65536,2,FALSE)","v":"Early Years Education"}]
["Kent County Council",11951521,"KIER BUSINESS SERVICES LTD","2020-04-03",6095.25,"C","8DP","Property","401",{"$f":"VLOOKUP(I13536,'[1]Sub Lookup'!$A$1:$B$65536,2,FALSE)","v":"Specialists Fees"}]
["Kent County Council",11977191,"KIER FACILITIES SERVICES LIMITED","2020-04-08",496.08,"C","8DR","Corporate Landlord","104",{"$f":"VLOOKUP(I13558,'[1]Sub Lookup'!$A$1:$B$65536,2,FALSE)","v":"Reactive maintenance of buildings"}]
["Kent County Council",11976921,"KIER FACILITIES SERVICES LIMITED","2020-04-08",299.81,"E","1TA","Capital - Primary Schools ES&PS","C14",{"$f":"VLOOKUP(I13573,'[1]Sub Lookup'!$A$1:$B$65536,2,FALSE)","v":"Design Fees - External"}]
["Kent County Council",11977520,"KIER FACILITIES SERVICES LIMITED","2020-04-08",439.32,"E","1TA","Capital - Primary Schools ES&PS","C14",{"$f":"VLOOKUP(I13576,'[1]Sub Lookup'!$A$1:$B$65536,2,FALSE)","v":"Design Fees - External"}]
["Kent County Council",11983129,"KIER FACILITIES SERVICES LIMITED","2020-04-09",1050.23,"C","8DR","Corporate Landlord","310",{"$f":"VLOOKUP(I13591,'[1]Sub Lookup'!$A$1:$B$65536,2,FALSE)","v":"Postage"}]
["Kent County Council",11977178,"KIER FACILITIES SERVICES LIMITED","2020-04-17",1965.6000000000001,"C","5KA","Physical support - 65+ Long Term Support: Residential","104",{"$f":"VLOOKUP(I13604,'[1]Sub Lookup'!$A$1:$B$65536,2,FALSE)","v":"Reactive maintenance of buildings"}]
["Kent County Council",11980423,"KIM BIDDULPH","2020-04-08",1000,"P","7PG","Kent Downs AONB","401",{"$f":"VLOOKUP(I13624,'[1]Sub Lookup'!$A$1:$B$65536,2,FALSE)","v":"Specialists Fees"}]
["Kent County Council",11984572,"KINDERGARTEN KIDS LTD ALBERT)","2020-04-14",16654.95,"E","1KA","School Resources","528",{"$f":"VLOOKUP(I13641,'[1]Sub Lookup'!$A$1:$B$65536,2,FALSE)","v":"Early Years Education"}]
["Kent County Council",11961357,"KINDRED HEARTS LTD T/A MY HOMECARE WEST KENT","2020-04-09",444,"S","5KG","Physical support - 65+ Long Term Support: Community: Home Care","530",{"$f":"VLOOKUP(I13648,'[1]Sub Lookup'!$A$1:$B$65536,2,FALSE)","v":"Commissioned Service - Other"}]
["Kent County Council",12018190,"KINDRED HEARTS LTD T/A MY HOMECARE WEST KENT","2020-04-29",4486.8,"S","5XC","Commissioning & Service Delivery","530",{"$f":"VLOOKUP(I13657,'[1]Sub Lookup'!$A$1:$B$65536,2,FALSE)","v":"Commissioned Service - Other"}]
["Kent County Council",11959198,"KINGS REACH","2020-04-03",10170,"E","1PA","Additional Educational Needs and Resources","401",{"$f":"VLOOKUP(I13672,'[1]Sub Lookup'!$A$1:$B$65536,2,FALSE)","v":"Specialists Fees"}]
["Kent County Council",11976702,"KIPPINGTONS NURSING HOME","2020-04-06",3694.78,"S","5KA","Physical support - 65+ Long Term Support: Residential","530",{"$f":"VLOOKUP(I13690,'[1]Sub Lookup'!$A$1:$B$65536,2,FALSE)","v":"Commissioned Service - Other"}]
["Kent County Council",11967157,"KISIMUL GROUP LTD T/A KISIMULSCHOOL","2020-04-01",4430.7,"S","5XC","Commissioning & Service Delivery","530",{"$f":"VLOOKUP(I13709,'[1]Sub Lookup'!$A$1:$B$65536,2,FALSE)","v":"Commissioned Service - Other"}]
["Kent County Council",12011503,"KISIMUL GROUP LTD T/A KISIMULSCHOOL","2020-04-28",18743.64,"S","5AA","Learning Disability Support - 18 64 Long Term Support: Residential","523",{"$f":"VLOOKUP(I13716,'[1]Sub Lookup'!$A$1:$B$65536,2,FALSE)","v":"Private Contractors"}]
["Kent County Council",11992741,"KM MEDIA GROUP LTD","2020-04-16",1500,"C","8PY","Other Public Health Services","462",{"$f":"VLOOKUP(I13723,'[1]Sub Lookup'!$A$1:$B$65536,2,FALSE)","v":"Advertising (Other than for Staff)"}]
["Kent County Council",11993111,"KNOCKHALL PRIMARY SCHOOL","2020-04-16",500,"K","2LE","Adult Education","401",{"$f":"VLOOKUP(I13740,'[1]Sub Lookup'!$A$1:$B$65536,2,FALSE)","v":"Specialists Fees"}]
["Kent County Council",11983089,"KONNEX LTD","2020-04-09",500,"K","2LE","Adult Education","401",{"$f":"VLOOKUP(I13752,'[1]Sub Lookup'!$A$1:$B$65536,2,FALSE)","v":"Specialists Fees"}]
["Kent County Council",12001007,"L J SACKETT LTD","2020-04-22",1598.5,"E","1RX","Admissions & Transport","222",{"$f":"VLOOKUP(I13764,'[1]Sub Lookup'!$A$1:$B$65536,2,FALSE)","v":"Home to School Transport - Hired"}]
["Kent County Council",11966694,"L'ARCHE KENT","2020-04-01",5596.08,"S","5XC","Commissioning & Service Delivery","530",{"$f":"VLOOKUP(I13784,'[1]Sub Lookup'!$A$1:$B$65536,2,FALSE)","v":"Commissioned Service - Other"}]
["Kent County Council",11997819,"L'ARCHE KENT","2020-04-30",260.95999999999998,"S","5AJ","Learning Disability Support - 18 64 Long Term Support: Community: Day Care","530",{"$f":"VLOOKUP(I13803,'[1]Sub Lookup'!$A$1:$B$65536,2,FALSE)","v":"Commissioned Service - Other"}]
["Kent County Council",12019907,"L'ARCHE KENT","2020-04-30",470.08,"S","5NH","Sensory Support - 18 64 Long Term Support: Community: Supported Living","530",{"$f":"VLOOKUP(I13808,'[1]Sub Lookup'!$A$1:$B$65536,2,FALSE)","v":"Commissioned Service - Other"}]
["Kent County Council",11977089,"LAINEYS FARM","2020-04-14",520,"S","5AJ","Learning Disability Support - 18 64 Long Term Support: Community: Day Care","530",{"$f":"VLOOKUP(I13828,'[1]Sub Lookup'!$A$1:$B$65536,2,FALSE)","v":"Commissioned Service - Other"}]
["Kent County Council",12011662,"LAINEYS FARM","2020-04-28",560,"S","5AJ","Learning Disability Support - 18 64 Long Term Support: Community: Day Care","523",{"$f":"VLOOKUP(I13836,'[1]Sub Lookup'!$A$1:$B$65536,2,FALSE)","v":"Private Contractors"}]
["Kent County Council",12011134,"LANGUAGE LINE SOLUTIONS","2020-04-28",402.8,"S","32P","Rented Accommodation Asylum 16-17","401",{"$f":"VLOOKUP(I13852,'[1]Sub Lookup'!$A$1:$B$65536,2,FALSE)","v":"Specialists Fees"}]
["Kent County Council",11984038,"LARDERCRAFT LTD","2020-04-20",1344,"K","2LC","Libraries, Registration & Archives","340",{"$f":"VLOOKUP(I13869,'[1]Sub Lookup'!$A$1:$B$65536,2,FALSE)","v":"Catering Provisions and Catering Equipment"}]
["Kent County Council",11992705,"LAURESTON HOUSE RES HOME","2020-04-15",1950.1200000000001,"S","5KA","Physical support - 65+ Long Term Support: Residential","530",{"$f":"VLOOKUP(I13876,'[1]Sub Lookup'!$A$1:$B$65536,2,FALSE)","v":"Commissioned Service - Other"}]
["Kent County Council",11969380,"LAURIEM COMPLETE CARE LTD","2020-04-01",308.28000000000003,"S","5KG","Physical support - 65+ Long Term Support: Community: Home Care","530",{"$f":"VLOOKUP(I13896,'[1]Sub Lookup'!$A$1:$B$65536,2,FALSE)","v":"Commissioned Service - Other"}]
["Kent County Council",11966700,"LAURIEM COMPLETE CARE LTD","2020-04-01",75074.78,"S","5XC","Commissioning & Service Delivery","530",{"$f":"VLOOKUP(I13902,'[1]Sub Lookup'!$A$1:$B$65536,2,FALSE)","v":"Commissioned Service - Other"}]
["Kent County Council",11969501,"LAURIEM COMPLETE CARE LTD","2020-04-01",323.40000000000003,"S","5KG","Physical support - 65+ Long Term Support: Community: Home Care","530",{"$f":"VLOOKUP(I13920,'[1]Sub Lookup'!$A$1:$B$65536,2,FALSE)","v":"Commissioned Service - Other"}]
["Kent County Council",11969486,"LAURIEM COMPLETE CARE LTD","2020-04-01",289.52,"S","5KG","Physical support - 65+ Long Term Support: Community: Home Care","530",{"$f":"VLOOKUP(I13931,'[1]Sub Lookup'!$A$1:$B$65536,2,FALSE)","v":"Commissioned Service - Other"}]
["Kent County Council",11969463,"LAURIEM COMPLETE CARE LTD","2020-04-01",691.84,"S","5KG","Physical support - 65+ Long Term Support: Community: Home Care","530",{"$f":"VLOOKUP(I13944,'[1]Sub Lookup'!$A$1:$B$65536,2,FALSE)","v":"Commissioned Service - Other"}]
["Kent County Council",11981329,"LAURIEM COMPLETE CARE LTD","2020-04-08",497,"S","5KG","Physical support - 65+ Long Term Support: Community: Home Care","530",{"$f":"VLOOKUP(I13951,'[1]Sub Lookup'!$A$1:$B$65536,2,FALSE)","v":"Commissioned Service - Other"}]
["Kent County Council",11981354,"LAURIEM COMPLETE CARE LTD","2020-04-08",283.92,"S","5KG","Physical support - 65+ Long Term Support: Community: Home Care","530",{"$f":"VLOOKUP(I13968,'[1]Sub Lookup'!$A$1:$B$65536,2,FALSE)","v":"Commissioned Service - Other"}]
["Kent County Council",11981250,"LAURIEM COMPLETE CARE LTD","2020-04-08",359.66,"S","5KG","Physical support - 65+ Long Term Support: Community: Home Care","530",{"$f":"VLOOKUP(I13988,'[1]Sub Lookup'!$A$1:$B$65536,2,FALSE)","v":"Commissioned Service - Other"}]
["Kent County Council",11981253,"LAURIEM COMPLETE CARE LTD","2020-04-08",719.32,"S","5KG","Physical support - 65+ Long Term Support: Community: Home Care","530",{"$f":"VLOOKUP(I13997,'[1]Sub Lookup'!$A$1:$B$65536,2,FALSE)","v":"Commissioned Service - Other"}]
["Kent County Council",11983716,"LAURIEM COMPLETE CARE LTD","2020-04-09",879.51,"S","5AH","Learning Disability Support - 18 64 Long Term Support: Community: Supported Living","530",{"$f":"VLOOKUP(I14012,'[1]Sub Lookup'!$A$1:$B$65536,2,FALSE)","v":"Commissioned Service - Other"}]
["Kent County Council",11987999,"LAURIEM COMPLETE CARE LTD","2020-04-14",407.74,"S","5JG","Physical Support - 18 64 Long Term Support: Community: Home Care","530",{"$f":"VLOOKUP(I14019,'[1]Sub Lookup'!$A$1:$B$65536,2,FALSE)","v":"Commissioned Service - Other"}]
["Kent County Council",11991458,"LAURIEM COMPLETE CARE LTD","2020-04-15",262.08,"S","5KG","Physical support - 65+ Long Term Support: Community: Home Care","530",{"$f":"VLOOKUP(I14034,'[1]Sub Lookup'!$A$1:$B$65536,2,FALSE)","v":"Commissioned Service - Other"}]
["Kent County Council",11991503,"LAURIEM COMPLETE CARE LTD","2020-04-15",370.72,"S","5KG","Physical support - 65+ Long Term Support: Community: Home Care","530",{"$f":"VLOOKUP(I14056,'[1]Sub Lookup'!$A$1:$B$65536,2,FALSE)","v":"Commissioned Service - Other"}]
["Kent County Council",11991616,"LAURIEM COMPLETE CARE LTD","2020-04-15",333.41,"S","5KG","Physical support - 65+ Long Term Support: Community: Home Care","530",{"$f":"VLOOKUP(I14063,'[1]Sub Lookup'!$A$1:$B$65536,2,FALSE)","v":"Commissioned Service - Other"}]
["Kent County Council",11991446,"LAURIEM COMPLETE CARE LTD","2020-04-15",333.76,"S","5KG","Physical support - 65+ Long Term Support: Community: Home Care","530",{"$f":"VLOOKUP(I14080,'[1]Sub Lookup'!$A$1:$B$65536,2,FALSE)","v":"Commissioned Service - Other"}]
["Kent County Council",11991630,"LAURIEM COMPLETE CARE LTD","2020-04-15",272.79000000000002,"S","5KG","Physical support - 65+ Long Term Support: Community: Home Care","530",{"$f":"VLOOKUP(I14087,'[1]Sub Lookup'!$A$1:$B$65536,2,FALSE)","v":"Commissioned Service - Other"}]
["Kent County Council",12003027,"LAURIEM COMPLETE CARE LTD","2020-04-22",405.16,"S","5KG","Physical support - 65+ Long Term Support: Community: Home Care","530",{"$f":"VLOOKUP(I14110,'[1]Sub Lookup'!$A$1:$B$65536,2,FALSE)","v":"Commissioned Service - Other"}]
["Kent County Council",12003111,"LAURIEM COMPLETE CARE LTD","2020-04-22",438.90000000000003,"S","5KG","Physical support - 65+ Long Term Support: Community: Home Care","530",{"$f":"VLOOKUP(I14124,'[1]Sub Lookup'!$A$1:$B$65536,2,FALSE)","v":"Commissioned Service - Other"}]
["Kent County Council",12003005,"LAURIEM COMPLETE CARE LTD","2020-04-22",271.32,"S","5KG","Physical support - 65+ Long Term Support: Community: Home Care","530",{"$f":"VLOOKUP(I14129,'[1]Sub Lookup'!$A$1:$B$65536,2,FALSE)","v":"Commissioned Service - Other"}]
["Kent County Council",12003068,"LAURIEM COMPLETE CARE LTD","2020-04-22",405.6,"S","5KG","Physical support - 65+ Long Term Support: Community: Home Care","530",{"$f":"VLOOKUP(I14148,'[1]Sub Lookup'!$A$1:$B$65536,2,FALSE)","v":"Commissioned Service - Other"}]
["Kent County Council",12003102,"LAURIEM COMPLETE CARE LTD","2020-04-22",452.86,"S","5KG","Physical support - 65+ Long Term Support: Community: Home Care","530",{"$f":"VLOOKUP(I14155,'[1]Sub Lookup'!$A$1:$B$65536,2,FALSE)","v":"Commissioned Service - Other"}]
["Kent County Council",11993774,"LAURIEM COMPLETE CARE LTD","2020-04-24",11394.83,"S","5KG","Physical support - 65+ Long Term Support: Community: Home Care","530",{"$f":"VLOOKUP(I14176,'[1]Sub Lookup'!$A$1:$B$65536,2,FALSE)","v":"Commissioned Service - Other"}]
["Kent County Council",12007487,"LAURIEM COMPLETE CARE LTD","2020-04-24",667.94,"S","5JG","Physical Support - 18 64 Long Term Support: Community: Home Care","530",{"$f":"VLOOKUP(I14179,'[1]Sub Lookup'!$A$1:$B$65536,2,FALSE)","v":"Commissioned Service - Other"}]
["Kent County Council",12016153,"LAURIEM COMPLETE CARE LTD","2020-04-29",325.64,"S","5KG","Physical support - 65+ Long Term Support: Community: Home Care","530",{"$f":"VLOOKUP(I14195,'[1]Sub Lookup'!$A$1:$B$65536,2,FALSE)","v":"Commissioned Service - Other"}]
["Kent County Council",12015668,"LAURIEM COMPLETE CARE LTD","2020-04-29",355.59000000000003,"S","5KG","Physical support - 65+ Long Term Support: Community: Home Care","530",{"$f":"VLOOKUP(I14207,'[1]Sub Lookup'!$A$1:$B$65536,2,FALSE)","v":"Commissioned Service - Other"}]
["Kent County Council",12015665,"LAURIEM COMPLETE CARE LTD","2020-04-29",741.58,"S","5KG","Physical support - 65+ Long Term Support: Community: Home Care","530",{"$f":"VLOOKUP(I14223,'[1]Sub Lookup'!$A$1:$B$65536,2,FALSE)","v":"Commissioned Service - Other"}]
["Kent County Council",12015644,"LAURIEM COMPLETE CARE LTD","2020-04-29",317.8,"S","5KG","Physical support - 65+ Long Term Support: Community: Home Care","530",{"$f":"VLOOKUP(I14242,'[1]Sub Lookup'!$A$1:$B$65536,2,FALSE)","v":"Commissioned Service - Other"}]
["Kent County Council",12016180,"LAURIEM COMPLETE CARE LTD","2020-04-29",636.51,"S","5KG","Physical support - 65+ Long Term Support: Community: Home Care","530",{"$f":"VLOOKUP(I14247,'[1]Sub Lookup'!$A$1:$B$65536,2,FALSE)","v":"Commissioned Service - Other"}]
["Kent County Council",11974129,"LAWBOOK CONSULTING LTD T/A LBC WISE COUNCIL","2020-04-09",5000,"C","8DL","Legal Services","404",{"$f":"VLOOKUP(I14261,'[1]Sub Lookup'!$A$1:$B$65536,2,FALSE)","v":"Legal Fees"}]
["Kent County Council",11966164,"LDC CARE COMPANY LIMITED","2020-04-01",56016.959999999999,"S","5XC","Commissioning & Service Delivery","530",{"$f":"VLOOKUP(I14275,'[1]Sub Lookup'!$A$1:$B$65536,2,FALSE)","v":"Commissioned Service - Other"}]
["Kent County Council",11993482,"LDC CARE COMPANY LIMITED","2020-04-16",4401.45,"S","5AH","Learning Disability Support - 18 64 Long Term Support: Community: Supported Living","530",{"$f":"VLOOKUP(I14291,'[1]Sub Lookup'!$A$1:$B$65536,2,FALSE)","v":"Commissioned Service - Other"}]
["Kent County Council",11994673,"LDC CARE COMPANY LIMITED","2020-04-17",6607.2300000000005,"S","5AH","Learning Disability Support - 18 64 Long Term Support: Community: Supported Living","530",{"$f":"VLOOKUP(I14308,'[1]Sub Lookup'!$A$1:$B$65536,2,FALSE)","v":"Commissioned Service - Other"}]
["Kent County Council",11994674,"LDC CARE COMPANY LIMITED","2020-04-17",6391.71,"S","5BH","Learning Disability Support - 65+ Long Term Support: Community: Supported Living","530",{"$f":"VLOOKUP(I14315,'[1]Sub Lookup'!$A$1:$B$65536,2,FALSE)","v":"Commissioned Service - Other"}]
["Kent County Council",11996673,"LDC CARE COMPANY LIMITED","2020-04-17",6403.8,"S","5AA","Learning Disability Support - 18 64 Long Term Support: Residential","530",{"$f":"VLOOKUP(I14327,'[1]Sub Lookup'!$A$1:$B$65536,2,FALSE)","v":"Commissioned Service - Other"}]
["Kent County Council",12011851,"LDC CARE COMPANY LIMITED","2020-04-28",6698.82,"S","5AH","Learning Disability Support - 18 64 Long Term Support: Community: Supported Living","523",{"$f":"VLOOKUP(I14343,'[1]Sub Lookup'!$A$1:$B$65536,2,FALSE)","v":"Private Contractors"}]
["Kent County Council",12017842,"LDC CARE COMPANY LIMITED","2020-04-29",3335.37,"S","5XC","Commissioning & Service Delivery","530",{"$f":"VLOOKUP(I14359,'[1]Sub Lookup'!$A$1:$B$65536,2,FALSE)","v":"Commissioned Service - Other"}]
["Kent County Council",11983947,"LEE AND SON SURFACING LTD","2020-04-14",-372,"A","9AR","Revenue Balance Sheet","BLE",{"$f":"VLOOKUP(I14374,'[1]Sub Lookup'!$A$1:$B$65536,2,FALSE)","v":"Sundry Creditors - Salary Suspense"}]
["Kent County Council",12011396,"REDACTED - Personal Payment","2020-04-28",900,"E","1PA","Additional Educational Needs and Resources","404",{"$f":"VLOOKUP(I14387,'[1]Sub Lookup'!$A$1:$B$65536,2,FALSE)","v":"Legal Fees"}]
["Kent County Council",11980424,"LEONARD CHESHIRE DISABILITY","2020-04-17",356.40000000000003,"S","5JJ","Physical Support - 18 64 Long Term Support: Community: Day Care","520",{"$f":"VLOOKUP(I14393,'[1]Sub Lookup'!$A$1:$B$65536,2,FALSE)","v":"Voluntary Associations"}]
["Kent County Council",12002593,"LEONARD CHESHIRE SERVICES CIC","2020-04-22",5381.11,"S","5JA","Physical Support - 18 64 Long Term Support: Residential","530",{"$f":"VLOOKUP(I14411,'[1]Sub Lookup'!$A$1:$B$65536,2,FALSE)","v":"Commissioned Service - Other"}]
["Kent County Council",12002614,"LEONARD CHESHIRE SERVICES CIC","2020-04-22",5025.32,"S","5KA","Physical support - 65+ Long Term Support: Residential","520",{"$f":"VLOOKUP(I14427,'[1]Sub Lookup'!$A$1:$B$65536,2,FALSE)","v":"Voluntary Associations"}]
["Kent County Council",11989195,"LEONARD CHESHIRE SERVICES CIC","2020-04-22",-2745.39,"S","5BA","Learning Disability Support - 65+ Long Term Support: Residential","520",{"$f":"VLOOKUP(I14440,'[1]Sub Lookup'!$A$1:$B$65536,2,FALSE)","v":"Voluntary Associations"}]
["Kent County Council",12005947,"LEONARD CHESHIRE SERVICES CIC","2020-04-23",8108.3200000000006,"S","5JA","Physical Support - 18 64 Long Term Support: Residential","520",{"$f":"VLOOKUP(I14455,'[1]Sub Lookup'!$A$1:$B$65536,2,FALSE)","v":"Voluntary Associations"}]
["Kent County Council",12020013,"LEONARD CHESHIRE SERVICES CIC","2020-04-30",409.39,"S","5JA","Physical Support - 18 64 Long Term Support: Residential","520",{"$f":"VLOOKUP(I14473,'[1]Sub Lookup'!$A$1:$B$65536,2,FALSE)","v":"Voluntary Associations"}]
["Kent County Council",11976566,"REDACTED - Personal Payment","2020-04-14",477,"S","35T","County Adoption Team","401",{"$f":"VLOOKUP(I14479,'[1]Sub Lookup'!$A$1:$B$65536,2,FALSE)","v":"Specialists Fees"}]
["Kent County Council",11980435,"LETT'S CARE LTD","2020-04-08",1950.1200000000001,"S","5KA","Physical support - 65+ Long Term Support: Residential","530",{"$f":"VLOOKUP(I14499,'[1]Sub Lookup'!$A$1:$B$65536,2,FALSE)","v":"Commissioned Service - Other"}]
["Kent County Council",12018002,"LETT'S CARE LTD","2020-04-29",5748.28,"S","5XC","Commissioning & Service Delivery","530",{"$f":"VLOOKUP(I14506,'[1]Sub Lookup'!$A$1:$B$65536,2,FALSE)","v":"Commissioned Service - Other"}]
["Kent County Council",11975841,"LIBERTY FOR ALL C.I.C","2020-04-06",6800,"S","35P","Section 24","527",{"$f":"VLOOKUP(I14523,'[1]Sub Lookup'!$A$1:$B$65536,2,FALSE)","v":"Services"}]
["Kent County Council",11982521,"LIFELINE HEALTH LIMITED T/A COMMUNITY LIFELINE","2020-04-08",2154.5100000000002,"S","5AH","Learning Disability Support - 18 64 Long Term Support: Community: Supported Living","530",{"$f":"VLOOKUP(I14539,'[1]Sub Lookup'!$A$1:$B$65536,2,FALSE)","v":"Commissioned Service - Other"}]
["Kent County Council",12008626,"LIFELINE HEALTH LIMITED T/A COMMUNITY LIFELINE","2020-04-24",2154.5100000000002,"S","5AH","Learning Disability Support - 18 64 Long Term Support: Community: Supported Living","530",{"$f":"VLOOKUP(I14547,'[1]Sub Lookup'!$A$1:$B$65536,2,FALSE)","v":"Commissioned Service - Other"}]
["Kent County Council",12005429,"LIFEWAYS COMMUNITY CARE LTD","2020-04-22",5323.56,"S","5AH","Learning Disability Support - 18 64 Long Term Support: Community: Supported Living","530",{"$f":"VLOOKUP(I14554,'[1]Sub Lookup'!$A$1:$B$65536,2,FALSE)","v":"Commissioned Service - Other"}]
["Kent County Council",11975731,"LIGHTHOUSE FOSTERING LIMITED","2020-04-06",5447.14,"S","35R","IS Fostering","527",{"$f":"VLOOKUP(I14572,'[1]Sub Lookup'!$A$1:$B$65536,2,FALSE)","v":"Services"}]
["Kent County Council",12000146,"REDACTED - Personal Payment","2020-04-27",-377.6,"S","5KK","Physical support - 65+ Long Term Support: Fairer Charging Income","937",{"$f":"VLOOKUP(I14591,'[1]Sub Lookup'!$A$1:$B$65536,2,FALSE)","v":"KASS Notional Income"}]
["Kent County Council",11992260,"LINDAU RESIDENTIAL HOME T/A CARE EXCELLENCE LTD","2020-04-15",2252.96,"S","5KB","Physical support - 65+ Long Term Support: Nursing","530",{"$f":"VLOOKUP(I14605,'[1]Sub Lookup'!$A$1:$B$65536,2,FALSE)","v":"Commissioned Service - Other"}]
["Kent County Council",11992261,"LINDAU RESIDENTIAL HOME T/A CARE EXCELLENCE LTD","2020-04-15",2252.96,"S","5KB","Physical support - 65+ Long Term Support: Nursing","530",{"$f":"VLOOKUP(I14615,'[1]Sub Lookup'!$A$1:$B$65536,2,FALSE)","v":"Commissioned Service - Other"}]
["Kent County Council",11992259,"LINDAU RESIDENTIAL HOME T/A CARE EXCELLENCE LTD","2020-04-15",2252.96,"S","5TB","Support with Memory & Cognition - 65+ Long Term Support: Nursing","530",{"$f":"VLOOKUP(I14622,'[1]Sub Lookup'!$A$1:$B$65536,2,FALSE)","v":"Commissioned Service - Other"}]
["Kent County Council",12006471,"LITTLE ACORNS (HERNE) PRE SCHOOL","2020-04-23",433.77,"E","1PA","Additional Educational Needs and Resources","528",{"$f":"VLOOKUP(I14638,'[1]Sub Lookup'!$A$1:$B$65536,2,FALSE)","v":"Early Years Education"}]
["Kent County Council",11972595,"LITTLE EXPLORERS KINDERGARTEN LTD","2020-04-03",451.8,"E","1KA","School Resources","528",{"$f":"VLOOKUP(I14659,'[1]Sub Lookup'!$A$1:$B$65536,2,FALSE)","v":"Early Years Education"}]
["Kent County Council",12006229,"LITTLE FINGERS-LITTLE FINGERS DAY NURSERY LTD","2020-04-23",313.28000000000003,"E","1PA","Additional Educational Needs and Resources","528",{"$f":"VLOOKUP(I14667,'[1]Sub Lookup'!$A$1:$B$65536,2,FALSE)","v":"Early Years Education"}]
["Kent County Council",11984495,"LITTLE OAKS EARLY YEARS LTD-LITTLE OAKS NURSERY-ASHFORD","2020-04-14",30028.190000000002,"E","1KA","School Resources","528",{"$f":"VLOOKUP(I14683,'[1]Sub Lookup'!$A$1:$B$65536,2,FALSE)","v":"Early Years Education"}]
["Kent County Council",11985244,"LITTLE OAKS SANDGATE - LOEY LTD","2020-04-14",4888.08,"E","1KA","School Resources","528",{"$f":"VLOOKUP(I14690,'[1]Sub Lookup'!$A$1:$B$65536,2,FALSE)","v":"Early Years Education"}]
["Kent County Council",11994628,"LITTLE OYSTER LTD T/A LITTLE OYSTER RESIDENTIAL HOME","2020-04-17",12420.720000000001,"S","5JA","Physical Support - 18 64 Long Term Support: Residential","530",{"$f":"VLOOKUP(I14704,'[1]Sub Lookup'!$A$1:$B$65536,2,FALSE)","v":"Commissioned Service - Other"}]
["Kent County Council",11985076,"LITTLE QUACKERS NURSERY & PRE SCHOOL - LQ LTD","2020-04-14",31634.280000000002,"E","1KA","School Resources","528",{"$f":"VLOOKUP(I14727,'[1]Sub Lookup'!$A$1:$B$65536,2,FALSE)","v":"Early Years Education"}]
["Kent County Council",12006226,"LITTLE STARS PRE SCHOOL-MAIDSTONE","2020-04-23",289.18,"E","1PA","Additional Educational Needs and Resources","528",{"$f":"VLOOKUP(I14733,'[1]Sub Lookup'!$A$1:$B$65536,2,FALSE)","v":"Early Years Education"}]
["Kent County Council",11994482,"LITTLECROFT","2020-04-17",4780,"S","5BA","Learning Disability Support - 65+ Long Term Support: Residential","530",{"$f":"VLOOKUP(I14751,'[1]Sub Lookup'!$A$1:$B$65536,2,FALSE)","v":"Commissioned Service - Other"}]
["Kent County Council",11967145,"LITTLEFAIR CARE HOME LTD","2020-04-01",376.08,"S","5XC","Commissioning & Service Delivery","530",{"$f":"VLOOKUP(I14758,'[1]Sub Lookup'!$A$1:$B$65536,2,FALSE)","v":"Commissioned Service - Other"}]
["Kent County Council",12014133,"LONDON BOROUGH OF HARINGEY","2020-04-29",1325.82,"S","32Q","Rented Accommodation Asylum 18+","123",{"$f":"VLOOKUP(I14770,'[1]Sub Lookup'!$A$1:$B$65536,2,FALSE)","v":"National and Non Domestic Rates and Council Tax"}]
["Kent County Council",11957557,"LONDON SOUTH EAST ACADEMIES TRUST","2020-04-03",3026.67,"E","1PA","Additional Educational Needs and Resources","510",{"$f":"VLOOKUP(I14782,'[1]Sub Lookup'!$A$1:$B$65536,2,FALSE)","v":"Other Local Authorities"}]
["Kent County Council",11956900,"LOOK AHEAD CARE AND SUPPORT LTD","2020-04-28",2248.88,"K","2BG","Other Adults","530",{"$f":"VLOOKUP(I14799,'[1]Sub Lookup'!$A$1:$B$65536,2,FALSE)","v":"Commissioned Service - Other"}]
["Kent County Council",11992350,"LOOSE VALLEY NURSING HOME","2020-04-15",8943.84,"S","5KB","Physical support - 65+ Long Term Support: Nursing","530",{"$f":"VLOOKUP(I14819,'[1]Sub Lookup'!$A$1:$B$65536,2,FALSE)","v":"Commissioned Service - Other"}]
["Kent County Council",11961778,"LORENSBERGS LIMITED","2020-04-09",48800,"K","2LC","Libraries, Registration & Archives","303",{"$f":"VLOOKUP(I14826,'[1]Sub Lookup'!$A$1:$B$65536,2,FALSE)","v":"Computer and Other IT Expenditure (Software)"}]
["Kent County Council",11958913,"LUCAS CONSULT LTD","2020-04-03",3080,"S","5XC","Commissioning & Service Delivery","401",{"$f":"VLOOKUP(I14846,'[1]Sub Lookup'!$A$1:$B$65536,2,FALSE)","v":"Specialists Fees"}]
["Kent County Council",11977992,"LUCKETTS FARM LTD T/A THE JOHN GRAHAM CENTRE","2020-04-07",4545.01,"S","5AH","Learning Disability Support - 18 64 Long Term Support: Community: Supported Living","530",{"$f":"VLOOKUP(I14850,'[1]Sub Lookup'!$A$1:$B$65536,2,FALSE)","v":"Commissioned Service - Other"}]
["Kent County Council",11993940,"LUCKETTS FARM LTD T/A THE JOHN GRAHAM CENTRE","2020-04-24",777.15,"S","5AJ","Learning Disability Support - 18 64 Long Term Support: Community: Day Care","530",{"$f":"VLOOKUP(I14870,'[1]Sub Lookup'!$A$1:$B$65536,2,FALSE)","v":"Commissioned Service - Other"}]
["Kent County Council",11993572,"LUCKETTS FARM LTD T/A THE JOHN GRAHAM CENTRE","2020-04-24",364.5,"S","5AJ","Learning Disability Support - 18 64 Long Term Support: Community: Day Care","530",{"$f":"VLOOKUP(I14883,'[1]Sub Lookup'!$A$1:$B$65536,2,FALSE)","v":"Commissioned Service - Other"}]
["Kent County Council",11993742,"LUCKETTS FARM LTD T/A THE JOHN GRAHAM CENTRE","2020-04-24",1049.6400000000001,"S","5AJ","Learning Disability Support - 18 64 Long Term Support: Community: Day Care","530",{"$f":"VLOOKUP(I14894,'[1]Sub Lookup'!$A$1:$B$65536,2,FALSE)","v":"Commissioned Service - Other"}]
["Kent County Council",11993366,"LUKESTONE NURSING HOME","2020-04-16",3200,"S","5TB","Support with Memory & Cognition - 65+ Long Term Support: Nursing","530",{"$f":"VLOOKUP(I14912,'[1]Sub Lookup'!$A$1:$B$65536,2,FALSE)","v":"Commissioned Service - Other"}]
["Kent County Council",12001676,"LUKESTONE NURSING HOME","2020-04-22",6720,"S","5KB","Physical support - 65+ Long Term Support: Nursing","530",{"$f":"VLOOKUP(I14918,'[1]Sub Lookup'!$A$1:$B$65536,2,FALSE)","v":"Commissioned Service - Other"}]
["Kent County Council",12001455,"LUNAM LIMITED","2020-04-22",900,"E","1RX","Admissions & Transport","222",{"$f":"VLOOKUP(I14938,'[1]Sub Lookup'!$A$1:$B$65536,2,FALSE)","v":"Home to School Transport - Hired"}]
["Kent County Council",12006272,"LYDD HOUSE PLAYGROUP","2020-04-23",265.08,"E","1PA","Additional Educational Needs and Resources","528",{"$f":"VLOOKUP(I14945,'[1]Sub Lookup'!$A$1:$B$65536,2,FALSE)","v":"Early Years Education"}]
["Kent County Council",12018145,"LYNDHURST REST HOME","2020-04-29",10146.460000000001,"S","5XC","Commissioning & Service Delivery","530",{"$f":"VLOOKUP(I14962,'[1]Sub Lookup'!$A$1:$B$65536,2,FALSE)","v":"Commissioned Service - Other"}]
["Kent County Council",11997669,"M&D TRANSPORT","2020-04-20",2067,"E","1RX","Admissions & Transport","222",{"$f":"VLOOKUP(I14978,'[1]Sub Lookup'!$A$1:$B$65536,2,FALSE)","v":"Home to School Transport - Hired"}]
["Kent County Council",11997655,"M&D TRANSPORT","2020-04-20",3078,"E","1RX","Admissions & Transport","222",{"$f":"VLOOKUP(I14986,'[1]Sub Lookup'!$A$1:$B$65536,2,FALSE)","v":"Home to School Transport - Hired"}]
["Kent County Council",11997643,"M&D TRANSPORT","2020-04-20",2405,"E","1RX","Admissions & Transport","222",{"$f":"VLOOKUP(I15006,'[1]Sub Lookup'!$A$1:$B$65536,2,FALSE)","v":"Home to School Transport - Hired"}]
["Kent County Council",11966734,"MACINTYRE CARE","2020-04-01",5510.42,"S","5XC","Commissioning & Service Delivery","530",{"$f":"VLOOKUP(I15011,'[1]Sub Lookup'!$A$1:$B$65536,2,FALSE)","v":"Commissioned Service - Other"}]
["Kent County Council",12017534,"MACINTYRE CARE","2020-04-29",3123.4500000000003,"S","5XC","Commissioning & Service Delivery","530",{"$f":"VLOOKUP(I15030,'[1]Sub Lookup'!$A$1:$B$65536,2,FALSE)","v":"Commissioned Service - Other"}]
["Kent County Council",11992615,"MADEIRA LODGE SPECIALIST RSDNTL HOME","2020-04-15",2260.2800000000002,"S","5KA","Physical support - 65+ Long Term Support: Residential","530",{"$f":"VLOOKUP(I15044,'[1]Sub Lookup'!$A$1:$B$65536,2,FALSE)","v":"Commissioned Service - Other"}]
["Kent County Council",12006498,"MADGINFORD PRE-SCHOOL","2020-04-23",289.18,"E","1PA","Additional Educational Needs and Resources","528",{"$f":"VLOOKUP(I15054,'[1]Sub Lookup'!$A$1:$B$65536,2,FALSE)","v":"Early Years Education"}]
["Kent County Council",12006988,"MAIDSTONE & TUNBRIDGE WELLS NHS TRUST","2020-04-24",25000,"C","8PA","Sexual Health Services - STI testing & treatment","522",{"$f":"VLOOKUP(I15074,'[1]Sub Lookup'!$A$1:$B$65536,2,FALSE)","v":"District Health Authorities"}]
["Kent County Council",11961994,"MAIDSTONE BOROUGH COUNCIL","2020-04-07",1593.54,"P","7HB","Highways Routine","523",{"$f":"VLOOKUP(I15077,'[1]Sub Lookup'!$A$1:$B$65536,2,FALSE)","v":"Private Contractors"}]
["Kent County Council",11985820,"MAIDSTONE BOROUGH COUNCIL","2020-04-14",4041.9,"C","2LC","Libraries, Registration & Archives","123",{"$f":"VLOOKUP(I15098,'[1]Sub Lookup'!$A$1:$B$65536,2,FALSE)","v":"National and Non Domestic Rates and Council Tax"}]
["Kent County Council",11996832,"MAIDSTONE BOROUGH COUNCIL","2020-04-20",596.9,"C","8DZ","Property Investment Fund","123",{"$f":"VLOOKUP(I15110,'[1]Sub Lookup'!$A$1:$B$65536,2,FALSE)","v":"National and Non Domestic Rates and Council Tax"}]
["Kent County Council",11992342,"MALTREATH","2020-04-15",3660.2400000000002,"S","5FA","Mental Health Support - 65+ Long Term Support: Residential","530",{"$f":"VLOOKUP(I15126,'[1]Sub Lookup'!$A$1:$B$65536,2,FALSE)","v":"Commissioned Service - Other"}]
["Kent County Council",11673337,"MANDALAY CARE HOME - FOLKESTONE","2020-04-01",-975.06000000000006,"S","5KA","Physical support - 65+ Long Term Support: Residential","530",{"$f":"VLOOKUP(I15142,'[1]Sub Lookup'!$A$1:$B$65536,2,FALSE)","v":"Commissioned Service - Other"}]
["Kent County Council",11673331,"MANDALAY CARE HOME - FOLKESTONE","2020-04-01",-348.24,"S","5KA","Physical support - 65+ Long Term Support: Residential","530",{"$f":"VLOOKUP(I15143,'[1]Sub Lookup'!$A$1:$B$65536,2,FALSE)","v":"Commissioned Service - Other"}]
["Kent County Council",12006219,"MANOR HOUSE NURSERY SCHOOL - MHNS LTD","2020-04-23",360.24,"E","1PA","Additional Educational Needs and Resources","528",{"$f":"VLOOKUP(I15166,'[1]Sub Lookup'!$A$1:$B$65536,2,FALSE)","v":"Early Years Education"}]
["Kent County Council",11992567,"MANORVILLE CARE HOMES LTD","2020-04-15",6646.92,"S","5KB","Physical support - 65+ Long Term Support: Nursing","530",{"$f":"VLOOKUP(I15176,'[1]Sub Lookup'!$A$1:$B$65536,2,FALSE)","v":"Commissioned Service - Other"}]
["Kent County Council",11992326,"MARBLESIDE CARE","2020-04-15",769.44,"S","5AH","Learning Disability Support - 18 64 Long Term Support: Community: Supported Living","530",{"$f":"VLOOKUP(I15194,'[1]Sub Lookup'!$A$1:$B$65536,2,FALSE)","v":"Commissioned Service - Other"}]
["Kent County Council",11992324,"MARBLESIDE CARE","2020-04-15",663,"S","5AH","Learning Disability Support - 18 64 Long Term Support: Community: Supported Living","530",{"$f":"VLOOKUP(I15197,'[1]Sub Lookup'!$A$1:$B$65536,2,FALSE)","v":"Commissioned Service - Other"}]
["Kent County Council",11964888,"REDACTED - Personal Payment","2020-04-01",1197.6500000000001,"S","9AR","Revenue Balance Sheet","BEA",{"$f":"VLOOKUP(I15223,'[1]Sub Lookup'!$A$1:$B$65536,2,FALSE)","v":"Payments in Advance - General"}]
["Kent County Council",11990510,"MARK HOBBS & SON","2020-04-30",2500,"K","2LR","Countryside Partnerships","100",{"$f":"VLOOKUP(I15234,'[1]Sub Lookup'!$A$1:$B$65536,2,FALSE)","v":"Maintenance of Grounds"}]
["Kent County Council",11966168,"MARTHA TRUST","2020-04-01",4517.34,"S","5XC","Commissioning & Service Delivery","530",{"$f":"VLOOKUP(I15242,'[1]Sub Lookup'!$A$1:$B$65536,2,FALSE)","v":"Commissioned Service - Other"}]
["Kent County Council",11997480,"MARWELL TRAVEL LIMITED","2020-04-20",1190,"E","1RX","Admissions & Transport","222",{"$f":"VLOOKUP(I15262,'[1]Sub Lookup'!$A$1:$B$65536,2,FALSE)","v":"Home to School Transport - Hired"}]
["Kent County Council",11997478,"MARWELL TRAVEL LIMITED","2020-04-20",4270,"E","1RX","Admissions & Transport","222",{"$f":"VLOOKUP(I15265,'[1]Sub Lookup'!$A$1:$B$65536,2,FALSE)","v":"Home to School Transport - Hired"}]
["Kent County Council",11984295,"MARY HARE GRAMMAR SCHOOL","2020-04-14",12151,"E","1PA","Additional Educational Needs and Resources","530",{"$f":"VLOOKUP(I15289,'[1]Sub Lookup'!$A$1:$B$65536,2,FALSE)","v":"Commissioned Service - Other"}]
["Kent County Council",11982478,"REDACTED - Personal Payment","2020-04-08",568.80000000000007,"S","35X","Direct Payments Children","523",{"$f":"VLOOKUP(I15293,'[1]Sub Lookup'!$A$1:$B$65536,2,FALSE)","v":"Private Contractors"}]
["Kent County Council",12013340,"MAURICE HOUSE","2020-04-28",22177,"S","5KA","Physical support - 65+ Long Term Support: Residential","530",{"$f":"VLOOKUP(I15308,'[1]Sub Lookup'!$A$1:$B$65536,2,FALSE)","v":"Commissioned Service - Other"}]
["Kent County Council",11989523,"MAYFLOWER CARE HOMES (NORTHFLEET) LTD","2020-04-14",18787.68,"S","5KB","Physical support - 65+ Long Term Support: Nursing","530",{"$f":"VLOOKUP(I15330,'[1]Sub Lookup'!$A$1:$B$65536,2,FALSE)","v":"Commissioned Service - Other"}]
["Kent County Council",11989523,"MAYFLOWER CARE HOMES (NORTHFLEET) LTD","2020-04-14",7800,"S","5JB","Physical Support - 18 64 Long Term Support: Nursing","530",{"$f":"VLOOKUP(I15333,'[1]Sub Lookup'!$A$1:$B$65536,2,FALSE)","v":"Commissioned Service - Other"}]
["Kent County Council",11992619,"MAYLANDS","2020-04-15",8106.04,"S","5AA","Learning Disability Support - 18 64 Long Term Support: Residential","530",{"$f":"VLOOKUP(I15355,'[1]Sub Lookup'!$A$1:$B$65536,2,FALSE)","v":"Commissioned Service - Other"}]
["Kent County Council",11993368,"MAYLANDS","2020-04-16",7495.52,"S","5AH","Learning Disability Support - 18 64 Long Term Support: Community: Supported Living","530",{"$f":"VLOOKUP(I15361,'[1]Sub Lookup'!$A$1:$B$65536,2,FALSE)","v":"Commissioned Service - Other"}]
["Kent County Council",11979682,"MB GROUNDS MAINTENANCE LTD","2020-04-17",575,"P","7HM","Tree Maintenance","523",{"$f":"VLOOKUP(I15374,'[1]Sub Lookup'!$A$1:$B$65536,2,FALSE)","v":"Private Contractors"}]
["Kent County Council",12001452,"MD IMRANUL ISLAM T/AS IMRAN TAXI","2020-04-22",1125.5,"E","1RX","Admissions & Transport","222",{"$f":"VLOOKUP(I15385,'[1]Sub Lookup'!$A$1:$B$65536,2,FALSE)","v":"Home to School Transport - Hired"}]
["Kent County Council",11959603,"MEDWAY COMMUNITY HEALTHCARE CIC","2020-04-03",340,"S","5AJ","Learning Disability Support - 18 64 Long Term Support: Community: Day Care","520",{"$f":"VLOOKUP(I15405,'[1]Sub Lookup'!$A$1:$B$65536,2,FALSE)","v":"Voluntary Associations"}]
["Kent County Council",11983216,"MEDWAY NORSE LIMITED","2020-04-17",550,"P","7WH","Closed Landfill Sites (Aftercare)","523",{"$f":"VLOOKUP(I15421,'[1]Sub Lookup'!$A$1:$B$65536,2,FALSE)","v":"Private Contractors"}]
["Kent County Council",11992349,"MENTAL HEALTH RESIDENTIAL LTD","2020-04-15",3475.08,"S","5EA","Mental Health Support - 18 64 Long Term Support: Residential","530",{"$f":"VLOOKUP(I15429,'[1]Sub Lookup'!$A$1:$B$65536,2,FALSE)","v":"Commissioned Service - Other"}]
["Kent County Council",11971238,"MERCURE MAIDSTONE GREAT DANES HOTEL","2020-04-06",2020,"C","8DH","Personnel and Development","120",{"$f":"VLOOKUP(I15440,'[1]Sub Lookup'!$A$1:$B$65536,2,FALSE)","v":"External - Rent, Room Hire & Service Charges"}]
["Kent County Council",11959755,"MERIDIAN CARE","2020-04-03",267.94,"S","5JG","Physical Support - 18 64 Long Term Support: Community: Home Care","530",{"$f":"VLOOKUP(I15453,'[1]Sub Lookup'!$A$1:$B$65536,2,FALSE)","v":"Commissioned Service - Other"}]
["Kent County Council",11974236,"MERIDIAN CARE","2020-04-24",302.01,"S","5KG","Physical support - 65+ Long Term Support: Community: Home Care","530",{"$f":"VLOOKUP(I15473,'[1]Sub Lookup'!$A$1:$B$65536,2,FALSE)","v":"Commissioned Service - Other"}]
["Kent County Council",11969184,"MERITUM INTEGRATED CARE LLP","2020-04-01",478.67,"S","5KG","Physical support - 65+ Long Term Support: Community: Home Care","530",{"$f":"VLOOKUP(I15487,'[1]Sub Lookup'!$A$1:$B$65536,2,FALSE)","v":"Commissioned Service - Other"}]
["Kent County Council",11968945,"MERITUM INTEGRATED CARE LLP","2020-04-01",318.15000000000003,"S","5JG","Physical Support - 18 64 Long Term Support: Community: Home Care","530",{"$f":"VLOOKUP(I15497,'[1]Sub Lookup'!$A$1:$B$65536,2,FALSE)","v":"Commissioned Service - Other"}]
["Kent County Council",11969021,"MERITUM INTEGRATED CARE LLP","2020-04-01",594.5,"S","5KG","Physical support - 65+ Long Term Support: Community: Home Care","530",{"$f":"VLOOKUP(I15506,'[1]Sub Lookup'!$A$1:$B$65536,2,FALSE)","v":"Commissioned Service - Other"}]
["Kent County Council",11969149,"MERITUM INTEGRATED CARE LLP","2020-04-01",256.77,"S","5KG","Physical support - 65+ Long Term Support: Community: Home Care","530",{"$f":"VLOOKUP(I15521,'[1]Sub Lookup'!$A$1:$B$65536,2,FALSE)","v":"Commissioned Service - Other"}]
["Kent County Council",11973268,"MERITUM INTEGRATED CARE LLP","2020-04-03",349.65000000000003,"S","5KG","Physical support - 65+ Long Term Support: Community: Home Care","530",{"$f":"VLOOKUP(I15541,'[1]Sub Lookup'!$A$1:$B$65536,2,FALSE)","v":"Commissioned Service - Other"}]
["Kent County Council",11973273,"MERITUM INTEGRATED CARE LLP","2020-04-03",532.56000000000006,"S","5KG","Physical support - 65+ Long Term Support: Community: Home Care","530",{"$f":"VLOOKUP(I15553,'[1]Sub Lookup'!$A$1:$B$65536,2,FALSE)","v":"Commissioned Service - Other"}]
["Kent County Council",11973274,"MERITUM INTEGRATED CARE LLP","2020-04-03",266.28000000000003,"S","5KG","Physical support - 65+ Long Term Support: Community: Home Care","530",{"$f":"VLOOKUP(I15565,'[1]Sub Lookup'!$A$1:$B$65536,2,FALSE)","v":"Commissioned Service - Other"}]
["Kent County Council",11981196,"MERITUM INTEGRATED CARE LLP","2020-04-08",478.67,"S","5KG","Physical support - 65+ Long Term Support: Community: Home Care","530",{"$f":"VLOOKUP(I15582,'[1]Sub Lookup'!$A$1:$B$65536,2,FALSE)","v":"Commissioned Service - Other"}]
["Kent County Council",11981066,"MERITUM INTEGRATED CARE LLP","2020-04-08",528.57000000000005,"S","5JG","Physical Support - 18 64 Long Term Support: Community: Home Care","530",{"$f":"VLOOKUP(I15589,'[1]Sub Lookup'!$A$1:$B$65536,2,FALSE)","v":"Commissioned Service - Other"}]
["Kent County Council",11981081,"MERITUM INTEGRATED CARE LLP","2020-04-08",637.70000000000005,"S","5KG","Physical support - 65+ Long Term Support: Community: Home Care","530",{"$f":"VLOOKUP(I15609,'[1]Sub Lookup'!$A$1:$B$65536,2,FALSE)","v":"Commissioned Service - Other"}]
["Kent County Council",11980947,"MERITUM INTEGRATED CARE LLP","2020-04-08",573.30000000000007,"S","5TG","Support with Memory & Cognition - 65+ Long Term Support: Community: Home Care","530",{"$f":"VLOOKUP(I15619,'[1]Sub Lookup'!$A$1:$B$65536,2,FALSE)","v":"Commissioned Service - Other"}]
["Kent County Council",11995225,"MERITUM INTEGRATED CARE LLP","2020-04-17",258.5,"S","5JG","Physical Support - 18 64 Long Term Support: Community: Home Care","530",{"$f":"VLOOKUP(I15633,'[1]Sub Lookup'!$A$1:$B$65536,2,FALSE)","v":"Commissioned Service - Other"}]
["Kent County Council",11995370,"MERITUM INTEGRATED CARE LLP","2020-04-17",313.62,"S","5KG","Physical support - 65+ Long Term Support: Community: Home Care","530",{"$f":"VLOOKUP(I15648,'[1]Sub Lookup'!$A$1:$B$65536,2,FALSE)","v":"Commissioned Service - Other"}]
["Kent County Council",11994529,"MERITUM INTEGRATED CARE LLP","2020-04-17",703.12,"S","5AH","Learning Disability Support - 18 64 Long Term Support: Community: Supported Living","530",{"$f":"VLOOKUP(I15657,'[1]Sub Lookup'!$A$1:$B$65536,2,FALSE)","v":"Commissioned Service - Other"}]
["Kent County Council",11995238,"MERITUM INTEGRATED CARE LLP","2020-04-17",276.92,"S","5KG","Physical support - 65+ Long Term Support: Community: Home Care","530",{"$f":"VLOOKUP(I15677,'[1]Sub Lookup'!$A$1:$B$65536,2,FALSE)","v":"Commissioned Service - Other"}]
["Kent County Council",12004189,"MERITUM INTEGRATED CARE LLP","2020-04-22",293.02,"S","5KG","Physical support - 65+ Long Term Support: Community: Home Care","530",{"$f":"VLOOKUP(I15681,'[1]Sub Lookup'!$A$1:$B$65536,2,FALSE)","v":"Commissioned Service - Other"}]
["Kent County Council",12004212,"MERITUM INTEGRATED CARE LLP","2020-04-22",272.72000000000003,"S","5JG","Physical Support - 18 64 Long Term Support: Community: Home Care","530",{"$f":"VLOOKUP(I15701,'[1]Sub Lookup'!$A$1:$B$65536,2,FALSE)","v":"Commissioned Service - Other"}]
["Kent County Council",12007922,"MERITUM INTEGRATED CARE LLP","2020-04-24",290.64,"S","5KG","Physical support - 65+ Long Term Support: Community: Home Care","530",{"$f":"VLOOKUP(I15714,'[1]Sub Lookup'!$A$1:$B$65536,2,FALSE)","v":"Commissioned Service - Other"}]
["Kent County Council",12007848,"MERITUM INTEGRATED CARE LLP","2020-04-24",346.15000000000003,"S","5KG","Physical support - 65+ Long Term Support: Community: Home Care","530",{"$f":"VLOOKUP(I15725,'[1]Sub Lookup'!$A$1:$B$65536,2,FALSE)","v":"Commissioned Service - Other"}]
["Kent County Council",12015423,"MERITUM INTEGRATED CARE LLP","2020-04-29",545.58000000000004,"S","5KG","Physical support - 65+ Long Term Support: Community: Home Care","530",{"$f":"VLOOKUP(I15745,'[1]Sub Lookup'!$A$1:$B$65536,2,FALSE)","v":"Commissioned Service - Other"}]
["Kent County Council",12015397,"MERITUM INTEGRATED CARE LLP","2020-04-29",293.02,"S","5KG","Physical support - 65+ Long Term Support: Community: Home Care","530",{"$f":"VLOOKUP(I15747,'[1]Sub Lookup'!$A$1:$B$65536,2,FALSE)","v":"Commissioned Service - Other"}]
["Kent County Council",11966448,"MERRYHILL CARE LIMITED","2020-04-01",5699.88,"S","5XC","Commissioning & Service Delivery","530",{"$f":"VLOOKUP(I15769,'[1]Sub Lookup'!$A$1:$B$65536,2,FALSE)","v":"Commissioned Service - Other"}]
["Kent County Council",11964734,"MERRYHILL CARE LIMITED","2020-04-01",2700,"S","9AR","Revenue Balance Sheet","BEA",{"$f":"VLOOKUP(I15780,'[1]Sub Lookup'!$A$1:$B$65536,2,FALSE)","v":"Payments in Advance - General"}]
["Kent County Council",12017453,"MERRYHILL CARE LIMITED","2020-04-29",2400,"S","5KA","Physical support - 65+ Long Term Support: Residential","530",{"$f":"VLOOKUP(I15793,'[1]Sub Lookup'!$A$1:$B$65536,2,FALSE)","v":"Commissioned Service - Other"}]
["Kent County Council",11967200,"METHODIST HOMES FOR THE AGED","2020-04-02",2593.35,"S","5XC","Commissioning & Service Delivery","530",{"$f":"VLOOKUP(I15800,'[1]Sub Lookup'!$A$1:$B$65536,2,FALSE)","v":"Commissioned Service - Other"}]
["Kent County Council",11995857,"METHODIST HOMES FOR THE AGED","2020-04-17",1900.52,"S","5KA","Physical support - 65+ Long Term Support: Residential","530",{"$f":"VLOOKUP(I15813,'[1]Sub Lookup'!$A$1:$B$65536,2,FALSE)","v":"Commissioned Service - Other"}]
["Kent County Council",11985278,"MICHAEL FISHER","2020-04-14",291.72000000000003,"E","1KA","School Resources","528",{"$f":"VLOOKUP(I15837,'[1]Sub Lookup'!$A$1:$B$65536,2,FALSE)","v":"Early Years Education"}]
["Kent County Council",12018474,"REDACTED - Personal Payment","2020-04-29",386.1,"S","5XC","Commissioning & Service Delivery","530",{"$f":"VLOOKUP(I15846,'[1]Sub Lookup'!$A$1:$B$65536,2,FALSE)","v":"Commissioned Service - Other"}]
["Kent County Council",11972068,"MIHOMECARE LTD","2020-04-03",341.93,"S","5KG","Physical support - 65+ Long Term Support: Community: Home Care","530",{"$f":"VLOOKUP(I15865,'[1]Sub Lookup'!$A$1:$B$65536,2,FALSE)","v":"Commissioned Service - Other"}]
["Kent County Council",11974326,"MIHOMECARE LTD","2020-04-06",455.84000000000003,"S","5KG","Physical support - 65+ Long Term Support: Community: Home Care","530",{"$f":"VLOOKUP(I15868,'[1]Sub Lookup'!$A$1:$B$65536,2,FALSE)","v":"Commissioned Service - Other"}]
["Kent County Council",11998595,"MIHOMECARE LTD","2020-04-21",329.62,"S","5KG","Physical support - 65+ Long Term Support: Community: Home Care","530",{"$f":"VLOOKUP(I15893,'[1]Sub Lookup'!$A$1:$B$65536,2,FALSE)","v":"Commissioned Service - Other"}]
["Kent County Council",12006960,"MIHOMECARE LTD","2020-04-24",547.12,"S","5KG","Physical support - 65+ Long Term Support: Community: Home Care","530",{"$f":"VLOOKUP(I15905,'[1]Sub Lookup'!$A$1:$B$65536,2,FALSE)","v":"Commissioned Service - Other"}]
["Kent County Council",12011407,"MIHOMECARE LTD","2020-04-28",361.42,"S","5KG","Physical support - 65+ Long Term Support: Community: Home Care","530",{"$f":"VLOOKUP(I15912,'[1]Sub Lookup'!$A$1:$B$65536,2,FALSE)","v":"Commissioned Service - Other"}]
["Kent County Council",11983782,"MILESTONE HOUSE","2020-04-09",6104.4400000000005,"S","5AA","Learning Disability Support - 18 64 Long Term Support: Residential","530",{"$f":"VLOOKUP(I15933,'[1]Sub Lookup'!$A$1:$B$65536,2,FALSE)","v":"Commissioned Service - Other"}]
["Kent County Council",11989305,"MILESTONE HOUSE","2020-04-14",5493.1500000000005,"S","5BA","Learning Disability Support - 65+ Long Term Support: Residential","530",{"$f":"VLOOKUP(I15936,'[1]Sub Lookup'!$A$1:$B$65536,2,FALSE)","v":"Commissioned Service - Other"}]
["Kent County Council",11971177,"MINTERS OF DEAL","2020-04-02",1083.73,"S","5KJ","Physical support - 65+ Long Term Support: Community: Day Care","530",{"$f":"VLOOKUP(I15959,'[1]Sub Lookup'!$A$1:$B$65536,2,FALSE)","v":"Commissioned Service - Other"}]
["Kent County Council",11966577,"MISSION CARE","2020-04-01",972.06000000000006,"S","5XC","Commissioning & Service Delivery","530",{"$f":"VLOOKUP(I15973,'[1]Sub Lookup'!$A$1:$B$65536,2,FALSE)","v":"Commissioned Service - Other"}]
["Kent County Council",12017989,"MISSION CARE","2020-04-29",972.06000000000006,"S","5XC","Commissioning & Service Delivery","530",{"$f":"VLOOKUP(I15980,'[1]Sub Lookup'!$A$1:$B$65536,2,FALSE)","v":"Commissioned Service - Other"}]
["Kent County Council",11979626,"MNP COMPLETE CARE LTD","2020-04-07",19879.27,"S","5JA","Physical Support - 18 64 Long Term Support: Residential","530",{"$f":"VLOOKUP(I15992,'[1]Sub Lookup'!$A$1:$B$65536,2,FALSE)","v":"Commissioned Service - Other"}]
["Kent County Council",11992830,"MNP COMPLETE CARE LTD","2020-04-15",21147.439999999999,"S","5AA","Learning Disability Support - 18 64 Long Term Support: Residential","530",{"$f":"VLOOKUP(I16004,'[1]Sub Lookup'!$A$1:$B$65536,2,FALSE)","v":"Commissioned Service - Other"}]
["Kent County Council",12007641,"MNP COMPLETE CARE LTD","2020-04-24",-839.4,"S","5AA","Learning Disability Support - 18 64 Long Term Support: Residential","937",{"$f":"VLOOKUP(I16025,'[1]Sub Lookup'!$A$1:$B$65536,2,FALSE)","v":"KASS Notional Income"}]
["Kent County Council",11971975,"MOBIUS NETWORKS LTD","2020-04-03",950,"P","7HS","Traffic Systems - Maint/Energy","523",{"$f":"VLOOKUP(I16032,'[1]Sub Lookup'!$A$1:$B$65536,2,FALSE)","v":"Private Contractors"}]
["Kent County Council",12017821,"MONICA CANTWELL TRUST","2020-04-29",804.25,"S","5XC","Commissioning & Service Delivery","530",{"$f":"VLOOKUP(I16048,'[1]Sub Lookup'!$A$1:$B$65536,2,FALSE)","v":"Commissioned Service - Other"}]
["Kent County Council",11984003,"MONT CALM MARGATE","2020-04-09",487.53000000000003,"S","5KA","Physical support - 65+ Long Term Support: Residential","530",{"$f":"VLOOKUP(I16058,'[1]Sub Lookup'!$A$1:$B$65536,2,FALSE)","v":"Commissioned Service - Other"}]
["Kent County Council",11992269,"MONT CALM RESIDENTIAL HOME","2020-04-15",2003.52,"S","5KA","Physical support - 65+ Long Term Support: Residential","530",{"$f":"VLOOKUP(I16072,'[1]Sub Lookup'!$A$1:$B$65536,2,FALSE)","v":"Commissioned Service - Other"}]
["Kent County Council",11998424,"MOTIS IRELAND LTD","2020-04-21",458.48,"C","8DR","Corporate Landlord","111",{"$f":"VLOOKUP(I16091,'[1]Sub Lookup'!$A$1:$B$65536,2,FALSE)","v":"Electricity"}]
["Kent County Council",12019901,"MOUNT EPHRAIM","2020-04-30",999,"S","5BH","Learning Disability Support - 65+ Long Term Support: Community: Supported Living","530",{"$f":"VLOOKUP(I16100,'[1]Sub Lookup'!$A$1:$B$65536,2,FALSE)","v":"Commissioned Service - Other"}]
["Kent County Council",12001490,"MR A QUIEROS, Mr B QUIEROS & MR M ROWE T/A A2B CARS THANET","2020-04-22",388.5,"E","1RX","Admissions & Transport","222",{"$f":"VLOOKUP(I16116,'[1]Sub Lookup'!$A$1:$B$65536,2,FALSE)","v":"Home to School Transport - Hired"}]
["Kent County Council",11993059,"MR ABDUL Q CHOWDHURY T/AS KING TAXI","2020-04-16",3592,"E","1RX","Admissions & Transport","222",{"$f":"VLOOKUP(I16124,'[1]Sub Lookup'!$A$1:$B$65536,2,FALSE)","v":"Home to School Transport - Hired"}]
["Kent County Council",12008999,"MR BENJAMIN JOSEPH BRAZIL T/A BRAZILS WHEELS","2020-04-24",1989,"E","1RX","Admissions & Transport","222",{"$f":"VLOOKUP(I16144,'[1]Sub Lookup'!$A$1:$B$65536,2,FALSE)","v":"Home to School Transport - Hired"}]
["Kent County Council",11971276,"REDACTED - Personal Payment","2020-04-08",1544.4,"S","5JH","Physical Support - 18 64 Long Term Support: Community: Supported Living","530",{"$f":"VLOOKUP(I16157,'[1]Sub Lookup'!$A$1:$B$65536,2,FALSE)","v":"Commissioned Service - Other"}]
["Kent County Council",11993062,"REDACTED - Personal Payment","2020-04-16",1569.39,"S","5AJ","Learning Disability Support - 18 64 Long Term Support: Community: Day Care","232",{"$f":"VLOOKUP(I16168,'[1]Sub Lookup'!$A$1:$B$65536,2,FALSE)","v":"Public Transport (Clients)"}]
["Kent County Council",12001337,"MR KEVIN JAMES GREEN","2020-04-22",1170,"E","1RX","Admissions & Transport","222",{"$f":"VLOOKUP(I16184,'[1]Sub Lookup'!$A$1:$B$65536,2,FALSE)","v":"Home to School Transport - Hired"}]
["Kent County Council",12008902,"MR M RICHARDS T/A SITTINGBOURNE CABS","2020-04-24",1953,"E","1RX","Admissions & Transport","222",{"$f":"VLOOKUP(I16190,'[1]Sub Lookup'!$A$1:$B$65536,2,FALSE)","v":"Home to School Transport - Hired"}]
["Kent County Council",12001137,"MR MOHAN SINGH","2020-04-22",376.16,"E","1RX","Admissions & Transport","222",{"$f":"VLOOKUP(I16212,'[1]Sub Lookup'!$A$1:$B$65536,2,FALSE)","v":"Home to School Transport - Hired"}]
["Kent County Council",12001341,"MR OLLUGHBIG QATTRA T/A GALAXY TAXI","2020-04-22",1865.5,"E","1RX","Admissions & Transport","222",{"$f":"VLOOKUP(I16223,'[1]Sub Lookup'!$A$1:$B$65536,2,FALSE)","v":"Home to School Transport - Hired"}]
["Kent County Council",12001394,"MR SACHIN MANDLI","2020-04-22",1646.5,"E","1RX","Admissions & Transport","222",{"$f":"VLOOKUP(I16236,'[1]Sub Lookup'!$A$1:$B$65536,2,FALSE)","v":"Home to School Transport - Hired"}]
["Kent County Council",11993010,"MR SAID BOUAMRA T/A TUNBRIDGE WELLS TAXIS","2020-04-16",2805,"E","1RX","Admissions & Transport","222",{"$f":"VLOOKUP(I16252,'[1]Sub Lookup'!$A$1:$B$65536,2,FALSE)","v":"Home to School Transport - Hired"}]
["Kent County Council",11993017,"MR SAID BOUAMRA T/A TUNBRIDGE WELLS TAXIS","2020-04-16",560,"S","5AJ","Learning Disability Support - 18 64 Long Term Support: Community: Day Care","232",{"$f":"VLOOKUP(I16256,'[1]Sub Lookup'!$A$1:$B$65536,2,FALSE)","v":"Public Transport (Clients)"}]
["Kent County Council",12001514,"MR SAILENDRA LIMBU","2020-04-22",575,"E","1RX","Admissions & Transport","222",{"$f":"VLOOKUP(I16280,'[1]Sub Lookup'!$A$1:$B$65536,2,FALSE)","v":"Home to School Transport - Hired"}]
["Kent County Council",12009022,"MR WILLIAM A P MUNDAY","2020-04-24",1805,"E","1RX","Admissions & Transport","222",{"$f":"VLOOKUP(I16289,'[1]Sub Lookup'!$A$1:$B$65536,2,FALSE)","v":"Home to School Transport - Hired"}]
["Kent County Council",11989270,"REDACTED - Personal Payment","2020-04-14",1985.6000000000001,"S","5AC","Learning Disability Support - 18 64 Long Term Support: Supported accommodation","530",{"$f":"VLOOKUP(I16304,'[1]Sub Lookup'!$A$1:$B$65536,2,FALSE)","v":"Commissioned Service - Other"}]
["Kent County Council",11964885,"REDACTED - Personal Payment","2020-04-01",1212.6500000000001,"S","9AR","Revenue Balance Sheet","BEA",{"$f":"VLOOKUP(I16311,'[1]Sub Lookup'!$A$1:$B$65536,2,FALSE)","v":"Payments in Advance - General"}]
["Kent County Council",11989288,"REDACTED - Personal Payment","2020-04-14",2779.84,"S","5AC","Learning Disability Support - 18 64 Long Term Support: Supported accommodation","530",{"$f":"VLOOKUP(I16322,'[1]Sub Lookup'!$A$1:$B$65536,2,FALSE)","v":"Commissioned Service - Other"}]
["Kent County Council",11971284,"REDACTED - Personal Payment","2020-04-08",1323.72,"S","5AC","Learning Disability Support - 18 64 Long Term Support: Supported accommodation","530",{"$f":"VLOOKUP(I16348,'[1]Sub Lookup'!$A$1:$B$65536,2,FALSE)","v":"Commissioned Service - Other"}]
["Kent County Council",11997601,"MTC HOLDINGS","2020-04-20",570,"E","1RX","Admissions & Transport","222",{"$f":"VLOOKUP(I16355,'[1]Sub Lookup'!$A$1:$B$65536,2,FALSE)","v":"Home to School Transport - Hired"}]
["Kent County Council",11961909,"MXCP","2020-04-09",2160,"E","1PA","Additional Educational Needs and Resources","401",{"$f":"VLOOKUP(I16372,'[1]Sub Lookup'!$A$1:$B$65536,2,FALSE)","v":"Specialists Fees"}]
["Kent County Council",11970084,"MYLAN LTD (WYCHDENE CARE HOME)","2020-04-01",2576.94,"S","5KA","Physical support - 65+ Long Term Support: Residential","530",{"$f":"VLOOKUP(I16379,'[1]Sub Lookup'!$A$1:$B$65536,2,FALSE)","v":"Commissioned Service - Other"}]
["Kent County Council",11994175,"N&I HEALTHCARE LTD T/A KEELE HOUSE","2020-04-27",-1714.29,"S","5KA","Physical support - 65+ Long Term Support: Residential","530",{"$f":"VLOOKUP(I16402,'[1]Sub Lookup'!$A$1:$B$65536,2,FALSE)","v":"Commissioned Service - Other"}]
["Kent County Council",12005126,"N&I HEALTHCARE LTD T/A KEELE HOUSE","2020-04-27",2485.71,"S","5KA","Physical support - 65+ Long Term Support: Residential","530",{"$f":"VLOOKUP(I16403,'[1]Sub Lookup'!$A$1:$B$65536,2,FALSE)","v":"Commissioned Service - Other"}]
["Kent County Council",11966838,"NAS SERVICES LTD","2020-04-01",855.66,"S","5XC","Commissioning & Service Delivery","530",{"$f":"VLOOKUP(I16417,'[1]Sub Lookup'!$A$1:$B$65536,2,FALSE)","v":"Commissioned Service - Other"}]
["Kent County Council",12019031,"NAS SERVICES LTD","2020-04-29",10896.37,"S","5AA","Learning Disability Support - 18 64 Long Term Support: Residential","530",{"$f":"VLOOKUP(I16440,'[1]Sub Lookup'!$A$1:$B$65536,2,FALSE)","v":"Commissioned Service - Other"}]
["Kent County Council",12011563,"REDACTED - Personal Payment","2020-04-29",2036.24,"S","5AC","Learning Disability Support - 18 64 Long Term Support: Supported accommodation","523",{"$f":"VLOOKUP(I16447,'[1]Sub Lookup'!$A$1:$B$65536,2,FALSE)","v":"Private Contractors"}]
["Kent County Council",12010944,"NAYLAND ROCK HOTELS LIMITED","2020-04-27",53837.5,"S","32V","Asylum Residential","120",{"$f":"VLOOKUP(I16468,'[1]Sub Lookup'!$A$1:$B$65536,2,FALSE)","v":"External - Rent, Room Hire & Service Charges"}]
["Kent County Council",11970273,"NCL TECHNOLOGY VENTURES LIMITED","2020-04-09",37500,"C","8EK","Economic Development","C72",{"$f":"VLOOKUP(I16471,'[1]Sub Lookup'!$A$1:$B$65536,2,FALSE)","v":"Capital Loans issued"}]
["Kent County Council",11966262,"NELLSAR LTD - ABBOTSLEIGH","2020-04-01",1750,"S","5XC","Commissioning & Service Delivery","530",{"$f":"VLOOKUP(I16483,'[1]Sub Lookup'!$A$1:$B$65536,2,FALSE)","v":"Commissioned Service - Other"}]
["Kent County Council",11995925,"NELSON PARK CARE HOMES","2020-04-17",418.32,"S","5AH","Learning Disability Support - 18 64 Long Term Support: Community: Supported Living","530",{"$f":"VLOOKUP(I16508,'[1]Sub Lookup'!$A$1:$B$65536,2,FALSE)","v":"Commissioned Service - Other"}]
["Kent County Council",12005474,"NELSON PARK CARE HOMES","2020-04-22",291.33,"S","5EH","Mental Health Support - 18 64 Long Term Support: Community: Supported Living","530",{"$f":"VLOOKUP(I16515,'[1]Sub Lookup'!$A$1:$B$65536,2,FALSE)","v":"Commissioned Service - Other"}]
["Kent County Council",11990391,"NETNAMES LTD","2020-04-24",271.17,"C","8DH","Personnel and Development","451",{"$f":"VLOOKUP(I16534,'[1]Sub Lookup'!$A$1:$B$65536,2,FALSE)","v":"Subscriptions"}]
["Kent County Council",11961401,"NETWORK SERVICES (NATIONWIDE) LTD","2020-04-03",2067.63,"R","8NB","Insurance Fund 2","M14",{"$f":"VLOOKUP(I16539,'[1]Sub Lookup'!$A$1:$B$65536,2,FALSE)","v":"Motor Claims"}]
["Kent County Council",11982542,"NEW DIRECTIONS LTD - PART OF THE PRIORY GROUP","2020-04-08",7085.96,"S","5AA","Learning Disability Support - 18 64 Long Term Support: Residential","530",{"$f":"VLOOKUP(I16563,'[1]Sub Lookup'!$A$1:$B$65536,2,FALSE)","v":"Commissioned Service - Other"}]
["Kent County Council",11984245,"NEW EARTH SOLUTIONS (KENT) LTD","2020-04-16",18239.79,"P","7WD","Compostable Waste (Windrow & In-vessel)","523",{"$f":"VLOOKUP(I16576,'[1]Sub Lookup'!$A$1:$B$65536,2,FALSE)","v":"Private Contractors"}]
["Kent County Council",11994055,"NEW EARTH SOLUTIONS (KENT) LTD","2020-04-23",25515.03,"P","7WD","Compostable Waste (Windrow & In-vessel)","523",{"$f":"VLOOKUP(I16583,'[1]Sub Lookup'!$A$1:$B$65536,2,FALSE)","v":"Private Contractors"}]
["Kent County Council",11972332,"NEW HORIZONS BROAD OAK LTD","2020-04-03",728.80000000000007,"S","5JJ","Physical Support - 18 64 Long Term Support: Community: Day Care","530",{"$f":"VLOOKUP(I16596,'[1]Sub Lookup'!$A$1:$B$65536,2,FALSE)","v":"Commissioned Service - Other"}]
["Kent County Council",12018479,"NEW HORIZONS BROAD OAK LTD","2020-04-29",416,"S","5XC","Commissioning & Service Delivery","530",{"$f":"VLOOKUP(I16607,'[1]Sub Lookup'!$A$1:$B$65536,2,FALSE)","v":"Commissioned Service - Other"}]
["Kent County Council",12005419,"NEWINGTON COURT","2020-04-22",2600,"S","5TA","Support with Memory & Cognition - 65+ Long Term Support: Residential","530",{"$f":"VLOOKUP(I16629,'[1]Sub Lookup'!$A$1:$B$65536,2,FALSE)","v":"Commissioned Service - Other"}]
["Kent County Council",12005420,"NEWINGTON COURT","2020-04-22",2600,"S","5TA","Support with Memory & Cognition - 65+ Long Term Support: Residential","530",{"$f":"VLOOKUP(I16631,'[1]Sub Lookup'!$A$1:$B$65536,2,FALSE)","v":"Commissioned Service - Other"}]
["Kent County Council",12008620,"NEWINGTON COURT","2020-04-24",3600,"S","5KB","Physical support - 65+ Long Term Support: Nursing","530",{"$f":"VLOOKUP(I16651,'[1]Sub Lookup'!$A$1:$B$65536,2,FALSE)","v":"Commissioned Service - Other"}]
["Kent County Council",11983996,"NEWLANDS","2020-04-09",4003.2000000000003,"S","5AA","Learning Disability Support - 18 64 Long Term Support: Residential","530",{"$f":"VLOOKUP(I16662,'[1]Sub Lookup'!$A$1:$B$65536,2,FALSE)","v":"Commissioned Service - Other"}]
["Kent County Council",12018197,"NEWLANDS","2020-04-29",17087.64,"S","5XC","Commissioning & Service Delivery","530",{"$f":"VLOOKUP(I16675,'[1]Sub Lookup'!$A$1:$B$65536,2,FALSE)","v":"Commissioned Service - Other"}]
["Kent County Council",11966373,"NEXUS PROGRAMME LIMITED","2020-04-01",3647.67,"S","5XC","Commissioning & Service Delivery","530",{"$f":"VLOOKUP(I16695,'[1]Sub Lookup'!$A$1:$B$65536,2,FALSE)","v":"Commissioned Service - Other"}]
["Kent County Council",11970576,"NEXUS PROGRAMME LIMITED","2020-04-01",6226.34,"S","5AA","Learning Disability Support - 18 64 Long Term Support: Residential","530",{"$f":"VLOOKUP(I16699,'[1]Sub Lookup'!$A$1:$B$65536,2,FALSE)","v":"Commissioned Service - Other"}]
["Kent County Council",12017733,"NEXUS PROGRAMME LIMITED","2020-04-29",3647.67,"S","5XC","Commissioning & Service Delivery","530",{"$f":"VLOOKUP(I16719,'[1]Sub Lookup'!$A$1:$B$65536,2,FALSE)","v":"Commissioned Service - Other"}]
["Kent County Council",11961422,"NHS DARTFORD GRAVESHAM SWANLEY CCG","2020-04-06",20460.850000000002,"C","8PB","Sexual Health Services - Contraception","522",{"$f":"VLOOKUP(I16728,'[1]Sub Lookup'!$A$1:$B$65536,2,FALSE)","v":"District Health Authorities"}]
["Kent County Council",11966604,"NICHOLAS JAMES CARE HOMES LTD","2020-04-01",5728.14,"S","5XC","Commissioning & Service Delivery","530",{"$f":"VLOOKUP(I16743,'[1]Sub Lookup'!$A$1:$B$65536,2,FALSE)","v":"Commissioned Service - Other"}]
["Kent County Council",11983733,"NICHOLAS JAMES CARE HOMES LTD","2020-04-14",-2716.2400000000002,"S","5KA","Physical support - 65+ Long Term Support: Residential","530",{"$f":"VLOOKUP(I16761,'[1]Sub Lookup'!$A$1:$B$65536,2,FALSE)","v":"Commissioned Service - Other"}]
["Kent County Council",11989418,"NICHOLAS JAMES CARE HOMES LTD","2020-04-14",2630.14,"S","5KA","Physical support - 65+ Long Term Support: Residential","530",{"$f":"VLOOKUP(I16771,'[1]Sub Lookup'!$A$1:$B$65536,2,FALSE)","v":"Commissioned Service - Other"}]
["Kent County Council",11992168,"NICHOLAS JAMES CARE HOMES LTD","2020-04-15",2400.7000000000003,"S","5KB","Physical support - 65+ Long Term Support: Nursing","530",{"$f":"VLOOKUP(I16787,'[1]Sub Lookup'!$A$1:$B$65536,2,FALSE)","v":"Commissioned Service - Other"}]
["Kent County Council",12006670,"NICHOLAS JAMES CARE HOMES LTD","2020-04-27",2923.68,"S","5KA","Physical support - 65+ Long Term Support: Residential","530",{"$f":"VLOOKUP(I16794,'[1]Sub Lookup'!$A$1:$B$65536,2,FALSE)","v":"Commissioned Service - Other"}]
["Kent County Council",12001537,"NIRMAL KHABRA T/A KHARS","2020-04-22",1134,"E","1RX","Admissions & Transport","222",{"$f":"VLOOKUP(I16811,'[1]Sub Lookup'!$A$1:$B$65536,2,FALSE)","v":"Home to School Transport - Hired"}]
["Kent County Council",11980408,"NORTH DEAL COMMUNITY COMPANY LTD","2020-04-08",1000,"K","2AB","Community Liason","450",{"$f":"VLOOKUP(I16827,'[1]Sub Lookup'!$A$1:$B$65536,2,FALSE)","v":"Grants"}]
["Kent County Council",12007085,"NORTH LODGE CARE HOME","2020-04-24",2003.56,"S","5KU","Physical support - 65+ Short Term - Other - Residential","530",{"$f":"VLOOKUP(I16839,'[1]Sub Lookup'!$A$1:$B$65536,2,FALSE)","v":"Commissioned Service - Other"}]
["Kent County Council",11972368,"NORTON MECHANICAL LIMITED","2020-04-07",163261.67000000001,"C","8DR","Corporate Landlord","C15",{"$f":"VLOOKUP(I16855,'[1]Sub Lookup'!$A$1:$B$65536,2,FALSE)","v":"Building Works - Main Contract"}]
["Kent County Council",11977638,"NORWYN COMMUNITY SERVICES LIMITED","2020-04-07",591.6,"S","5KG","Physical support - 65+ Long Term Support: Community: Home Care","530",{"$f":"VLOOKUP(I16860,'[1]Sub Lookup'!$A$1:$B$65536,2,FALSE)","v":"Commissioned Service - Other"}]
["Kent County Council",11959490,"NRS HEALTHCARE","2020-04-03",134428.23000000001,"S","5WQ","Assistive Equipment & Technology","530",{"$f":"VLOOKUP(I16883,'[1]Sub Lookup'!$A$1:$B$65536,2,FALSE)","v":"Commissioned Service - Other"}]
["Kent County Council",11977325,"NU STEPS LTD","2020-04-14",1080,"S","36D","Virtual Schools Kent","401",{"$f":"VLOOKUP(I16893,'[1]Sub Lookup'!$A$1:$B$65536,2,FALSE)","v":"Specialists Fees"}]
["Kent County Council",11980095,"NUFFY BEAR DAY NURSERY - NUFFIELD HEALTH","2020-04-08",464.40000000000003,"E","1KA","School Resources","528",{"$f":"VLOOKUP(I16907,'[1]Sub Lookup'!$A$1:$B$65536,2,FALSE)","v":"Early Years Education"}]
["Kent County Council",12004980,"NURSE PLUS AND CARER PLUS (UK) LTD","2020-04-22",321,"S","5AH","Learning Disability Support - 18 64 Long Term Support: Community: Supported Living","530",{"$f":"VLOOKUP(I16923,'[1]Sub Lookup'!$A$1:$B$65536,2,FALSE)","v":"Commissioned Service - Other"}]
["Kent County Council",12008271,"NURSE PLUS AND CARER PLUS (UK) LTD","2020-04-24",475.44,"S","5AH","Learning Disability Support - 18 64 Long Term Support: Community: Supported Living","530",{"$f":"VLOOKUP(I16926,'[1]Sub Lookup'!$A$1:$B$65536,2,FALSE)","v":"Commissioned Service - Other"}]
["Kent County Council",12014494,"NURSE PLUS AND CARER PLUS (UK) LTD","2020-04-29",577.32000000000005,"S","5AH","Learning Disability Support - 18 64 Long Term Support: Community: Supported Living","530",{"$f":"VLOOKUP(I16951,'[1]Sub Lookup'!$A$1:$B$65536,2,FALSE)","v":"Commissioned Service - Other"}]
["Kent County Council",12014845,"NURSE PLUS AND CARER PLUS (UK) LTD","2020-04-29",347.51,"S","5KG","Physical support - 65+ Long Term Support: Community: Home Care","530",{"$f":"VLOOKUP(I16959,'[1]Sub Lookup'!$A$1:$B$65536,2,FALSE)","v":"Commissioned Service - Other"}]
["Kent County Council",11968612,"NV CARE LTD","2020-04-01",264.60000000000002,"S","5KG","Physical support - 65+ Long Term Support: Community: Home Care","530",{"$f":"VLOOKUP(I16975,'[1]Sub Lookup'!$A$1:$B$65536,2,FALSE)","v":"Commissioned Service - Other"}]
["Kent County Council",11968557,"NV CARE LTD","2020-04-01",267.75,"S","5KG","Physical support - 65+ Long Term Support: Community: Home Care","530",{"$f":"VLOOKUP(I16991,'[1]Sub Lookup'!$A$1:$B$65536,2,FALSE)","v":"Commissioned Service - Other"}]
["Kent County Council",11968893,"NV CARE LTD","2020-04-01",509.56,"S","5KG","Physical support - 65+ Long Term Support: Community: Home Care","530",{"$f":"VLOOKUP(I16992,'[1]Sub Lookup'!$A$1:$B$65536,2,FALSE)","v":"Commissioned Service - Other"}]
["Kent County Council",11968763,"NV CARE LTD","2020-04-01",529.20000000000005,"S","5KG","Physical support - 65+ Long Term Support: Community: Home Care","530",{"$f":"VLOOKUP(I17006,'[1]Sub Lookup'!$A$1:$B$65536,2,FALSE)","v":"Commissioned Service - Other"}]
["Kent County Council",11968681,"NV CARE LTD","2020-04-01",340.2,"S","5AG","Learning Disability Support - 18 64 Long Term Support: Community: Home Care","530",{"$f":"VLOOKUP(I17022,'[1]Sub Lookup'!$A$1:$B$65536,2,FALSE)","v":"Commissioned Service - Other"}]
["Kent County Council",11968567,"NV CARE LTD","2020-04-01",264.60000000000002,"S","5KG","Physical support - 65+ Long Term Support: Community: Home Care","530",{"$f":"VLOOKUP(I17039,'[1]Sub Lookup'!$A$1:$B$65536,2,FALSE)","v":"Commissioned Service - Other"}]
["Kent County Council",11969195,"NV CARE LTD","2020-04-01",305.02,"S","5KG","Physical support - 65+ Long Term Support: Community: Home Care","530",{"$f":"VLOOKUP(I17050,'[1]Sub Lookup'!$A$1:$B$65536,2,FALSE)","v":"Commissioned Service - Other"}]
["Kent County Council",11969215,"NV CARE LTD","2020-04-01",396.90000000000003,"S","5KG","Physical support - 65+ Long Term Support: Community: Home Care","530",{"$f":"VLOOKUP(I17072,'[1]Sub Lookup'!$A$1:$B$65536,2,FALSE)","v":"Commissioned Service - Other"}]
["Kent County Council",11968635,"NV CARE LTD","2020-04-01",286.65000000000003,"S","5KG","Physical support - 65+ Long Term Support: Community: Home Care","530",{"$f":"VLOOKUP(I17074,'[1]Sub Lookup'!$A$1:$B$65536,2,FALSE)","v":"Commissioned Service - Other"}]
["Kent County Council",11962223,"NV CARE LTD","2020-04-02",50000,"S","5KG","Physical support - 65+ Long Term Support: Community: Home Care","530",{"$f":"VLOOKUP(I17090,'[1]Sub Lookup'!$A$1:$B$65536,2,FALSE)","v":"Commissioned Service - Other"}]
["Kent County Council",11987791,"NV CARE LTD","2020-04-14",252,"S","5AG","Learning Disability Support - 18 64 Long Term Support: Community: Home Care","530",{"$f":"VLOOKUP(I17105,'[1]Sub Lookup'!$A$1:$B$65536,2,FALSE)","v":"Commissioned Service - Other"}]
["Kent County Council",11987819,"NV CARE LTD","2020-04-14",396.90000000000003,"S","5KG","Physical support - 65+ Long Term Support: Community: Home Care","530",{"$f":"VLOOKUP(I17118,'[1]Sub Lookup'!$A$1:$B$65536,2,FALSE)","v":"Commissioned Service - Other"}]
["Kent County Council",11987787,"NV CARE LTD","2020-04-14",308.7,"S","5KG","Physical support - 65+ Long Term Support: Community: Home Care","530",{"$f":"VLOOKUP(I17138,'[1]Sub Lookup'!$A$1:$B$65536,2,FALSE)","v":"Commissioned Service - Other"}]
["Kent County Council",12004096,"NV CARE LTD","2020-04-22",318.22000000000003,"S","5KG","Physical support - 65+ Long Term Support: Community: Home Care","530",{"$f":"VLOOKUP(I17142,'[1]Sub Lookup'!$A$1:$B$65536,2,FALSE)","v":"Commissioned Service - Other"}]
["Kent County Council",12004150,"NV CARE LTD","2020-04-22",272.72000000000003,"S","5KG","Physical support - 65+ Long Term Support: Community: Home Care","530",{"$f":"VLOOKUP(I17158,'[1]Sub Lookup'!$A$1:$B$65536,2,FALSE)","v":"Commissioned Service - Other"}]
["Kent County Council",12004114,"NV CARE LTD","2020-04-22",269.5,"S","5JG","Physical Support - 18 64 Long Term Support: Community: Home Care","530",{"$f":"VLOOKUP(I17171,'[1]Sub Lookup'!$A$1:$B$65536,2,FALSE)","v":"Commissioned Service - Other"}]
["Kent County Council",12007768,"NV CARE LTD","2020-04-24",253.24,"S","5KG","Physical support - 65+ Long Term Support: Community: Home Care","530",{"$f":"VLOOKUP(I17186,'[1]Sub Lookup'!$A$1:$B$65536,2,FALSE)","v":"Commissioned Service - Other"}]
["Kent County Council",11996851,"NV CARE LTD","2020-04-24",10619.44,"S","5KG","Physical support - 65+ Long Term Support: Community: Home Care","530",{"$f":"VLOOKUP(I17204,'[1]Sub Lookup'!$A$1:$B$65536,2,FALSE)","v":"Commissioned Service - Other"}]
["Kent County Council",12007669,"NV CARE LTD","2020-04-24",500.08,"S","5KG","Physical support - 65+ Long Term Support: Community: Home Care","530",{"$f":"VLOOKUP(I17210,'[1]Sub Lookup'!$A$1:$B$65536,2,FALSE)","v":"Commissioned Service - Other"}]
["Kent County Council",12015368,"NV CARE LTD","2020-04-29",272.72000000000003,"S","5KG","Physical support - 65+ Long Term Support: Community: Home Care","530",{"$f":"VLOOKUP(I17230,'[1]Sub Lookup'!$A$1:$B$65536,2,FALSE)","v":"Commissioned Service - Other"}]
["Kent County Council",12006246,"NWKC-BRIGHT BEGINNINGS-GRAVESEND","2020-04-23",265.08,"E","1PA","Additional Educational Needs and Resources","528",{"$f":"VLOOKUP(I17237,'[1]Sub Lookup'!$A$1:$B$65536,2,FALSE)","v":"Early Years Education"}]
["Kent County Council",11977005,"OAKDOWN HOUSE LTD","2020-04-09",3122.02,"S","5BA","Learning Disability Support - 65+ Long Term Support: Residential","530",{"$f":"VLOOKUP(I17254,'[1]Sub Lookup'!$A$1:$B$65536,2,FALSE)","v":"Commissioned Service - Other"}]
["Kent County Council",11997897,"OCCUPATIONAL SERVICES TO INDUSTRY","2020-04-20",765.6,"S","39X","SCS - Legal Charges","401",{"$f":"VLOOKUP(I17270,'[1]Sub Lookup'!$A$1:$B$65536,2,FALSE)","v":"Specialists Fees"}]
["Kent County Council",12018218,"OCEAN SWELL","2020-04-29",5145.82,"S","5XC","Commissioning & Service Delivery","530",{"$f":"VLOOKUP(I17278,'[1]Sub Lookup'!$A$1:$B$65536,2,FALSE)","v":"Commissioned Service - Other"}]
["Kent County Council",11966140,"OLDHAM PROPERTY INVESTMENT LTD T/A ACORN LODGE NURSING HOME","2020-04-01",1370.71,"S","9AR","Revenue Balance Sheet","BEA",{"$f":"VLOOKUP(I17298,'[1]Sub Lookup'!$A$1:$B$65536,2,FALSE)","v":"Payments in Advance - General"}]
["Kent County Council",11966817,"OMEGA HOMES LTD","2020-04-01",8019.74,"S","5XC","Commissioning & Service Delivery","530",{"$f":"VLOOKUP(I17303,'[1]Sub Lookup'!$A$1:$B$65536,2,FALSE)","v":"Commissioned Service - Other"}]
["Kent County Council",12017569,"ONE PARK ROAD LTD T/A VIKING CARE","2020-04-29",1192,"S","5XC","Commissioning & Service Delivery","530",{"$f":"VLOOKUP(I17322,'[1]Sub Lookup'!$A$1:$B$65536,2,FALSE)","v":"Commissioned Service - Other"}]
["Kent County Council",11975821,"OPPORTUNITY HOME TO GROW LTD","2020-04-17",3800,"S","35P","Section 24","527",{"$f":"VLOOKUP(I17332,'[1]Sub Lookup'!$A$1:$B$65536,2,FALSE)","v":"Services"}]
["Kent County Council",12002146,"OPTIMA CARE LTD","2020-04-22",-3493.03,"S","5JH","Physical Support - 18 64 Long Term Support: Community: Supported Living","530",{"$f":"VLOOKUP(I17346,'[1]Sub Lookup'!$A$1:$B$65536,2,FALSE)","v":"Commissioned Service - Other"}]
["Kent County Council",12005857,"OPTIMA CARE LTD","2020-04-23",8530.89,"S","5AA","Learning Disability Support - 18 64 Long Term Support: Residential","530",{"$f":"VLOOKUP(I17366,'[1]Sub Lookup'!$A$1:$B$65536,2,FALSE)","v":"Commissioned Service - Other"}]
["Kent County Council",12008595,"OPTIMA CARE LTD","2020-04-24",6223.8,"S","5AA","Learning Disability Support - 18 64 Long Term Support: Residential","530",{"$f":"VLOOKUP(I17369,'[1]Sub Lookup'!$A$1:$B$65536,2,FALSE)","v":"Commissioned Service - Other"}]
["Kent County Council",12008588,"OPTIMA CARE LTD","2020-04-24",6639.17,"S","5AA","Learning Disability Support - 18 64 Long Term Support: Residential","530",{"$f":"VLOOKUP(I17390,'[1]Sub Lookup'!$A$1:$B$65536,2,FALSE)","v":"Commissioned Service - Other"}]
["Kent County Council",12013916,"OPTIMA CARE LTD","2020-04-28",1126.24,"S","5BA","Learning Disability Support - 65+ Long Term Support: Residential","530",{"$f":"VLOOKUP(I17398,'[1]Sub Lookup'!$A$1:$B$65536,2,FALSE)","v":"Commissioned Service - Other"}]
["Kent County Council",12017511,"OPTIMA CARE LTD","2020-04-29",7909.13,"S","5XC","Commissioning & Service Delivery","530",{"$f":"VLOOKUP(I17414,'[1]Sub Lookup'!$A$1:$B$65536,2,FALSE)","v":"Commissioned Service - Other"}]
["Kent County Council",12011016,"OPTIONS AUTISM 2 LTD","2020-04-27",125796,"S","5AA","Learning Disability Support - 18 64 Long Term Support: Residential","530",{"$f":"VLOOKUP(I17421,'[1]Sub Lookup'!$A$1:$B$65536,2,FALSE)","v":"Commissioned Service - Other"}]
["Kent County Council",11971443,"OPUS CARE LTD T/A FOLKESTONE CARE CENTRE","2020-04-02",2600,"S","5KA","Physical support - 65+ Long Term Support: Residential","530",{"$f":"VLOOKUP(I17435,'[1]Sub Lookup'!$A$1:$B$65536,2,FALSE)","v":"Commissioned Service - Other"}]
["Kent County Council",12018677,"OPUS CARE LTD T/A FOLKESTONE CARE CENTRE","2020-04-29",5342.4800000000005,"S","5TA","Support with Memory & Cognition - 65+ Long Term Support: Residential","530",{"$f":"VLOOKUP(I17458,'[1]Sub Lookup'!$A$1:$B$65536,2,FALSE)","v":"Commissioned Service - Other"}]
["Kent County Council",11956860,"ORACLE CORPORATION UK LTD","2020-04-01",177971,"C","8DT","Information Services","304",{"$f":"VLOOKUP(I17464,'[1]Sub Lookup'!$A$1:$B$65536,2,FALSE)","v":"Computer and Other IT Expenditure (Maintenance)"}]
["Kent County Council",11990497,"ORBIT SOUTH","2020-04-16",13773,"S","5XC","Commissioning & Service Delivery","530",{"$f":"VLOOKUP(I17482,'[1]Sub Lookup'!$A$1:$B$65536,2,FALSE)","v":"Commissioned Service - Other"}]
["Kent County Council",11996752,"ORCHARD END SURGERY","2020-04-28",289.5,"C","8PB","Sexual Health Services - Contraception","522",{"$f":"VLOOKUP(I17489,'[1]Sub Lookup'!$A$1:$B$65536,2,FALSE)","v":"District Health Authorities"}]
["Kent County Council",11959005,"PA GROUP (UK) LIMITED","2020-04-02",770,"E","1TA","Capital - Primary Schools ES&PS","C14",{"$f":"VLOOKUP(I17511,'[1]Sub Lookup'!$A$1:$B$65536,2,FALSE)","v":"Design Fees - External"}]
["Kent County Council",11983124,"PAPILLON HOME CARE LTD","2020-04-09",255.22,"S","5JG","Physical Support - 18 64 Long Term Support: Community: Home Care","530",{"$f":"VLOOKUP(I17526,'[1]Sub Lookup'!$A$1:$B$65536,2,FALSE)","v":"Commissioned Service - Other"}]
["Kent County Council",11983233,"PAPILLON HOME CARE LTD","2020-04-09",468.84000000000003,"S","5KG","Physical support - 65+ Long Term Support: Community: Home Care","530",{"$f":"VLOOKUP(I17530,'[1]Sub Lookup'!$A$1:$B$65536,2,FALSE)","v":"Commissioned Service - Other"}]
["Kent County Council",11992924,"PAPILLON HOME CARE LTD","2020-04-22",548,"S","5JG","Physical Support - 18 64 Long Term Support: Community: Home Care","530",{"$f":"VLOOKUP(I17550,'[1]Sub Lookup'!$A$1:$B$65536,2,FALSE)","v":"Commissioned Service - Other"}]
["Kent County Council",11992938,"PAPILLON HOME CARE LTD","2020-04-22",419.12,"S","5KG","Physical support - 65+ Long Term Support: Community: Home Care","530",{"$f":"VLOOKUP(I17557,'[1]Sub Lookup'!$A$1:$B$65536,2,FALSE)","v":"Commissioned Service - Other"}]
["Kent County Council",11981901,"PAPILLON HOME CARE LTD","2020-04-22",285.62,"S","5KG","Physical support - 65+ Long Term Support: Community: Home Care","530",{"$f":"VLOOKUP(I17577,'[1]Sub Lookup'!$A$1:$B$65536,2,FALSE)","v":"Commissioned Service - Other"}]
["Kent County Council",12006922,"PAPILLON HOME CARE LTD","2020-04-24",371.54,"S","5KG","Physical support - 65+ Long Term Support: Community: Home Care","530",{"$f":"VLOOKUP(I17594,'[1]Sub Lookup'!$A$1:$B$65536,2,FALSE)","v":"Commissioned Service - Other"}]
["Kent County Council",12011287,"PAPILLON HOME CARE LTD","2020-04-28",419.12,"S","5KG","Physical support - 65+ Long Term Support: Community: Home Care","530",{"$f":"VLOOKUP(I17596,'[1]Sub Lookup'!$A$1:$B$65536,2,FALSE)","v":"Commissioned Service - Other"}]
["Kent County Council",12019169,"PAPILLON HOME CARE LTD","2020-04-30",468.84000000000003,"S","5KG","Physical support - 65+ Long Term Support: Community: Home Care","530",{"$f":"VLOOKUP(I17609,'[1]Sub Lookup'!$A$1:$B$65536,2,FALSE)","v":"Commissioned Service - Other"}]
["Kent County Council",11966830,"PARK VIEW","2020-04-01",4345.99,"S","5XC","Commissioning & Service Delivery","530",{"$f":"VLOOKUP(I17625,'[1]Sub Lookup'!$A$1:$B$65536,2,FALSE)","v":"Commissioned Service - Other"}]
["Kent County Council",11993339,"PARK VIEW","2020-04-16",5205.72,"S","5AH","Learning Disability Support - 18 64 Long Term Support: Community: Supported Living","530",{"$f":"VLOOKUP(I17643,'[1]Sub Lookup'!$A$1:$B$65536,2,FALSE)","v":"Commissioned Service - Other"}]
["Kent County Council",11966933,"PARKCARE HOMES (NO.2) LIMITED","2020-04-01",13951.78,"S","5XC","Commissioning & Service Delivery","530",{"$f":"VLOOKUP(I17649,'[1]Sub Lookup'!$A$1:$B$65536,2,FALSE)","v":"Commissioned Service - Other"}]
["Kent County Council",11970274,"PARKCARE HOMES LTD","2020-04-01",3220.09,"S","9AR","Revenue Balance Sheet","BEA",{"$f":"VLOOKUP(I17662,'[1]Sub Lookup'!$A$1:$B$65536,2,FALSE)","v":"Payments in Advance - General"}]
["Kent County Council",11971565,"PATHWAY HEALTHCARE LTD","2020-04-02",8835,"S","5AA","Learning Disability Support - 18 64 Long Term Support: Residential","530",{"$f":"VLOOKUP(I17677,'[1]Sub Lookup'!$A$1:$B$65536,2,FALSE)","v":"Commissioned Service - Other"}]
["Kent County Council",12009134,"PAUL MOAT T/A LIME TRAVEL","2020-04-24",3938,"E","1RX","Admissions & Transport","222",{"$f":"VLOOKUP(I17693,'[1]Sub Lookup'!$A$1:$B$65536,2,FALSE)","v":"Home to School Transport - Hired"}]
["Kent County Council",12009144,"PAUL MOAT T/A LIME TRAVEL","2020-04-24",1936,"E","1RX","Admissions & Transport","222",{"$f":"VLOOKUP(I17709,'[1]Sub Lookup'!$A$1:$B$65536,2,FALSE)","v":"Home to School Transport - Hired"}]
["Kent County Council",12009135,"PAUL MOAT T/A LIME TRAVEL","2020-04-24",3228.1,"E","1RX","Admissions & Transport","222",{"$f":"VLOOKUP(I17717,'[1]Sub Lookup'!$A$1:$B$65536,2,FALSE)","v":"Home to School Transport - Hired"}]
["Kent County Council",12009061,"PAXTON CORPORATE LTD T/A UNITED CARS","2020-04-24",3268,"E","1RX","Admissions & Transport","222",{"$f":"VLOOKUP(I17742,'[1]Sub Lookup'!$A$1:$B$65536,2,FALSE)","v":"Home to School Transport - Hired"}]
["Kent County Council",12009039,"PAXTON CORPORATE LTD T/A UNITED CARS","2020-04-24",2904.5,"E","1RX","Admissions & Transport","222",{"$f":"VLOOKUP(I17745,'[1]Sub Lookup'!$A$1:$B$65536,2,FALSE)","v":"Home to School Transport - Hired"}]
["Kent County Council",11971950,"PAYPOINT NETWORK LIMITED","2020-04-03",3948,"K","2SF","Social Fund (including Refugee Families)","112",{"$f":"VLOOKUP(I17761,'[1]Sub Lookup'!$A$1:$B$65536,2,FALSE)","v":"Other Energy Costs"}]
["Kent County Council",11973587,"PCAS KENT LTD","2020-04-03",1391.04,"S","5AH","Learning Disability Support - 18 64 Long Term Support: Community: Supported Living","530",{"$f":"VLOOKUP(I17775,'[1]Sub Lookup'!$A$1:$B$65536,2,FALSE)","v":"Commissioned Service - Other"}]
["Kent County Council",11973535,"PCAS KENT LTD","2020-04-03",1874.88,"S","5JH","Physical Support - 18 64 Long Term Support: Community: Supported Living","530",{"$f":"VLOOKUP(I17789,'[1]Sub Lookup'!$A$1:$B$65536,2,FALSE)","v":"Commissioned Service - Other"}]
["Kent County Council",11995870,"PCAS KENT LTD","2020-04-17",1814.4,"S","5BH","Learning Disability Support - 65+ Long Term Support: Community: Supported Living","530",{"$f":"VLOOKUP(I17808,'[1]Sub Lookup'!$A$1:$B$65536,2,FALSE)","v":"Commissioned Service - Other"}]
["Kent County Council",11995811,"PCAS KENT LTD","2020-04-17",544.32000000000005,"S","5AH","Learning Disability Support - 18 64 Long Term Support: Community: Supported Living","530",{"$f":"VLOOKUP(I17813,'[1]Sub Lookup'!$A$1:$B$65536,2,FALSE)","v":"Commissioned Service - Other"}]
["Kent County Council",11994624,"PCAS KENT LTD","2020-04-17",801.6,"S","5AH","Learning Disability Support - 18 64 Long Term Support: Community: Supported Living","530",{"$f":"VLOOKUP(I17829,'[1]Sub Lookup'!$A$1:$B$65536,2,FALSE)","v":"Commissioned Service - Other"}]
["Kent County Council",11994644,"PCAS KENT LTD","2020-04-17",334,"S","5AH","Learning Disability Support - 18 64 Long Term Support: Community: Supported Living","530",{"$f":"VLOOKUP(I17841,'[1]Sub Lookup'!$A$1:$B$65536,2,FALSE)","v":"Commissioned Service - Other"}]
["Kent County Council",11994652,"PCAS KENT LTD","2020-04-17",267.2,"S","5JH","Physical Support - 18 64 Long Term Support: Community: Supported Living","530",{"$f":"VLOOKUP(I17857,'[1]Sub Lookup'!$A$1:$B$65536,2,FALSE)","v":"Commissioned Service - Other"}]
["Kent County Council",12017700,"PCAS KENT LTD","2020-04-29",8625.69,"S","5XC","Commissioning & Service Delivery","530",{"$f":"VLOOKUP(I17874,'[1]Sub Lookup'!$A$1:$B$65536,2,FALSE)","v":"Commissioned Service - Other"}]
["Kent County Council",12020057,"PCAS KENT LTD","2020-04-30",1414.5,"S","5AH","Learning Disability Support - 18 64 Long Term Support: Community: Supported Living","530",{"$f":"VLOOKUP(I17881,'[1]Sub Lookup'!$A$1:$B$65536,2,FALSE)","v":"Commissioned Service - Other"}]
["Kent County Council",11979530,"PCS LTD T/A GROSVENOR COURT","2020-04-08",1950.1200000000001,"S","5KA","Physical support - 65+ Long Term Support: Residential","530",{"$f":"VLOOKUP(I17897,'[1]Sub Lookup'!$A$1:$B$65536,2,FALSE)","v":"Commissioned Service - Other"}]
["Kent County Council",11979526,"PCS LTD T/A GROSVENOR COURT","2020-04-08",1599.28,"S","5KA","Physical support - 65+ Long Term Support: Residential","530",{"$f":"VLOOKUP(I17907,'[1]Sub Lookup'!$A$1:$B$65536,2,FALSE)","v":"Commissioned Service - Other"}]
["Kent County Council",12014121,"PCS LTD T/A GROSVENOR COURT","2020-04-28",1950.1200000000001,"S","5KA","Physical support - 65+ Long Term Support: Residential","530",{"$f":"VLOOKUP(I17925,'[1]Sub Lookup'!$A$1:$B$65536,2,FALSE)","v":"Commissioned Service - Other"}]
["Kent County Council",11976814,"PEABODY SOUTH EAST LIMITED","2020-04-06",268.2,"S","5NH","Sensory Support - 18 64 Long Term Support: Community: Supported Living","530",{"$f":"VLOOKUP(I17940,'[1]Sub Lookup'!$A$1:$B$65536,2,FALSE)","v":"Commissioned Service - Other"}]
["Kent County Council",11976807,"PEABODY SOUTH EAST LIMITED","2020-04-06",447,"S","5AH","Learning Disability Support - 18 64 Long Term Support: Community: Supported Living","530",{"$f":"VLOOKUP(I17949,'[1]Sub Lookup'!$A$1:$B$65536,2,FALSE)","v":"Commissioned Service - Other"}]
["Kent County Council",12008295,"PEABODY SOUTH EAST LIMITED","2020-04-24",268.2,"S","5EC","Mental Health Support - 18 64 Long Term Support: Supported Accommodation","530",{"$f":"VLOOKUP(I17969,'[1]Sub Lookup'!$A$1:$B$65536,2,FALSE)","v":"Commissioned Service - Other"}]
["Kent County Council",12008289,"PEABODY SOUTH EAST LIMITED","2020-04-24",298,"S","5EC","Mental Health Support - 18 64 Long Term Support: Supported Accommodation","530",{"$f":"VLOOKUP(I17973,'[1]Sub Lookup'!$A$1:$B$65536,2,FALSE)","v":"Commissioned Service - Other"}]
["Kent County Council",12018511,"PEASMARSH PLACE COUNTRY CARE LTD","2020-04-29",850,"S","5XC","Commissioning & Service Delivery","530",{"$f":"VLOOKUP(I17993,'[1]Sub Lookup'!$A$1:$B$65536,2,FALSE)","v":"Commissioned Service - Other"}]
["Kent County Council",11979884,"PELLINGS LLP","2020-04-08",8333.33,"C","2LB","Arts Development","C14",{"$f":"VLOOKUP(I18006,'[1]Sub Lookup'!$A$1:$B$65536,2,FALSE)","v":"Design Fees - External"}]
["Kent County Council",12006231,"PENNIES DAY NURSERY LTD-NEWNHAM COURT","2020-04-23",506.07,"E","1PA","Additional Educational Needs and Resources","528",{"$f":"VLOOKUP(I18017,'[1]Sub Lookup'!$A$1:$B$65536,2,FALSE)","v":"Early Years Education"}]
["Kent County Council",11975798,"PEOPLE WHO FOSTER LTD","2020-04-06",3344.6800000000003,"S","35R","IS Fostering","527",{"$f":"VLOOKUP(I18024,'[1]Sub Lookup'!$A$1:$B$65536,2,FALSE)","v":"Services"}]
["Kent County Council",11982829,"PETER SWINBOURNE TRADING AS DOVER BUILDING AND PROPERTY MAINTENANCE","2020-04-09",405,"P","7PE","Gypsy & Traveller Unit","100",{"$f":"VLOOKUP(I18039,'[1]Sub Lookup'!$A$1:$B$65536,2,FALSE)","v":"Maintenance of Grounds"}]
["Kent County Council",12000665,"REDACTED - Personal Payment","2020-04-21",15261.84,"S","5AH","Learning Disability Support - 18 64 Long Term Support: Community: Supported Living","530",{"$f":"VLOOKUP(I18061,'[1]Sub Lookup'!$A$1:$B$65536,2,FALSE)","v":"Commissioned Service - Other"}]
["Kent County Council",11992668,"PHOENIX CARE HOMES LIMITED","2020-04-15",3197,"S","5FA","Mental Health Support - 65+ Long Term Support: Residential","530",{"$f":"VLOOKUP(I18068,'[1]Sub Lookup'!$A$1:$B$65536,2,FALSE)","v":"Commissioned Service - Other"}]
["Kent County Council",12017892,"PHOENIX CARE HOMES LIMITED","2020-04-29",15487.720000000001,"S","5XC","Commissioning & Service Delivery","530",{"$f":"VLOOKUP(I18085,'[1]Sub Lookup'!$A$1:$B$65536,2,FALSE)","v":"Commissioned Service - Other"}]
["Kent County Council",12018518,"PHOENIX RESIDENTIAL HOME LTD","2020-04-29",931.76,"S","5XC","Commissioning & Service Delivery","530",{"$f":"VLOOKUP(I18092,'[1]Sub Lookup'!$A$1:$B$65536,2,FALSE)","v":"Commissioned Service - Other"}]
["Kent County Council",11965360,"PHOENIX SUPPORT LIMITED","2020-04-09",1391.04,"S","5AH","Learning Disability Support - 18 64 Long Term Support: Community: Supported Living","523",{"$f":"VLOOKUP(I18105,'[1]Sub Lookup'!$A$1:$B$65536,2,FALSE)","v":"Private Contractors"}]
["Kent County Council",11998089,"PHOENIX SUPPORT LIMITED","2020-04-20",924,"S","5AH","Learning Disability Support - 18 64 Long Term Support: Community: Supported Living","530",{"$f":"VLOOKUP(I18129,'[1]Sub Lookup'!$A$1:$B$65536,2,FALSE)","v":"Commissioned Service - Other"}]
["Kent County Council",11998059,"PHOENIX SUPPORT LIMITED","2020-04-20",858,"S","5AH","Learning Disability Support - 18 64 Long Term Support: Community: Supported Living","530",{"$f":"VLOOKUP(I18136,'[1]Sub Lookup'!$A$1:$B$65536,2,FALSE)","v":"Commissioned Service - Other"}]
["Kent County Council",11998078,"PHOENIX SUPPORT LIMITED","2020-04-20",1518,"S","5JH","Physical Support - 18 64 Long Term Support: Community: Supported Living","530",{"$f":"VLOOKUP(I18152,'[1]Sub Lookup'!$A$1:$B$65536,2,FALSE)","v":"Commissioned Service - Other"}]
["Kent County Council",12005075,"PHOENIX SUPPORT LIMITED","2020-04-22",1320,"S","5EH","Mental Health Support - 18 64 Long Term Support: Community: Supported Living","530",{"$f":"VLOOKUP(I18160,'[1]Sub Lookup'!$A$1:$B$65536,2,FALSE)","v":"Commissioned Service - Other"}]
["Kent County Council",12005084,"PHOENIX SUPPORT LIMITED","2020-04-22",1980,"S","5AH","Learning Disability Support - 18 64 Long Term Support: Community: Supported Living","530",{"$f":"VLOOKUP(I18171,'[1]Sub Lookup'!$A$1:$B$65536,2,FALSE)","v":"Commissioned Service - Other"}]
["Kent County Council",11961588,"PIE FACTORY MUSIC","2020-04-27",11412.33,"K","2UA","Youth Services","530",{"$f":"VLOOKUP(I18197,'[1]Sub Lookup'!$A$1:$B$65536,2,FALSE)","v":"Commissioned Service - Other"}]
["Kent County Council",12006476,"PIGGYBANK DAY NURSERY","2020-04-23",409.67,"E","1PA","Additional Educational Needs and Resources","528",{"$f":"VLOOKUP(I18204,'[1]Sub Lookup'!$A$1:$B$65536,2,FALSE)","v":"Early Years Education"}]
["Kent County Council",11970902,"PILGRIMS WAY NURSING HOME","2020-04-01",2800,"S","5PB","Sensory Support - 65+ Long Term Support: Nursing","530",{"$f":"VLOOKUP(I18218,'[1]Sub Lookup'!$A$1:$B$65536,2,FALSE)","v":"Commissioned Service - Other"}]
["Kent County Council",11961479,"PILGRIMS WAY NURSING HOME","2020-04-01",-2096.36,"S","5KB","Physical support - 65+ Long Term Support: Nursing","530",{"$f":"VLOOKUP(I18228,'[1]Sub Lookup'!$A$1:$B$65536,2,FALSE)","v":"Commissioned Service - Other"}]
["Kent County Council",12018521,"PILGRIMS WAY NURSING HOME","2020-04-29",14585.65,"S","5XC","Commissioning & Service Delivery","530",{"$f":"VLOOKUP(I18247,'[1]Sub Lookup'!$A$1:$B$65536,2,FALSE)","v":"Commissioned Service - Other"}]
["Kent County Council",11977033,"PINE LODGE CARE LTD","2020-04-06",487.53000000000003,"S","5WC","Social Support: Support for Carer OPPD Other","530",{"$f":"VLOOKUP(I18252,'[1]Sub Lookup'!$A$1:$B$65536,2,FALSE)","v":"Commissioned Service - Other"}]
["Kent County Council",11967163,"PJL HEALTHCARE LTD","2020-04-01",4641.6500000000005,"S","5XC","Commissioning & Service Delivery","530",{"$f":"VLOOKUP(I18272,'[1]Sub Lookup'!$A$1:$B$65536,2,FALSE)","v":"Commissioned Service - Other"}]
["Kent County Council",11997526,"PLACE 2 GO ROUND LTD","2020-04-20",2260.0500000000002,"E","1RX","Admissions & Transport","222",{"$f":"VLOOKUP(I18284,'[1]Sub Lookup'!$A$1:$B$65536,2,FALSE)","v":"Home to School Transport - Hired"}]
["Kent County Council",12001123,"PLACE2PLACE CARS LTD","2020-04-22",1278,"E","1RX","Admissions & Transport","222",{"$f":"VLOOKUP(I18296,'[1]Sub Lookup'!$A$1:$B$65536,2,FALSE)","v":"Home to School Transport - Hired"}]
["Kent County Council",11971003,"PLAY PLACE INNOV 8 CIC","2020-04-24",7332.5,"K","2UA","Youth Services","530",{"$f":"VLOOKUP(I18313,'[1]Sub Lookup'!$A$1:$B$65536,2,FALSE)","v":"Commissioned Service - Other"}]
["Kent County Council",11965100,"PLAYLE & PARTNERS","2020-04-01",18263.64,"E","1TA","Capital - Primary Schools ES&PS","C04",{"$f":"VLOOKUP(I18320,'[1]Sub Lookup'!$A$1:$B$65536,2,FALSE)","v":"Design Fees - External"}]
["Kent County Council",11962191,"PORTAKABIN LIMITED","2020-04-01",4151.34,"E","1RC","Capital Projects","120",{"$f":"VLOOKUP(I18340,'[1]Sub Lookup'!$A$1:$B$65536,2,FALSE)","v":"External - Rent, Room Hire & Service Charges"}]
["Kent County Council",11960670,"PORTAKABIN LIMITED","2020-04-01",4684.32,"E","1RC","Capital Projects","120",{"$f":"VLOOKUP(I18346,'[1]Sub Lookup'!$A$1:$B$65536,2,FALSE)","v":"External - Rent, Room Hire & Service Charges"}]
["Kent County Council",11962152,"POSTURITE LTD","2020-04-09",429.71000000000004,"S","5AJ","Learning Disability Support - 18 64 Long Term Support: Community: Day Care","300",{"$f":"VLOOKUP(I18364,'[1]Sub Lookup'!$A$1:$B$65536,2,FALSE)","v":"Equipment, Furniture and Materials and Livestock"}]
["Kent County Council",11971128,"PREMIER PRINT AND PROMOTIONS LIMITED","2020-04-02",1124,"C","8DH","Personnel and Development","350",{"$f":"VLOOKUP(I18379,'[1]Sub Lookup'!$A$1:$B$65536,2,FALSE)","v":"Printing and photocopying"}]
["Kent County Council",11997518,"PREMIERE TAXIS LTD T/AS PREMIER CARS","2020-04-20",4880.75,"E","1RX","Admissions & Transport","222",{"$f":"VLOOKUP(I18388,'[1]Sub Lookup'!$A$1:$B$65536,2,FALSE)","v":"Home to School Transport - Hired"}]
["Kent County Council",11966166,"PRESTIGE NURSING + CARE LTD T/A PRESTIGE NURSING + CARE","2020-04-01",3955.2400000000002,"S","5XC","Commissioning & Service Delivery","530",{"$f":"VLOOKUP(I18408,'[1]Sub Lookup'!$A$1:$B$65536,2,FALSE)","v":"Commissioned Service - Other"}]
["Kent County Council",12009537,"PRESTIGE NURSING + CARE LTD T/A PRESTIGE NURSING + CARE","2020-04-27",781.13,"S","35F","IS Day Care Dis Child","527",{"$f":"VLOOKUP(I18412,'[1]Sub Lookup'!$A$1:$B$65536,2,FALSE)","v":"Services"}]
["Kent County Council",11966181,"PROACTIVE DEVELOPMENT","2020-04-01",15578.16,"S","5XC","Commissioning & Service Delivery","530",{"$f":"VLOOKUP(I18432,'[1]Sub Lookup'!$A$1:$B$65536,2,FALSE)","v":"Commissioned Service - Other"}]
["Kent County Council",11989525,"PROACTIVE DEVELOPMENT","2020-04-14",1185.75,"S","5AH","Learning Disability Support - 18 64 Long Term Support: Community: Supported Living","530",{"$f":"VLOOKUP(I18445,'[1]Sub Lookup'!$A$1:$B$65536,2,FALSE)","v":"Commissioned Service - Other"}]
["Kent County Council",11992701,"PROACTIVE DEVELOPMENT","2020-04-15",6447.8,"S","5AH","Learning Disability Support - 18 64 Long Term Support: Community: Supported Living","530",{"$f":"VLOOKUP(I18456,'[1]Sub Lookup'!$A$1:$B$65536,2,FALSE)","v":"Commissioned Service - Other"}]
["Kent County Council",11925580,"PROJECT CENTRE LIMITED","2020-04-03",1750,"P","7HH","Highway Improvements","523",{"$f":"VLOOKUP(I18476,'[1]Sub Lookup'!$A$1:$B$65536,2,FALSE)","v":"Private Contractors"}]
["Kent County Council",12008275,"PSS (UK) T/A PERSON SHAPED SUPPORT","2020-04-27",264.8,"S","5AC","Learning Disability Support - 18 64 Long Term Support: Supported accommodation","530",{"$f":"VLOOKUP(I18492,'[1]Sub Lookup'!$A$1:$B$65536,2,FALSE)","v":"Commissioned Service - Other"}]
["Kent County Council",11961597,"PT SOUTHERN SERVICES T/A KARE PLUS ASHFORD","2020-04-09",352.5,"S","5KG","Physical support - 65+ Long Term Support: Community: Home Care","530",{"$f":"VLOOKUP(I18500,'[1]Sub Lookup'!$A$1:$B$65536,2,FALSE)","v":"Commissioned Service - Other"}]
["Kent County Council",11967850,"PUBLIC SERVICE TRANSFORMATION ACADEMY LIMITED","2020-04-02",2800,"C","8DH","Personnel and Development","064",{"$f":"VLOOKUP(I18511,'[1]Sub Lookup'!$A$1:$B$65536,2,FALSE)","v":"External Training"}]
["Kent County Council",11992657,"PURE CARE - ROCK HOUSE","2020-04-15",-531.1,"S","5EA","Mental Health Support - 18 64 Long Term Support: Residential","530",{"$f":"VLOOKUP(I18528,'[1]Sub Lookup'!$A$1:$B$65536,2,FALSE)","v":"Commissioned Service - Other"}]
["Kent County Council",12005204,"PURELAKE (CHASE) LTD","2020-04-22",2003.56,"S","5KA","Physical support - 65+ Long Term Support: Residential","530",{"$f":"VLOOKUP(I18544,'[1]Sub Lookup'!$A$1:$B$65536,2,FALSE)","v":"Commissioned Service - Other"}]
["Kent County Council",11966576,"PURELAKE(GREENFORD)LTD","2020-04-01",1553.8500000000001,"S","5XC","Commissioning & Service Delivery","530",{"$f":"VLOOKUP(I18558,'[1]Sub Lookup'!$A$1:$B$65536,2,FALSE)","v":"Commissioned Service - Other"}]
["Kent County Council",12017651,"PWS CARE LTD","2020-04-29",1593.71,"S","5XC","Commissioning & Service Delivery","530",{"$f":"VLOOKUP(I18568,'[1]Sub Lookup'!$A$1:$B$65536,2,FALSE)","v":"Commissioned Service - Other"}]
["Kent County Council",11989339,"QH HIGH BROOM","2020-04-14",2003.1200000000001,"S","5KA","Physical support - 65+ Long Term Support: Residential","530",{"$f":"VLOOKUP(I18577,'[1]Sub Lookup'!$A$1:$B$65536,2,FALSE)","v":"Commissioned Service - Other"}]
["Kent County Council",12018536,"QUALITY RELIABLE CARE LTD","2020-04-29",1465.52,"S","5XC","Commissioning & Service Delivery","530",{"$f":"VLOOKUP(I18596,'[1]Sub Lookup'!$A$1:$B$65536,2,FALSE)","v":"Commissioned Service - Other"}]
["Kent County Council",12009199,"R AHMED SAS EXE TRAVEL","2020-04-24",3870,"E","1RX","Admissions & Transport","222",{"$f":"VLOOKUP(I18612,'[1]Sub Lookup'!$A$1:$B$65536,2,FALSE)","v":"Home to School Transport - Hired"}]
["Kent County Council",12009217,"R AHMED SAS EXE TRAVEL","2020-04-24",2686,"S","5AJ","Learning Disability Support - 18 64 Long Term Support: Community: Day Care","232",{"$f":"VLOOKUP(I18624,'[1]Sub Lookup'!$A$1:$B$65536,2,FALSE)","v":"Public Transport (Clients)"}]
["Kent County Council",12009207,"R AHMED SAS EXE TRAVEL","2020-04-24",3476,"E","1RX","Admissions & Transport","222",{"$f":"VLOOKUP(I18636,'[1]Sub Lookup'!$A$1:$B$65536,2,FALSE)","v":"Home to School Transport - Hired"}]
["Kent County Council",12000987,"R C' S TAXI","2020-04-22",276.5,"S","5AJ","Learning Disability Support - 18 64 Long Term Support: Community: Day Care","232",{"$f":"VLOOKUP(I18643,'[1]Sub Lookup'!$A$1:$B$65536,2,FALSE)","v":"Public Transport (Clients)"}]
["Kent County Council",11984379,"RAINBOW DAY NURSERY-DARTFORD","2020-04-14",54100.800000000003,"E","1KA","School Resources","528",{"$f":"VLOOKUP(I18664,'[1]Sub Lookup'!$A$1:$B$65536,2,FALSE)","v":"Early Years Education"}]
["Kent County Council",11960464,"RAINBOW FAMILY THERAPY SERVICES LTD","2020-04-03",774,"S","35T","County Adoption Team","401",{"$f":"VLOOKUP(I18667,'[1]Sub Lookup'!$A$1:$B$65536,2,FALSE)","v":"Specialists Fees"}]
["Kent County Council",11992104,"RAMSGATE CARE LTD","2020-04-15",32444.880000000001,"S","5KA","Physical support - 65+ Long Term Support: Residential","530",{"$f":"VLOOKUP(I18690,'[1]Sub Lookup'!$A$1:$B$65536,2,FALSE)","v":"Commissioned Service - Other"}]
["Kent County Council",12000790,"RAMSGATE CARE LTD","2020-04-21",4398.0200000000004,"S","5KU","Physical support - 65+ Short Term - Other - Residential","530",{"$f":"VLOOKUP(I18695,'[1]Sub Lookup'!$A$1:$B$65536,2,FALSE)","v":"Commissioned Service - Other"}]
["Kent County Council",11992554,"RANC CARE HOMES LTD","2020-04-15",3496.56,"S","5KB","Physical support - 65+ Long Term Support: Nursing","530",{"$f":"VLOOKUP(I18709,'[1]Sub Lookup'!$A$1:$B$65536,2,FALSE)","v":"Commissioned Service - Other"}]
["Kent County Council",11993545,"RANC CARE HOMES LTD","2020-04-16",3600,"S","5KB","Physical support - 65+ Long Term Support: Nursing","530",{"$f":"VLOOKUP(I18732,'[1]Sub Lookup'!$A$1:$B$65536,2,FALSE)","v":"Commissioned Service - Other"}]
["Kent County Council",11993545,"RANC CARE HOMES LTD","2020-04-16",3200,"S","5KA","Physical support - 65+ Long Term Support: Residential","530",{"$f":"VLOOKUP(I18735,'[1]Sub Lookup'!$A$1:$B$65536,2,FALSE)","v":"Commissioned Service - Other"}]
["Kent County Council",12000595,"RANC CARE HOMES LTD","2020-04-21",3600,"S","5KB","Physical support - 65+ Long Term Support: Nursing","530",{"$f":"VLOOKUP(I18756,'[1]Sub Lookup'!$A$1:$B$65536,2,FALSE)","v":"Commissioned Service - Other"}]
["Kent County Council",12018151,"RANC CARE HOMES LTD","2020-04-29",10493.44,"S","5XC","Commissioning & Service Delivery","530",{"$f":"VLOOKUP(I18763,'[1]Sub Lookup'!$A$1:$B$65536,2,FALSE)","v":"Commissioned Service - Other"}]
["Kent County Council",11971643,"RAPPORT HOUSING & CARE","2020-04-02",2647.32,"S","5TA","Support with Memory & Cognition - 65+ Long Term Support: Residential","520",{"$f":"VLOOKUP(I18775,'[1]Sub Lookup'!$A$1:$B$65536,2,FALSE)","v":"Voluntary Associations"}]
["Kent County Council",11971624,"RAPPORT HOUSING & CARE","2020-04-02",2659.96,"S","5KA","Physical support - 65+ Long Term Support: Residential","520",{"$f":"VLOOKUP(I18800,'[1]Sub Lookup'!$A$1:$B$65536,2,FALSE)","v":"Voluntary Associations"}]
["Kent County Council",11971619,"RAPPORT HOUSING & CARE","2020-04-02",2011.8400000000001,"S","5TA","Support with Memory & Cognition - 65+ Long Term Support: Residential","520",{"$f":"VLOOKUP(I18807,'[1]Sub Lookup'!$A$1:$B$65536,2,FALSE)","v":"Voluntary Associations"}]
["Kent County Council",11973988,"RAPPORT HOUSING & CARE","2020-04-03",2203.7200000000003,"S","5KA","Physical support - 65+ Long Term Support: Residential","520",{"$f":"VLOOKUP(I18822,'[1]Sub Lookup'!$A$1:$B$65536,2,FALSE)","v":"Voluntary Associations"}]
["Kent County Council",11974008,"RAPPORT HOUSING & CARE","2020-04-03",2720,"S","5KA","Physical support - 65+ Long Term Support: Residential","520",{"$f":"VLOOKUP(I18831,'[1]Sub Lookup'!$A$1:$B$65536,2,FALSE)","v":"Voluntary Associations"}]
["Kent County Council",11974009,"RAPPORT HOUSING & CARE","2020-04-03",2720,"S","5KA","Physical support - 65+ Long Term Support: Residential","520",{"$f":"VLOOKUP(I18841,'[1]Sub Lookup'!$A$1:$B$65536,2,FALSE)","v":"Voluntary Associations"}]
["Kent County Council",12018545,"RAPPORT HOUSING & CARE","2020-04-29",11437.550000000001,"S","5XC","Commissioning & Service Delivery","530",{"$f":"VLOOKUP(I18855,'[1]Sub Lookup'!$A$1:$B$65536,2,FALSE)","v":"Commissioned Service - Other"}]
["Kent County Council",11968193,"RE CONSULTANT LTD","2020-04-01",750,"E","1RN","SMT Business Support","402",{"$f":"VLOOKUP(I18875,'[1]Sub Lookup'!$A$1:$B$65536,2,FALSE)","v":"Consultants"}]
["Kent County Council",11885406,"REDACTED - Personal Payment","2020-04-01",2195.2000000000003,"S","5KF","Physical support - 65+ Long Term Support: Community: Direct Payments","530",{"$f":"VLOOKUP(I18888,'[1]Sub Lookup'!$A$1:$B$65536,2,FALSE)","v":"Commissioned Service - Other"}]
["Kent County Council",11948181,"REDACTED - Personal Payment","2020-04-01",1964.68,"S","5KF","Physical support - 65+ Long Term Support: Community: Direct Payments","530",{"$f":"VLOOKUP(I18899,'[1]Sub Lookup'!$A$1:$B$65536,2,FALSE)","v":"Commissioned Service - Other"}]
["Kent County Council",11832624,"REDACTED - Personal Payment","2020-04-01",448.40000000000003,"S","5KF","Physical support - 65+ Long Term Support: Community: Direct Payments","530",{"$f":"VLOOKUP(I18921,'[1]Sub Lookup'!$A$1:$B$65536,2,FALSE)","v":"Commissioned Service - Other"}]
["Kent County Council",11948280,"REDACTED - Personal Payment","2020-04-01",906.64,"S","5KF","Physical support - 65+ Long Term Support: Community: Direct Payments","530",{"$f":"VLOOKUP(I18923,'[1]Sub Lookup'!$A$1:$B$65536,2,FALSE)","v":"Commissioned Service - Other"}]
["Kent County Council",11885426,"REDACTED - Personal Payment","2020-04-01",-379.2,"S","5KK","Physical support - 65+ Long Term Support: Fairer Charging Income","937",{"$f":"VLOOKUP(I18943,'[1]Sub Lookup'!$A$1:$B$65536,2,FALSE)","v":"KASS Notional Income"}]
["Kent County Council",11832644,"REDACTED - Personal Payment","2020-04-01",4664.5200000000004,"S","5BF","Learning Disability Support - 65+ Long Term Support: Community: Direct Payments","530",{"$f":"VLOOKUP(I18954,'[1]Sub Lookup'!$A$1:$B$65536,2,FALSE)","v":"Commissioned Service - Other"}]
["Kent County Council",11966551,"REDACTED - Personal Payment","2020-04-01",4216.1000000000004,"S","5XC","Commissioning & Service Delivery","530",{"$f":"VLOOKUP(I18967,'[1]Sub Lookup'!$A$1:$B$65536,2,FALSE)","v":"Commissioned Service - Other"}]
["Kent County Council",11967709,"REDACTED - Personal Payment","2020-04-01",305.62,"S","5TF","Support with Memory & Cognition - 65+ Long Term Support: Community: Direct Payments","530",{"$f":"VLOOKUP(I18983,'[1]Sub Lookup'!$A$1:$B$65536,2,FALSE)","v":"Commissioned Service - Other"}]
["Kent County Council",11948283,"REDACTED - Personal Payment","2020-04-01",1885.16,"S","5KF","Physical support - 65+ Long Term Support: Community: Direct Payments","530",{"$f":"VLOOKUP(I18991,'[1]Sub Lookup'!$A$1:$B$65536,2,FALSE)","v":"Commissioned Service - Other"}]
["Kent County Council",11951566,"REDACTED - Personal Payment","2020-04-02",1352.8,"S","5KF","Physical support - 65+ Long Term Support: Community: Direct Payments","530",{"$f":"VLOOKUP(I19011,'[1]Sub Lookup'!$A$1:$B$65536,2,FALSE)","v":"Commissioned Service - Other"}]
["Kent County Council",11832724,"REDACTED - Personal Payment","2020-04-02",2566.52,"S","5KF","Physical support - 65+ Long Term Support: Community: Direct Payments","530",{"$f":"VLOOKUP(I19020,'[1]Sub Lookup'!$A$1:$B$65536,2,FALSE)","v":"Commissioned Service - Other"}]
["Kent County Council",11832680,"REDACTED - Personal Payment","2020-04-02",1274.24,"S","5KF","Physical support - 65+ Long Term Support: Community: Direct Payments","530",{"$f":"VLOOKUP(I19035,'[1]Sub Lookup'!$A$1:$B$65536,2,FALSE)","v":"Commissioned Service - Other"}]
["Kent County Council",11885450,"REDACTED - Personal Payment","2020-04-02",878.88,"S","5KF","Physical support - 65+ Long Term Support: Community: Direct Payments","530",{"$f":"VLOOKUP(I19049,'[1]Sub Lookup'!$A$1:$B$65536,2,FALSE)","v":"Commissioned Service - Other"}]
["Kent County Council",11951649,"REDACTED - Personal Payment","2020-04-02",280,"S","5SF","Support with Memory & Cognition - 18 64 Long Term Support: Community: Direct Payments","530",{"$f":"VLOOKUP(I19059,'[1]Sub Lookup'!$A$1:$B$65536,2,FALSE)","v":"Commissioned Service - Other"}]
["Kent County Council",11839458,"REDACTED - Personal Payment","2020-04-03",1189.72,"S","5JF","Physical Support - 18 64 Long Term Support: Community: Direct Payments","530",{"$f":"VLOOKUP(I19079,'[1]Sub Lookup'!$A$1:$B$65536,2,FALSE)","v":"Commissioned Service - Other"}]
["Kent County Council",11839318,"REDACTED - Personal Payment","2020-04-03",2008.92,"S","5KF","Physical support - 65+ Long Term Support: Community: Direct Payments","530",{"$f":"VLOOKUP(I19086,'[1]Sub Lookup'!$A$1:$B$65536,2,FALSE)","v":"Commissioned Service - Other"}]
["Kent County Council",11972717,"REDACTED - Personal Payment","2020-04-03",304.27,"S","5KF","Physical support - 65+ Long Term Support: Community: Direct Payments","530",{"$f":"VLOOKUP(I19103,'[1]Sub Lookup'!$A$1:$B$65536,2,FALSE)","v":"Commissioned Service - Other"}]
["Kent County Council",11951685,"REDACTED - Personal Payment","2020-04-03",1260,"S","5EF","Mental Health Support - 18 64 Long Term Support: Community: Direct Payments","530",{"$f":"VLOOKUP(I19115,'[1]Sub Lookup'!$A$1:$B$65536,2,FALSE)","v":"Commissioned Service - Other"}]
["Kent County Council",11951670,"REDACTED - Personal Payment","2020-04-03",510,"S","5AF","Learning Disability Support - 18 64 Long Term Support: Community: Direct Payments","530",{"$f":"VLOOKUP(I19127,'[1]Sub Lookup'!$A$1:$B$65536,2,FALSE)","v":"Commissioned Service - Other"}]
["Kent County Council",11951835,"REDACTED - Personal Payment","2020-04-03",1799.2,"S","5JF","Physical Support - 18 64 Long Term Support: Community: Direct Payments","530",{"$f":"VLOOKUP(I19147,'[1]Sub Lookup'!$A$1:$B$65536,2,FALSE)","v":"Commissioned Service - Other"}]
["Kent County Council",11951754,"REDACTED - Personal Payment","2020-04-03",1400,"S","5JF","Physical Support - 18 64 Long Term Support: Community: Direct Payments","530",{"$f":"VLOOKUP(I19162,'[1]Sub Lookup'!$A$1:$B$65536,2,FALSE)","v":"Commissioned Service - Other"}]
["Kent County Council",11839334,"REDACTED - Personal Payment","2020-04-03",1003.12,"S","5KF","Physical support - 65+ Long Term Support: Community: Direct Payments","530",{"$f":"VLOOKUP(I19171,'[1]Sub Lookup'!$A$1:$B$65536,2,FALSE)","v":"Commissioned Service - Other"}]
["Kent County Council",11951769,"REDACTED - Personal Payment","2020-04-03",1073.1200000000001,"S","5KF","Physical support - 65+ Long Term Support: Community: Direct Payments","530",{"$f":"VLOOKUP(I19178,'[1]Sub Lookup'!$A$1:$B$65536,2,FALSE)","v":"Commissioned Service - Other"}]
["Kent County Council",11974043,"REDACTED - Personal Payment","2020-04-03",3935.71,"S","5KA","Physical support - 65+ Long Term Support: Residential","530",{"$f":"VLOOKUP(I19199,'[1]Sub Lookup'!$A$1:$B$65536,2,FALSE)","v":"Commissioned Service - Other"}]
["Kent County Council",11951865,"REDACTED - Personal Payment","2020-04-06",679.28,"S","5JF","Physical Support - 18 64 Long Term Support: Community: Direct Payments","530",{"$f":"VLOOKUP(I19215,'[1]Sub Lookup'!$A$1:$B$65536,2,FALSE)","v":"Commissioned Service - Other"}]
["Kent County Council",11847345,"REDACTED - Personal Payment","2020-04-06",1181.8,"S","5AF","Learning Disability Support - 18 64 Long Term Support: Community: Direct Payments","530",{"$f":"VLOOKUP(I19228,'[1]Sub Lookup'!$A$1:$B$65536,2,FALSE)","v":"Commissioned Service - Other"}]
["Kent County Council",11952013,"REDACTED - Personal Payment","2020-04-06",1099.2,"S","5AF","Learning Disability Support - 18 64 Long Term Support: Community: Direct Payments","530",{"$f":"VLOOKUP(I19239,'[1]Sub Lookup'!$A$1:$B$65536,2,FALSE)","v":"Commissioned Service - Other"}]
["Kent County Council",11952139,"REDACTED - Personal Payment","2020-04-06",288.56,"S","5EF","Mental Health Support - 18 64 Long Term Support: Community: Direct Payments","530",{"$f":"VLOOKUP(I19246,'[1]Sub Lookup'!$A$1:$B$65536,2,FALSE)","v":"Commissioned Service - Other"}]
["Kent County Council",11892933,"REDACTED - Personal Payment","2020-04-06",657.52,"S","5KF","Physical support - 65+ Long Term Support: Community: Direct Payments","530",{"$f":"VLOOKUP(I19261,'[1]Sub Lookup'!$A$1:$B$65536,2,FALSE)","v":"Commissioned Service - Other"}]
["Kent County Council",11847281,"REDACTED - Personal Payment","2020-04-06",373.12,"S","5KF","Physical support - 65+ Long Term Support: Community: Direct Payments","530",{"$f":"VLOOKUP(I19270,'[1]Sub Lookup'!$A$1:$B$65536,2,FALSE)","v":"Commissioned Service - Other"}]
["Kent County Council",11900655,"REDACTED - Personal Payment","2020-04-06",432.84000000000003,"S","5AF","Learning Disability Support - 18 64 Long Term Support: Community: Direct Payments","530",{"$f":"VLOOKUP(I19294,'[1]Sub Lookup'!$A$1:$B$65536,2,FALSE)","v":"Commissioned Service - Other"}]
["Kent County Council",11951929,"REDACTED - Personal Payment","2020-04-06",726,"S","5FF","Mental Health Support - 65+ Long Term Support: Community: Direct Payments","530",{"$f":"VLOOKUP(I19307,'[1]Sub Lookup'!$A$1:$B$65536,2,FALSE)","v":"Commissioned Service - Other"}]
["Kent County Council",11952061,"REDACTED - Personal Payment","2020-04-06",273.56,"S","5KF","Physical support - 65+ Long Term Support: Community: Direct Payments","530",{"$f":"VLOOKUP(I19314,'[1]Sub Lookup'!$A$1:$B$65536,2,FALSE)","v":"Commissioned Service - Other"}]
["Kent County Council",11952112,"REDACTED - Personal Payment","2020-04-06",1606.92,"S","5BF","Learning Disability Support - 65+ Long Term Support: Community: Direct Payments","530",{"$f":"VLOOKUP(I19327,'[1]Sub Lookup'!$A$1:$B$65536,2,FALSE)","v":"Commissioned Service - Other"}]
["Kent County Council",11975917,"REDACTED - Personal Payment","2020-04-06",1121.67,"S","35X","Direct Payments Children","523",{"$f":"VLOOKUP(I19338,'[1]Sub Lookup'!$A$1:$B$65536,2,FALSE)","v":"Private Contractors"}]
["Kent County Council",11896933,"REDACTED - Personal Payment","2020-04-06",-328.6,"S","5KK","Physical support - 65+ Long Term Support: Fairer Charging Income","937",{"$f":"VLOOKUP(I19360,'[1]Sub Lookup'!$A$1:$B$65536,2,FALSE)","v":"KASS Notional Income"}]
["Kent County Council",11896672,"REDACTED - Personal Payment","2020-04-06",-998.44,"S","5KK","Physical support - 65+ Long Term Support: Fairer Charging Income","937",{"$f":"VLOOKUP(I19375,'[1]Sub Lookup'!$A$1:$B$65536,2,FALSE)","v":"KASS Notional Income"}]
["Kent County Council",11975887,"REDACTED - Personal Payment","2020-04-06",1470.39,"S","35X","Direct Payments Children","523",{"$f":"VLOOKUP(I19382,'[1]Sub Lookup'!$A$1:$B$65536,2,FALSE)","v":"Private Contractors"}]
["Kent County Council",11847181,"REDACTED - Personal Payment","2020-04-06",902.24,"S","5JF","Physical Support - 18 64 Long Term Support: Community: Direct Payments","530",{"$f":"VLOOKUP(I19393,'[1]Sub Lookup'!$A$1:$B$65536,2,FALSE)","v":"Commissioned Service - Other"}]
["Kent County Council",11847201,"REDACTED - Personal Payment","2020-04-06",1260,"S","5EF","Mental Health Support - 18 64 Long Term Support: Community: Direct Payments","530",{"$f":"VLOOKUP(I19406,'[1]Sub Lookup'!$A$1:$B$65536,2,FALSE)","v":"Commissioned Service - Other"}]
["Kent County Council",11900591,"REDACTED - Personal Payment","2020-04-06",669.48,"S","5KF","Physical support - 65+ Long Term Support: Community: Direct Payments","530",{"$f":"VLOOKUP(I19426,'[1]Sub Lookup'!$A$1:$B$65536,2,FALSE)","v":"Commissioned Service - Other"}]
["Kent County Council",11896901,"REDACTED - Personal Payment","2020-04-06",388.48,"S","5JF","Physical Support - 18 64 Long Term Support: Community: Direct Payments","530",{"$f":"VLOOKUP(I19434,'[1]Sub Lookup'!$A$1:$B$65536,2,FALSE)","v":"Commissioned Service - Other"}]
["Kent County Council",11952067,"REDACTED - Personal Payment","2020-04-06",-250.20000000000002,"S","5JK","Physical Support - 18 64 Long Term Support: Fairer Charging Income","937",{"$f":"VLOOKUP(I19450,'[1]Sub Lookup'!$A$1:$B$65536,2,FALSE)","v":"KASS Notional Income"}]
["Kent County Council",11977115,"REDACTED - Personal Payment","2020-04-06",877.36,"S","5AF","Learning Disability Support - 18 64 Long Term Support: Community: Direct Payments","523",{"$f":"VLOOKUP(I19459,'[1]Sub Lookup'!$A$1:$B$65536,2,FALSE)","v":"Private Contractors"}]
["Kent County Council",11953256,"REDACTED - Personal Payment","2020-04-06",-342.48,"S","5KK","Physical support - 65+ Long Term Support: Fairer Charging Income","937",{"$f":"VLOOKUP(I19474,'[1]Sub Lookup'!$A$1:$B$65536,2,FALSE)","v":"KASS Notional Income"}]
["Kent County Council",11904367,"REDACTED - Personal Payment","2020-04-07",937.28,"S","5SF","Support with Memory & Cognition - 18 64 Long Term Support: Community: Direct Payments","530",{"$f":"VLOOKUP(I19492,'[1]Sub Lookup'!$A$1:$B$65536,2,FALSE)","v":"Commissioned Service - Other"}]
["Kent County Council",11977612,"REDACTED - Personal Payment","2020-04-07",1859.28,"S","5JF","Physical Support - 18 64 Long Term Support: Community: Direct Payments","530",{"$f":"VLOOKUP(I19502,'[1]Sub Lookup'!$A$1:$B$65536,2,FALSE)","v":"Commissioned Service - Other"}]
["Kent County Council",11956135,"REDACTED - Personal Payment","2020-04-07",959.76,"S","5AF","Learning Disability Support - 18 64 Long Term Support: Community: Direct Payments","530",{"$f":"VLOOKUP(I19518,'[1]Sub Lookup'!$A$1:$B$65536,2,FALSE)","v":"Commissioned Service - Other"}]
["Kent County Council",11956240,"REDACTED - Personal Payment","2020-04-07",509.76,"S","5AF","Learning Disability Support - 18 64 Long Term Support: Community: Direct Payments","530",{"$f":"VLOOKUP(I19525,'[1]Sub Lookup'!$A$1:$B$65536,2,FALSE)","v":"Commissioned Service - Other"}]
["Kent County Council",11904359,"REDACTED - Personal Payment","2020-04-07",2180.36,"S","5KF","Physical support - 65+ Long Term Support: Community: Direct Payments","530",{"$f":"VLOOKUP(I19546,'[1]Sub Lookup'!$A$1:$B$65536,2,FALSE)","v":"Commissioned Service - Other"}]
["Kent County Council",11956234,"REDACTED - Personal Payment","2020-04-07",1400.4,"S","5AF","Learning Disability Support - 18 64 Long Term Support: Community: Direct Payments","530",{"$f":"VLOOKUP(I19558,'[1]Sub Lookup'!$A$1:$B$65536,2,FALSE)","v":"Commissioned Service - Other"}]
["Kent County Council",11977580,"REDACTED - Personal Payment","2020-04-07",-284.32,"S","5KK","Physical support - 65+ Long Term Support: Fairer Charging Income","937",{"$f":"VLOOKUP(I19570,'[1]Sub Lookup'!$A$1:$B$65536,2,FALSE)","v":"KASS Notional Income"}]
["Kent County Council",11977573,"REDACTED - Personal Payment","2020-04-07",-444.74,"S","5KK","Physical support - 65+ Long Term Support: Fairer Charging Income","937",{"$f":"VLOOKUP(I19586,'[1]Sub Lookup'!$A$1:$B$65536,2,FALSE)","v":"KASS Notional Income"}]
["Kent County Council",11980108,"REDACTED - Personal Payment","2020-04-08",660,"E","1KA","School Resources","528",{"$f":"VLOOKUP(I19591,'[1]Sub Lookup'!$A$1:$B$65536,2,FALSE)","v":"Early Years Education"}]
["Kent County Council",11846945,"REDACTED - Personal Payment","2020-04-08",335.56,"S","5JF","Physical Support - 18 64 Long Term Support: Community: Direct Payments","530",{"$f":"VLOOKUP(I19614,'[1]Sub Lookup'!$A$1:$B$65536,2,FALSE)","v":"Commissioned Service - Other"}]
["Kent County Council",11907560,"REDACTED - Personal Payment","2020-04-08",883.72,"S","5KF","Physical support - 65+ Long Term Support: Community: Direct Payments","530",{"$f":"VLOOKUP(I19624,'[1]Sub Lookup'!$A$1:$B$65536,2,FALSE)","v":"Commissioned Service - Other"}]
["Kent County Council",11955827,"REDACTED - Personal Payment","2020-04-08",400.56,"S","5KF","Physical support - 65+ Long Term Support: Community: Direct Payments","530",{"$f":"VLOOKUP(I19638,'[1]Sub Lookup'!$A$1:$B$65536,2,FALSE)","v":"Commissioned Service - Other"}]
["Kent County Council",11955830,"REDACTED - Personal Payment","2020-04-08",1885.16,"S","5KF","Physical support - 65+ Long Term Support: Community: Direct Payments","530",{"$f":"VLOOKUP(I19654,'[1]Sub Lookup'!$A$1:$B$65536,2,FALSE)","v":"Commissioned Service - Other"}]
["Kent County Council",11971425,"REDACTED - Personal Payment","2020-04-08",2301.08,"S","5KA","Physical support - 65+ Long Term Support: Residential","530",{"$f":"VLOOKUP(I19671,'[1]Sub Lookup'!$A$1:$B$65536,2,FALSE)","v":"Commissioned Service - Other"}]
["Kent County Council",11971419,"REDACTED - Personal Payment","2020-04-08",1975,"S","5KU","Physical support - 65+ Short Term - Other - Residential","530",{"$f":"VLOOKUP(I19682,'[1]Sub Lookup'!$A$1:$B$65536,2,FALSE)","v":"Commissioned Service - Other"}]
["Kent County Council",11971408,"REDACTED - Personal Payment","2020-04-08",2212,"S","5TA","Support with Memory & Cognition - 65+ Long Term Support: Residential","530",{"$f":"VLOOKUP(I19690,'[1]Sub Lookup'!$A$1:$B$65536,2,FALSE)","v":"Commissioned Service - Other"}]
["Kent County Council",11964216,"REDACTED - Personal Payment","2020-04-09",260.95999999999998,"S","5KF","Physical support - 65+ Long Term Support: Community: Direct Payments","530",{"$f":"VLOOKUP(I19706,'[1]Sub Lookup'!$A$1:$B$65536,2,FALSE)","v":"Commissioned Service - Other"}]
["Kent County Council",11964219,"REDACTED - Personal Payment","2020-04-09",387.52,"S","5JF","Physical Support - 18 64 Long Term Support: Community: Direct Payments","530",{"$f":"VLOOKUP(I19713,'[1]Sub Lookup'!$A$1:$B$65536,2,FALSE)","v":"Commissioned Service - Other"}]
["Kent County Council",11961069,"REDACTED - Personal Payment","2020-04-09",784.96,"S","5NF","Sensory Support - 18 64 Long Term Support: Community: Direct Payments","530",{"$f":"VLOOKUP(I19737,'[1]Sub Lookup'!$A$1:$B$65536,2,FALSE)","v":"Commissioned Service - Other"}]
["Kent County Council",11907724,"REDACTED - Personal Payment","2020-04-09",764.16,"S","5JF","Physical Support - 18 64 Long Term Support: Community: Direct Payments","530",{"$f":"VLOOKUP(I19750,'[1]Sub Lookup'!$A$1:$B$65536,2,FALSE)","v":"Commissioned Service - Other"}]
["Kent County Council",11964349,"REDACTED - Personal Payment","2020-04-09",4413.68,"S","5AF","Learning Disability Support - 18 64 Long Term Support: Community: Direct Payments","530",{"$f":"VLOOKUP(I19756,'[1]Sub Lookup'!$A$1:$B$65536,2,FALSE)","v":"Commissioned Service - Other"}]
["Kent County Council",11961084,"REDACTED - Personal Payment","2020-04-09",-892.16,"S","5KK","Physical support - 65+ Long Term Support: Fairer Charging Income","937",{"$f":"VLOOKUP(I19774,'[1]Sub Lookup'!$A$1:$B$65536,2,FALSE)","v":"KASS Notional Income"}]
["Kent County Council",11857595,"REDACTED - Personal Payment","2020-04-09",2974.48,"S","5AF","Learning Disability Support - 18 64 Long Term Support: Community: Direct Payments","530",{"$f":"VLOOKUP(I19781,'[1]Sub Lookup'!$A$1:$B$65536,2,FALSE)","v":"Commissioned Service - Other"}]
["Kent County Council",11964448,"REDACTED - Personal Payment","2020-04-09",580.16,"S","5AF","Learning Disability Support - 18 64 Long Term Support: Community: Direct Payments","530",{"$f":"VLOOKUP(I19803,'[1]Sub Lookup'!$A$1:$B$65536,2,FALSE)","v":"Commissioned Service - Other"}]
["Kent County Council",11964512,"REDACTED - Personal Payment","2020-04-09",-343.2,"S","5KK","Physical support - 65+ Long Term Support: Fairer Charging Income","937",{"$f":"VLOOKUP(I19818,'[1]Sub Lookup'!$A$1:$B$65536,2,FALSE)","v":"KASS Notional Income"}]
["Kent County Council",11847001,"REDACTED - Personal Payment","2020-04-09",-317,"S","5KK","Physical support - 65+ Long Term Support: Fairer Charging Income","937",{"$f":"VLOOKUP(I19822,'[1]Sub Lookup'!$A$1:$B$65536,2,FALSE)","v":"KASS Notional Income"}]
["Kent County Council",11857563,"REDACTED - Personal Payment","2020-04-09",360,"S","5JF","Physical Support - 18 64 Long Term Support: Community: Direct Payments","530",{"$f":"VLOOKUP(I19842,'[1]Sub Lookup'!$A$1:$B$65536,2,FALSE)","v":"Commissioned Service - Other"}]
["Kent County Council",11960918,"REDACTED - Personal Payment","2020-04-09",1885.16,"S","5KF","Physical support - 65+ Long Term Support: Community: Direct Payments","530",{"$f":"VLOOKUP(I19849,'[1]Sub Lookup'!$A$1:$B$65536,2,FALSE)","v":"Commissioned Service - Other"}]
["Kent County Council",11909671,"REDACTED - Personal Payment","2020-04-09",-323.28000000000003,"S","5JK","Physical Support - 18 64 Long Term Support: Fairer Charging Income","937",{"$f":"VLOOKUP(I19869,'[1]Sub Lookup'!$A$1:$B$65536,2,FALSE)","v":"KASS Notional Income"}]
["Kent County Council",11964141,"REDACTED - Personal Payment","2020-04-09",-338.2,"S","5AK","Learning Disability Support - 18 64 Long Term Support: Fairer Charging Income","937",{"$f":"VLOOKUP(I19873,'[1]Sub Lookup'!$A$1:$B$65536,2,FALSE)","v":"KASS Notional Income"}]
["Kent County Council",11847009,"REDACTED - Personal Payment","2020-04-09",685.6,"S","5KF","Physical support - 65+ Long Term Support: Community: Direct Payments","530",{"$f":"VLOOKUP(I19898,'[1]Sub Lookup'!$A$1:$B$65536,2,FALSE)","v":"Commissioned Service - Other"}]
["Kent County Council",11955920,"REDACTED - Personal Payment","2020-04-09",401.28000000000003,"S","5JF","Physical Support - 18 64 Long Term Support: Community: Direct Payments","530",{"$f":"VLOOKUP(I19910,'[1]Sub Lookup'!$A$1:$B$65536,2,FALSE)","v":"Commissioned Service - Other"}]
["Kent County Council",11909532,"REDACTED - Personal Payment","2020-04-09",1302.4000000000001,"S","5AF","Learning Disability Support - 18 64 Long Term Support: Community: Direct Payments","530",{"$f":"VLOOKUP(I19917,'[1]Sub Lookup'!$A$1:$B$65536,2,FALSE)","v":"Commissioned Service - Other"}]
["Kent County Council",11955932,"REDACTED - Personal Payment","2020-04-09",355.56,"S","5JF","Physical Support - 18 64 Long Term Support: Community: Direct Payments","530",{"$f":"VLOOKUP(I19935,'[1]Sub Lookup'!$A$1:$B$65536,2,FALSE)","v":"Commissioned Service - Other"}]
["Kent County Council",11961078,"REDACTED - Personal Payment","2020-04-09",-338.2,"S","5JK","Physical Support - 18 64 Long Term Support: Fairer Charging Income","937",{"$f":"VLOOKUP(I19941,'[1]Sub Lookup'!$A$1:$B$65536,2,FALSE)","v":"KASS Notional Income"}]
["Kent County Council",11963940,"REDACTED - Personal Payment","2020-04-09",329.76,"S","5AF","Learning Disability Support - 18 64 Long Term Support: Community: Direct Payments","530",{"$f":"VLOOKUP(I19964,'[1]Sub Lookup'!$A$1:$B$65536,2,FALSE)","v":"Commissioned Service - Other"}]
["Kent County Council",11907672,"REDACTED - Personal Payment","2020-04-09",324,"S","5AF","Learning Disability Support - 18 64 Long Term Support: Community: Direct Payments","530",{"$f":"VLOOKUP(I19978,'[1]Sub Lookup'!$A$1:$B$65536,2,FALSE)","v":"Commissioned Service - Other"}]
["Kent County Council",11960795,"REDACTED - Personal Payment","2020-04-09",4773,"S","5AF","Learning Disability Support - 18 64 Long Term Support: Community: Direct Payments","530",{"$f":"VLOOKUP(I19985,'[1]Sub Lookup'!$A$1:$B$65536,2,FALSE)","v":"Commissioned Service - Other"}]
["Kent County Council",11847021,"REDACTED - Personal Payment","2020-04-09",496.2,"S","5KF","Physical support - 65+ Long Term Support: Community: Direct Payments","530",{"$f":"VLOOKUP(I19997,'[1]Sub Lookup'!$A$1:$B$65536,2,FALSE)","v":"Commissioned Service - Other"}]
["Kent County Council",11961060,"REDACTED - Personal Payment","2020-04-09",579.91999999999996,"S","5NF","Sensory Support - 18 64 Long Term Support: Community: Direct Payments","530",{"$f":"VLOOKUP(I20009,'[1]Sub Lookup'!$A$1:$B$65536,2,FALSE)","v":"Commissioned Service - Other"}]
["Kent County Council",11964355,"REDACTED - Personal Payment","2020-04-09",800,"S","5WB","Social Support: Support for Carer Direct Payment","530",{"$f":"VLOOKUP(I20030,'[1]Sub Lookup'!$A$1:$B$65536,2,FALSE)","v":"Commissioned Service - Other"}]
["Kent County Council",11961075,"REDACTED - Personal Payment","2020-04-09",1594.88,"S","5KF","Physical support - 65+ Long Term Support: Community: Direct Payments","530",{"$f":"VLOOKUP(I20046,'[1]Sub Lookup'!$A$1:$B$65536,2,FALSE)","v":"Commissioned Service - Other"}]
["Kent County Council",11964485,"REDACTED - Personal Payment","2020-04-09",344,"S","5JF","Physical Support - 18 64 Long Term Support: Community: Direct Payments","530",{"$f":"VLOOKUP(I20053,'[1]Sub Lookup'!$A$1:$B$65536,2,FALSE)","v":"Commissioned Service - Other"}]
["Kent County Council",11964533,"REDACTED - Personal Payment","2020-04-09",-284.88,"S","5KK","Physical support - 65+ Long Term Support: Fairer Charging Income","937",{"$f":"VLOOKUP(I20063,'[1]Sub Lookup'!$A$1:$B$65536,2,FALSE)","v":"KASS Notional Income"}]
["Kent County Council",11963919,"REDACTED - Personal Payment","2020-04-09",396,"S","5KF","Physical support - 65+ Long Term Support: Community: Direct Payments","530",{"$f":"VLOOKUP(I20077,'[1]Sub Lookup'!$A$1:$B$65536,2,FALSE)","v":"Commissioned Service - Other"}]
["Kent County Council",11862882,"REDACTED - Personal Payment","2020-04-09",750.36,"S","5JF","Physical Support - 18 64 Long Term Support: Community: Direct Payments","530",{"$f":"VLOOKUP(I20096,'[1]Sub Lookup'!$A$1:$B$65536,2,FALSE)","v":"Commissioned Service - Other"}]
["Kent County Council",11857683,"REDACTED - Personal Payment","2020-04-09",460.8,"S","5NF","Sensory Support - 18 64 Long Term Support: Community: Direct Payments","530",{"$f":"VLOOKUP(I20101,'[1]Sub Lookup'!$A$1:$B$65536,2,FALSE)","v":"Commissioned Service - Other"}]
["Kent County Council",11963871,"REDACTED - Personal Payment","2020-04-09",-343.2,"S","5KK","Physical support - 65+ Long Term Support: Fairer Charging Income","937",{"$f":"VLOOKUP(I20121,'[1]Sub Lookup'!$A$1:$B$65536,2,FALSE)","v":"KASS Notional Income"}]
["Kent County Council",11955944,"REDACTED - Personal Payment","2020-04-09",739.96,"S","5JF","Physical Support - 18 64 Long Term Support: Community: Direct Payments","530",{"$f":"VLOOKUP(I20129,'[1]Sub Lookup'!$A$1:$B$65536,2,FALSE)","v":"Commissioned Service - Other"}]
["Kent County Council",11983672,"REDACTED - Personal Payment","2020-04-09",722.4,"S","5AH","Learning Disability Support - 18 64 Long Term Support: Community: Supported Living","530",{"$f":"VLOOKUP(I20145,'[1]Sub Lookup'!$A$1:$B$65536,2,FALSE)","v":"Commissioned Service - Other"}]
["Kent County Council",11983674,"REDACTED - Personal Payment","2020-04-09",2227.4,"S","5AH","Learning Disability Support - 18 64 Long Term Support: Community: Supported Living","530",{"$f":"VLOOKUP(I20162,'[1]Sub Lookup'!$A$1:$B$65536,2,FALSE)","v":"Commissioned Service - Other"}]
["Kent County Council",11964132,"REDACTED - Personal Payment","2020-04-09",348.8,"S","5AF","Learning Disability Support - 18 64 Long Term Support: Community: Direct Payments","530",{"$f":"VLOOKUP(I20173,'[1]Sub Lookup'!$A$1:$B$65536,2,FALSE)","v":"Commissioned Service - Other"}]
["Kent County Council",11856535,"REDACTED - Personal Payment","2020-04-09",328.40000000000003,"S","5AF","Learning Disability Support - 18 64 Long Term Support: Community: Direct Payments","530",{"$f":"VLOOKUP(I20189,'[1]Sub Lookup'!$A$1:$B$65536,2,FALSE)","v":"Commissioned Service - Other"}]
["Kent County Council",11909591,"REDACTED - Personal Payment","2020-04-09",1201.24,"S","5AF","Learning Disability Support - 18 64 Long Term Support: Community: Direct Payments","530",{"$f":"VLOOKUP(I20195,'[1]Sub Lookup'!$A$1:$B$65536,2,FALSE)","v":"Commissioned Service - Other"}]
["Kent County Council",11977576,"REDACTED - Personal Payment","2020-04-09",3000,"S","5KF","Physical support - 65+ Long Term Support: Community: Direct Payments","530",{"$f":"VLOOKUP(I20213,'[1]Sub Lookup'!$A$1:$B$65536,2,FALSE)","v":"Commissioned Service - Other"}]
["Kent County Council",11984884,"REDACTED - Personal Payment","2020-04-14",2864.16,"E","1KA","School Resources","528",{"$f":"VLOOKUP(I20233,'[1]Sub Lookup'!$A$1:$B$65536,2,FALSE)","v":"Early Years Education"}]
["Kent County Council",11984913,"REDACTED - Personal Payment","2020-04-14",1053.67,"E","1KA","School Resources","528",{"$f":"VLOOKUP(I20242,'[1]Sub Lookup'!$A$1:$B$65536,2,FALSE)","v":"Early Years Education"}]
["Kent County Council",11984898,"REDACTED - Personal Payment","2020-04-14",1193.4000000000001,"E","1KA","School Resources","528",{"$f":"VLOOKUP(I20257,'[1]Sub Lookup'!$A$1:$B$65536,2,FALSE)","v":"Early Years Education"}]
["Kent County Council",11984950,"REDACTED - Personal Payment","2020-04-14",822.12,"E","1KA","School Resources","528",{"$f":"VLOOKUP(I20261,'[1]Sub Lookup'!$A$1:$B$65536,2,FALSE)","v":"Early Years Education"}]
["Kent County Council",11985049,"REDACTED - Personal Payment","2020-04-14",1856.4,"E","1KA","School Resources","528",{"$f":"VLOOKUP(I20281,'[1]Sub Lookup'!$A$1:$B$65536,2,FALSE)","v":"Early Years Education"}]
["Kent County Council",11984578,"REDACTED - Personal Payment","2020-04-14",795.6,"E","1KA","School Resources","528",{"$f":"VLOOKUP(I20288,'[1]Sub Lookup'!$A$1:$B$65536,2,FALSE)","v":"Early Years Education"}]
["Kent County Council",11985039,"REDACTED - Personal Payment","2020-04-14",2917.2000000000003,"E","1KA","School Resources","528",{"$f":"VLOOKUP(I20308,'[1]Sub Lookup'!$A$1:$B$65536,2,FALSE)","v":"Early Years Education"}]
["Kent County Council",11984849,"REDACTED - Personal Payment","2020-04-14",835.38,"E","1KA","School Resources","528",{"$f":"VLOOKUP(I20325,'[1]Sub Lookup'!$A$1:$B$65536,2,FALSE)","v":"Early Years Education"}]
["Kent County Council",11984872,"REDACTED - Personal Payment","2020-04-14",397.8,"E","1KA","School Resources","528",{"$f":"VLOOKUP(I20341,'[1]Sub Lookup'!$A$1:$B$65536,2,FALSE)","v":"Early Years Education"}]
["Kent County Council",11984803,"REDACTED - Personal Payment","2020-04-14",1034.28,"E","1KA","School Resources","528",{"$f":"VLOOKUP(I20353,'[1]Sub Lookup'!$A$1:$B$65536,2,FALSE)","v":"Early Years Education"}]
["Kent County Council",11984862,"REDACTED - Personal Payment","2020-04-14",1856.4,"E","1KA","School Resources","528",{"$f":"VLOOKUP(I20356,'[1]Sub Lookup'!$A$1:$B$65536,2,FALSE)","v":"Early Years Education"}]
["Kent County Council",11984815,"REDACTED - Personal Payment","2020-04-14",3527.16,"E","1KA","School Resources","528",{"$f":"VLOOKUP(I20374,'[1]Sub Lookup'!$A$1:$B$65536,2,FALSE)","v":"Early Years Education"}]
["Kent County Council",11984838,"REDACTED - Personal Payment","2020-04-14",1193.4000000000001,"E","1KA","School Resources","528",{"$f":"VLOOKUP(I20393,'[1]Sub Lookup'!$A$1:$B$65536,2,FALSE)","v":"Early Years Education"}]
["Kent County Council",11984758,"REDACTED - Personal Payment","2020-04-14",397.8,"E","1KA","School Resources","528",{"$f":"VLOOKUP(I20407,'[1]Sub Lookup'!$A$1:$B$65536,2,FALSE)","v":"Early Years Education"}]
["Kent County Council",11985354,"REDACTED - Personal Payment","2020-04-14",1591.2,"E","1KA","School Resources","528",{"$f":"VLOOKUP(I20421,'[1]Sub Lookup'!$A$1:$B$65536,2,FALSE)","v":"Early Years Education"}]
["Kent County Council",11985344,"REDACTED - Personal Payment","2020-04-14",344.76,"E","1KA","School Resources","528",{"$f":"VLOOKUP(I20424,'[1]Sub Lookup'!$A$1:$B$65536,2,FALSE)","v":"Early Years Education"}]
["Kent County Council",11985304,"REDACTED - Personal Payment","2020-04-14",795.6,"E","1KA","School Resources","528",{"$f":"VLOOKUP(I20440,'[1]Sub Lookup'!$A$1:$B$65536,2,FALSE)","v":"Early Years Education"}]
["Kent County Council",11985160,"REDACTED - Personal Payment","2020-04-14",477.36,"E","1KA","School Resources","528",{"$f":"VLOOKUP(I20452,'[1]Sub Lookup'!$A$1:$B$65536,2,FALSE)","v":"Early Years Education"}]
["Kent County Council",11984710,"REDACTED - Personal Payment","2020-04-14",2386.8000000000002,"E","1KA","School Resources","528",{"$f":"VLOOKUP(I20473,'[1]Sub Lookup'!$A$1:$B$65536,2,FALSE)","v":"Early Years Education"}]
["Kent County Council",11984919,"REDACTED - Personal Payment","2020-04-14",503.88,"E","1KA","School Resources","528",{"$f":"VLOOKUP(I20476,'[1]Sub Lookup'!$A$1:$B$65536,2,FALSE)","v":"Early Years Education"}]
["Kent County Council",11984737,"REDACTED - Personal Payment","2020-04-14",2758.08,"E","1KA","School Resources","528",{"$f":"VLOOKUP(I20492,'[1]Sub Lookup'!$A$1:$B$65536,2,FALSE)","v":"Early Years Education"}]
["Kent County Council",11985243,"REDACTED - Personal Payment","2020-04-14",1617.72,"E","1KA","School Resources","528",{"$f":"VLOOKUP(I20506,'[1]Sub Lookup'!$A$1:$B$65536,2,FALSE)","v":"Early Years Education"}]
["Kent County Council",11985078,"REDACTED - Personal Payment","2020-04-14",1060.8,"E","1KA","School Resources","528",{"$f":"VLOOKUP(I20520,'[1]Sub Lookup'!$A$1:$B$65536,2,FALSE)","v":"Early Years Education"}]
["Kent County Council",11985060,"REDACTED - Personal Payment","2020-04-14",1594.32,"E","1KA","School Resources","528",{"$f":"VLOOKUP(I20539,'[1]Sub Lookup'!$A$1:$B$65536,2,FALSE)","v":"Early Years Education"}]
["Kent County Council",11984771,"REDACTED - Personal Payment","2020-04-14",870.24,"E","1KA","School Resources","528",{"$f":"VLOOKUP(I20544,'[1]Sub Lookup'!$A$1:$B$65536,2,FALSE)","v":"Early Years Education"}]
["Kent County Council",11985136,"REDACTED - Personal Payment","2020-04-14",1113.8399999999999,"E","1KA","School Resources","528",{"$f":"VLOOKUP(I20560,'[1]Sub Lookup'!$A$1:$B$65536,2,FALSE)","v":"Early Years Education"}]
["Kent County Council",11984615,"REDACTED - Personal Payment","2020-04-14",450.84000000000003,"E","1KA","School Resources","528",{"$f":"VLOOKUP(I20572,'[1]Sub Lookup'!$A$1:$B$65536,2,FALSE)","v":"Early Years Education"}]
["Kent County Council",11985218,"REDACTED - Personal Payment","2020-04-14",397.8,"E","1KA","School Resources","528",{"$f":"VLOOKUP(I20588,'[1]Sub Lookup'!$A$1:$B$65536,2,FALSE)","v":"Early Years Education"}]
["Kent County Council",11985099,"REDACTED - Personal Payment","2020-04-14",1071.1200000000001,"E","1KA","School Resources","528",{"$f":"VLOOKUP(I20605,'[1]Sub Lookup'!$A$1:$B$65536,2,FALSE)","v":"Early Years Education"}]
["Kent County Council",11984592,"REDACTED - Personal Payment","2020-04-14",1780.3500000000001,"E","1KA","School Resources","528",{"$f":"VLOOKUP(I20612,'[1]Sub Lookup'!$A$1:$B$65536,2,FALSE)","v":"Early Years Education"}]
["Kent County Council",11862502,"REDACTED - Personal Payment","2020-04-14",642.84,"S","5KF","Physical support - 65+ Long Term Support: Community: Direct Payments","530",{"$f":"VLOOKUP(I20632,'[1]Sub Lookup'!$A$1:$B$65536,2,FALSE)","v":"Commissioned Service - Other"}]
["Kent County Council",11862926,"REDACTED - Personal Payment","2020-04-14",2800,"S","5KF","Physical support - 65+ Long Term Support: Community: Direct Payments","530",{"$f":"VLOOKUP(I20638,'[1]Sub Lookup'!$A$1:$B$65536,2,FALSE)","v":"Commissioned Service - Other"}]
["Kent County Council",11967775,"REDACTED - Personal Payment","2020-04-14",302,"S","5AF","Learning Disability Support - 18 64 Long Term Support: Community: Direct Payments","530",{"$f":"VLOOKUP(I20656,'[1]Sub Lookup'!$A$1:$B$65536,2,FALSE)","v":"Commissioned Service - Other"}]
["Kent County Council",11985781,"REDACTED - Personal Payment","2020-04-14",529.36,"S","5AF","Learning Disability Support - 18 64 Long Term Support: Community: Direct Payments","523",{"$f":"VLOOKUP(I20671,'[1]Sub Lookup'!$A$1:$B$65536,2,FALSE)","v":"Private Contractors"}]
["Kent County Council",11862922,"REDACTED - Personal Payment","2020-04-14",-294.2,"S","5AK","Learning Disability Support - 18 64 Long Term Support: Fairer Charging Income","937",{"$f":"VLOOKUP(I20680,'[1]Sub Lookup'!$A$1:$B$65536,2,FALSE)","v":"KASS Notional Income"}]
["Kent County Council",11915948,"REDACTED - Personal Payment","2020-04-14",915.08,"S","5KF","Physical support - 65+ Long Term Support: Community: Direct Payments","530",{"$f":"VLOOKUP(I20700,'[1]Sub Lookup'!$A$1:$B$65536,2,FALSE)","v":"Commissioned Service - Other"}]
["Kent County Council",11985611,"REDACTED - Personal Payment","2020-04-14",348.8,"S","5JF","Physical Support - 18 64 Long Term Support: Community: Direct Payments","523",{"$f":"VLOOKUP(I20704,'[1]Sub Lookup'!$A$1:$B$65536,2,FALSE)","v":"Private Contractors"}]
["Kent County Council",11985616,"REDACTED - Personal Payment","2020-04-14",697.6,"S","5AF","Learning Disability Support - 18 64 Long Term Support: Community: Direct Payments","523",{"$f":"VLOOKUP(I20724,'[1]Sub Lookup'!$A$1:$B$65536,2,FALSE)","v":"Private Contractors"}]
["Kent County Council",11985536,"REDACTED - Personal Payment","2020-04-14",1227.1200000000001,"S","5AF","Learning Disability Support - 18 64 Long Term Support: Community: Direct Payments","523",{"$f":"VLOOKUP(I20733,'[1]Sub Lookup'!$A$1:$B$65536,2,FALSE)","v":"Private Contractors"}]
["Kent County Council",11985567,"REDACTED - Personal Payment","2020-04-14",803.72,"S","5AF","Learning Disability Support - 18 64 Long Term Support: Community: Direct Payments","523",{"$f":"VLOOKUP(I20748,'[1]Sub Lookup'!$A$1:$B$65536,2,FALSE)","v":"Private Contractors"}]
["Kent County Council",11985533,"REDACTED - Personal Payment","2020-04-14",348.8,"S","5AF","Learning Disability Support - 18 64 Long Term Support: Community: Direct Payments","523",{"$f":"VLOOKUP(I20768,'[1]Sub Lookup'!$A$1:$B$65536,2,FALSE)","v":"Private Contractors"}]
["Kent County Council",11985512,"REDACTED - Personal Payment","2020-04-14",954,"S","5AF","Learning Disability Support - 18 64 Long Term Support: Community: Direct Payments","523",{"$f":"VLOOKUP(I20770,'[1]Sub Lookup'!$A$1:$B$65536,2,FALSE)","v":"Private Contractors"}]
["Kent County Council",11985493,"REDACTED - Personal Payment","2020-04-14",910.56000000000006,"S","5AF","Learning Disability Support - 18 64 Long Term Support: Community: Direct Payments","523",{"$f":"VLOOKUP(I20792,'[1]Sub Lookup'!$A$1:$B$65536,2,FALSE)","v":"Private Contractors"}]
["Kent County Council",11985516,"REDACTED - Personal Payment","2020-04-14",1295.8,"S","5AF","Learning Disability Support - 18 64 Long Term Support: Community: Direct Payments","523",{"$f":"VLOOKUP(I20799,'[1]Sub Lookup'!$A$1:$B$65536,2,FALSE)","v":"Private Contractors"}]
["Kent County Council",11985522,"REDACTED - Personal Payment","2020-04-14",3187.52,"S","5AF","Learning Disability Support - 18 64 Long Term Support: Community: Direct Payments","523",{"$f":"VLOOKUP(I20816,'[1]Sub Lookup'!$A$1:$B$65536,2,FALSE)","v":"Private Contractors"}]
["Kent County Council",11985801,"REDACTED - Personal Payment","2020-04-14",1918.8,"S","5AF","Learning Disability Support - 18 64 Long Term Support: Community: Direct Payments","523",{"$f":"VLOOKUP(I20836,'[1]Sub Lookup'!$A$1:$B$65536,2,FALSE)","v":"Private Contractors"}]
["Kent County Council",11985711,"REDACTED - Personal Payment","2020-04-14",836,"S","5AF","Learning Disability Support - 18 64 Long Term Support: Community: Direct Payments","523",{"$f":"VLOOKUP(I20850,'[1]Sub Lookup'!$A$1:$B$65536,2,FALSE)","v":"Private Contractors"}]
["Kent County Council",11985472,"REDACTED - Personal Payment","2020-04-14",304,"S","5AF","Learning Disability Support - 18 64 Long Term Support: Community: Direct Payments","523",{"$f":"VLOOKUP(I20860,'[1]Sub Lookup'!$A$1:$B$65536,2,FALSE)","v":"Private Contractors"}]
["Kent County Council",11985480,"REDACTED - Personal Payment","2020-04-14",4384.4400000000005,"S","5AF","Learning Disability Support - 18 64 Long Term Support: Community: Direct Payments","523",{"$f":"VLOOKUP(I20865,'[1]Sub Lookup'!$A$1:$B$65536,2,FALSE)","v":"Private Contractors"}]
["Kent County Council",11985759,"REDACTED - Personal Payment","2020-04-14",280,"S","5AF","Learning Disability Support - 18 64 Long Term Support: Community: Direct Payments","523",{"$f":"VLOOKUP(I20884,'[1]Sub Lookup'!$A$1:$B$65536,2,FALSE)","v":"Private Contractors"}]
["Kent County Council",11985650,"REDACTED - Personal Payment","2020-04-14",527.68000000000006,"S","5AF","Learning Disability Support - 18 64 Long Term Support: Community: Direct Payments","523",{"$f":"VLOOKUP(I20891,'[1]Sub Lookup'!$A$1:$B$65536,2,FALSE)","v":"Private Contractors"}]
["Kent County Council",11985637,"REDACTED - Personal Payment","2020-04-14",2030,"S","5AF","Learning Disability Support - 18 64 Long Term Support: Community: Direct Payments","523",{"$f":"VLOOKUP(I20912,'[1]Sub Lookup'!$A$1:$B$65536,2,FALSE)","v":"Private Contractors"}]
["Kent County Council",11985723,"REDACTED - Personal Payment","2020-04-14",348.8,"S","5AF","Learning Disability Support - 18 64 Long Term Support: Community: Direct Payments","523",{"$f":"VLOOKUP(I20928,'[1]Sub Lookup'!$A$1:$B$65536,2,FALSE)","v":"Private Contractors"}]
["Kent County Council",11985707,"REDACTED - Personal Payment","2020-04-14",448,"S","5AF","Learning Disability Support - 18 64 Long Term Support: Community: Direct Payments","523",{"$f":"VLOOKUP(I20931,'[1]Sub Lookup'!$A$1:$B$65536,2,FALSE)","v":"Private Contractors"}]
["Kent County Council",11985731,"REDACTED - Personal Payment","2020-04-14",292.8,"S","5AF","Learning Disability Support - 18 64 Long Term Support: Community: Direct Payments","523",{"$f":"VLOOKUP(I20952,'[1]Sub Lookup'!$A$1:$B$65536,2,FALSE)","v":"Private Contractors"}]
["Kent County Council",11987392,"REDACTED - Personal Payment","2020-04-14",421.2,"S","5EH","Mental Health Support - 18 64 Long Term Support: Community: Supported Living","530",{"$f":"VLOOKUP(I20959,'[1]Sub Lookup'!$A$1:$B$65536,2,FALSE)","v":"Commissioned Service - Other"}]
["Kent County Council",11967623,"REDACTED - Personal Payment","2020-04-15",2817.32,"S","5AF","Learning Disability Support - 18 64 Long Term Support: Community: Direct Payments","530",{"$f":"VLOOKUP(I20978,'[1]Sub Lookup'!$A$1:$B$65536,2,FALSE)","v":"Commissioned Service - Other"}]
["Kent County Council",11862598,"REDACTED - Personal Payment","2020-04-15",1828.64,"S","5KF","Physical support - 65+ Long Term Support: Community: Direct Payments","530",{"$f":"VLOOKUP(I20996,'[1]Sub Lookup'!$A$1:$B$65536,2,FALSE)","v":"Commissioned Service - Other"}]
["Kent County Council",11967632,"REDACTED - Personal Payment","2020-04-15",2089.8000000000002,"S","5AF","Learning Disability Support - 18 64 Long Term Support: Community: Direct Payments","530",{"$f":"VLOOKUP(I21011,'[1]Sub Lookup'!$A$1:$B$65536,2,FALSE)","v":"Commissioned Service - Other"}]
["Kent County Council",11967629,"REDACTED - Personal Payment","2020-04-15",1885.16,"S","5KF","Physical support - 65+ Long Term Support: Community: Direct Payments","530",{"$f":"VLOOKUP(I21020,'[1]Sub Lookup'!$A$1:$B$65536,2,FALSE)","v":"Commissioned Service - Other"}]
["Kent County Council",11989952,"REDACTED - Personal Payment","2020-04-15",315.79000000000002,"E","1RX","Admissions & Transport","226",{"$f":"VLOOKUP(I21027,'[1]Sub Lookup'!$A$1:$B$65536,2,FALSE)","v":"Home to School Transport - Cash allows"}]
["Kent County Council",11989786,"REDACTED - Personal Payment","2020-04-15",315.79000000000002,"E","1RX","Admissions & Transport","226",{"$f":"VLOOKUP(I21044,'[1]Sub Lookup'!$A$1:$B$65536,2,FALSE)","v":"Home to School Transport - Cash allows"}]
["Kent County Council",11989884,"REDACTED - Personal Payment","2020-04-15",315.79000000000002,"E","1RX","Admissions & Transport","226",{"$f":"VLOOKUP(I21064,'[1]Sub Lookup'!$A$1:$B$65536,2,FALSE)","v":"Home to School Transport - Cash allows"}]
["Kent County Council",11990168,"REDACTED - Personal Payment","2020-04-15",505.26,"E","1RX","Admissions & Transport","226",{"$f":"VLOOKUP(I21077,'[1]Sub Lookup'!$A$1:$B$65536,2,FALSE)","v":"Home to School Transport - Cash allows"}]
["Kent County Council",11990164,"REDACTED - Personal Payment","2020-04-15",789.47,"E","1RX","Admissions & Transport","226",{"$f":"VLOOKUP(I21079,'[1]Sub Lookup'!$A$1:$B$65536,2,FALSE)","v":"Home to School Transport - Cash allows"}]
["Kent County Council",11989800,"REDACTED - Personal Payment","2020-04-15",263.20999999999998,"E","1RX","Admissions & Transport","226",{"$f":"VLOOKUP(I21095,'[1]Sub Lookup'!$A$1:$B$65536,2,FALSE)","v":"Home to School Transport - Cash allows"}]
["Kent County Council",11975177,"REDACTED - Personal Payment","2020-04-16",-304,"S","5KK","Physical support - 65+ Long Term Support: Fairer Charging Income","937",{"$f":"VLOOKUP(I21110,'[1]Sub Lookup'!$A$1:$B$65536,2,FALSE)","v":"KASS Notional Income"}]
["Kent County Council",11975243,"REDACTED - Personal Payment","2020-04-16",-314.68,"S","5BK","Learning Disability Support - 65+ Long Term Support: Fairer Charging Income","937",{"$f":"VLOOKUP(I21119,'[1]Sub Lookup'!$A$1:$B$65536,2,FALSE)","v":"KASS Notional Income"}]
["Kent County Council",11975204,"REDACTED - Personal Payment","2020-04-16",411.72,"S","5JF","Physical Support - 18 64 Long Term Support: Community: Direct Payments","530",{"$f":"VLOOKUP(I21143,'[1]Sub Lookup'!$A$1:$B$65536,2,FALSE)","v":"Commissioned Service - Other"}]
["Kent County Council",11975231,"REDACTED - Personal Payment","2020-04-16",844,"S","5JF","Physical Support - 18 64 Long Term Support: Community: Direct Payments","530",{"$f":"VLOOKUP(I21147,'[1]Sub Lookup'!$A$1:$B$65536,2,FALSE)","v":"Commissioned Service - Other"}]
["Kent County Council",11993249,"REDACTED - Personal Payment","2020-04-16",1567.64,"S","5AF","Learning Disability Support - 18 64 Long Term Support: Community: Direct Payments","530",{"$f":"VLOOKUP(I21163,'[1]Sub Lookup'!$A$1:$B$65536,2,FALSE)","v":"Commissioned Service - Other"}]
["Kent County Council",11975321,"REDACTED - Personal Payment","2020-04-17",1679.3600000000001,"S","5JF","Physical Support - 18 64 Long Term Support: Community: Direct Payments","530",{"$f":"VLOOKUP(I21176,'[1]Sub Lookup'!$A$1:$B$65536,2,FALSE)","v":"Commissioned Service - Other"}]
["Kent County Council",11976154,"REDACTED - Personal Payment","2020-04-17",9556.24,"S","5AF","Learning Disability Support - 18 64 Long Term Support: Community: Direct Payments","530",{"$f":"VLOOKUP(I21191,'[1]Sub Lookup'!$A$1:$B$65536,2,FALSE)","v":"Commissioned Service - Other"}]
["Kent County Council",11867380,"REDACTED - Personal Payment","2020-04-17",451.40000000000003,"S","5JF","Physical Support - 18 64 Long Term Support: Community: Direct Payments","530",{"$f":"VLOOKUP(I21209,'[1]Sub Lookup'!$A$1:$B$65536,2,FALSE)","v":"Commissioned Service - Other"}]
["Kent County Council",11994242,"REDACTED - Personal Payment","2020-04-17",770.84,"S","5KF","Physical support - 65+ Long Term Support: Community: Direct Payments","530",{"$f":"VLOOKUP(I21215,'[1]Sub Lookup'!$A$1:$B$65536,2,FALSE)","v":"Commissioned Service - Other"}]
["Kent County Council",11867408,"REDACTED - Personal Payment","2020-04-17",409.6,"S","5KF","Physical support - 65+ Long Term Support: Community: Direct Payments","530",{"$f":"VLOOKUP(I21231,'[1]Sub Lookup'!$A$1:$B$65536,2,FALSE)","v":"Commissioned Service - Other"}]
["Kent County Council",11917812,"REDACTED - Personal Payment","2020-04-17",1847.44,"S","5KF","Physical support - 65+ Long Term Support: Community: Direct Payments","530",{"$f":"VLOOKUP(I21242,'[1]Sub Lookup'!$A$1:$B$65536,2,FALSE)","v":"Commissioned Service - Other"}]
["Kent County Council",11917844,"REDACTED - Personal Payment","2020-04-17",796.4,"S","5BF","Learning Disability Support - 65+ Long Term Support: Community: Direct Payments","530",{"$f":"VLOOKUP(I21259,'[1]Sub Lookup'!$A$1:$B$65536,2,FALSE)","v":"Commissioned Service - Other"}]
["Kent County Council",11916239,"REDACTED - Personal Payment","2020-04-17",-485.32,"S","5KK","Physical support - 65+ Long Term Support: Fairer Charging Income","937",{"$f":"VLOOKUP(I21275,'[1]Sub Lookup'!$A$1:$B$65536,2,FALSE)","v":"KASS Notional Income"}]
["Kent County Council",11960757,"REDACTED - Personal Payment","2020-04-17",-343.2,"S","5KK","Physical support - 65+ Long Term Support: Fairer Charging Income","937",{"$f":"VLOOKUP(I21283,'[1]Sub Lookup'!$A$1:$B$65536,2,FALSE)","v":"KASS Notional Income"}]
["Kent County Council",11997094,"REDACTED - Personal Payment","2020-04-20",265.2,"E","1KA","School Resources","528",{"$f":"VLOOKUP(I21299,'[1]Sub Lookup'!$A$1:$B$65536,2,FALSE)","v":"Early Years Education"}]
["Kent County Council",11867637,"REDACTED - Personal Payment","2020-04-20",-343.2,"S","5KK","Physical support - 65+ Long Term Support: Fairer Charging Income","937",{"$f":"VLOOKUP(I21308,'[1]Sub Lookup'!$A$1:$B$65536,2,FALSE)","v":"KASS Notional Income"}]
["Kent County Council",11867545,"REDACTED - Personal Payment","2020-04-20",1148.76,"S","5JF","Physical Support - 18 64 Long Term Support: Community: Direct Payments","530",{"$f":"VLOOKUP(I21327,'[1]Sub Lookup'!$A$1:$B$65536,2,FALSE)","v":"Commissioned Service - Other"}]
["Kent County Council",11980246,"REDACTED - Personal Payment","2020-04-20",411.72,"S","5JF","Physical Support - 18 64 Long Term Support: Community: Direct Payments","530",{"$f":"VLOOKUP(I21343,'[1]Sub Lookup'!$A$1:$B$65536,2,FALSE)","v":"Commissioned Service - Other"}]
["Kent County Council",11980282,"REDACTED - Personal Payment","2020-04-20",744.28,"S","5AF","Learning Disability Support - 18 64 Long Term Support: Community: Direct Payments","530",{"$f":"VLOOKUP(I21355,'[1]Sub Lookup'!$A$1:$B$65536,2,FALSE)","v":"Commissioned Service - Other"}]
["Kent County Council",11983437,"REDACTED - Personal Payment","2020-04-20",396,"S","5JF","Physical Support - 18 64 Long Term Support: Community: Direct Payments","530",{"$f":"VLOOKUP(I21371,'[1]Sub Lookup'!$A$1:$B$65536,2,FALSE)","v":"Commissioned Service - Other"}]
["Kent County Council",11980297,"REDACTED - Personal Payment","2020-04-20",896,"S","5AF","Learning Disability Support - 18 64 Long Term Support: Community: Direct Payments","530",{"$f":"VLOOKUP(I21374,'[1]Sub Lookup'!$A$1:$B$65536,2,FALSE)","v":"Commissioned Service - Other"}]
["Kent County Council",11983371,"REDACTED - Personal Payment","2020-04-20",2194.16,"S","5KF","Physical support - 65+ Long Term Support: Community: Direct Payments","530",{"$f":"VLOOKUP(I21395,'[1]Sub Lookup'!$A$1:$B$65536,2,FALSE)","v":"Commissioned Service - Other"}]
["Kent County Council",11922872,"REDACTED - Personal Payment","2020-04-20",541.68000000000006,"S","5AF","Learning Disability Support - 18 64 Long Term Support: Community: Direct Payments","530",{"$f":"VLOOKUP(I21411,'[1]Sub Lookup'!$A$1:$B$65536,2,FALSE)","v":"Commissioned Service - Other"}]
["Kent County Council",11980315,"REDACTED - Personal Payment","2020-04-20",-486.72,"S","5KK","Physical support - 65+ Long Term Support: Fairer Charging Income","937",{"$f":"VLOOKUP(I21421,'[1]Sub Lookup'!$A$1:$B$65536,2,FALSE)","v":"KASS Notional Income"}]
["Kent County Council",11867605,"REDACTED - Personal Payment","2020-04-20",-318.84000000000003,"S","5KK","Physical support - 65+ Long Term Support: Fairer Charging Income","937",{"$f":"VLOOKUP(I21439,'[1]Sub Lookup'!$A$1:$B$65536,2,FALSE)","v":"KASS Notional Income"}]
["Kent County Council",11922800,"REDACTED - Personal Payment","2020-04-20",300.16000000000003,"S","5AF","Learning Disability Support - 18 64 Long Term Support: Community: Direct Payments","530",{"$f":"VLOOKUP(I21440,'[1]Sub Lookup'!$A$1:$B$65536,2,FALSE)","v":"Commissioned Service - Other"}]
["Kent County Council",11980148,"REDACTED - Personal Payment","2020-04-20",1885.16,"S","5KF","Physical support - 65+ Long Term Support: Community: Direct Payments","530",{"$f":"VLOOKUP(I21463,'[1]Sub Lookup'!$A$1:$B$65536,2,FALSE)","v":"Commissioned Service - Other"}]
["Kent County Council",11983299,"REDACTED - Personal Payment","2020-04-20",331.04,"S","5EF","Mental Health Support - 18 64 Long Term Support: Community: Direct Payments","530",{"$f":"VLOOKUP(I21470,'[1]Sub Lookup'!$A$1:$B$65536,2,FALSE)","v":"Commissioned Service - Other"}]
["Kent County Council",11922860,"REDACTED - Personal Payment","2020-04-20",5051.92,"S","5AF","Learning Disability Support - 18 64 Long Term Support: Community: Direct Payments","530",{"$f":"VLOOKUP(I21487,'[1]Sub Lookup'!$A$1:$B$65536,2,FALSE)","v":"Commissioned Service - Other"}]
["Kent County Council",11928057,"REDACTED - Personal Payment","2020-04-20",561.28,"S","5JF","Physical Support - 18 64 Long Term Support: Community: Direct Payments","530",{"$f":"VLOOKUP(I21494,'[1]Sub Lookup'!$A$1:$B$65536,2,FALSE)","v":"Commissioned Service - Other"}]
["Kent County Council",11867533,"REDACTED - Personal Payment","2020-04-20",445.56,"S","5AF","Learning Disability Support - 18 64 Long Term Support: Community: Direct Payments","530",{"$f":"VLOOKUP(I21520,'[1]Sub Lookup'!$A$1:$B$65536,2,FALSE)","v":"Commissioned Service - Other"}]
["Kent County Council",11928077,"REDACTED - Personal Payment","2020-04-20",1446.4,"S","5KF","Physical support - 65+ Long Term Support: Community: Direct Payments","530",{"$f":"VLOOKUP(I21531,'[1]Sub Lookup'!$A$1:$B$65536,2,FALSE)","v":"Commissioned Service - Other"}]
["Kent County Council",11939660,"REDACTED - Personal Payment","2020-04-20",422.40000000000003,"S","5JF","Physical Support - 18 64 Long Term Support: Community: Direct Payments","530",{"$f":"VLOOKUP(I21538,'[1]Sub Lookup'!$A$1:$B$65536,2,FALSE)","v":"Commissioned Service - Other"}]
["Kent County Council",11939631,"REDACTED - Personal Payment","2020-04-21",3016.04,"S","5KF","Physical support - 65+ Long Term Support: Community: Direct Payments","530",{"$f":"VLOOKUP(I21553,'[1]Sub Lookup'!$A$1:$B$65536,2,FALSE)","v":"Commissioned Service - Other"}]
["Kent County Council",11928322,"REDACTED - Personal Payment","2020-04-21",809.88,"S","5AF","Learning Disability Support - 18 64 Long Term Support: Community: Direct Payments","530",{"$f":"VLOOKUP(I21562,'[1]Sub Lookup'!$A$1:$B$65536,2,FALSE)","v":"Commissioned Service - Other"}]
["Kent County Council",12000309,"REDACTED - Personal Payment","2020-04-21",406.40000000000003,"S","5AF","Learning Disability Support - 18 64 Long Term Support: Community: Direct Payments","530",{"$f":"VLOOKUP(I21586,'[1]Sub Lookup'!$A$1:$B$65536,2,FALSE)","v":"Commissioned Service - Other"}]
["Kent County Council",11928426,"REDACTED - Personal Payment","2020-04-21",668,"S","5JF","Physical Support - 18 64 Long Term Support: Community: Direct Payments","530",{"$f":"VLOOKUP(I21599,'[1]Sub Lookup'!$A$1:$B$65536,2,FALSE)","v":"Commissioned Service - Other"}]
["Kent County Council",12000165,"REDACTED - Personal Payment","2020-04-21",-343.2,"S","5KK","Physical support - 65+ Long Term Support: Fairer Charging Income","937",{"$f":"VLOOKUP(I21606,'[1]Sub Lookup'!$A$1:$B$65536,2,FALSE)","v":"KASS Notional Income"}]
["Kent County Council",12000192,"REDACTED - Personal Payment","2020-04-21",946,"S","5KF","Physical support - 65+ Long Term Support: Community: Direct Payments","530",{"$f":"VLOOKUP(I21619,'[1]Sub Lookup'!$A$1:$B$65536,2,FALSE)","v":"Commissioned Service - Other"}]
["Kent County Council",12000256,"REDACTED - Personal Payment","2020-04-21",-388.12,"S","5KK","Physical support - 65+ Long Term Support: Fairer Charging Income","937",{"$f":"VLOOKUP(I21630,'[1]Sub Lookup'!$A$1:$B$65536,2,FALSE)","v":"KASS Notional Income"}]
["Kent County Council",12000263,"REDACTED - Personal Payment","2020-04-21",-272.06,"S","5KK","Physical support - 65+ Long Term Support: Fairer Charging Income","937",{"$f":"VLOOKUP(I21648,'[1]Sub Lookup'!$A$1:$B$65536,2,FALSE)","v":"KASS Notional Income"}]
["Kent County Council",12000836,"REDACTED - Personal Payment","2020-04-21",4557.1500000000005,"S","5KU","Physical support - 65+ Short Term - Other - Residential","530",{"$f":"VLOOKUP(I21667,'[1]Sub Lookup'!$A$1:$B$65536,2,FALSE)","v":"Commissioned Service - Other"}]
["Kent County Council",11928991,"REDACTED - Personal Payment","2020-04-22",810,"S","5AF","Learning Disability Support - 18 64 Long Term Support: Community: Direct Payments","530",{"$f":"VLOOKUP(I21674,'[1]Sub Lookup'!$A$1:$B$65536,2,FALSE)","v":"Commissioned Service - Other"}]
["Kent County Council",11991003,"REDACTED - Personal Payment","2020-04-22",3080,"S","5KF","Physical support - 65+ Long Term Support: Community: Direct Payments","530",{"$f":"VLOOKUP(I21685,'[1]Sub Lookup'!$A$1:$B$65536,2,FALSE)","v":"Commissioned Service - Other"}]
["Kent County Council",12002442,"REDACTED - Personal Payment","2020-04-22",366.43,"S","5AF","Learning Disability Support - 18 64 Long Term Support: Community: Direct Payments","530",{"$f":"VLOOKUP(I21698,'[1]Sub Lookup'!$A$1:$B$65536,2,FALSE)","v":"Commissioned Service - Other"}]
["Kent County Council",12002424,"REDACTED - Personal Payment","2020-04-22",390,"S","5EF","Mental Health Support - 18 64 Long Term Support: Community: Direct Payments","530",{"$f":"VLOOKUP(I21714,'[1]Sub Lookup'!$A$1:$B$65536,2,FALSE)","v":"Commissioned Service - Other"}]
["Kent County Council",11928901,"REDACTED - Personal Payment","2020-04-22",1944.04,"S","5AF","Learning Disability Support - 18 64 Long Term Support: Community: Direct Payments","530",{"$f":"VLOOKUP(I21722,'[1]Sub Lookup'!$A$1:$B$65536,2,FALSE)","v":"Commissioned Service - Other"}]
["Kent County Council",11871738,"REDACTED - Personal Payment","2020-04-22",544.48,"S","5KF","Physical support - 65+ Long Term Support: Community: Direct Payments","530",{"$f":"VLOOKUP(I21742,'[1]Sub Lookup'!$A$1:$B$65536,2,FALSE)","v":"Commissioned Service - Other"}]
["Kent County Council",11987469,"REDACTED - Personal Payment","2020-04-22",1885.16,"S","5KF","Physical support - 65+ Long Term Support: Community: Direct Payments","530",{"$f":"VLOOKUP(I21751,'[1]Sub Lookup'!$A$1:$B$65536,2,FALSE)","v":"Commissioned Service - Other"}]
["Kent County Council",11928964,"REDACTED - Personal Payment","2020-04-22",320,"S","5JF","Physical Support - 18 64 Long Term Support: Community: Direct Payments","530",{"$f":"VLOOKUP(I21766,'[1]Sub Lookup'!$A$1:$B$65536,2,FALSE)","v":"Commissioned Service - Other"}]
["Kent County Council",12006577,"REDACTED - Personal Payment","2020-04-23",265.08,"E","1PA","Additional Educational Needs and Resources","528",{"$f":"VLOOKUP(I21780,'[1]Sub Lookup'!$A$1:$B$65536,2,FALSE)","v":"Early Years Education"}]
["Kent County Council",11871351,"REDACTED - Personal Payment","2020-04-23",700,"S","5AF","Learning Disability Support - 18 64 Long Term Support: Community: Direct Payments","530",{"$f":"VLOOKUP(I21790,'[1]Sub Lookup'!$A$1:$B$65536,2,FALSE)","v":"Commissioned Service - Other"}]
["Kent County Council",11871359,"REDACTED - Personal Payment","2020-04-23",425.52,"S","5EF","Mental Health Support - 18 64 Long Term Support: Community: Direct Payments","530",{"$f":"VLOOKUP(I21810,'[1]Sub Lookup'!$A$1:$B$65536,2,FALSE)","v":"Commissioned Service - Other"}]
["Kent County Council",11871371,"REDACTED - Personal Payment","2020-04-23",542.79999999999995,"S","5KF","Physical support - 65+ Long Term Support: Community: Direct Payments","530",{"$f":"VLOOKUP(I21827,'[1]Sub Lookup'!$A$1:$B$65536,2,FALSE)","v":"Commissioned Service - Other"}]
["Kent County Council",11931624,"REDACTED - Personal Payment","2020-04-23",480.56,"S","5NF","Sensory Support - 18 64 Long Term Support: Community: Direct Payments","530",{"$f":"VLOOKUP(I21834,'[1]Sub Lookup'!$A$1:$B$65536,2,FALSE)","v":"Commissioned Service - Other"}]
["Kent County Council",11931663,"REDACTED - Personal Payment","2020-04-23",1531.32,"S","5KF","Physical support - 65+ Long Term Support: Community: Direct Payments","530",{"$f":"VLOOKUP(I21846,'[1]Sub Lookup'!$A$1:$B$65536,2,FALSE)","v":"Commissioned Service - Other"}]
["Kent County Council",11871409,"REDACTED - Personal Payment","2020-04-24",754.6,"S","5AF","Learning Disability Support - 18 64 Long Term Support: Community: Direct Payments","530",{"$f":"VLOOKUP(I21858,'[1]Sub Lookup'!$A$1:$B$65536,2,FALSE)","v":"Commissioned Service - Other"}]
["Kent County Council",11934516,"REDACTED - Personal Payment","2020-04-24",663.4,"S","5AF","Learning Disability Support - 18 64 Long Term Support: Community: Direct Payments","530",{"$f":"VLOOKUP(I21878,'[1]Sub Lookup'!$A$1:$B$65536,2,FALSE)","v":"Commissioned Service - Other"}]
["Kent County Council",11990898,"REDACTED - Personal Payment","2020-04-24",553.56000000000006,"S","5JF","Physical Support - 18 64 Long Term Support: Community: Direct Payments","530",{"$f":"VLOOKUP(I21893,'[1]Sub Lookup'!$A$1:$B$65536,2,FALSE)","v":"Commissioned Service - Other"}]
["Kent County Council",11871449,"REDACTED - Personal Payment","2020-04-24",1290.1200000000001,"S","5AF","Learning Disability Support - 18 64 Long Term Support: Community: Direct Payments","530",{"$f":"VLOOKUP(I21902,'[1]Sub Lookup'!$A$1:$B$65536,2,FALSE)","v":"Commissioned Service - Other"}]
["Kent County Council",11934534,"REDACTED - Personal Payment","2020-04-24",-250.96,"S","5AK","Learning Disability Support - 18 64 Long Term Support: Fairer Charging Income","937",{"$f":"VLOOKUP(I21912,'[1]Sub Lookup'!$A$1:$B$65536,2,FALSE)","v":"KASS Notional Income"}]
["Kent County Council",11934543,"REDACTED - Personal Payment","2020-04-24",915.80000000000007,"S","5AF","Learning Disability Support - 18 64 Long Term Support: Community: Direct Payments","530",{"$f":"VLOOKUP(I21930,'[1]Sub Lookup'!$A$1:$B$65536,2,FALSE)","v":"Commissioned Service - Other"}]
["Kent County Council",11934519,"REDACTED - Personal Payment","2020-04-24",703,"S","5NF","Sensory Support - 18 64 Long Term Support: Community: Direct Payments","530",{"$f":"VLOOKUP(I21946,'[1]Sub Lookup'!$A$1:$B$65536,2,FALSE)","v":"Commissioned Service - Other"}]
["Kent County Council",11990718,"REDACTED - Personal Payment","2020-04-24",1885.16,"S","5KF","Physical support - 65+ Long Term Support: Community: Direct Payments","530",{"$f":"VLOOKUP(I21959,'[1]Sub Lookup'!$A$1:$B$65536,2,FALSE)","v":"Commissioned Service - Other"}]
["Kent County Council",12000268,"REDACTED - Personal Payment","2020-04-24",400,"S","5SF","Support with Memory & Cognition - 18 64 Long Term Support: Community: Direct Payments","530",{"$f":"VLOOKUP(I21970,'[1]Sub Lookup'!$A$1:$B$65536,2,FALSE)","v":"Commissioned Service - Other"}]
["Kent County Council",11980420,"REDACTED - Personal Payment","2020-04-24",700,"S","5KG","Physical support - 65+ Long Term Support: Community: Home Care","530",{"$f":"VLOOKUP(I21978,'[1]Sub Lookup'!$A$1:$B$65536,2,FALSE)","v":"Commissioned Service - Other"}]
["Kent County Council",11996693,"REDACTED - Personal Payment","2020-04-24",301,"S","5KG","Physical support - 65+ Long Term Support: Community: Home Care","530",{"$f":"VLOOKUP(I21998,'[1]Sub Lookup'!$A$1:$B$65536,2,FALSE)","v":"Commissioned Service - Other"}]
["Kent County Council",12008225,"REDACTED - Personal Payment","2020-04-24",4448,"S","5KB","Physical support - 65+ Long Term Support: Nursing","530",{"$f":"VLOOKUP(I22014,'[1]Sub Lookup'!$A$1:$B$65536,2,FALSE)","v":"Commissioned Service - Other"}]
["Kent County Council",11941604,"REDACTED - Personal Payment","2020-04-27",414,"S","5JF","Physical Support - 18 64 Long Term Support: Community: Direct Payments","530",{"$f":"VLOOKUP(I22025,'[1]Sub Lookup'!$A$1:$B$65536,2,FALSE)","v":"Commissioned Service - Other"}]
["Kent County Council",11941484,"REDACTED - Personal Payment","2020-04-27",529,"S","5AF","Learning Disability Support - 18 64 Long Term Support: Community: Direct Payments","530",{"$f":"VLOOKUP(I22038,'[1]Sub Lookup'!$A$1:$B$65536,2,FALSE)","v":"Commissioned Service - Other"}]
["Kent County Council",11941333,"REDACTED - Personal Payment","2020-04-27",252,"S","5KF","Physical support - 65+ Long Term Support: Community: Direct Payments","530",{"$f":"VLOOKUP(I22044,'[1]Sub Lookup'!$A$1:$B$65536,2,FALSE)","v":"Commissioned Service - Other"}]
["Kent County Council",11943911,"REDACTED - Personal Payment","2020-04-27",2335.84,"S","5AF","Learning Disability Support - 18 64 Long Term Support: Community: Direct Payments","530",{"$f":"VLOOKUP(I22066,'[1]Sub Lookup'!$A$1:$B$65536,2,FALSE)","v":"Commissioned Service - Other"}]
["Kent County Council",11941502,"REDACTED - Personal Payment","2020-04-27",496.32,"S","5KF","Physical support - 65+ Long Term Support: Community: Direct Payments","530",{"$f":"VLOOKUP(I22082,'[1]Sub Lookup'!$A$1:$B$65536,2,FALSE)","v":"Commissioned Service - Other"}]
["Kent County Council",11941192,"REDACTED - Personal Payment","2020-04-27",-338.2,"S","5AK","Learning Disability Support - 18 64 Long Term Support: Fairer Charging Income","937",{"$f":"VLOOKUP(I22091,'[1]Sub Lookup'!$A$1:$B$65536,2,FALSE)","v":"KASS Notional Income"}]
["Kent County Council",11878388,"REDACTED - Personal Payment","2020-04-27",684,"S","5AF","Learning Disability Support - 18 64 Long Term Support: Community: Direct Payments","530",{"$f":"VLOOKUP(I22097,'[1]Sub Lookup'!$A$1:$B$65536,2,FALSE)","v":"Commissioned Service - Other"}]
["Kent County Council",11941577,"REDACTED - Personal Payment","2020-04-27",1112.92,"S","5JF","Physical Support - 18 64 Long Term Support: Community: Direct Payments","530",{"$f":"VLOOKUP(I22110,'[1]Sub Lookup'!$A$1:$B$65536,2,FALSE)","v":"Commissioned Service - Other"}]
["Kent County Council",11941640,"REDACTED - Personal Payment","2020-04-27",1254.52,"S","5KF","Physical support - 65+ Long Term Support: Community: Direct Payments","530",{"$f":"VLOOKUP(I22134,'[1]Sub Lookup'!$A$1:$B$65536,2,FALSE)","v":"Commissioned Service - Other"}]
["Kent County Council",11943878,"REDACTED - Personal Payment","2020-04-27",790.12,"S","5AF","Learning Disability Support - 18 64 Long Term Support: Community: Direct Payments","530",{"$f":"VLOOKUP(I22137,'[1]Sub Lookup'!$A$1:$B$65536,2,FALSE)","v":"Commissioned Service - Other"}]
["Kent County Council",11941222,"REDACTED - Personal Payment","2020-04-27",708.48,"S","5AF","Learning Disability Support - 18 64 Long Term Support: Community: Direct Payments","530",{"$f":"VLOOKUP(I22157,'[1]Sub Lookup'!$A$1:$B$65536,2,FALSE)","v":"Commissioned Service - Other"}]
["Kent County Council",11943872,"REDACTED - Personal Payment","2020-04-27",884.68000000000006,"S","5AF","Learning Disability Support - 18 64 Long Term Support: Community: Direct Payments","530",{"$f":"VLOOKUP(I22165,'[1]Sub Lookup'!$A$1:$B$65536,2,FALSE)","v":"Commissioned Service - Other"}]
["Kent County Council",11941469,"REDACTED - Personal Payment","2020-04-27",838.6,"S","5BF","Learning Disability Support - 65+ Long Term Support: Community: Direct Payments","530",{"$f":"VLOOKUP(I22190,'[1]Sub Lookup'!$A$1:$B$65536,2,FALSE)","v":"Commissioned Service - Other"}]
["Kent County Council",11990815,"REDACTED - Personal Payment","2020-04-27",8060.16,"S","5JF","Physical Support - 18 64 Long Term Support: Community: Direct Payments","530",{"$f":"VLOOKUP(I22202,'[1]Sub Lookup'!$A$1:$B$65536,2,FALSE)","v":"Commissioned Service - Other"}]
["Kent County Council",11941234,"REDACTED - Personal Payment","2020-04-27",-779.96,"S","5KK","Physical support - 65+ Long Term Support: Fairer Charging Income","937",{"$f":"VLOOKUP(I22205,'[1]Sub Lookup'!$A$1:$B$65536,2,FALSE)","v":"KASS Notional Income"}]
["Kent County Council",11990749,"REDACTED - Personal Payment","2020-04-27",396.24,"S","5JF","Physical Support - 18 64 Long Term Support: Community: Direct Payments","530",{"$f":"VLOOKUP(I22223,'[1]Sub Lookup'!$A$1:$B$65536,2,FALSE)","v":"Commissioned Service - Other"}]
["Kent County Council",11878280,"REDACTED - Personal Payment","2020-04-27",266,"S","5JF","Physical Support - 18 64 Long Term Support: Community: Direct Payments","530",{"$f":"VLOOKUP(I22233,'[1]Sub Lookup'!$A$1:$B$65536,2,FALSE)","v":"Commissioned Service - Other"}]
["Kent County Council",11941300,"REDACTED - Personal Payment","2020-04-27",-308.8,"S","5KK","Physical support - 65+ Long Term Support: Fairer Charging Income","937",{"$f":"VLOOKUP(I22256,'[1]Sub Lookup'!$A$1:$B$65536,2,FALSE)","v":"KASS Notional Income"}]
["Kent County Council",11941649,"REDACTED - Personal Payment","2020-04-27",3523.2400000000002,"S","5JF","Physical Support - 18 64 Long Term Support: Community: Direct Payments","530",{"$f":"VLOOKUP(I22270,'[1]Sub Lookup'!$A$1:$B$65536,2,FALSE)","v":"Commissioned Service - Other"}]
["Kent County Council",11941351,"REDACTED - Personal Payment","2020-04-27",617.32000000000005,"S","5KF","Physical support - 65+ Long Term Support: Community: Direct Payments","530",{"$f":"VLOOKUP(I22277,'[1]Sub Lookup'!$A$1:$B$65536,2,FALSE)","v":"Commissioned Service - Other"}]
["Kent County Council",11943962,"REDACTED - Personal Payment","2020-04-27",517.44000000000005,"S","5JF","Physical Support - 18 64 Long Term Support: Community: Direct Payments","530",{"$f":"VLOOKUP(I22289,'[1]Sub Lookup'!$A$1:$B$65536,2,FALSE)","v":"Commissioned Service - Other"}]
["Kent County Council",12009707,"REDACTED - Personal Payment","2020-04-27",302,"S","5JF","Physical Support - 18 64 Long Term Support: Community: Direct Payments","530",{"$f":"VLOOKUP(I22301,'[1]Sub Lookup'!$A$1:$B$65536,2,FALSE)","v":"Commissioned Service - Other"}]
["Kent County Council",11931601,"REDACTED - Personal Payment","2020-04-27",5560.64,"S","5JF","Physical Support - 18 64 Long Term Support: Community: Direct Payments","530",{"$f":"VLOOKUP(I22322,'[1]Sub Lookup'!$A$1:$B$65536,2,FALSE)","v":"Commissioned Service - Other"}]
["Kent County Council",11907799,"REDACTED - Personal Payment","2020-04-27",655.20000000000005,"S","5EF","Mental Health Support - 18 64 Long Term Support: Community: Direct Payments","530",{"$f":"VLOOKUP(I22325,'[1]Sub Lookup'!$A$1:$B$65536,2,FALSE)","v":"Commissioned Service - Other"}]
["Kent County Council",11948107,"REDACTED - Personal Payment","2020-04-28",460,"S","5JF","Physical Support - 18 64 Long Term Support: Community: Direct Payments","530",{"$f":"VLOOKUP(I22345,'[1]Sub Lookup'!$A$1:$B$65536,2,FALSE)","v":"Commissioned Service - Other"}]
["Kent County Council",11991131,"REDACTED - Personal Payment","2020-04-28",468,"S","5JF","Physical Support - 18 64 Long Term Support: Community: Direct Payments","530",{"$f":"VLOOKUP(I22355,'[1]Sub Lookup'!$A$1:$B$65536,2,FALSE)","v":"Commissioned Service - Other"}]
["Kent County Council",11948132,"REDACTED - Personal Payment","2020-04-28",-343.2,"S","5KK","Physical support - 65+ Long Term Support: Fairer Charging Income","937",{"$f":"VLOOKUP(I22369,'[1]Sub Lookup'!$A$1:$B$65536,2,FALSE)","v":"KASS Notional Income"}]
["Kent County Council",11991107,"REDACTED - Personal Payment","2020-04-28",708.48,"S","5AF","Learning Disability Support - 18 64 Long Term Support: Community: Direct Payments","530",{"$f":"VLOOKUP(I22389,'[1]Sub Lookup'!$A$1:$B$65536,2,FALSE)","v":"Commissioned Service - Other"}]
["Kent County Council",11922750,"REDACTED - Personal Payment","2020-04-28",-940.04,"S","5KK","Physical support - 65+ Long Term Support: Fairer Charging Income","937",{"$f":"VLOOKUP(I22402,'[1]Sub Lookup'!$A$1:$B$65536,2,FALSE)","v":"KASS Notional Income"}]
["Kent County Council",11948150,"REDACTED - Personal Payment","2020-04-29",936.6,"S","5JF","Physical Support - 18 64 Long Term Support: Community: Direct Payments","530",{"$f":"VLOOKUP(I22413,'[1]Sub Lookup'!$A$1:$B$65536,2,FALSE)","v":"Commissioned Service - Other"}]
["Kent County Council",11948276,"REDACTED - Personal Payment","2020-04-29",-343.2,"S","5KK","Physical support - 65+ Long Term Support: Fairer Charging Income","937",{"$f":"VLOOKUP(I22421,'[1]Sub Lookup'!$A$1:$B$65536,2,FALSE)","v":"KASS Notional Income"}]
["Kent County Council",11885413,"REDACTED - Personal Payment","2020-04-29",-343.2,"S","5KK","Physical support - 65+ Long Term Support: Fairer Charging Income","937",{"$f":"VLOOKUP(I22437,'[1]Sub Lookup'!$A$1:$B$65536,2,FALSE)","v":"KASS Notional Income"}]
["Kent County Council",11991174,"REDACTED - Personal Payment","2020-04-29",-265.76,"S","5TK","Support with Memory & Cognition - 65+ Long Term Support: Fairer Charging Income","937",{"$f":"VLOOKUP(I22457,'[1]Sub Lookup'!$A$1:$B$65536,2,FALSE)","v":"KASS Notional Income"}]
["Kent County Council",11948267,"REDACTED - Personal Payment","2020-04-29",1066.04,"S","5KF","Physical support - 65+ Long Term Support: Community: Direct Payments","530",{"$f":"VLOOKUP(I22468,'[1]Sub Lookup'!$A$1:$B$65536,2,FALSE)","v":"Commissioned Service - Other"}]
["Kent County Council",11948165,"REDACTED - Personal Payment","2020-04-29",1557.08,"S","5KF","Physical support - 65+ Long Term Support: Community: Direct Payments","530",{"$f":"VLOOKUP(I22481,'[1]Sub Lookup'!$A$1:$B$65536,2,FALSE)","v":"Commissioned Service - Other"}]
["Kent County Council",11991147,"REDACTED - Personal Payment","2020-04-29",795.04,"S","5JF","Physical Support - 18 64 Long Term Support: Community: Direct Payments","530",{"$f":"VLOOKUP(I22487,'[1]Sub Lookup'!$A$1:$B$65536,2,FALSE)","v":"Commissioned Service - Other"}]
["Kent County Council",12018844,"REDACTED - Personal Payment","2020-04-29",2144,"S","5PA","Sensory Support - 65+ Long Term Support: Residential","530",{"$f":"VLOOKUP(I22505,'[1]Sub Lookup'!$A$1:$B$65536,2,FALSE)","v":"Commissioned Service - Other"}]
["Kent County Council",11936336,"REDACTED - Personal Payment","2020-04-29",1197.8399999999999,"S","5KF","Physical support - 65+ Long Term Support: Community: Direct Payments","530",{"$f":"VLOOKUP(I22512,'[1]Sub Lookup'!$A$1:$B$65536,2,FALSE)","v":"Commissioned Service - Other"}]
["Kent County Council",11948288,"REDACTED - Personal Payment","2020-04-30",1404.88,"S","5AF","Learning Disability Support - 18 64 Long Term Support: Community: Direct Payments","530",{"$f":"VLOOKUP(I22534,'[1]Sub Lookup'!$A$1:$B$65536,2,FALSE)","v":"Commissioned Service - Other"}]
["Kent County Council",11951535,"REDACTED - Personal Payment","2020-04-30",-262.36,"S","5JK","Physical Support - 18 64 Long Term Support: Fairer Charging Income","937",{"$f":"VLOOKUP(I22549,'[1]Sub Lookup'!$A$1:$B$65536,2,FALSE)","v":"KASS Notional Income"}]
["Kent County Council",11951577,"REDACTED - Personal Payment","2020-04-30",518,"S","5EF","Mental Health Support - 18 64 Long Term Support: Community: Direct Payments","530",{"$f":"VLOOKUP(I22563,'[1]Sub Lookup'!$A$1:$B$65536,2,FALSE)","v":"Commissioned Service - Other"}]
["Kent County Council",11993242,"REDACTED - Personal Payment","2020-04-30",1324.08,"S","5AF","Learning Disability Support - 18 64 Long Term Support: Community: Direct Payments","530",{"$f":"VLOOKUP(I22573,'[1]Sub Lookup'!$A$1:$B$65536,2,FALSE)","v":"Commissioned Service - Other"}]
["Kent County Council",11951619,"REDACTED - Personal Payment","2020-04-30",456,"S","5JF","Physical Support - 18 64 Long Term Support: Community: Direct Payments","530",{"$f":"VLOOKUP(I22580,'[1]Sub Lookup'!$A$1:$B$65536,2,FALSE)","v":"Commissioned Service - Other"}]
["Kent County Council",11992832,"REDCOT LODGE","2020-04-15",6932.88,"S","5KA","Physical support - 65+ Long Term Support: Residential","530",{"$f":"VLOOKUP(I22600,'[1]Sub Lookup'!$A$1:$B$65536,2,FALSE)","v":"Commissioned Service - Other"}]
["Kent County Council",12014346,"REEVES TAXIS","2020-04-29",3715,"E","1RX","Admissions & Transport","222",{"$f":"VLOOKUP(I22617,'[1]Sub Lookup'!$A$1:$B$65536,2,FALSE)","v":"Home to School Transport - Hired"}]
["Kent County Council",11992588,"REFLECTIVE CARE LIMITED","2020-04-15",2813,"S","5AH","Learning Disability Support - 18 64 Long Term Support: Community: Supported Living","530",{"$f":"VLOOKUP(I22629,'[1]Sub Lookup'!$A$1:$B$65536,2,FALSE)","v":"Commissioned Service - Other"}]
["Kent County Council",11992580,"REFLECTIVE CARE LIMITED","2020-04-15",1994.32,"S","5AH","Learning Disability Support - 18 64 Long Term Support: Community: Supported Living","530",{"$f":"VLOOKUP(I22641,'[1]Sub Lookup'!$A$1:$B$65536,2,FALSE)","v":"Commissioned Service - Other"}]
["Kent County Council",12000611,"REFLECTIVE CARE LIMITED","2020-04-21",297.40000000000003,"S","5AH","Learning Disability Support - 18 64 Long Term Support: Community: Supported Living","530",{"$f":"VLOOKUP(I22648,'[1]Sub Lookup'!$A$1:$B$65536,2,FALSE)","v":"Commissioned Service - Other"}]
["Kent County Council",11983704,"REGAL CARE TRADING LTD","2020-04-09",3050.01,"S","5KA","Physical support - 65+ Long Term Support: Residential","530",{"$f":"VLOOKUP(I22662,'[1]Sub Lookup'!$A$1:$B$65536,2,FALSE)","v":"Commissioned Service - Other"}]
["Kent County Council",11989468,"REGAL CARE TRADING LTD","2020-04-14",4273.08,"S","5JA","Physical Support - 18 64 Long Term Support: Residential","530",{"$f":"VLOOKUP(I22685,'[1]Sub Lookup'!$A$1:$B$65536,2,FALSE)","v":"Commissioned Service - Other"}]
["Kent County Council",11996657,"REGAL CARE TRADING LTD","2020-04-17",2346.12,"S","5KA","Physical support - 65+ Long Term Support: Residential","530",{"$f":"VLOOKUP(I22695,'[1]Sub Lookup'!$A$1:$B$65536,2,FALSE)","v":"Commissioned Service - Other"}]
["Kent County Council",12001402,"REGENT COACHES","2020-04-22",20511,"E","1RX","Admissions & Transport","222",{"$f":"VLOOKUP(I22709,'[1]Sub Lookup'!$A$1:$B$65536,2,FALSE)","v":"Home to School Transport - Hired"}]
["Kent County Council",11983239,"RELA SUPPORT SERVICES LTD","2020-04-16",2468.5700000000002,"S","35P","Section 24","527",{"$f":"VLOOKUP(I22716,'[1]Sub Lookup'!$A$1:$B$65536,2,FALSE)","v":"Services"}]
["Kent County Council",12001368,"RELIANCE TAXIS LIMITED","2020-04-22",1881.25,"E","1RX","Admissions & Transport","222",{"$f":"VLOOKUP(I22728,'[1]Sub Lookup'!$A$1:$B$65536,2,FALSE)","v":"Home to School Transport - Hired"}]
["Kent County Council",12001366,"RELIANCE TAXIS LIMITED","2020-04-22",1179.3800000000001,"E","1RX","Admissions & Transport","222",{"$f":"VLOOKUP(I22740,'[1]Sub Lookup'!$A$1:$B$65536,2,FALSE)","v":"Home to School Transport - Hired"}]
["Kent County Council",12009013,"RELIANCE TAXIS LIMITED","2020-04-24",2543.75,"E","1RX","Admissions & Transport","222",{"$f":"VLOOKUP(I22761,'[1]Sub Lookup'!$A$1:$B$65536,2,FALSE)","v":"Home to School Transport - Hired"}]
["Kent County Council",11970324,"RETHINK MENTAL ILLNESS","2020-04-01",26252.639999999999,"K","2SF","Social Fund (including Refugee Families)","530",{"$f":"VLOOKUP(I22777,'[1]Sub Lookup'!$A$1:$B$65536,2,FALSE)","v":"Commissioned Service - Other"}]
["Kent County Council",11965494,"REDACTED - Personal Payment","2020-04-01",1764.96,"S","5AC","Learning Disability Support - 18 64 Long Term Support: Supported accommodation","523",{"$f":"VLOOKUP(I22784,'[1]Sub Lookup'!$A$1:$B$65536,2,FALSE)","v":"Private Contractors"}]
["Kent County Council",11967269,"RIEVAULX HOUSE - HC-ONE LIMITED","2020-04-01",562,"S","5XC","Commissioning & Service Delivery","530",{"$f":"VLOOKUP(I22794,'[1]Sub Lookup'!$A$1:$B$65536,2,FALSE)","v":"Commissioned Service - Other"}]
["Kent County Council",12019239,"RIPPLEVALE SCHOOL","2020-04-30",11590,"E","1PA","Additional Educational Needs and Resources","530",{"$f":"VLOOKUP(I22808,'[1]Sub Lookup'!$A$1:$B$65536,2,FALSE)","v":"Commissioned Service - Other"}]
["Kent County Council",12019416,"RIPPLEVALE SCHOOL","2020-04-30",11252,"E","1PA","Additional Educational Needs and Resources","530",{"$f":"VLOOKUP(I22827,'[1]Sub Lookup'!$A$1:$B$65536,2,FALSE)","v":"Commissioned Service - Other"}]
["Kent County Council",12019340,"RIPPLEVALE SCHOOL","2020-04-30",9450.14,"E","1PA","Additional Educational Needs and Resources","530",{"$f":"VLOOKUP(I22836,'[1]Sub Lookup'!$A$1:$B$65536,2,FALSE)","v":"Commissioned Service - Other"}]
["Kent County Council",12018975,"RIPPLEVALE SCHOOL","2020-04-30",11252,"E","1PA","Additional Educational Needs and Resources","530",{"$f":"VLOOKUP(I22852,'[1]Sub Lookup'!$A$1:$B$65536,2,FALSE)","v":"Commissioned Service - Other"}]
["Kent County Council",12018872,"RIPPLEVALE SCHOOL","2020-04-30",11921,"E","1PA","Additional Educational Needs and Resources","530",{"$f":"VLOOKUP(I22860,'[1]Sub Lookup'!$A$1:$B$65536,2,FALSE)","v":"Commissioned Service - Other"}]
["Kent County Council",12019119,"RIPPLEVALE SCHOOL","2020-04-30",11252,"E","1PA","Additional Educational Needs and Resources","530",{"$f":"VLOOKUP(I22876,'[1]Sub Lookup'!$A$1:$B$65536,2,FALSE)","v":"Commissioned Service - Other"}]
["Kent County Council",11984703,"RISING STARS CHILDREN & FAMILIES LTD","2020-04-14",23981.100000000002,"E","1KA","School Resources","528",{"$f":"VLOOKUP(I22893,'[1]Sub Lookup'!$A$1:$B$65536,2,FALSE)","v":"Early Years Education"}]
["Kent County Council",11989464,"RIVERLEA HOUSE","2020-04-14",3203.78,"S","5KA","Physical support - 65+ Long Term Support: Residential","530",{"$f":"VLOOKUP(I22904,'[1]Sub Lookup'!$A$1:$B$65536,2,FALSE)","v":"Commissioned Service - Other"}]
["Kent County Council",11971976,"RIVERSIDE ACTIVE LIVES NETWORK","2020-04-09",1591,"S","5JJ","Physical Support - 18 64 Long Term Support: Community: Day Care","520",{"$f":"VLOOKUP(I22920,'[1]Sub Lookup'!$A$1:$B$65536,2,FALSE)","v":"Voluntary Associations"}]
["Kent County Council",12009117,"ROBERT W DYER T/AS CAVALIER TAXIS","2020-04-24",759,"E","1RX","Admissions & Transport","222",{"$f":"VLOOKUP(I22940,'[1]Sub Lookup'!$A$1:$B$65536,2,FALSE)","v":"Home to School Transport - Hired"}]
["Kent County Council",11967273,"ROBERTA HOUSE","2020-04-01",4802.78,"S","5XC","Commissioning & Service Delivery","530",{"$f":"VLOOKUP(I22944,'[1]Sub Lookup'!$A$1:$B$65536,2,FALSE)","v":"Commissioned Service - Other"}]
["Kent County Council",12018711,"REDACTED - Personal Payment","2020-04-29",1809.96,"S","5AC","Learning Disability Support - 18 64 Long Term Support: Supported accommodation","530",{"$f":"VLOOKUP(I22959,'[1]Sub Lookup'!$A$1:$B$65536,2,FALSE)","v":"Commissioned Service - Other"}]
["Kent County Council",11984807,"ROSE HILL SCHOOL-NURSERY UNIT","2020-04-14",11429.1,"E","1KA","School Resources","528",{"$f":"VLOOKUP(I22972,'[1]Sub Lookup'!$A$1:$B$65536,2,FALSE)","v":"Early Years Education"}]
["Kent County Council",12001663,"ROSELANDS","2020-04-22",3611.8,"S","5AA","Learning Disability Support - 18 64 Long Term Support: Residential","530",{"$f":"VLOOKUP(I22988,'[1]Sub Lookup'!$A$1:$B$65536,2,FALSE)","v":"Commissioned Service - Other"}]
["Kent County Council",11967335,"ROSSMARK CONSTRUCTION LIMITED","2020-04-02",32104.260000000002,"E","1TE","Capital - Special Schools ES&PS","C15",{"$f":"VLOOKUP(I23006,'[1]Sub Lookup'!$A$1:$B$65536,2,FALSE)","v":"Building Works - Main Contract"}]
["Kent County Council",11998057,"ROXBURGH HOUSE RESIDENTIAL HOME","2020-04-20",2089.7800000000002,"S","5KA","Physical support - 65+ Long Term Support: Residential","530",{"$f":"VLOOKUP(I23016,'[1]Sub Lookup'!$A$1:$B$65536,2,FALSE)","v":"Commissioned Service - Other"}]
["Kent County Council",11972620,"ROYAL ASSOCIATION FOR DEAF PEOPLE","2020-04-03",327.04000000000002,"S","5BJ","Learning Disability Support - 65+ Long Term Support: Community: Day Care","530",{"$f":"VLOOKUP(I23025,'[1]Sub Lookup'!$A$1:$B$65536,2,FALSE)","v":"Commissioned Service - Other"}]
["Kent County Council",11977881,"ROYAL SOCIETY FOR BLIND CHILDREN","2020-04-09",8931.9500000000007,"E","1PA","Additional Educational Needs and Resources","530",{"$f":"VLOOKUP(I23040,'[1]Sub Lookup'!$A$1:$B$65536,2,FALSE)","v":"Commissioned Service - Other"}]
["Kent County Council",11998631,"RURAL PAYMENTS AGENCY","2020-04-21",900,"K","2LR","Countryside Partnerships","450",{"$f":"VLOOKUP(I23056,'[1]Sub Lookup'!$A$1:$B$65536,2,FALSE)","v":"Grants"}]
["Kent County Council",11997969,"REDACTED - Personal Payment","2020-04-21",281.90000000000003,"R","8NB","Insurance Fund 2","M11",{"$f":"VLOOKUP(I23072,'[1]Sub Lookup'!$A$1:$B$65536,2,FALSE)","v":"Public Liability Claims"}]
["Kent County Council",12011788,"REDACTED - Personal Payment","2020-04-29",1809.96,"S","5AC","Learning Disability Support - 18 64 Long Term Support: Supported accommodation","523",{"$f":"VLOOKUP(I23084,'[1]Sub Lookup'!$A$1:$B$65536,2,FALSE)","v":"Private Contractors"}]
["Kent County Council",12001011,"S & P TRAVEL LTD","2020-04-22",2664,"E","1RX","Admissions & Transport","222",{"$f":"VLOOKUP(I23091,'[1]Sub Lookup'!$A$1:$B$65536,2,FALSE)","v":"Home to School Transport - Hired"}]
["Kent County Council",12019147,"SACKVILLE SCHOOL  LTD","2020-04-30",10810.33,"E","1PA","Additional Educational Needs and Resources","530",{"$f":"VLOOKUP(I23108,'[1]Sub Lookup'!$A$1:$B$65536,2,FALSE)","v":"Commissioned Service - Other"}]
["Kent County Council",12011367,"SAFE CHOICE CARE LTD","2020-04-28",565.28,"S","5KG","Physical support - 65+ Long Term Support: Community: Home Care","530",{"$f":"VLOOKUP(I23115,'[1]Sub Lookup'!$A$1:$B$65536,2,FALSE)","v":"Commissioned Service - Other"}]
["Kent County Council",11982131,"SAI CARE HOMES T/A HATFIELD LODGE CARE HOME LTD","2020-04-08",1791.96,"S","5FA","Mental Health Support - 65+ Long Term Support: Residential","530",{"$f":"VLOOKUP(I23138,'[1]Sub Lookup'!$A$1:$B$65536,2,FALSE)","v":"Commissioned Service - Other"}]
["Kent County Council",11982133,"SAI CARE HOMES T/A HATFIELD LODGE CARE HOME LTD","2020-04-08",1950.1200000000001,"S","5JA","Physical Support - 18 64 Long Term Support: Residential","520",{"$f":"VLOOKUP(I23152,'[1]Sub Lookup'!$A$1:$B$65536,2,FALSE)","v":"Voluntary Associations"}]
["Kent County Council",11982133,"SAI CARE HOMES T/A HATFIELD LODGE CARE HOME LTD","2020-04-08",1950.1200000000001,"S","5KU","Physical support - 65+ Short Term - Other - Residential","520",{"$f":"VLOOKUP(I23157,'[1]Sub Lookup'!$A$1:$B$65536,2,FALSE)","v":"Voluntary Associations"}]
["Kent County Council",11989215,"SAI CARE HOMES T/A WHITFIELD CARE HOME LIMITED","2020-04-14",7034.37,"S","5KA","Physical support - 65+ Long Term Support: Residential","530",{"$f":"VLOOKUP(I23176,'[1]Sub Lookup'!$A$1:$B$65536,2,FALSE)","v":"Commissioned Service - Other"}]
["Kent County Council",11992284,"SALTWOOD CARE CENTRE LTD","2020-04-15",2252.96,"S","5KB","Physical support - 65+ Long Term Support: Nursing","530",{"$f":"VLOOKUP(I23183,'[1]Sub Lookup'!$A$1:$B$65536,2,FALSE)","v":"Commissioned Service - Other"}]
["Kent County Council",12006635,"SANCTUARY CARE LTD","2020-04-23",1950.1200000000001,"S","5KA","Physical support - 65+ Long Term Support: Residential","530",{"$f":"VLOOKUP(I23204,'[1]Sub Lookup'!$A$1:$B$65536,2,FALSE)","v":"Commissioned Service - Other"}]
["Kent County Council",12006632,"SANCTUARY CARE LTD","2020-04-23",1900.52,"S","5TA","Support with Memory & Cognition - 65+ Long Term Support: Residential","530",{"$f":"VLOOKUP(I23220,'[1]Sub Lookup'!$A$1:$B$65536,2,FALSE)","v":"Commissioned Service - Other"}]
["Kent County Council",12006616,"SANCTUARY CARE LTD","2020-04-23",1950.1200000000001,"S","5TA","Support with Memory & Cognition - 65+ Long Term Support: Residential","530",{"$f":"VLOOKUP(I23223,'[1]Sub Lookup'!$A$1:$B$65536,2,FALSE)","v":"Commissioned Service - Other"}]
["Kent County Council",12010977,"SANCTUARY HOME CARE LIMITED T/A SANCTUARY SUPPORTED LIVING","2020-04-27",648,"S","5EH","Mental Health Support - 18 64 Long Term Support: Community: Supported Living","530",{"$f":"VLOOKUP(I23244,'[1]Sub Lookup'!$A$1:$B$65536,2,FALSE)","v":"Commissioned Service - Other"}]
["Kent County Council",11975088,"SANCTUARY HOUSING ASSOCIATION","2020-04-06",74126.75,"S","35P","Section 24","527",{"$f":"VLOOKUP(I23251,'[1]Sub Lookup'!$A$1:$B$65536,2,FALSE)","v":"Services"}]
["Kent County Council",11984040,"SANDRA J MEISNER","2020-04-14",346.78000000000003,"K","2RF","Coroners","064",{"$f":"VLOOKUP(I23270,'[1]Sub Lookup'!$A$1:$B$65536,2,FALSE)","v":"External Training"}]
["Kent County Council",12000908,"SAPPHIRE CARS","2020-04-22",451,"S","5JJ","Physical Support - 18 64 Long Term Support: Community: Day Care","232",{"$f":"VLOOKUP(I23288,'[1]Sub Lookup'!$A$1:$B$65536,2,FALSE)","v":"Public Transport (Clients)"}]
["Kent County Council",12018712,"REDACTED - Personal Payment","2020-04-29",1809.96,"S","5NA","Sensory Support - 18 64 Long Term Support: Residential","530",{"$f":"VLOOKUP(I23299,'[1]Sub Lookup'!$A$1:$B$65536,2,FALSE)","v":"Commissioned Service - Other"}]
["Kent County Council",12001413,"SATURN TAXIS LTD","2020-04-22",2200,"E","1RX","Admissions & Transport","222",{"$f":"VLOOKUP(I23312,'[1]Sub Lookup'!$A$1:$B$65536,2,FALSE)","v":"Home to School Transport - Hired"}]
["Kent County Council",11970598,"SAXON LODGE RESIDENTIAL HOME LTD","2020-04-01",913.87,"S","5KU","Physical support - 65+ Short Term - Other - Residential","530",{"$f":"VLOOKUP(I23319,'[1]Sub Lookup'!$A$1:$B$65536,2,FALSE)","v":"Commissioned Service - Other"}]
["Kent County Council",11985009,"SCALLYWAGS PRE-SCHOOL - GLYNIS CHRISTOPHER LTD","2020-04-14",10032.36,"E","1KA","School Resources","528",{"$f":"VLOOKUP(I23336,'[1]Sub Lookup'!$A$1:$B$65536,2,FALSE)","v":"Early Years Education"}]
["Kent County Council",11997557,"SCHOOL CARS LTD","2020-04-20",1575,"E","1RX","Admissions & Transport","222",{"$f":"VLOOKUP(I23343,'[1]Sub Lookup'!$A$1:$B$65536,2,FALSE)","v":"Home to School Transport - Hired"}]
["Kent County Council",11966852,"SCOTT CARE LTD","2020-04-01",9177.2800000000007,"S","5XC","Commissioning & Service Delivery","530",{"$f":"VLOOKUP(I23365,'[1]Sub Lookup'!$A$1:$B$65536,2,FALSE)","v":"Commissioned Service - Other"}]
["Kent County Council",11973364,"SCOTT CARE LTD","2020-04-03",291.2,"S","5KG","Physical support - 65+ Long Term Support: Community: Home Care","530",{"$f":"VLOOKUP(I23380,'[1]Sub Lookup'!$A$1:$B$65536,2,FALSE)","v":"Commissioned Service - Other"}]
["Kent County Council",11973372,"SCOTT CARE LTD","2020-04-03",537.6,"S","5KG","Physical support - 65+ Long Term Support: Community: Home Care","530",{"$f":"VLOOKUP(I23387,'[1]Sub Lookup'!$A$1:$B$65536,2,FALSE)","v":"Commissioned Service - Other"}]
["Kent County Council",11991200,"SCOTT CARE LTD","2020-04-15",399.42,"S","5KG","Physical support - 65+ Long Term Support: Community: Home Care","530",{"$f":"VLOOKUP(I23398,'[1]Sub Lookup'!$A$1:$B$65536,2,FALSE)","v":"Commissioned Service - Other"}]
["Kent County Council",12002665,"SCOTT CARE LTD","2020-04-22",603.68000000000006,"S","5KG","Physical support - 65+ Long Term Support: Community: Home Care","530",{"$f":"VLOOKUP(I23411,'[1]Sub Lookup'!$A$1:$B$65536,2,FALSE)","v":"Commissioned Service - Other"}]
["Kent County Council",12006893,"SCOTTISH WATER BUSINESS STREAM LIMITED T/A BUSINESS STREAM","2020-04-24",2081.67,"C","2RE","Registration","125",{"$f":"VLOOKUP(I23431,'[1]Sub Lookup'!$A$1:$B$65536,2,FALSE)","v":"Water & Sewerage"}]
["Kent County Council",11804045,"SCOTTS PROJECT TRUST","2020-04-28",377.92,"S","5AJ","Learning Disability Support - 18 64 Long Term Support: Community: Day Care","523",{"$f":"VLOOKUP(I23448,'[1]Sub Lookup'!$A$1:$B$65536,2,FALSE)","v":"Private Contractors"}]
["Kent County Council",11910510,"SCOTTS PROJECT TRUST","2020-04-28",393.12,"S","5AJ","Learning Disability Support - 18 64 Long Term Support: Community: Day Care","523",{"$f":"VLOOKUP(I23455,'[1]Sub Lookup'!$A$1:$B$65536,2,FALSE)","v":"Private Contractors"}]
["Kent County Council",11702789,"SCOTTS PROJECT TRUST","2020-04-28",1859.54,"S","5AJ","Learning Disability Support - 18 64 Long Term Support: Community: Day Care","523",{"$f":"VLOOKUP(I23464,'[1]Sub Lookup'!$A$1:$B$65536,2,FALSE)","v":"Private Contractors"}]
["Kent County Council",11419158,"SCOTTS PROJECT TRUST","2020-04-28",378,"S","5AJ","Learning Disability Support - 18 64 Long Term Support: Community: Day Care","523",{"$f":"VLOOKUP(I23479,'[1]Sub Lookup'!$A$1:$B$65536,2,FALSE)","v":"Private Contractors"}]
["Kent County Council",12018596,"SCOTTS PROJECT TRUST","2020-04-29",14124.4,"S","5XC","Commissioning & Service Delivery","530",{"$f":"VLOOKUP(I23499,'[1]Sub Lookup'!$A$1:$B$65536,2,FALSE)","v":"Commissioned Service - Other"}]
["Kent County Council",11997766,"SCOTTS PROJECT TRUST","2020-04-29",-364.08,"S","5AH","Learning Disability Support - 18 64 Long Term Support: Community: Supported Living","520",{"$f":"VLOOKUP(I23515,'[1]Sub Lookup'!$A$1:$B$65536,2,FALSE)","v":"Voluntary Associations"}]
["Kent County Council",11923300,"SEAP (SUPPORT, EMPOWER, ADVOCATE, PROMOTE)","2020-04-03",117036.75,"S","5XB","Information & Early Intervention","530",{"$f":"VLOOKUP(I23523,'[1]Sub Lookup'!$A$1:$B$65536,2,FALSE)","v":"Commissioned Service - Other"}]
["Kent County Council",11993065,"SEBASTIEN SIZUN T/A TAXIS SIZUN","2020-04-16",308.97000000000003,"E","1RX","Admissions & Transport","222",{"$f":"VLOOKUP(I23530,'[1]Sub Lookup'!$A$1:$B$65536,2,FALSE)","v":"Home to School Transport - Hired"}]
["Kent County Council",11966860,"SEEDS CARE LTD","2020-04-01",3324.77,"S","5XC","Commissioning & Service Delivery","530",{"$f":"VLOOKUP(I23547,'[1]Sub Lookup'!$A$1:$B$65536,2,FALSE)","v":"Commissioned Service - Other"}]
["Kent County Council",11976636,"SENSE-CHILDREN AND ADULT SERVICES","2020-04-06",-428.99,"S","5JA","Physical Support - 18 64 Long Term Support: Residential","937",{"$f":"VLOOKUP(I23567,'[1]Sub Lookup'!$A$1:$B$65536,2,FALSE)","v":"KASS Notional Income"}]
["Kent County Council",11970135,"SENSE-CHILDREN AND ADULT SERVICES","2020-04-07",2728.8,"S","5AH","Learning Disability Support - 18 64 Long Term Support: Community: Supported Living","520",{"$f":"VLOOKUP(I23577,'[1]Sub Lookup'!$A$1:$B$65536,2,FALSE)","v":"Voluntary Associations"}]
["Kent County Council",11966220,"SEQUENCE CARE LTD T/A ST JAMES HOUSE","2020-04-01",3885,"S","5XC","Commissioning & Service Delivery","530",{"$f":"VLOOKUP(I23591,'[1]Sub Lookup'!$A$1:$B$65536,2,FALSE)","v":"Commissioned Service - Other"}]
["Kent County Council",12018142,"SEQUENCE HEALTHCARE MANAGEMENT LTD","2020-04-29",1799.68,"S","5XC","Commissioning & Service Delivery","530",{"$f":"VLOOKUP(I23610,'[1]Sub Lookup'!$A$1:$B$65536,2,FALSE)","v":"Commissioned Service - Other"}]
["Kent County Council",11979688,"SERENITY WELFARE LIMITED","2020-04-17",1275,"S","31E","Secure Accommodation Welfare","232",{"$f":"VLOOKUP(I23615,'[1]Sub Lookup'!$A$1:$B$65536,2,FALSE)","v":"Public Transport (Clients)"}]
["Kent County Council",11989314,"SEVENOAKS DISTRICT COUNCIL","2020-04-15",46336,"C","2GA","Gateway Delivery","123",{"$f":"VLOOKUP(I23635,'[1]Sub Lookup'!$A$1:$B$65536,2,FALSE)","v":"National and Non Domestic Rates and Council Tax"}]
["Kent County Council",11992451,"SEVENOAKS DISTRICT COUNCIL","2020-04-16",4796.3599999999997,"C","8DW","Non Operational Properties","123",{"$f":"VLOOKUP(I23643,'[1]Sub Lookup'!$A$1:$B$65536,2,FALSE)","v":"National and Non Domestic Rates and Council Tax"}]
["Kent County Council",11994507,"SHAKTI LODGE","2020-04-17",1821.43,"S","5KU","Physical support - 65+ Short Term - Other - Residential","530",{"$f":"VLOOKUP(I23659,'[1]Sub Lookup'!$A$1:$B$65536,2,FALSE)","v":"Commissioned Service - Other"}]
["Kent County Council",11993569,"SHARE THE CARE LTD","2020-04-24",1006,"S","5KG","Physical support - 65+ Long Term Support: Community: Home Care","530",{"$f":"VLOOKUP(I23676,'[1]Sub Lookup'!$A$1:$B$65536,2,FALSE)","v":"Commissioned Service - Other"}]
["Kent County Council",12001441,"SHARON THOMPSON AND PENNY STURIPS T/A WILLOW CARS","2020-04-22",1380,"E","1RX","Admissions & Transport","222",{"$f":"VLOOKUP(I23683,'[1]Sub Lookup'!$A$1:$B$65536,2,FALSE)","v":"Home to School Transport - Hired"}]
["Kent County Council",12002478,"SHAWS WOOD RESIDENTIAL CARE HOME","2020-04-22",2200,"S","5KA","Physical support - 65+ Long Term Support: Residential","530",{"$f":"VLOOKUP(I23703,'[1]Sub Lookup'!$A$1:$B$65536,2,FALSE)","v":"Commissioned Service - Other"}]
["Kent County Council",11605001,"SHB HIRE LTD","2020-04-20",689.75,"P","7HB","Highways Routine","523",{"$f":"VLOOKUP(I23709,'[1]Sub Lookup'!$A$1:$B$65536,2,FALSE)","v":"Private Contractors"}]
["Kent County Council",11992493,"SHELL U.K. OIL PRODUCTS LIMITED","2020-04-24",7041.85,"P","7HV","Depots","201",{"$f":"VLOOKUP(I23727,'[1]Sub Lookup'!$A$1:$B$65536,2,FALSE)","v":"Petrol, Derv and Oil"}]
["Kent County Council",12008923,"SHERWAN SABER T/A DOVER ROYAL TAXIS","2020-04-24",3268,"E","1RX","Admissions & Transport","222",{"$f":"VLOOKUP(I23742,'[1]Sub Lookup'!$A$1:$B$65536,2,FALSE)","v":"Home to School Transport - Hired"}]
["Kent County Council",11961482,"SHOLDEN HALL","2020-04-01",-1184,"S","5TA","Support with Memory & Cognition - 65+ Long Term Support: Residential","530",{"$f":"VLOOKUP(I23755,'[1]Sub Lookup'!$A$1:$B$65536,2,FALSE)","v":"Commissioned Service - Other"}]
["Kent County Council",11980492,"SHOLDEN HALL","2020-04-08",2266.6799999999998,"S","5KA","Physical support - 65+ Long Term Support: Residential","530",{"$f":"VLOOKUP(I23758,'[1]Sub Lookup'!$A$1:$B$65536,2,FALSE)","v":"Commissioned Service - Other"}]
["Kent County Council",11972577,"SHORNCLIFFE NURSERY","2020-04-03",1114.44,"E","1KA","School Resources","528",{"$f":"VLOOKUP(I23775,'[1]Sub Lookup'!$A$1:$B$65536,2,FALSE)","v":"Early Years Education"}]
["Kent County Council",11967316,"SILVERBIRCH HEALTHCARE LIMITED","2020-04-01",342,"S","5XC","Commissioning & Service Delivery","530",{"$f":"VLOOKUP(I23795,'[1]Sub Lookup'!$A$1:$B$65536,2,FALSE)","v":"Commissioned Service - Other"}]
["Kent County Council",11975847,"SIMPLY CARE SUPPORT LTD","2020-04-21",9100,"S","35P","Section 24","527",{"$f":"VLOOKUP(I23808,'[1]Sub Lookup'!$A$1:$B$65536,2,FALSE)","v":"Services"}]
["Kent County Council",12009099,"SITTINGBOURNE CABS LIMITED","2020-04-24",3237.5,"E","1RX","Admissions & Transport","222",{"$f":"VLOOKUP(I23823,'[1]Sub Lookup'!$A$1:$B$65536,2,FALSE)","v":"Home to School Transport - Hired"}]
["Kent County Council",12009098,"SITTINGBOURNE CABS LIMITED","2020-04-24",3625,"E","1RX","Admissions & Transport","222",{"$f":"VLOOKUP(I23826,'[1]Sub Lookup'!$A$1:$B$65536,2,FALSE)","v":"Home to School Transport - Hired"}]
["Kent County Council",11956843,"SKANSKA CONSTRUCTION UK LTD T/A FACILITIES","2020-04-03",1402.56,"C","2LC","Libraries, Registration & Archives","103",{"$f":"VLOOKUP(I23841,'[1]Sub Lookup'!$A$1:$B$65536,2,FALSE)","v":"Planned maintenance of buildings"}]
["Kent County Council",11956843,"SKANSKA CONSTRUCTION UK LTD T/A FACILITIES","2020-04-03",1214.17,"C","2LC","Libraries, Registration & Archives","131",{"$f":"VLOOKUP(I23854,'[1]Sub Lookup'!$A$1:$B$65536,2,FALSE)","v":"Contract Cleaning"}]
["Kent County Council",11956843,"SKANSKA CONSTRUCTION UK LTD T/A FACILITIES","2020-04-03",931.56000000000006,"C","5AJ","Learning Disability Support - 18 64 Long Term Support: Community: Day Care","103",{"$f":"VLOOKUP(I23874,'[1]Sub Lookup'!$A$1:$B$65536,2,FALSE)","v":"Planned maintenance of buildings"}]
["Kent County Council",11956843,"SKANSKA CONSTRUCTION UK LTD T/A FACILITIES","2020-04-03",539.65,"C","2UA","Youth Services","411",{"$f":"VLOOKUP(I23891,'[1]Sub Lookup'!$A$1:$B$65536,2,FALSE)","v":"Property Services & Construction"}]
["Kent County Council",11956843,"SKANSKA CONSTRUCTION UK LTD T/A FACILITIES","2020-04-03",348.86,"C","2UA","Youth Services","104",{"$f":"VLOOKUP(I23894,'[1]Sub Lookup'!$A$1:$B$65536,2,FALSE)","v":"Reactive maintenance of buildings"}]
["Kent County Council",11956843,"SKANSKA CONSTRUCTION UK LTD T/A FACILITIES","2020-04-03",736.04,"C","2LC","Libraries, Registration & Archives","100",{"$f":"VLOOKUP(I23907,'[1]Sub Lookup'!$A$1:$B$65536,2,FALSE)","v":"Maintenance of Grounds"}]
["Kent County Council",11956843,"SKANSKA CONSTRUCTION UK LTD T/A FACILITIES","2020-04-03",910.23,"C","5KJ","Physical support - 65+ Long Term Support: Community: Day Care","103",{"$f":"VLOOKUP(I23922,'[1]Sub Lookup'!$A$1:$B$65536,2,FALSE)","v":"Planned maintenance of buildings"}]
["Kent County Council",11956843,"SKANSKA CONSTRUCTION UK LTD T/A FACILITIES","2020-04-03",316.70999999999998,"C","36P","Children's Centres","131",{"$f":"VLOOKUP(I23940,'[1]Sub Lookup'!$A$1:$B$65536,2,FALSE)","v":"Contract Cleaning"}]
["Kent County Council",11956843,"SKANSKA CONSTRUCTION UK LTD T/A FACILITIES","2020-04-03",442.77,"C","36P","Children's Centres","103",{"$f":"VLOOKUP(I23946,'[1]Sub Lookup'!$A$1:$B$65536,2,FALSE)","v":"Planned maintenance of buildings"}]
["Kent County Council",11956843,"SKANSKA CONSTRUCTION UK LTD T/A FACILITIES","2020-04-03",672.86,"C","2LE","Adult Education","104",{"$f":"VLOOKUP(I23962,'[1]Sub Lookup'!$A$1:$B$65536,2,FALSE)","v":"Reactive maintenance of buildings"}]
["Kent County Council",11956843,"SKANSKA CONSTRUCTION UK LTD T/A FACILITIES","2020-04-03",323.99,"C","39C","Children Specialist Services","100",{"$f":"VLOOKUP(I23973,'[1]Sub Lookup'!$A$1:$B$65536,2,FALSE)","v":"Maintenance of Grounds"}]
["Kent County Council",11956843,"SKANSKA CONSTRUCTION UK LTD T/A FACILITIES","2020-04-03",4202.3599999999997,"C","8DR","Corporate Landlord","131",{"$f":"VLOOKUP(I23990,'[1]Sub Lookup'!$A$1:$B$65536,2,FALSE)","v":"Contract Cleaning"}]
["Kent County Council",11956843,"SKANSKA CONSTRUCTION UK LTD T/A FACILITIES","2020-04-03",1420.09,"C","36P","Children's Centres","103",{"$f":"VLOOKUP(I24006,'[1]Sub Lookup'!$A$1:$B$65536,2,FALSE)","v":"Planned maintenance of buildings"}]
["Kent County Council",11956843,"SKANSKA CONSTRUCTION UK LTD T/A FACILITIES","2020-04-03",2596.5,"C","8DR","Corporate Landlord","103",{"$f":"VLOOKUP(I24014,'[1]Sub Lookup'!$A$1:$B$65536,2,FALSE)","v":"Planned maintenance of buildings"}]
["Kent County Council",11956344,"SKANSKA CONSTRUCTION UK LTD T/A FACILITIES","2020-04-06",753.34,"C","2LC","Libraries, Registration & Archives","131",{"$f":"VLOOKUP(I24034,'[1]Sub Lookup'!$A$1:$B$65536,2,FALSE)","v":"Contract Cleaning"}]
["Kent County Council",11956344,"SKANSKA CONSTRUCTION UK LTD T/A FACILITIES","2020-04-06",295.2,"C","5AJ","Learning Disability Support - 18 64 Long Term Support: Community: Day Care","131",{"$f":"VLOOKUP(I24039,'[1]Sub Lookup'!$A$1:$B$65536,2,FALSE)","v":"Contract Cleaning"}]
["Kent County Council",11956344,"SKANSKA CONSTRUCTION UK LTD T/A FACILITIES","2020-04-06",660.14,"C","2LG","Country Parks","103",{"$f":"VLOOKUP(I24058,'[1]Sub Lookup'!$A$1:$B$65536,2,FALSE)","v":"Planned maintenance of buildings"}]
["Kent County Council",11956344,"SKANSKA CONSTRUCTION UK LTD T/A FACILITIES","2020-04-06",437.89,"C","5AJ","Learning Disability Support - 18 64 Long Term Support: Community: Day Care","100",{"$f":"VLOOKUP(I24072,'[1]Sub Lookup'!$A$1:$B$65536,2,FALSE)","v":"Maintenance of Grounds"}]
["Kent County Council",11956344,"SKANSKA CONSTRUCTION UK LTD T/A FACILITIES","2020-04-06",328.12,"C","5AJ","Learning Disability Support - 18 64 Long Term Support: Community: Day Care","126",{"$f":"VLOOKUP(I24082,'[1]Sub Lookup'!$A$1:$B$65536,2,FALSE)","v":"Waste Disposal"}]
["Kent County Council",11956344,"SKANSKA CONSTRUCTION UK LTD T/A FACILITIES","2020-04-06",270.45999999999998,"C","2UA","Youth Services","100",{"$f":"VLOOKUP(I24102,'[1]Sub Lookup'!$A$1:$B$65536,2,FALSE)","v":"Maintenance of Grounds"}]
["Kent County Council",11956344,"SKANSKA CONSTRUCTION UK LTD T/A FACILITIES","2020-04-06",861.36,"C","2LC","Libraries, Registration & Archives","103",{"$f":"VLOOKUP(I24119,'[1]Sub Lookup'!$A$1:$B$65536,2,FALSE)","v":"Planned maintenance of buildings"}]
["Kent County Council",11956344,"SKANSKA CONSTRUCTION UK LTD T/A FACILITIES","2020-04-06",4836.66,"C","2LC","Libraries, Registration & Archives","141",{"$f":"VLOOKUP(I24126,'[1]Sub Lookup'!$A$1:$B$65536,2,FALSE)","v":"Premises Security Charges"}]
["Kent County Council",11956344,"SKANSKA CONSTRUCTION UK LTD T/A FACILITIES","2020-04-06",689.28,"C","5KJ","Physical support - 65+ Long Term Support: Community: Day Care","141",{"$f":"VLOOKUP(I24138,'[1]Sub Lookup'!$A$1:$B$65536,2,FALSE)","v":"Premises Security Charges"}]
["Kent County Council",11956344,"SKANSKA CONSTRUCTION UK LTD T/A FACILITIES","2020-04-06",996.73,"C","36P","Children's Centres","103",{"$f":"VLOOKUP(I24150,'[1]Sub Lookup'!$A$1:$B$65536,2,FALSE)","v":"Planned maintenance of buildings"}]
["Kent County Council",11956344,"SKANSKA CONSTRUCTION UK LTD T/A FACILITIES","2020-04-06",2141.1,"C","36P","Children's Centres","131",{"$f":"VLOOKUP(I24170,'[1]Sub Lookup'!$A$1:$B$65536,2,FALSE)","v":"Contract Cleaning"}]
["Kent County Council",11956344,"SKANSKA CONSTRUCTION UK LTD T/A FACILITIES","2020-04-06",283.28000000000003,"C","2LE","Adult Education","126",{"$f":"VLOOKUP(I24185,'[1]Sub Lookup'!$A$1:$B$65536,2,FALSE)","v":"Waste Disposal"}]
["Kent County Council",11956344,"SKANSKA CONSTRUCTION UK LTD T/A FACILITIES","2020-04-06",689.28,"C","39C","Children Specialist Services","141",{"$f":"VLOOKUP(I24194,'[1]Sub Lookup'!$A$1:$B$65536,2,FALSE)","v":"Premises Security Charges"}]
["Kent County Council",11956344,"SKANSKA CONSTRUCTION UK LTD T/A FACILITIES","2020-04-06",313.61,"C","36P","Children's Centres","126",{"$f":"VLOOKUP(I24200,'[1]Sub Lookup'!$A$1:$B$65536,2,FALSE)","v":"Waste Disposal"}]
["Kent County Council",11956344,"SKANSKA CONSTRUCTION UK LTD T/A FACILITIES","2020-04-06",2064.4499999999998,"C","8DR","Corporate Landlord","103",{"$f":"VLOOKUP(I24218,'[1]Sub Lookup'!$A$1:$B$65536,2,FALSE)","v":"Planned maintenance of buildings"}]
["Kent County Council",11956344,"SKANSKA CONSTRUCTION UK LTD T/A FACILITIES","2020-04-06",493,"C","36P","Children's Centres","131",{"$f":"VLOOKUP(I24238,'[1]Sub Lookup'!$A$1:$B$65536,2,FALSE)","v":"Contract Cleaning"}]
["Kent County Council",11956344,"SKANSKA CONSTRUCTION UK LTD T/A FACILITIES","2020-04-06",4201.13,"C","8DR","Corporate Landlord","411",{"$f":"VLOOKUP(I24251,'[1]Sub Lookup'!$A$1:$B$65536,2,FALSE)","v":"Property Services & Construction"}]
["Kent County Council",11956344,"SKANSKA CONSTRUCTION UK LTD T/A FACILITIES","2020-04-06",1524.6000000000001,"C","36P","Children's Centres","103",{"$f":"VLOOKUP(I24262,'[1]Sub Lookup'!$A$1:$B$65536,2,FALSE)","v":"Planned maintenance of buildings"}]
["Kent County Council",11949811,"SKANSKA CONSTRUCTION UK LTD T/A FACILITIES","2020-04-07",1144,"C","1TC","Capital - Secondary Schools ES&PS","C15",{"$f":"VLOOKUP(I24280,'[1]Sub Lookup'!$A$1:$B$65536,2,FALSE)","v":"Building Works - Main Contract"}]
["Kent County Council",11977273,"SKANSKA CONSTRUCTION UK LTD T/A FACILITIES","2020-04-08",849.6,"C","2RE","Registration","104",{"$f":"VLOOKUP(I24286,'[1]Sub Lookup'!$A$1:$B$65536,2,FALSE)","v":"Reactive maintenance of buildings"}]
["Kent County Council",11947814,"SKANSKA CONSTRUCTION UK LTD T/A FACILITIES","2020-04-09",495.6,"C","1EF","Standards & School Improvement","104",{"$f":"VLOOKUP(I24306,'[1]Sub Lookup'!$A$1:$B$65536,2,FALSE)","v":"Reactive maintenance of buildings"}]
["Kent County Council",11947829,"SKANSKA CONSTRUCTION UK LTD T/A FACILITIES","2020-04-09",252.27,"C","31C","KCC Residential Short Break Units","104",{"$f":"VLOOKUP(I24313,'[1]Sub Lookup'!$A$1:$B$65536,2,FALSE)","v":"Reactive maintenance of buildings"}]
["Kent County Council",11984006,"SKANSKA CONSTRUCTION UK LTD T/A FACILITIES","2020-04-14",619.5,"C","8DR","Corporate Landlord","104",{"$f":"VLOOKUP(I24330,'[1]Sub Lookup'!$A$1:$B$65536,2,FALSE)","v":"Reactive maintenance of buildings"}]
["Kent County Council",11984098,"SKANSKA CONSTRUCTION UK LTD T/A FACILITIES","2020-04-16",1254.31,"C","31C","KCC Residential Short Break Units","C14",{"$f":"VLOOKUP(I24346,'[1]Sub Lookup'!$A$1:$B$65536,2,FALSE)","v":"Design Fees - External"}]
["Kent County Council",11960647,"SKANSKA CONSTRUCTION UK LTD T/A FACILITIES","2020-04-20",436.98,"K","2LC","Libraries, Registration & Archives","302",{"$f":"VLOOKUP(I24354,'[1]Sub Lookup'!$A$1:$B$65536,2,FALSE)","v":"Computer and Other IT Expenditure (Hardware)"}]
["Kent County Council",11960648,"SKANSKA CONSTRUCTION UK LTD T/A FACILITIES","2020-04-20",416.48,"C","2UA","Youth Services","104",{"$f":"VLOOKUP(I24361,'[1]Sub Lookup'!$A$1:$B$65536,2,FALSE)","v":"Reactive maintenance of buildings"}]
["Kent County Council",11947820,"SKANSKA CONSTRUCTION UK LTD T/A FACILITIES","2020-04-21",536.07000000000005,"K","2LC","Libraries, Registration & Archives","401",{"$f":"VLOOKUP(I24379,'[1]Sub Lookup'!$A$1:$B$65536,2,FALSE)","v":"Specialists Fees"}]
["Kent County Council",11960650,"SKANSKA CONSTRUCTION UK LTD T/A FACILITIES","2020-04-28",5845.47,"C","2LC","Libraries, Registration & Archives","C15",{"$f":"VLOOKUP(I24398,'[1]Sub Lookup'!$A$1:$B$65536,2,FALSE)","v":"Building Works - Main Contract"}]
["Kent County Council",11972580,"SMART START DAY NURSERY-SS C'CARE SERVICES LTD","2020-04-03",451.8,"E","1KA","School Resources","528",{"$f":"VLOOKUP(I24412,'[1]Sub Lookup'!$A$1:$B$65536,2,FALSE)","v":"Early Years Education"}]
["Kent County Council",12001478,"SMART TAXI APP LTD","2020-04-22",940.5,"E","1RX","Admissions & Transport","222",{"$f":"VLOOKUP(I24422,'[1]Sub Lookup'!$A$1:$B$65536,2,FALSE)","v":"Home to School Transport - Hired"}]
["Kent County Council",11885402,"SMARTPAYE LTD","2020-04-01",-331.72,"S","5JK","Physical Support - 18 64 Long Term Support: Fairer Charging Income","937",{"$f":"VLOOKUP(I24429,'[1]Sub Lookup'!$A$1:$B$65536,2,FALSE)","v":"KASS Notional Income"}]
["Kent County Council",11847221,"SMARTPAYE LTD","2020-04-06",1476.1200000000001,"S","5AF","Learning Disability Support - 18 64 Long Term Support: Community: Direct Payments","530",{"$f":"VLOOKUP(I24445,'[1]Sub Lookup'!$A$1:$B$65536,2,FALSE)","v":"Commissioned Service - Other"}]
["Kent County Council",11976202,"SMARTPAYE LTD","2020-04-06",1241.29,"S","5JF","Physical Support - 18 64 Long Term Support: Community: Direct Payments","530",{"$f":"VLOOKUP(I24466,'[1]Sub Lookup'!$A$1:$B$65536,2,FALSE)","v":"Commissioned Service - Other"}]
["Kent County Council",11977543,"SMARTPAYE LTD","2020-04-07",719.73,"S","5NF","Sensory Support - 18 64 Long Term Support: Community: Direct Payments","530",{"$f":"VLOOKUP(I24478,'[1]Sub Lookup'!$A$1:$B$65536,2,FALSE)","v":"Commissioned Service - Other"}]
["Kent County Council",11857543,"SMARTPAYE LTD","2020-04-09",-258.72000000000003,"S","5JK","Physical Support - 18 64 Long Term Support: Fairer Charging Income","937",{"$f":"VLOOKUP(I24494,'[1]Sub Lookup'!$A$1:$B$65536,2,FALSE)","v":"KASS Notional Income"}]
["Kent County Council",11964159,"SMARTPAYE LTD","2020-04-09",804.52,"S","5AF","Learning Disability Support - 18 64 Long Term Support: Community: Direct Payments","530",{"$f":"VLOOKUP(I24497,'[1]Sub Lookup'!$A$1:$B$65536,2,FALSE)","v":"Commissioned Service - Other"}]
["Kent County Council",11862890,"SMARTPAYE LTD","2020-04-09",340,"S","5NF","Sensory Support - 18 64 Long Term Support: Community: Direct Payments","530",{"$f":"VLOOKUP(I24511,'[1]Sub Lookup'!$A$1:$B$65536,2,FALSE)","v":"Commissioned Service - Other"}]
["Kent County Council",11862506,"SMARTPAYE LTD","2020-04-14",598.4,"S","5JF","Physical Support - 18 64 Long Term Support: Community: Direct Payments","530",{"$f":"VLOOKUP(I24534,'[1]Sub Lookup'!$A$1:$B$65536,2,FALSE)","v":"Commissioned Service - Other"}]
["Kent County Council",11985538,"SMARTPAYE LTD","2020-04-14",-562.99,"S","5AK","Learning Disability Support - 18 64 Long Term Support: Fairer Charging Income","937",{"$f":"VLOOKUP(I24541,'[1]Sub Lookup'!$A$1:$B$65536,2,FALSE)","v":"KASS Notional Income"}]
["Kent County Council",11976022,"SMARTPAYE LTD","2020-04-17",456,"S","5NF","Sensory Support - 18 64 Long Term Support: Community: Direct Payments","530",{"$f":"VLOOKUP(I24558,'[1]Sub Lookup'!$A$1:$B$65536,2,FALSE)","v":"Commissioned Service - Other"}]
["Kent County Council",11976094,"SMARTPAYE LTD","2020-04-17",705.6,"S","5SF","Support with Memory & Cognition - 18 64 Long Term Support: Community: Direct Payments","530",{"$f":"VLOOKUP(I24565,'[1]Sub Lookup'!$A$1:$B$65536,2,FALSE)","v":"Commissioned Service - Other"}]
["Kent County Council",11983458,"SMARTPAYE LTD","2020-04-20",280,"S","5AF","Learning Disability Support - 18 64 Long Term Support: Community: Direct Payments","530",{"$f":"VLOOKUP(I24577,'[1]Sub Lookup'!$A$1:$B$65536,2,FALSE)","v":"Commissioned Service - Other"}]
["Kent County Council",11980294,"SMARTPAYE LTD","2020-04-20",845.28,"S","5JF","Physical Support - 18 64 Long Term Support: Community: Direct Payments","530",{"$f":"VLOOKUP(I24593,'[1]Sub Lookup'!$A$1:$B$65536,2,FALSE)","v":"Commissioned Service - Other"}]
["Kent County Council",11987445,"SMARTPAYE LTD","2020-04-22",-345.40000000000003,"S","5KK","Physical support - 65+ Long Term Support: Fairer Charging Income","937",{"$f":"VLOOKUP(I24609,'[1]Sub Lookup'!$A$1:$B$65536,2,FALSE)","v":"KASS Notional Income"}]
["Kent County Council",11931636,"SMARTPAYE LTD","2020-04-23",1714.96,"S","5TF","Support with Memory & Cognition - 65+ Long Term Support: Community: Direct Payments","530",{"$f":"VLOOKUP(I24624,'[1]Sub Lookup'!$A$1:$B$65536,2,FALSE)","v":"Commissioned Service - Other"}]
["Kent County Council",11871465,"SMARTPAYE LTD","2020-04-24",4697,"S","5AF","Learning Disability Support - 18 64 Long Term Support: Community: Direct Payments","530",{"$f":"VLOOKUP(I24633,'[1]Sub Lookup'!$A$1:$B$65536,2,FALSE)","v":"Commissioned Service - Other"}]
["Kent County Council",11878200,"SMARTPAYE LTD","2020-04-24",-338.2,"S","5AK","Learning Disability Support - 18 64 Long Term Support: Fairer Charging Income","937",{"$f":"VLOOKUP(I24643,'[1]Sub Lookup'!$A$1:$B$65536,2,FALSE)","v":"KASS Notional Income"}]
["Kent County Council",11951644,"SMARTPAYE LTD","2020-04-27",886.52,"S","5KF","Physical support - 65+ Long Term Support: Community: Direct Payments","530",{"$f":"VLOOKUP(I24661,'[1]Sub Lookup'!$A$1:$B$65536,2,FALSE)","v":"Commissioned Service - Other"}]
["Kent County Council",11885401,"SMARTPAYE LTD","2020-04-29",-331.72,"S","5JK","Physical Support - 18 64 Long Term Support: Fairer Charging Income","937",{"$f":"VLOOKUP(I24677,'[1]Sub Lookup'!$A$1:$B$65536,2,FALSE)","v":"KASS Notional Income"}]
["Kent County Council",11992414,"SMITH WOOLLEY","2020-04-16",2192.52,"C","8DW","Non Operational Properties","122",{"$f":"VLOOKUP(I24690,'[1]Sub Lookup'!$A$1:$B$65536,2,FALSE)","v":"Apportionment of expenses of operational buildings"}]
["Kent County Council",12009468,"SOCIAL & COMMUNITY CARE LTD","2020-04-27",4962.8599999999997,"S","32Q","Rented Accommodation Asylum 18+","527",{"$f":"VLOOKUP(I24701,'[1]Sub Lookup'!$A$1:$B$65536,2,FALSE)","v":"Services"}]
["Kent County Council",11983090,"SOFTFORGE LIMITED","2020-04-09",500,"K","2LE","Adult Education","401",{"$f":"VLOOKUP(I24709,'[1]Sub Lookup'!$A$1:$B$65536,2,FALSE)","v":"Specialists Fees"}]
["Kent County Council",12018260,"SONIA LODGE","2020-04-29",8450.14,"S","5XC","Commissioning & Service Delivery","530",{"$f":"VLOOKUP(I24729,'[1]Sub Lookup'!$A$1:$B$65536,2,FALSE)","v":"Commissioned Service - Other"}]
["Kent County Council",11992199,"SORG LIMITED T/A CAREMARK (TUNBRIDGE WELLS, TONBRIDGE AND MALLING)","2020-04-15",286,"S","5JH","Physical Support - 18 64 Long Term Support: Community: Supported Living","530",{"$f":"VLOOKUP(I24745,'[1]Sub Lookup'!$A$1:$B$65536,2,FALSE)","v":"Commissioned Service - Other"}]
["Kent County Council",11983860,"SOUTH EAST BOTTLING LIMITED","2020-04-14",18953.330000000002,"C","8EK","Economic Development","C72",{"$f":"VLOOKUP(I24756,'[1]Sub Lookup'!$A$1:$B$65536,2,FALSE)","v":"Capital Loans issued"}]
["Kent County Council",11972083,"SOUTH EASTERN SOLUTIONS LTD T/A KARE PLUS MAIDSTONE","2020-04-03",283,"S","5KG","Physical support - 65+ Long Term Support: Community: Home Care","530",{"$f":"VLOOKUP(I24773,'[1]Sub Lookup'!$A$1:$B$65536,2,FALSE)","v":"Commissioned Service - Other"}]
["Kent County Council",11992096,"SOUTH EASTERN SOLUTIONS LTD T/A KARE PLUS MAIDSTONE","2020-04-24",418,"S","5KG","Physical support - 65+ Long Term Support: Community: Home Care","530",{"$f":"VLOOKUP(I24789,'[1]Sub Lookup'!$A$1:$B$65536,2,FALSE)","v":"Commissioned Service - Other"}]
["Kent County Council",11991197,"SOUTH EASTERN SOLUTIONS LTD T/A KARE PLUS MAIDSTONE","2020-04-24",837,"S","5KG","Physical support - 65+ Long Term Support: Community: Home Care","530",{"$f":"VLOOKUP(I24797,'[1]Sub Lookup'!$A$1:$B$65536,2,FALSE)","v":"Commissioned Service - Other"}]
["Kent County Council",11973624,"SOUTH LANARKSHIRE COUNCIL","2020-04-03",3198.9300000000003,"S","5JA","Physical Support - 18 64 Long Term Support: Residential","530",{"$f":"VLOOKUP(I24813,'[1]Sub Lookup'!$A$1:$B$65536,2,FALSE)","v":"Commissioned Service - Other"}]
["Kent County Council",11946548,"SOUTHERN CARE MAINTENANCE LTD","2020-04-03",1464,"S","5KP","Physical support - 65+ Short Term - Maximising Independence - Residential","301",{"$f":"VLOOKUP(I24822,'[1]Sub Lookup'!$A$1:$B$65536,2,FALSE)","v":"Service and Repair of Equipment"}]
["Kent County Council",11983920,"SPADEWORK LTD","2020-04-21",582.6,"S","5AJ","Learning Disability Support - 18 64 Long Term Support: Community: Day Care","530",{"$f":"VLOOKUP(I24841,'[1]Sub Lookup'!$A$1:$B$65536,2,FALSE)","v":"Commissioned Service - Other"}]
["Kent County Council",11960444,"SPECIALIST COMPUTER CENTRES PLC","2020-04-09",327.98,"P","7HR","Bridges & Other Structures","302",{"$f":"VLOOKUP(I24855,'[1]Sub Lookup'!$A$1:$B$65536,2,FALSE)","v":"Computer and Other IT Expenditure (Hardware)"}]
["Kent County Council",12004477,"SPENCER HOUSE-MR SHANMUGARAJAH","2020-04-22",2030.28,"S","5KA","Physical support - 65+ Long Term Support: Residential","530",{"$f":"VLOOKUP(I24865,'[1]Sub Lookup'!$A$1:$B$65536,2,FALSE)","v":"Commissioned Service - Other"}]
["Kent County Council",11984565,"SPRING LANE DAY NURSERY","2020-04-14",27289.08,"E","1KA","School Resources","528",{"$f":"VLOOKUP(I24881,'[1]Sub Lookup'!$A$1:$B$65536,2,FALSE)","v":"Early Years Education"}]
["Kent County Council",12006267,"SPRINGFIELD LODGE DN & PS DARTFORD - BHFS LTD","2020-04-23",337.38,"E","1PA","Additional Educational Needs and Resources","528",{"$f":"VLOOKUP(I24888,'[1]Sub Lookup'!$A$1:$B$65536,2,FALSE)","v":"Early Years Education"}]
["Kent County Council",12005843,"ST ANSELMS NURSING HOME","2020-04-23",4163.68,"S","5AB","Learning Disability Support - 18 64 Long Term Support: Nursing","530",{"$f":"VLOOKUP(I24909,'[1]Sub Lookup'!$A$1:$B$65536,2,FALSE)","v":"Commissioned Service - Other"}]
["Kent County Council",11976618,"ST CLAIRE'S RESIDENTIAL HOME","2020-04-09",3134.13,"S","5PA","Sensory Support - 65+ Long Term Support: Residential","530",{"$f":"VLOOKUP(I24921,'[1]Sub Lookup'!$A$1:$B$65536,2,FALSE)","v":"Commissioned Service - Other"}]
["Kent County Council",12019014,"ST CLAIRE'S RESIDENTIAL HOME","2020-04-29",3691.3,"S","5KA","Physical support - 65+ Long Term Support: Residential","530",{"$f":"VLOOKUP(I24933,'[1]Sub Lookup'!$A$1:$B$65536,2,FALSE)","v":"Commissioned Service - Other"}]
["Kent County Council",11984440,"ST EDMUND'S SCHOOL","2020-04-14",7021.8,"E","1KA","School Resources","528",{"$f":"VLOOKUP(I24940,'[1]Sub Lookup'!$A$1:$B$65536,2,FALSE)","v":"Early Years Education"}]
["Kent County Council",11972586,"ST HILARYS NURSERY SCHOOL","2020-04-03",271.08,"E","1KA","School Resources","528",{"$f":"VLOOKUP(I24954,'[1]Sub Lookup'!$A$1:$B$65536,2,FALSE)","v":"Early Years Education"}]
["Kent County Council",11989673,"ST JOHN'S SCHOOL & COLLEGE","2020-04-15",25187.420000000002,"E","1PA","Additional Educational Needs and Resources","530",{"$f":"VLOOKUP(I24964,'[1]Sub Lookup'!$A$1:$B$65536,2,FALSE)","v":"Commissioned Service - Other"}]
["Kent County Council",11983135,"ST MARGARETS C OF E JUNIOR SCHOOL","2020-04-17",400,"S","36D","Virtual Schools Kent","401",{"$f":"VLOOKUP(I24987,'[1]Sub Lookup'!$A$1:$B$65536,2,FALSE)","v":"Specialists Fees"}]
["Kent County Council",12006587,"ST MARGARETS NURSING HOME","2020-04-23",933.72,"S","5KB","Physical support - 65+ Long Term Support: Nursing","530",{"$f":"VLOOKUP(I25001,'[1]Sub Lookup'!$A$1:$B$65536,2,FALSE)","v":"Commissioned Service - Other"}]
["Kent County Council",11985292,"ST MARTIN'S PRE-SCHOOL CIO","2020-04-14",14049.36,"E","1KA","School Resources","528",{"$f":"VLOOKUP(I25008,'[1]Sub Lookup'!$A$1:$B$65536,2,FALSE)","v":"Early Years Education"}]
["Kent County Council",12018285,"ST MARTINS OF TOURS HOUSE","2020-04-29",1082.17,"S","5XC","Commissioning & Service Delivery","530",{"$f":"VLOOKUP(I25020,'[1]Sub Lookup'!$A$1:$B$65536,2,FALSE)","v":"Commissioned Service - Other"}]
["Kent County Council",11966912,"ST MARYS RESIDENTIAL HOME","2020-04-01",810.02,"S","5XC","Commissioning & Service Delivery","530",{"$f":"VLOOKUP(I25032,'[1]Sub Lookup'!$A$1:$B$65536,2,FALSE)","v":"Commissioned Service - Other"}]
["Kent County Council",12005541,"ST MICHAELS NURSING HOME (CHC)","2020-04-22",3584.52,"S","5KB","Physical support - 65+ Long Term Support: Nursing","530",{"$f":"VLOOKUP(I25049,'[1]Sub Lookup'!$A$1:$B$65536,2,FALSE)","v":"Commissioned Service - Other"}]
["Kent County Council",11982602,"ST PETER'S HOME LTD","2020-04-08",985.71,"S","5KU","Physical support - 65+ Short Term - Other - Residential","530",{"$f":"VLOOKUP(I25069,'[1]Sub Lookup'!$A$1:$B$65536,2,FALSE)","v":"Commissioned Service - Other"}]
["Kent County Council",12018291,"ST PETER'S HOME LTD","2020-04-29",9591.9500000000007,"S","5XC","Commissioning & Service Delivery","530",{"$f":"VLOOKUP(I25076,'[1]Sub Lookup'!$A$1:$B$65536,2,FALSE)","v":"Commissioned Service - Other"}]
["Kent County Council",11966917,"ST STEPHEN'S RESIDENTIAL HOME","2020-04-01",16800.78,"S","5XC","Commissioning & Service Delivery","530",{"$f":"VLOOKUP(I25086,'[1]Sub Lookup'!$A$1:$B$65536,2,FALSE)","v":"Commissioned Service - Other"}]
["Kent County Council",12005320,"ST STEPHEN'S RESIDENTIAL HOME","2020-04-22",4048.4,"S","5AA","Learning Disability Support - 18 64 Long Term Support: Residential","530",{"$f":"VLOOKUP(I25100,'[1]Sub Lookup'!$A$1:$B$65536,2,FALSE)","v":"Commissioned Service - Other"}]
["Kent County Council",12002567,"ST WINIFREDS RESIDENTIAL HOME","2020-04-22",3450.36,"S","5TA","Support with Memory & Cognition - 65+ Long Term Support: Residential","530",{"$f":"VLOOKUP(I25115,'[1]Sub Lookup'!$A$1:$B$65536,2,FALSE)","v":"Commissioned Service - Other"}]
["Kent County Council",11985316,"STAPLE PRE-SCHOOL","2020-04-14",9487.5300000000007,"E","1KA","School Resources","528",{"$f":"VLOOKUP(I25137,'[1]Sub Lookup'!$A$1:$B$65536,2,FALSE)","v":"Early Years Education"}]
["Kent County Council",11985198,"STAR KIDS DAY NURSERY AND PRE-SCHOOL","2020-04-14",23868,"E","1KA","School Resources","528",{"$f":"VLOOKUP(I25144,'[1]Sub Lookup'!$A$1:$B$65536,2,FALSE)","v":"Early Years Education"}]
["Kent County Council",11990950,"STARJUMPZ CHILDREN'S CENTRE","2020-04-21",1016,"E","1PA","Additional Educational Needs and Resources","401",{"$f":"VLOOKUP(I25152,'[1]Sub Lookup'!$A$1:$B$65536,2,FALSE)","v":"Specialists Fees"}]
["Kent County Council",11935495,"STATION CARS OXTED LTD","2020-04-22",-520,"E","1RX","Admissions & Transport","222",{"$f":"VLOOKUP(I25168,'[1]Sub Lookup'!$A$1:$B$65536,2,FALSE)","v":"Home to School Transport - Hired"}]
["Kent County Council",11983275,"STEP 4 WARD SERVICES (KENT) LTD","2020-04-17",1200,"S","32Q","Rented Accommodation Asylum 18+","527",{"$f":"VLOOKUP(I25181,'[1]Sub Lookup'!$A$1:$B$65536,2,FALSE)","v":"Services"}]
["Kent County Council",11975859,"STEP 4 WARD SERVICES (KENT) LTD","2020-04-17",1840,"S","32P","Rented Accommodation Asylum 16-17","527",{"$f":"VLOOKUP(I25192,'[1]Sub Lookup'!$A$1:$B$65536,2,FALSE)","v":"Services"}]
["Kent County Council",12018297,"STEPPING STONES CARE HOMES (PHOENIX HOUSE) LTD","2020-04-29",1299.06,"S","5XC","Commissioning & Service Delivery","530",{"$f":"VLOOKUP(I25212,'[1]Sub Lookup'!$A$1:$B$65536,2,FALSE)","v":"Commissioned Service - Other"}]
["Kent County Council",12001731,"STEVE JOHNSON IT CONSULTANT","2020-04-28",11006.2,"E","1PA","Additional Educational Needs and Resources","402",{"$f":"VLOOKUP(I25228,'[1]Sub Lookup'!$A$1:$B$65536,2,FALSE)","v":"Consultants"}]
["Kent County Council",12006469,"STICKY FINGERS PRE-SCHOOL-VIGO","2020-04-23",265.08,"E","1PA","Additional Educational Needs and Resources","528",{"$f":"VLOOKUP(I25236,'[1]Sub Lookup'!$A$1:$B$65536,2,FALSE)","v":"Early Years Education"}]
["Kent County Council",11957790,"STREAMLINE (KENT) LTD","2020-04-02",402,"K","2SF","Social Fund (including Refugee Families)","232",{"$f":"VLOOKUP(I25247,'[1]Sub Lookup'!$A$1:$B$65536,2,FALSE)","v":"Public Transport (Clients)"}]
["Kent County Council",12001049,"STREAMLINE (KENT) LTD","2020-04-22",5254,"E","1RX","Admissions & Transport","222",{"$f":"VLOOKUP(I25260,'[1]Sub Lookup'!$A$1:$B$65536,2,FALSE)","v":"Home to School Transport - Hired"}]
["Kent County Council",12001033,"STREAMLINE (KENT) LTD","2020-04-22",5300.32,"E","1RX","Admissions & Transport","222",{"$f":"VLOOKUP(I25280,'[1]Sub Lookup'!$A$1:$B$65536,2,FALSE)","v":"Home to School Transport - Hired"}]
["Kent County Council",11966924,"STREET FARM CARE HOME","2020-04-01",782.59,"S","5XC","Commissioning & Service Delivery","530",{"$f":"VLOOKUP(I25294,'[1]Sub Lookup'!$A$1:$B$65536,2,FALSE)","v":"Commissioned Service - Other"}]
["Kent County Council",11990349,"STREETWISE SERVICES LTD","2020-04-24",1100,"P","7HH","Highway Improvements","C20",{"$f":"VLOOKUP(I25304,'[1]Sub Lookup'!$A$1:$B$65536,2,FALSE)","v":"Infrastructure"}]
["Kent County Council",11966440,"STRODE PARK FOUNDATION","2020-04-01",2252.2600000000002,"S","5XC","Commissioning & Service Delivery","530",{"$f":"VLOOKUP(I25313,'[1]Sub Lookup'!$A$1:$B$65536,2,FALSE)","v":"Commissioned Service - Other"}]
["Kent County Council",11990650,"STRODE PARK FOUNDATION","2020-04-15",364,"S","5KG","Physical support - 65+ Long Term Support: Community: Home Care","530",{"$f":"VLOOKUP(I25328,'[1]Sub Lookup'!$A$1:$B$65536,2,FALSE)","v":"Commissioned Service - Other"}]
["Kent County Council",12006608,"STRODE PARK FOUNDATION","2020-04-23",5338.4000000000005,"S","5KA","Physical support - 65+ Long Term Support: Residential","520",{"$f":"VLOOKUP(I25348,'[1]Sub Lookup'!$A$1:$B$65536,2,FALSE)","v":"Voluntary Associations"}]
["Kent County Council",12006610,"STRODE PARK FOUNDATION","2020-04-23",5339.8,"S","5JA","Physical Support - 18 64 Long Term Support: Residential","520",{"$f":"VLOOKUP(I25360,'[1]Sub Lookup'!$A$1:$B$65536,2,FALSE)","v":"Voluntary Associations"}]
["Kent County Council",12011574,"STRODE PARK FOUNDATION","2020-04-28",5437.1,"S","5JW","Physical Support - 18 64 Short Term - Other - Non-Residential Care Services","523",{"$f":"VLOOKUP(I25372,'[1]Sub Lookup'!$A$1:$B$65536,2,FALSE)","v":"Private Contractors"}]
["Kent County Council",12017857,"STRODE PARK FOUNDATION","2020-04-29",2252.2600000000002,"S","5XC","Commissioning & Service Delivery","530",{"$f":"VLOOKUP(I25379,'[1]Sub Lookup'!$A$1:$B$65536,2,FALSE)","v":"Commissioned Service - Other"}]
["Kent County Council",11997409,"STROOD CABS LTD","2020-04-20",1092,"E","1RX","Admissions & Transport","222",{"$f":"VLOOKUP(I25400,'[1]Sub Lookup'!$A$1:$B$65536,2,FALSE)","v":"Home to School Transport - Hired"}]
["Kent County Council",12014109,"STROUD CARE SERVICES LTD","2020-04-29",1534.5,"S","5JG","Physical Support - 18 64 Long Term Support: Community: Home Care","530",{"$f":"VLOOKUP(I25416,'[1]Sub Lookup'!$A$1:$B$65536,2,FALSE)","v":"Commissioned Service - Other"}]
["Kent County Council",12006954,"SUNNINGDALE HOUSE DEVELOPMENT LTD","2020-04-24",11073.53,"P","9AR","Revenue Balance Sheet","BMA",{"$f":"VLOOKUP(I25426,'[1]Sub Lookup'!$A$1:$B$65536,2,FALSE)","v":"Receipts in Advance"}]
["Kent County Council",11976248,"SUPPLY DESK LTD","2020-04-09",636.66,"E","1PA","Additional Educational Needs and Resources","401",{"$f":"VLOOKUP(I25440,'[1]Sub Lookup'!$A$1:$B$65536,2,FALSE)","v":"Specialists Fees"}]
["Kent County Council",12019906,"SUSSEX HEALTH CARE CLEMSFOLD GROUP LIMITED","2020-04-30",8004.47,"S","5AA","Learning Disability Support - 18 64 Long Term Support: Residential","530",{"$f":"VLOOKUP(I25459,'[1]Sub Lookup'!$A$1:$B$65536,2,FALSE)","v":"Commissioned Service - Other"}]
["Kent County Council",12019900,"SUSSEX HEALTH CARE RAPKYNS GROUP LIMITED","2020-04-30",7979.31,"S","5AA","Learning Disability Support - 18 64 Long Term Support: Residential","530",{"$f":"VLOOKUP(I25468,'[1]Sub Lookup'!$A$1:$B$65536,2,FALSE)","v":"Commissioned Service - Other"}]
["Kent County Council",11993902,"SUZY BRAYE","2020-04-24",1200,"C","8DH","Personnel and Development","064",{"$f":"VLOOKUP(I25484,'[1]Sub Lookup'!$A$1:$B$65536,2,FALSE)","v":"External Training"}]
["Kent County Council",11996763,"SW DRAINAGE SOLUTIONS LTD","2020-04-20",1180,"P","7PE","Gypsy & Traveller Unit","100",{"$f":"VLOOKUP(I25492,'[1]Sub Lookup'!$A$1:$B$65536,2,FALSE)","v":"Maintenance of Grounds"}]
["Kent County Council",11972008,"SWALE BOROUGH COUNCIL","2020-04-03",1372.25,"C","2LC","Libraries, Registration & Archives","123",{"$f":"VLOOKUP(I25512,'[1]Sub Lookup'!$A$1:$B$65536,2,FALSE)","v":"National and Non Domestic Rates and Council Tax"}]
["Kent County Council",11982115,"SWALE BOROUGH COUNCIL","2020-04-09",4500,"P","7WG","Household Waste Recycling Centres","120",{"$f":"VLOOKUP(I25525,'[1]Sub Lookup'!$A$1:$B$65536,2,FALSE)","v":"External - Rent, Room Hire & Service Charges"}]
["Kent County Council",12001427,"SWALE CABS","2020-04-22",1200,"S","5AJ","Learning Disability Support - 18 64 Long Term Support: Community: Day Care","232",{"$f":"VLOOKUP(I25536,'[1]Sub Lookup'!$A$1:$B$65536,2,FALSE)","v":"Public Transport (Clients)"}]
["Kent County Council",11997627,"SWANLEY TRAVEL LIMITED","2020-04-20",2688,"E","1RX","Admissions & Transport","222",{"$f":"VLOOKUP(I25552,'[1]Sub Lookup'!$A$1:$B$65536,2,FALSE)","v":"Home to School Transport - Hired"}]
["Kent County Council",12006282,"SWANSCOMBE SPRINGFIELD LODGE - BHFS LTD","2020-04-23",265.08,"E","1PA","Additional Educational Needs and Resources","528",{"$f":"VLOOKUP(I25558,'[1]Sub Lookup'!$A$1:$B$65536,2,FALSE)","v":"Early Years Education"}]
["Kent County Council",11967154,"SYMBOL FAMILY SUPPORT SERVICES LIMITED","2020-04-01",19337.080000000002,"S","5XC","Commissioning & Service Delivery","530",{"$f":"VLOOKUP(I25567,'[1]Sub Lookup'!$A$1:$B$65536,2,FALSE)","v":"Commissioned Service - Other"}]
["Kent County Council",11958847,"SYMBOL FAMILY SUPPORT SERVICES LIMITED","2020-04-09",6665.32,"S","5AH","Learning Disability Support - 18 64 Long Term Support: Community: Supported Living","530",{"$f":"VLOOKUP(I25583,'[1]Sub Lookup'!$A$1:$B$65536,2,FALSE)","v":"Commissioned Service - Other"}]
["Kent County Council",12011924,"SYMBOL FAMILY SUPPORT SERVICES LIMITED","2020-04-28",1450.8,"S","5AH","Learning Disability Support - 18 64 Long Term Support: Community: Supported Living","523",{"$f":"VLOOKUP(I25605,'[1]Sub Lookup'!$A$1:$B$65536,2,FALSE)","v":"Private Contractors"}]
["Kent County Council",12011926,"SYMBOL FAMILY SUPPORT SERVICES LIMITED","2020-04-28",3713.66,"S","5AH","Learning Disability Support - 18 64 Long Term Support: Community: Supported Living","523",{"$f":"VLOOKUP(I25607,'[1]Sub Lookup'!$A$1:$B$65536,2,FALSE)","v":"Private Contractors"}]
["Kent County Council",12011914,"SYMBOL FAMILY SUPPORT SERVICES LIMITED","2020-04-28",1869.1200000000001,"S","5AH","Learning Disability Support - 18 64 Long Term Support: Community: Supported Living","523",{"$f":"VLOOKUP(I25624,'[1]Sub Lookup'!$A$1:$B$65536,2,FALSE)","v":"Private Contractors"}]
["Kent County Council",12020038,"SYMBOL FAMILY SUPPORT SERVICES LIMITED","2020-04-30",296.64,"S","5BH","Learning Disability Support - 65+ Long Term Support: Community: Supported Living","530",{"$f":"VLOOKUP(I25635,'[1]Sub Lookup'!$A$1:$B$65536,2,FALSE)","v":"Commissioned Service - Other"}]
["Kent County Council",11946484,"SYSTRA LTD","2020-04-08",1635.3,"P","7HH","Highway Improvements","402",{"$f":"VLOOKUP(I25651,'[1]Sub Lookup'!$A$1:$B$65536,2,FALSE)","v":"Consultants"}]
["Kent County Council",12000977,"T & T CARS","2020-04-22",2127.5,"E","1RX","Admissions & Transport","222",{"$f":"VLOOKUP(I25671,'[1]Sub Lookup'!$A$1:$B$65536,2,FALSE)","v":"Home to School Transport - Hired"}]
["Kent County Council",11993409,"T BODY (JNR) PLANT HIRE LTD","2020-04-17",7139.68,"P","7HZ","Structural Maintenance and Major Improvements","C20",{"$f":"VLOOKUP(I25679,'[1]Sub Lookup'!$A$1:$B$65536,2,FALSE)","v":"Infrastructure"}]
["Kent County Council",11992514,"T. BOURNE & SON LTD T/A BOURNES BUSINESS MOVES","2020-04-24",325,"P","7PA","Development Planning","401",{"$f":"VLOOKUP(I25690,'[1]Sub Lookup'!$A$1:$B$65536,2,FALSE)","v":"Specialists Fees"}]
["Kent County Council",11993426,"TAMESIDE MBC","2020-04-21",1600,"C","8DF","Finance","451",{"$f":"VLOOKUP(I25703,'[1]Sub Lookup'!$A$1:$B$65536,2,FALSE)","v":"Subscriptions"}]
["Kent County Council",11990313,"TED LAZLO","2020-04-17",3500,"E","1RF","Contingency","401",{"$f":"VLOOKUP(I25719,'[1]Sub Lookup'!$A$1:$B$65536,2,FALSE)","v":"Specialists Fees"}]
["Kent County Council",11979792,"TELENT TECHNOLOGY SERVICES LTD","2020-04-17",23713.100000000002,"P","7HS","Traffic Systems - Maint/Energy","523",{"$f":"VLOOKUP(I25737,'[1]Sub Lookup'!$A$1:$B$65536,2,FALSE)","v":"Private Contractors"}]
["Kent County Council",11979691,"TELENT TECHNOLOGY SERVICES LTD","2020-04-17",44234.41,"P","7HZ","Structural Maintenance and Major Improvements","C20",{"$f":"VLOOKUP(I25747,'[1]Sub Lookup'!$A$1:$B$65536,2,FALSE)","v":"Infrastructure"}]
["Kent County Council",11971733,"TENDER LOVING CARERS DOMICILIARY LTD","2020-04-09",678.72,"S","5KG","Physical support - 65+ Long Term Support: Community: Home Care","530",{"$f":"VLOOKUP(I25756,'[1]Sub Lookup'!$A$1:$B$65536,2,FALSE)","v":"Commissioned Service - Other"}]
["Kent County Council",11990660,"TENTERDEN SOCIAL HUB","2020-04-24",465,"S","5JJ","Physical Support - 18 64 Long Term Support: Community: Day Care","520",{"$f":"VLOOKUP(I25771,'[1]Sub Lookup'!$A$1:$B$65536,2,FALSE)","v":"Voluntary Associations"}]
["Kent County Council",12002530,"TERRANCE HOUSE CARE LTD","2020-04-22",3762.56,"S","5JA","Physical Support - 18 64 Long Term Support: Residential","530",{"$f":"VLOOKUP(I25791,'[1]Sub Lookup'!$A$1:$B$65536,2,FALSE)","v":"Commissioned Service - Other"}]
["Kent County Council",12005207,"TERRANCE HOUSE CARE LTD","2020-04-22",2345,"S","5EH","Mental Health Support - 18 64 Long Term Support: Community: Supported Living","530",{"$f":"VLOOKUP(I25803,'[1]Sub Lookup'!$A$1:$B$65536,2,FALSE)","v":"Commissioned Service - Other"}]
["Kent County Council",12005211,"TERRANCE HOUSE CARE LTD","2020-04-22",1867.56,"S","5EH","Mental Health Support - 18 64 Long Term Support: Community: Supported Living","530",{"$f":"VLOOKUP(I25815,'[1]Sub Lookup'!$A$1:$B$65536,2,FALSE)","v":"Commissioned Service - Other"}]
["Kent County Council",12018610,"TERRANCE HOUSE CARE LTD","2020-04-29",25331.5,"S","5XC","Commissioning & Service Delivery","530",{"$f":"VLOOKUP(I25822,'[1]Sub Lookup'!$A$1:$B$65536,2,FALSE)","v":"Commissioned Service - Other"}]
["Kent County Council",12019382,"THANET DISABLED RIDING CENTRE","2020-04-30",5000,"K","2AB","Community Liason","450",{"$f":"VLOOKUP(I25839,'[1]Sub Lookup'!$A$1:$B$65536,2,FALSE)","v":"Grants"}]
["Kent County Council",11989536,"THANET DISTRICT COUNCIL","2020-04-15",6487,"C","36P","Children's Centres","123",{"$f":"VLOOKUP(I25859,'[1]Sub Lookup'!$A$1:$B$65536,2,FALSE)","v":"National and Non Domestic Rates and Council Tax"}]
["Kent County Council",11980128,"THANET UNITED YOUTH FC","2020-04-08",1960,"K","2AB","Community Liason","450",{"$f":"VLOOKUP(I25869,'[1]Sub Lookup'!$A$1:$B$65536,2,FALSE)","v":"Grants"}]
["Kent County Council",11996771,"THE ALLIED HEALTH PRACTICE","2020-04-28",346.7,"E","1PA","Additional Educational Needs and Resources","401",{"$f":"VLOOKUP(I25883,'[1]Sub Lookup'!$A$1:$B$65536,2,FALSE)","v":"Specialists Fees"}]
["Kent County Council",11985361,"THE AVENUES MONTESSORI NURSERY SCHOOL","2020-04-14",46977.06,"E","1KA","School Resources","528",{"$f":"VLOOKUP(I25888,'[1]Sub Lookup'!$A$1:$B$65536,2,FALSE)","v":"Early Years Education"}]
["Kent County Council",11964771,"THE AVENUES TRUST GROUP","2020-04-01",2507.9,"S","5AA","Learning Disability Support - 18 64 Long Term Support: Residential","530",{"$f":"VLOOKUP(I25907,'[1]Sub Lookup'!$A$1:$B$65536,2,FALSE)","v":"Commissioned Service - Other"}]
["Kent County Council",11970194,"THE AVENUES TRUST GROUP","2020-04-01",2547.08,"S","5AH","Learning Disability Support - 18 64 Long Term Support: Community: Supported Living","530",{"$f":"VLOOKUP(I25927,'[1]Sub Lookup'!$A$1:$B$65536,2,FALSE)","v":"Commissioned Service - Other"}]
["Kent County Council",11966245,"THE AVENUES TRUST GROUP","2020-04-01",7808.26,"S","5XC","Commissioning & Service Delivery","530",{"$f":"VLOOKUP(I25935,'[1]Sub Lookup'!$A$1:$B$65536,2,FALSE)","v":"Commissioned Service - Other"}]
["Kent County Council",11970195,"THE AVENUES TRUST GROUP","2020-04-01",5631.57,"S","9AR","Revenue Balance Sheet","BEA",{"$f":"VLOOKUP(I25951,'[1]Sub Lookup'!$A$1:$B$65536,2,FALSE)","v":"Payments in Advance - General"}]
["Kent County Council",11964781,"THE AVENUES TRUST GROUP","2020-04-01",3691.84,"S","5AA","Learning Disability Support - 18 64 Long Term Support: Residential","530",{"$f":"VLOOKUP(I25964,'[1]Sub Lookup'!$A$1:$B$65536,2,FALSE)","v":"Commissioned Service - Other"}]
["Kent County Council",11964797,"THE AVENUES TRUST GROUP","2020-04-01",328.29,"S","5KH","Physical support - 65+ Long Term Support: Community: Supported Living","530",{"$f":"VLOOKUP(I25975,'[1]Sub Lookup'!$A$1:$B$65536,2,FALSE)","v":"Commissioned Service - Other"}]
["Kent County Council",11964769,"THE AVENUES TRUST GROUP","2020-04-01",2831.05,"S","5AH","Learning Disability Support - 18 64 Long Term Support: Community: Supported Living","530",{"$f":"VLOOKUP(I25982,'[1]Sub Lookup'!$A$1:$B$65536,2,FALSE)","v":"Commissioned Service - Other"}]
["Kent County Council",11964777,"THE AVENUES TRUST GROUP","2020-04-01",1997.1100000000001,"S","5BA","Learning Disability Support - 65+ Long Term Support: Residential","520",{"$f":"VLOOKUP(I26001,'[1]Sub Lookup'!$A$1:$B$65536,2,FALSE)","v":"Voluntary Associations"}]
["Kent County Council",11964897,"THE AVENUES TRUST GROUP","2020-04-01",4535.54,"S","9AR","Revenue Balance Sheet","BEA",{"$f":"VLOOKUP(I26019,'[1]Sub Lookup'!$A$1:$B$65536,2,FALSE)","v":"Payments in Advance - General"}]
["Kent County Council",11970206,"THE AVENUES TRUST GROUP","2020-04-01",2745.54,"S","5AA","Learning Disability Support - 18 64 Long Term Support: Residential","530",{"$f":"VLOOKUP(I26030,'[1]Sub Lookup'!$A$1:$B$65536,2,FALSE)","v":"Commissioned Service - Other"}]
["Kent County Council",11916340,"THE AVENUES TRUST GROUP","2020-04-03",10607.52,"S","5BH","Learning Disability Support - 65+ Long Term Support: Community: Supported Living","530",{"$f":"VLOOKUP(I26043,'[1]Sub Lookup'!$A$1:$B$65536,2,FALSE)","v":"Commissioned Service - Other"}]
["Kent County Council",11916420,"THE AVENUES TRUST GROUP","2020-04-03",7126.04,"S","5BH","Learning Disability Support - 65+ Long Term Support: Community: Supported Living","530",{"$f":"VLOOKUP(I26050,'[1]Sub Lookup'!$A$1:$B$65536,2,FALSE)","v":"Commissioned Service - Other"}]
["Kent County Council",11916415,"THE AVENUES TRUST GROUP","2020-04-03",6804.12,"S","5BH","Learning Disability Support - 65+ Long Term Support: Community: Supported Living","530",{"$f":"VLOOKUP(I26067,'[1]Sub Lookup'!$A$1:$B$65536,2,FALSE)","v":"Commissioned Service - Other"}]
["Kent County Council",11989425,"THE AVENUES TRUST GROUP","2020-04-14",13759.28,"S","5AH","Learning Disability Support - 18 64 Long Term Support: Community: Supported Living","530",{"$f":"VLOOKUP(I26087,'[1]Sub Lookup'!$A$1:$B$65536,2,FALSE)","v":"Commissioned Service - Other"}]
["Kent County Council",11995740,"THE AVENUES TRUST GROUP","2020-04-17",2236.52,"S","5AH","Learning Disability Support - 18 64 Long Term Support: Community: Supported Living","530",{"$f":"VLOOKUP(I26096,'[1]Sub Lookup'!$A$1:$B$65536,2,FALSE)","v":"Commissioned Service - Other"}]
["Kent County Council",12018918,"THE AVENUES TRUST GROUP","2020-04-29",8541.68,"S","5AA","Learning Disability Support - 18 64 Long Term Support: Residential","530",{"$f":"VLOOKUP(I26111,'[1]Sub Lookup'!$A$1:$B$65536,2,FALSE)","v":"Commissioned Service - Other"}]
["Kent County Council",12018922,"THE AVENUES TRUST GROUP","2020-04-29",6762.4000000000005,"S","5AA","Learning Disability Support - 18 64 Long Term Support: Residential","530",{"$f":"VLOOKUP(I26118,'[1]Sub Lookup'!$A$1:$B$65536,2,FALSE)","v":"Commissioned Service - Other"}]
["Kent County Council",12019933,"THE AVENUES TRUST GROUP","2020-04-30",7678.32,"S","5BA","Learning Disability Support - 65+ Long Term Support: Residential","530",{"$f":"VLOOKUP(I26129,'[1]Sub Lookup'!$A$1:$B$65536,2,FALSE)","v":"Commissioned Service - Other"}]
["Kent County Council",12006861,"THE BRANDON TRUST","2020-04-23",5281.12,"S","5AG","Learning Disability Support - 18 64 Long Term Support: Community: Home Care","530",{"$f":"VLOOKUP(I26155,'[1]Sub Lookup'!$A$1:$B$65536,2,FALSE)","v":"Commissioned Service - Other"}]
["Kent County Council",11952600,"THE CALDECOTT FOUNDATION","2020-04-21",7587,"E","1PA","Additional Educational Needs and Resources","530",{"$f":"VLOOKUP(I26162,'[1]Sub Lookup'!$A$1:$B$65536,2,FALSE)","v":"Commissioned Service - Other"}]
["Kent County Council",12012023,"THE CALDECOTT FOUNDATION","2020-04-28",12675,"E","1PA","Additional Educational Needs and Resources","530",{"$f":"VLOOKUP(I26179,'[1]Sub Lookup'!$A$1:$B$65536,2,FALSE)","v":"Commissioned Service - Other"}]
["Kent County Council",12019444,"THE CALDECOTT FOUNDATION","2020-04-30",12675,"E","1PA","Additional Educational Needs and Resources","530",{"$f":"VLOOKUP(I26186,'[1]Sub Lookup'!$A$1:$B$65536,2,FALSE)","v":"Commissioned Service - Other"}]
["Kent County Council",11979665,"THE CEDARS SURGERY","2020-04-17",656,"C","8PB","Sexual Health Services - Contraception","522",{"$f":"VLOOKUP(I26209,'[1]Sub Lookup'!$A$1:$B$65536,2,FALSE)","v":"District Health Authorities"}]
["Kent County Council",11972616,"THE CHAPEL NURSERY - SUPER START LTD","2020-04-03",301.2,"E","1KA","School Resources","528",{"$f":"VLOOKUP(I26210,'[1]Sub Lookup'!$A$1:$B$65536,2,FALSE)","v":"Early Years Education"}]
["Kent County Council",11960543,"THE DRIVE CARE HOMES LTD","2020-04-14",13505.77,"S","31D","IS  Res Care for Dis Child","527",{"$f":"VLOOKUP(I26228,'[1]Sub Lookup'!$A$1:$B$65536,2,FALSE)","v":"Services"}]
["Kent County Council",11979953,"THE FIFTH TRUST DAY CENTRE","2020-04-08",487.2,"S","5AJ","Learning Disability Support - 18 64 Long Term Support: Community: Day Care","530",{"$f":"VLOOKUP(I26238,'[1]Sub Lookup'!$A$1:$B$65536,2,FALSE)","v":"Commissioned Service - Other"}]
["Kent County Council",11997047,"THE FIFTH TRUST DAY CENTRE","2020-04-24",498.26,"S","5AJ","Learning Disability Support - 18 64 Long Term Support: Community: Day Care","530",{"$f":"VLOOKUP(I26254,'[1]Sub Lookup'!$A$1:$B$65536,2,FALSE)","v":"Commissioned Service - Other"}]
["Kent County Council",11990942,"THE FIFTH TRUST DAY CENTRE","2020-04-24",730.80000000000007,"S","5AJ","Learning Disability Support - 18 64 Long Term Support: Community: Day Care","530",{"$f":"VLOOKUP(I26275,'[1]Sub Lookup'!$A$1:$B$65536,2,FALSE)","v":"Commissioned Service - Other"}]
["Kent County Council",11990952,"THE FIFTH TRUST DAY CENTRE","2020-04-24",649.6,"S","5AJ","Learning Disability Support - 18 64 Long Term Support: Community: Day Care","530",{"$f":"VLOOKUP(I26278,'[1]Sub Lookup'!$A$1:$B$65536,2,FALSE)","v":"Commissioned Service - Other"}]
["Kent County Council",11993780,"THE FIFTH TRUST DAY CENTRE","2020-04-24",588.70000000000005,"S","5AJ","Learning Disability Support - 18 64 Long Term Support: Community: Day Care","530",{"$f":"VLOOKUP(I26294,'[1]Sub Lookup'!$A$1:$B$65536,2,FALSE)","v":"Commissioned Service - Other"}]
["Kent County Council",12011532,"THE FIFTH TRUST DAY CENTRE","2020-04-28",613.83000000000004,"S","5AJ","Learning Disability Support - 18 64 Long Term Support: Community: Day Care","523",{"$f":"VLOOKUP(I26306,'[1]Sub Lookup'!$A$1:$B$65536,2,FALSE)","v":"Private Contractors"}]
["Kent County Council",11994050,"THE FORWARD TRUST","2020-04-24",12749,"C","8PT","Drug and Alcohol Services","530",{"$f":"VLOOKUP(I26322,'[1]Sub Lookup'!$A$1:$B$65536,2,FALSE)","v":"Commissioned Service - Other"}]
["Kent County Council",12013873,"THE FREWEN EDUCATIONAL TRUST LTD","2020-04-28",7808,"E","1PA","Additional Educational Needs and Resources","530",{"$f":"VLOOKUP(I26341,'[1]Sub Lookup'!$A$1:$B$65536,2,FALSE)","v":"Commissioned Service - Other"}]
["Kent County Council",12013847,"THE FREWEN EDUCATIONAL TRUST LTD","2020-04-28",8933,"E","1PA","Additional Educational Needs and Resources","530",{"$f":"VLOOKUP(I26346,'[1]Sub Lookup'!$A$1:$B$65536,2,FALSE)","v":"Commissioned Service - Other"}]
["Kent County Council",12019543,"THE FREWEN EDUCATIONAL TRUST LTD","2020-04-30",1100,"E","1PA","Additional Educational Needs and Resources","401",{"$f":"VLOOKUP(I26360,'[1]Sub Lookup'!$A$1:$B$65536,2,FALSE)","v":"Specialists Fees"}]
["Kent County Council",12005738,"THE GALAXY TRUST","2020-04-23",500,"K","2LE","Adult Education","401",{"$f":"VLOOKUP(I26374,'[1]Sub Lookup'!$A$1:$B$65536,2,FALSE)","v":"Specialists Fees"}]
["Kent County Council",11998360,"THE GARDEN OF ENGLAND HOMECARE","2020-04-21",1058.48,"S","5KG","Physical support - 65+ Long Term Support: Community: Home Care","530",{"$f":"VLOOKUP(I26390,'[1]Sub Lookup'!$A$1:$B$65536,2,FALSE)","v":"Commissioned Service - Other"}]
["Kent County Council",11992245,"THE GRANGE","2020-04-15",5396,"S","5BA","Learning Disability Support - 65+ Long Term Support: Residential","530",{"$f":"VLOOKUP(I26407,'[1]Sub Lookup'!$A$1:$B$65536,2,FALSE)","v":"Commissioned Service - Other"}]
["Kent County Council",11964967,"THE GRANGE (2016) LTD BENENDEN","2020-04-01",1108.21,"S","5AA","Learning Disability Support - 18 64 Long Term Support: Residential","530",{"$f":"VLOOKUP(I26418,'[1]Sub Lookup'!$A$1:$B$65536,2,FALSE)","v":"Commissioned Service - Other"}]
["Kent County Council",11964970,"THE GRANGE (2016) LTD BENENDEN","2020-04-01",3807.14,"S","9AR","Revenue Balance Sheet","BEA",{"$f":"VLOOKUP(I26426,'[1]Sub Lookup'!$A$1:$B$65536,2,FALSE)","v":"Payments in Advance - General"}]
["Kent County Council",12013970,"THE GRANGE (2016) LTD BENENDEN","2020-04-28",3778.2000000000003,"S","5AA","Learning Disability Support - 18 64 Long Term Support: Residential","530",{"$f":"VLOOKUP(I26442,'[1]Sub Lookup'!$A$1:$B$65536,2,FALSE)","v":"Commissioned Service - Other"}]
["Kent County Council",12018320,"THE GRANGE (2016) LTD BENENDEN","2020-04-29",14104.45,"S","5XC","Commissioning & Service Delivery","530",{"$f":"VLOOKUP(I26458,'[1]Sub Lookup'!$A$1:$B$65536,2,FALSE)","v":"Commissioned Service - Other"}]
["Kent County Council",11992346,"THE GRANGE CARE HOME","2020-04-15",2003.56,"S","5TA","Support with Memory & Cognition - 65+ Long Term Support: Residential","530",{"$f":"VLOOKUP(I26473,'[1]Sub Lookup'!$A$1:$B$65536,2,FALSE)","v":"Commissioned Service - Other"}]
["Kent County Council",11985364,"THE GRANGE MONTESSORI NURSERY SCHOOL","2020-04-14",56174.630000000005,"E","1KA","School Resources","528",{"$f":"VLOOKUP(I26486,'[1]Sub Lookup'!$A$1:$B$65536,2,FALSE)","v":"Early Years Education"}]
["Kent County Council",11966586,"THE HAILEY HOTEL","2020-04-01",22859.88,"S","5XC","Commissioning & Service Delivery","530",{"$f":"VLOOKUP(I26492,'[1]Sub Lookup'!$A$1:$B$65536,2,FALSE)","v":"Commissioned Service - Other"}]
["Kent County Council",11982609,"THE HAILEY HOTEL","2020-04-08",5775.02,"S","5AA","Learning Disability Support - 18 64 Long Term Support: Residential","530",{"$f":"VLOOKUP(I26510,'[1]Sub Lookup'!$A$1:$B$65536,2,FALSE)","v":"Commissioned Service - Other"}]
["Kent County Council",11967164,"THE HESLEY GROUP","2020-04-01",8220.61,"S","5XC","Commissioning & Service Delivery","530",{"$f":"VLOOKUP(I26530,'[1]Sub Lookup'!$A$1:$B$65536,2,FALSE)","v":"Commissioned Service - Other"}]
["Kent County Council",11966980,"THE HOCKEREDGE","2020-04-01",1590,"S","5XC","Commissioning & Service Delivery","530",{"$f":"VLOOKUP(I26539,'[1]Sub Lookup'!$A$1:$B$65536,2,FALSE)","v":"Commissioned Service - Other"}]
["Kent County Council",11976651,"THE HOCKEREDGE","2020-04-08",3180,"S","5KB","Physical support - 65+ Long Term Support: Nursing","530",{"$f":"VLOOKUP(I26554,'[1]Sub Lookup'!$A$1:$B$65536,2,FALSE)","v":"Commissioned Service - Other"}]
["Kent County Council",11976657,"THE HOCKEREDGE","2020-04-08",3180,"S","5TB","Support with Memory & Cognition - 65+ Long Term Support: Nursing","530",{"$f":"VLOOKUP(I26558,'[1]Sub Lookup'!$A$1:$B$65536,2,FALSE)","v":"Commissioned Service - Other"}]
["Kent County Council",11982884,"THE HOLLIES","2020-04-08",2478.35,"S","5KA","Physical support - 65+ Long Term Support: Residential","530",{"$f":"VLOOKUP(I26578,'[1]Sub Lookup'!$A$1:$B$65536,2,FALSE)","v":"Commissioned Service - Other"}]
["Kent County Council",11977955,"THE ISLAND RESIDENTIAL HOME LTD","2020-04-07",-414.2,"S","5JA","Physical Support - 18 64 Long Term Support: Residential","937",{"$f":"VLOOKUP(I26585,'[1]Sub Lookup'!$A$1:$B$65536,2,FALSE)","v":"KASS Notional Income"}]
["Kent County Council",12018079,"THE ISLAND RESIDENTIAL HOME LTD","2020-04-29",8244.81,"S","5XC","Commissioning & Service Delivery","530",{"$f":"VLOOKUP(I26605,'[1]Sub Lookup'!$A$1:$B$65536,2,FALSE)","v":"Commissioned Service - Other"}]
["Kent County Council",12014011,"THE LALEHAM LTD T/A THE LALEHAM","2020-04-28",6128.9400000000005,"S","5KU","Physical support - 65+ Short Term - Other - Residential","530",{"$f":"VLOOKUP(I26622,'[1]Sub Lookup'!$A$1:$B$65536,2,FALSE)","v":"Commissioned Service - Other"}]
["Kent County Council",11905636,"THE LIMES MEDICAL CENTRE","2020-04-20",1258.5,"C","8PB","Sexual Health Services - Contraception","522",{"$f":"VLOOKUP(I26638,'[1]Sub Lookup'!$A$1:$B$65536,2,FALSE)","v":"District Health Authorities"}]
["Kent County Council",11976350,"THE LLEWELLYN SCHOOL AND NURSERY - CIC","2020-04-06",20581,"E","1PA","Additional Educational Needs and Resources","530",{"$f":"VLOOKUP(I26646,'[1]Sub Lookup'!$A$1:$B$65536,2,FALSE)","v":"Commissioned Service - Other"}]
["Kent County Council",11975762,"THE LODDON SCHOOL","2020-04-06",54931.5,"S","31D","IS  Res Care for Dis Child","527",{"$f":"VLOOKUP(I26653,'[1]Sub Lookup'!$A$1:$B$65536,2,FALSE)","v":"Services"}]
["Kent County Council",12018172,"THE MELANIE ANN TRUST","2020-04-29",820.82,"S","5XC","Commissioning & Service Delivery","530",{"$f":"VLOOKUP(I26671,'[1]Sub Lookup'!$A$1:$B$65536,2,FALSE)","v":"Commissioned Service - Other"}]
["Kent County Council",11966793,"THE NORMANHURST","2020-04-01",563.31000000000006,"S","5XC","Commissioning & Service Delivery","530",{"$f":"VLOOKUP(I26690,'[1]Sub Lookup'!$A$1:$B$65536,2,FALSE)","v":"Commissioned Service - Other"}]
["Kent County Council",12006538,"THE NURSERY AT EAST KENT COLLEGE - EKC GROUP","2020-04-23",289.18,"E","1PA","Additional Educational Needs and Resources","528",{"$f":"VLOOKUP(I26697,'[1]Sub Lookup'!$A$1:$B$65536,2,FALSE)","v":"Early Years Education"}]
["Kent County Council",11992541,"THE OLD DOWNS RESIDENTIAL HOME","2020-04-15",4460.4800000000005,"S","5TA","Support with Memory & Cognition - 65+ Long Term Support: Residential","530",{"$f":"VLOOKUP(I26718,'[1]Sub Lookup'!$A$1:$B$65536,2,FALSE)","v":"Commissioned Service - Other"}]
["Kent County Council",11983792,"THE OLD RECTORY ","2020-04-09",8922,"S","5AA","Learning Disability Support - 18 64 Long Term Support: Residential","530",{"$f":"VLOOKUP(I26721,'[1]Sub Lookup'!$A$1:$B$65536,2,FALSE)","v":"Commissioned Service - Other"}]
["Kent County Council",11992348,"THE OLD VICARAGE","2020-04-15",2003.56,"S","5KA","Physical support - 65+ Long Term Support: Residential","530",{"$f":"VLOOKUP(I26737,'[1]Sub Lookup'!$A$1:$B$65536,2,FALSE)","v":"Commissioned Service - Other"}]
["Kent County Council",11992563,"THE PADDOCK","2020-04-15",-423,"S","5AA","Learning Disability Support - 18 64 Long Term Support: Residential","937",{"$f":"VLOOKUP(I26758,'[1]Sub Lookup'!$A$1:$B$65536,2,FALSE)","v":"KASS Notional Income"}]
["Kent County Council",11992555,"THE PADDOCK","2020-04-15",2604.04,"S","5BA","Learning Disability Support - 65+ Long Term Support: Residential","530",{"$f":"VLOOKUP(I26765,'[1]Sub Lookup'!$A$1:$B$65536,2,FALSE)","v":"Commissioned Service - Other"}]
["Kent County Council",11989519,"THE POPLARS NURSING HOME","2020-04-14",33909.919999999998,"S","5KB","Physical support - 65+ Long Term Support: Nursing","530",{"$f":"VLOOKUP(I26784,'[1]Sub Lookup'!$A$1:$B$65536,2,FALSE)","v":"Commissioned Service - Other"}]
["Kent County Council",11980019,"THE PRINCE OF WALES YOUTH CLUB","2020-04-08",1500,"K","2AB","Community Liason","450",{"$f":"VLOOKUP(I26789,'[1]Sub Lookup'!$A$1:$B$65536,2,FALSE)","v":"Grants"}]
["Kent County Council",11966932,"THE RAPHAEL MEDICAL CENTRE","2020-04-01",924.49,"S","5XC","Commissioning & Service Delivery","530",{"$f":"VLOOKUP(I26803,'[1]Sub Lookup'!$A$1:$B$65536,2,FALSE)","v":"Commissioned Service - Other"}]
["Kent County Council",12018307,"THE RAPHAEL MEDICAL CENTRE","2020-04-29",924.49,"S","5XC","Commissioning & Service Delivery","530",{"$f":"VLOOKUP(I26813,'[1]Sub Lookup'!$A$1:$B$65536,2,FALSE)","v":"Commissioned Service - Other"}]
["Kent County Council",11972443,"THE REGARD PARTNERSHIP","2020-04-03",2731.4,"S","5AH","Learning Disability Support - 18 64 Long Term Support: Community: Supported Living","530",{"$f":"VLOOKUP(I26833,'[1]Sub Lookup'!$A$1:$B$65536,2,FALSE)","v":"Commissioned Service - Other"}]
["Kent County Council",11989613,"THE REGARD PARTNERSHIP","2020-04-14",8998.76,"S","5AA","Learning Disability Support - 18 64 Long Term Support: Residential","530",{"$f":"VLOOKUP(I26850,'[1]Sub Lookup'!$A$1:$B$65536,2,FALSE)","v":"Commissioned Service - Other"}]
["Kent County Council",11989619,"THE REGARD PARTNERSHIP","2020-04-14",8998.76,"S","5AA","Learning Disability Support - 18 64 Long Term Support: Residential","530",{"$f":"VLOOKUP(I26857,'[1]Sub Lookup'!$A$1:$B$65536,2,FALSE)","v":"Commissioned Service - Other"}]
["Kent County Council",11995734,"THE REGARD PARTNERSHIP","2020-04-17",3375.56,"S","5AH","Learning Disability Support - 18 64 Long Term Support: Community: Supported Living","530",{"$f":"VLOOKUP(I26879,'[1]Sub Lookup'!$A$1:$B$65536,2,FALSE)","v":"Commissioned Service - Other"}]
["Kent County Council",11995739,"THE REGARD PARTNERSHIP","2020-04-17",3375.56,"S","5AH","Learning Disability Support - 18 64 Long Term Support: Community: Supported Living","530",{"$f":"VLOOKUP(I26881,'[1]Sub Lookup'!$A$1:$B$65536,2,FALSE)","v":"Commissioned Service - Other"}]
["Kent County Council",12000510,"THE REGARD PARTNERSHIP","2020-04-21",5731.12,"S","5AA","Learning Disability Support - 18 64 Long Term Support: Residential","530",{"$f":"VLOOKUP(I26901,'[1]Sub Lookup'!$A$1:$B$65536,2,FALSE)","v":"Commissioned Service - Other"}]
["Kent County Council",12002626,"THE REGARD PARTNERSHIP","2020-04-22",1172.08,"S","5AH","Learning Disability Support - 18 64 Long Term Support: Community: Supported Living","530",{"$f":"VLOOKUP(I26916,'[1]Sub Lookup'!$A$1:$B$65536,2,FALSE)","v":"Commissioned Service - Other"}]
["Kent County Council",12005146,"THE REGARD PARTNERSHIP","2020-04-22",3701.36,"S","5AH","Learning Disability Support - 18 64 Long Term Support: Community: Supported Living","530",{"$f":"VLOOKUP(I26925,'[1]Sub Lookup'!$A$1:$B$65536,2,FALSE)","v":"Commissioned Service - Other"}]
["Kent County Council",12019989,"THE REGARD PARTNERSHIP","2020-04-30",2355.0100000000002,"S","5AH","Learning Disability Support - 18 64 Long Term Support: Community: Supported Living","530",{"$f":"VLOOKUP(I26945,'[1]Sub Lookup'!$A$1:$B$65536,2,FALSE)","v":"Commissioned Service - Other"}]
["Kent County Council",12019995,"THE REGARD PARTNERSHIP","2020-04-30",2321.48,"S","5AH","Learning Disability Support - 18 64 Long Term Support: Community: Supported Living","530",{"$f":"VLOOKUP(I26949,'[1]Sub Lookup'!$A$1:$B$65536,2,FALSE)","v":"Commissioned Service - Other"}]
["Kent County Council",11967519,"THE SHED","2020-04-01",304.40000000000003,"S","5AJ","Learning Disability Support - 18 64 Long Term Support: Community: Day Care","530",{"$f":"VLOOKUP(I26969,'[1]Sub Lookup'!$A$1:$B$65536,2,FALSE)","v":"Commissioned Service - Other"}]
["Kent County Council",11971707,"THE SHED","2020-04-03",1528.8,"S","5AJ","Learning Disability Support - 18 64 Long Term Support: Community: Day Care","530",{"$f":"VLOOKUP(I26978,'[1]Sub Lookup'!$A$1:$B$65536,2,FALSE)","v":"Commissioned Service - Other"}]
["Kent County Council",12006844,"THE SHED","2020-04-24",684.9,"S","5AJ","Learning Disability Support - 18 64 Long Term Support: Community: Day Care","530",{"$f":"VLOOKUP(I26993,'[1]Sub Lookup'!$A$1:$B$65536,2,FALSE)","v":"Commissioned Service - Other"}]
["Kent County Council",12017581,"THE SHEILING SPECIAL EDUCATION TRUST T/A THE SHEILING RINGWOOD","2020-04-29",2979.43,"S","5XC","Commissioning & Service Delivery","530",{"$f":"VLOOKUP(I27011,'[1]Sub Lookup'!$A$1:$B$65536,2,FALSE)","v":"Commissioned Service - Other"}]
["Kent County Council",12018281,"THE ST JOHNS HOME","2020-04-29",1664.7,"S","5XC","Commissioning & Service Delivery","530",{"$f":"VLOOKUP(I27017,'[1]Sub Lookup'!$A$1:$B$65536,2,FALSE)","v":"Commissioned Service - Other"}]
["Kent County Council",12005481,"THE VALE RESIDENTIAL HOME","2020-04-22",2132.1999999999998,"S","5TA","Support with Memory & Cognition - 65+ Long Term Support: Residential","530",{"$f":"VLOOKUP(I27037,'[1]Sub Lookup'!$A$1:$B$65536,2,FALSE)","v":"Commissioned Service - Other"}]
["Kent County Council",11982991,"THE VIEW SCHOOL LIMITED","2020-04-14",15666.66,"E","1PA","Additional Educational Needs and Resources","530",{"$f":"VLOOKUP(I27044,'[1]Sub Lookup'!$A$1:$B$65536,2,FALSE)","v":"Commissioned Service - Other"}]
["Kent County Council",11680148,"THE WESTERHAM PRACTICE","2020-04-17",307,"C","8PB","Sexual Health Services - Contraception","522",{"$f":"VLOOKUP(I27061,'[1]Sub Lookup'!$A$1:$B$65536,2,FALSE)","v":"District Health Authorities"}]
["Kent County Council",12000778,"THE WILLOWS CARE CENTRE","2020-04-21",1950.1200000000001,"S","5KA","Physical support - 65+ Long Term Support: Residential","530",{"$f":"VLOOKUP(I27077,'[1]Sub Lookup'!$A$1:$B$65536,2,FALSE)","v":"Commissioned Service - Other"}]
["Kent County Council",12000758,"THE WILLOWS CARE CENTRE","2020-04-21",1950.1200000000001,"S","5KA","Physical support - 65+ Long Term Support: Residential","530",{"$f":"VLOOKUP(I27085,'[1]Sub Lookup'!$A$1:$B$65536,2,FALSE)","v":"Commissioned Service - Other"}]
["Kent County Council",12007625,"THE WILLOWS CARE CENTRE","2020-04-24",1398.96,"S","5TA","Support with Memory & Cognition - 65+ Long Term Support: Residential","530",{"$f":"VLOOKUP(I27105,'[1]Sub Lookup'!$A$1:$B$65536,2,FALSE)","v":"Commissioned Service - Other"}]
["Kent County Council",11966155,"THE YOUNG LIVES FOUNDATION","2020-04-01",10500,"S","36D","Virtual Schools Kent","401",{"$f":"VLOOKUP(I27110,'[1]Sub Lookup'!$A$1:$B$65536,2,FALSE)","v":"Specialists Fees"}]
["Kent County Council",11966983,"THORNDENE LIMITED","2020-04-01",14209.45,"S","5XC","Commissioning & Service Delivery","530",{"$f":"VLOOKUP(I27129,'[1]Sub Lookup'!$A$1:$B$65536,2,FALSE)","v":"Commissioned Service - Other"}]
["Kent County Council",11995907,"THORNDENE LIMITED","2020-04-17",709.04,"S","5AA","Learning Disability Support - 18 64 Long Term Support: Residential","530",{"$f":"VLOOKUP(I27143,'[1]Sub Lookup'!$A$1:$B$65536,2,FALSE)","v":"Commissioned Service - Other"}]
["Kent County Council",11985311,"TIGGERS NURSERY SCHOOL","2020-04-14",9547.2000000000007,"E","1KA","School Resources","528",{"$f":"VLOOKUP(I27157,'[1]Sub Lookup'!$A$1:$B$65536,2,FALSE)","v":"Early Years Education"}]
["Kent County Council",12017552,"TIME 4 U LTD","2020-04-29",9575.48,"S","5XC","Commissioning & Service Delivery","530",{"$f":"VLOOKUP(I27173,'[1]Sub Lookup'!$A$1:$B$65536,2,FALSE)","v":"Commissioned Service - Other"}]
["Kent County Council",11983095,"TIME ELECTRICAL WHOLESALE LTD","2020-04-09",500,"K","2LE","Adult Education","401",{"$f":"VLOOKUP(I27176,'[1]Sub Lookup'!$A$1:$B$65536,2,FALSE)","v":"Specialists Fees"}]
["Kent County Council",11966703,"TOGETHER WORKING FOR WELLBEING (MACA)","2020-04-01",715.42,"S","5XC","Commissioning & Service Delivery","530",{"$f":"VLOOKUP(I27197,'[1]Sub Lookup'!$A$1:$B$65536,2,FALSE)","v":"Commissioned Service - Other"}]
["Kent County Council",11989582,"TONBRIDGE & MALLING BOROUGH COUNCIL","2020-04-15",7859.25,"C","8DW","Non Operational Properties","123",{"$f":"VLOOKUP(I27209,'[1]Sub Lookup'!$A$1:$B$65536,2,FALSE)","v":"National and Non Domestic Rates and Council Tax"}]
["Kent County Council",11970769,"TONBRIDGE CARE LTD","2020-04-01",2057.4,"S","5KA","Physical support - 65+ Long Term Support: Residential","530",{"$f":"VLOOKUP(I27225,'[1]Sub Lookup'!$A$1:$B$65536,2,FALSE)","v":"Commissioned Service - Other"}]
["Kent County Council",11970774,"TONBRIDGE CARE LTD","2020-04-01",2480,"S","5KA","Physical support - 65+ Long Term Support: Residential","530",{"$f":"VLOOKUP(I27228,'[1]Sub Lookup'!$A$1:$B$65536,2,FALSE)","v":"Commissioned Service - Other"}]
["Kent County Council",11970779,"TONBRIDGE CARE LTD","2020-04-01",2263.16,"S","5KA","Physical support - 65+ Long Term Support: Residential","530",{"$f":"VLOOKUP(I27242,'[1]Sub Lookup'!$A$1:$B$65536,2,FALSE)","v":"Commissioned Service - Other"}]
["Kent County Council",12013936,"TONBRIDGE CARE LTD","2020-04-29",2258.92,"S","5KA","Physical support - 65+ Long Term Support: Residential","530",{"$f":"VLOOKUP(I27265,'[1]Sub Lookup'!$A$1:$B$65536,2,FALSE)","v":"Commissioned Service - Other"}]
["Kent County Council",12013937,"TONBRIDGE CARE LTD","2020-04-29",2480,"S","5KA","Physical support - 65+ Long Term Support: Residential","530",{"$f":"VLOOKUP(I27275,'[1]Sub Lookup'!$A$1:$B$65536,2,FALSE)","v":"Commissioned Service - Other"}]
["Kent County Council",12001626,"TONBRIDGE TAXIS","2020-04-22",3330,"E","1RX","Admissions & Transport","222",{"$f":"VLOOKUP(I27293,'[1]Sub Lookup'!$A$1:$B$65536,2,FALSE)","v":"Home to School Transport - Hired"}]
["Kent County Council",12001614,"TONBRIDGE TAXIS","2020-04-22",2923,"E","1RX","Admissions & Transport","222",{"$f":"VLOOKUP(I27296,'[1]Sub Lookup'!$A$1:$B$65536,2,FALSE)","v":"Home to School Transport - Hired"}]
["Kent County Council",12001598,"TONBRIDGE TAXIS","2020-04-22",3412.5,"E","1RX","Admissions & Transport","222",{"$f":"VLOOKUP(I27308,'[1]Sub Lookup'!$A$1:$B$65536,2,FALSE)","v":"Home to School Transport - Hired"}]
["Kent County Council",11992989,"TONI'S TAXI SERVICE LIMITED","2020-04-16",1848,"E","1RX","Admissions & Transport","222",{"$f":"VLOOKUP(I27324,'[1]Sub Lookup'!$A$1:$B$65536,2,FALSE)","v":"Home to School Transport - Hired"}]
["Kent County Council",11995977,"TOUCHBASE CARE CIC","2020-04-20",333,"S","5AJ","Learning Disability Support - 18 64 Long Term Support: Community: Day Care","520",{"$f":"VLOOKUP(I27341,'[1]Sub Lookup'!$A$1:$B$65536,2,FALSE)","v":"Voluntary Associations"}]
["Kent County Council",11970353,"TOWN & COUNTRY HOMECARE LIMITED","2020-04-01",705.6,"S","5KG","Physical support - 65+ Long Term Support: Community: Home Care","530",{"$f":"VLOOKUP(I27361,'[1]Sub Lookup'!$A$1:$B$65536,2,FALSE)","v":"Commissioned Service - Other"}]
["Kent County Council",12018350,"TOWN & COUNTRY HOMECARE LIMITED","2020-04-29",11989.93,"S","5XC","Commissioning & Service Delivery","530",{"$f":"VLOOKUP(I27364,'[1]Sub Lookup'!$A$1:$B$65536,2,FALSE)","v":"Commissioned Service - Other"}]
["Kent County Council",11992564,"TOWNSEND LIFE CARE LTD","2020-04-15",7449.64,"S","5TA","Support with Memory & Cognition - 65+ Long Term Support: Residential","530",{"$f":"VLOOKUP(I27388,'[1]Sub Lookup'!$A$1:$B$65536,2,FALSE)","v":"Commissioned Service - Other"}]
["Kent County Council",11992564,"TOWNSEND LIFE CARE LTD","2020-04-15",1950.1200000000001,"S","5KA","Physical support - 65+ Long Term Support: Residential","530",{"$f":"VLOOKUP(I27392,'[1]Sub Lookup'!$A$1:$B$65536,2,FALSE)","v":"Commissioned Service - Other"}]
["Kent County Council",11980114,"TOWNSEND MONTESSORI NURSERIES LTD","2020-04-08",588,"E","1KA","School Resources","528",{"$f":"VLOOKUP(I27407,'[1]Sub Lookup'!$A$1:$B$65536,2,FALSE)","v":"Early Years Education"}]
["Kent County Council",11992483,"TRAFFIC TECHNOLOGY LTD","2020-04-24",1548.3,"P","7HJ","Highway Development Planning","523",{"$f":"VLOOKUP(I27416,'[1]Sub Lookup'!$A$1:$B$65536,2,FALSE)","v":"Private Contractors"}]
["Kent County Council",11998392,"TRAINLINE.COM LIMITED","2020-04-24",423,"S","34A","Children in Care Team","230",{"$f":"VLOOKUP(I27436,'[1]Sub Lookup'!$A$1:$B$65536,2,FALSE)","v":"Public Transport (Officers and Members)"}]
["Kent County Council",11956385,"TRANSPORT SURVEY SYSTEMS LIMITED","2020-04-01",250,"P","7HH","Highway Improvements","523",{"$f":"VLOOKUP(I27454,'[1]Sub Lookup'!$A$1:$B$65536,2,FALSE)","v":"Private Contractors"}]
["Kent County Council",11959614,"TRANSPORT SURVEY SYSTEMS LIMITED","2020-04-07",295,"P","7HH","Highway Improvements","523",{"$f":"VLOOKUP(I27460,'[1]Sub Lookup'!$A$1:$B$65536,2,FALSE)","v":"Private Contractors"}]
["Kent County Council",12006345,"TREETOPS PRE-SCHOOL-DEAL","2020-04-23",287.17,"E","1PA","Additional Educational Needs and Resources","528",{"$f":"VLOOKUP(I27473,'[1]Sub Lookup'!$A$1:$B$65536,2,FALSE)","v":"Early Years Education"}]
["Kent County Council",11971209,"TREEWORK SERVICES LTD T/A TREEWORK ENVIRONMENTAL PRACTICE","2020-04-03",9690,"K","2LG","Country Parks","401",{"$f":"VLOOKUP(I27484,'[1]Sub Lookup'!$A$1:$B$65536,2,FALSE)","v":"Specialists Fees"}]
["Kent County Council",11993772,"TRINITY RESOURCE CENTRE-MARGATE","2020-04-16",4144.1499999999996,"S","5WP","Social Support:Support for Social Isolation","450",{"$f":"VLOOKUP(I27504,'[1]Sub Lookup'!$A$1:$B$65536,2,FALSE)","v":"Grants"}]
["Kent County Council",11995696,"TRINITY SCHOOL ROCHESTER LIMITED","2020-04-24",800,"E","1PA","Additional Educational Needs and Resources","401",{"$f":"VLOOKUP(I27520,'[1]Sub Lookup'!$A$1:$B$65536,2,FALSE)","v":"Specialists Fees"}]
["Kent County Council",11994272,"TRINITY SCHOOL ROCHESTER LIMITED","2020-04-24",1600,"E","1PA","Additional Educational Needs and Resources","401",{"$f":"VLOOKUP(I27528,'[1]Sub Lookup'!$A$1:$B$65536,2,FALSE)","v":"Specialists Fees"}]
["Kent County Council",11996963,"TRINITY SCHOOL ROCHESTER LIMITED","2020-04-24",8766.66,"E","1PA","Additional Educational Needs and Resources","530",{"$f":"VLOOKUP(I27539,'[1]Sub Lookup'!$A$1:$B$65536,2,FALSE)","v":"Commissioned Service - Other"}]
["Kent County Council",11996731,"TRINITY SCHOOL ROCHESTER LIMITED","2020-04-24",600,"E","1PA","Additional Educational Needs and Resources","401",{"$f":"VLOOKUP(I27552,'[1]Sub Lookup'!$A$1:$B$65536,2,FALSE)","v":"Specialists Fees"}]
["Kent County Council",11993757,"TRINITY SCHOOL ROCHESTER LIMITED","2020-04-24",1200,"E","1PA","Additional Educational Needs and Resources","401",{"$f":"VLOOKUP(I27572,'[1]Sub Lookup'!$A$1:$B$65536,2,FALSE)","v":"Specialists Fees"}]
["Kent County Council",11993643,"TRINITY SCHOOL ROCHESTER LIMITED","2020-04-24",9166.67,"E","1PA","Additional Educational Needs and Resources","530",{"$f":"VLOOKUP(I27586,'[1]Sub Lookup'!$A$1:$B$65536,2,FALSE)","v":"Commissioned Service - Other"}]
["Kent County Council",11994198,"TRINITY SCHOOL ROCHESTER LIMITED","2020-04-24",800,"E","1PA","Additional Educational Needs and Resources","401",{"$f":"VLOOKUP(I27596,'[1]Sub Lookup'!$A$1:$B$65536,2,FALSE)","v":"Specialists Fees"}]
["Kent County Council",11993933,"TRINITY SCHOOL ROCHESTER LIMITED","2020-04-24",7966.67,"E","1PA","Additional Educational Needs and Resources","530",{"$f":"VLOOKUP(I27615,'[1]Sub Lookup'!$A$1:$B$65536,2,FALSE)","v":"Commissioned Service - Other"}]
["Kent County Council",11993942,"TRINITY SCHOOL ROCHESTER LIMITED","2020-04-24",7716.66,"E","1PA","Additional Educational Needs and Resources","530",{"$f":"VLOOKUP(I27620,'[1]Sub Lookup'!$A$1:$B$65536,2,FALSE)","v":"Commissioned Service - Other"}]
["Kent County Council",12008610,"TUDOR LODGE","2020-04-24",4007.12,"S","5TA","Support with Memory & Cognition - 65+ Long Term Support: Residential","530",{"$f":"VLOOKUP(I27640,'[1]Sub Lookup'!$A$1:$B$65536,2,FALSE)","v":"Commissioned Service - Other"}]
["Kent County Council",12011105,"TUDOR LODGE","2020-04-27",1950.1200000000001,"S","5TA","Support with Memory & Cognition - 65+ Long Term Support: Residential","530",{"$f":"VLOOKUP(I27652,'[1]Sub Lookup'!$A$1:$B$65536,2,FALSE)","v":"Commissioned Service - Other"}]
["Kent County Council",11972624,"TUITION EXTRA (KENT) LTD","2020-04-07",470,"E","1PA","Additional Educational Needs and Resources","401",{"$f":"VLOOKUP(I27664,'[1]Sub Lookup'!$A$1:$B$65536,2,FALSE)","v":"Specialists Fees"}]
["Kent County Council",11971089,"TUITION EXTRA (KENT) LTD","2020-04-07",705,"E","1PA","Additional Educational Needs and Resources","401",{"$f":"VLOOKUP(I27681,'[1]Sub Lookup'!$A$1:$B$65536,2,FALSE)","v":"Specialists Fees"}]
["Kent County Council",11971805,"TUITION EXTRA (KENT) LTD","2020-04-07",376,"E","1PA","Additional Educational Needs and Resources","401",{"$f":"VLOOKUP(I27688,'[1]Sub Lookup'!$A$1:$B$65536,2,FALSE)","v":"Specialists Fees"}]
["Kent County Council",11971712,"TUITION EXTRA (KENT) LTD","2020-04-14",1034,"E","1PA","Additional Educational Needs and Resources","401",{"$f":"VLOOKUP(I27708,'[1]Sub Lookup'!$A$1:$B$65536,2,FALSE)","v":"Specialists Fees"}]
["Kent County Council",11993579,"TUITION EXTRA (KENT) LTD","2020-04-16",329,"E","1PA","Additional Educational Needs and Resources","401",{"$f":"VLOOKUP(I27714,'[1]Sub Lookup'!$A$1:$B$65536,2,FALSE)","v":"Specialists Fees"}]
["Kent County Council",11983937,"TUITION EXTRA (KENT) LTD","2020-04-21",470,"E","1PA","Additional Educational Needs and Resources","401",{"$f":"VLOOKUP(I27732,'[1]Sub Lookup'!$A$1:$B$65536,2,FALSE)","v":"Specialists Fees"}]
["Kent County Council",11979837,"TUITION EXTRA (KENT) LTD","2020-04-21",470,"E","1PA","Additional Educational Needs and Resources","401",{"$f":"VLOOKUP(I27739,'[1]Sub Lookup'!$A$1:$B$65536,2,FALSE)","v":"Specialists Fees"}]
["Kent County Council",11995718,"TUITION EXTRA (KENT) LTD","2020-04-24",282,"S","36D","Virtual Schools Kent","401",{"$f":"VLOOKUP(I27751,'[1]Sub Lookup'!$A$1:$B$65536,2,FALSE)","v":"Specialists Fees"}]
["Kent County Council",11972030,"TUNBRIDGE WELLS BOROUGH COUNCIL","2020-04-08",29696,"C","2RE","Registration","123",{"$f":"VLOOKUP(I27776,'[1]Sub Lookup'!$A$1:$B$65536,2,FALSE)","v":"National and Non Domestic Rates and Council Tax"}]
["Kent County Council",11972029,"TUNBRIDGE WELLS BOROUGH COUNCIL","2020-04-08",11227.5,"C","2LC","Libraries, Registration & Archives","123",{"$f":"VLOOKUP(I27780,'[1]Sub Lookup'!$A$1:$B$65536,2,FALSE)","v":"National and Non Domestic Rates and Council Tax"}]
["Kent County Council",11992458,"TUNBRIDGE WELLS BOROUGH COUNCIL","2020-04-16",1282.8900000000001,"C","2LE","Adult Education","123",{"$f":"VLOOKUP(I27800,'[1]Sub Lookup'!$A$1:$B$65536,2,FALSE)","v":"National and Non Domestic Rates and Council Tax"}]
["Kent County Council",11966139,"TUNBRIDGE WELLS CARE CENTRE","2020-04-01",20015.8,"S","5KB","Physical support - 65+ Long Term Support: Nursing","530",{"$f":"VLOOKUP(I27807,'[1]Sub Lookup'!$A$1:$B$65536,2,FALSE)","v":"Commissioned Service - Other"}]
["Kent County Council",11994049,"TUNBRIDGE WELLS CARE CENTRE","2020-04-24",19773.16,"S","5KP","Physical support - 65+ Short Term - Maximising Independence - Residential","530",{"$f":"VLOOKUP(I27817,'[1]Sub Lookup'!$A$1:$B$65536,2,FALSE)","v":"Commissioned Service - Other"}]
["Kent County Council",11975077,"TURNER CONTEMPORARY","2020-04-09",100000,"K","2LB","Arts Development","401",{"$f":"VLOOKUP(I27831,'[1]Sub Lookup'!$A$1:$B$65536,2,FALSE)","v":"Specialists Fees"}]
["Kent County Council",11973505,"TURNING POINT","2020-04-03",6931.14,"S","5AH","Learning Disability Support - 18 64 Long Term Support: Community: Supported Living","530",{"$f":"VLOOKUP(I27846,'[1]Sub Lookup'!$A$1:$B$65536,2,FALSE)","v":"Commissioned Service - Other"}]
["Kent County Council",11997511,"TW 24/7 CARS LTD","2020-04-20",2460.5,"E","1RX","Admissions & Transport","222",{"$f":"VLOOKUP(I27868,'[1]Sub Lookup'!$A$1:$B$65536,2,FALSE)","v":"Home to School Transport - Hired"}]
["Kent County Council",12009175,"TW EXPRESS CARS LIMITED","2020-04-24",735,"S","5AJ","Learning Disability Support - 18 64 Long Term Support: Community: Day Care","232",{"$f":"VLOOKUP(I27875,'[1]Sub Lookup'!$A$1:$B$65536,2,FALSE)","v":"Public Transport (Clients)"}]
["Kent County Council",11975599,"UK FOSTERING LIMITED","2020-04-20",3385.2000000000003,"S","35R","IS Fostering","527",{"$f":"VLOOKUP(I27893,'[1]Sub Lookup'!$A$1:$B$65536,2,FALSE)","v":"Services"}]
["Kent County Council",11955089,"UK POWER NETWORKS (OPERATIONS) LTD","2020-04-03",563,"P","7HN","Street Lighting Maintenance","C20",{"$f":"VLOOKUP(I27899,'[1]Sub Lookup'!$A$1:$B$65536,2,FALSE)","v":"Infrastructure"}]
["Kent County Council",12008568,"UK POWER NETWORKS (OPERATIONS) LTD","2020-04-27",1428,"P","7HN","Street Lighting Maintenance","523",{"$f":"VLOOKUP(I27912,'[1]Sub Lookup'!$A$1:$B$65536,2,FALSE)","v":"Private Contractors"}]
["Kent County Council",11989384,"UNIQUE HELP LIMITED","2020-04-14",2400.69,"S","5KB","Physical support - 65+ Long Term Support: Nursing","530",{"$f":"VLOOKUP(I27936,'[1]Sub Lookup'!$A$1:$B$65536,2,FALSE)","v":"Commissioned Service - Other"}]
["Kent County Council",11989383,"UNIQUE HELP LIMITED","2020-04-14",2522.19,"S","5KB","Physical support - 65+ Long Term Support: Nursing","530",{"$f":"VLOOKUP(I27943,'[1]Sub Lookup'!$A$1:$B$65536,2,FALSE)","v":"Commissioned Service - Other"}]
["Kent County Council",11992143,"UNIQUE HELP LIMITED","2020-04-15",2522.19,"S","5KB","Physical support - 65+ Long Term Support: Nursing","530",{"$f":"VLOOKUP(I27959,'[1]Sub Lookup'!$A$1:$B$65536,2,FALSE)","v":"Commissioned Service - Other"}]
["Kent County Council",11966223,"UNITED RESPONSE SERVICES LTD","2020-04-01",1101.25,"S","5XC","Commissioning & Service Delivery","530",{"$f":"VLOOKUP(I27967,'[1]Sub Lookup'!$A$1:$B$65536,2,FALSE)","v":"Commissioned Service - Other"}]
["Kent County Council",11976793,"UNITED RESPONSE SERVICES LTD","2020-04-06",444.55,"S","5AH","Learning Disability Support - 18 64 Long Term Support: Community: Supported Living","520",{"$f":"VLOOKUP(I27978,'[1]Sub Lookup'!$A$1:$B$65536,2,FALSE)","v":"Voluntary Associations"}]
["Kent County Council",12008393,"UNITED RESPONSE SERVICES LTD","2020-04-24",5602.28,"S","5BH","Learning Disability Support - 65+ Long Term Support: Community: Supported Living","520",{"$f":"VLOOKUP(I28004,'[1]Sub Lookup'!$A$1:$B$65536,2,FALSE)","v":"Voluntary Associations"}]
["Kent County Council",12010956,"UNITED RESPONSE SERVICES LTD","2020-04-27",5431.4000000000005,"S","5BH","Learning Disability Support - 65+ Long Term Support: Community: Supported Living","520",{"$f":"VLOOKUP(I28011,'[1]Sub Lookup'!$A$1:$B$65536,2,FALSE)","v":"Voluntary Associations"}]
["Kent County Council",12014050,"UNITED RESPONSE SERVICES LTD","2020-04-28",5874.4800000000005,"S","5AH","Learning Disability Support - 18 64 Long Term Support: Community: Supported Living","520",{"$f":"VLOOKUP(I28025,'[1]Sub Lookup'!$A$1:$B$65536,2,FALSE)","v":"Voluntary Associations"}]
["Kent County Council",12018361,"UNITED RESPONSE SERVICES LTD","2020-04-29",50889.380000000005,"S","5XC","Commissioning & Service Delivery","530",{"$f":"VLOOKUP(I28035,'[1]Sub Lookup'!$A$1:$B$65536,2,FALSE)","v":"Commissioned Service - Other"}]
["Kent County Council",12020097,"UNITED RESPONSE SERVICES LTD","2020-04-30",4478.28,"S","5AA","Learning Disability Support - 18 64 Long Term Support: Residential","530",{"$f":"VLOOKUP(I28058,'[1]Sub Lookup'!$A$1:$B$65536,2,FALSE)","v":"Commissioned Service - Other"}]
["Kent County Council",11992408,"UNITY MANAGEMENT","2020-04-16",3662.14,"C","2RE","Registration","142",{"$f":"VLOOKUP(I28063,'[1]Sub Lookup'!$A$1:$B$65536,2,FALSE)","v":"Premises Insurance"}]
["Kent County Council",12000821,"UPTON HOUSE","2020-04-21",4380,"S","5TA","Support with Memory & Cognition - 65+ Long Term Support: Residential","530",{"$f":"VLOOKUP(I28079,'[1]Sub Lookup'!$A$1:$B$65536,2,FALSE)","v":"Commissioned Service - Other"}]
["Kent County Council",11975771,"URBAN-CARE LTD","2020-04-21",2960,"S","32P","Rented Accommodation Asylum 16-17","527",{"$f":"VLOOKUP(I28091,'[1]Sub Lookup'!$A$1:$B$65536,2,FALSE)","v":"Services"}]
["Kent County Council",11967708,"VAISALA LIMITED","2020-04-21",32500,"P","7HD","Winter Maintenance","523",{"$f":"VLOOKUP(I28103,'[1]Sub Lookup'!$A$1:$B$65536,2,FALSE)","v":"Private Contractors"}]
["Kent County Council",12005185,"VEECARE LTD T/A WILLOW TREE LODGE","2020-04-22",1961.06,"S","5KA","Physical support - 65+ Long Term Support: Residential","530",{"$f":"VLOOKUP(I28124,'[1]Sub Lookup'!$A$1:$B$65536,2,FALSE)","v":"Commissioned Service - Other"}]
["Kent County Council",12005175,"VEECARE LTD T/A WILLOW TREE LODGE","2020-04-22",2089.41,"S","5KA","Physical support - 65+ Long Term Support: Residential","530",{"$f":"VLOOKUP(I28131,'[1]Sub Lookup'!$A$1:$B$65536,2,FALSE)","v":"Commissioned Service - Other"}]
["Kent County Council",12011220,"VEECARE LTD T/A WILLOW TREE LODGE","2020-04-28",2412.33,"S","5KB","Physical support - 65+ Long Term Support: Nursing","530",{"$f":"VLOOKUP(I28147,'[1]Sub Lookup'!$A$1:$B$65536,2,FALSE)","v":"Commissioned Service - Other"}]
["Kent County Council",12018666,"VEECARE LTD T/A WILLOW TREE LODGE","2020-04-29",8154.6100000000006,"S","5XC","Commissioning & Service Delivery","530",{"$f":"VLOOKUP(I28157,'[1]Sub Lookup'!$A$1:$B$65536,2,FALSE)","v":"Commissioned Service - Other"}]
["Kent County Council",11977304,"REDACTED - Personal Payment","2020-04-07",765,"E","1RX","Admissions & Transport","226",{"$f":"VLOOKUP(I28175,'[1]Sub Lookup'!$A$1:$B$65536,2,FALSE)","v":"Home to School Transport - Cash allows"}]
["Kent County Council",12008195,"VILLA ADASTRA","2020-04-24",1599.28,"S","5KA","Physical support - 65+ Long Term Support: Residential","530",{"$f":"VLOOKUP(I28190,'[1]Sub Lookup'!$A$1:$B$65536,2,FALSE)","v":"Commissioned Service - Other"}]
["Kent County Council",11983232,"VILLAGE","2020-04-17",416.66,"E","1KA","School Resources","342",{"$f":"VLOOKUP(I28199,'[1]Sub Lookup'!$A$1:$B$65536,2,FALSE)","v":"Refreshments"}]
["Kent County Council",12001502,"VOKES TAXI SERVICE","2020-04-22",1172.5,"E","1RX","Admissions & Transport","222",{"$f":"VLOOKUP(I28215,'[1]Sub Lookup'!$A$1:$B$65536,2,FALSE)","v":"Home to School Transport - Hired"}]
["Kent County Council",11967007,"VOSSE COURT LTD","2020-04-01",1321.73,"S","5XC","Commissioning & Service Delivery","530",{"$f":"VLOOKUP(I28223,'[1]Sub Lookup'!$A$1:$B$65536,2,FALSE)","v":"Commissioned Service - Other"}]
["Kent County Council",11970086,"VOYAGE CARE LTD","2020-04-01",1081.03,"S","5AU","Learning Disability Support - 18 64 Short Term - Other - Residential","530",{"$f":"VLOOKUP(I28243,'[1]Sub Lookup'!$A$1:$B$65536,2,FALSE)","v":"Commissioned Service - Other"}]
["Kent County Council",11965483,"VOYAGE CARE LTD","2020-04-03",1804.04,"S","5AH","Learning Disability Support - 18 64 Long Term Support: Community: Supported Living","523",{"$f":"VLOOKUP(I28256,'[1]Sub Lookup'!$A$1:$B$65536,2,FALSE)","v":"Private Contractors"}]
["Kent County Council",11965491,"VOYAGE CARE LTD","2020-04-17",1516,"S","5AH","Learning Disability Support - 18 64 Long Term Support: Community: Supported Living","523",{"$f":"VLOOKUP(I28267,'[1]Sub Lookup'!$A$1:$B$65536,2,FALSE)","v":"Private Contractors"}]
["Kent County Council",12001733,"VOYAGE CARE LTD","2020-04-22",-11407.82,"S","5JA","Physical Support - 18 64 Long Term Support: Residential","530",{"$f":"VLOOKUP(I28283,'[1]Sub Lookup'!$A$1:$B$65536,2,FALSE)","v":"Commissioned Service - Other"}]
["Kent County Council",12005571,"VOYAGE CARE LTD","2020-04-22",4368,"S","5EA","Mental Health Support - 18 64 Long Term Support: Residential","530",{"$f":"VLOOKUP(I28289,'[1]Sub Lookup'!$A$1:$B$65536,2,FALSE)","v":"Commissioned Service - Other"}]
["Kent County Council",12002022,"VOYAGE CARE LTD","2020-04-22",1707.76,"S","5AH","Learning Disability Support - 18 64 Long Term Support: Community: Supported Living","530",{"$f":"VLOOKUP(I28311,'[1]Sub Lookup'!$A$1:$B$65536,2,FALSE)","v":"Commissioned Service - Other"}]
["Kent County Council",12005599,"VOYAGE CARE LTD","2020-04-22",8990.9600000000009,"S","5BA","Learning Disability Support - 65+ Long Term Support: Residential","530",{"$f":"VLOOKUP(I28322,'[1]Sub Lookup'!$A$1:$B$65536,2,FALSE)","v":"Commissioned Service - Other"}]
["Kent County Council",12005591,"VOYAGE CARE LTD","2020-04-22",6097.96,"S","5AA","Learning Disability Support - 18 64 Long Term Support: Residential","530",{"$f":"VLOOKUP(I28335,'[1]Sub Lookup'!$A$1:$B$65536,2,FALSE)","v":"Commissioned Service - Other"}]
["Kent County Council",12005577,"VOYAGE CARE LTD","2020-04-22",8028.4000000000005,"S","5AA","Learning Disability Support - 18 64 Long Term Support: Residential","530",{"$f":"VLOOKUP(I28342,'[1]Sub Lookup'!$A$1:$B$65536,2,FALSE)","v":"Commissioned Service - Other"}]
["Kent County Council",12005561,"VOYAGE CARE LTD","2020-04-22",4375.5600000000004,"S","5AA","Learning Disability Support - 18 64 Long Term Support: Residential","530",{"$f":"VLOOKUP(I28355,'[1]Sub Lookup'!$A$1:$B$65536,2,FALSE)","v":"Commissioned Service - Other"}]
["Kent County Council",12008637,"VOYAGE CARE LTD","2020-04-24",2168.2400000000002,"S","5AH","Learning Disability Support - 18 64 Long Term Support: Community: Supported Living","530",{"$f":"VLOOKUP(I28379,'[1]Sub Lookup'!$A$1:$B$65536,2,FALSE)","v":"Commissioned Service - Other"}]
["Kent County Council",12018368,"VOYAGE CARE LTD","2020-04-29",29413.14,"S","5XC","Commissioning & Service Delivery","530",{"$f":"VLOOKUP(I28388,'[1]Sub Lookup'!$A$1:$B$65536,2,FALSE)","v":"Commissioned Service - Other"}]
["Kent County Council",12017535,"VOYAGE CARE LTD","2020-04-29",7561.04,"S","5XC","Commissioning & Service Delivery","530",{"$f":"VLOOKUP(I28403,'[1]Sub Lookup'!$A$1:$B$65536,2,FALSE)","v":"Commissioned Service - Other"}]
["Kent County Council",11993394,"W W MARTIN LTD","2020-04-17",573209.23,"E","1TC","Capital - Secondary Schools ES&PS","C05",{"$f":"VLOOKUP(I28410,'[1]Sub Lookup'!$A$1:$B$65536,2,FALSE)","v":"Building Works - Main Contract"}]
["Kent County Council",11976620,"WANTSUM LODGE LTD","2020-04-06",487.53000000000003,"S","5KU","Physical support - 65+ Short Term - Other - Residential","530",{"$f":"VLOOKUP(I28421,'[1]Sub Lookup'!$A$1:$B$65536,2,FALSE)","v":"Commissioned Service - Other"}]
["Kent County Council",12000702,"WARWICK PARK CARE HOME LTD","2020-04-21",3857,"S","5JA","Physical Support - 18 64 Long Term Support: Residential","530",{"$f":"VLOOKUP(I28434,'[1]Sub Lookup'!$A$1:$B$65536,2,FALSE)","v":"Commissioned Service - Other"}]
["Kent County Council",12006592,"WATERSTONE RESIDENTIAL CARE LTD","2020-04-23",5337.9000000000005,"S","5EA","Mental Health Support - 18 64 Long Term Support: Residential","530",{"$f":"VLOOKUP(I28454,'[1]Sub Lookup'!$A$1:$B$65536,2,FALSE)","v":"Commissioned Service - Other"}]
["Kent County Council",11962175,"WE ARE BEAMS","2020-04-24",987,"S","35F","IS Day Care Dis Child","530",{"$f":"VLOOKUP(I28471,'[1]Sub Lookup'!$A$1:$B$65536,2,FALSE)","v":"Commissioned Service - Other"}]
["Kent County Council",12009525,"WE ARE BEAMS","2020-04-27",400,"S","31G","Children Res. - Not Looker After","527",{"$f":"VLOOKUP(I28478,'[1]Sub Lookup'!$A$1:$B$65536,2,FALSE)","v":"Services"}]
["Kent County Council",11985736,"WE ARE BEAMS (JENNY STANBURY)","2020-04-14",8396,"S","5JF","Physical Support - 18 64 Long Term Support: Community: Direct Payments","523",{"$f":"VLOOKUP(I28487,'[1]Sub Lookup'!$A$1:$B$65536,2,FALSE)","v":"Private Contractors"}]
["Kent County Council",11962118,"WELCOME CARE SUPPORT SERVICES","2020-04-09",1175.04,"S","5KG","Physical support - 65+ Long Term Support: Community: Home Care","530",{"$f":"VLOOKUP(I28502,'[1]Sub Lookup'!$A$1:$B$65536,2,FALSE)","v":"Commissioned Service - Other"}]
["Kent County Council",12011163,"WELCOME CARE SUPPORT SERVICES","2020-04-28",420,"S","5KG","Physical support - 65+ Long Term Support: Community: Home Care","530",{"$f":"VLOOKUP(I28516,'[1]Sub Lookup'!$A$1:$B$65536,2,FALSE)","v":"Commissioned Service - Other"}]
["Kent County Council",11966978,"WELL HOUSE CARE SUSSEX LTD","2020-04-01",1137.47,"S","5XC","Commissioning & Service Delivery","530",{"$f":"VLOOKUP(I28539,'[1]Sub Lookup'!$A$1:$B$65536,2,FALSE)","v":"Commissioned Service - Other"}]
["Kent County Council",12008417,"REDACTED - Personal Payment","2020-04-24",1570.64,"S","5AC","Learning Disability Support - 18 64 Long Term Support: Supported accommodation","530",{"$f":"VLOOKUP(I28546,'[1]Sub Lookup'!$A$1:$B$65536,2,FALSE)","v":"Commissioned Service - Other"}]
["Kent County Council",11982007,"WEST HEATH 2000 LTD","2020-04-09",27500,"E","1PA","Additional Educational Needs and Resources","530",{"$f":"VLOOKUP(I28567,'[1]Sub Lookup'!$A$1:$B$65536,2,FALSE)","v":"Commissioned Service - Other"}]
["Kent County Council",11982936,"WEST HEATH 2000 LTD","2020-04-09",12924.02,"E","1PA","Additional Educational Needs and Resources","530",{"$f":"VLOOKUP(I28570,'[1]Sub Lookup'!$A$1:$B$65536,2,FALSE)","v":"Commissioned Service - Other"}]
["Kent County Council",11977872,"WEST HEATH 2000 LTD","2020-04-09",17500,"E","1PA","Additional Educational Needs and Resources","530",{"$f":"VLOOKUP(I28582,'[1]Sub Lookup'!$A$1:$B$65536,2,FALSE)","v":"Commissioned Service - Other"}]
["Kent County Council",11997544,"WEST KENT CARS LTD","2020-04-20",609,"S","5AJ","Learning Disability Support - 18 64 Long Term Support: Community: Day Care","232",{"$f":"VLOOKUP(I28607,'[1]Sub Lookup'!$A$1:$B$65536,2,FALSE)","v":"Public Transport (Clients)"}]
["Kent County Council",11983902,"WEST KENT EXTRA LIMITED","2020-04-20",28328.68,"K","2SF","Social Fund (including Refugee Families)","300",{"$f":"VLOOKUP(I28614,'[1]Sub Lookup'!$A$1:$B$65536,2,FALSE)","v":"Equipment, Furniture and Materials and Livestock"}]
["Kent County Council",12018123,"WEST KENT HOUSING ASSOCIATION","2020-04-29",921.30000000000007,"S","5XC","Commissioning & Service Delivery","530",{"$f":"VLOOKUP(I28629,'[1]Sub Lookup'!$A$1:$B$65536,2,FALSE)","v":"Commissioned Service - Other"}]
["Kent County Council",12001059,"WEST MALLING TAXIS LTD","2020-04-22",630,"E","1RX","Admissions & Transport","222",{"$f":"VLOOKUP(I28638,'[1]Sub Lookup'!$A$1:$B$65536,2,FALSE)","v":"Home to School Transport - Hired"}]
["Kent County Council",12008865,"WEST MALLING TAXIS LTD","2020-04-24",480,"S","5AJ","Learning Disability Support - 18 64 Long Term Support: Community: Day Care","232",{"$f":"VLOOKUP(I28648,'[1]Sub Lookup'!$A$1:$B$65536,2,FALSE)","v":"Public Transport (Clients)"}]
["Kent County Council",12005222,"WESTBANK CARE HOME","2020-04-22",7670.72,"S","5KB","Physical support - 65+ Long Term Support: Nursing","530",{"$f":"VLOOKUP(I28662,'[1]Sub Lookup'!$A$1:$B$65536,2,FALSE)","v":"Commissioned Service - Other"}]
["Kent County Council",11973003,"WESTMINSTER HOMECARE LTD","2020-04-03",252.56,"S","5PG","Sensory Support - 65+ Long Term Support: Community: Home Care","530",{"$f":"VLOOKUP(I28682,'[1]Sub Lookup'!$A$1:$B$65536,2,FALSE)","v":"Commissioned Service - Other"}]
["Kent County Council",11972913,"WESTMINSTER HOMECARE LTD","2020-04-03",275.52,"S","5KG","Physical support - 65+ Long Term Support: Community: Home Care","530",{"$f":"VLOOKUP(I28695,'[1]Sub Lookup'!$A$1:$B$65536,2,FALSE)","v":"Commissioned Service - Other"}]
["Kent County Council",11987631,"WESTMINSTER HOMECARE LTD","2020-04-14",424.21000000000004,"S","5KG","Physical support - 65+ Long Term Support: Community: Home Care","530",{"$f":"VLOOKUP(I28706,'[1]Sub Lookup'!$A$1:$B$65536,2,FALSE)","v":"Commissioned Service - Other"}]
["Kent County Council",11994878,"WESTMINSTER HOMECARE LTD","2020-04-17",445.53000000000003,"S","5KG","Physical support - 65+ Long Term Support: Community: Home Care","530",{"$f":"VLOOKUP(I28728,'[1]Sub Lookup'!$A$1:$B$65536,2,FALSE)","v":"Commissioned Service - Other"}]
["Kent County Council",11994915,"WESTMINSTER HOMECARE LTD","2020-04-17",269.14,"S","5KG","Physical support - 65+ Long Term Support: Community: Home Care","530",{"$f":"VLOOKUP(I28730,'[1]Sub Lookup'!$A$1:$B$65536,2,FALSE)","v":"Commissioned Service - Other"}]
["Kent County Council",12016833,"WESTMINSTER HOMECARE LTD","2020-04-29",319.2,"S","5KG","Physical support - 65+ Long Term Support: Community: Home Care","530",{"$f":"VLOOKUP(I28750,'[1]Sub Lookup'!$A$1:$B$65536,2,FALSE)","v":"Commissioned Service - Other"}]
["Kent County Council",12016734,"WESTMINSTER HOMECARE LTD","2020-04-29",307.65000000000003,"S","5KG","Physical support - 65+ Long Term Support: Community: Home Care","530",{"$f":"VLOOKUP(I28761,'[1]Sub Lookup'!$A$1:$B$65536,2,FALSE)","v":"Commissioned Service - Other"}]
["Kent County Council",11959375,"WHITECLIFFS LODGE LTD","2020-04-09",6150.47,"S","9AR","Revenue Balance Sheet","BEA",{"$f":"VLOOKUP(I28774,'[1]Sub Lookup'!$A$1:$B$65536,2,FALSE)","v":"Payments in Advance - General"}]
["Kent County Council",12019013,"WHITEPOST HEALTH CARE GROUP","2020-04-29",-1200,"S","5KQ","Physical support - 65+ Short Term - Maximising Independence - Nursing","520",{"$f":"VLOOKUP(I28794,'[1]Sub Lookup'!$A$1:$B$65536,2,FALSE)","v":"Voluntary Associations"}]
["Kent County Council",12001081,"WHITSTABLE TAXIS LTD","2020-04-22",1480,"E","1RX","Admissions & Transport","222",{"$f":"VLOOKUP(I28796,'[1]Sub Lookup'!$A$1:$B$65536,2,FALSE)","v":"Home to School Transport - Hired"}]
["Kent County Council",12001067,"WHITSTABLE TAXIS LTD","2020-04-22",1317.5,"E","1RX","Admissions & Transport","222",{"$f":"VLOOKUP(I28797,'[1]Sub Lookup'!$A$1:$B$65536,2,FALSE)","v":"Home to School Transport - Hired"}]
["Kent County Council",12001094,"WHITSTABLE TAXIS LTD","2020-04-22",1369,"E","1RX","Admissions & Transport","222",{"$f":"VLOOKUP(I28798,'[1]Sub Lookup'!$A$1:$B$65536,2,FALSE)","v":"Home to School Transport - Hired"}]
["Kent County Council",12001066,"WHITSTABLE TAXIS LTD","2020-04-22",827.5,"E","1RX","Admissions & Transport","222",{"$f":"VLOOKUP(I28799,'[1]Sub Lookup'!$A$1:$B$65536,2,FALSE)","v":"Home to School Transport - Hired"}]
["Kent County Council",12001090,"WHITSTABLE TAXIS LTD","2020-04-22",2035,"E","1RX","Admissions & Transport","222",{"$f":"VLOOKUP(I28800,'[1]Sub Lookup'!$A$1:$B$65536,2,FALSE)","v":"Home to School Transport - Hired"}]
["Kent County Council",12001095,"WHITSTABLE TAXIS LTD","2020-04-22",1235,"E","1RX","Admissions & Transport","222",{"$f":"VLOOKUP(I28801,'[1]Sub Lookup'!$A$1:$B$65536,2,FALSE)","v":"Home to School Transport - Hired"}]
["Kent County Council",12001096,"WHITSTABLE TAXIS LTD","2020-04-22",1444,"E","1RX","Admissions & Transport","222",{"$f":"VLOOKUP(I28802,'[1]Sub Lookup'!$A$1:$B$65536,2,FALSE)","v":"Home to School Transport - Hired"}]
["Kent County Council",12001064,"WHITSTABLE TAXIS LTD","2020-04-22",2310,"E","1RX","Admissions & Transport","222",{"$f":"VLOOKUP(I28803,'[1]Sub Lookup'!$A$1:$B$65536,2,FALSE)","v":"Home to School Transport - Hired"}]
["Kent County Council",12001099,"WHITSTABLE TAXIS LTD","2020-04-22",1110,"E","1RX","Admissions & Transport","222",{"$f":"VLOOKUP(I28804,'[1]Sub Lookup'!$A$1:$B$65536,2,FALSE)","v":"Home to School Transport - Hired"}]
["Kent County Council",12001082,"WHITSTABLE TAXIS LTD","2020-04-22",1702,"S","5AJ","Learning Disability Support - 18 64 Long Term Support: Community: Day Care","232",{"$f":"VLOOKUP(I28805,'[1]Sub Lookup'!$A$1:$B$65536,2,FALSE)","v":"Public Transport (Clients)"}]
["Kent County Council",12001083,"WHITSTABLE TAXIS LTD","2020-04-22",1410.52,"S","5AJ","Learning Disability Support - 18 64 Long Term Support: Community: Day Care","232",{"$f":"VLOOKUP(I28806,'[1]Sub Lookup'!$A$1:$B$65536,2,FALSE)","v":"Public Transport (Clients)"}]
["Kent County Council",12001083,"WHITSTABLE TAXIS LTD","2020-04-22",833.48,"S","5BJ","Learning Disability Support - 65+ Long Term Support: Community: Day Care","232",{"$f":"VLOOKUP(I28807,'[1]Sub Lookup'!$A$1:$B$65536,2,FALSE)","v":"Public Transport (Clients)"}]
["Kent County Council",12001093,"WHITSTABLE TAXIS LTD","2020-04-22",2760,"S","5AJ","Learning Disability Support - 18 64 Long Term Support: Community: Day Care","232",{"$f":"VLOOKUP(I28808,'[1]Sub Lookup'!$A$1:$B$65536,2,FALSE)","v":"Public Transport (Clients)"}]
["Kent County Council",12001085,"WHITSTABLE TAXIS LTD","2020-04-22",1406,"E","1RX","Admissions & Transport","222",{"$f":"VLOOKUP(I28809,'[1]Sub Lookup'!$A$1:$B$65536,2,FALSE)","v":"Home to School Transport - Hired"}]
["Kent County Council",12001086,"WHITSTABLE TAXIS LTD","2020-04-22",374,"E","1RX","Admissions & Transport","222",{"$f":"VLOOKUP(I28810,'[1]Sub Lookup'!$A$1:$B$65536,2,FALSE)","v":"Home to School Transport - Hired"}]
["Kent County Council",12001087,"WHITSTABLE TAXIS LTD","2020-04-22",1207.5,"E","1RX","Admissions & Transport","222",{"$f":"VLOOKUP(I28811,'[1]Sub Lookup'!$A$1:$B$65536,2,FALSE)","v":"Home to School Transport - Hired"}]
["Kent County Council",12001089,"WHITSTABLE TAXIS LTD","2020-04-22",1710,"E","1RX","Admissions & Transport","222",{"$f":"VLOOKUP(I28812,'[1]Sub Lookup'!$A$1:$B$65536,2,FALSE)","v":"Home to School Transport - Hired"}]
["Kent County Council",12001088,"WHITSTABLE TAXIS LTD","2020-04-22",575,"E","1RX","Admissions & Transport","222",{"$f":"VLOOKUP(I28813,'[1]Sub Lookup'!$A$1:$B$65536,2,FALSE)","v":"Home to School Transport - Hired"}]
["Kent County Council",12001084,"WHITSTABLE TAXIS LTD","2020-04-22",750,"E","1RX","Admissions & Transport","222",{"$f":"VLOOKUP(I28814,'[1]Sub Lookup'!$A$1:$B$65536,2,FALSE)","v":"Home to School Transport - Hired"}]
["Kent County Council",12001065,"WHITSTABLE TAXIS LTD","2020-04-22",1878,"E","1RX","Admissions & Transport","222",{"$f":"VLOOKUP(I28815,'[1]Sub Lookup'!$A$1:$B$65536,2,FALSE)","v":"Home to School Transport - Hired"}]
["Kent County Council",12001068,"WHITSTABLE TAXIS LTD","2020-04-22",1665,"E","1RX","Admissions & Transport","222",{"$f":"VLOOKUP(I28816,'[1]Sub Lookup'!$A$1:$B$65536,2,FALSE)","v":"Home to School Transport - Hired"}]
["Kent County Council",12001069,"WHITSTABLE TAXIS LTD","2020-04-22",2934,"E","1RX","Admissions & Transport","222",{"$f":"VLOOKUP(I28817,'[1]Sub Lookup'!$A$1:$B$65536,2,FALSE)","v":"Home to School Transport - Hired"}]
["Kent County Council",12001091,"WHITSTABLE TAXIS LTD","2020-04-22",1710,"E","1RX","Admissions & Transport","222",{"$f":"VLOOKUP(I28818,'[1]Sub Lookup'!$A$1:$B$65536,2,FALSE)","v":"Home to School Transport - Hired"}]
["Kent County Council",12001070,"WHITSTABLE TAXIS LTD","2020-04-22",2394,"E","1RX","Admissions & Transport","222",{"$f":"VLOOKUP(I28819,'[1]Sub Lookup'!$A$1:$B$65536,2,FALSE)","v":"Home to School Transport - Hired"}]
["Kent County Council",12001071,"WHITSTABLE TAXIS LTD","2020-04-22",1969.5,"E","1RX","Admissions & Transport","222",{"$f":"VLOOKUP(I28820,'[1]Sub Lookup'!$A$1:$B$65536,2,FALSE)","v":"Home to School Transport - Hired"}]
["Kent County Council",12001073,"WHITSTABLE TAXIS LTD","2020-04-22",2128,"E","1RX","Admissions & Transport","222",{"$f":"VLOOKUP(I28821,'[1]Sub Lookup'!$A$1:$B$65536,2,FALSE)","v":"Home to School Transport - Hired"}]
["Kent County Council",12001072,"WHITSTABLE TAXIS LTD","2020-04-22",1406,"E","1RX","Admissions & Transport","222",{"$f":"VLOOKUP(I28822,'[1]Sub Lookup'!$A$1:$B$65536,2,FALSE)","v":"Home to School Transport - Hired"}]
["Kent County Council",12001074,"WHITSTABLE TAXIS LTD","2020-04-22",630,"E","1RX","Admissions & Transport","222",{"$f":"VLOOKUP(I28823,'[1]Sub Lookup'!$A$1:$B$65536,2,FALSE)","v":"Home to School Transport - Hired"}]
["Kent County Council",12001075,"WHITSTABLE TAXIS LTD","2020-04-22",777,"E","1RX","Admissions & Transport","222",{"$f":"VLOOKUP(I28824,'[1]Sub Lookup'!$A$1:$B$65536,2,FALSE)","v":"Home to School Transport - Hired"}]
["Kent County Council",12001075,"WHITSTABLE TAXIS LTD","2020-04-22",1554,"E","1RX","Admissions & Transport","222",{"$f":"VLOOKUP(I28825,'[1]Sub Lookup'!$A$1:$B$65536,2,FALSE)","v":"Home to School Transport - Hired"}]
["Kent County Council",12001098,"WHITSTABLE TAXIS LTD","2020-04-22",1258,"E","1RX","Admissions & Transport","222",{"$f":"VLOOKUP(I28826,'[1]Sub Lookup'!$A$1:$B$65536,2,FALSE)","v":"Home to School Transport - Hired"}]
["Kent County Council",12001076,"WHITSTABLE TAXIS LTD","2020-04-22",1831.5,"E","1RX","Admissions & Transport","222",{"$f":"VLOOKUP(I28827,'[1]Sub Lookup'!$A$1:$B$65536,2,FALSE)","v":"Home to School Transport - Hired"}]
["Kent County Council",12001077,"WHITSTABLE TAXIS LTD","2020-04-22",2034,"E","1RX","Admissions & Transport","222",{"$f":"VLOOKUP(I28828,'[1]Sub Lookup'!$A$1:$B$65536,2,FALSE)","v":"Home to School Transport - Hired"}]
["Kent County Council",12001097,"WHITSTABLE TAXIS LTD","2020-04-22",1311,"E","1RX","Admissions & Transport","222",{"$f":"VLOOKUP(I28829,'[1]Sub Lookup'!$A$1:$B$65536,2,FALSE)","v":"Home to School Transport - Hired"}]
["Kent County Council",12001097,"WHITSTABLE TAXIS LTD","2020-04-22",1311,"E","1RX","Admissions & Transport","222",{"$f":"VLOOKUP(I28830,'[1]Sub Lookup'!$A$1:$B$65536,2,FALSE)","v":"Home to School Transport - Hired"}]
["Kent County Council",12001092,"WHITSTABLE TAXIS LTD","2020-04-22",1332,"E","1RX","Admissions & Transport","222",{"$f":"VLOOKUP(I28831,'[1]Sub Lookup'!$A$1:$B$65536,2,FALSE)","v":"Home to School Transport - Hired"}]
["Kent County Council",12001078,"WHITSTABLE TAXIS LTD","2020-04-22",2090,"E","1RX","Admissions & Transport","222",{"$f":"VLOOKUP(I28832,'[1]Sub Lookup'!$A$1:$B$65536,2,FALSE)","v":"Home to School Transport - Hired"}]
["Kent County Council",12001079,"WHITSTABLE TAXIS LTD","2020-04-22",2368,"E","1RX","Admissions & Transport","222",{"$f":"VLOOKUP(I28833,'[1]Sub Lookup'!$A$1:$B$65536,2,FALSE)","v":"Home to School Transport - Hired"}]
["Kent County Council",12001080,"WHITSTABLE TAXIS LTD","2020-04-22",1831.5,"E","1RX","Admissions & Transport","222",{"$f":"VLOOKUP(I28834,'[1]Sub Lookup'!$A$1:$B$65536,2,FALSE)","v":"Home to School Transport - Hired"}]
["Kent County Council",12008886,"WHITSTABLE TAXIS LTD","2020-04-24",1480,"E","1RX","Admissions & Transport","222",{"$f":"VLOOKUP(I28835,'[1]Sub Lookup'!$A$1:$B$65536,2,FALSE)","v":"Home to School Transport - Hired"}]
["Kent County Council",12008885,"WHITSTABLE TAXIS LTD","2020-04-24",1002.5,"E","1RX","Admissions & Transport","222",{"$f":"VLOOKUP(I28836,'[1]Sub Lookup'!$A$1:$B$65536,2,FALSE)","v":"Home to School Transport - Hired"}]
["Kent County Council",12008887,"WHITSTABLE TAXIS LTD","2020-04-24",940,"E","1RX","Admissions & Transport","222",{"$f":"VLOOKUP(I28837,'[1]Sub Lookup'!$A$1:$B$65536,2,FALSE)","v":"Home to School Transport - Hired"}]
["Kent County Council",12008888,"WHITSTABLE TAXIS LTD","2020-04-24",2035,"E","1RX","Admissions & Transport","222",{"$f":"VLOOKUP(I28838,'[1]Sub Lookup'!$A$1:$B$65536,2,FALSE)","v":"Home to School Transport - Hired"}]
["Kent County Council",11985100,"WHITSTABUBBLES DAY NURSERY","2020-04-14",8599.5,"E","1KA","School Resources","528",{"$f":"VLOOKUP(I28839,'[1]Sub Lookup'!$A$1:$B$65536,2,FALSE)","v":"Early Years Education"}]
["Kent County Council",12006309,"WHITSTABUBBLES DAY NURSERY","2020-04-23",506.07,"E","1PA","Additional Educational Needs and Resources","528",{"$f":"VLOOKUP(I28840,'[1]Sub Lookup'!$A$1:$B$65536,2,FALSE)","v":"Early Years Education"}]
["Kent County Council",11967039,"WHITWELL PARK CARE HOME LIMITED","2020-04-01",691.38,"S","5XC","Commissioning & Service Delivery","530",{"$f":"VLOOKUP(I28841,'[1]Sub Lookup'!$A$1:$B$65536,2,FALSE)","v":"Commissioned Service - Other"}]
["Kent County Council",12000677,"WHITWELL PARK CARE HOME LIMITED","2020-04-21",2689.68,"S","5JB","Physical Support - 18 64 Long Term Support: Nursing","530",{"$f":"VLOOKUP(I28842,'[1]Sub Lookup'!$A$1:$B$65536,2,FALSE)","v":"Commissioned Service - Other"}]
["Kent County Council",12018627,"WHITWELL PARK CARE HOME LIMITED","2020-04-29",691.38,"S","5XC","Commissioning & Service Delivery","530",{"$f":"VLOOKUP(I28843,'[1]Sub Lookup'!$A$1:$B$65536,2,FALSE)","v":"Commissioned Service - Other"}]
["Kent County Council",11993689,"WHYBROW & DODDS LTD","2020-04-17",27083.25,"C","5AJ","Learning Disability Support - 18 64 Long Term Support: Community: Day Care","120",{"$f":"VLOOKUP(I28844,'[1]Sub Lookup'!$A$1:$B$65536,2,FALSE)","v":"External - Rent, Room Hire & Service Charges"}]
["Kent County Council",11975113,"WICKSTEED LEISURE LTD","2020-04-24",478,"S","31C","KCC Residential Short Break Units","300",{"$f":"VLOOKUP(I28845,'[1]Sub Lookup'!$A$1:$B$65536,2,FALSE)","v":"Equipment, Furniture and Materials and Livestock"}]
["Kent County Council",11975110,"WICKSTEED LEISURE LTD","2020-04-24",4194.75,"S","31C","KCC Residential Short Break Units","300",{"$f":"VLOOKUP(I28846,'[1]Sub Lookup'!$A$1:$B$65536,2,FALSE)","v":"Equipment, Furniture and Materials and Livestock"}]
["Kent County Council",11984973,"WIGGLES PLAYGROUP LTD","2020-04-14",35746.230000000003,"E","1KA","School Resources","528",{"$f":"VLOOKUP(I28847,'[1]Sub Lookup'!$A$1:$B$65536,2,FALSE)","v":"Early Years Education"}]
["Kent County Council",12006369,"WIGGLES PLAYGROUP LTD","2020-04-23",313.28000000000003,"E","1PA","Additional Educational Needs and Resources","528",{"$f":"VLOOKUP(I28848,'[1]Sub Lookup'!$A$1:$B$65536,2,FALSE)","v":"Early Years Education"}]
["Kent County Council",12006556,"WIGGLES PLAYGROUP LTD","2020-04-23",289.18,"E","1PA","Additional Educational Needs and Resources","528",{"$f":"VLOOKUP(I28849,'[1]Sub Lookup'!$A$1:$B$65536,2,FALSE)","v":"Early Years Education"}]
["Kent County Council",12006570,"WIGGLES PLAYGROUP LTD","2020-04-23",265.08,"E","1PA","Additional Educational Needs and Resources","528",{"$f":"VLOOKUP(I28850,'[1]Sub Lookup'!$A$1:$B$65536,2,FALSE)","v":"Early Years Education"}]
["Kent County Council",11959725,"WIGHTMAN & PARRISH LTD","2020-04-01",350.83,"S","5KP","Physical support - 65+ Short Term - Maximising Independence - Residential","320",{"$f":"VLOOKUP(I28851,'[1]Sub Lookup'!$A$1:$B$65536,2,FALSE)","v":"Uniforms, Protective Clothing, Footwear Laundry, Toiletries, Personal Req Medical, First Aid"}]
["Kent County Council",11960699,"WIGHTMAN & PARRISH LTD","2020-04-06",282.88,"S","5KP","Physical support - 65+ Short Term - Maximising Independence - Residential","320",{"$f":"VLOOKUP(I28852,'[1]Sub Lookup'!$A$1:$B$65536,2,FALSE)","v":"Uniforms, Protective Clothing, Footwear Laundry, Toiletries, Personal Req Medical, First Aid"}]
["Kent County Council",11976282,"WIGHTMAN & PARRISH LTD","2020-04-07",479.87,"S","5KA","Physical support - 65+ Long Term Support: Residential","320",{"$f":"VLOOKUP(I28853,'[1]Sub Lookup'!$A$1:$B$65536,2,FALSE)","v":"Uniforms, Protective Clothing, Footwear Laundry, Toiletries, Personal Req Medical, First Aid"}]
["Kent County Council",11973842,"WIGHTMAN & PARRISH LTD","2020-04-08",310.39,"S","5KP","Physical support - 65+ Short Term - Maximising Independence - Residential","320",{"$f":"VLOOKUP(I28854,'[1]Sub Lookup'!$A$1:$B$65536,2,FALSE)","v":"Uniforms, Protective Clothing, Footwear Laundry, Toiletries, Personal Req Medical, First Aid"}]
["Kent County Council",11990649,"WIGHTMAN & PARRISH LTD","2020-04-24",563.56000000000006,"S","5KP","Physical support - 65+ Short Term - Maximising Independence - Residential","320",{"$f":"VLOOKUP(I28855,'[1]Sub Lookup'!$A$1:$B$65536,2,FALSE)","v":"Uniforms, Protective Clothing, Footwear Laundry, Toiletries, Personal Req Medical, First Aid"}]
["Kent County Council",11994022,"WIGMORE CYCLING CLUB","2020-04-17",260,"K","2LD","Sports & Leisure","450",{"$f":"VLOOKUP(I28856,'[1]Sub Lookup'!$A$1:$B$65536,2,FALSE)","v":"Grants"}]
["Kent County Council",11980040,"WILLESBOROUGH BAPTIST PRE-SCHOOL","2020-04-08",300,"E","1KA","School Resources","528",{"$f":"VLOOKUP(I28857,'[1]Sub Lookup'!$A$1:$B$65536,2,FALSE)","v":"Early Years Education"}]
["Kent County Council",11984374,"WILLESBOROUGH BAPTIST PRE-SCHOOL","2020-04-14",13153.92,"E","1KA","School Resources","528",{"$f":"VLOOKUP(I28858,'[1]Sub Lookup'!$A$1:$B$65536,2,FALSE)","v":"Early Years Education"}]
["Kent County Council",11967041,"WILLOW BANK NURSING HOME","2020-04-01",572,"S","5XC","Commissioning & Service Delivery","530",{"$f":"VLOOKUP(I28859,'[1]Sub Lookup'!$A$1:$B$65536,2,FALSE)","v":"Commissioned Service - Other"}]
["Kent County Council",12018629,"WILLOW BANK NURSING HOME","2020-04-29",572,"S","5XC","Commissioning & Service Delivery","530",{"$f":"VLOOKUP(I28860,'[1]Sub Lookup'!$A$1:$B$65536,2,FALSE)","v":"Commissioned Service - Other"}]
["Kent County Council",11984366,"WILLOW RISE PRE-SCHOOL","2020-04-14",9010.17,"E","1KA","School Resources","528",{"$f":"VLOOKUP(I28861,'[1]Sub Lookup'!$A$1:$B$65536,2,FALSE)","v":"Early Years Education"}]
["Kent County Council",11993551,"WILLOWS CARE HOME (ROMFORD) LIMITED","2020-04-16",4400,"S","5JB","Physical Support - 18 64 Long Term Support: Nursing","530",{"$f":"VLOOKUP(I28862,'[1]Sub Lookup'!$A$1:$B$65536,2,FALSE)","v":"Commissioned Service - Other"}]
["Kent County Council",11993550,"WILLOWS CARE HOME (ROMFORD) LIMITED","2020-04-16",33000,"S","5JB","Physical Support - 18 64 Long Term Support: Nursing","530",{"$f":"VLOOKUP(I28863,'[1]Sub Lookup'!$A$1:$B$65536,2,FALSE)","v":"Commissioned Service - Other"}]
["Kent County Council",11967046,"WILLOWS RESIDENTIAL HOME","2020-04-01",851.17000000000007,"S","5XC","Commissioning & Service Delivery","530",{"$f":"VLOOKUP(I28864,'[1]Sub Lookup'!$A$1:$B$65536,2,FALSE)","v":"Commissioned Service - Other"}]
["Kent County Council",12004476,"WILLOWS RESIDENTIAL HOME","2020-04-22",3497.96,"S","5KA","Physical support - 65+ Long Term Support: Residential","530",{"$f":"VLOOKUP(I28865,'[1]Sub Lookup'!$A$1:$B$65536,2,FALSE)","v":"Commissioned Service - Other"}]
["Kent County Council",12018634,"WILLOWS RESIDENTIAL HOME","2020-04-29",851.17000000000007,"S","5XC","Commissioning & Service Delivery","530",{"$f":"VLOOKUP(I28866,'[1]Sub Lookup'!$A$1:$B$65536,2,FALSE)","v":"Commissioned Service - Other"}]
["Kent County Council",11980144,"WILMINGTON ACTIVE RETIREMENT ASSOCIATION","2020-04-08",350,"K","2AB","Community Liason","450",{"$f":"VLOOKUP(I28867,'[1]Sub Lookup'!$A$1:$B$65536,2,FALSE)","v":"Grants"}]
["Kent County Council",11984567,"WILMINGTON DAY NURSERY - ACN LTD","2020-04-14",22542,"E","1KA","School Resources","528",{"$f":"VLOOKUP(I28868,'[1]Sub Lookup'!$A$1:$B$65536,2,FALSE)","v":"Early Years Education"}]
["Kent County Council",11980074,"WINCHEAP PRE-SCHOOL","2020-04-08",326.04000000000002,"E","1KA","School Resources","528",{"$f":"VLOOKUP(I28869,'[1]Sub Lookup'!$A$1:$B$65536,2,FALSE)","v":"Early Years Education"}]
["Kent County Council",11984600,"WINCHEAP PRE-SCHOOL","2020-04-14",18644.600000000002,"E","1KA","School Resources","528",{"$f":"VLOOKUP(I28870,'[1]Sub Lookup'!$A$1:$B$65536,2,FALSE)","v":"Early Years Education"}]
["Kent County Council",11967048,"WINCHESTER HOUSE NURSING HOME","2020-04-01",12082.04,"S","5XC","Commissioning & Service Delivery","530",{"$f":"VLOOKUP(I28871,'[1]Sub Lookup'!$A$1:$B$65536,2,FALSE)","v":"Commissioned Service - Other"}]
["Kent County Council",11971078,"WINCHESTER HOUSE NURSING HOME","2020-04-02",6259.84,"S","5AA","Learning Disability Support - 18 64 Long Term Support: Residential","530",{"$f":"VLOOKUP(I28872,'[1]Sub Lookup'!$A$1:$B$65536,2,FALSE)","v":"Commissioned Service - Other"}]
["Kent County Council",12018636,"WINCHESTER HOUSE NURSING HOME","2020-04-29",12082.04,"S","5XC","Commissioning & Service Delivery","530",{"$f":"VLOOKUP(I28873,'[1]Sub Lookup'!$A$1:$B$65536,2,FALSE)","v":"Commissioned Service - Other"}]
["Kent County Council",11967847,"WINCHMORE TUTORS LTD","2020-04-01",504,"S","36D","Virtual Schools Kent","401",{"$f":"VLOOKUP(I28874,'[1]Sub Lookup'!$A$1:$B$65536,2,FALSE)","v":"Specialists Fees"}]
["Kent County Council",11967845,"WINCHMORE TUTORS LTD","2020-04-01",384,"S","36D","Virtual Schools Kent","401",{"$f":"VLOOKUP(I28875,'[1]Sub Lookup'!$A$1:$B$65536,2,FALSE)","v":"Specialists Fees"}]
["Kent County Council",11981988,"WINCHMORE TUTORS LTD","2020-04-08",552,"E","1PA","Additional Educational Needs and Resources","401",{"$f":"VLOOKUP(I28876,'[1]Sub Lookup'!$A$1:$B$65536,2,FALSE)","v":"Specialists Fees"}]
["Kent County Council",11981990,"WINCHMORE TUTORS LTD","2020-04-08",504,"E","1PA","Additional Educational Needs and Resources","401",{"$f":"VLOOKUP(I28877,'[1]Sub Lookup'!$A$1:$B$65536,2,FALSE)","v":"Specialists Fees"}]
["Kent County Council",11973333,"WINCHMORE TUTORS LTD","2020-04-09",816,"S","36D","Virtual Schools Kent","401",{"$f":"VLOOKUP(I28878,'[1]Sub Lookup'!$A$1:$B$65536,2,FALSE)","v":"Specialists Fees"}]
["Kent County Council",11976334,"WINCHMORE TUTORS LTD","2020-04-09",864,"E","1PA","Additional Educational Needs and Resources","401",{"$f":"VLOOKUP(I28879,'[1]Sub Lookup'!$A$1:$B$65536,2,FALSE)","v":"Specialists Fees"}]
["Kent County Council",11976333,"WINCHMORE TUTORS LTD","2020-04-09",432,"E","1PA","Additional Educational Needs and Resources","401",{"$f":"VLOOKUP(I28880,'[1]Sub Lookup'!$A$1:$B$65536,2,FALSE)","v":"Specialists Fees"}]
["Kent County Council",11976332,"WINCHMORE TUTORS LTD","2020-04-09",576,"E","1PA","Additional Educational Needs and Resources","401",{"$f":"VLOOKUP(I28881,'[1]Sub Lookup'!$A$1:$B$65536,2,FALSE)","v":"Specialists Fees"}]
["Kent County Council",11976330,"WINCHMORE TUTORS LTD","2020-04-09",720,"E","1PA","Additional Educational Needs and Resources","401",{"$f":"VLOOKUP(I28882,'[1]Sub Lookup'!$A$1:$B$65536,2,FALSE)","v":"Specialists Fees"}]
["Kent County Council",11976329,"WINCHMORE TUTORS LTD","2020-04-09",1128,"E","1PA","Additional Educational Needs and Resources","401",{"$f":"VLOOKUP(I28883,'[1]Sub Lookup'!$A$1:$B$65536,2,FALSE)","v":"Specialists Fees"}]
["Kent County Council",11976328,"WINCHMORE TUTORS LTD","2020-04-09",480,"E","1PA","Additional Educational Needs and Resources","401",{"$f":"VLOOKUP(I28884,'[1]Sub Lookup'!$A$1:$B$65536,2,FALSE)","v":"Specialists Fees"}]
["Kent County Council",11976326,"WINCHMORE TUTORS LTD","2020-04-09",1248,"E","1PA","Additional Educational Needs and Resources","530",{"$f":"VLOOKUP(I28885,'[1]Sub Lookup'!$A$1:$B$65536,2,FALSE)","v":"Commissioned Service - Other"}]
["Kent County Council",11976325,"WINCHMORE TUTORS LTD","2020-04-09",480,"E","1PA","Additional Educational Needs and Resources","401",{"$f":"VLOOKUP(I28886,'[1]Sub Lookup'!$A$1:$B$65536,2,FALSE)","v":"Specialists Fees"}]
["Kent County Council",11976316,"WINCHMORE TUTORS LTD","2020-04-09",432,"E","1PA","Additional Educational Needs and Resources","401",{"$f":"VLOOKUP(I28887,'[1]Sub Lookup'!$A$1:$B$65536,2,FALSE)","v":"Specialists Fees"}]
["Kent County Council",11983944,"WINCHMORE TUTORS LTD","2020-04-14",432,"E","1PA","Additional Educational Needs and Resources","401",{"$f":"VLOOKUP(I28888,'[1]Sub Lookup'!$A$1:$B$65536,2,FALSE)","v":"Specialists Fees"}]
["Kent County Council",11997708,"WINCHMORE TUTORS LTD","2020-04-20",336,"S","36D","Virtual Schools Kent","401",{"$f":"VLOOKUP(I28889,'[1]Sub Lookup'!$A$1:$B$65536,2,FALSE)","v":"Specialists Fees"}]
["Kent County Council",12007019,"WINCHMORE TUTORS LTD","2020-04-24",360,"S","36D","Virtual Schools Kent","401",{"$f":"VLOOKUP(I28890,'[1]Sub Lookup'!$A$1:$B$65536,2,FALSE)","v":"Specialists Fees"}]
["Kent County Council",12001912,"WINCHMORE TUTORS LTD","2020-04-24",360,"S","36D","Virtual Schools Kent","401",{"$f":"VLOOKUP(I28891,'[1]Sub Lookup'!$A$1:$B$65536,2,FALSE)","v":"Specialists Fees"}]
["Kent County Council",12002105,"WINCHMORE TUTORS LTD","2020-04-24",1536,"E","1PA","Additional Educational Needs and Resources","530",{"$f":"VLOOKUP(I28892,'[1]Sub Lookup'!$A$1:$B$65536,2,FALSE)","v":"Commissioned Service - Other"}]
["Kent County Council",12002103,"WINCHMORE TUTORS LTD","2020-04-24",288,"E","1PA","Additional Educational Needs and Resources","401",{"$f":"VLOOKUP(I28893,'[1]Sub Lookup'!$A$1:$B$65536,2,FALSE)","v":"Specialists Fees"}]
["Kent County Council",12002081,"WINCHMORE TUTORS LTD","2020-04-24",384,"E","1PA","Additional Educational Needs and Resources","401",{"$f":"VLOOKUP(I28894,'[1]Sub Lookup'!$A$1:$B$65536,2,FALSE)","v":"Specialists Fees"}]
["Kent County Council",12002077,"WINCHMORE TUTORS LTD","2020-04-24",288,"E","1PA","Additional Educational Needs and Resources","401",{"$f":"VLOOKUP(I28895,'[1]Sub Lookup'!$A$1:$B$65536,2,FALSE)","v":"Specialists Fees"}]
["Kent County Council",12002073,"WINCHMORE TUTORS LTD","2020-04-24",720,"E","1PA","Additional Educational Needs and Resources","401",{"$f":"VLOOKUP(I28896,'[1]Sub Lookup'!$A$1:$B$65536,2,FALSE)","v":"Specialists Fees"}]
["Kent County Council",12002068,"WINCHMORE TUTORS LTD","2020-04-24",288,"E","1PA","Additional Educational Needs and Resources","401",{"$f":"VLOOKUP(I28897,'[1]Sub Lookup'!$A$1:$B$65536,2,FALSE)","v":"Specialists Fees"}]
["Kent County Council",12002065,"WINCHMORE TUTORS LTD","2020-04-24",384,"E","1PA","Additional Educational Needs and Resources","401",{"$f":"VLOOKUP(I28898,'[1]Sub Lookup'!$A$1:$B$65536,2,FALSE)","v":"Specialists Fees"}]
["Kent County Council",11967050,"WINDMILL LODGE","2020-04-01",5453.34,"S","5XC","Commissioning & Service Delivery","530",{"$f":"VLOOKUP(I28899,'[1]Sub Lookup'!$A$1:$B$65536,2,FALSE)","v":"Commissioned Service - Other"}]
["Kent County Council",12017438,"WINDMILL LODGE","2020-04-29",2959.82,"S","5AA","Learning Disability Support - 18 64 Long Term Support: Residential","530",{"$f":"VLOOKUP(I28900,'[1]Sub Lookup'!$A$1:$B$65536,2,FALSE)","v":"Commissioned Service - Other"}]
["Kent County Council",12017436,"WINDMILL LODGE","2020-04-29",4067.32,"S","5BA","Learning Disability Support - 65+ Long Term Support: Residential","530",{"$f":"VLOOKUP(I28901,'[1]Sub Lookup'!$A$1:$B$65536,2,FALSE)","v":"Commissioned Service - Other"}]
["Kent County Council",12017437,"WINDMILL LODGE","2020-04-29",3621.17,"S","5BA","Learning Disability Support - 65+ Long Term Support: Residential","530",{"$f":"VLOOKUP(I28902,'[1]Sub Lookup'!$A$1:$B$65536,2,FALSE)","v":"Commissioned Service - Other"}]
["Kent County Council",12018638,"WINDMILL LODGE","2020-04-29",5453.34,"S","5XC","Commissioning & Service Delivery","530",{"$f":"VLOOKUP(I28903,'[1]Sub Lookup'!$A$1:$B$65536,2,FALSE)","v":"Commissioned Service - Other"}]
["Kent County Council",11967051,"WINDMILL MANOR","2020-04-01",1000,"S","5XC","Commissioning & Service Delivery","530",{"$f":"VLOOKUP(I28904,'[1]Sub Lookup'!$A$1:$B$65536,2,FALSE)","v":"Commissioned Service - Other"}]
["Kent County Council",11977908,"WINDMILL MANOR","2020-04-07",4000,"S","5TB","Support with Memory & Cognition - 65+ Long Term Support: Nursing","530",{"$f":"VLOOKUP(I28905,'[1]Sub Lookup'!$A$1:$B$65536,2,FALSE)","v":"Commissioned Service - Other"}]
["Kent County Council",12018639,"WINDMILL MANOR","2020-04-29",1000,"S","5XC","Commissioning & Service Delivery","530",{"$f":"VLOOKUP(I28906,'[1]Sub Lookup'!$A$1:$B$65536,2,FALSE)","v":"Commissioned Service - Other"}]
["Kent County Council",11967052,"WINDSOR COURT CARE HOME","2020-04-01",675,"S","5XC","Commissioning & Service Delivery","530",{"$f":"VLOOKUP(I28907,'[1]Sub Lookup'!$A$1:$B$65536,2,FALSE)","v":"Commissioned Service - Other"}]
["Kent County Council",12000846,"WINDSOR COURT CARE HOME","2020-04-21",2892.86,"S","5KA","Physical support - 65+ Long Term Support: Residential","530",{"$f":"VLOOKUP(I28908,'[1]Sub Lookup'!$A$1:$B$65536,2,FALSE)","v":"Commissioned Service - Other"}]
["Kent County Council",12018640,"WINDSOR COURT CARE HOME","2020-04-29",675,"S","5XC","Commissioning & Service Delivery","530",{"$f":"VLOOKUP(I28909,'[1]Sub Lookup'!$A$1:$B$65536,2,FALSE)","v":"Commissioned Service - Other"}]
["Kent County Council",11990604,"WINGHAM TIMBER & MOULDINGS LTD","2020-04-16",387.1,"S","5WQ","Assistive Equipment & Technology","530",{"$f":"VLOOKUP(I28910,'[1]Sub Lookup'!$A$1:$B$65536,2,FALSE)","v":"Commissioned Service - Other"}]
["Kent County Council",11985068,"WINGS NURSERY LTD","2020-04-14",34401.83,"E","1KA","School Resources","528",{"$f":"VLOOKUP(I28911,'[1]Sub Lookup'!$A$1:$B$65536,2,FALSE)","v":"Early Years Education"}]
["Kent County Council",11990559,"WINGS NURSERY LTD","2020-04-15",890.1,"E","1KA","School Resources","528",{"$f":"VLOOKUP(I28912,'[1]Sub Lookup'!$A$1:$B$65536,2,FALSE)","v":"Early Years Education"}]
["Kent County Council",11961396,"WISH VALLEY SURGERY","2020-04-02",618,"C","8PB","Sexual Health Services - Contraception","522",{"$f":"VLOOKUP(I28913,'[1]Sub Lookup'!$A$1:$B$65536,2,FALSE)","v":"District Health Authorities"}]
["Kent County Council",11967055,"WITHENS NURSING & RES. HOME","2020-04-01",8067.63,"S","5XC","Commissioning & Service Delivery","530",{"$f":"VLOOKUP(I28914,'[1]Sub Lookup'!$A$1:$B$65536,2,FALSE)","v":"Commissioned Service - Other"}]
["Kent County Council",11989213,"WITHENS NURSING & RES. HOME","2020-04-14",6616.42,"S","5KA","Physical support - 65+ Long Term Support: Residential","530",{"$f":"VLOOKUP(I28915,'[1]Sub Lookup'!$A$1:$B$65536,2,FALSE)","v":"Commissioned Service - Other"}]
["Kent County Council",12000669,"WITHENS NURSING & RES. HOME","2020-04-21",3184.88,"S","5TB","Support with Memory & Cognition - 65+ Long Term Support: Nursing","530",{"$f":"VLOOKUP(I28916,'[1]Sub Lookup'!$A$1:$B$65536,2,FALSE)","v":"Commissioned Service - Other"}]
["Kent County Council",12000669,"WITHENS NURSING & RES. HOME","2020-04-21",3000,"S","5KV","Physical support - 65+ Short Term - Other - Nursing","530",{"$f":"VLOOKUP(I28917,'[1]Sub Lookup'!$A$1:$B$65536,2,FALSE)","v":"Commissioned Service - Other"}]
["Kent County Council",12000669,"WITHENS NURSING & RES. HOME","2020-04-21",1950.1200000000001,"S","5KA","Physical support - 65+ Long Term Support: Residential","530",{"$f":"VLOOKUP(I28918,'[1]Sub Lookup'!$A$1:$B$65536,2,FALSE)","v":"Commissioned Service - Other"}]
["Kent County Council",12000669,"WITHENS NURSING & RES. HOME","2020-04-21",2178.88,"S","5KB","Physical support - 65+ Long Term Support: Nursing","530",{"$f":"VLOOKUP(I28919,'[1]Sub Lookup'!$A$1:$B$65536,2,FALSE)","v":"Commissioned Service - Other"}]
["Kent County Council",12000669,"WITHENS NURSING & RES. HOME","2020-04-21",15676.64,"S","5KB","Physical support - 65+ Long Term Support: Nursing","530",{"$f":"VLOOKUP(I28920,'[1]Sub Lookup'!$A$1:$B$65536,2,FALSE)","v":"Commissioned Service - Other"}]
["Kent County Council",12006728,"WITHENS NURSING & RES. HOME","2020-04-23",17830.71,"S","5KB","Physical support - 65+ Long Term Support: Nursing","530",{"$f":"VLOOKUP(I28921,'[1]Sub Lookup'!$A$1:$B$65536,2,FALSE)","v":"Commissioned Service - Other"}]
["Kent County Council",12011042,"WITHENS NURSING & RES. HOME","2020-04-27",9857.14,"S","5KB","Physical support - 65+ Long Term Support: Nursing","530",{"$f":"VLOOKUP(I28922,'[1]Sub Lookup'!$A$1:$B$65536,2,FALSE)","v":"Commissioned Service - Other"}]
["Kent County Council",12018643,"WITHENS NURSING & RES. HOME","2020-04-29",8067.63,"S","5XC","Commissioning & Service Delivery","530",{"$f":"VLOOKUP(I28923,'[1]Sub Lookup'!$A$1:$B$65536,2,FALSE)","v":"Commissioned Service - Other"}]
["Kent County Council",11966225,"WITHOUT EXCEPTIONS LTD","2020-04-01",1029.42,"S","5XC","Commissioning & Service Delivery","530",{"$f":"VLOOKUP(I28924,'[1]Sub Lookup'!$A$1:$B$65536,2,FALSE)","v":"Commissioned Service - Other"}]
["Kent County Council",11967056,"WITHOUT EXCEPTIONS LTD","2020-04-01",8458.4699999999993,"S","5XC","Commissioning & Service Delivery","530",{"$f":"VLOOKUP(I28925,'[1]Sub Lookup'!$A$1:$B$65536,2,FALSE)","v":"Commissioned Service - Other"}]
["Kent County Council",11965362,"WITHOUT EXCEPTIONS LTD","2020-04-17",1163.26,"S","5AH","Learning Disability Support - 18 64 Long Term Support: Community: Supported Living","523",{"$f":"VLOOKUP(I28926,'[1]Sub Lookup'!$A$1:$B$65536,2,FALSE)","v":"Private Contractors"}]
["Kent County Council",11965362,"WITHOUT EXCEPTIONS LTD","2020-04-17",2794.14,"S","5AH","Learning Disability Support - 18 64 Long Term Support: Community: Supported Living","523",{"$f":"VLOOKUP(I28927,'[1]Sub Lookup'!$A$1:$B$65536,2,FALSE)","v":"Private Contractors"}]
["Kent County Council",11998056,"WITHOUT EXCEPTIONS LTD","2020-04-20",2280.6,"S","5AH","Learning Disability Support - 18 64 Long Term Support: Community: Supported Living","530",{"$f":"VLOOKUP(I28928,'[1]Sub Lookup'!$A$1:$B$65536,2,FALSE)","v":"Commissioned Service - Other"}]
["Kent County Council",11998054,"WITHOUT EXCEPTIONS LTD","2020-04-20",1951.88,"S","5AH","Learning Disability Support - 18 64 Long Term Support: Community: Supported Living","530",{"$f":"VLOOKUP(I28929,'[1]Sub Lookup'!$A$1:$B$65536,2,FALSE)","v":"Commissioned Service - Other"}]
["Kent County Council",11998055,"WITHOUT EXCEPTIONS LTD","2020-04-20",2724.7200000000003,"S","5AH","Learning Disability Support - 18 64 Long Term Support: Community: Supported Living","530",{"$f":"VLOOKUP(I28930,'[1]Sub Lookup'!$A$1:$B$65536,2,FALSE)","v":"Commissioned Service - Other"}]
["Kent County Council",11998053,"WITHOUT EXCEPTIONS LTD","2020-04-20",1893.92,"S","5BH","Learning Disability Support - 65+ Long Term Support: Community: Supported Living","530",{"$f":"VLOOKUP(I28931,'[1]Sub Lookup'!$A$1:$B$65536,2,FALSE)","v":"Commissioned Service - Other"}]
["Kent County Council",11998052,"WITHOUT EXCEPTIONS LTD","2020-04-20",1893.92,"S","5BH","Learning Disability Support - 65+ Long Term Support: Community: Supported Living","530",{"$f":"VLOOKUP(I28932,'[1]Sub Lookup'!$A$1:$B$65536,2,FALSE)","v":"Commissioned Service - Other"}]
["Kent County Council",12005196,"WITHOUT EXCEPTIONS LTD","2020-04-22",20078.600000000002,"S","5AH","Learning Disability Support - 18 64 Long Term Support: Community: Supported Living","530",{"$f":"VLOOKUP(I28933,'[1]Sub Lookup'!$A$1:$B$65536,2,FALSE)","v":"Commissioned Service - Other"}]
["Kent County Council",12005196,"WITHOUT EXCEPTIONS LTD","2020-04-22",463.68,"S","5BH","Learning Disability Support - 65+ Long Term Support: Community: Supported Living","530",{"$f":"VLOOKUP(I28934,'[1]Sub Lookup'!$A$1:$B$65536,2,FALSE)","v":"Commissioned Service - Other"}]
["Kent County Council",12018644,"WITHOUT EXCEPTIONS LTD","2020-04-29",8458.4699999999993,"S","5XC","Commissioning & Service Delivery","530",{"$f":"VLOOKUP(I28935,'[1]Sub Lookup'!$A$1:$B$65536,2,FALSE)","v":"Commissioned Service - Other"}]
["Kent County Council",12017567,"WITHOUT EXCEPTIONS LTD","2020-04-29",1029.42,"S","5XC","Commissioning & Service Delivery","530",{"$f":"VLOOKUP(I28936,'[1]Sub Lookup'!$A$1:$B$65536,2,FALSE)","v":"Commissioned Service - Other"}]
["Kent County Council",11970994,"WOOD N WARE CIC","2020-04-01",324,"S","5JJ","Physical Support - 18 64 Long Term Support: Community: Day Care","520",{"$f":"VLOOKUP(I28937,'[1]Sub Lookup'!$A$1:$B$65536,2,FALSE)","v":"Voluntary Associations"}]
["Kent County Council",11992862,"WOOD N WARE CIC","2020-04-24",729,"S","5AJ","Learning Disability Support - 18 64 Long Term Support: Community: Day Care","520",{"$f":"VLOOKUP(I28938,'[1]Sub Lookup'!$A$1:$B$65536,2,FALSE)","v":"Voluntary Associations"}]
["Kent County Council",11993531,"WOOD N WARE CIC","2020-04-24",324,"S","5AJ","Learning Disability Support - 18 64 Long Term Support: Community: Day Care","520",{"$f":"VLOOKUP(I28939,'[1]Sub Lookup'!$A$1:$B$65536,2,FALSE)","v":"Voluntary Associations"}]
["Kent County Council",11993535,"WOOD N WARE CIC","2020-04-24",486,"S","5AJ","Learning Disability Support - 18 64 Long Term Support: Community: Day Care","520",{"$f":"VLOOKUP(I28940,'[1]Sub Lookup'!$A$1:$B$65536,2,FALSE)","v":"Voluntary Associations"}]
["Kent County Council",11996816,"WOOD N WARE CIC","2020-04-24",648,"S","5AJ","Learning Disability Support - 18 64 Long Term Support: Community: Day Care","520",{"$f":"VLOOKUP(I28941,'[1]Sub Lookup'!$A$1:$B$65536,2,FALSE)","v":"Voluntary Associations"}]
["Kent County Council",11996814,"WOOD N WARE CIC","2020-04-24",324,"S","5AJ","Learning Disability Support - 18 64 Long Term Support: Community: Day Care","520",{"$f":"VLOOKUP(I28942,'[1]Sub Lookup'!$A$1:$B$65536,2,FALSE)","v":"Voluntary Associations"}]
["Kent County Council",11990937,"WOOD N WARE CIC","2020-04-24",486,"S","5AJ","Learning Disability Support - 18 64 Long Term Support: Community: Day Care","520",{"$f":"VLOOKUP(I28943,'[1]Sub Lookup'!$A$1:$B$65536,2,FALSE)","v":"Voluntary Associations"}]
["Kent County Council",12002646,"WOOD N WARE CIC","2020-04-24",810,"S","5BJ","Learning Disability Support - 65+ Long Term Support: Community: Day Care","520",{"$f":"VLOOKUP(I28944,'[1]Sub Lookup'!$A$1:$B$65536,2,FALSE)","v":"Voluntary Associations"}]
["Kent County Council",11990944,"WOOD N WARE CIC","2020-04-24",810,"S","5AJ","Learning Disability Support - 18 64 Long Term Support: Community: Day Care","520",{"$f":"VLOOKUP(I28945,'[1]Sub Lookup'!$A$1:$B$65536,2,FALSE)","v":"Voluntary Associations"}]
["Kent County Council",11990946,"WOOD N WARE CIC","2020-04-24",324,"S","5AJ","Learning Disability Support - 18 64 Long Term Support: Community: Day Care","520",{"$f":"VLOOKUP(I28946,'[1]Sub Lookup'!$A$1:$B$65536,2,FALSE)","v":"Voluntary Associations"}]
["Kent County Council",11990949,"WOOD N WARE CIC","2020-04-24",324,"S","5AJ","Learning Disability Support - 18 64 Long Term Support: Community: Day Care","520",{"$f":"VLOOKUP(I28947,'[1]Sub Lookup'!$A$1:$B$65536,2,FALSE)","v":"Voluntary Associations"}]
["Kent County Council",11992423,"WOOD N WARE CIC","2020-04-24",324,"S","5JJ","Physical Support - 18 64 Long Term Support: Community: Day Care","520",{"$f":"VLOOKUP(I28948,'[1]Sub Lookup'!$A$1:$B$65536,2,FALSE)","v":"Voluntary Associations"}]
["Kent County Council",11990951,"WOOD N WARE CIC","2020-04-24",324,"S","5AJ","Learning Disability Support - 18 64 Long Term Support: Community: Day Care","520",{"$f":"VLOOKUP(I28949,'[1]Sub Lookup'!$A$1:$B$65536,2,FALSE)","v":"Voluntary Associations"}]
["Kent County Council",12002649,"WOOD N WARE CIC","2020-04-24",810,"S","5AJ","Learning Disability Support - 18 64 Long Term Support: Community: Day Care","520",{"$f":"VLOOKUP(I28950,'[1]Sub Lookup'!$A$1:$B$65536,2,FALSE)","v":"Voluntary Associations"}]
["Kent County Council",12011621,"WOOD N WARE CIC","2020-04-28",324,"S","5AJ","Learning Disability Support - 18 64 Long Term Support: Community: Day Care","523",{"$f":"VLOOKUP(I28951,'[1]Sub Lookup'!$A$1:$B$65536,2,FALSE)","v":"Private Contractors"}]
["Kent County Council",11850458,"WOODCHURCH HOUSE LIMITED","2020-04-06",-1074.76,"S","5KA","Physical support - 65+ Long Term Support: Residential","530",{"$f":"VLOOKUP(I28952,'[1]Sub Lookup'!$A$1:$B$65536,2,FALSE)","v":"Commissioned Service - Other"}]
["Kent County Council",11976197,"WOODCHURCH HOUSE LIMITED","2020-04-06",2378.3200000000002,"S","5KF","Physical support - 65+ Long Term Support: Community: Direct Payments","530",{"$f":"VLOOKUP(I28953,'[1]Sub Lookup'!$A$1:$B$65536,2,FALSE)","v":"Commissioned Service - Other"}]
["Kent County Council",11973444,"WOODCHURCH HOUSE LIMITED","2020-04-09",6307.6,"S","5KU","Physical support - 65+ Short Term - Other - Residential","530",{"$f":"VLOOKUP(I28954,'[1]Sub Lookup'!$A$1:$B$65536,2,FALSE)","v":"Commissioned Service - Other"}]
["Kent County Council",11984608,"WOODCHURCH WINDMILLS PRE-SCHOOL FUN CLUB LTD","2020-04-14",8274.24,"E","1KA","School Resources","528",{"$f":"VLOOKUP(I28955,'[1]Sub Lookup'!$A$1:$B$65536,2,FALSE)","v":"Early Years Education"}]
["Kent County Council",11975812,"WOODFORD CHILDREN\u0092S HOME LTD","2020-04-17",15000,"S","31B","IS  Res Care Children","527",{"$f":"VLOOKUP(I28956,'[1]Sub Lookup'!$A$1:$B$65536,2,FALSE)","v":"Services"}]
["Kent County Council",11984568,"WOODLANDS DAY NURSERY","2020-04-14",31824,"E","1KA","School Resources","528",{"$f":"VLOOKUP(I28957,'[1]Sub Lookup'!$A$1:$B$65536,2,FALSE)","v":"Early Years Education"}]
["Kent County Council",11904808,"WOODLANDS HEALTH CENTRE","2020-04-02",1206.5,"C","8PB","Sexual Health Services - Contraception","522",{"$f":"VLOOKUP(I28958,'[1]Sub Lookup'!$A$1:$B$65536,2,FALSE)","v":"District Health Authorities"}]
["Kent County Council",11797592,"WOODLANDS HEALTH CENTRE","2020-04-20",999,"C","8PB","Sexual Health Services - Contraception","522",{"$f":"VLOOKUP(I28959,'[1]Sub Lookup'!$A$1:$B$65536,2,FALSE)","v":"District Health Authorities"}]
["Kent County Council",11984636,"WOODLANDS NURSERY AND PRESCHOOL-SHEERNESS","2020-04-14",30232.799999999999,"E","1KA","School Resources","528",{"$f":"VLOOKUP(I28960,'[1]Sub Lookup'!$A$1:$B$65536,2,FALSE)","v":"Early Years Education"}]
["Kent County Council",12006169,"WOODLANDS NURSERY AND PRESCHOOL-SHEERNESS","2020-04-23",602.46,"E","1PA","Additional Educational Needs and Resources","528",{"$f":"VLOOKUP(I28961,'[1]Sub Lookup'!$A$1:$B$65536,2,FALSE)","v":"Early Years Education"}]
["Kent County Council",12006337,"WOODLANDS NURSERY AND PRESCHOOL-SHEERNESS","2020-04-23",530.16,"E","1PA","Additional Educational Needs and Resources","528",{"$f":"VLOOKUP(I28962,'[1]Sub Lookup'!$A$1:$B$65536,2,FALSE)","v":"Early Years Education"}]
["Kent County Council",12006375,"WOODLANDS NURSERY AND PRESCHOOL-SHEERNESS","2020-04-23",265.08,"E","1PA","Additional Educational Needs and Resources","528",{"$f":"VLOOKUP(I28963,'[1]Sub Lookup'!$A$1:$B$65536,2,FALSE)","v":"Early Years Education"}]
["Kent County Council",11984358,"WOODLANDS UNDER 5'S PLAYGROUP-MAIDSTONE","2020-04-14",12663.300000000001,"E","1KA","School Resources","528",{"$f":"VLOOKUP(I28964,'[1]Sub Lookup'!$A$1:$B$65536,2,FALSE)","v":"Early Years Education"}]
["Kent County Council",12006463,"WOODLANDS UNDER 5'S PLAYGROUP-MAIDSTONE","2020-04-23",313.28000000000003,"E","1PA","Additional Educational Needs and Resources","528",{"$f":"VLOOKUP(I28965,'[1]Sub Lookup'!$A$1:$B$65536,2,FALSE)","v":"Early Years Education"}]
["Kent County Council",11967061,"WOODLARKS WORKSHOP TRUST","2020-04-01",872.76,"S","5XC","Commissioning & Service Delivery","530",{"$f":"VLOOKUP(I28966,'[1]Sub Lookup'!$A$1:$B$65536,2,FALSE)","v":"Commissioned Service - Other"}]
["Kent County Council",11995900,"WOODLARKS WORKSHOP TRUST","2020-04-17",3637.8,"S","5KA","Physical support - 65+ Long Term Support: Residential","530",{"$f":"VLOOKUP(I28967,'[1]Sub Lookup'!$A$1:$B$65536,2,FALSE)","v":"Commissioned Service - Other"}]
["Kent County Council",11995900,"WOODLARKS WORKSHOP TRUST","2020-04-17",-610.07000000000005,"S","5KA","Physical support - 65+ Long Term Support: Residential","937",{"$f":"VLOOKUP(I28968,'[1]Sub Lookup'!$A$1:$B$65536,2,FALSE)","v":"KASS Notional Income"}]
["Kent County Council",12018649,"WOODLARKS WORKSHOP TRUST","2020-04-29",872.76,"S","5XC","Commissioning & Service Delivery","530",{"$f":"VLOOKUP(I28969,'[1]Sub Lookup'!$A$1:$B$65536,2,FALSE)","v":"Commissioned Service - Other"}]
["Kent County Council",11965914,"WOODPECKER COURT YOUTH ACTIVITIES","2020-04-01",45333.33,"E","1PA","Additional Educational Needs and Resources","530",{"$f":"VLOOKUP(I28970,'[1]Sub Lookup'!$A$1:$B$65536,2,FALSE)","v":"Commissioned Service - Other"}]
["Kent County Council",11972160,"WOODPECKER COURT YOUTH ACTIVITIES","2020-04-03",28000,"S","36D","Virtual Schools Kent","401",{"$f":"VLOOKUP(I28971,'[1]Sub Lookup'!$A$1:$B$65536,2,FALSE)","v":"Specialists Fees"}]
["Kent County Council",11985271,"WOODPECKERS PRESCHOOL CIO","2020-04-14",16508.7,"E","1KA","School Resources","528",{"$f":"VLOOKUP(I28972,'[1]Sub Lookup'!$A$1:$B$65536,2,FALSE)","v":"Early Years Education"}]
["Kent County Council",12006224,"WOODPECKERS PRESCHOOL CIO","2020-04-23",330.22,"E","1PA","Additional Educational Needs and Resources","528",{"$f":"VLOOKUP(I28973,'[1]Sub Lookup'!$A$1:$B$65536,2,FALSE)","v":"Early Years Education"}]
["Kent County Council",11967063,"WOODSIDE RESIDENTIAL HOME","2020-04-01",6158.78,"S","5XC","Commissioning & Service Delivery","530",{"$f":"VLOOKUP(I28974,'[1]Sub Lookup'!$A$1:$B$65536,2,FALSE)","v":"Commissioned Service - Other"}]
["Kent County Council",12002496,"WOODSIDE RESIDENTIAL HOME","2020-04-22",1950.1200000000001,"S","5KA","Physical support - 65+ Long Term Support: Residential","530",{"$f":"VLOOKUP(I28975,'[1]Sub Lookup'!$A$1:$B$65536,2,FALSE)","v":"Commissioned Service - Other"}]
["Kent County Council",12002499,"WOODSIDE RESIDENTIAL HOME","2020-04-22",2055.2400000000002,"S","5KA","Physical support - 65+ Long Term Support: Residential","530",{"$f":"VLOOKUP(I28976,'[1]Sub Lookup'!$A$1:$B$65536,2,FALSE)","v":"Commissioned Service - Other"}]
["Kent County Council",12002506,"WOODSIDE RESIDENTIAL HOME","2020-04-22",2140,"S","5KA","Physical support - 65+ Long Term Support: Residential","530",{"$f":"VLOOKUP(I28977,'[1]Sub Lookup'!$A$1:$B$65536,2,FALSE)","v":"Commissioned Service - Other"}]
["Kent County Council",12002500,"WOODSIDE RESIDENTIAL HOME","2020-04-22",2026.68,"S","5TA","Support with Memory & Cognition - 65+ Long Term Support: Residential","530",{"$f":"VLOOKUP(I28978,'[1]Sub Lookup'!$A$1:$B$65536,2,FALSE)","v":"Commissioned Service - Other"}]
["Kent County Council",12002501,"WOODSIDE RESIDENTIAL HOME","2020-04-22",1970.1200000000001,"S","5PA","Sensory Support - 65+ Long Term Support: Residential","530",{"$f":"VLOOKUP(I28979,'[1]Sub Lookup'!$A$1:$B$65536,2,FALSE)","v":"Commissioned Service - Other"}]
["Kent County Council",12002498,"WOODSIDE RESIDENTIAL HOME","2020-04-22",2026.68,"S","5TA","Support with Memory & Cognition - 65+ Long Term Support: Residential","530",{"$f":"VLOOKUP(I28980,'[1]Sub Lookup'!$A$1:$B$65536,2,FALSE)","v":"Commissioned Service - Other"}]
["Kent County Council",12002504,"WOODSIDE RESIDENTIAL HOME","2020-04-22",2140,"S","5KA","Physical support - 65+ Long Term Support: Residential","530",{"$f":"VLOOKUP(I28981,'[1]Sub Lookup'!$A$1:$B$65536,2,FALSE)","v":"Commissioned Service - Other"}]
["Kent County Council",12002503,"WOODSIDE RESIDENTIAL HOME","2020-04-22",2052.1999999999998,"S","5KA","Physical support - 65+ Long Term Support: Residential","530",{"$f":"VLOOKUP(I28982,'[1]Sub Lookup'!$A$1:$B$65536,2,FALSE)","v":"Commissioned Service - Other"}]
["Kent County Council",12002502,"WOODSIDE RESIDENTIAL HOME","2020-04-22",2052.1999999999998,"S","5KA","Physical support - 65+ Long Term Support: Residential","530",{"$f":"VLOOKUP(I28983,'[1]Sub Lookup'!$A$1:$B$65536,2,FALSE)","v":"Commissioned Service - Other"}]
["Kent County Council",12002505,"WOODSIDE RESIDENTIAL HOME","2020-04-22",2140,"S","5KA","Physical support - 65+ Long Term Support: Residential","530",{"$f":"VLOOKUP(I28984,'[1]Sub Lookup'!$A$1:$B$65536,2,FALSE)","v":"Commissioned Service - Other"}]
["Kent County Council",12002497,"WOODSIDE RESIDENTIAL HOME","2020-04-22",2055.2400000000002,"S","5KA","Physical support - 65+ Long Term Support: Residential","530",{"$f":"VLOOKUP(I28985,'[1]Sub Lookup'!$A$1:$B$65536,2,FALSE)","v":"Commissioned Service - Other"}]
["Kent County Council",12002495,"WOODSIDE RESIDENTIAL HOME","2020-04-22",2026.64,"S","5KA","Physical support - 65+ Long Term Support: Residential","530",{"$f":"VLOOKUP(I28986,'[1]Sub Lookup'!$A$1:$B$65536,2,FALSE)","v":"Commissioned Service - Other"}]
["Kent County Council",12019002,"WOODSIDE RESIDENTIAL HOME","2020-04-29",3745,"S","5KA","Physical support - 65+ Long Term Support: Residential","530",{"$f":"VLOOKUP(I28987,'[1]Sub Lookup'!$A$1:$B$65536,2,FALSE)","v":"Commissioned Service - Other"}]
["Kent County Council",12018651,"WOODSIDE RESIDENTIAL HOME","2020-04-29",6158.78,"S","5XC","Commissioning & Service Delivery","530",{"$f":"VLOOKUP(I28988,'[1]Sub Lookup'!$A$1:$B$65536,2,FALSE)","v":"Commissioned Service - Other"}]
["Kent County Council",11985287,"WOODSTOCK HOUSE DAY NURSERY LTD","2020-04-14",5676.4800000000005,"E","1KA","School Resources","528",{"$f":"VLOOKUP(I28989,'[1]Sub Lookup'!$A$1:$B$65536,2,FALSE)","v":"Early Years Education"}]
["Kent County Council",11967701,"WOODSTOCK RESIDENTIAL HOME","2020-04-01",2080,"S","5JA","Physical Support - 18 64 Long Term Support: Residential","530",{"$f":"VLOOKUP(I28990,'[1]Sub Lookup'!$A$1:$B$65536,2,FALSE)","v":"Commissioned Service - Other"}]
["Kent County Council",11967064,"WOODSTOCK RESIDENTIAL HOME","2020-04-01",5335.87,"S","5XC","Commissioning & Service Delivery","530",{"$f":"VLOOKUP(I28991,'[1]Sub Lookup'!$A$1:$B$65536,2,FALSE)","v":"Commissioned Service - Other"}]
["Kent County Council",11976996,"WOODSTOCK RESIDENTIAL HOME","2020-04-06",2080,"S","5KA","Physical support - 65+ Long Term Support: Residential","530",{"$f":"VLOOKUP(I28992,'[1]Sub Lookup'!$A$1:$B$65536,2,FALSE)","v":"Commissioned Service - Other"}]
["Kent County Council",11992190,"WOODSTOCK RESIDENTIAL HOME","2020-04-15",-1184,"S","5KA","Physical support - 65+ Long Term Support: Residential","530",{"$f":"VLOOKUP(I28993,'[1]Sub Lookup'!$A$1:$B$65536,2,FALSE)","v":"Commissioned Service - Other"}]
["Kent County Council",11952444,"WOODSTOCK RESIDENTIAL HOME","2020-04-15",-1028.57,"S","9AR","Revenue Balance Sheet","BEA",{"$f":"VLOOKUP(I28994,'[1]Sub Lookup'!$A$1:$B$65536,2,FALSE)","v":"Payments in Advance - General"}]
["Kent County Council",11952444,"WOODSTOCK RESIDENTIAL HOME","2020-04-15",-1371.43,"S","5KU","Physical support - 65+ Short Term - Other - Residential","530",{"$f":"VLOOKUP(I28995,'[1]Sub Lookup'!$A$1:$B$65536,2,FALSE)","v":"Commissioned Service - Other"}]
["Kent County Council",11952445,"WOODSTOCK RESIDENTIAL HOME","2020-04-15",-891.43000000000006,"S","9AR","Revenue Balance Sheet","BEA",{"$f":"VLOOKUP(I28996,'[1]Sub Lookup'!$A$1:$B$65536,2,FALSE)","v":"Payments in Advance - General"}]
["Kent County Council",11952445,"WOODSTOCK RESIDENTIAL HOME","2020-04-15",-1188.57,"S","5KU","Physical support - 65+ Short Term - Other - Residential","530",{"$f":"VLOOKUP(I28997,'[1]Sub Lookup'!$A$1:$B$65536,2,FALSE)","v":"Commissioned Service - Other"}]
["Kent County Council",11992183,"WOODSTOCK RESIDENTIAL HOME","2020-04-15",11422.130000000001,"S","5KA","Physical support - 65+ Long Term Support: Residential","530",{"$f":"VLOOKUP(I28998,'[1]Sub Lookup'!$A$1:$B$65536,2,FALSE)","v":"Commissioned Service - Other"}]
["Kent County Council",11998141,"WOODSTOCK RESIDENTIAL HOME","2020-04-20",1560,"S","5KU","Physical support - 65+ Short Term - Other - Residential","530",{"$f":"VLOOKUP(I28999,'[1]Sub Lookup'!$A$1:$B$65536,2,FALSE)","v":"Commissioned Service - Other"}]
["Kent County Council",12005426,"WOODSTOCK RESIDENTIAL HOME","2020-04-22",2003.56,"S","5KA","Physical support - 65+ Long Term Support: Residential","530",{"$f":"VLOOKUP(I29000,'[1]Sub Lookup'!$A$1:$B$65536,2,FALSE)","v":"Commissioned Service - Other"}]
["Kent County Council",12004492,"WOODSTOCK RESIDENTIAL HOME","2020-04-22",7150,"S","5KA","Physical support - 65+ Long Term Support: Residential","530",{"$f":"VLOOKUP(I29001,'[1]Sub Lookup'!$A$1:$B$65536,2,FALSE)","v":"Commissioned Service - Other"}]
["Kent County Council",12011108,"WOODSTOCK RESIDENTIAL HOME","2020-04-27",1100,"S","5KP","Physical support - 65+ Short Term - Maximising Independence - Residential","530",{"$f":"VLOOKUP(I29002,'[1]Sub Lookup'!$A$1:$B$65536,2,FALSE)","v":"Commissioned Service - Other"}]
["Kent County Council",12018652,"WOODSTOCK RESIDENTIAL HOME","2020-04-29",5335.87,"S","5XC","Commissioning & Service Delivery","530",{"$f":"VLOOKUP(I29003,'[1]Sub Lookup'!$A$1:$B$65536,2,FALSE)","v":"Commissioned Service - Other"}]
["Kent County Council",11984173,"WOOLLARD & KENT FUNERAL SERVICES LTD","2020-04-14",7821,"K","2RF","Coroners","401",{"$f":"VLOOKUP(I29004,'[1]Sub Lookup'!$A$1:$B$65536,2,FALSE)","v":"Specialists Fees"}]
["Kent County Council",11984175,"WOOLLARD & KENT FUNERAL SERVICES LTD","2020-04-14",4830,"K","2RF","Coroners","401",{"$f":"VLOOKUP(I29005,'[1]Sub Lookup'!$A$1:$B$65536,2,FALSE)","v":"Specialists Fees"}]
["Kent County Council",11984176,"WOOLLARD & KENT FUNERAL SERVICES LTD","2020-04-14",3558,"K","2RF","Coroners","401",{"$f":"VLOOKUP(I29006,'[1]Sub Lookup'!$A$1:$B$65536,2,FALSE)","v":"Specialists Fees"}]
["Kent County Council",11984197,"WOOLLARD & KENT FUNERAL SERVICES LTD","2020-04-14",7433.25,"K","2RF","Coroners","401",{"$f":"VLOOKUP(I29007,'[1]Sub Lookup'!$A$1:$B$65536,2,FALSE)","v":"Specialists Fees"}]
["Kent County Council",11992983,"WORCESTERSHIRE HEALTH AND CARE NHS TRUST","2020-04-16",311.40000000000003,"E","1PA","Additional Educational Needs and Resources","401",{"$f":"VLOOKUP(I29008,'[1]Sub Lookup'!$A$1:$B$65536,2,FALSE)","v":"Specialists Fees"}]
["Kent County Council",11992442,"WORKING PEOPLE LIMITED","2020-04-16",3380,"K","2RF","Coroners","064",{"$f":"VLOOKUP(I29009,'[1]Sub Lookup'!$A$1:$B$65536,2,FALSE)","v":"External Training"}]
["Kent County Council",11993143,"WORKPLACE RESOLUTIONS LTD","2020-04-21",3000,"S","5KA","Physical support - 65+ Long Term Support: Residential","401",{"$f":"VLOOKUP(I29010,'[1]Sub Lookup'!$A$1:$B$65536,2,FALSE)","v":"Specialists Fees"}]
["Kent County Council",11995849,"WORLDPAY LIMITED","2020-04-24",901.87,"K","2LC","Libraries, Registration & Archives","360",{"$f":"VLOOKUP(I29011,'[1]Sub Lookup'!$A$1:$B$65536,2,FALSE)","v":"External Bank Charges"}]
["Kent County Council",11984642,"WRAP AROUND CARE","2020-04-14",12636.78,"E","1KA","School Resources","528",{"$f":"VLOOKUP(I29012,'[1]Sub Lookup'!$A$1:$B$65536,2,FALSE)","v":"Early Years Education"}]
["Kent County Council",11961444,"WRIGHTLINK","2020-04-03",4800,"K","2YB","YOT Team","064",{"$f":"VLOOKUP(I29013,'[1]Sub Lookup'!$A$1:$B$65536,2,FALSE)","v":"External Training"}]
["Kent County Council",11990225,"WRITE TRAK LTD","2020-04-15",1630,"E","1PA","Additional Educational Needs and Resources","401",{"$f":"VLOOKUP(I29014,'[1]Sub Lookup'!$A$1:$B$65536,2,FALSE)","v":"Specialists Fees"}]
["Kent County Council",11990943,"WRITE TRAK LTD","2020-04-16",1630,"E","1PA","Additional Educational Needs and Resources","401",{"$f":"VLOOKUP(I29015,'[1]Sub Lookup'!$A$1:$B$65536,2,FALSE)","v":"Specialists Fees"}]
["Kent County Council",11990682,"WRITE TRAK LTD","2020-04-16",1630,"E","1PA","Additional Educational Needs and Resources","401",{"$f":"VLOOKUP(I29016,'[1]Sub Lookup'!$A$1:$B$65536,2,FALSE)","v":"Specialists Fees"}]
["Kent County Council",11990672,"WRITE TRAK LTD","2020-04-16",1630,"E","1PA","Additional Educational Needs and Resources","401",{"$f":"VLOOKUP(I29017,'[1]Sub Lookup'!$A$1:$B$65536,2,FALSE)","v":"Specialists Fees"}]
["Kent County Council",11990379,"WRITE TRAK LTD","2020-04-16",1630,"E","1PA","Additional Educational Needs and Resources","401",{"$f":"VLOOKUP(I29018,'[1]Sub Lookup'!$A$1:$B$65536,2,FALSE)","v":"Specialists Fees"}]
["Kent County Council",11990377,"WRITE TRAK LTD","2020-04-16",1630,"E","1PA","Additional Educational Needs and Resources","401",{"$f":"VLOOKUP(I29019,'[1]Sub Lookup'!$A$1:$B$65536,2,FALSE)","v":"Specialists Fees"}]
["Kent County Council",11990373,"WRITE TRAK LTD","2020-04-16",1630,"E","1PA","Additional Educational Needs and Resources","401",{"$f":"VLOOKUP(I29020,'[1]Sub Lookup'!$A$1:$B$65536,2,FALSE)","v":"Specialists Fees"}]
["Kent County Council",11990342,"WRITE TRAK LTD","2020-04-16",1630,"E","1PA","Additional Educational Needs and Resources","401",{"$f":"VLOOKUP(I29021,'[1]Sub Lookup'!$A$1:$B$65536,2,FALSE)","v":"Specialists Fees"}]
["Kent County Council",11990334,"WRITE TRAK LTD","2020-04-16",1630,"E","1PA","Additional Educational Needs and Resources","401",{"$f":"VLOOKUP(I29022,'[1]Sub Lookup'!$A$1:$B$65536,2,FALSE)","v":"Specialists Fees"}]
["Kent County Council",11990326,"WRITE TRAK LTD","2020-04-16",1630,"E","1PA","Additional Educational Needs and Resources","401",{"$f":"VLOOKUP(I29023,'[1]Sub Lookup'!$A$1:$B$65536,2,FALSE)","v":"Specialists Fees"}]
["Kent County Council",11990256,"WRITE TRAK LTD","2020-04-16",1630,"E","1PA","Additional Educational Needs and Resources","401",{"$f":"VLOOKUP(I29024,'[1]Sub Lookup'!$A$1:$B$65536,2,FALSE)","v":"Specialists Fees"}]
["Kent County Council",11990252,"WRITE TRAK LTD","2020-04-16",1630,"E","1PA","Additional Educational Needs and Resources","401",{"$f":"VLOOKUP(I29025,'[1]Sub Lookup'!$A$1:$B$65536,2,FALSE)","v":"Specialists Fees"}]
["Kent County Council",11990250,"WRITE TRAK LTD","2020-04-16",1630,"E","1PA","Additional Educational Needs and Resources","401",{"$f":"VLOOKUP(I29026,'[1]Sub Lookup'!$A$1:$B$65536,2,FALSE)","v":"Specialists Fees"}]
["Kent County Council",11989634,"WRITE TRAK LTD","2020-04-16",1630,"E","1PA","Additional Educational Needs and Resources","401",{"$f":"VLOOKUP(I29027,'[1]Sub Lookup'!$A$1:$B$65536,2,FALSE)","v":"Specialists Fees"}]
["Kent County Council",11989601,"WRITE TRAK LTD","2020-04-16",1630,"E","1PA","Additional Educational Needs and Resources","401",{"$f":"VLOOKUP(I29028,'[1]Sub Lookup'!$A$1:$B$65536,2,FALSE)","v":"Specialists Fees"}]
["Kent County Council",11989598,"WRITE TRAK LTD","2020-04-16",1630,"E","1PA","Additional Educational Needs and Resources","401",{"$f":"VLOOKUP(I29029,'[1]Sub Lookup'!$A$1:$B$65536,2,FALSE)","v":"Specialists Fees"}]
["Kent County Council",11989595,"WRITE TRAK LTD","2020-04-16",1630,"E","1PA","Additional Educational Needs and Resources","401",{"$f":"VLOOKUP(I29030,'[1]Sub Lookup'!$A$1:$B$65536,2,FALSE)","v":"Specialists Fees"}]
["Kent County Council",11989574,"WRITE TRAK LTD","2020-04-16",1630,"E","1PA","Additional Educational Needs and Resources","401",{"$f":"VLOOKUP(I29031,'[1]Sub Lookup'!$A$1:$B$65536,2,FALSE)","v":"Specialists Fees"}]
["Kent County Council",11989568,"WRITE TRAK LTD","2020-04-16",1630,"E","1PA","Additional Educational Needs and Resources","401",{"$f":"VLOOKUP(I29032,'[1]Sub Lookup'!$A$1:$B$65536,2,FALSE)","v":"Specialists Fees"}]
["Kent County Council",11983918,"WRITE TRAK LTD","2020-04-16",1630,"E","1PA","Additional Educational Needs and Resources","401",{"$f":"VLOOKUP(I29033,'[1]Sub Lookup'!$A$1:$B$65536,2,FALSE)","v":"Specialists Fees"}]
["Kent County Council",11983917,"WRITE TRAK LTD","2020-04-16",1630,"E","1PA","Additional Educational Needs and Resources","401",{"$f":"VLOOKUP(I29034,'[1]Sub Lookup'!$A$1:$B$65536,2,FALSE)","v":"Specialists Fees"}]
["Kent County Council",11983913,"WRITE TRAK LTD","2020-04-16",978,"E","1PA","Additional Educational Needs and Resources","401",{"$f":"VLOOKUP(I29035,'[1]Sub Lookup'!$A$1:$B$65536,2,FALSE)","v":"Specialists Fees"}]
["Kent County Council",11983881,"WRITE TRAK LTD","2020-04-16",1630,"E","1PA","Additional Educational Needs and Resources","401",{"$f":"VLOOKUP(I29036,'[1]Sub Lookup'!$A$1:$B$65536,2,FALSE)","v":"Specialists Fees"}]
["Kent County Council",11983878,"WRITE TRAK LTD","2020-04-16",1630,"E","1PA","Additional Educational Needs and Resources","401",{"$f":"VLOOKUP(I29037,'[1]Sub Lookup'!$A$1:$B$65536,2,FALSE)","v":"Specialists Fees"}]
["Kent County Council",11983875,"WRITE TRAK LTD","2020-04-16",1630,"E","1PA","Additional Educational Needs and Resources","401",{"$f":"VLOOKUP(I29038,'[1]Sub Lookup'!$A$1:$B$65536,2,FALSE)","v":"Specialists Fees"}]
["Kent County Council",11990228,"WRITE TRAK LTD","2020-04-17",1630,"E","1PA","Additional Educational Needs and Resources","401",{"$f":"VLOOKUP(I29039,'[1]Sub Lookup'!$A$1:$B$65536,2,FALSE)","v":"Specialists Fees"}]
["Kent County Council",12001905,"REDACTED - Personal Payment","2020-04-27",1706.25,"S","35H","Fostering NR Payments","232",{"$f":"VLOOKUP(I29040,'[1]Sub Lookup'!$A$1:$B$65536,2,FALSE)","v":"Public Transport (Clients)"}]
["Kent County Council",11967479,"WSP UK LIMITED","2020-04-01",18581.63,"P","7HZ","Structural Maintenance and Major Improvements","C20",{"$f":"VLOOKUP(I29041,'[1]Sub Lookup'!$A$1:$B$65536,2,FALSE)","v":"Infrastructure"}]
["Kent County Council",11967478,"WSP UK LIMITED","2020-04-01",34539.550000000003,"P","7HZ","Structural Maintenance and Major Improvements","C20",{"$f":"VLOOKUP(I29042,'[1]Sub Lookup'!$A$1:$B$65536,2,FALSE)","v":"Infrastructure"}]
["Kent County Council",11983869,"WSP UK LIMITED","2020-04-14",6194,"P","7PA","Development Planning","C04",{"$f":"VLOOKUP(I29043,'[1]Sub Lookup'!$A$1:$B$65536,2,FALSE)","v":"Design Fees - External"}]
["Kent County Council",12011138,"WSP UK LIMITED","2020-04-28",4103.71,"P","7HZ","Structural Maintenance and Major Improvements","C20",{"$f":"VLOOKUP(I29044,'[1]Sub Lookup'!$A$1:$B$65536,2,FALSE)","v":"Infrastructure"}]
["Kent County Council",11956342,"WYE SURGERY","2020-04-20",1189.5,"C","8PB","Sexual Health Services - Contraception","522",{"$f":"VLOOKUP(I29045,'[1]Sub Lookup'!$A$1:$B$65536,2,FALSE)","v":"District Health Authorities"}]
["Kent County Council",11907531,"WYE SURGERY","2020-04-21",978.5,"C","8PB","Sexual Health Services - Contraception","522",{"$f":"VLOOKUP(I29046,'[1]Sub Lookup'!$A$1:$B$65536,2,FALSE)","v":"District Health Authorities"}]
["Kent County Council",11994011,"WYE SURGERY","2020-04-21",277.5,"C","8PB","Sexual Health Services - Contraception","522",{"$f":"VLOOKUP(I29047,'[1]Sub Lookup'!$A$1:$B$65536,2,FALSE)","v":"District Health Authorities"}]
["Kent County Council",11984326,"WYE UNDER FIVES PRE-SCHOOL","2020-04-14",12676.56,"E","1KA","School Resources","528",{"$f":"VLOOKUP(I29048,'[1]Sub Lookup'!$A$1:$B$65536,2,FALSE)","v":"Early Years Education"}]
["Kent County Council",11951485,"WYG ENVIRONMENT PLANNING TRANSPORT LIMITED","2020-04-09",2703.89,"C","8DW","Non Operational Properties","401",{"$f":"VLOOKUP(I29049,'[1]Sub Lookup'!$A$1:$B$65536,2,FALSE)","v":"Specialists Fees"}]
["Kent County Council",11997160,"WYG ENVIRONMENT PLANNING TRANSPORT LIMITED","2020-04-20",2500,"C","8DW","Non Operational Properties","401",{"$f":"VLOOKUP(I29050,'[1]Sub Lookup'!$A$1:$B$65536,2,FALSE)","v":"Specialists Fees"}]
["Kent County Council",11947931,"XCEL 2000 FOSTER CARE SERVICES LIMITED","2020-04-06",1070.53,"S","35R","IS Fostering","527",{"$f":"VLOOKUP(I29051,'[1]Sub Lookup'!$A$1:$B$65536,2,FALSE)","v":"Services"}]
["Kent County Council",11975505,"XCEL 2000 FOSTER CARE SERVICES LIMITED","2020-04-17",3655.6800000000003,"S","35R","IS Fostering","527",{"$f":"VLOOKUP(I29052,'[1]Sub Lookup'!$A$1:$B$65536,2,FALSE)","v":"Services"}]
["Kent County Council",11975506,"XCEL 2000 FOSTER CARE SERVICES LIMITED","2020-04-17",3724.16,"S","32R","IFA Asylum U16","527",{"$f":"VLOOKUP(I29053,'[1]Sub Lookup'!$A$1:$B$65536,2,FALSE)","v":"Services"}]
["Kent County Council",11997228,"XCEL 2000 FOSTER CARE SERVICES LIMITED","2020-04-20",1654.92,"S","35R","IS Fostering","527",{"$f":"VLOOKUP(I29054,'[1]Sub Lookup'!$A$1:$B$65536,2,FALSE)","v":"Services"}]
["Kent County Council",11959457,"XENZONE LTD","2020-04-03",17857.14,"K","2UA","Youth Services","401",{"$f":"VLOOKUP(I29055,'[1]Sub Lookup'!$A$1:$B$65536,2,FALSE)","v":"Specialists Fees"}]
["Kent County Council",11959457,"XENZONE LTD","2020-04-03",11805.550000000001,"K","2UA","Youth Services","401",{"$f":"VLOOKUP(I29056,'[1]Sub Lookup'!$A$1:$B$65536,2,FALSE)","v":"Specialists Fees"}]
["Kent County Council",11984284,"XEROX (UK) LIMITED","2020-04-14",41973.9,"C","8DT","Information Services","350",{"$f":"VLOOKUP(I29057,'[1]Sub Lookup'!$A$1:$B$65536,2,FALSE)","v":"Printing and photocopying"}]
["Kent County Council",11993852,"XEROX (UK) LIMITED","2020-04-21",44030.79,"C","8DT","Information Services","350",{"$f":"VLOOKUP(I29058,'[1]Sub Lookup'!$A$1:$B$65536,2,FALSE)","v":"Printing and photocopying"}]
["Kent County Council",11975057,"XMA LTD","2020-04-17",6000,"E","1PA","Additional Educational Needs and Resources","303",{"$f":"VLOOKUP(I29059,'[1]Sub Lookup'!$A$1:$B$65536,2,FALSE)","v":"Computer and Other IT Expenditure (Software)"}]
["Kent County Council",11977886,"XMA LTD","2020-04-17",683.76,"K","2RF","Coroners","302",{"$f":"VLOOKUP(I29060,'[1]Sub Lookup'!$A$1:$B$65536,2,FALSE)","v":"Computer and Other IT Expenditure (Hardware)"}]
["Kent County Council",11992875,"XN PROTEL SYSTEMS GROUP LTD","2020-04-17",2876.16,"C","8DP","Property","304",{"$f":"VLOOKUP(I29061,'[1]Sub Lookup'!$A$1:$B$65536,2,FALSE)","v":"Computer and Other IT Expenditure (Maintenance)"}]
["Kent County Council",11992876,"XN PROTEL SYSTEMS GROUP LTD","2020-04-17",741.05000000000007,"C","8DP","Property","304",{"$f":"VLOOKUP(I29062,'[1]Sub Lookup'!$A$1:$B$65536,2,FALSE)","v":"Computer and Other IT Expenditure (Maintenance)"}]
["Kent County Council",11969883,"XTRACARE LTD","2020-04-01",630.04,"S","5KG","Physical support - 65+ Long Term Support: Community: Home Care","530",{"$f":"VLOOKUP(I29063,'[1]Sub Lookup'!$A$1:$B$65536,2,FALSE)","v":"Commissioned Service - Other"}]
["Kent County Council",11969895,"XTRACARE LTD","2020-04-01",677.97,"S","5KG","Physical support - 65+ Long Term Support: Community: Home Care","530",{"$f":"VLOOKUP(I29064,'[1]Sub Lookup'!$A$1:$B$65536,2,FALSE)","v":"Commissioned Service - Other"}]
["Kent County Council",11969907,"XTRACARE LTD","2020-04-01",299.62,"S","5KG","Physical support - 65+ Long Term Support: Community: Home Care","530",{"$f":"VLOOKUP(I29065,'[1]Sub Lookup'!$A$1:$B$65536,2,FALSE)","v":"Commissioned Service - Other"}]
["Kent County Council",11969890,"XTRACARE LTD","2020-04-01",425.06,"S","5KG","Physical support - 65+ Long Term Support: Community: Home Care","530",{"$f":"VLOOKUP(I29066,'[1]Sub Lookup'!$A$1:$B$65536,2,FALSE)","v":"Commissioned Service - Other"}]
["Kent County Council",11969887,"XTRACARE LTD","2020-04-01",425.06,"S","5KG","Physical support - 65+ Long Term Support: Community: Home Care","530",{"$f":"VLOOKUP(I29067,'[1]Sub Lookup'!$A$1:$B$65536,2,FALSE)","v":"Commissioned Service - Other"}]
["Kent County Council",11969892,"XTRACARE LTD","2020-04-01",609.12,"S","5KG","Physical support - 65+ Long Term Support: Community: Home Care","530",{"$f":"VLOOKUP(I29068,'[1]Sub Lookup'!$A$1:$B$65536,2,FALSE)","v":"Commissioned Service - Other"}]
["Kent County Council",11969903,"XTRACARE LTD","2020-04-01",658.96,"S","5KG","Physical support - 65+ Long Term Support: Community: Home Care","530",{"$f":"VLOOKUP(I29069,'[1]Sub Lookup'!$A$1:$B$65536,2,FALSE)","v":"Commissioned Service - Other"}]
["Kent County Council",11969893,"XTRACARE LTD","2020-04-01",286.94,"S","5KG","Physical support - 65+ Long Term Support: Community: Home Care","530",{"$f":"VLOOKUP(I29070,'[1]Sub Lookup'!$A$1:$B$65536,2,FALSE)","v":"Commissioned Service - Other"}]
["Kent County Council",11969888,"XTRACARE LTD","2020-04-01",576.64,"S","5KG","Physical support - 65+ Long Term Support: Community: Home Care","530",{"$f":"VLOOKUP(I29071,'[1]Sub Lookup'!$A$1:$B$65536,2,FALSE)","v":"Commissioned Service - Other"}]
["Kent County Council",11969872,"XTRACARE LTD","2020-04-01",375.66,"S","5KG","Physical support - 65+ Long Term Support: Community: Home Care","530",{"$f":"VLOOKUP(I29072,'[1]Sub Lookup'!$A$1:$B$65536,2,FALSE)","v":"Commissioned Service - Other"}]
["Kent County Council",11967067,"XTRACARE LTD","2020-04-01",17955.170000000002,"S","5XC","Commissioning & Service Delivery","530",{"$f":"VLOOKUP(I29073,'[1]Sub Lookup'!$A$1:$B$65536,2,FALSE)","v":"Commissioned Service - Other"}]
["Kent County Council",11969898,"XTRACARE LTD","2020-04-01",425.06,"S","5KJ","Physical support - 65+ Long Term Support: Community: Day Care","530",{"$f":"VLOOKUP(I29074,'[1]Sub Lookup'!$A$1:$B$65536,2,FALSE)","v":"Commissioned Service - Other"}]
["Kent County Council",11969897,"XTRACARE LTD","2020-04-01",630.06000000000006,"S","5JG","Physical Support - 18 64 Long Term Support: Community: Home Care","530",{"$f":"VLOOKUP(I29075,'[1]Sub Lookup'!$A$1:$B$65536,2,FALSE)","v":"Commissioned Service - Other"}]
["Kent County Council",11969901,"XTRACARE LTD","2020-04-01",276.09000000000003,"S","5KG","Physical support - 65+ Long Term Support: Community: Home Care","530",{"$f":"VLOOKUP(I29076,'[1]Sub Lookup'!$A$1:$B$65536,2,FALSE)","v":"Commissioned Service - Other"}]
["Kent County Council",11969876,"XTRACARE LTD","2020-04-01",519.54,"S","5JG","Physical Support - 18 64 Long Term Support: Community: Home Care","530",{"$f":"VLOOKUP(I29077,'[1]Sub Lookup'!$A$1:$B$65536,2,FALSE)","v":"Commissioned Service - Other"}]
["Kent County Council",11969870,"XTRACARE LTD","2020-04-01",630.04,"S","5KG","Physical support - 65+ Long Term Support: Community: Home Care","530",{"$f":"VLOOKUP(I29078,'[1]Sub Lookup'!$A$1:$B$65536,2,FALSE)","v":"Commissioned Service - Other"}]
["Kent County Council",11969900,"XTRACARE LTD","2020-04-01",609.12,"S","5KG","Physical support - 65+ Long Term Support: Community: Home Care","530",{"$f":"VLOOKUP(I29079,'[1]Sub Lookup'!$A$1:$B$65536,2,FALSE)","v":"Commissioned Service - Other"}]
["Kent County Council",11969877,"XTRACARE LTD","2020-04-01",700.38,"S","5JG","Physical Support - 18 64 Long Term Support: Community: Home Care","530",{"$f":"VLOOKUP(I29080,'[1]Sub Lookup'!$A$1:$B$65536,2,FALSE)","v":"Commissioned Service - Other"}]
["Kent County Council",11969878,"XTRACARE LTD","2020-04-01",680.98,"S","5KG","Physical support - 65+ Long Term Support: Community: Home Care","530",{"$f":"VLOOKUP(I29081,'[1]Sub Lookup'!$A$1:$B$65536,2,FALSE)","v":"Commissioned Service - Other"}]
["Kent County Council",11969880,"XTRACARE LTD","2020-04-01",649.44000000000005,"S","5KG","Physical support - 65+ Long Term Support: Community: Home Care","530",{"$f":"VLOOKUP(I29082,'[1]Sub Lookup'!$A$1:$B$65536,2,FALSE)","v":"Commissioned Service - Other"}]
["Kent County Council",11969889,"XTRACARE LTD","2020-04-01",286.94,"S","5KG","Physical support - 65+ Long Term Support: Community: Home Care","530",{"$f":"VLOOKUP(I29083,'[1]Sub Lookup'!$A$1:$B$65536,2,FALSE)","v":"Commissioned Service - Other"}]
["Kent County Council",11969886,"XTRACARE LTD","2020-04-01",304.56,"S","5KG","Physical support - 65+ Long Term Support: Community: Home Care","530",{"$f":"VLOOKUP(I29084,'[1]Sub Lookup'!$A$1:$B$65536,2,FALSE)","v":"Commissioned Service - Other"}]
["Kent County Council",11969906,"XTRACARE LTD","2020-04-01",396.59000000000003,"S","5KG","Physical support - 65+ Long Term Support: Community: Home Care","530",{"$f":"VLOOKUP(I29085,'[1]Sub Lookup'!$A$1:$B$65536,2,FALSE)","v":"Commissioned Service - Other"}]
["Kent County Council",11980824,"XTRACARE LTD","2020-04-08",630.04,"S","5KG","Physical support - 65+ Long Term Support: Community: Home Care","530",{"$f":"VLOOKUP(I29086,'[1]Sub Lookup'!$A$1:$B$65536,2,FALSE)","v":"Commissioned Service - Other"}]
["Kent County Council",11980838,"XTRACARE LTD","2020-04-08",677.97,"S","5KG","Physical support - 65+ Long Term Support: Community: Home Care","530",{"$f":"VLOOKUP(I29087,'[1]Sub Lookup'!$A$1:$B$65536,2,FALSE)","v":"Commissioned Service - Other"}]
["Kent County Council",11980850,"XTRACARE LTD","2020-04-08",299.62,"S","5KG","Physical support - 65+ Long Term Support: Community: Home Care","530",{"$f":"VLOOKUP(I29088,'[1]Sub Lookup'!$A$1:$B$65536,2,FALSE)","v":"Commissioned Service - Other"}]
["Kent County Council",11980833,"XTRACARE LTD","2020-04-08",425.06,"S","5KG","Physical support - 65+ Long Term Support: Community: Home Care","530",{"$f":"VLOOKUP(I29089,'[1]Sub Lookup'!$A$1:$B$65536,2,FALSE)","v":"Commissioned Service - Other"}]
["Kent County Council",11980830,"XTRACARE LTD","2020-04-08",425.06,"S","5KG","Physical support - 65+ Long Term Support: Community: Home Care","530",{"$f":"VLOOKUP(I29090,'[1]Sub Lookup'!$A$1:$B$65536,2,FALSE)","v":"Commissioned Service - Other"}]
["Kent County Council",11980835,"XTRACARE LTD","2020-04-08",609.12,"S","5KG","Physical support - 65+ Long Term Support: Community: Home Care","530",{"$f":"VLOOKUP(I29091,'[1]Sub Lookup'!$A$1:$B$65536,2,FALSE)","v":"Commissioned Service - Other"}]
["Kent County Council",11980846,"XTRACARE LTD","2020-04-08",658.96,"S","5KG","Physical support - 65+ Long Term Support: Community: Home Care","530",{"$f":"VLOOKUP(I29092,'[1]Sub Lookup'!$A$1:$B$65536,2,FALSE)","v":"Commissioned Service - Other"}]
["Kent County Council",11980826,"XTRACARE LTD","2020-04-08",286.94,"S","5KG","Physical support - 65+ Long Term Support: Community: Home Care","530",{"$f":"VLOOKUP(I29093,'[1]Sub Lookup'!$A$1:$B$65536,2,FALSE)","v":"Commissioned Service - Other"}]
["Kent County Council",11980836,"XTRACARE LTD","2020-04-08",286.94,"S","5KG","Physical support - 65+ Long Term Support: Community: Home Care","530",{"$f":"VLOOKUP(I29094,'[1]Sub Lookup'!$A$1:$B$65536,2,FALSE)","v":"Commissioned Service - Other"}]
["Kent County Council",11980831,"XTRACARE LTD","2020-04-08",576.64,"S","5KG","Physical support - 65+ Long Term Support: Community: Home Care","530",{"$f":"VLOOKUP(I29095,'[1]Sub Lookup'!$A$1:$B$65536,2,FALSE)","v":"Commissioned Service - Other"}]
["Kent County Council",11980813,"XTRACARE LTD","2020-04-08",375.66,"S","5KG","Physical support - 65+ Long Term Support: Community: Home Care","530",{"$f":"VLOOKUP(I29096,'[1]Sub Lookup'!$A$1:$B$65536,2,FALSE)","v":"Commissioned Service - Other"}]
["Kent County Council",11980849,"XTRACARE LTD","2020-04-08",396.59000000000003,"S","5KG","Physical support - 65+ Long Term Support: Community: Home Care","530",{"$f":"VLOOKUP(I29097,'[1]Sub Lookup'!$A$1:$B$65536,2,FALSE)","v":"Commissioned Service - Other"}]
["Kent County Council",11980829,"XTRACARE LTD","2020-04-08",304.56,"S","5KG","Physical support - 65+ Long Term Support: Community: Home Care","530",{"$f":"VLOOKUP(I29098,'[1]Sub Lookup'!$A$1:$B$65536,2,FALSE)","v":"Commissioned Service - Other"}]
["Kent County Council",11980832,"XTRACARE LTD","2020-04-08",286.94,"S","5KG","Physical support - 65+ Long Term Support: Community: Home Care","530",{"$f":"VLOOKUP(I29099,'[1]Sub Lookup'!$A$1:$B$65536,2,FALSE)","v":"Commissioned Service - Other"}]
["Kent County Council",11980821,"XTRACARE LTD","2020-04-08",649.44000000000005,"S","5KG","Physical support - 65+ Long Term Support: Community: Home Care","530",{"$f":"VLOOKUP(I29100,'[1]Sub Lookup'!$A$1:$B$65536,2,FALSE)","v":"Commissioned Service - Other"}]
["Kent County Council",11980819,"XTRACARE LTD","2020-04-08",680.98,"S","5KG","Physical support - 65+ Long Term Support: Community: Home Care","530",{"$f":"VLOOKUP(I29101,'[1]Sub Lookup'!$A$1:$B$65536,2,FALSE)","v":"Commissioned Service - Other"}]
["Kent County Council",11980818,"XTRACARE LTD","2020-04-08",700.38,"S","5JG","Physical Support - 18 64 Long Term Support: Community: Home Care","530",{"$f":"VLOOKUP(I29102,'[1]Sub Lookup'!$A$1:$B$65536,2,FALSE)","v":"Commissioned Service - Other"}]
["Kent County Council",11980843,"XTRACARE LTD","2020-04-08",609.12,"S","5KG","Physical support - 65+ Long Term Support: Community: Home Care","530",{"$f":"VLOOKUP(I29103,'[1]Sub Lookup'!$A$1:$B$65536,2,FALSE)","v":"Commissioned Service - Other"}]
["Kent County Council",11980811,"XTRACARE LTD","2020-04-08",630.04,"S","5KG","Physical support - 65+ Long Term Support: Community: Home Care","530",{"$f":"VLOOKUP(I29104,'[1]Sub Lookup'!$A$1:$B$65536,2,FALSE)","v":"Commissioned Service - Other"}]
["Kent County Council",11980817,"XTRACARE LTD","2020-04-08",519.54,"S","5JG","Physical Support - 18 64 Long Term Support: Community: Home Care","530",{"$f":"VLOOKUP(I29105,'[1]Sub Lookup'!$A$1:$B$65536,2,FALSE)","v":"Commissioned Service - Other"}]
["Kent County Council",11980844,"XTRACARE LTD","2020-04-08",276.09000000000003,"S","5KG","Physical support - 65+ Long Term Support: Community: Home Care","530",{"$f":"VLOOKUP(I29106,'[1]Sub Lookup'!$A$1:$B$65536,2,FALSE)","v":"Commissioned Service - Other"}]
["Kent County Council",11980840,"XTRACARE LTD","2020-04-08",630.06000000000006,"S","5JG","Physical Support - 18 64 Long Term Support: Community: Home Care","530",{"$f":"VLOOKUP(I29107,'[1]Sub Lookup'!$A$1:$B$65536,2,FALSE)","v":"Commissioned Service - Other"}]
["Kent County Council",11980841,"XTRACARE LTD","2020-04-08",425.06,"S","5KJ","Physical support - 65+ Long Term Support: Community: Day Care","530",{"$f":"VLOOKUP(I29108,'[1]Sub Lookup'!$A$1:$B$65536,2,FALSE)","v":"Commissioned Service - Other"}]
["Kent County Council",11989186,"XTRACARE LTD","2020-04-14",276.24,"S","5KG","Physical support - 65+ Long Term Support: Community: Home Care","530",{"$f":"VLOOKUP(I29109,'[1]Sub Lookup'!$A$1:$B$65536,2,FALSE)","v":"Commissioned Service - Other"}]
["Kent County Council",11989185,"XTRACARE LTD","2020-04-14",276.24,"S","5KG","Physical support - 65+ Long Term Support: Community: Home Care","530",{"$f":"VLOOKUP(I29110,'[1]Sub Lookup'!$A$1:$B$65536,2,FALSE)","v":"Commissioned Service - Other"}]
["Kent County Council",11989184,"XTRACARE LTD","2020-04-14",276.24,"S","5KG","Physical support - 65+ Long Term Support: Community: Home Care","530",{"$f":"VLOOKUP(I29111,'[1]Sub Lookup'!$A$1:$B$65536,2,FALSE)","v":"Commissioned Service - Other"}]
["Kent County Council",11991968,"XTRACARE LTD","2020-04-15",715.44,"S","5KG","Physical support - 65+ Long Term Support: Community: Home Care","530",{"$f":"VLOOKUP(I29112,'[1]Sub Lookup'!$A$1:$B$65536,2,FALSE)","v":"Commissioned Service - Other"}]
["Kent County Council",11991984,"XTRACARE LTD","2020-04-15",601.22,"S","5KG","Physical support - 65+ Long Term Support: Community: Home Care","530",{"$f":"VLOOKUP(I29113,'[1]Sub Lookup'!$A$1:$B$65536,2,FALSE)","v":"Commissioned Service - Other"}]
["Kent County Council",11991990,"XTRACARE LTD","2020-04-15",289.28000000000003,"S","5KG","Physical support - 65+ Long Term Support: Community: Home Care","530",{"$f":"VLOOKUP(I29114,'[1]Sub Lookup'!$A$1:$B$65536,2,FALSE)","v":"Commissioned Service - Other"}]
["Kent County Council",11991989,"XTRACARE LTD","2020-04-15",298.08,"S","5KG","Physical support - 65+ Long Term Support: Community: Home Care","530",{"$f":"VLOOKUP(I29115,'[1]Sub Lookup'!$A$1:$B$65536,2,FALSE)","v":"Commissioned Service - Other"}]
["Kent County Council",11991997,"XTRACARE LTD","2020-04-15",686.84,"S","5KG","Physical support - 65+ Long Term Support: Community: Home Care","530",{"$f":"VLOOKUP(I29116,'[1]Sub Lookup'!$A$1:$B$65536,2,FALSE)","v":"Commissioned Service - Other"}]
["Kent County Council",11991988,"XTRACARE LTD","2020-04-15",635.46,"S","5KG","Physical support - 65+ Long Term Support: Community: Home Care","530",{"$f":"VLOOKUP(I29117,'[1]Sub Lookup'!$A$1:$B$65536,2,FALSE)","v":"Commissioned Service - Other"}]
["Kent County Council",11991983,"XTRACARE LTD","2020-04-15",442.72,"S","5KG","Physical support - 65+ Long Term Support: Community: Home Care","530",{"$f":"VLOOKUP(I29118,'[1]Sub Lookup'!$A$1:$B$65536,2,FALSE)","v":"Commissioned Service - Other"}]
["Kent County Council",11991986,"XTRACARE LTD","2020-04-15",442.72,"S","5KG","Physical support - 65+ Long Term Support: Community: Home Care","530",{"$f":"VLOOKUP(I29119,'[1]Sub Lookup'!$A$1:$B$65536,2,FALSE)","v":"Commissioned Service - Other"}]
["Kent County Council",11992001,"XTRACARE LTD","2020-04-15",311.94,"S","5KG","Physical support - 65+ Long Term Support: Community: Home Care","530",{"$f":"VLOOKUP(I29120,'[1]Sub Lookup'!$A$1:$B$65536,2,FALSE)","v":"Commissioned Service - Other"}]
["Kent County Council",11991991,"XTRACARE LTD","2020-04-15",708.66,"S","5KG","Physical support - 65+ Long Term Support: Community: Home Care","530",{"$f":"VLOOKUP(I29121,'[1]Sub Lookup'!$A$1:$B$65536,2,FALSE)","v":"Commissioned Service - Other"}]
["Kent County Council",11991979,"XTRACARE LTD","2020-04-15",661.52,"S","5KG","Physical support - 65+ Long Term Support: Community: Home Care","530",{"$f":"VLOOKUP(I29122,'[1]Sub Lookup'!$A$1:$B$65536,2,FALSE)","v":"Commissioned Service - Other"}]
["Kent County Council",11991994,"XTRACARE LTD","2020-04-15",442.72,"S","5KJ","Physical support - 65+ Long Term Support: Community: Day Care","530",{"$f":"VLOOKUP(I29123,'[1]Sub Lookup'!$A$1:$B$65536,2,FALSE)","v":"Commissioned Service - Other"}]
["Kent County Council",11991993,"XTRACARE LTD","2020-04-15",661.21,"S","5JG","Physical Support - 18 64 Long Term Support: Community: Home Care","530",{"$f":"VLOOKUP(I29124,'[1]Sub Lookup'!$A$1:$B$65536,2,FALSE)","v":"Commissioned Service - Other"}]
["Kent County Council",11991996,"XTRACARE LTD","2020-04-15",289.11,"S","5KG","Physical support - 65+ Long Term Support: Community: Home Care","530",{"$f":"VLOOKUP(I29125,'[1]Sub Lookup'!$A$1:$B$65536,2,FALSE)","v":"Commissioned Service - Other"}]
["Kent County Council",11991972,"XTRACARE LTD","2020-04-15",535.68000000000006,"S","5JG","Physical Support - 18 64 Long Term Support: Community: Home Care","530",{"$f":"VLOOKUP(I29126,'[1]Sub Lookup'!$A$1:$B$65536,2,FALSE)","v":"Commissioned Service - Other"}]
["Kent County Council",11991966,"XTRACARE LTD","2020-04-15",661.52,"S","5KG","Physical support - 65+ Long Term Support: Community: Home Care","530",{"$f":"VLOOKUP(I29127,'[1]Sub Lookup'!$A$1:$B$65536,2,FALSE)","v":"Commissioned Service - Other"}]
["Kent County Council",11991995,"XTRACARE LTD","2020-04-15",635.46,"S","5KG","Physical support - 65+ Long Term Support: Community: Home Care","530",{"$f":"VLOOKUP(I29128,'[1]Sub Lookup'!$A$1:$B$65536,2,FALSE)","v":"Commissioned Service - Other"}]
["Kent County Council",11991974,"XTRACARE LTD","2020-04-15",250.07,"S","5KG","Physical support - 65+ Long Term Support: Community: Home Care","530",{"$f":"VLOOKUP(I29129,'[1]Sub Lookup'!$A$1:$B$65536,2,FALSE)","v":"Commissioned Service - Other"}]
["Kent County Council",11991973,"XTRACARE LTD","2020-04-15",715.44,"S","5KG","Physical support - 65+ Long Term Support: Community: Home Care","530",{"$f":"VLOOKUP(I29130,'[1]Sub Lookup'!$A$1:$B$65536,2,FALSE)","v":"Commissioned Service - Other"}]
["Kent County Council",11991975,"XTRACARE LTD","2020-04-15",677.52,"S","5KG","Physical support - 65+ Long Term Support: Community: Home Care","530",{"$f":"VLOOKUP(I29131,'[1]Sub Lookup'!$A$1:$B$65536,2,FALSE)","v":"Commissioned Service - Other"}]
["Kent County Council",11991985,"XTRACARE LTD","2020-04-15",298.08,"S","5KG","Physical support - 65+ Long Term Support: Community: Home Care","530",{"$f":"VLOOKUP(I29132,'[1]Sub Lookup'!$A$1:$B$65536,2,FALSE)","v":"Commissioned Service - Other"}]
["Kent County Council",11991982,"XTRACARE LTD","2020-04-15",317.73,"S","5KG","Physical support - 65+ Long Term Support: Community: Home Care","530",{"$f":"VLOOKUP(I29133,'[1]Sub Lookup'!$A$1:$B$65536,2,FALSE)","v":"Commissioned Service - Other"}]
["Kent County Council",11992000,"XTRACARE LTD","2020-04-15",414.1,"S","5KG","Physical support - 65+ Long Term Support: Community: Home Care","530",{"$f":"VLOOKUP(I29134,'[1]Sub Lookup'!$A$1:$B$65536,2,FALSE)","v":"Commissioned Service - Other"}]
["Kent County Council",12003587,"XTRACARE LTD","2020-04-22",661.52,"S","5KG","Physical support - 65+ Long Term Support: Community: Home Care","530",{"$f":"VLOOKUP(I29135,'[1]Sub Lookup'!$A$1:$B$65536,2,FALSE)","v":"Commissioned Service - Other"}]
["Kent County Council",12003600,"XTRACARE LTD","2020-04-22",708.66,"S","5KG","Physical support - 65+ Long Term Support: Community: Home Care","530",{"$f":"VLOOKUP(I29136,'[1]Sub Lookup'!$A$1:$B$65536,2,FALSE)","v":"Commissioned Service - Other"}]
["Kent County Council",12003610,"XTRACARE LTD","2020-04-22",311.94,"S","5KG","Physical support - 65+ Long Term Support: Community: Home Care","530",{"$f":"VLOOKUP(I29137,'[1]Sub Lookup'!$A$1:$B$65536,2,FALSE)","v":"Commissioned Service - Other"}]
["Kent County Council",12003595,"XTRACARE LTD","2020-04-22",442.72,"S","5KG","Physical support - 65+ Long Term Support: Community: Home Care","530",{"$f":"VLOOKUP(I29138,'[1]Sub Lookup'!$A$1:$B$65536,2,FALSE)","v":"Commissioned Service - Other"}]
["Kent County Council",12003592,"XTRACARE LTD","2020-04-22",442.72,"S","5KG","Physical support - 65+ Long Term Support: Community: Home Care","530",{"$f":"VLOOKUP(I29139,'[1]Sub Lookup'!$A$1:$B$65536,2,FALSE)","v":"Commissioned Service - Other"}]
["Kent County Council",12003597,"XTRACARE LTD","2020-04-22",635.46,"S","5KG","Physical support - 65+ Long Term Support: Community: Home Care","530",{"$f":"VLOOKUP(I29140,'[1]Sub Lookup'!$A$1:$B$65536,2,FALSE)","v":"Commissioned Service - Other"}]
["Kent County Council",12003606,"XTRACARE LTD","2020-04-22",686.84,"S","5KG","Physical support - 65+ Long Term Support: Community: Home Care","530",{"$f":"VLOOKUP(I29141,'[1]Sub Lookup'!$A$1:$B$65536,2,FALSE)","v":"Commissioned Service - Other"}]
["Kent County Council",12003589,"XTRACARE LTD","2020-04-22",298.08,"S","5KG","Physical support - 65+ Long Term Support: Community: Home Care","530",{"$f":"VLOOKUP(I29142,'[1]Sub Lookup'!$A$1:$B$65536,2,FALSE)","v":"Commissioned Service - Other"}]
["Kent County Council",12003598,"XTRACARE LTD","2020-04-22",298.08,"S","5KG","Physical support - 65+ Long Term Support: Community: Home Care","530",{"$f":"VLOOKUP(I29143,'[1]Sub Lookup'!$A$1:$B$65536,2,FALSE)","v":"Commissioned Service - Other"}]
["Kent County Council",12003599,"XTRACARE LTD","2020-04-22",289.28000000000003,"S","5KG","Physical support - 65+ Long Term Support: Community: Home Care","530",{"$f":"VLOOKUP(I29144,'[1]Sub Lookup'!$A$1:$B$65536,2,FALSE)","v":"Commissioned Service - Other"}]
["Kent County Council",12003593,"XTRACARE LTD","2020-04-22",601.22,"S","5KG","Physical support - 65+ Long Term Support: Community: Home Care","530",{"$f":"VLOOKUP(I29145,'[1]Sub Lookup'!$A$1:$B$65536,2,FALSE)","v":"Commissioned Service - Other"}]
["Kent County Council",12003574,"XTRACARE LTD","2020-04-22",715.44,"S","5KG","Physical support - 65+ Long Term Support: Community: Home Care","530",{"$f":"VLOOKUP(I29146,'[1]Sub Lookup'!$A$1:$B$65536,2,FALSE)","v":"Commissioned Service - Other"}]
["Kent County Council",12003603,"XTRACARE LTD","2020-04-22",442.72,"S","5KJ","Physical support - 65+ Long Term Support: Community: Day Care","530",{"$f":"VLOOKUP(I29147,'[1]Sub Lookup'!$A$1:$B$65536,2,FALSE)","v":"Commissioned Service - Other"}]
["Kent County Council",12003602,"XTRACARE LTD","2020-04-22",661.21,"S","5JG","Physical Support - 18 64 Long Term Support: Community: Home Care","530",{"$f":"VLOOKUP(I29148,'[1]Sub Lookup'!$A$1:$B$65536,2,FALSE)","v":"Commissioned Service - Other"}]
["Kent County Council",12003605,"XTRACARE LTD","2020-04-22",289.11,"S","5KG","Physical support - 65+ Long Term Support: Community: Home Care","530",{"$f":"VLOOKUP(I29149,'[1]Sub Lookup'!$A$1:$B$65536,2,FALSE)","v":"Commissioned Service - Other"}]
["Kent County Council",12003578,"XTRACARE LTD","2020-04-22",535.68000000000006,"S","5JG","Physical Support - 18 64 Long Term Support: Community: Home Care","530",{"$f":"VLOOKUP(I29150,'[1]Sub Lookup'!$A$1:$B$65536,2,FALSE)","v":"Commissioned Service - Other"}]
["Kent County Council",12003572,"XTRACARE LTD","2020-04-22",661.52,"S","5KG","Physical support - 65+ Long Term Support: Community: Home Care","530",{"$f":"VLOOKUP(I29151,'[1]Sub Lookup'!$A$1:$B$65536,2,FALSE)","v":"Commissioned Service - Other"}]
["Kent County Council",12003604,"XTRACARE LTD","2020-04-22",635.46,"S","5KG","Physical support - 65+ Long Term Support: Community: Home Care","530",{"$f":"VLOOKUP(I29152,'[1]Sub Lookup'!$A$1:$B$65536,2,FALSE)","v":"Commissioned Service - Other"}]
["Kent County Council",12003581,"XTRACARE LTD","2020-04-22",250.07,"S","5KG","Physical support - 65+ Long Term Support: Community: Home Care","530",{"$f":"VLOOKUP(I29153,'[1]Sub Lookup'!$A$1:$B$65536,2,FALSE)","v":"Commissioned Service - Other"}]
["Kent County Council",12003579,"XTRACARE LTD","2020-04-22",521.12,"S","5JG","Physical Support - 18 64 Long Term Support: Community: Home Care","530",{"$f":"VLOOKUP(I29154,'[1]Sub Lookup'!$A$1:$B$65536,2,FALSE)","v":"Commissioned Service - Other"}]
["Kent County Council",12003580,"XTRACARE LTD","2020-04-22",715.44,"S","5KG","Physical support - 65+ Long Term Support: Community: Home Care","530",{"$f":"VLOOKUP(I29155,'[1]Sub Lookup'!$A$1:$B$65536,2,FALSE)","v":"Commissioned Service - Other"}]
["Kent County Council",12003583,"XTRACARE LTD","2020-04-22",677.52,"S","5KG","Physical support - 65+ Long Term Support: Community: Home Care","530",{"$f":"VLOOKUP(I29156,'[1]Sub Lookup'!$A$1:$B$65536,2,FALSE)","v":"Commissioned Service - Other"}]
["Kent County Council",12003594,"XTRACARE LTD","2020-04-22",298.08,"S","5KG","Physical support - 65+ Long Term Support: Community: Home Care","530",{"$f":"VLOOKUP(I29157,'[1]Sub Lookup'!$A$1:$B$65536,2,FALSE)","v":"Commissioned Service - Other"}]
["Kent County Council",12003591,"XTRACARE LTD","2020-04-22",317.73,"S","5KG","Physical support - 65+ Long Term Support: Community: Home Care","530",{"$f":"VLOOKUP(I29158,'[1]Sub Lookup'!$A$1:$B$65536,2,FALSE)","v":"Commissioned Service - Other"}]
["Kent County Council",12003609,"XTRACARE LTD","2020-04-22",414.1,"S","5KG","Physical support - 65+ Long Term Support: Community: Home Care","530",{"$f":"VLOOKUP(I29159,'[1]Sub Lookup'!$A$1:$B$65536,2,FALSE)","v":"Commissioned Service - Other"}]
["Kent County Council",12017291,"XTRACARE LTD","2020-04-29",649.52,"S","5KG","Physical support - 65+ Long Term Support: Community: Home Care","530",{"$f":"VLOOKUP(I29160,'[1]Sub Lookup'!$A$1:$B$65536,2,FALSE)","v":"Commissioned Service - Other"}]
["Kent County Council",12017302,"XTRACARE LTD","2020-04-29",699.04,"S","5KG","Physical support - 65+ Long Term Support: Community: Home Care","530",{"$f":"VLOOKUP(I29161,'[1]Sub Lookup'!$A$1:$B$65536,2,FALSE)","v":"Commissioned Service - Other"}]
["Kent County Council",12017312,"XTRACARE LTD","2020-04-29",308.92,"S","5KG","Physical support - 65+ Long Term Support: Community: Home Care","530",{"$f":"VLOOKUP(I29162,'[1]Sub Lookup'!$A$1:$B$65536,2,FALSE)","v":"Commissioned Service - Other"}]
["Kent County Council",12017297,"XTRACARE LTD","2020-04-29",438.32,"S","5KG","Physical support - 65+ Long Term Support: Community: Home Care","530",{"$f":"VLOOKUP(I29163,'[1]Sub Lookup'!$A$1:$B$65536,2,FALSE)","v":"Commissioned Service - Other"}]
["Kent County Council",12017299,"XTRACARE LTD","2020-04-29",628.04,"S","5KG","Physical support - 65+ Long Term Support: Community: Home Care","530",{"$f":"VLOOKUP(I29164,'[1]Sub Lookup'!$A$1:$B$65536,2,FALSE)","v":"Commissioned Service - Other"}]
["Kent County Council",12017308,"XTRACARE LTD","2020-04-29",679.42,"S","5KG","Physical support - 65+ Long Term Support: Community: Home Care","530",{"$f":"VLOOKUP(I29165,'[1]Sub Lookup'!$A$1:$B$65536,2,FALSE)","v":"Commissioned Service - Other"}]
["Kent County Council",12017293,"XTRACARE LTD","2020-04-29",295.88,"S","5KG","Physical support - 65+ Long Term Support: Community: Home Care","530",{"$f":"VLOOKUP(I29166,'[1]Sub Lookup'!$A$1:$B$65536,2,FALSE)","v":"Commissioned Service - Other"}]
["Kent County Council",12017300,"XTRACARE LTD","2020-04-29",295.88,"S","5KG","Physical support - 65+ Long Term Support: Community: Home Care","530",{"$f":"VLOOKUP(I29167,'[1]Sub Lookup'!$A$1:$B$65536,2,FALSE)","v":"Commissioned Service - Other"}]
["Kent County Council",12017301,"XTRACARE LTD","2020-04-29",284.88,"S","5KG","Physical support - 65+ Long Term Support: Community: Home Care","530",{"$f":"VLOOKUP(I29168,'[1]Sub Lookup'!$A$1:$B$65536,2,FALSE)","v":"Commissioned Service - Other"}]
["Kent County Council",12017296,"XTRACARE LTD","2020-04-29",594.62,"S","5KG","Physical support - 65+ Long Term Support: Community: Home Care","530",{"$f":"VLOOKUP(I29169,'[1]Sub Lookup'!$A$1:$B$65536,2,FALSE)","v":"Commissioned Service - Other"}]
["Kent County Council",12017279,"XTRACARE LTD","2020-04-29",702.08,"S","5KG","Physical support - 65+ Long Term Support: Community: Home Care","530",{"$f":"VLOOKUP(I29170,'[1]Sub Lookup'!$A$1:$B$65536,2,FALSE)","v":"Commissioned Service - Other"}]
["Kent County Council",12017311,"XTRACARE LTD","2020-04-29",408.88,"S","5KG","Physical support - 65+ Long Term Support: Community: Home Care","530",{"$f":"VLOOKUP(I29171,'[1]Sub Lookup'!$A$1:$B$65536,2,FALSE)","v":"Commissioned Service - Other"}]
["Kent County Council",12017295,"XTRACARE LTD","2020-04-29",314.02,"S","5KG","Physical support - 65+ Long Term Support: Community: Home Care","530",{"$f":"VLOOKUP(I29172,'[1]Sub Lookup'!$A$1:$B$65536,2,FALSE)","v":"Commissioned Service - Other"}]
["Kent County Council",12017288,"XTRACARE LTD","2020-04-29",669.52,"S","5KG","Physical support - 65+ Long Term Support: Community: Home Care","530",{"$f":"VLOOKUP(I29173,'[1]Sub Lookup'!$A$1:$B$65536,2,FALSE)","v":"Commissioned Service - Other"}]
["Kent County Council",12017285,"XTRACARE LTD","2020-04-29",702.08,"S","5KG","Physical support - 65+ Long Term Support: Community: Home Care","530",{"$f":"VLOOKUP(I29174,'[1]Sub Lookup'!$A$1:$B$65536,2,FALSE)","v":"Commissioned Service - Other"}]
["Kent County Council",12017284,"XTRACARE LTD","2020-04-29",722.08,"S","5JG","Physical Support - 18 64 Long Term Support: Community: Home Care","530",{"$f":"VLOOKUP(I29175,'[1]Sub Lookup'!$A$1:$B$65536,2,FALSE)","v":"Commissioned Service - Other"}]
["Kent County Council",12017306,"XTRACARE LTD","2020-04-29",628.04,"S","5KG","Physical support - 65+ Long Term Support: Community: Home Care","530",{"$f":"VLOOKUP(I29176,'[1]Sub Lookup'!$A$1:$B$65536,2,FALSE)","v":"Commissioned Service - Other"}]
["Kent County Council",12017277,"XTRACARE LTD","2020-04-29",649.52,"S","5KG","Physical support - 65+ Long Term Support: Community: Home Care","530",{"$f":"VLOOKUP(I29177,'[1]Sub Lookup'!$A$1:$B$65536,2,FALSE)","v":"Commissioned Service - Other"}]
["Kent County Council",12017283,"XTRACARE LTD","2020-04-29",535.68000000000006,"S","5JG","Physical Support - 18 64 Long Term Support: Community: Home Care","530",{"$f":"VLOOKUP(I29178,'[1]Sub Lookup'!$A$1:$B$65536,2,FALSE)","v":"Commissioned Service - Other"}]
["Kent County Council",12017307,"XTRACARE LTD","2020-04-29",284.58,"S","5KG","Physical support - 65+ Long Term Support: Community: Home Care","530",{"$f":"VLOOKUP(I29179,'[1]Sub Lookup'!$A$1:$B$65536,2,FALSE)","v":"Commissioned Service - Other"}]
["Kent County Council",12017304,"XTRACARE LTD","2020-04-29",649.56000000000006,"S","5JG","Physical Support - 18 64 Long Term Support: Community: Home Care","530",{"$f":"VLOOKUP(I29180,'[1]Sub Lookup'!$A$1:$B$65536,2,FALSE)","v":"Commissioned Service - Other"}]
["Kent County Council",12017305,"XTRACARE LTD","2020-04-29",438.32,"S","5KJ","Physical support - 65+ Long Term Support: Community: Day Care","530",{"$f":"VLOOKUP(I29181,'[1]Sub Lookup'!$A$1:$B$65536,2,FALSE)","v":"Commissioned Service - Other"}]
["Kent County Council",12018391,"XTRACARE LTD","2020-04-29",17955.170000000002,"S","5XC","Commissioning & Service Delivery","530",{"$f":"VLOOKUP(I29182,'[1]Sub Lookup'!$A$1:$B$65536,2,FALSE)","v":"Commissioned Service - Other"}]
["Kent County Council",11967068,"YEW TREE HOUSE RES. CARE HOME","2020-04-01",1313.25,"S","5XC","Commissioning & Service Delivery","530",{"$f":"VLOOKUP(I29183,'[1]Sub Lookup'!$A$1:$B$65536,2,FALSE)","v":"Commissioned Service - Other"}]
["Kent County Council",12002566,"YEW TREE HOUSE RES. CARE HOME","2020-04-22",5253,"S","5KA","Physical support - 65+ Long Term Support: Residential","530",{"$f":"VLOOKUP(I29184,'[1]Sub Lookup'!$A$1:$B$65536,2,FALSE)","v":"Commissioned Service - Other"}]
["Kent County Council",12018392,"YEW TREE HOUSE RES. CARE HOME","2020-04-29",1313.25,"S","5XC","Commissioning & Service Delivery","530",{"$f":"VLOOKUP(I29185,'[1]Sub Lookup'!$A$1:$B$65536,2,FALSE)","v":"Commissioned Service - Other"}]
["Kent County Council",12018889,"YEW TREE HOUSE RES. CARE HOME","2020-04-29",5253,"S","5KA","Physical support - 65+ Long Term Support: Residential","530",{"$f":"VLOOKUP(I29186,'[1]Sub Lookup'!$A$1:$B$65536,2,FALSE)","v":"Commissioned Service - Other"}]
["Kent County Council",11967028,"YEWCARE LTD","2020-04-01",1300,"S","5XC","Commissioning & Service Delivery","530",{"$f":"VLOOKUP(I29187,'[1]Sub Lookup'!$A$1:$B$65536,2,FALSE)","v":"Commissioned Service - Other"}]
["Kent County Council",12005214,"YEWCARE LTD","2020-04-22",2200,"S","5KA","Physical support - 65+ Long Term Support: Residential","530",{"$f":"VLOOKUP(I29188,'[1]Sub Lookup'!$A$1:$B$65536,2,FALSE)","v":"Commissioned Service - Other"}]
["Kent County Council",12018388,"YEWCARE LTD","2020-04-29",1300,"S","5XC","Commissioning & Service Delivery","530",{"$f":"VLOOKUP(I29189,'[1]Sub Lookup'!$A$1:$B$65536,2,FALSE)","v":"Commissioned Service - Other"}]
["Kent County Council",12011852,"YMCA EAST SURREY","2020-04-28",2565,"S","5AJ","Learning Disability Support - 18 64 Long Term Support: Community: Day Care","523",{"$f":"VLOOKUP(I29190,'[1]Sub Lookup'!$A$1:$B$65536,2,FALSE)","v":"Private Contractors"}]
["Kent County Council",11960638,"YMCA THAMES GATEWAY","2020-04-07",509.77000000000004,"S","35P","Section 24","527",{"$f":"VLOOKUP(I29191,'[1]Sub Lookup'!$A$1:$B$65536,2,FALSE)","v":"Services"}]
["Kent County Council",11960686,"YMCA THAMES GATEWAY","2020-04-07",778.07,"S","35P","Section 24","527",{"$f":"VLOOKUP(I29192,'[1]Sub Lookup'!$A$1:$B$65536,2,FALSE)","v":"Services"}]
["Kent County Council",11960689,"YMCA THAMES GATEWAY","2020-04-07",831.73,"S","35P","Section 24","527",{"$f":"VLOOKUP(I29193,'[1]Sub Lookup'!$A$1:$B$65536,2,FALSE)","v":"Services"}]
["Kent County Council",11972600,"YMCA THAMES GATEWAY OAKFIELD NURSERY","2020-04-03",376.5,"E","1KA","School Resources","528",{"$f":"VLOOKUP(I29194,'[1]Sub Lookup'!$A$1:$B$65536,2,FALSE)","v":"Early Years Education"}]
["Kent County Council",11984996,"YMCA THAMES GATEWAY OAKFIELD NURSERY","2020-04-14",14453.4,"E","1KA","School Resources","528",{"$f":"VLOOKUP(I29195,'[1]Sub Lookup'!$A$1:$B$65536,2,FALSE)","v":"Early Years Education"}]
["Kent County Council",11990555,"YMCA THAMES GATEWAY OAKFIELD NURSERY","2020-04-15",1320,"E","1KA","School Resources","528",{"$f":"VLOOKUP(I29196,'[1]Sub Lookup'!$A$1:$B$65536,2,FALSE)","v":"Early Years Education"}]
["Kent County Council",12006442,"YMCA THAMES GATEWAY OAKFIELD NURSERY","2020-04-23",361.48,"E","1PA","Additional Educational Needs and Resources","528",{"$f":"VLOOKUP(I29197,'[1]Sub Lookup'!$A$1:$B$65536,2,FALSE)","v":"Early Years Education"}]
["Kent County Council",11984998,"YMCA THAMES GATEWAY SWANSCOMBE PRESCHOOL","2020-04-14",15151.5,"E","1KA","School Resources","528",{"$f":"VLOOKUP(I29198,'[1]Sub Lookup'!$A$1:$B$65536,2,FALSE)","v":"Early Years Education"}]
["Kent County Council",11990557,"YMCA THAMES GATEWAY SWANSCOMBE PRESCHOOL","2020-04-15",273.90000000000003,"E","1KA","School Resources","528",{"$f":"VLOOKUP(I29199,'[1]Sub Lookup'!$A$1:$B$65536,2,FALSE)","v":"Early Years Education"}]
["Kent County Council",11972601,"YMCA THAMES GATEWAY TEMPLE HILL NURSERY","2020-04-03",828.30000000000007,"E","1KA","School Resources","528",{"$f":"VLOOKUP(I29200,'[1]Sub Lookup'!$A$1:$B$65536,2,FALSE)","v":"Early Years Education"}]
["Kent County Council",11984997,"YMCA THAMES GATEWAY TEMPLE HILL NURSERY","2020-04-14",36389.93,"E","1KA","School Resources","528",{"$f":"VLOOKUP(I29201,'[1]Sub Lookup'!$A$1:$B$65536,2,FALSE)","v":"Early Years Education"}]
["Kent County Council",11990556,"YMCA THAMES GATEWAY TEMPLE HILL NURSERY","2020-04-15",721.05000000000007,"E","1KA","School Resources","528",{"$f":"VLOOKUP(I29202,'[1]Sub Lookup'!$A$1:$B$65536,2,FALSE)","v":"Early Years Education"}]
["Kent County Council",12006209,"YMCA THAMES GATEWAY TEMPLE HILL NURSERY","2020-04-23",265.08,"E","1PA","Additional Educational Needs and Resources","528",{"$f":"VLOOKUP(I29203,'[1]Sub Lookup'!$A$1:$B$65536,2,FALSE)","v":"Early Years Education"}]
["Kent County Council",11967069,"YOAKLEY HSE M.YOAKLEY CHARITY","2020-04-01",3853.73,"S","5XC","Commissioning & Service Delivery","530",{"$f":"VLOOKUP(I29204,'[1]Sub Lookup'!$A$1:$B$65536,2,FALSE)","v":"Commissioned Service - Other"}]
["Kent County Council",11976615,"YOAKLEY HSE M.YOAKLEY CHARITY","2020-04-06",1260,"S","5KU","Physical support - 65+ Short Term - Other - Residential","530",{"$f":"VLOOKUP(I29205,'[1]Sub Lookup'!$A$1:$B$65536,2,FALSE)","v":"Commissioned Service - Other"}]
["Kent County Council",12004468,"YOAKLEY HSE M.YOAKLEY CHARITY","2020-04-22",2240,"S","5KU","Physical support - 65+ Short Term - Other - Residential","530",{"$f":"VLOOKUP(I29206,'[1]Sub Lookup'!$A$1:$B$65536,2,FALSE)","v":"Commissioned Service - Other"}]
["Kent County Council",12004468,"YOAKLEY HSE M.YOAKLEY CHARITY","2020-04-22",15414.92,"S","5KA","Physical support - 65+ Long Term Support: Residential","530",{"$f":"VLOOKUP(I29207,'[1]Sub Lookup'!$A$1:$B$65536,2,FALSE)","v":"Commissioned Service - Other"}]
["Kent County Council",12004470,"YOAKLEY HSE M.YOAKLEY CHARITY","2020-04-22",12320,"S","5KA","Physical support - 65+ Long Term Support: Residential","530",{"$f":"VLOOKUP(I29208,'[1]Sub Lookup'!$A$1:$B$65536,2,FALSE)","v":"Commissioned Service - Other"}]
["Kent County Council",12004469,"YOAKLEY HSE M.YOAKLEY CHARITY","2020-04-29",-975.06000000000006,"S","5KA","Physical support - 65+ Long Term Support: Residential","530",{"$f":"VLOOKUP(I29209,'[1]Sub Lookup'!$A$1:$B$65536,2,FALSE)","v":"Commissioned Service - Other"}]
["Kent County Council",12018393,"YOAKLEY HSE M.YOAKLEY CHARITY","2020-04-29",3853.73,"S","5XC","Commissioning & Service Delivery","530",{"$f":"VLOOKUP(I29210,'[1]Sub Lookup'!$A$1:$B$65536,2,FALSE)","v":"Commissioned Service - Other"}]
["Kent County Council",11965687,"REDACTED - Personal Payment","2020-04-01",1544.4,"S","5AC","Learning Disability Support - 18 64 Long Term Support: Supported accommodation","523",{"$f":"VLOOKUP(I29211,'[1]Sub Lookup'!$A$1:$B$65536,2,FALSE)","v":"Private Contractors"}]
["Kent County Council",12011833,"REDACTED - Personal Payment","2020-04-29",1583.76,"S","5AC","Learning Disability Support - 18 64 Long Term Support: Supported accommodation","523",{"$f":"VLOOKUP(I29212,'[1]Sub Lookup'!$A$1:$B$65536,2,FALSE)","v":"Private Contractors"}]
["Kent County Council",11961893,"YOU LIFE GUIDANCE","2020-04-09",600,"S","36D","Virtual Schools Kent","401",{"$f":"VLOOKUP(I29213,'[1]Sub Lookup'!$A$1:$B$65536,2,FALSE)","v":"Specialists Fees"}]
["Kent County Council",11966178,"YOUNG EPILEPSY","2020-04-01",8358.4500000000007,"S","5XC","Commissioning & Service Delivery","530",{"$f":"VLOOKUP(I29214,'[1]Sub Lookup'!$A$1:$B$65536,2,FALSE)","v":"Commissioned Service - Other"}]
["Kent County Council",11984271,"YOUNG EPILEPSY","2020-04-14",68555.78,"E","1PA","Additional Educational Needs and Resources","530",{"$f":"VLOOKUP(I29215,'[1]Sub Lookup'!$A$1:$B$65536,2,FALSE)","v":"Commissioned Service - Other"}]
["Kent County Council",11984270,"YOUNG EPILEPSY","2020-04-14",19619.32,"E","1PA","Additional Educational Needs and Resources","530",{"$f":"VLOOKUP(I29216,'[1]Sub Lookup'!$A$1:$B$65536,2,FALSE)","v":"Commissioned Service - Other"}]
["Kent County Council",11984268,"YOUNG EPILEPSY","2020-04-14",19945.34,"E","1PA","Additional Educational Needs and Resources","530",{"$f":"VLOOKUP(I29217,'[1]Sub Lookup'!$A$1:$B$65536,2,FALSE)","v":"Commissioned Service - Other"}]
["Kent County Council",11984266,"YOUNG EPILEPSY","2020-04-14",78710.070000000007,"E","1PA","Additional Educational Needs and Resources","530",{"$f":"VLOOKUP(I29218,'[1]Sub Lookup'!$A$1:$B$65536,2,FALSE)","v":"Commissioned Service - Other"}]
["Kent County Council",11984172,"YOUNG EPILEPSY","2020-04-15",38457.33,"E","1PA","Additional Educational Needs and Resources","530",{"$f":"VLOOKUP(I29219,'[1]Sub Lookup'!$A$1:$B$65536,2,FALSE)","v":"Commissioned Service - Other"}]
["Kent County Council",11990231,"YOUNG EPILEPSY","2020-04-15",49309.1,"E","1PA","Additional Educational Needs and Resources","530",{"$f":"VLOOKUP(I29220,'[1]Sub Lookup'!$A$1:$B$65536,2,FALSE)","v":"Commissioned Service - Other"}]
["Kent County Council",11990234,"YOUNG EPILEPSY","2020-04-15",45848.17,"E","1PA","Additional Educational Needs and Resources","530",{"$f":"VLOOKUP(I29221,'[1]Sub Lookup'!$A$1:$B$65536,2,FALSE)","v":"Commissioned Service - Other"}]
["Kent County Council",11990235,"YOUNG EPILEPSY","2020-04-15",39844.17,"E","1PA","Additional Educational Needs and Resources","530",{"$f":"VLOOKUP(I29222,'[1]Sub Lookup'!$A$1:$B$65536,2,FALSE)","v":"Commissioned Service - Other"}]
["Kent County Council",11993305,"YOUNG EPILEPSY","2020-04-16",18427,"E","1PA","Additional Educational Needs and Resources","530",{"$f":"VLOOKUP(I29223,'[1]Sub Lookup'!$A$1:$B$65536,2,FALSE)","v":"Commissioned Service - Other"}]
["Kent County Council",11993304,"YOUNG EPILEPSY","2020-04-16",24857.66,"E","1PA","Additional Educational Needs and Resources","530",{"$f":"VLOOKUP(I29224,'[1]Sub Lookup'!$A$1:$B$65536,2,FALSE)","v":"Commissioned Service - Other"}]
["Kent County Council",11993287,"YOUNG EPILEPSY","2020-04-16",16906.66,"E","1PA","Additional Educational Needs and Resources","530",{"$f":"VLOOKUP(I29225,'[1]Sub Lookup'!$A$1:$B$65536,2,FALSE)","v":"Commissioned Service - Other"}]
["Kent County Council",11993286,"YOUNG EPILEPSY","2020-04-16",47246.66,"E","1PA","Additional Educational Needs and Resources","530",{"$f":"VLOOKUP(I29226,'[1]Sub Lookup'!$A$1:$B$65536,2,FALSE)","v":"Commissioned Service - Other"}]
["Kent County Council",11993285,"YOUNG EPILEPSY","2020-04-16",14487,"E","1PA","Additional Educational Needs and Resources","530",{"$f":"VLOOKUP(I29227,'[1]Sub Lookup'!$A$1:$B$65536,2,FALSE)","v":"Commissioned Service - Other"}]
["Kent County Council",11993284,"YOUNG EPILEPSY","2020-04-16",24669,"E","1PA","Additional Educational Needs and Resources","530",{"$f":"VLOOKUP(I29228,'[1]Sub Lookup'!$A$1:$B$65536,2,FALSE)","v":"Commissioned Service - Other"}]
["Kent County Council",11993283,"YOUNG EPILEPSY","2020-04-16",13326.45,"E","1PA","Additional Educational Needs and Resources","530",{"$f":"VLOOKUP(I29229,'[1]Sub Lookup'!$A$1:$B$65536,2,FALSE)","v":"Commissioned Service - Other"}]
["Kent County Council",11993282,"YOUNG EPILEPSY","2020-04-16",21003.33,"E","1PA","Additional Educational Needs and Resources","530",{"$f":"VLOOKUP(I29230,'[1]Sub Lookup'!$A$1:$B$65536,2,FALSE)","v":"Commissioned Service - Other"}]
["Kent County Council",11993281,"YOUNG EPILEPSY","2020-04-16",12904.85,"E","1PA","Additional Educational Needs and Resources","530",{"$f":"VLOOKUP(I29231,'[1]Sub Lookup'!$A$1:$B$65536,2,FALSE)","v":"Commissioned Service - Other"}]
["Kent County Council",11993280,"YOUNG EPILEPSY","2020-04-16",26720.29,"E","1PA","Additional Educational Needs and Resources","530",{"$f":"VLOOKUP(I29232,'[1]Sub Lookup'!$A$1:$B$65536,2,FALSE)","v":"Commissioned Service - Other"}]
["Kent County Council",11993279,"YOUNG EPILEPSY","2020-04-16",13405.31,"E","1PA","Additional Educational Needs and Resources","530",{"$f":"VLOOKUP(I29233,'[1]Sub Lookup'!$A$1:$B$65536,2,FALSE)","v":"Commissioned Service - Other"}]
["Kent County Council",11993276,"YOUNG EPILEPSY","2020-04-16",20723.330000000002,"E","1PA","Additional Educational Needs and Resources","530",{"$f":"VLOOKUP(I29234,'[1]Sub Lookup'!$A$1:$B$65536,2,FALSE)","v":"Commissioned Service - Other"}]
["Kent County Council",11993168,"YOUNG EPILEPSY","2020-04-16",46031.33,"E","1PA","Additional Educational Needs and Resources","530",{"$f":"VLOOKUP(I29235,'[1]Sub Lookup'!$A$1:$B$65536,2,FALSE)","v":"Commissioned Service - Other"}]
["Kent County Council",11975581,"YOUNG EPILEPSY","2020-04-16",76942.880000000005,"S","31D","IS  Res Care for Dis Child","527",{"$f":"VLOOKUP(I29236,'[1]Sub Lookup'!$A$1:$B$65536,2,FALSE)","v":"Services"}]
["Kent County Council",11990237,"YOUNG EPILEPSY","2020-04-27",66262.64,"E","1PA","Additional Educational Needs and Resources","530",{"$f":"VLOOKUP(I29237,'[1]Sub Lookup'!$A$1:$B$65536,2,FALSE)","v":"Commissioned Service - Other"}]
["Kent County Council",12011610,"YOUNG EPILEPSY","2020-04-28",9660.7100000000009,"S","5AA","Learning Disability Support - 18 64 Long Term Support: Residential","523",{"$f":"VLOOKUP(I29238,'[1]Sub Lookup'!$A$1:$B$65536,2,FALSE)","v":"Private Contractors"}]
["Kent County Council",12011611,"YOUNG EPILEPSY","2020-04-28",21189.84,"S","5AA","Learning Disability Support - 18 64 Long Term Support: Residential","523",{"$f":"VLOOKUP(I29239,'[1]Sub Lookup'!$A$1:$B$65536,2,FALSE)","v":"Private Contractors"}]
["Kent County Council",12011611,"YOUNG EPILEPSY","2020-04-28",14169.720000000001,"S","5AA","Learning Disability Support - 18 64 Long Term Support: Residential","523",{"$f":"VLOOKUP(I29240,'[1]Sub Lookup'!$A$1:$B$65536,2,FALSE)","v":"Private Contractors"}]
["Kent County Council",12017520,"YOUNG EPILEPSY","2020-04-29",8358.4500000000007,"S","5XC","Commissioning & Service Delivery","530",{"$f":"VLOOKUP(I29241,'[1]Sub Lookup'!$A$1:$B$65536,2,FALSE)","v":"Commissioned Service - Other"}]
["Kent County Council",11975882,"YOUNG PEOPLE AT HEART LIMITED","2020-04-17",10385,"S","35R","IS Fostering","527",{"$f":"VLOOKUP(I29242,'[1]Sub Lookup'!$A$1:$B$65536,2,FALSE)","v":"Services"}]
["Kent County Council",11984696,"YOUNG RISERS ACCREDITED PRE-SCHOOL","2020-04-14",13366.08,"E","1KA","School Resources","528",{"$f":"VLOOKUP(I29243,'[1]Sub Lookup'!$A$1:$B$65536,2,FALSE)","v":"Early Years Education"}]
["Kent County Council",11967325,"YOUR CHOICE","2020-04-01",489.58,"S","5XC","Commissioning & Service Delivery","530",{"$f":"VLOOKUP(I29244,'[1]Sub Lookup'!$A$1:$B$65536,2,FALSE)","v":"Commissioned Service - Other"}]
["Kent County Council",11993361,"YOUR CHOICE","2020-04-16",257.22000000000003,"S","5AH","Learning Disability Support - 18 64 Long Term Support: Community: Supported Living","530",{"$f":"VLOOKUP(I29245,'[1]Sub Lookup'!$A$1:$B$65536,2,FALSE)","v":"Commissioned Service - Other"}]
["Kent County Council",12008679,"YOUR CHOICE","2020-04-24",1105.6000000000001,"S","5BH","Learning Disability Support - 65+ Long Term Support: Community: Supported Living","530",{"$f":"VLOOKUP(I29246,'[1]Sub Lookup'!$A$1:$B$65536,2,FALSE)","v":"Commissioned Service - Other"}]
["Kent County Council",12018661,"YOUR CHOICE","2020-04-29",489.58,"S","5XC","Commissioning & Service Delivery","530",{"$f":"VLOOKUP(I29247,'[1]Sub Lookup'!$A$1:$B$65536,2,FALSE)","v":"Commissioned Service - Other"}]
["Kent County Council",11967071,"YOUR LIFE SUPPORTED LIVING SERVICES","2020-04-01",1793.5,"S","5XC","Commissioning & Service Delivery","530",{"$f":"VLOOKUP(I29248,'[1]Sub Lookup'!$A$1:$B$65536,2,FALSE)","v":"Commissioned Service - Other"}]
["Kent County Council",11967070,"YOUR LIFE SUPPORTED LIVING SERVICES","2020-04-01",930,"S","5XC","Commissioning & Service Delivery","530",{"$f":"VLOOKUP(I29249,'[1]Sub Lookup'!$A$1:$B$65536,2,FALSE)","v":"Commissioned Service - Other"}]
["Kent County Council",11966055,"YOUR LIFE SUPPORTED LIVING SERVICES","2020-04-01",895.71,"S","9AR","Revenue Balance Sheet","BEA",{"$f":"VLOOKUP(I29250,'[1]Sub Lookup'!$A$1:$B$65536,2,FALSE)","v":"Payments in Advance - General"}]
["Kent County Council",11966055,"YOUR LIFE SUPPORTED LIVING SERVICES","2020-04-01",424.29,"S","5AH","Learning Disability Support - 18 64 Long Term Support: Community: Supported Living","530",{"$f":"VLOOKUP(I29251,'[1]Sub Lookup'!$A$1:$B$65536,2,FALSE)","v":"Commissioned Service - Other"}]
["Kent County Council",11966054,"YOUR LIFE SUPPORTED LIVING SERVICES","2020-04-01",4569.5,"S","9AR","Revenue Balance Sheet","BEA",{"$f":"VLOOKUP(I29252,'[1]Sub Lookup'!$A$1:$B$65536,2,FALSE)","v":"Payments in Advance - General"}]
["Kent County Council",11966054,"YOUR LIFE SUPPORTED LIVING SERVICES","2020-04-01",2164.5,"S","5AH","Learning Disability Support - 18 64 Long Term Support: Community: Supported Living","530",{"$f":"VLOOKUP(I29253,'[1]Sub Lookup'!$A$1:$B$65536,2,FALSE)","v":"Commissioned Service - Other"}]
["Kent County Council",11966056,"YOUR LIFE SUPPORTED LIVING SERVICES","2020-04-01",298.57,"S","9AR","Revenue Balance Sheet","BEA",{"$f":"VLOOKUP(I29254,'[1]Sub Lookup'!$A$1:$B$65536,2,FALSE)","v":"Payments in Advance - General"}]
["Kent County Council",11966057,"YOUR LIFE SUPPORTED LIVING SERVICES","2020-04-01",1628.57,"S","9AR","Revenue Balance Sheet","BEA",{"$f":"VLOOKUP(I29255,'[1]Sub Lookup'!$A$1:$B$65536,2,FALSE)","v":"Payments in Advance - General"}]
["Kent County Council",11966057,"YOUR LIFE SUPPORTED LIVING SERVICES","2020-04-01",771.43000000000006,"S","5AH","Learning Disability Support - 18 64 Long Term Support: Community: Supported Living","530",{"$f":"VLOOKUP(I29256,'[1]Sub Lookup'!$A$1:$B$65536,2,FALSE)","v":"Commissioned Service - Other"}]
["Kent County Council",12017488,"YOUR LIFE SUPPORTED LIVING SERVICES","2020-04-29",2400,"S","5AH","Learning Disability Support - 18 64 Long Term Support: Community: Supported Living","530",{"$f":"VLOOKUP(I29257,'[1]Sub Lookup'!$A$1:$B$65536,2,FALSE)","v":"Commissioned Service - Other"}]
["Kent County Council",12017491,"YOUR LIFE SUPPORTED LIVING SERVICES","2020-04-29",440,"S","5JH","Physical Support - 18 64 Long Term Support: Community: Supported Living","530",{"$f":"VLOOKUP(I29258,'[1]Sub Lookup'!$A$1:$B$65536,2,FALSE)","v":"Commissioned Service - Other"}]
["Kent County Council",12017489,"YOUR LIFE SUPPORTED LIVING SERVICES","2020-04-29",6734,"S","5AH","Learning Disability Support - 18 64 Long Term Support: Community: Supported Living","530",{"$f":"VLOOKUP(I29259,'[1]Sub Lookup'!$A$1:$B$65536,2,FALSE)","v":"Commissioned Service - Other"}]
["Kent County Council",12017490,"YOUR LIFE SUPPORTED LIVING SERVICES","2020-04-29",1320,"S","5AH","Learning Disability Support - 18 64 Long Term Support: Community: Supported Living","530",{"$f":"VLOOKUP(I29260,'[1]Sub Lookup'!$A$1:$B$65536,2,FALSE)","v":"Commissioned Service - Other"}]
["Kent County Council",12018394,"YOUR LIFE SUPPORTED LIVING SERVICES","2020-04-29",930,"S","5XC","Commissioning & Service Delivery","530",{"$f":"VLOOKUP(I29261,'[1]Sub Lookup'!$A$1:$B$65536,2,FALSE)","v":"Commissioned Service - Other"}]
["Kent County Council",12018395,"YOUR LIFE SUPPORTED LIVING SERVICES","2020-04-29",1793.5,"S","5XC","Commissioning & Service Delivery","530",{"$f":"VLOOKUP(I29262,'[1]Sub Lookup'!$A$1:$B$65536,2,FALSE)","v":"Commissioned Service - Other"}]
["Kent County Council",11967072,"YOUR LIFE YOUR HOME","2020-04-01",3361.76,"S","5XC","Commissioning & Service Delivery","530",{"$f":"VLOOKUP(I29263,'[1]Sub Lookup'!$A$1:$B$65536,2,FALSE)","v":"Commissioned Service - Other"}]
["Kent County Council",11979625,"YOUR LIFE YOUR HOME","2020-04-07",4143,"S","5JH","Physical Support - 18 64 Long Term Support: Community: Supported Living","530",{"$f":"VLOOKUP(I29264,'[1]Sub Lookup'!$A$1:$B$65536,2,FALSE)","v":"Commissioned Service - Other"}]
["Kent County Council",11934827,"YOUR LIFE YOUR HOME","2020-04-09",775.95,"S","5AH","Learning Disability Support - 18 64 Long Term Support: Community: Supported Living","530",{"$f":"VLOOKUP(I29265,'[1]Sub Lookup'!$A$1:$B$65536,2,FALSE)","v":"Commissioned Service - Other"}]
["Kent County Council",11987493,"YOUR LIFE YOUR HOME","2020-04-14",5665.04,"S","5JH","Physical Support - 18 64 Long Term Support: Community: Supported Living","530",{"$f":"VLOOKUP(I29266,'[1]Sub Lookup'!$A$1:$B$65536,2,FALSE)","v":"Commissioned Service - Other"}]
["Kent County Council",11992718,"YOUR LIFE YOUR HOME","2020-04-15",2292.6,"S","5BA","Learning Disability Support - 65+ Long Term Support: Residential","530",{"$f":"VLOOKUP(I29267,'[1]Sub Lookup'!$A$1:$B$65536,2,FALSE)","v":"Commissioned Service - Other"}]
["Kent County Council",11992720,"YOUR LIFE YOUR HOME","2020-04-15",2238.44,"S","5BA","Learning Disability Support - 65+ Long Term Support: Residential","530",{"$f":"VLOOKUP(I29268,'[1]Sub Lookup'!$A$1:$B$65536,2,FALSE)","v":"Commissioned Service - Other"}]
["Kent County Council",11992721,"YOUR LIFE YOUR HOME","2020-04-15",3484.12,"S","5BA","Learning Disability Support - 65+ Long Term Support: Residential","530",{"$f":"VLOOKUP(I29269,'[1]Sub Lookup'!$A$1:$B$65536,2,FALSE)","v":"Commissioned Service - Other"}]
["Kent County Council",11992719,"YOUR LIFE YOUR HOME","2020-04-15",2184.2800000000002,"S","5BA","Learning Disability Support - 65+ Long Term Support: Residential","530",{"$f":"VLOOKUP(I29270,'[1]Sub Lookup'!$A$1:$B$65536,2,FALSE)","v":"Commissioned Service - Other"}]
["Kent County Council",11992710,"YOUR LIFE YOUR HOME","2020-04-15",1914.08,"S","5AH","Learning Disability Support - 18 64 Long Term Support: Community: Supported Living","530",{"$f":"VLOOKUP(I29271,'[1]Sub Lookup'!$A$1:$B$65536,2,FALSE)","v":"Commissioned Service - Other"}]
["Kent County Council",11992711,"YOUR LIFE YOUR HOME","2020-04-15",1777.3600000000001,"S","5AH","Learning Disability Support - 18 64 Long Term Support: Community: Supported Living","530",{"$f":"VLOOKUP(I29272,'[1]Sub Lookup'!$A$1:$B$65536,2,FALSE)","v":"Commissioned Service - Other"}]
["Kent County Council",11992712,"YOUR LIFE YOUR HOME","2020-04-15",981.12,"S","5AH","Learning Disability Support - 18 64 Long Term Support: Community: Supported Living","530",{"$f":"VLOOKUP(I29273,'[1]Sub Lookup'!$A$1:$B$65536,2,FALSE)","v":"Commissioned Service - Other"}]
["Kent County Council",11992713,"YOUR LIFE YOUR HOME","2020-04-15",2857.12,"S","5AH","Learning Disability Support - 18 64 Long Term Support: Community: Supported Living","530",{"$f":"VLOOKUP(I29274,'[1]Sub Lookup'!$A$1:$B$65536,2,FALSE)","v":"Commissioned Service - Other"}]
["Kent County Council",11992709,"YOUR LIFE YOUR HOME","2020-04-15",4390.12,"S","5AH","Learning Disability Support - 18 64 Long Term Support: Community: Supported Living","530",{"$f":"VLOOKUP(I29275,'[1]Sub Lookup'!$A$1:$B$65536,2,FALSE)","v":"Commissioned Service - Other"}]
["Kent County Council",11992714,"YOUR LIFE YOUR HOME","2020-04-15",9229.64,"S","5AH","Learning Disability Support - 18 64 Long Term Support: Community: Supported Living","530",{"$f":"VLOOKUP(I29276,'[1]Sub Lookup'!$A$1:$B$65536,2,FALSE)","v":"Commissioned Service - Other"}]
["Kent County Council",11994264,"YOUR LIFE YOUR HOME","2020-04-17",55004.4,"S","5BA","Learning Disability Support - 65+ Long Term Support: Residential","520",{"$f":"VLOOKUP(I29277,'[1]Sub Lookup'!$A$1:$B$65536,2,FALSE)","v":"Voluntary Associations"}]
["Kent County Council",12018396,"YOUR LIFE YOUR HOME","2020-04-29",3361.76,"S","5XC","Commissioning & Service Delivery","530",{"$f":"VLOOKUP(I29278,'[1]Sub Lookup'!$A$1:$B$65536,2,FALSE)","v":"Commissioned Service - Other"}]
["Kent County Council",11977360,"ZELLIS UK LIMITED","2020-04-14",799.36,"C","8DF","Finance","303",{"$f":"VLOOKUP(I29279,'[1]Sub Lookup'!$A$1:$B$65536,2,FALSE)","v":"Computer and Other IT Expenditure (Software)"}]
["Kent County Council",11977357,"ZELLIS UK LIMITED","2020-04-14",932.41,"C","8DF","Finance","303",{"$f":"VLOOKUP(I29280,'[1]Sub Lookup'!$A$1:$B$65536,2,FALSE)","v":"Computer and Other IT Expenditure (Software)"}]
["Kent County Council",11984018,"ZEST ST LTD","2020-04-14",5775,"C","8EF","Community Development","307",{"$f":"VLOOKUP(I29281,'[1]Sub Lookup'!$A$1:$B$65536,2,FALSE)","v":"Computer and Other IT Expenditure (IT Technical/Installation Services)"}]
["Kent County Council",11996974,"ZEST ST LTD","2020-04-20",300,"C","8EJ","Support For Business","307",{"$f":"VLOOKUP(I29282,'[1]Sub Lookup'!$A$1:$B$65536,2,FALSE)","v":"Computer and Other IT Expenditure (IT Technical/Installation Services)"}]
["Kent County Council",11993863,"ZEST ST LTD","2020-04-24",350,"P","7HK","Road Safety","462",{"$f":"VLOOKUP(I29283,'[1]Sub Lookup'!$A$1:$B$65536,2,FALSE)","v":"Advertising (Other than for Staff)"}]
["Kent County Council",11960491,"ZIPPORAH LTD","2020-04-09",4524.47,"K","2LC","Libraries, Registration & Archives","303",{"$f":"VLOOKUP(I29284,'[1]Sub Lookup'!$A$1:$B$65536,2,FALSE)","v":"Computer and Other IT Expenditure (Software)"}]
["Kent County Council",11961787,"ZIPPORAH LTD","2020-04-09",2780.38,"K","2LC","Libraries, Registration & Archives","303",{"$f":"VLOOKUP(I29285,'[1]Sub Lookup'!$A$1:$B$65536,2,FALSE)","v":"Computer and Other IT Expenditure (Software)"}]
["Kent County Council",11980098,"ZOE EVANS CHILDCARE LTD","2020-04-08",408,"E","1KA","School Resources","528",{"$f":"VLOOKUP(I29286,'[1]Sub Lookup'!$A$1:$B$65536,2,FALSE)","v":"Early Years Education"}]
["Kent County Council",11984988,"ZOE EVANS CHILDCARE LTD","2020-04-14",8194.68,"E","1KA","School Resources","528",{"$f":"VLOOKUP(I29287,'[1]Sub Lookup'!$A$1:$B$65536,2,FALSE)","v":"Early Years Education"}]
["Kent County Council",11977308,"ZURICH INSURANCE","2020-04-07",250000,"R","8NB","Insurance Fund 2","M18",{"$f":"VLOOKUP(I29288,'[1]Sub Lookup'!$A$1:$B$65536,2,FALSE)","v":"ZM Claims Imprest"}]
["Kent County Council",11993747,"ZURICH MUNICIPAL","2020-04-16",586433.99,"R","8NB","Insurance Fund 2","M01",{"$f":"VLOOKUP(I29289,'[1]Sub Lookup'!$A$1:$B$65536,2,FALSE)","v":"Premiums paid - Property"}]
["Kent County Council",11993747,"ZURICH MUNICIPAL","2020-04-16",1745969.99,"R","8NB","Insurance Fund 2","M02",{"$f":"VLOOKUP(I29290,'[1]Sub Lookup'!$A$1:$B$65536,2,FALSE)","v":"Premiums paid - Liability"}]
["Kent County Council",11993747,"ZURICH MUNICIPAL","2020-04-16",69030.59,"R","8NB","Insurance Fund 2","M03",{"$f":"VLOOKUP(I29291,'[1]Sub Lookup'!$A$1:$B$65536,2,FALSE)","v":"Premiums paid - Motor"}]
["Kent County Council",11993747,"ZURICH MUNICIPAL","2020-04-16",17616.88,"R","8NB","Insurance Fund 2","M07",{"$f":"VLOOKUP(I29292,'[1]Sub Lookup'!$A$1:$B$65536,2,FALSE)","v":"Premiums paid - Professional Indemnity"}]
["Kent County Council",11993747,"ZURICH MUNICIPAL","2020-04-16",290286.17,"R","8NB","Insurance Fund 2","M0X",{"$f":"VLOOKUP(I29293,'[1]Sub Lookup'!$A$1:$B$65536,2,FALSE)","v":"Insurance Premium Tax"}]
["Kent County Council",12011305,"ZURICH MUNICIPAL","2020-04-28",5297.2,"R","8NB","Insurance Fund 2","M01",{"$f":"VLOOKUP(I29294,'[1]Sub Lookup'!$A$1:$B$65536,2,FALSE)","v":"Premiums paid - Property"}]
["Kent County Council",12011305,"ZURICH MUNICIPAL","2020-04-28",635.66,"R","8NB","Insurance Fund 2","M0X",{"$f":"VLOOKUP(I29295,'[1]Sub Lookup'!$A$1:$B$65536,2,FALSE)","v":"Insurance Premium Tax"}]

{"sheet":"Macro1","index":1,"n_rows":112,"n_cols":2,"rows_kept":112,"cut":false,"hidden":true,"merged":[]}
["Macro1","Auto_Open"]
[{"$f":"ALIGNMENT(2,FALSE,1,0,FALSE)","v":true},{"$f":"ERROR(2,Recover)","v":true}]
[{"$f":"BORDER(0,1,1,1,1,0,0,5,5,5,5)","v":true},{"$f":"WORKBOOK.SELECT(\"Sheet 1\")","v":true}]
[{"$f":"PATTERNS(1,0,2,TRUE)","v":true},{"$f":"WINDOW.RESTORE()","v":true}]
[{"$f":"FORMAT.FONT(\"Arial\",10,FALSE,FALSE,FALSE,FALSE,1,FALSE,FALSE)","v":true},{"$f":"WINDOW.SIZE(82.5,42.75)","v":true}]
[{"$f":"RETURN()","v":true},{"$f":"WORKBOOK.HIDE(\"Macro1\",TRUE)","v":true}]
[null,{"$f":"EDIT.COLOR(1,0,0,0)","v":true}]
["Macro10",{"$f":"EDIT.COLOR(3,255,0,0)","v":true}]
[{"$f":"ALIGNMENT(2,FALSE,1,0,FALSE)","v":true},{"$f":"EDIT.COLOR(5,128,128,128)","v":true}]
[{"$f":"BORDER(0,1,1,1,1,0,0,1,1,1,1)","v":true},{"$f":"EDIT.COLOR(6,212,208,200)","v":true}]
[{"$f":"PATTERNS(1,0,6,TRUE)","v":true},{"$f":"EDIT.COLOR(4,212,212,212)","v":true}]
[{"$f":"FORMAT.FONT(\"Arial\",10,FALSE,FALSE,FALSE,FALSE,1,FALSE,FALSE)","v":true},{"$f":"EDIT.COLOR(2,255,255,255)","v":true}]
[{"$f":"RETURN()","v":true},{"$f":"RUN(\"Macro12\")","v":{"$error":"#N/A"}}]
[null,{"$f":"DELETE.NAME(\"Auto_Open\")","v":true}]
["Macro11",{"$f":"WORKBOOK.SELECT(\"Sheet 1\")","v":true}]
[{"$f":"ALIGNMENT(2,FALSE,1,0,FALSE)","v":true},{"$f":"SELECT(\"R3:R65536\")","v":true}]
[{"$f":"BORDER(0,1,1,1,1,0,0,1,1,1,1)","v":true},{"$f":"COLUMN.WIDTH(,,,3)","v":true}]
[{"$f":"PATTERNS(1,0,6,TRUE)","v":true},{"$f":"ROW.HEIGHT(,,,3)","v":true}]
[{"$f":"FORMAT.FONT(\"Arial\",10,FALSE,FALSE,FALSE,FALSE,1,FALSE,FALSE)","v":true},{"$f":"SELECT(\"R1C1\")","v":true}]
[{"$f":"RETURN()","v":true},{"$f":"WINDOW.MAXIMIZE()","v":true}]
[null,{"$f":"RETURN()","v":true}]
["Macro12"]
[{"$f":"WORKBOOK.SELECT(\"Sheet 1\")","v":true}]
[{"$f":"SELECT(\"R4C1:R20959C2,R4C5:R20959C9,R4C11:R20959C19\")","v":true}]
[{"$f":"RUN(\"Macro1\")","v":{"$error":"#N/A"}}]
[{"$f":"SELECT(\"R4C3:R20959C4,R4C10:R20959C10\")","v":true}]
[{"$f":"RUN(\"Macro2\")","v":{"$error":"#N/A"}}]
[{"$f":"SELECT(\"R4C3:R20959C3,R4C4:R20959C4\")","v":true}]
[{"$f":"FORMAT.NUMBER(\"###############0\")","v":true}]
[{"$f":"SELECT(\"R4C10:R20959C10\")","v":true}]
[{"$f":"FORMAT.NUMBER(\"###,###,###,##0.00\")","v":true}]
[{"$f":"SELECT(\"R4C8:R20959C8\")","v":true}]
[{"$f":"FORMAT.NUMBER(\"dd/mm/yyyy\")","v":true}]
[{"$f":"SELECT(\"R3C1:R3C2,R3C7:R3C8,R3C13:R3C14,R3C16:R3C18\")","v":true}]
[{"$f":"RUN(\"Macro3\")","v":{"$error":"#N/A"}}]
[{"$f":"SELECT(\"R3C3:R3C4,R3C10\")","v":true}]
[{"$f":"RUN(\"Macro4\")","v":{"$error":"#N/A"}}]
[{"$f":"SELECT(\"R3C5\")","v":true}]
[{"$f":"RUN(\"Macro5\")","v":{"$error":"#N/A"}}]
[{"$f":"SELECT(\"R3C6\")","v":true}]
[{"$f":"RUN(\"Macro6\")","v":{"$error":"#N/A"}}]
[{"$f":"SELECT(\"R3C9\")","v":true}]
[{"$f":"RUN(\"Macro7\")","v":{"$error":"#N/A"}}]
[{"$f":"SELECT(\"R3C11\")","v":true}]
[{"$f":"RUN(\"Macro8\")","v":{"$error":"#N/A"}}]
[{"$f":"SELECT(\"R3C12\")","v":true}]
[{"$f":"RUN(\"Macro9\")","v":{"$error":"#N/A"}}]
[{"$f":"SELECT(\"R3C15\")","v":true}]
[{"$f":"RUN(\"Macro10\")","v":{"$error":"#N/A"}}]
[{"$f":"SELECT(\"R3C19\")","v":true}]
[{"$f":"RUN(\"Macro11\")","v":{"$error":"#N/A"}}]
[{"$f":"RETURN()","v":true}]
[]
["Macro2"]
[{"$f":"ALIGNMENT(4,FALSE,1,0,FALSE)","v":true}]
[{"$f":"BORDER(0,1,1,1,1,0,0,5,5,5,5)","v":true}]
[{"$f":"PATTERNS(1,0,2,TRUE)","v":true}]
[{"$f":"FORMAT.FONT(\"Arial\",10,FALSE,FALSE,FALSE,FALSE,1,FALSE,FALSE)","v":true}]
[{"$f":"RETURN()","v":true}]
[]
["Macro3"]
[{"$f":"ALIGNMENT(2,FALSE,1,0,FALSE)","v":true}]
[{"$f":"BORDER(0,1,1,1,1,0,0,1,1,1,1)","v":true}]
[{"$f":"PATTERNS(1,0,6,TRUE)","v":true}]
[{"$f":"FORMAT.FONT(\"Arial\",10,FALSE,FALSE,FALSE,FALSE,1,FALSE,FALSE)","v":true}]
[{"$f":"RETURN()","v":true}]
[]
["Macro4"]
[{"$f":"ALIGNMENT(4,FALSE,1,0,FALSE)","v":true}]
[{"$f":"BORDER(0,1,1,1,1,0,0,1,1,1,1)","v":true}]
[{"$f":"PATTERNS(1,0,6,TRUE)","v":true}]
[{"$f":"FORMAT.FONT(\"Arial\",10,FALSE,FALSE,FALSE,FALSE,1,FALSE,FALSE)","v":true}]
[{"$f":"RETURN()","v":true}]
[]
["Macro5"]
[{"$f":"ALIGNMENT(2,FALSE,1,0,FALSE)","v":true}]
[{"$f":"BORDER(0,1,1,1,1,0,0,1,1,1,1)","v":true}]
[{"$f":"PATTERNS(1,0,6,TRUE)","v":true}]
[{"$f":"FORMAT.FONT(\"Arial\",10,FALSE,FALSE,FALSE,FALSE,1,FALSE,FALSE)","v":true}]
[{"$f":"RETURN()","v":true}]
[]
["Macro6"]
[{"$f":"ALIGNMENT(2,FALSE,1,0,FALSE)","v":true}]
[{"$f":"BORDER(0,1,1,1,1,0,0,1,1,1,1)","v":true}]
[{"$f":"PATTERNS(1,0,6,TRUE)","v":true}]
[{"$f":"FORMAT.FONT(\"Arial\",10,FALSE,FALSE,FALSE,FALSE,1,FALSE,FALSE)","v":true}]
[{"$f":"RETURN()","v":true}]
[]
["Macro7"]
[{"$f":"ALIGNMENT(2,FALSE,1,0,FALSE)","v":true}]
[{"$f":"BORDER(0,1,1,1,1,0,0,1,1,1,1)","v":true}]
[{"$f":"PATTERNS(1,0,6,TRUE)","v":true}]
[{"$f":"FORMAT.FONT(\"Arial\",10,FALSE,FALSE,FALSE,FALSE,1,FALSE,FALSE)","v":true}]
[{"$f":"RETURN()","v":true}]
[]
["Macro8"]
[{"$f":"ALIGNMENT(2,FALSE,1,0,FALSE)","v":true}]
[{"$f":"BORDER(0,1,1,1,1,0,0,1,1,1,1)","v":true}]
[{"$f":"PATTERNS(1,0,6,TRUE)","v":true}]
[{"$f":"FORMAT.FONT(\"Arial\",10,FALSE,FALSE,FALSE,FALSE,1,FALSE,FALSE)","v":true}]
[{"$f":"RETURN()","v":true}]
[]
["Macro9"]
[{"$f":"ALIGNMENT(2,FALSE,1,0,FALSE)","v":true}]
[{"$f":"BORDER(0,1,1,1,1,0,0,1,1,1,1)","v":true}]
[{"$f":"PATTERNS(1,0,6,TRUE)","v":true}]
[{"$f":"FORMAT.FONT(\"Arial\",10,FALSE,FALSE,FALSE,FALSE,1,FALSE,FALSE)","v":true}]
[{"$f":"RETURN()","v":true}]
[]
["Recover"]
[{"$f":"GOTO(OFFSET(LAST.ERROR(),1,0))","v":false}]
[{"$f":"RETURN()","v":true}]