{"text_format":"1","workbook":"xlsx","n_sheets":13,"sheets":["Profile","Figures at a glance","Population","Diversity","Health","Deprivation","Housing & households","Young people ed & skills","Older people","Economy","Census2021Data","Data","Index"],"not_rendered":{"charts":110,"images":5,"macros":1,"external_links":1,"defined_names":10,"comments":2,"pivot_tables":0},"unopened":[],"bounds":{"document_bytes":16777216,"sheet_cells":100000,"rows_first":2000,"rows_last":500,"rows_between":2000,"halvings":0,"cell_chars":16384,"cell_head_chars":4096},"cells_cut":0,"cells_raw":0,"read":"whole","date_system":"1900"}

{"sheet":"Profile","index":0,"n_rows":24,"n_cols":5,"rows_kept":24,"cut":false,"hidden":false,"merged":[]}
[null,"District Profiles"]
[null,"This profile intends to give the most up to date social and economic information available for each of the districts within the Kent area. "]
[null," Information relating to the population, employment, deprivation, health, crime and housing development are included. "]
[null,"To use these profiles:"]
[null,"Select the topic area you are interested in from the selection below. "]
[null,"From each topic page you can select the district that you are interested in."]
[null,"The profile will update with a summary of the data for the selected area.  "]
[null,"To print a copy of the topic click the print button on each page."]
[null,"You can select a different topic from each page."]
[null,"A glossary of terms can be found at the bottom of each topic page."]
[null,"To see a summary of the figures from all topic areas select Figures at a Glance from the options below"]
[]
[]
[null,null,"Select topic:",null,"Version date: 4 February 2025"]
[]
[null,null,"Figures at a Glance                            ","Provides a summary of the figures from all topic areas"]
[null,null,"Population","Includes information about the age and gender of the population and a Mosaic profile of the selected area."]
[null,null,"Diversity","Includes information about the age of the population, ethnicity, religion and country of birth."]
[null,null,"Health","Includes information about the numbers of births & deaths, life expectancy, people with limiting long term illness, health related benefits claimants and people providing unpaid care."]
[null,null,"Deprivation","Includes information from the 2019 Index of Multiple Deprivation, benefits claimants, worklessness, unemployment, tax credit recipients, children in poverty and recorded crime. (Next IoD is due for release 2025)"]
[null,null,"Housing & Households","Includes information about housing types, amenities, tenure, household composition, car ownership, housing stock, housing completions and council tax bands."]
[null,null,"Young People, Education & Skills","Includes information about the population aged under 24, key age groups, child benefit, tax credit recipient families, children in poverty, children providing unpaid care, youth unemployment, young claimants of disability benefits."]
[null,null,"Older People","Includes information about the age of the population aged 60+, age groups, State Pension claimants, Pension Credit claimants, Disability Benefits claimants, Limiting long term illness and provision of unpaid care."]
[null,null,"Economy","Includes information about the working age population, employees, economic activity, People in employment, employment by industry and occupation, method of travel to work and distance travelled, unemployment and worklessness and qualifications."]

{"sheet":"Figures at a glance","index":1,"n_rows":271,"n_cols":13,"rows_kept":271,"cut":false,"hidden":false,"merged":[]}
[]
[]
[]
[]
[]
[]
[]
[null,{"$f":"Index!C1&\" figures at a glance\"","v":"Ashford  figures at a glance"},null,null,null,null,null,null,{"$f":"Profile!E14","v":"Version date: 4 February 2025"}]
[]
[null,"Population"]
[null,null,{"$f":"\"Population by gender, \"&Data!E7","v":"Population by gender, Mid 2023"},null,null,null,{"$f":"\"Population by age group, \"&Data!E7","v":"Population by age group, Mid 2023"},null,null,null,{"$f":"\"Population forecasts, \"&Data!C214&\" - \"&Data!C218","v":"Population forecasts, 2022 - 2042"}]
[null,null,null,"Males",{"$f":"Population!D11","v":67300},null,null,"0-15",{"$f":"Population!B38","v":27200},null,null,2022,{"$f":"Population!B74","v":136300}]
[null,null,null,"Females",{"$f":"Population!F11","v":71000},null,null,"16-64",{"$f":"Population!B39","v":83900},null,null,2027,{"$f":"Population!B75","v":146200}]
[null,null,null,"Total",{"$f":"Population!B11","v":138300},null,null,"65+",{"$f":"Population!B40","v":27100},null,null,2032,{"$f":"Population!B76","v":157000}]
[null,null,null,"ONS",null,null,null,"ONS",null,null,null,2037,{"$f":"Population!B77","v":164400}]
[null,null,null,null,null,null,null,null,null,null,null,2042,{"$f":"Population!B78","v":172200}]
[null,null,null,null,null,null,null,null,null,null,null,"KCC Housing Led Forecasts (2021)"]
[null,null,{"$f":"\"Average age, \"&Data!E7","v":"Average age, Mid 2023"},null,null,null,{"$f":"\"Population density, \"&Data!E7","v":"Population density, Mid 2023"},null,null,null,null,"Kent Analytics"]
[null,null,null,"All People",{"$f":"Population!B57","v":41.262201427507357},null,null,"Area (hectares)",{"$f":"Population!B48","v":58062}]
[null,null,null,"Males ",{"$f":"Population!B58","v":40.423825513327195},null,null,"Density (persons per hectare)",{"$f":"Population!B49","v":2.3816437601184939}]
[null,null,null,"Females",{"$f":"Population!B59","v":42.057215717767725},null,null,"ONS"]
[null,null,null,"ONS"]
[]
[]
[null,"Diversity"]
[null,null,"Population by ethnicity, 2021 Census",null,null,null,"Population by religion, 2021 Census",null,null,null,"World area of birth, 2021 Census"]
[null,null,null,"All people",{"$f":"Diversity!B37","v":132756},null,null,"ALL People",{"$f":"Diversity!B184","v":131781},null,null,"Europe",{"$f":"Diversity!B135","v":121312}]
[null,null,null,"White",{"$f":"Diversity!B38","v":109677},null,null,"Christian",{"$f":"Diversity!B185","v":62762},null,null,"Africa",{"$f":"Diversity!B136","v":2917}]
[null,null,null,"Ethnic minorities",{"$f":"Diversity!B39","v":23079},null,null,"Buddhist",{"$f":"Diversity!B186","v":1336},null,null,"Middle East and Asia",{"$f":"Diversity!B137","v":7168}]
[null,null,null,"ONS",null,null,null,"Hindu",{"$f":"Diversity!B187","v":2717},null,null,"The Americas and the Caribbean",{"$f":"Diversity!B138","v":972}]
[null,null,null,null,null,null,null,"Jewish",{"$f":"Diversity!B188","v":142},null,null,"Antarctica and Oceania",{"$f":"Diversity!B139","v":380}]
[null,null,null,null,null,null,null,"Muslim",{"$f":"Diversity!B189","v":2083},null,null,"ONS"]
[null,null,null,null,null,null,null,"Sikh",{"$f":"Diversity!B190","v":145}]
[null,null,null,null,null,null,null,"All other religions",{"$f":"Diversity!B191","v":1531}]
[null,null,null,null,null,null,null,"No religion",{"$f":"Diversity!B192","v":53717}]
[null,null,null,null,null,null,null,"Religion not stated",{"$f":"Diversity!B193","v":7348}]
[null,null,null,null,null,null,null,"ONS"]
[]
[]
[null,null,"Length of residence in the UK, 2021 Census",null,null,null,"Marital & Civil Partnership Status, 2021 Census"]
[null,null,null,"Born in the UK",{"$f":"Diversity!B165","v":114942},null,null,"All people aged 16 and over",{"$f":"Diversity!B247","v":106772}]
[null,null,null,"Born outside the UK",{"$f":"Diversity!B166","v":17805},null,null,"Single (never married or never registered civil partnership)",{"$f":"Diversity!B248","v":35293}]
[null,null,null,"Resident in UK: Less than 2 years",{"$f":"Diversity!B167","v":1651},null,null,"Married or in a registered civil partnership",{"$f":"Diversity!B249","v":52688}]
[null,null,null,"Resident in UK: 2 years or more but less than 5 years",{"$f":"Diversity!B168","v":2269},null,null,"Separated (but still legally married or still legally in a civil partnership)",{"$f":"Diversity!B256","v":2292}]
[null,null,null,"Resident in UK: 5 years or more but less than 10 years",{"$f":"Diversity!B169","v":3101},null,null,"Divorced or formerly in a civil partnership which is now legally dissolved",{"$f":"Diversity!B259","v":10033}]
[null,null,null,"Resident in UK: 10 years or more",{"$f":"Diversity!B170","v":10784},null,null,"Widowed or surviving partner from a civil partnership",{"$f":"Diversity!B262","v":6466}]
[null,null,null,"ONS",null,null,null,"ONS"]
[]
[]
[null,"Health"]
[null,null,{"$f":"\"Life expectancy at birth (years), \"&Data!E322","v":"Life expectancy at birth (years), 2021-23"},null,null,null,{"$f":"\"Life expectancy at age 65 (years), \"&Data!E322","v":"Life expectancy at age 65 (years), 2021-23"},null,null,null,{"$f":"\"Births & deaths, \"&Health!A11","v":"Births & deaths, 2023"}]
[null,null,null,"Males",{"$f":"Health!B111","v":80.12},null,null,"Males",{"$f":"Health!B133","v":19.010000000000002},null,null,"Total live births",{"$f":"Health!B12","v":1364}]
[null,null,null,"Females",{"$f":"Health!B112","v":83.55},null,null,"Females",{"$f":"Health!B134","v":21.53},null,null,"Total deaths",{"$f":"Health!B13","v":1285}]
[null,null,null,"ONS",null,null,null,"ONS",null,null,null,"Natural change",{"$f":"Health!B14","v":79}]
[null,null,null,null,null,null,null,null,null,null,null,"ONS"]
[null,null,"Health, 2021 Census",null,null,null,{"$f":"\"Disability benefit claimants (DLA/PIP or AA), \"&Data!E327","v":"Disability benefit claimants (DLA/PIP or AA), Nov 2023"},null,null,null,{"$f":"\"Disability benefits claimants by health condition, \"&Data!E327","v":"Disability benefits claimants by health condition, Nov 2023"}]
[null,null,null,"Very good and good health",{"$f":"SUM(Health!B157+Health!B158)","v":110113},null,null,"Total",{"$f":"Health!B204","v":12055},null,null,"Mental Health",{"$f":"Health!B226","v":2081}]
[null,null,null,"Fair Health",{"$f":"Health!B159","v":16551},null,null,"0-15",{"$f":"Health!B205","v":2016},null,null,"Learning Difficulty",{"$f":"Health!B227","v":2763}]
[null,null,null,"Bad and very bad health",{"$f":"SUM(Health!B160+Health!B161)","v":6083},null,null,"16-64",{"$f":"Health!B206","v":5817},null,null,"Physical Disablity",{"$f":"Health!B228","v":7537}]
[null,null,null,"ONS",null,null,null,"65+",{"$f":"Health!B207","v":886},null,null,"DWP"]
[null,null,null,null,null,null,null,"DWP"]
[]
[null,null,"Long term health problem or disability, 2021",null,null,null,"People providing unpaid care, 2021 Census",null,null,null,{"$f":"\"People claiming Carers Allowance, \"&Data!E349","v":"People claiming Carers Allowance, Nov 2023"}]
[null,null,null,"All people",{"$f":"Health!B181","v":132747},null,null,"Total",{"$f":"Health!B270","v":11153},null,null,"Aged 16-24",{"$f":"Health!B288","v":105}]
[null,null,null,"Day-to-day activities limited",{"$f":"Health!B182","v":22655},null,null,"0-15",{"$f":"Health!B271","v":350},null,null,"25-64",{"$f":"Health!B289","v":2026}]
[null,null,null,"Day-to-day activities not limited",{"$f":"Health!B185","v":110092},null,null,"16-64",{"$f":"Health!B272","v":8174},null,null,"65 and over",{"$f":"Health!B290","v":623}]
[null,null,null,"2021 Census, ONS",null,null,null,"65+",{"$f":"Health!B273","v":2629},null,null,"Total Claimants",{"$f":"Health!B291","v":2768}]
[null,null,null,null,null,null,null,"ONS",null,null,null,"DWP"]
[]
[null,"Deprivation",null,null,"Provisional release date for an update to the 2019 IoD is 2025"]
[null,null,{"$f":"\"Benefit Claimants, \"&Data!E375","v":"Benefit Claimants, Nov 2023"},null,null,null,{"$f":"\"Universal Credit Claimants, \"&Data!E375","v":"Universal Credit Claimants, Nov 2023"},null,null,null,{"$f":"\"Index of Multiple Deprivation (\"&Data!E369&\" IMD)\"","v":"Index of Multiple Deprivation (2019 IMD)"}]
[null,null,null,"Income Support",{"$f":"Deprivation!B38","v":286},null,null,"Total Universal Credit Claimants",{"$f":"Deprivation!B55","v":11405},null,null,"Kent rank*",{"$f":"Deprivation!B11","v":7}]
[null,null,null,"Jobseekers Allowance",{"$f":"Deprivation!B39","v":123},null,null,"Claimants who are in employment",{"$f":"Deprivation!B59","v":4650},null,null,"National rank**",{"$f":"Deprivation!B12","v":152}]
[null,null,null,"Incapacity benefits",{"$f":"Deprivation!B40","v":52},null,null,"Claimants who are not in employment",{"$f":"Deprivation!B60","v":6755},null,null,"Average Score",{"$f":"Deprivation!B13","v":18.545999999999999}]
[null,null,null,"Employment Support Allowance",{"$f":"Deprivation!B41","v":2380},null,null,"DWP",null,null,null,"IMD 2019, MHCLG"]
[null,null,null,"Pension Credits",{"$f":"Deprivation!B42","v":2595}]
[null,null,null,"State Pension",{"$f":"Deprivation!B43","v":0}]
[null,null,null,"DWP"]
[null,null,{"$f":"\"Children in low income families, \"&Data!E416","v":"Children in low income families, 2022-23"},null,null,null,{"$f":"\"Looked after children (LAC) per 1,000 aged 0-17, \"&Data!E737","v":"Looked after children (LAC) per 1,000 aged 0-17, March 2021"},null,null,null,{"$f":"\"Children subject to a Child Protection Plan, \"&Data!E740","v":"Children subject to a Child Protection Plan, March 2021"}]
[null,null,null,"Children under 16 in relative low income families",{"$f":"Deprivation!B99","v":4183},null,null,"Children In Care (excluding Unaccompanied Asylum Seeking Children)",{"$f":"'Young people ed & skills'!B133","v":29.00966988996332},null,null,"Total per 10,000 aged 0-17",{"$f":"'Young people ed & skills'!B134","v":39.346448816272087}]
[null,null,null,"% of Children under 16  in relative low income families",{"$f":"Deprivation!B100","v":0.15668427164100834},null,null,"Children In Care (including Unaccompanied Asylum Seeking Children)",{"$f":"'Young people ed & skills'!B134","v":39.346448816272087}]
[null,null,null,"DWP",null,null,null,null,null,null,null,"KCC"]
[null,null,null,null,null,null,null,"KCC"]
[]
[null,null,{"$f":"\"Recorded crimes per 1,000 population, \"&Data!E453","v":"Recorded crimes per 1,000 population, 2023"}]
[null,null,null,"Criminal damage and arson",{"$f":"Deprivation!B149","v":9.9771403288843015}]
[null,null,null,"Drug offences",{"$f":"Deprivation!B150","v":1.8508959516259864}]
[null,null,null,"Miscellaneous crimes",{"$f":"Deprivation!B151","v":2.4187006857901334}]
[null,null,null,"Possession of weapons offences",{"$f":"Deprivation!B152","v":0.75953100803775531}]
[null,null,null,"Public order offences",{"$f":"Deprivation!B153","v":4.763660497013495}]
[null,null,null,"Robbery",{"$f":"Deprivation!B154","v":0.4203229850306025}]
[null,null,null,"Sexual offences",{"$f":"Deprivation!B155","v":2.7800309711673181}]
[null,null,null,"Theft offences",{"$f":"Deprivation!B156","v":23.508590811887029}]
[null,null,null,"Violence against the person",{"$f":"Deprivation!B157","v":32.748322395103607}]
[null,null,null,"Total recorded crime",{"$f":"Deprivation!B158","v":79.227195634540223}]
[null,null,null,"KCC"]
[]
[]
[null,"Housing & Households"]
[null,null,{"$f":"\"Average House Prices, \"&Data!E482","v":"Average House Prices, 2023"},null,null,null,"Household size, 2021 Census",null,null,null,{"$f":"\"Council tax bands, \"&Data!E493","v":"Council tax bands, 2024"}]
[null,null,null,"Detached",{"$f":"'Housing & households'!B140","v":594933},null,null,"Average Household Size",{"$f":"'Housing & households'!B45","v":2.4593807737528692},null,null,"Band A  <£40k",{"$f":"'Housing & households'!B122","v":4350}]
[null,null,null,"Semi",{"$f":"'Housing & households'!B141","v":358369},null,null,"1 person",{"$f":"'Housing & households'!B27","v":13861},null,null,"Band B  £40-52k",{"$f":"'Housing & households'!B123","v":13870}]
[null,null,null,"Terrace",{"$f":"'Housing & households'!B142","v":293989},null,null,"2 people",{"$f":"'Housing & households'!B28","v":18895},null,null,"Band C  £52-68k",{"$f":"'Housing & households'!B124","v":13600}]
[null,null,null,"Flat/ Maisonette",{"$f":"'Housing & households'!B143","v":181645},null,null,"3 people",{"$f":"'Housing & households'!B29","v":9068},null,null,"Band D  £68-88k",{"$f":"'Housing & households'!B125","v":10170}]
[null,null,null,"All",{"$f":"'Housing & households'!B144","v":400312},null,null,"4 people",{"$f":"'Housing & households'!B30","v":7794},null,null,"Band E  £88-120k",{"$f":"'Housing & households'!B126","v":7090}]
[null,null,null,"The Land Registry",null,null,null,"5 people",{"$f":"'Housing & households'!B31","v":2670},null,null,"Band F  £120-160k",{"$f":"'Housing & households'!B127","v":6140}]
[null,null,null,null,null,null,null,"6 people",{"$f":"'Housing & households'!B32","v":886},null,null,"Band G  £160-320k",{"$f":"'Housing & households'!B128","v":3540}]
[null,null,null,null,null,null,null,"7 people",{"$f":"'Housing & households'!B33","v":275},null,null,"Band H  >£320k",{"$f":"'Housing & households'!B129","v":210}]
[null,null,null,null,null,null,null,"8 people or more",{"$f":"'Housing & households'!B34","v":133},null,null,"Total Dwellings",{"$f":"'Housing & households'!B130","v":58970}]
[null,null,null,null,null,null,null,"ONS",null,null,null,"ONS"]
[]
[null,null,"Households & Housing Tenure, 2021 Census",null,null,null,"Household Type, 2021 Census",null,null,null,"Household Amenities, 2021 Census"]
[null,null,null,"Total Households",{"$f":"'Housing & households'!B11","v":53583},null,null,"Total Households",{"$f":"'Housing & households'!B92","v":53586},null,null,"Does not have central heating",{"$f":"'Housing & households'!B73","v":624}]
[null,null,null,"Owned: Owned outright",{"$f":"'Housing & households'!B12","v":18032},null,null,"One person Households",{"$f":"'Housing & households'!B93","v":13862},null,null,"Does have central heating",{"$f":"'Housing & households'!B74","v":52959}]
[null,null,null,"Owned: Owned with a mortgage or loan",{"$f":"'Housing & households'!B13","v":17565},null,null,"One Family Only",{"$f":"'Housing & households'!B96","v":36313},null,null,"No cars or vans in household",{"$f":"'Housing & households'!B75","v":7706}]
[null,null,null,"Shared ownership (part owned and part rented)",{"$f":"'Housing & households'!B14","v":917},null,null,"Other Household Types",{"$f":"'Housing & households'!B110","v":3411},null,null,"ONS"]
[null,null,null,"Social rented: Rented from council (Local Authority)",{"$f":"'Housing & households'!B15","v":4750},null,null,"ONS"]
[null,null,null,"Social rented: Other",{"$f":"'Housing & households'!B16","v":2751}]
[null,null,null,"Private rented: Private landlord or letting agency",{"$f":"'Housing & households'!B17","v":8236}]
[null,null,null,"Private rented: Other",{"$f":"'Housing & households'!B18","v":1263}]
[null,null,null,"Living rent free",{"$f":"'Housing & households'!B19","v":69}]
[null,null,null,"ONS"]
[]
[null,"Young People, Education & skills"]
[null,null,{"$f":"\"Children and young people, \"&Data!E578","v":"Children and young people, Mid 2023"},null,null,null,{"$f":"\"GCSE results, \"&Data!E669&\" (percentage of pupils)\"","v":"GCSE results, 2022/23 (percentage of pupils)"},null,null,null,{"$f":"\"School population, \"&'Young people ed & skills'!A60","v":"School population, January 2024"}]
[null,null,null,"0-3 - Early Years children",{"$f":"'Young people ed & skills'!B13","v":6100},null,null,"% Achieving Strong Pass (Grades 9-5) in English & Maths",{"$f":"'Young people ed & skills'!B99/100","v":4.5478374836173006E-3},null,null,"English additional language",{"$f":"'Young people ed & skills'!B62","v":3304}]
[null,null,null,"4-10 - Primary age children",{"$f":"'Young people ed & skills'!B14","v":12100},null,null,"% Achieving Strong Pass (Grade 5 or above) English",{"$f":"'Young people ed & skills'!B100/100","v":6.5727391874180864E-3},null,null,"Free school meals",{"$f":"'Young people ed & skills'!B63","v":4760}]
[null,null,null,"11-18 - Secondary age children",{"$f":"'Young people ed & skills'!B15","v":13900},null,null,"% Achieving Strong Pass (Grade 5 or above) Maths",{"$f":"'Young people ed & skills'!B101/100","v":2.1821756225425949E-3},null,null,"SEN - No statement",{"$f":"'Young people ed & skills'!B64","v":2447}]
[null,null,null,"10-17 - age group covered by youth offending service",{"$f":"'Young people ed & skills'!B16","v":14200},null,null,"DfE",null,null,null,"SEN - Statement",{"$f":"'Young people ed & skills'!B65","v":1084}]
[null,null,null,"14-19 - age group for Key Qualifications",{"$f":"'Young people ed & skills'!B17","v":9700},null,null,null,null,null,null,"Number of pupils  on roll",{"$f":"'Young people ed & skills'!B66","v":21617}]
[null,null,null,"0-19 - All children & young people",{"$f":"'Young people ed & skills'!B18","v":33300},null,null,null,null,null,null,"KCC"]
[null,null,null,"Mid-year population estimates, ONS"]
[]
[null,null,{"$f":"\"Disabled pupils, \"&Data!E654","v":"Disabled pupils, January 2024"},null,null,null,{"$f":"\"Number of primary schools, \"&Data!E619","v":"Number of primary schools, February 2025"},null,null,null,{"$f":"\"Number of secondary schools, \"&Data!J619","v":"Number of secondary schools, February 2025"}]
[null,null,null,"Number with a Primary SEN",{"$f":"'Young people ed & skills'!B79","v":3531},null,null,"Academy Infant",{"$f":"'Young people ed & skills'!B30","v":1},null,null,"Academy Grammar",{"$f":"'Young people ed & skills'!B39","v":2}]
[null,null,null,"Autistic Spectrum Disorder",{"$f":"'Young people ed & skills'!B80","v":794},null,null,"Academy Junior",{"$f":"'Young people ed & skills'!B31","v":2},null,null,"Academy High",{"$f":"'Young people ed & skills'!B40","v":3}]
[null,null,null,"Hearing Impairment",{"$f":"'Young people ed & skills'!B81","v":23},null,null,"Academy Primary",{"$f":"'Young people ed & skills'!B32","v":15},null,null,"Academy Wide Ability",{"$f":"'Young people ed & skills'!B41","v":1}]
[null,null,null,"Moderate Learning Difficulties",{"$f":"'Young people ed & skills'!B82","v":243},null,null,"Primary Free School",{"$f":"'Young people ed & skills'!B33","v":0},null,null,"Secondary Free School",{"$f":"'Young people ed & skills'!B43","v":2}]
[null,null,null,"Multi Sensory Impairment",{"$f":"'Young people ed & skills'!B83","v":9},null,null,"Infant ",{"$f":"'Young people ed & skills'!B35","v":2},null,null,"Grammar",{"$f":"'Young people ed & skills'!B44","v":0}]
[null,null,null,"SEN Support",{"$f":"'Young people ed & skills'!B84","v":130},null,null,"Junior",{"$f":"'Young people ed & skills'!B36","v":1},null,null,"High",{"$f":"'Young people ed & skills'!B45","v":0}]
[null,null,null,"Other",{"$f":"'Young people ed & skills'!B85","v":83},null,null,"Primary",{"$f":"'Young people ed & skills'!B37","v":21},null,null,"Wide Ability",{"$f":"'Young people ed & skills'!B46","v":0}]
[null,null,null,"Physical Disability",{"$f":"'Young people ed & skills'!B86","v":80},null,null,"Total",{"$f":"'Young people ed & skills'!B38","v":43},null,null,"Total",{"$f":"'Young people ed & skills'!B47","v":8}]
[null,null,null,"Profound & Multiple Learning Difficulties",{"$f":"'Young people ed & skills'!B87","v":27},null,null,"KCC",null,null,null,"KCC"]
[null,null,null,"Social, Emotional & Mental Health",{"$f":"'Young people ed & skills'!B88","v":778}]
[null,null,null,"Speech, Language & Communication Needs",{"$f":"'Young people ed & skills'!B89","v":851}]
[null,null,null,"Severe Learning Difficulties",{"$f":"'Young people ed & skills'!B90","v":92}]
[null,null,null,"Specific Learning Difficulties",{"$f":"'Young people ed & skills'!B91","v":409}]
[null,null,null,"Visual Impairment",{"$f":"'Young people ed & skills'!B92","v":12}]
[null,null,null,"KCC"]
[]
[null,null,{"$f":"\"Young people providing unpaid care, \" &Census2021Data!D7","v":"Young people providing unpaid care, 2021"}]
[null,null,null,"5-9 providing unpaid care",{"$f":"'Young people ed & skills'!B154","v":64}]
[null,null,null,"10-15 providing unpaid care",{"$f":"'Young people ed & skills'!B155","v":286}]
[null,null,null,"16-19 providing unpaid care",{"$f":"'Young people ed & skills'!B156","v":261}]
[null,null,null,"20-24 providing unpaid care",{"$f":"'Young people ed & skills'!B157","v":373}]
[null,null,null,"All people under 25",{"$f":"'Young people ed & skills'!B158","v":984}]
[null,null,null,"2021 Census, ONS"]
[]
[null,"Older People"]
[null,null,{"$f":"\"Population aged 60+, \"&Data!E7","v":"Population aged 60+, Mid 2023"},null,null,null,{"$f":"\"State Pension Claimants, \"&Data!E742","v":"State Pension Claimants, Nov 2020"},null,null,null,{"$f":"\"Age of State Pension Claimants, \"&Data!E742","v":"Age of State Pension Claimants, Nov 2020"}]
[null,null,null,"Population aged 60+",{"$f":"'Older people'!B14","v":35600},null,null,"Total claimants",{"$f":"'Older people'!B29","v":23702},null,null,"aged 60-64",{"$f":"'Older people'!B39","v":".."}]
[null,null,null,"60-64",{"$f":"'Older people'!B15","v":8500},null,null,"Male",{"$f":"'Older people'!B30","v":10874},null,null,"aged 65-69",{"$f":"'Older people'!B40","v":4815}]
[null,null,null,"65-69",{"$f":"'Older people'!B16","v":6800},null,null,"Female",{"$f":"'Older people'!B31","v":12827},null,null,"aged 70-74",{"$f":"'Older people'!B41","v":7114}]
[null,null,null,"70-74",{"$f":"'Older people'!B17","v":6500},null,null,"DWP",null,null,null,"aged 75-79",{"$f":"'Older people'!B42","v":5134}]
[null,null,null,"75-79",{"$f":"'Older people'!B18","v":6500},null,null,null,null,null,null,"aged 80-84",{"$f":"'Older people'!B43","v":3463}]
[null,null,null,"80-84",{"$f":"'Older people'!B19","v":3900},null,null,null,null,null,null,"aged 85-89",{"$f":"'Older people'!B44","v":2043}]
[null,null,null,"85-89",{"$f":"'Older people'!B20","v":2200},null,null,null,null,null,null,"aged 90 and over",{"$f":"'Older people'!B45","v":1135}]
[null,null,null,"2021 Mid-year population estimates, ONS",null,null,null,null,null,null,null,"DWP"]
[]
[null,null,{"$f":"\"Average amount of State Pension (£ per week), \"&Data!E767","v":"Average amount of State Pension (£ per week), Nov 2018"},null,null,null,{"$f":"\"Pension Credit Claimants, \"&Data!E792","v":"Pension Credit Claimants, Nov 2023"},null,null,null,{"$f":"\"Age of Pension Credit Claimants, \"&Data!J792","v":"Age of Pension Credit Claimants, Nov 2023"}]
[null,null,null,"Total",118.92,null,null,"Total claimants",{"$f":"'Older people'!B53","v":2595},null,null,"aged 60-64",{"$f":"'Older people'!B64","v":0}]
[null,null,null,"aged 60-64",105.42,null,null,"Male",{"$f":"'Older people'!B54","v":944},null,null,"aged 65-69",{"$f":"'Older people'!B65","v":234}]
[null,null,null,"aged 65-69",117.1,null,null,"Female",{"$f":"'Older people'!B55","v":1651},null,null,"aged 70-74",{"$f":"'Older people'!B66","v":621}]
[null,null,null,"aged 70-74",120.7,null,null,"DWP",null,null,null,"aged 75-79",{"$f":"'Older people'!B67","v":731}]
[null,null,null,"aged 75-79",124.91,null,null,null,null,null,null,"aged 80-84",{"$f":"'Older people'!B68","v":505}]
[null,null,null,"aged 80-84",125.43,null,null,null,null,null,null,"aged 85-89",{"$f":"'Older people'!B69","v":280}]
[null,null,null,"aged 85-89",121.05,null,null,null,null,null,null,"aged 90 and over",{"$f":"'Older people'!B70","v":221}]
[null,null,null,"aged 90 and over",113.39,null,null,null,null,null,null,"DWP"]
[null,null,null,"DWP"]
[]
[null,null,{"$f":"\"Disability Living Allowance Claimants, \"&Data!E842","v":"Disability Living Allowance Claimants, Nov 2023"},null,null,null,{"$f":"\"Attendance Allowance Claimants, \"&Data!J842","v":"Attendance Allowance Claimants, Nov 2023"},null,null,null,{"$f":"\"Total Disability Benefits Claimants (DLA or AA) by age, \"&Data!M842","v":"Total Disability Benefits Claimants (DLA or AA) by age, Nov 2023"}]
[null,null,null,"Total Claimants aged 60+",{"$f":"'Older people'!B81","v":853},null,null,"Total Claimants aged 65+",{"$f":"'Older people'!B96","v":3354},null,null,"Total Claimants aged 60+",{"$f":"'Older people'!B110","v":3482}]
[null,null,null,"aged 60-64",{"$f":"'Older people'!B82","v":105},null,null,"65 - 69",{"$f":"'Older people'!B97","v":105},null,null,"aged 60-64",{"$f":"'Older people'!B111","v":45}]
[null,null,null,"aged 65-69",{"$f":"'Older people'!B83","v":104},null,null,"70 - 74",{"$f":"'Older people'!B98","v":362},null,null,"aged 65-69",{"$f":"'Older people'!B112","v":123}]
[null,null,null,"aged 70-74",{"$f":"'Older people'!B84","v":120},null,null,"75 - 79",{"$f":"'Older people'!B99","v":720},null,null,"aged 70-74",{"$f":"'Older people'!B113","v":405}]
[null,null,null,"aged 75-79",{"$f":"'Older people'!B85","v":295},null,null,"80 - 84",{"$f":"'Older people'!B100","v":781},null,null,"aged 75-79",{"$f":"'Older people'!B114","v":770}]
[null,null,null,"aged 80-84",{"$f":"'Older people'!B86","v":158},null,null,"85 - 89",{"$f":"'Older people'!B101","v":719},null,null,"aged 80-84",{"$f":"'Older people'!B115","v":784}]
[null,null,null,"aged 85-89",{"$f":"'Older people'!B87","v":55},null,null,"90 and over",{"$f":"'Older people'!B102","v":667},null,null,"aged 85-89",{"$f":"'Older people'!B116","v":680}]
[null,null,null,"aged 90 and over",{"$f":"'Older people'!B88","v":16},null,null,"DWP",null,null,null,"aged 90 and over",{"$f":"'Older people'!B117","v":675}]
[null,null,null,"DWP",null,null,null,null,null,null,null,"DWP"]
[]
[null,null,{"$f":"\"Personal Independence Payment claimants aged 60+, \"&Data!E914","v":"Personal Independence Payment claimants aged 60+, Nov 2023"},null,null,null,"Long term health problem or disability: Day-to-day activities limited , 2021 Census",null,null,null,"Providing unpaid care , 2021 Census"]
[null,null,null,"Aged 60+",{"$f":"'Older people'!B129","v":1638},null,null,"Aged 60+",{"$f":"'Older people'!B139","v":10126},null,null,"Aged 50+",{"$f":"'Older people'!B153","v":6542}]
[null,null,null,"aged 60-64",{"$f":"'Older people'!B130","v":733},null,null,"60-64",{"$f":"'Older people'!B140","v":1668},null,null,"60-64",{"$f":"'Older people'!B154","v":3913}]
[null,null,null,"aged 65-69",{"$f":"'Older people'!B131","v":905},null,null,"65-69",{"$f":"'Older people'!B141","v":1576},null,null,"65-74",{"$f":"'Older people'!B155","v":1543}]
[null,null,"DWP",null,null,null,null,"70-74",{"$f":"'Older people'!B142","v":1903},null,null,"75-84",{"$f":"'Older people'!B156","v":858}]
[null,null,null,null,null,null,null,"75-79",{"$f":"'Older people'!B143","v":1696},null,null,"85+",{"$f":"'Older people'!B157","v":228}]
[null,null,null,null,null,null,null,"80-84",{"$f":"'Older people'!B144","v":1452}]
[null,null,null,null,null,null,null,"85+",{"$f":"'Older people'!B145","v":1831},null,null,"ONS"]
[null,null,null,null,null,null,null,"ONS"]
[]
[null,"Economy"]
[null,null,{"$f":"\"Population aged 16-64 (working age), \"&Data!E924","v":"Population aged 16-64 (working age), Mid 2023"},null,null,null,{"$f":"\"Economically active population, \"&Data!E931","v":"Economically active population, 2023"},null,null,null,{"$f":"\"Forecast economically active population, \"&Data!C955&\" - \"&Data!C959","v":"Forecast economically active population, 2022 - 2042"}]
[null,null,null,"Males",{"$f":"Economy!B13","v":40900},null,null,"Aged 16-24",{"$f":"Economy!D57","v":5600},null,null,{"$f":"L12","v":2022},{"$f":"Economy!B78","v":93500}]
[null,null,null,"Females",{"$f":"Economy!B14","v":43000},null,null,"Aged 25-34",{"$f":"Economy!D58","v":11000},null,null,2027,{"$f":"Economy!B79","v":101700}]
[null,null,null,"Total",{"$f":"Economy!B15","v":83900},null,null,"Aged 35-44",{"$f":"Economy!D59","v":15500},null,null,2032,{"$f":"Economy!B80","v":109800}]
[null,null,null,"ONS",null,null,null,"Aged 45-59",{"$f":"Economy!D60","v":24900},null,null,2037,{"$f":"Economy!B81","v":113600}]
[null,null,null,null,null,null,null,"Aged 60-64",{"$f":"Economy!D61","v":5500},null,null,2042,{"$f":"Economy!B82","v":116500}]
[null,null,null,null,null,null,null,"Aged 65-74",{"$f":"Economy!D62","v":57000},null,null,{"$f":"L17","v":"KCC Housing Led Forecasts (2021)"}]
[null,null,null,null,null,null,null,"Aged 16-74",{"$f":"Economy!D63","v":0},null,null,{"$f":"L18","v":"Kent Analytics"}]
[null,null,null,null,null,null,null,"KCC"]
[]
[null,null,{"$f":"\"Employment Rate, \"&Data!E964","v":"Employment Rate, 2023"},null,null,null,{"$f":"\"Median weekly full-time earnings (£s) - workplace based - \"&Data!E1008","v":"Median weekly full-time earnings (£s) - workplace based - 2024"},null,null,null,{"$f":"\"Median weekly full-time earnings (£s) - resident based - \"&Data!E1015","v":"Median weekly full-time earnings (£s) - resident based - 2024"}]
[null,null,null,"16-24",{"$f":"Economy!D92","v":0.51851851851851849},null,null,"Males",{"$f":"Economy!B322","v":695.8},null,null,"Males",{"$f":"Economy!B339","v":788.8}]
[null,null,null,"25-49",{"$f":"Economy!D93","v":0.69189189189189193},null,null,"Females",{"$f":"Economy!B323","v":635.4},null,null,"Females",{"$f":"Economy!B340","v":634}]
[null,null,null,"50-64",{"$f":"Economy!D94","v":0.72239747634069396},null,null,"Total",{"$f":"Economy!B324","v":678.3},null,null,"Total",{"$f":"Economy!B341","v":700.2}]
[null,null,null,"16-64",{"$f":"Economy!D95","v":0.68136020151133503},null,null,"NOMIS:ASHE",null,null,null,"NOMIS:ASHE"]
[null,null,null,"NOMIS:APS"]
[]
[null,null,{"$f":"Economy!A107","v":"Annual Average Unemployment Rate - 2010-2024"},null,null,null,"Output (Gross Value Added) Estimates (£m.)",null,null,null,{"$f":"Economy!A453","v":"GVA per head estimates (£/head)"}]
[null,null,null,{"$f":"Data!C977","v":2010},{"$f":"Economy!$B110","v":2.5000000000000001E-2},null,null,{"$f":"Data!C1052","v":2006},{"$f":"Economy!B435","v":2160},null,null,{"$f":"Economy!A456","v":2006},{"$f":"Economy!B456","v":19379.32333862676}]
[null,null,null,{"$f":"Data!C978","v":2011},{"$f":"Economy!$B111","v":2.6000000000000002E-2},null,null,{"$f":"Data!C1053","v":2007},{"$f":"Economy!B436","v":2247},null,null,{"$f":"Economy!A457","v":2007},{"$f":"Economy!B457","v":19834.754515121022}]
[null,null,null,{"$f":"Data!C979","v":2012},{"$f":"Economy!$B112","v":2.7000000000000003E-2},null,null,{"$f":"Data!C1054","v":2008},{"$f":"Economy!B437","v":2367},null,null,{"$f":"Economy!A458","v":2008},{"$f":"Economy!B458","v":20662.383463109745}]
[null,null,null,{"$f":"Data!C980","v":2013},{"$f":"Economy!$B113","v":2.4E-2},null,null,{"$f":"Data!C1055","v":2009},{"$f":"Economy!B438","v":2239},null,null,{"$f":"Economy!A459","v":2009},{"$f":"Economy!B459","v":19352.775424827563}]
[null,null,null,{"$f":"Data!C981","v":2014},{"$f":"Economy!$B114","v":1.7000000000000001E-2},null,null,{"$f":"Data!C1056","v":2010},{"$f":"Economy!B439","v":2294},null,null,{"$f":"Economy!A460","v":2010},{"$f":"Economy!B460","v":19611.027997435351}]
[null,null,null,{"$f":"Data!C982","v":2015},{"$f":"Economy!$B115","v":1.3000000000000001E-2},null,null,{"$f":"Data!C1057","v":2011},{"$f":"Economy!B440","v":2339},null,null,{"$f":"Economy!A461","v":2011},{"$f":"Economy!B461","v":19754.233351632109}]
[null,null,null,2014,{"$f":"Economy!$B116","v":1.4999999999999999E-2},null,null,{"$f":"Data!C1058","v":2012},{"$f":"Economy!B441","v":2468},null,null,{"$f":"Economy!A462","v":2012},{"$f":"Economy!B462","v":20533.9834097395}]
[null,null,null,2015,{"$f":"Economy!$B117","v":1.6E-2},null,null,{"$f":"Data!C1059","v":2013},{"$f":"Economy!B442","v":2488},null,null,{"$f":"Economy!A463","v":2013},{"$f":"Economy!B463","v":20418.5473943373}]
[null,null,null,2016,{"$f":"Economy!$B118","v":1.9E-2},null,null,{"$f":"Data!C1060","v":2014},{"$f":"Economy!B443","v":2688},null,null,{"$f":"Economy!A464","v":2014},{"$f":"Economy!B464","v":21733.154379780404}]
[null,null,null,2017,{"$f":"Economy!$B119","v":2.5000000000000001E-2},null,null,{"$f":"Data!C1061","v":2015},{"$f":"Economy!B444","v":2790},null,null,{"$f":"Economy!A465","v":2015},{"$f":"Economy!B465","v":22395.248033392199}]
[null,null,null,{"$f":"Data!C987","v":2020},{"$f":"Economy!$B120","v":5.2000000000000005E-2},null,null,{"$f":"Data!C1062","v":2016},{"$f":"Economy!B445","v":2842},null,null,{"$f":"Economy!A466","v":2016},{"$f":"Economy!B466","v":22497.170042825364}]
[null,null,null,{"$f":"Data!C988","v":2021},{"$f":"Economy!$B121","v":4.9000000000000002E-2},null,null,{"$f":"Data!C1063","v":2017},{"$f":"Economy!B446","v":2899},null,null,{"$f":"Economy!A467","v":2017},{"$f":"Economy!B467","v":22639.770712774018}]
[null,null,null,{"$f":"Data!C989","v":2022},{"$f":"Economy!$B122","v":3.2000000000000001E-2},null,null,{"$f":"Data!C1064","v":2018},{"$f":"Economy!B447","v":3002},null,null,{"$f":"Economy!A468","v":2018},{"$f":"Economy!B468","v":23145.542439919507}]
[null,null,null,{"$f":"Data!C990","v":2023},{"$f":"Economy!$B123","v":0.03},null,null,{"$f":"Data!C1065","v":2019},{"$f":"Economy!B448","v":3241},null,null,{"$f":"Economy!A469","v":2019},{"$f":"Economy!B469","v":24841.721214722609}]
[null,null,null,{"$f":"Data!C991","v":2024},{"$f":"Economy!$B124","v":3.2000000000000001E-2},null,null,"KCC",null,null,null,"KCC"]
[null,null,null,"ONS Claimant Count"]
[]
[]
[null,null,{"$f":"Economy!A379","v":"VAT and/or PAYE based enterprises by number of employees - 2024"},null,null,null,{"$f":"Economy!A398&\" - \"&Economy!A415","v":"Business Births, Death and Active Businesses - 2023"},null,null,null,{"$f":"\"% \"&Economy!A413","v":"% Business Survival Rates, 2023"}]
[null,null,null,"0 - 4",{"$f":"Economy!B382","v":5270},null,null,"Business Births",{"$f":"Economy!B406","v":675},null,null,"1 year",{"$f":"Economy!B417/100","v":0.94615384615384612}]
[null,null,null,"5 - 9",{"$f":"Economy!B383","v":630},null,null,"Business Deaths",{"$f":"Economy!C406","v":605},null,null,"3 years",{"$f":"Economy!B418/100","v":0.55000000000000004}]
[null,null,null,"10 - 19",{"$f":"Economy!B384","v":325},null,null,"Active Businesses",{"$f":"Economy!D406","v":6320},null,null,"5 years",{"$f":"Economy!B419/100","v":0.40939597315436244}]
[null,null,null,"20 - 49",{"$f":"Economy!B385","v":175},null,"Source: UK Business Demography, ONS"]
[null,null,null,"50 - 99",{"$f":"Economy!B386","v":50}]
[null,null,null,"100 - 249",{"$f":"Economy!B387","v":30}]
[null,null,null,"250 +",{"$f":"Economy!B388","v":10}]
[null,null,null,"TOTAL",{"$f":"Economy!B389","v":6490}]
[null,null,null,"UK Business Counts"]
[]
[]
[null,null,{"$f":"\"VAT and/or PAYE based enterprises, \"&Data!E1022","v":"VAT and/or PAYE based enterprises, 2024"},null,null,null,{"$f":"\"National Insurance Numbers allocated to overseas nationals\"","v":"National Insurance Numbers allocated to overseas nationals"},null,null,null,{"$f":"\"% of area NINos by world area of origin, \"&Data!E1113","v":"% of area NINos by world area of origin, 2023"}]
[null,null,null,"Agriculture, forestry & fishing",{"$f":"Economy!B358","v":410},null,null,{"$f":"Data!C1098","v":2009},{"$f":"Economy!B494","v":555},null,null,"EU Accession states",{"$f":"Economy!B519","v":1.2448132780082987E-2}]
[null,null,null,"Mining, quarrying & utilities",{"$f":"Economy!B359","v":50},null,null,{"$f":"Data!C1099","v":2010},{"$f":"Economy!B495","v":720},null,null,"European Union",{"$f":"Economy!B520","v":6.2240663900414939E-2}]
[null,null,null,"Manufacturing",{"$f":"Economy!B360","v":310},null,null,{"$f":"Data!C1100","v":2011},{"$f":"Economy!B496","v":793},null,null,"Other European",{"$f":"Economy!B521","v":4.1493775933609957E-2}]
[null,null,null,"Construction",{"$f":"Economy!B361","v":1070},null,null,{"$f":"Data!C1101","v":2012},{"$f":"Economy!B497","v":625},null,null,"Asia",{"$f":"Economy!B522","v":0.56431535269709543}]
[null,null,null,"Motor trades",{"$f":"Economy!B362","v":180},null,null,{"$f":"Data!C1102","v":2013},{"$f":"Economy!B498","v":742},null,null,"Africa",{"$f":"Economy!B523","v":0.28838174273858919}]
[null,null,null,"Wholesale",{"$f":"Economy!B363","v":230},null,null,{"$f":"Data!C1103","v":2014},{"$f":"Economy!B499","v":873},null,null,"The Americas",{"$f":"Economy!B524","v":3.1120331950207469E-2}]
[null,null,null,"Retail",{"$f":"Economy!B364","v":390},null,null,{"$f":"Data!C1104","v":2015},{"$f":"Economy!B500","v":884},null,null,"Oceania",{"$f":"Economy!B525","v":1.8672199170124481E-2}]
[null,null,null,"Transport & storage",{"$f":"Economy!B365","v":185},null,null,{"$f":"Data!C1105","v":2016},{"$f":"Economy!B501","v":962},null,null,"DWP"]
[null,null,null,"Accommodation & food services",{"$f":"Economy!B366","v":280},null,null,{"$f":"Data!C1106","v":2017},{"$f":"Economy!B502","v":839}]
[null,null,null,"Information & communication",{"$f":"Economy!B367","v":365},null,null,{"$f":"Data!C1107","v":2018},{"$f":"Economy!B503","v":747}]
[null,null,null,"Financial & insurance",{"$f":"Economy!B368","v":400},null,null,{"$f":"Data!C1108","v":2019},{"$f":"Economy!B504","v":912}]
[null,null,null,"Property",{"$f":"Economy!B369","v":310},null,null,{"$f":"Data!C1109","v":2020},{"$f":"Economy!B505","v":407}]
[null,null,null,"Professional, scientific & technical",{"$f":"Economy!B370","v":1005},null,null,{"$f":"Data!C1110","v":2021},{"$f":"Economy!B506","v":913}]
[null,null,null,"Business administration & support services",{"$f":"Economy!B371","v":575},null,null,{"$f":"Data!C1111","v":2022},{"$f":"Economy!B507","v":1390}]
[null,null,null,"Public administration & defence",{"$f":"Economy!B372","v":35},null,null,{"$f":"Data!C1112","v":2023},{"$f":"Economy!B508","v":1446}]
[null,null,null,"Education",{"$f":"Economy!B373","v":90},null,null,"DWP"]
[null,null,null,"Health",{"$f":"Economy!B374","v":260}]
[null,null,null,"Arts, entertainment, recreation & other services",{"$f":"Economy!B375","v":360}]
[null,null,null,"Total",{"$f":"Economy!B376","v":6490}]
[null,null,null,"BRES"]

{"sheet":"Population","index":2,"n_rows":164,"n_cols":14,"rows_kept":164,"cut":false,"hidden":false,"merged":[]}
["Population"]
["Includes information about the age and gender of the population and a Mosaic profile of the selected area."]
[null,null,null,null,null,null,null,null,null,null,null,null,null,{"$f":"Profile!E14","v":"Version date: 4 February 2025"}]
[null,null,null,null,null,null,"Select geography:",null,null,null,"Select topic:"]
[]
["District profile for",{"$f":"Index!C1","v":"Ashford "}]
[{"$f":"\"Population by gender, 2023 - \"&A10","v":"Population by gender, 2023 - Ashford "}]
["Source: ONS Mid Year Estimates"]
[null,"Total Persons",null,"Males",null,"Females"]
[{"$f":"Index!$K$6","v":"Ashford "},"No.","% of total population","No.","%","No.","%",null,null,null,null,"KCC Males","KCC Females"]
["All Ages",{"$f":"INDEX(Data!$E8:$Z8,Index!$B$1)","v":138300},{"$f":"INDEX(Data!E33:Z33,Index!$B$1)","v":1},{"$f":"INDEX(Data!E58:Z58,Index!$B$1)","v":67300},{"$f":"INDEX(Data!E83:Z83,Index!$B$1)","v":0.48672649566468762},{"$f":"INDEX(Data!E133:Z133,Index!$B$1)","v":71000},{"$f":"INDEX(Data!E158:Z158,Index!$B$1)","v":0.51327350433531238},null,{"$f":"D12/$B$11","v":2.8199566160520606E-2},{"$f":"I11*-1","v":-2.8199566160520606E-2},{"$f":"F12/$B$11","v":2.6753434562545191E-2},{"$f":"Data!Q109*-1","v":-2.806456881566911E-2},{"$f":"Data!Q184","v":2.6251807947953457E-2}]
["0-4",{"$f":"INDEX(Data!$E9:$Z9,Index!$B$1)","v":7600},{"$f":"INDEX(Data!E34:Z34,Index!$B$1)","v":5.5133313567105137E-2},{"$f":"INDEX(Data!E59:Z59,Index!$B$1)","v":3900},{"$f":"INDEX(Data!E84:Z84,Index!$B$1)","v":0.51442812172088148},{"$f":"INDEX(Data!E134:Z134,Index!$B$1)","v":3700},{"$f":"INDEX(Data!E159:Z159,Index!$B$1)","v":0.48557187827911857},null,3.2537960954446853E-2,-3.2537960954446853E-2,3.0368763557483729E-2,{"$f":"Data!Q110*-1","v":-3.0981505367796699E-2},{"$f":"Data!Q185","v":2.952024249635616E-2}]
["5-9",{"$f":"INDEX(Data!$E10:$Z10,Index!$B$1)","v":8700},{"$f":"INDEX(Data!E35:Z35,Index!$B$1)","v":6.2986773500719545E-2},{"$f":"INDEX(Data!E60:Z60,Index!$B$1)","v":4500},{"$f":"INDEX(Data!E85:Z85,Index!$B$1)","v":0.51389207807118253},{"$f":"INDEX(Data!E135:Z135,Index!$B$1)","v":4200},{"$f":"INDEX(Data!E160:Z160,Index!$B$1)","v":0.48610792192881747},null,3.3261026753434564E-2,-3.3261026753434564E-2,3.1814895155459148E-2,{"$f":"Data!Q111*-1","v":-3.3107260917707861E-2},{"$f":"Data!Q186","v":3.1194515637624196E-2}]
["10-14",{"$f":"INDEX(Data!$E11:$Z11,Index!$B$1)","v":9100},{"$f":"INDEX(Data!E36:Z36,Index!$B$1)","v":6.5604593478591003E-2},{"$f":"INDEX(Data!E61:Z61,Index!$B$1)","v":4600},{"$f":"INDEX(Data!E86:Z86,Index!$B$1)","v":0.51245590828924159},{"$f":"INDEX(Data!E136:Z136,Index!$B$1)","v":4400},{"$f":"INDEX(Data!E161:Z161,Index!$B$1)","v":0.48754409171075835},null,2.8922631959508314E-2,-2.8922631959508314E-2,2.8199566160520606E-2,{"$f":"Data!Q112*-1","v":-3.0126980203707372E-2},{"$f":"Data!Q187","v":2.814654361338698E-2}]
["15-19",{"$f":"INDEX(Data!$E12:$Z12,Index!$B$1)","v":7900},{"$f":"INDEX(Data!E37:Z37,Index!$B$1)","v":5.6839958635551732E-2},{"$f":"INDEX(Data!E62:Z62,Index!$B$1)","v":4000},{"$f":"INDEX(Data!E87:Z87,Index!$B$1)","v":0.50458015267175571},{"$f":"INDEX(Data!E137:Z137,Index!$B$1)","v":3900},{"$f":"INDEX(Data!E162:Z162,Index!$B$1)","v":0.49541984732824429},null,2.3138105567606652E-2,-2.3138105567606652E-2,2.0968908170643528E-2,{"$f":"Data!Q113*-1","v":-2.4572566637126758E-2},{"$f":"Data!Q188","v":2.3286431742628944E-2}]
["20-24",{"$f":"INDEX(Data!$E13:$Z13,Index!$B$1)","v":6100},{"$f":"INDEX(Data!E38:Z38,Index!$B$1)","v":4.4264298576108418E-2},{"$f":"INDEX(Data!E63:Z63,Index!$B$1)","v":3200},{"$f":"INDEX(Data!E88:Z88,Index!$B$1)","v":0.52311713772259438},{"$f":"INDEX(Data!E138:Z138,Index!$B$1)","v":2900},{"$f":"INDEX(Data!E163:Z163,Index!$B$1)","v":0.47688286227740567},null,2.8199566160520606E-2,-2.8199566160520606E-2,3.0368763557483729E-2,{"$f":"Data!Q114*-1","v":-2.6610137177371727E-2},{"$f":"Data!Q189","v":2.850425182161042E-2}]
["25-29",{"$f":"INDEX(Data!$E14:$Z14,Index!$B$1)","v":8000},{"$f":"INDEX(Data!E39:Z39,Index!$B$1)","v":5.8091016249285886E-2},{"$f":"INDEX(Data!E64:Z64,Index!$B$1)","v":3900},{"$f":"INDEX(Data!E89:Z89,Index!$B$1)","v":0.47939748537283705},{"$f":"INDEX(Data!E139:Z139,Index!$B$1)","v":4200},{"$f":"INDEX(Data!E164:Z164,Index!$B$1)","v":0.520602514627163},null,3.1814895155459148E-2,-3.1814895155459148E-2,3.5430224150397684E-2,{"$f":"Data!Q115*-1","v":-3.0186598238411279E-2},{"$f":"Data!Q190","v":3.3736976409267871E-2}]
["30-34",{"$f":"INDEX(Data!$E15:$Z15,Index!$B$1)","v":9400},{"$f":"INDEX(Data!E40:Z40,Index!$B$1)","v":6.7759594454849831E-2},{"$f":"INDEX(Data!E65:Z65,Index!$B$1)","v":4400},{"$f":"INDEX(Data!E90:Z90,Index!$B$1)","v":0.47289220917822838},{"$f":"INDEX(Data!E140:Z140,Index!$B$1)","v":4900},{"$f":"INDEX(Data!E165:Z165,Index!$B$1)","v":0.52710779082177162},null,3.1814895155459148E-2,-3.1814895155459148E-2,3.5430224150397684E-2,{"$f":"Data!Q116*-1","v":-3.1400694674308539E-2},{"$f":"Data!Q191","v":3.4685896794971714E-2}]
["35-39",{"$f":"INDEX(Data!$E16:$Z16,Index!$B$1)","v":9300},{"$f":"INDEX(Data!E41:Z41,Index!$B$1)","v":6.7571574235444701E-2},{"$f":"INDEX(Data!E66:Z66,Index!$B$1)","v":4400},{"$f":"INDEX(Data!E91:Z91,Index!$B$1)","v":0.4728167808219178},{"$f":"INDEX(Data!E141:Z141,Index!$B$1)","v":4900},{"$f":"INDEX(Data!E166:Z166,Index!$B$1)","v":0.5271832191780822},null,3.0368763557483729E-2,-3.0368763557483729E-2,3.2537960954446853E-2,{"$f":"Data!Q117*-1","v":-3.1381443017268737E-2},{"$f":"Data!Q192","v":3.3732008239709212E-2}]
["40-44",{"$f":"INDEX(Data!$E17:$Z17,Index!$B$1)","v":8700},{"$f":"INDEX(Data!E42:Z42,Index!$B$1)","v":6.3182025267024863E-2},{"$f":"INDEX(Data!E67:Z67,Index!$B$1)","v":4200},{"$f":"INDEX(Data!E92:Z92,Index!$B$1)","v":0.48277440769142727},{"$f":"INDEX(Data!E142:Z142,Index!$B$1)","v":4500},{"$f":"INDEX(Data!E167:Z167,Index!$B$1)","v":0.51722559230857279},null,2.8922631959508314E-2,-2.8922631959508314E-2,3.1091829356471441E-2,{"$f":"Data!Q118*-1","v":-2.9497264712147361E-2},{"$f":"Data!Q193","v":3.094548613849642E-2}]
["45-49",{"$f":"INDEX(Data!$E18:$Z18,Index!$B$1)","v":8300},{"$f":"INDEX(Data!E43:Z43,Index!$B$1)","v":6.0318332694546693E-2},{"$f":"INDEX(Data!E68:Z68,Index!$B$1)","v":4000},{"$f":"INDEX(Data!E93:Z93,Index!$B$1)","v":0.48015825440594651},{"$f":"INDEX(Data!E143:Z143,Index!$B$1)","v":4300},{"$f":"INDEX(Data!E168:Z168,Index!$B$1)","v":0.51984174559405349},null,3.3261026753434564E-2,-3.3261026753434564E-2,3.5430224150397684E-2,{"$f":"Data!Q119*-1","v":-3.282345423166947E-2},{"$f":"Data!Q194","v":3.4804511843184699E-2}]
["50-54",{"$f":"INDEX(Data!$E19:$Z19,Index!$B$1)","v":9500},{"$f":"INDEX(Data!E44:Z44,Index!$B$1)","v":6.8764779473977272E-2},{"$f":"INDEX(Data!E69:Z69,Index!$B$1)","v":4600},{"$f":"INDEX(Data!E94:Z94,Index!$B$1)","v":0.48227994531496476},{"$f":"INDEX(Data!E144:Z144,Index!$B$1)","v":4900},{"$f":"INDEX(Data!E169:Z169,Index!$B$1)","v":0.51772005468503524},null,3.5430224150397684E-2,-3.5430224150397684E-2,3.6876355748373099E-2,{"$f":"Data!Q120*-1","v":-3.4196532093443817E-2},{"$f":"Data!Q195","v":3.557209403999749E-2}]
["55-59",{"$f":"INDEX(Data!$E20:$Z20,Index!$B$1)","v":10000},{"$f":"INDEX(Data!E45:Z45,Index!$B$1)","v":7.2134680329469278E-2},{"$f":"INDEX(Data!E70:Z70,Index!$B$1)","v":4900},{"$f":"INDEX(Data!E95:Z95,Index!$B$1)","v":0.49092731829573932},{"$f":"INDEX(Data!E145:Z145,Index!$B$1)","v":5100},{"$f":"INDEX(Data!E170:Z170,Index!$B$1)","v":0.50907268170426068},null,3.0368763557483729E-2,-3.0368763557483729E-2,3.0368763557483729E-2,{"$f":"Data!Q121*-1","v":-3.0391535232705956E-2},{"$f":"Data!Q196","v":3.1483290493221246E-2}]
["60-64",{"$f":"INDEX(Data!$E21:$Z21,Index!$B$1)","v":8500},{"$f":"INDEX(Data!E46:Z46,Index!$B$1)","v":6.115719213496959E-2},{"$f":"INDEX(Data!E71:Z71,Index!$B$1)","v":4200},{"$f":"INDEX(Data!E96:Z96,Index!$B$1)","v":0.50100508454534709},{"$f":"INDEX(Data!E146:Z146,Index!$B$1)","v":4200},{"$f":"INDEX(Data!E171:Z171,Index!$B$1)","v":0.49899491545465297},null,2.3138105567606652E-2,-2.3138105567606652E-2,2.6030368763557483E-2,{"$f":"Data!Q122*-1","v":-2.5206629277050596E-2},{"$f":"Data!Q197","v":2.713986825656373E-2}]
["65-69",{"$f":"INDEX(Data!$E22:$Z22,Index!$B$1)","v":6800},{"$f":"INDEX(Data!E47:Z47,Index!$B$1)","v":4.9434854609749571E-2},{"$f":"INDEX(Data!E72:Z72,Index!$B$1)","v":3200},{"$f":"INDEX(Data!E97:Z97,Index!$B$1)","v":0.47440023405500292},{"$f":"INDEX(Data!E147:Z147,Index!$B$1)","v":3600},{"$f":"INDEX(Data!E172:Z172,Index!$B$1)","v":0.52559976594499702},null,2.2415039768618944E-2,-2.2415039768618944E-2,2.4584237165582067E-2,{"$f":"Data!Q123*-1","v":-2.2916924131703691E-2},{"$f":"Data!Q198","v":2.5596630587405318E-2}]
["70-74",{"$f":"INDEX(Data!$E23:$Z23,Index!$B$1)","v":6500},{"$f":"INDEX(Data!E48:Z48,Index!$B$1)","v":4.7019517945083633E-2},{"$f":"INDEX(Data!E73:Z73,Index!$B$1)","v":3100},{"$f":"INDEX(Data!E98:Z98,Index!$B$1)","v":0.47400799753921868},{"$f":"INDEX(Data!E148:Z148,Index!$B$1)","v":3400},{"$f":"INDEX(Data!E173:Z173,Index!$B$1)","v":0.52599200246078126},null,2.1691973969631236E-2,-2.1691973969631236E-2,2.5307302964569775E-2,{"$f":"Data!Q124*-1","v":-2.2182877079411842E-2},{"$f":"Data!Q199","v":2.5446964479450718E-2}]
["75-79",{"$f":"INDEX(Data!$E24:$Z24,Index!$B$1)","v":6500},{"$f":"INDEX(Data!E49:Z49,Index!$B$1)","v":4.6889350100880078E-2},{"$f":"INDEX(Data!E74:Z74,Index!$B$1)","v":3000},{"$f":"INDEX(Data!E99:Z99,Index!$B$1)","v":0.46329426280074026},{"$f":"INDEX(Data!E149:Z149,Index!$B$1)","v":3500},{"$f":"INDEX(Data!E174:Z174,Index!$B$1)","v":0.53670573719925974},null,1.3015184381778741E-2,-1.3015184381778741E-2,1.5184381778741865E-2,{"$f":"Data!Q125*-1","v":-1.2795520698325914E-2},{"$f":"Data!Q200","v":1.5900626672487705E-2}]
["80-84",{"$f":"INDEX(Data!$E25:$Z25,Index!$B$1)","v":3900},{"$f":"INDEX(Data!E50:Z50,Index!$B$1)","v":2.8101791254167178E-2},{"$f":"INDEX(Data!E75:Z75,Index!$B$1)","v":1800},{"$f":"INDEX(Data!E100:Z100,Index!$B$1)","v":0.45367987647967062},{"$f":"INDEX(Data!E150:Z150,Index!$B$1)","v":2100},{"$f":"INDEX(Data!E175:Z175,Index!$B$1)","v":0.54632012352032944},null,7.2306579898770785E-3,-7.2306579898770785E-3,9.3998553868402026E-3,{"$f":"Data!Q126*-1","v":-7.1802470546517283E-3},{"$f":"Data!Q201","v":1.0376643144453877E-2}]
["85-89",{"$f":"INDEX(Data!$E26:$Z26,Index!$B$1)","v":2200},{"$f":"INDEX(Data!E51:Z51,Index!$B$1)","v":1.6119118040540052E-2},{"$f":"INDEX(Data!E76:Z76,Index!$B$1)","v":1000},{"$f":"INDEX(Data!E101:Z101,Index!$B$1)","v":0.42754598474652311},{"$f":"INDEX(Data!E151:Z151,Index!$B$1)","v":1300},{"$f":"INDEX(Data!E176:Z176,Index!$B$1)","v":0.57245401525347694},null,2.8922631959508315E-3,-2.8922631959508315E-3,5.7845263919016629E-3,{"$f":"Data!Q127*-1","v":-3.2926543750011646E-3},{"$f":"Data!Q202","v":6.7598157057502219E-3}]
["90+",{"$f":"INDEX(Data!$E27:$Z27,Index!$B$1)","v":1200},{"$f":"INDEX(Data!E52:Z52,Index!$B$1)","v":8.6272354519355242E-3},{"$f":"INDEX(Data!E77:Z77,Index!$B$1)","v":400},{"$f":"INDEX(Data!E102:Z102,Index!$B$1)","v":0.33780385582564965},{"$f":"INDEX(Data!E152:Z152,Index!$B$1)","v":800},{"$f":"INDEX(Data!E177:Z177,Index!$B$1)","v":0.66219614417435035}]
[]
[]
[{"$f":"\"Population by age group, \"&Data!E7&\" - \"&A36","v":"Population by age group, Mid 2023 - Ashford "}]
["Source: ONS Mid Year Estimates"]
[null,"Total Persons",null,"Males",null,"Females"]
[{"$f":"Index!$K$6","v":"Ashford "},"No.","% of total population","No.","%","No.","%"]
["All People",{"$f":"INDEX(Data!$E8:$Z8,Index!$B$1)","v":138300},1,{"$f":"INDEX(Data!$E58:$Z58,Index!$B$1)","v":67300},1,{"$f":"INDEX(Data!$E133:$Z133,Index!$B$1)","v":71000},1]
["0-15",{"$f":"INDEX(Data!$E28:$Z28,Index!$B$1)","v":27200},{"$f":"INDEX(Data!E53:Z53,Index!$B$1)","v":0.19689332745167518},{"$f":"INDEX(Data!E78:Z78,Index!$B$1)","v":13900},{"$f":"INDEX(Data!E128:Z128,Index!$B$1)","v":0.20720292395923098},{"$f":"INDEX(Data!E153:Z153,Index!$B$1)","v":13300},{"$f":"INDEX(Data!E203:Z203,Index!$B$1)","v":0.18711695337926371}]
["16-64",{"$f":"INDEX(Data!$E29:$Z29,Index!$B$1)","v":83900},{"$f":"INDEX(Data!E54:Z54,Index!$B$1)","v":0.60691480514596874},{"$f":"INDEX(Data!E79:Z79,Index!$B$1)","v":40900},{"$f":"INDEX(Data!E129:Z129,Index!$B$1)","v":0.60785071167503635},{"$f":"INDEX(Data!E154:Z154,Index!$B$1)","v":43000},{"$f":"INDEX(Data!E204:Z204,Index!$B$1)","v":0.60602730461980636}]
["65+",{"$f":"INDEX(Data!$E30:$Z30,Index!$B$1)","v":27100},{"$f":"INDEX(Data!E55:Z55,Index!$B$1)","v":0.19619186740235603},{"$f":"INDEX(Data!E80:Z80,Index!$B$1)","v":12400},{"$f":"INDEX(Data!E130:Z130,Index!$B$1)","v":0.18494636436573261},{"$f":"INDEX(Data!E155:Z155,Index!$B$1)","v":14700},{"$f":"INDEX(Data!E205:Z205,Index!$B$1)","v":0.20685574200092988}]
[]
[]
[]
[{"$f":"\"Population Density, \"&Data!E7","v":"Population Density, Mid 2023"}]
["Source: ONS Mid Year Estimates"]
[null,{"$f":"Index!$K$6","v":"Ashford "},"Kent"]
[]
["Area (hectares)",{"$f":"INDEX(Data!E212:Z212,Index!B1)","v":58062},{"$f":"Data!Q212","v":354295}]
["Density (persons per hectare)",{"$f":"INDEX(Data!E213:Z213,Index!B1)","v":2.3816437601184939},{"$f":"Data!Q213","v":4.5449441849306371}]
[]
[]
[]
[]
[{"$f":"\"Average Age, \"&Data!E207","v":"Average Age, Mid 2023"}]
["Source: ONS Mid Year Estimates"]
[null,{"$f":"Index!$K$6","v":"Ashford "},"Kent","South East Region","England & Wales"]
["All People",{"$f":"INDEX(Data!E208:Z208,Index!$B$1)","v":41.262201427507357},{"$f":"Data!Q208","v":41.676760331153339},{"$f":"Data!Y208","v":41.479181929420143},{"$f":"Data!Z208","v":40.782300987070407}]
["Males ",{"$f":"INDEX(Data!E209:Z209,Index!$B$1)","v":40.423825513327195},{"$f":"Data!Q209","v":40.718812176681254},{"$f":"Data!Y209","v":40.525608455046616},{"$f":"Data!Z209","v":39.914035906699532}]
["Females",{"$f":"INDEX(Data!E210:Z210,Index!$B$1)","v":42.057215717767725},{"$f":"Data!Q210","v":42.585849587567097},{"$f":"Data!Y210","v":42.392430695084798},{"$f":"Data!Z210","v":41.617459158150709}]
[]
[]
[]
[]
[]
[]
[]
[]
[]
[]
[{"$f":"\"Population forecasts - \"&B6&\" - 2022-2042\"","v":"Population forecasts - Ashford  - 2022-2042"}]
[{"$f":"Data!B214","v":"KCC Housing led forecast (2021)"}]
["Kent Analytics, Kent County Council"]
[null,"Total","0-15","16-64","65+"]
[{"$f":"Data!C214","v":2022},{"$f":"IF(ISERROR((INDEX(Data!E214:V214,Index!$B$1))),\"n/a\",(INDEX(Data!E214:V214,Index!$B$1)))","v":136300},{"$f":"INDEX(Data!E219:Z219,Index!$B$1)","v":27800},{"$f":"INDEX(Data!E224:Z224,Index!$B$1)","v":81100},{"$f":"INDEX(Data!E229:Z229,Index!$B$1)","v":27400}]
[{"$f":"Data!C215","v":2027},{"$f":"IF(ISERROR((INDEX(Data!E215:V215,Index!$B$1))),\"n/a\",(INDEX(Data!E215:V215,Index!$B$1)))","v":146200},{"$f":"INDEX(Data!E220:Z220,Index!$B$1)","v":28800},{"$f":"INDEX(Data!E225:Z225,Index!$B$1)","v":86800},{"$f":"INDEX(Data!E230:Z230,Index!$B$1)","v":30600}]
[{"$f":"Data!C216","v":2032},{"$f":"IF(ISERROR((INDEX(Data!E216:V216,Index!$B$1))),\"n/a\",(INDEX(Data!E216:V216,Index!$B$1)))","v":157000},{"$f":"INDEX(Data!E221:Z221,Index!$B$1)","v":29900},{"$f":"INDEX(Data!E226:Z226,Index!$B$1)","v":91700},{"$f":"INDEX(Data!E231:Z231,Index!$B$1)","v":35300}]
[{"$f":"Data!C217","v":2037},{"$f":"IF(ISERROR((INDEX(Data!E217:V217,Index!$B$1))),\"n/a\",(INDEX(Data!E217:V217,Index!$B$1)))","v":164400},{"$f":"INDEX(Data!E222:Z222,Index!$B$1)","v":31300},{"$f":"INDEX(Data!E227:Z227,Index!$B$1)","v":94000},{"$f":"INDEX(Data!E232:Z232,Index!$B$1)","v":39100}]
[{"$f":"Data!C218","v":2042},{"$f":"IF(ISERROR((INDEX(Data!E218:V218,Index!$B$1))),\"n/a\",(INDEX(Data!E218:V218,Index!$B$1)))","v":172200},{"$f":"INDEX(Data!E223:Z223,Index!$B$1)","v":33200},{"$f":"INDEX(Data!E228:Z228,Index!$B$1)","v":97600},{"$f":"INDEX(Data!E233:Z233,Index!$B$1)","v":41400},null,null,{"$f":"H79&H80&\"(2022 = 100)\"","v":"Forecast population growth from 2022 in the Ashford  area(2022 = 100)"}]
[null,null,null,null,null,null,null,"Forecast population growth from 2022 in the "]
[null,null,null,null,null,null,null,{"$f":"Index!C1&\" area\"","v":"Ashford  area"}]
[null,null,null,null,null,null,null,null,"Total","0-15","16-64","65+"]
[null,null,null,null,null,null,null,null,{"$f":"B74/B$74*100","v":100},100,100,100]
[null,null,null,null,null,null,null,{"$f":"A74","v":2022},107.26338958180483,103.59712230215827,107.02836004932183,111.67883211678833]
[null,null,null,null,null,null,null,{"$f":"A75","v":2027},115.18708730741012,107.55395683453237,113.07028360049323,128.83211678832117]
[null,null,null,null,null,null,null,{"$f":"A76","v":2032},120.61628760088041,112.58992805755396,115.9062885326757,142.7007299270073]
[null,null,null,null,null,null,null,{"$f":"A77","v":2037},126.33895818048421,119.42446043165467,120.34525277435264,151.09489051094891]
[]
[]
[]
[]
[{"$f":"\"Mosaic Profile - \"&Data!E1209","v":"Mosaic Profile - 2022"}]
[]
["Mosaic Profile for"]
[{"$f":"B6","v":"Ashford "}]
["Source: Experian Ltd"]
[null,"% of population",null,null,null,null,{"$f":"A91&\" - \"&A94","v":"Mosaic Profile - 2022 - Ashford "}]
[null,{"$f":"B6","v":"Ashford "},"Kent"]
["Group A",{"$f":"INDEX(Data!E1210:Z1210,Index!$B$1)","v":1.390893127249335E-4},{"$f":"Data!Q1210","v":6.0345101253365735E-3}]
["Group B",{"$f":"INDEX(Data!E1211:Z1211,Index!$B$1)","v":6.4641758088912843E-2},{"$f":"Data!Q1211","v":9.3765782509444257E-2}]
["Group C",{"$f":"INDEX(Data!E1212:Z1212,Index!$B$1)","v":0.19698523914668706},{"$f":"Data!Q1212","v":8.6726963668843637E-2}]
["Group D",{"$f":"INDEX(Data!E1213:Z1213,Index!$B$1)","v":8.9869082184397653E-2},{"$f":"Data!Q1213","v":6.53955042755269E-2}]
["Group E",{"$f":"INDEX(Data!E1214:Z1214,Index!$B$1)","v":7.6620825147347735E-2},{"$f":"Data!Q1214","v":0.11947089091995255}]
["Group F",{"$f":"INDEX(Data!E1215:Z1215,Index!$B$1)","v":6.2642349218491919E-2},{"$f":"Data!Q1215","v":7.4971068405544475E-2}]
["Group G",{"$f":"INDEX(Data!E1216:Z1216,Index!$B$1)","v":6.5319818488446896E-2},{"$f":"Data!Q1216","v":8.2742917170504499E-2}]
["Group H",{"$f":"INDEX(Data!E1217:Z1217,Index!$B$1)","v":0.1687848809917068},{"$f":"Data!Q1217","v":0.13026720960904109}]
["Group I",{"$f":"INDEX(Data!E1218:Z1218,Index!$B$1)","v":8.6322304709911854E-2},{"$f":"Data!Q1218","v":7.1279945282490681E-2}]
["Group J",{"$f":"INDEX(Data!E1219:Z1219,Index!$B$1)","v":3.6580489246657508E-2},{"$f":"Data!Q1219","v":3.9784189064001593E-2}]
["Group K",{"$f":"INDEX(Data!E1220:Z1220,Index!$B$1)","v":1.4187109897943216E-2},{"$f":"Data!Q1220","v":2.0517623020602758E-2}]
["Group L",{"$f":"INDEX(Data!E1221:Z1221,Index!$B$1)","v":5.3097345132743362E-2},{"$f":"Data!Q1221","v":6.3733200195089851E-2}]
["Group M",{"$f":"INDEX(Data!E1222:Z1222,Index!$B$1)","v":3.9692612618877895E-2},{"$f":"Data!Q1222","v":3.6639952439633257E-2}]
["Group N",{"$f":"INDEX(Data!E1223:Z1223,Index!$B$1)","v":1.4917328789749117E-2},{"$f":"Data!Q1223","v":3.1156657729858272E-2}]
["Group O",{"$f":"INDEX(Data!E1224:Z1224,Index!$B$1)","v":3.0199767025401187E-2},{"$f":"Data!Q1224","v":7.7513585584129616E-2}]
[]
[]
["Mosaic Group Definitions"]
[]
[null,"A"," - City Prosperity - High status city dwellers living in central locations and persuing careers with high rewards"]
[]
[null,"B"," - Prestige Positions - Established families in large detached homes Living upmarket lifestyles"]
[]
[null,"C"," - Country Living - Well off owners in rural locations enjoying the benefits of Country life"]
[]
[null,"D"," - Rural Reality - Householders living in inexpensive homes in village communities"]
[]
[null,"E"," - Senior Security - Elderly people with assets who are enjoying a comfortable retirement"]
[]
[null,"F"," - Suburban Stability - Mature suburban owners living in settled lives in mid-range housing"]
[]
[null,"G"," - Domestic Success - Thriving families who are busy bringing up children and following careers"]
[]
[null,"H"," - Aspiring Homemakers - Younger households settling down in housing priced within their means"]
[]
[null,"I"," - Family Basics - Families with limited resources who have to budget to make ends meet"]
[]
[null,"J"," - Transient Renters - Single people privately renting low cost homes for the short term"]
[]
[null,"K"," - Municipal Challenge – Urban renters of social housing facing an array of challenges"]
[]
[null,"L"," - Vintage Value – Elderly people reliant on support to meet financial or practical needs"]
[]
[null,"M"," - Modest Traditions - Mature homeowners of value homes enjoying stable lifestyles"]
[]
[null,"N"," - Urban Cohesion - Residents of settled urban communities with a strong sense of identity"]
[]
[null,"O"," - Rental Hubs - Educated young people privately renting in urban neighbourhoods"]
[]
[]
["Glossary"]
[]
["Population by age and gender"]
["All numbers are separately rounded to the nearest 100. Percentages are calculated using rounded data"]
["Source: 2023 Mid-year population estimates, Office for National Statistics (ONS)"]
[]
["Population Forecasts"]
["These forecasts, produced by Kent Analytics, take into account the additional housing required in Kent by the Revised National Planning Policy Framework."]
["Source: KCC Housing Led Forecasts 2021, Kent Analytics, Kent County Council"]
[]
["Mosaic Profile"]
["Source: Experian Ltd"]
["Mosaic is a classification system designed by Experian to profile the characteristics of the UK population. "]
["Each household in the UK is classified as belonging to one of 15 groups and 66 types.  "]
["These groups identify clusters of individuals and households that are as similar as possible to each other, and as different as possible to any other group. "]
["They describe the residents of a postcode in terms of their typical demographics, their behaviours, their lifestyle characteristics and their attitudes."]
["This helps to ensure that the right services are provided to the areas that need them."]

{"sheet":"Diversity","index":3,"n_rows":337,"n_cols":14,"rows_kept":337,"cut":false,"hidden":false,"merged":[]}
["Diversity"]
["Includes information about the age of the population, ethnicity, religion and country of birth, marital and civil partnership status"]
[null,null,null,null,null,null,null,null,null,null,null,null,null,{"$f":"Profile!E14","v":"Version date: 4 February 2025"}]
[null,null,null,null,null,null,"Select geography:",null,null,null,"Select topic:"]
[]
["District profile for",{"$f":"Index!C1","v":"Ashford "}]
[]
["Ethnicity"]
[]
[]
[]
[]
[]
[]
[]
[]
[]
[]
[]
[]
[]
[]
[]
[]
[]
[]
[]
[]
[]
[]
[]
[]
[{"$f":"\"Population by ethnicity, 2021 - \"&B35","v":"Population by ethnicity, 2021 - Ashford "}]
["Source: 2021 Census - Table RM032"]
[null,{"$f":"Index!$L$6","v":"Ashford "},null,"England"]
[null,"Number","%","Number","%"]
["All usual residents",{"$f":"INDEX(Census2021Data!D8:Y8,Index!$B$1)","v":132756},{"$f":"B37/B$37","v":1},{"$f":"Census2021Data!Y8","v":56490037},{"$f":"D37/D$37","v":1}]
["White British",{"$f":"INDEX(Census2021Data!D9:Y9,Index!$B$1)","v":109677},{"$f":"B38/B$37","v":0.8261547500677936},{"$f":"Census2021Data!Y9","v":41540789},{"$f":"D38/D$37","v":0.73536487504867454}]
["Ethnic minorities",{"$f":"INDEX(Census2021Data!D10:Y10,Index!$B$1)","v":23079},0.17384524993220646,{"$f":"Census2021Data!Y10","v":14949248},0.26463512495132546]
["Total Asian",{"$f":"INDEX(Census2021Data!D12:Y12,Index!$B$1)","v":7667},{"$f":"B40/$B$37","v":5.7752568622133842E-2},{"$f":"Census2021Data!Y12","v":5426388},9.60592042097618E-2]
["  Bangladeshi",{"$f":"INDEX(Census2021Data!D13:Y13,Index!$B$1)","v":335},2.5234264364699145E-3,{"$f":"Census2021Data!Y13","v":629567},1.1144743983793106E-2]
["  Chinese",{"$f":"INDEX(Census2021Data!D14:Y14,Index!$B$1)","v":579},4.3613847961674048E-3,{"$f":"Census2021Data!Y14","v":431162},7.6325317329850569E-3]
["  Indian",{"$f":"INDEX(Census2021Data!D15:Y15,Index!$B$1)","v":1719},1.2948567296393383E-2,{"$f":"Census2021Data!Y15","v":1843248},3.2629612191615309E-2]
["  Pakistani",{"$f":"INDEX(Census2021Data!D16:Y16,Index!$B$1)","v":404},3.0431769562204343E-3,{"$f":"Census2021Data!Y16","v":1570285},2.7797556585066496E-2]
["  Other Asian",{"$f":"INDEX(Census2021Data!D17:Y17,Index!$B$1)","v":4630},3.4876013136882704E-2,{"$f":"Census2021Data!Y17","v":952126},1.6854759716301831E-2]
["Total black Caribbean or African",{"$f":"INDEX(Census2021Data!D18:Y18,Index!$B$1)","v":3422},2.5776612733134471E-2,{"$f":"Census2021Data!Y18","v":2381724},4.2161841742111093E-2]
["  African",{"$f":"INDEX(Census2021Data!D19:Y19,Index!$B$1)","v":2504},1.8861671035584077E-2,{"$f":"Census2021Data!Y19","v":1468474},2.5995274175515233E-2]
["  Caribbean",{"$f":"INDEX(Census2021Data!D20:Y20,Index!$B$1)","v":573},4.3161890987977944E-3,{"$f":"Census2021Data!Y20","v":619418},1.0965083984632546E-2]
["  Other black",{"$f":"INDEX(Census2021Data!D21:Y21,Index!$B$1)","v":345},2.5987525987525989E-3,{"$f":"Census2021Data!Y21","v":293832},5.2014835819633115E-3]
["Total mixed or multiple ethnic groups",{"$f":"INDEX(Census2021Data!D22:Y22,Index!$B$1)","v":2881},2.1701467353641268E-2,{"$f":"Census2021Data!Y22","v":1669381},2.9551777422273596E-2]
["  White and Asian",{"$f":"INDEX(Census2021Data!D23:Y23,Index!$B$1)","v":900},6.7793546054415619E-3,{"$f":"Census2021Data!Y23","v":474193},8.3942766757260229E-3]
["  White and Black African",{"$f":"INDEX(Census2021Data!D24:Y24,Index!$B$1)","v":439},3.3068185242098288E-3,{"$f":"Census2021Data!Y24","v":241528},4.2755857993153727E-3]
["  White and Black Caribbean",{"$f":"INDEX(Census2021Data!D25:Y25,Index!$B$1)","v":775},5.8377775769080115E-3,{"$f":"Census2021Data!Y25","v":499310},8.8389037521784588E-3]
["  Other mixed or multiple ethnic groups",{"$f":"INDEX(Census2021Data!D26:Y26,Index!$B$1)","v":767},5.7775166470818646E-3,{"$f":"Census2021Data!Y26","v":454350},8.0430111950537397E-3]
["Total white",{"$f":"INDEX(Census2021Data!D27:Y27,Index!$B$1)","v":116904},0.88059296754948924,{"$f":"Census2021Data!Y27","v":45783395},0.81046849022244405]
["  English, Welsh, Scottish, Northern Irish or British",{"$f":"INDEX(Census2021Data!D28:Y28,Index!$B$1)","v":109677},0.8261547500677936,{"$f":"Census2021Data!Y28","v":41540789},0.73536487504867454]
["  Irish",{"$f":"INDEX(Census2021Data!D29:Y29,Index!$B$1)","v":777},5.8528428093645481E-3,{"$f":"Census2021Data!Y29","v":494251},8.7493481372653368E-3]
["  Gypsy or Irish Traveller",{"$f":"INDEX(Census2021Data!D30:Y30,Index!$B$1)","v":686},5.1673747325921239E-3,{"$f":"Census2021Data!Y30","v":64216},1.1367668249181709E-3]
["  Roma",{"$f":"INDEX(Census2021Data!D31:Y31,Index!$B$1)","v":81},6.1014191448974058E-4,{"$f":"Census2021Data!Y31","v":99137},1.7549466289073239E-3]
["  Other white",{"$f":"INDEX(Census2021Data!D32:Y32,Index!$B$1)","v":5683},4.2807858025249328E-2,{"$f":"Census2021Data!Y32","v":3585002},6.346255358267866E-2]
["Other ethnic group",{"$f":"INDEX(Census2021Data!D33:Y33,Index!$B$1)","v":1882},1.4176383741601134E-2,{"$f":"Census2021Data!Y33","v":1229149},2.1758686403409506E-2]
["  Arab",{"$f":"INDEX(Census2021Data!D34:Y34,Index!$B$1)","v":297},2.2371870197957153E-3,{"$f":"Census2021Data!Y34","v":320203},5.6683092631006774E-3]
["  Any other ethnic group",{"$f":"INDEX(Census2021Data!D35:Y35,Index!$B$1)","v":1585},1.1939196721805417E-2,{"$f":"Census2021Data!Y35","v":908946},1.609037714030883E-2]
[]
[]
[{"$f":"\"Ethnicity by age group , 2021 - \"&B35","v":"Ethnicity by age group , 2021 - Ashford "}]
["Source: 2021 Census Custom Table"]
[null,"0-15",null,"16-64",null,"65+"]
[null,"Number","%","Number","%","Number","%"]
["All usual residents",{"$f":"INDEX(Census2021Data!D37:Y37,Index!$B$1)","v":25977},{"$f":"B70/$B$70","v":1},{"$f":"INDEX(Census2021Data!D65:Y65,Index!$B$1)","v":80771},{"$f":"D70/$D$70","v":1},{"$f":"INDEX(Census2021Data!D93:Y93,Index!$B$1)","v":25997},{"$f":"F70/$F$70","v":1}]
["White British",{"$f":"INDEX(Census2021Data!D38:Y38,Index!$B$1)","v":20487},{"$f":"B71/$B$70","v":0.78865919852176924},{"$f":"INDEX(Census2021Data!D66:Y66,Index!$B$1)","v":65004},{"$f":"D71/$D$70","v":0.80479379975486254},{"$f":"INDEX(Census2021Data!D94:Y94,Index!$B$1)","v":24182},{"$f":"F71/$F$70","v":0.93018425202908028}]
["Ethnic minorities",{"$f":"INDEX(Census2021Data!D39:Y39,Index!$B$1)","v":5490},{"$f":"B72/$B$70","v":0.21134080147823076},{"$f":"INDEX(Census2021Data!D67:Y67,Index!$B$1)","v":15767},0.19520620024513749,{"$f":"INDEX(Census2021Data!D95:Y95,Index!$B$1)","v":1815},6.9815747970919717E-2]
["Total Asian",{"$f":"INDEX(Census2021Data!D41:Y41,Index!$B$1)","v":1487},5.7242945682719329E-2,{"$f":"INDEX(Census2021Data!D69:Y69,Index!$B$1)","v":5524},6.8390882866375305E-2,{"$f":"INDEX(Census2021Data!D97:Y97,Index!$B$1)","v":658},2.5310612763011116E-2]
["  Bangladeshi",{"$f":"INDEX(Census2021Data!D42:Y42,Index!$B$1)","v":102},3.9265504099780576E-3,{"$f":"INDEX(Census2021Data!D70:Y70,Index!$B$1)","v":226},2.7980339478278094E-3,{"$f":"INDEX(Census2021Data!D98:Y98,Index!$B$1)","v":10},3.8465976843481939E-4]
["  Chinese",{"$f":"INDEX(Census2021Data!D43:Y43,Index!$B$1)","v":112},4.3115063325249257E-3,{"$f":"INDEX(Census2021Data!D71:Y71,Index!$B$1)","v":395},4.890369068106127E-3,{"$f":"INDEX(Census2021Data!D99:Y99,Index!$B$1)","v":71},2.7310843558872176E-3]
["  Indian",{"$f":"INDEX(Census2021Data!D44:Y44,Index!$B$1)","v":459},1.766947684490126E-2,{"$f":"INDEX(Census2021Data!D72:Y72,Index!$B$1)","v":1170},1.44853969865422E-2,{"$f":"INDEX(Census2021Data!D100:Y100,Index!$B$1)","v":89},3.4234719390698926E-3]
["  Pakistani",{"$f":"INDEX(Census2021Data!D45:Y45,Index!$B$1)","v":121},4.6579666628171071E-3,{"$f":"INDEX(Census2021Data!D73:Y73,Index!$B$1)","v":256},3.1694543833801735E-3,{"$f":"INDEX(Census2021Data!D101:Y101,Index!$B$1)","v":27},1.0385813747740124E-3]
["  Other Asian",{"$f":"INDEX(Census2021Data!D46:Y46,Index!$B$1)","v":693},2.6677445432497979E-2,{"$f":"INDEX(Census2021Data!D74:Y74,Index!$B$1)","v":3477},4.3047628480518997E-2,{"$f":"INDEX(Census2021Data!D102:Y102,Index!$B$1)","v":461},1.7732815324845174E-2]
["Total black Caribbean or African",{"$f":"INDEX(Census2021Data!D47:Y47,Index!$B$1)","v":1003},3.8611079031450897E-2,{"$f":"INDEX(Census2021Data!D75:Y75,Index!$B$1)","v":2293},2.8388901957385696E-2,{"$f":"INDEX(Census2021Data!D103:Y103,Index!$B$1)","v":130},5.000576989652652E-3]
["  African",{"$f":"INDEX(Census2021Data!D48:Y48,Index!$B$1)","v":750},2.8871694191015127E-2,{"$f":"INDEX(Census2021Data!D76:Y76,Index!$B$1)","v":1702},2.1071919377004124E-2,{"$f":"INDEX(Census2021Data!D104:Y104,Index!$B$1)","v":53},2.0386967727045427E-3]
["  Caribbean",{"$f":"INDEX(Census2021Data!D49:Y49,Index!$B$1)","v":82},3.1566385648843205E-3,{"$f":"INDEX(Census2021Data!D77:Y77,Index!$B$1)","v":423},5.2370281412883338E-3,{"$f":"INDEX(Census2021Data!D105:Y105,Index!$B$1)","v":67},2.5772204485132902E-3]
["  Other black",{"$f":"INDEX(Census2021Data!D50:Y50,Index!$B$1)","v":171},6.5827462755514493E-3,{"$f":"INDEX(Census2021Data!D78:Y78,Index!$B$1)","v":168},2.0799544390932389E-3,{"$f":"INDEX(Census2021Data!D106:Y106,Index!$B$1)","v":10},3.8465976843481939E-4]
["Total mixed or multiple ethnic groups",{"$f":"INDEX(Census2021Data!D51:Y51,Index!$B$1)","v":1416},5.4509758632636567E-2,{"$f":"INDEX(Census2021Data!D79:Y79,Index!$B$1)","v":1376},1.7035817310668434E-2,{"$f":"INDEX(Census2021Data!D107:Y107,Index!$B$1)","v":82},3.1542101011655193E-3]
["  White and Asian",{"$f":"INDEX(Census2021Data!D52:Y52,Index!$B$1)","v":452},1.7400007699118449E-2,{"$f":"INDEX(Census2021Data!D80:Y80,Index!$B$1)","v":408},5.0513179235121518E-3,{"$f":"INDEX(Census2021Data!D108:Y108,Index!$B$1)","v":37},1.4232411432088317E-3]
["  White and Black African",{"$f":"INDEX(Census2021Data!D53:Y53,Index!$B$1)","v":278},1.0701774646802942E-2,{"$f":"INDEX(Census2021Data!D81:Y81,Index!$B$1)","v":151},1.8694828589468993E-3,{"$f":"INDEX(Census2021Data!D109:Y109,Index!$B$1)","v":7},2.6926183790437357E-4]
["  White and Black Caribbean",{"$f":"INDEX(Census2021Data!D54:Y54,Index!$B$1)","v":353},1.3588944065904454E-2,{"$f":"INDEX(Census2021Data!D82:Y82,Index!$B$1)","v":404},5.0017951987718365E-3,{"$f":"INDEX(Census2021Data!D110:Y110,Index!$B$1)","v":18},6.9238758318267493E-4]
["  Other mixed or multiple ethnic groups",{"$f":"INDEX(Census2021Data!D55:Y55,Index!$B$1)","v":333},1.2819032220810718E-2,{"$f":"INDEX(Census2021Data!D83:Y83,Index!$B$1)","v":413},5.1132213294375461E-3,{"$f":"INDEX(Census2021Data!D111:Y111,Index!$B$1)","v":20},7.6931953686963878E-4]
["Total white",{"$f":"INDEX(Census2021Data!D56:Y56,Index!$B$1)","v":21717},0.83600877699503406,{"$f":"INDEX(Census2021Data!D84:Y84,Index!$B$1)","v":70268},0.86996570551311736,{"$f":"INDEX(Census2021Data!D112:Y112,Index!$B$1)","v":24909},0.95814901719429169]
["  English, Welsh, Scottish, Northern Irish or British",{"$f":"INDEX(Census2021Data!D57:Y57,Index!$B$1)","v":20487},0.78865919852176924,{"$f":"INDEX(Census2021Data!D85:Y85,Index!$B$1)","v":65004},0.80479379975486254,{"$f":"INDEX(Census2021Data!D113:Y113,Index!$B$1)","v":24182},0.93018425202908028]
["  Irish",{"$f":"INDEX(Census2021Data!D58:Y58,Index!$B$1)","v":48},1.8477884282249682E-3,{"$f":"INDEX(Census2021Data!D86:Y86,Index!$B$1)","v":492},6.0912951430587715E-3,{"$f":"INDEX(Census2021Data!D114:Y114,Index!$B$1)","v":237},9.1164365119052199E-3]
["  Gypsy or Irish Traveller",{"$f":"INDEX(Census2021Data!D59:Y59,Index!$B$1)","v":257},9.8933672094545181E-3,{"$f":"INDEX(Census2021Data!D87:Y87,Index!$B$1)","v":375},4.6427554444045515E-3,{"$f":"INDEX(Census2021Data!D115:Y115,Index!$B$1)","v":54},2.0771627495480248E-3]
["  Roma",{"$f":"INDEX(Census2021Data!D60:Y60,Index!$B$1)","v":17},6.5442506832967626E-4,{"$f":"INDEX(Census2021Data!D88:Y88,Index!$B$1)","v":55},6.8093746517933413E-4,{"$f":"INDEX(Census2021Data!D116:Y116,Index!$B$1)","v":5},1.9232988421740969E-4]
["  Other white",{"$f":"INDEX(Census2021Data!D61:Y61,Index!$B$1)","v":908},3.4953997767255648E-2,{"$f":"INDEX(Census2021Data!D89:Y89,Index!$B$1)","v":4342},5.375691770561216E-2,{"$f":"INDEX(Census2021Data!D117:Y117,Index!$B$1)","v":431},1.6578836019540716E-2]
["Other ethnic group",{"$f":"INDEX(Census2021Data!D62:Y62,Index!$B$1)","v":354},1.3627439658159142E-2,{"$f":"INDEX(Census2021Data!D90:Y90,Index!$B$1)","v":1310},1.6218692352453233E-2,{"$f":"INDEX(Census2021Data!D118:Y118,Index!$B$1)","v":218},8.3855829518790625E-3]
["  Arab",{"$f":"INDEX(Census2021Data!D63:Y63,Index!$B$1)","v":88},3.3876121184124417E-3,{"$f":"INDEX(Census2021Data!D91:Y91,Index!$B$1)","v":193},2.3894714687202091E-3,{"$f":"INDEX(Census2021Data!D119:Y119,Index!$B$1)","v":17},6.5392160633919295E-4]
["  Any other ethnic group",{"$f":"INDEX(Census2021Data!D64:Y64,Index!$B$1)","v":266},1.0239827539746699E-2,{"$f":"INDEX(Census2021Data!D92:Y92,Index!$B$1)","v":1117},1.3829220883733022E-2,{"$f":"INDEX(Census2021Data!D120:Y120,Index!$B$1)","v":201},7.7316613455398701E-3]
[]
[{"$f":"\"Ethnicity by gender, 2021 - \"&B35","v":"Ethnicity by gender, 2021 - Ashford "}]
["Source: 2021 Census Table RM032"]
[null,"All People","Male",null,"Female"]
[null,"Number","Number","%","Number","%"]
["All usual residents",{"$f":"INDEX(Census2021Data!D8:Y8,Index!$B$1)","v":132756},{"$f":"INDEX(Census2021Data!D122:Y122,Index!$B$1)","v":64593},{"$f":"C102/$B102","v":0.48655428003254092},{"$f":"INDEX(Census2021Data!D151:Y151,Index!$B$1)","v":68163},{"$f":"E102/$B102","v":0.51344571996745914}]
["White British",{"$f":"INDEX(Census2021Data!D9:Y9,Index!$B$1)","v":109677},{"$f":"INDEX(Census2021Data!D123:Y123,Index!$B$1)","v":53498},{"$f":"C103/$B103","v":0.48777774738550472},{"$f":"INDEX(Census2021Data!D152:Y152,Index!$B$1)","v":56179},0.51222225261449528]
["Ethnic minorities",{"$f":"INDEX(Census2021Data!D10:Y10,Index!$B$1)","v":23079},{"$f":"INDEX(Census2021Data!D124:Y124,Index!$B$1)","v":11095},0.48074006672732789,{"$f":"INDEX(Census2021Data!D153:Y153,Index!$B$1)","v":11984},0.51925993327267217]
["Total Asian",{"$f":"INDEX(Census2021Data!D12:Y12,Index!$B$1)","v":7667},{"$f":"INDEX(Census2021Data!D126:Y126,Index!$B$1)","v":3754},0.48963088561366896,{"$f":"INDEX(Census2021Data!D155:Y155,Index!$B$1)","v":3913},0.51036911438633104,{"$f":"F105/$F$70","v":1.9631846535612997E-5}]
["  Bangladeshi",{"$f":"INDEX(Census2021Data!D13:Y13,Index!$B$1)","v":335},{"$f":"INDEX(Census2021Data!D127:Y127,Index!$B$1)","v":184},0.54925373134328359,{"$f":"INDEX(Census2021Data!D156:Y156,Index!$B$1)","v":151},0.45074626865671641,1.7338395532435142E-5]
["  Chinese",{"$f":"INDEX(Census2021Data!D14:Y14,Index!$B$1)","v":579},{"$f":"INDEX(Census2021Data!D128:Y128,Index!$B$1)","v":262},0.4525043177892919,{"$f":"INDEX(Census2021Data!D157:Y157,Index!$B$1)","v":317},0.5474956822107081,2.1059956233823446E-5]
["  Indian",{"$f":"INDEX(Census2021Data!D15:Y15,Index!$B$1)","v":1719},{"$f":"INDEX(Census2021Data!D129:Y129,Index!$B$1)","v":851},0.49505526468877253,{"$f":"INDEX(Census2021Data!D158:Y158,Index!$B$1)","v":868},0.50494473531122741,1.942319249571979E-5]
["  Pakistani",{"$f":"INDEX(Census2021Data!D16:Y16,Index!$B$1)","v":404},{"$f":"INDEX(Census2021Data!D130:Y130,Index!$B$1)","v":203},0.50247524752475248,{"$f":"INDEX(Census2021Data!D159:Y159,Index!$B$1)","v":201},0.49752475247524752,1.9137775607771954E-5]
["  Other Asian",{"$f":"INDEX(Census2021Data!D17:Y17,Index!$B$1)","v":4630},{"$f":"INDEX(Census2021Data!D131:Y131,Index!$B$1)","v":2254},0.48682505399568032,{"$f":"INDEX(Census2021Data!D160:Y160,Index!$B$1)","v":2376},0.51317494600431968,1.9739775589657255E-5]
["Total black Caribbean or African",{"$f":"INDEX(Census2021Data!D18:Y18,Index!$B$1)","v":3422},{"$f":"INDEX(Census2021Data!D132:Y132,Index!$B$1)","v":1661},0.4853886616014027,{"$f":"INDEX(Census2021Data!D161:Y161,Index!$B$1)","v":1761},0.5146113383985973,1.9795027826233691E-5]
["  African",{"$f":"INDEX(Census2021Data!D19:Y19,Index!$B$1)","v":2504},{"$f":"INDEX(Census2021Data!D133:Y133,Index!$B$1)","v":1199},0.4788338658146965,{"$f":"INDEX(Census2021Data!D162:Y162,Index!$B$1)","v":1305},0.52116613418530355,2.0047164449178887E-5]
["  Caribbean",{"$f":"INDEX(Census2021Data!D20:Y20,Index!$B$1)","v":573},{"$f":"INDEX(Census2021Data!D134:Y134,Index!$B$1)","v":279},0.48691099476439792,{"$f":"INDEX(Census2021Data!D163:Y163,Index!$B$1)","v":294},0.51308900523560208,1.9736469794037855E-5]
["  Other black",{"$f":"INDEX(Census2021Data!D21:Y21,Index!$B$1)","v":345},{"$f":"INDEX(Census2021Data!D135:Y135,Index!$B$1)","v":183},0.5304347826086957,{"$f":"INDEX(Census2021Data!D164:Y164,Index!$B$1)","v":162},0.46956521739130436,1.8062284778678477E-5]
["Total mixed or multiple ethnic groups",{"$f":"INDEX(Census2021Data!D22:Y22,Index!$B$1)","v":2881},{"$f":"INDEX(Census2021Data!D136:Y136,Index!$B$1)","v":1423},0.49392572023602915,{"$f":"INDEX(Census2021Data!D165:Y165,Index!$B$1)","v":1458},0.50607427976397079,1.9466641526482703E-5]
["  White and Asian",{"$f":"INDEX(Census2021Data!D23:Y23,Index!$B$1)","v":900},{"$f":"INDEX(Census2021Data!D137:Y137,Index!$B$1)","v":441},0.49,{"$f":"INDEX(Census2021Data!D166:Y166,Index!$B$1)","v":459},0.51,1.9617648190175791E-5]
["  White and Black African",{"$f":"INDEX(Census2021Data!D24:Y24,Index!$B$1)","v":439},{"$f":"INDEX(Census2021Data!D138:Y138,Index!$B$1)","v":215},0.48974943052391801,{"$f":"INDEX(Census2021Data!D167:Y167,Index!$B$1)","v":224},0.51025056947608205,1.9627286589840445E-5]
["  White and Black Caribbean",{"$f":"INDEX(Census2021Data!D25:Y25,Index!$B$1)","v":775},{"$f":"INDEX(Census2021Data!D139:Y139,Index!$B$1)","v":384},0.49548387096774194,{"$f":"INDEX(Census2021Data!D168:Y168,Index!$B$1)","v":391},0.50451612903225806,1.9406705736517986E-5]
["  Other mixed or multiple ethnic groups",{"$f":"INDEX(Census2021Data!D26:Y26,Index!$B$1)","v":767},{"$f":"INDEX(Census2021Data!D140:Y140,Index!$B$1)","v":383},0.49934810951760106,{"$f":"INDEX(Census2021Data!D169:Y169,Index!$B$1)","v":384},0.500651890482399,1.9258064025941417E-5]
["Total white",{"$f":"INDEX(Census2021Data!D27:Y27,Index!$B$1)","v":116904},{"$f":"INDEX(Census2021Data!D141:Y141,Index!$B$1)","v":56815},0.48599705741463078,{"$f":"INDEX(Census2021Data!D170:Y170,Index!$B$1)","v":60089},0.51400294258536916,1.9771625286970386E-5]
["  English, Welsh, Scottish, Northern Irish or British",{"$f":"INDEX(Census2021Data!D28:Y28,Index!$B$1)","v":109677},{"$f":"INDEX(Census2021Data!D142:Y142,Index!$B$1)","v":53498},0.48777774738550472,{"$f":"INDEX(Census2021Data!D171:Y171,Index!$B$1)","v":56179},0.51222225261449528,1.9703129307785333E-5]
["  Irish",{"$f":"INDEX(Census2021Data!D29:Y29,Index!$B$1)","v":777},{"$f":"INDEX(Census2021Data!D143:Y143,Index!$B$1)","v":356},0.45817245817245816,{"$f":"INDEX(Census2021Data!D172:Y172,Index!$B$1)","v":421},0.54182754182754178,2.0841925677098964E-5]
["  Gypsy or Irish Traveller",{"$f":"INDEX(Census2021Data!D30:Y30,Index!$B$1)","v":686},{"$f":"INDEX(Census2021Data!D144:Y144,Index!$B$1)","v":352},0.51311953352769679,{"$f":"INDEX(Census2021Data!D173:Y173,Index!$B$1)","v":334},0.48688046647230321,1.87283327488673E-5]
["  Roma",{"$f":"INDEX(Census2021Data!D31:Y31,Index!$B$1)","v":81},{"$f":"INDEX(Census2021Data!D145:Y145,Index!$B$1)","v":41},0.50617283950617287,{"$f":"INDEX(Census2021Data!D174:Y174,Index!$B$1)","v":40},0.49382716049382713,1.8995544120237996E-5]
["  Other white",{"$f":"INDEX(Census2021Data!D32:Y32,Index!$B$1)","v":5683},{"$f":"INDEX(Census2021Data!D146:Y146,Index!$B$1)","v":2568},0.4518740102058772,{"$f":"INDEX(Census2021Data!D175:Y175,Index!$B$1)","v":3115},0.54812598979412286,2.1084201630731348E-5]
["Other ethnic group",{"$f":"INDEX(Census2021Data!D33:Y33,Index!$B$1)","v":1882},{"$f":"INDEX(Census2021Data!D147:Y147,Index!$B$1)","v":940},0.49946865037194477,{"$f":"INDEX(Census2021Data!D176:Y176,Index!$B$1)","v":942},0.50053134962805523,1.9253427304229537E-5]
["  Arab",{"$f":"INDEX(Census2021Data!D34:Y34,Index!$B$1)","v":297},{"$f":"INDEX(Census2021Data!D148:Y148,Index!$B$1)","v":176},0.59259259259259256,{"$f":"INDEX(Census2021Data!D177:Y177,Index!$B$1)","v":121},0.40740740740740738,1.5671323899196346E-5]
["  Any other ethnic group",{"$f":"INDEX(Census2021Data!D35:Y35,Index!$B$1)","v":1585},{"$f":"INDEX(Census2021Data!D149:Y149,Index!$B$1)","v":764},0.48201892744479496,{"$f":"INDEX(Census2021Data!D178:Y178,Index!$B$1)","v":821},0.51798107255520509,1.9924647942270456E-5]
[]
["Country of birth (world area)"]
["Source: 2021 Census Table TS012"]
[null,{"$f":"B35","v":"Ashford "},null,"Kent",null,"South East",null,"England"]
["Area of birth","Number","% of all people","Number","% of all people","Number","% of all people","Number","% of all people"]
["ALL PEOPLE",{"$f":"INDEX(Census2021Data!D180:Y180,Index!$B$1)","v":132749},null,{"$f":"Census2021Data!P180","v":1576071},null,{"$f":"Census2021Data!X180","v":9278064},null,{"$f":"Census2021Data!Y180","v":56490051}]
["Europe",{"$f":"INDEX(Census2021Data!D181:Y181,Index!$B$1)","v":121312},{"$f":"B135/B$134","v":0.91384492538550199},{"$f":"Census2021Data!P181","v":1471322},{"$f":"D135/D$134","v":0.93353789264569931},{"$f":"Census2021Data!X181","v":8442793},{"$f":"F135/F$134","v":0.90997356776155025},{"$f":"Census2021Data!Y181","v":50730043},{"$f":"H135/H$134","v":0.89803500088891763}]
["Africa",{"$f":"INDEX(Census2021Data!D182:Y182,Index!$B$1)","v":2917},{"$f":"B136/B$134","v":2.197380017928572E-2},{"$f":"Census2021Data!P182","v":33544},{"$f":"D136/D$134","v":2.1283305130289181E-2},{"$f":"Census2021Data!X182","v":235197},2.5349792801601715E-2,{"$f":"Census2021Data!Y182","v":1558199},{"$f":"H136/H$134","v":2.7583600517549541E-2}]
["Middle East & Asia",{"$f":"INDEX(Census2021Data!D183:Y183,Index!$B$1)","v":7168},{"$f":"B137/B$134","v":5.399664027600961E-2},{"$f":"Census2021Data!P183","v":54007},3.4266857267217024E-2,{"$f":"Census2021Data!X183","v":450868},4.8595051726308416E-2,{"$f":"Census2021Data!Y183","v":3241701},{"$f":"H137/H$134","v":5.7385343836917409E-2}]
["The Americas & the Caribbean",{"$f":"INDEX(Census2021Data!D184:Y184,Index!$B$1)","v":972},{"$f":"B138/B$134","v":7.3220890552847858E-3},{"$f":"Census2021Data!P184","v":12508},7.9361906919167974E-3,{"$f":"Census2021Data!X184","v":113825},1.2268184397089738E-2,{"$f":"Census2021Data!Y184","v":790002},{"$f":"H138/H$134","v":1.3984798845375445E-2}]
["Antarctica & Oceania",{"$f":"INDEX(Census2021Data!D185:Y185,Index!$B$1)","v":380},{"$f":"B139/B$134","v":2.8625451039179205E-3},{"$f":"Census2021Data!P185","v":4689},2.9751197756953843E-3,{"$f":"Census2021Data!X185","v":35362},3.8113554724347664E-3,{"$f":"Census2021Data!Y185","v":170023},{"$f":"H139/H$134","v":3.0097866259671106E-3}]
[]
[]
[]
[]
[]
["Household Language"]
["Source: 2021 Census Table TS025"]
[null,{"$f":"B35","v":"Ashford "},null,"England"]
["Household Language","Number","% of all households","Number","% of all households"]
["Total households",{"$f":"INDEX(Census2021Data!D187:Y187,Index!$B$1)","v":53585},{"$f":"B149/B$149","v":1},{"$f":"Census2021Data!Y187","v":23436085},{"$f":"D149/D$149","v":1}]
["All adults (age 16+) in household have English as a main language",{"$f":"INDEX(Census2021Data!D188:Y188,Index!$B$1)","v":49710},{"$f":"B150/B$149","v":0.92768498647009423},{"$f":"Census2021Data!Y188","v":20920337},0.8926549378874501]
["At least one adult in household has English as a main language",{"$f":"INDEX(Census2021Data!D189:Y189,Index!$B$1)","v":1514},2.8254175608845758E-2,{"$f":"Census2021Data!Y189","v":1016273},4.3363599338370723E-2]
["No adults in household but at least one person aged 3 to 15 has English as a main language",{"$f":"INDEX(Census2021Data!D190:Y190,Index!$B$1)","v":607},1.1327796958103946E-2,{"$f":"Census2021Data!Y190","v":323408},1.3799574459642043E-2]
["No adults in household have English as a main language",{"$f":"INDEX(Census2021Data!D191:Y191,Index!$B$1)","v":1754},3.2733040962956053E-2,{"$f":"Census2021Data!Y191","v":1176067},5.0181888314537175E-2]
[]
[]
[]
[]
[]
[]
["Length of residence in the UK"]
["Source: 2021 Census Table TS016"]
[null,{"$f":"B35","v":"Ashford "},null,"England"]
["Length of residence in the UK","Number","% of all people","Number","% of all people"]
["All People",{"$f":"INDEX(Census2021Data!D193:Y193,Index!$B$1)","v":132747},{"$f":"B164/B$164","v":1},{"$f":"Census2021Data!Y193","v":56490048},{"$f":"D164/D$164","v":1}]
["Born in the UK",{"$f":"INDEX(Census2021Data!D194:Y194,Index!$B$1)","v":114942},{"$f":"B165/B$164","v":0.86587267508870258},{"$f":"Census2021Data!Y194","v":46687506},0.82647311611418706]
["Born outside the UK",{"$f":"B164-B165","v":17805},0.13412732491129742,{"$f":"D164-D165","v":9802542},0.17352688388581294]
["Resident in UK: Less than 2 years",{"$f":"INDEX(Census2021Data!D195:Y195,Index!$B$1)","v":1651},1.2437192554257346E-2,{"$f":"Census2021Data!Y195","v":1098454},1.9445088805730877E-2]
["Resident in UK: 2 years or more but less than 5 years",{"$f":"INDEX(Census2021Data!D196:Y196,Index!$B$1)","v":2269},1.709266499431249E-2,{"$f":"Census2021Data!Y196","v":1295390},2.2931295792136697E-2]
["Resident in UK: 5 years or more but less than 10 years",{"$f":"INDEX(Census2021Data!D197:Y197,Index!$B$1)","v":3101},2.3360226596457923E-2,{"$f":"Census2021Data!Y197","v":1699938},3.0092698805991455E-2]
["Resident in UK: 10 years or more",{"$f":"INDEX(Census2021Data!D198:Y198,Index!$B$1)","v":10784},8.1237240766269675E-2,{"$f":"Census2021Data!Y198","v":5708760},0.10105780048195392]
[]
[]
[]
["Religion"]
[]
[]
[]
[]
[]
[{"$f":"\"Population by religion, 2021 - \"&B35","v":"Population by religion, 2021 - Ashford "}]
["Source: 2011 Census - Table TS030"]
[null,{"$f":"B35","v":"Ashford "},null,"England"]
[null,"Number","%","Number","%"]
["ALL PEOPLE",{"$f":"INDEX(Census2021Data!D200:Y200,Index!$B$1)","v":131781},{"$f":"B184/B$184","v":1},{"$f":"Census2021Data!Y200","v":55504302},{"$f":"D184/D$184","v":1}]
["Christian",{"$f":"INDEX(Census2021Data!D201:Y201,Index!$B$1)","v":62762},0.47625985536609983,{"$f":"Census2021Data!Y201","v":25797155},0.46477757706060335]
["Buddhist",{"$f":"INDEX(Census2021Data!D202:Y202,Index!$B$1)","v":1336},1.0138032038002443E-2,{"$f":"Census2021Data!Y202","v":254077},4.5776091373962331E-3]
["Hindu",{"$f":"INDEX(Census2021Data!D203:Y203,Index!$B$1)","v":2717},2.0617539706027425E-2,{"$f":"Census2021Data!Y203","v":1003747},1.8084129767094451E-2]
["Jewish",{"$f":"INDEX(Census2021Data!D204:Y204,Index!$B$1)","v":142},1.0775453214044513E-3,{"$f":"Census2021Data!Y204","v":264258},4.7610363607491178E-3]
["Muslim",{"$f":"INDEX(Census2021Data!D205:Y205,Index!$B$1)","v":2083},1.5806527496376566E-2,{"$f":"Census2021Data!Y205","v":3760190},6.7745919946889888E-2]
["Sikh",{"$f":"INDEX(Census2021Data!D206:Y206,Index!$B$1)","v":145},1.1003103634059537E-3,{"$f":"Census2021Data!Y206","v":515810},9.2931535288922288E-3]
["All other religions",{"$f":"INDEX(Census2021Data!D207:Y207,Index!$B$1)","v":1531},1.1617759768100106E-2,{"$f":"Census2021Data!Y207","v":324696},5.8499249301432526E-3]
["No religion",{"$f":"INDEX(Census2021Data!D208:Y208,Index!$B$1)","v":53717},0.40762325373156982,{"$f":"Census2021Data!Y208","v":20358907},0.36679872129551327]
["Religion not stated",{"$f":"INDEX(Census2021Data!D209:Y209,Index!$B$1)","v":7348},5.5759176209013439E-2,{"$f":"Census2021Data!Y209","v":3225462},5.8111927972718226E-2]
[]
[]
[]
[{"$f":"\"Religion by age group, 2021 - \"&B35","v":"Religion by age group, 2021 - Ashford "}]
["Source: 2021 Census Custom Table"]
[null,"0-15",null,"16-64",null,"65+"]
[null,"Number","%","Number","%","Number","%"]
["ALL PEOPLE",{"$f":"INDEX(Census2021Data!D210:Y210,Index!$B$1)","v":25979},{"$f":"B201/$B$201","v":1},{"$f":"INDEX(Census2021Data!D220:Y220,Index!$B$1)","v":80773},{"$f":"D201/$D$201","v":1},{"$f":"INDEX(Census2021Data!D230:Y230,Index!$B$1)","v":25998},{"$f":"F201/$F$201","v":1}]
["Christian",{"$f":"INDEX(Census2021Data!D211:Y211,Index!$B$1)","v":9376},{"$f":"B202/$B$201","v":0.36090688633126755},{"$f":"INDEX(Census2021Data!D221:Y221,Index!$B$1)","v":34730},{"$f":"D202/$D$201","v":0.42997041090463395},{"$f":"INDEX(Census2021Data!D231:Y231,Index!$B$1)","v":19091},{"$f":"F202/$F$201","v":0.73432571736287411}]
["Buddhist",{"$f":"INDEX(Census2021Data!D212:Y212,Index!$B$1)","v":177},6.8131952731052001E-3,{"$f":"INDEX(Census2021Data!D222:Y222,Index!$B$1)","v":999},1.2367994255506172E-2,{"$f":"INDEX(Census2021Data!D232:Y232,Index!$B$1)","v":164},6.3081775521193935E-3]
["Hindu",{"$f":"INDEX(Census2021Data!D213:Y213,Index!$B$1)","v":493},1.8976865930174371E-2,{"$f":"INDEX(Census2021Data!D223:Y223,Index!$B$1)","v":1972},2.4414098770628799E-2,{"$f":"INDEX(Census2021Data!D233:Y233,Index!$B$1)","v":252},9.6930533117932146E-3]
["Jewish",{"$f":"INDEX(Census2021Data!D214:Y214,Index!$B$1)","v":14},5.3889680126255823E-4,{"$f":"INDEX(Census2021Data!D224:Y224,Index!$B$1)","v":87},1.0770925928218589E-3,{"$f":"INDEX(Census2021Data!D234:Y234,Index!$B$1)","v":42},1.6155088852988692E-3]
["Muslim",{"$f":"INDEX(Census2021Data!D215:Y215,Index!$B$1)","v":682},2.6251972747218907E-2,{"$f":"INDEX(Census2021Data!D225:Y225,Index!$B$1)","v":1350},1.6713505750684015E-2,{"$f":"INDEX(Census2021Data!D235:Y235,Index!$B$1)","v":78},3.0002307869836141E-3]
["Sikh",{"$f":"INDEX(Census2021Data!D216:Y216,Index!$B$1)","v":22},8.4683783055544866E-4,{"$f":"INDEX(Census2021Data!D226:Y226,Index!$B$1)","v":109},1.3494608346848575E-3,{"$f":"INDEX(Census2021Data!D236:Y236,Index!$B$1)","v":18},6.9236095084237244E-4]
["All other religions",{"$f":"INDEX(Census2021Data!D217:Y217,Index!$B$1)","v":171},6.5822395011355325E-3,{"$f":"INDEX(Census2021Data!D227:Y227,Index!$B$1)","v":1126},1.3940301833533482E-2,{"$f":"INDEX(Census2021Data!D237:Y237,Index!$B$1)","v":236},9.0776213554888841E-3]
["No religion",{"$f":"INDEX(Census2021Data!D218:Y218,Index!$B$1)","v":13368},0.51456945994841985,{"$f":"INDEX(Census2021Data!D228:Y228,Index!$B$1)","v":35913},0.44461639409208525,{"$f":"INDEX(Census2021Data!D238:Y238,Index!$B$1)","v":4722},0.18162935610431571]
["Religion not stated",{"$f":"INDEX(Census2021Data!D219:Y219,Index!$B$1)","v":1676},6.4513645636860545E-2,{"$f":"INDEX(Census2021Data!D229:Y229,Index!$B$1)","v":4487},5.5550740965421612E-2,{"$f":"INDEX(Census2021Data!D239:Y239,Index!$B$1)","v":1395},5.3657973690283869E-2]
[]
[]
[]
[]
[]
[]
[]
[]
[]
[]
[]
[]
[]
[{"$f":"\"Religion by sex 2021 - \"&B6","v":"Religion by sex 2021 - Ashford "}]
["Source: 2021 Census Custom Table"]
[null,"Male",null,"Female"]
[null,"Number","%","Number","%"]
["ALL PEOPLE",{"$f":"INDEX(Census2021Data!D240:Y240,Index!$B$1)","v":64166},{"$f":"B228/$B184","v":0.48691389502280297},{"$f":"INDEX(Census2021Data!D250:Y250,Index!$B$1)","v":67615},{"$f":"D228/$B184","v":0.51308610497719698}]
["Christian",{"$f":"INDEX(Census2021Data!D241:Y241,Index!$B$1)","v":28444},0.45320416812721076,{"$f":"INDEX(Census2021Data!D251:Y251,Index!$B$1)","v":34318},0.54679583187278924]
["Buddhist",{"$f":"INDEX(Census2021Data!D242:Y242,Index!$B$1)","v":615},0.46032934131736525,{"$f":"INDEX(Census2021Data!D252:Y252,Index!$B$1)","v":721},0.53967065868263475]
["Hindu",{"$f":"INDEX(Census2021Data!D243:Y243,Index!$B$1)","v":1321},0.48619801251380201,{"$f":"INDEX(Census2021Data!D253:Y253,Index!$B$1)","v":1396},0.51380198748619799]
["Jewish",{"$f":"INDEX(Census2021Data!D244:Y244,Index!$B$1)","v":70},0.49295774647887325,{"$f":"INDEX(Census2021Data!D254:Y254,Index!$B$1)","v":72},0.50704225352112675]
["Muslim",{"$f":"INDEX(Census2021Data!D245:Y245,Index!$B$1)","v":1129},0.54200672107537207,{"$f":"INDEX(Census2021Data!D255:Y255,Index!$B$1)","v":954},0.45799327892462793]
["Sikh",{"$f":"INDEX(Census2021Data!D246:Y246,Index!$B$1)","v":78},0.53793103448275859,{"$f":"INDEX(Census2021Data!D256:Y256,Index!$B$1)","v":67},0.46206896551724136]
["All other religions",{"$f":"INDEX(Census2021Data!D247:Y247,Index!$B$1)","v":730},0.47681254082299152,{"$f":"INDEX(Census2021Data!D257:Y257,Index!$B$1)","v":801},0.52318745917700848]
["No religion",{"$f":"INDEX(Census2021Data!D248:Y248,Index!$B$1)","v":28136},0.5237820429286818,{"$f":"INDEX(Census2021Data!D258:Y258,Index!$B$1)","v":25581},0.4762179570713182]
["Religion not stated",{"$f":"INDEX(Census2021Data!D249:Y249,Index!$B$1)","v":3643},0.49578116494284158,{"$f":"INDEX(Census2021Data!D259:Y259,Index!$B$1)","v":3705},0.50421883505715837]
[]
[]
[]
[]
[]
["Marital & Civil Partnership Status"]
["Source: 2021 Census Table TS016"]
[null,{"$f":"B6","v":"Ashford "},null,"England"]
[null,"Number","% of all people 16+","Number","% of all people 16+"]
["All people aged 16 and over",{"$f":"INDEX(Census2021Data!D261:Y261,Index!$B$1)","v":106772},{"$f":"B247/B$247","v":1},{"$f":"Census2021Data!Y261","v":46006957},{"$f":"D247/D$247","v":1}]
["Single (never married or never registered a same-sex civil partnership)",{"$f":"INDEX(Census2021Data!D262:Y262,Index!$B$1)","v":35293},{"$f":"B248/B$247","v":0.33054546135691004},{"$f":"Census2021Data!Y262","v":17450122},{"$f":"D248/D$247","v":0.37929311430008295}]
["Married or in a registered civil partnership",{"$f":"INDEX(Census2021Data!D263:Y263,Index!$B$1)","v":52688},0.49346270557824151,{"$f":"Census2021Data!Y263","v":20561642},0.44692462489966461]
[" Total Married",{"$f":"INDEX(Census2021Data!D264:Y264,Index!$B$1)","v":52498},0.49168321282733302,{"$f":"Census2021Data!Y264","v":20464074},0.44480390215766713]
["  Married: Opposite sex",{"$f":"INDEX(Census2021Data!D265:Y265,Index!$B$1)","v":52194},0.48883602442587942,{"$f":"Census2021Data!Y265","v":20336565},0.44203238653667098]
["  Married: Same sex",{"$f":"INDEX(Census2021Data!D266:Y266,Index!$B$1)","v":304},2.8471884014535645E-3,{"$f":"Census2021Data!Y266","v":127509},2.7715156209961898E-3]
[" Total in a registered civil partnership",{"$f":"INDEX(Census2021Data!D267:Y267,Index!$B$1)","v":190},1.7794927509084779E-3,{"$f":"Census2021Data!Y267","v":97568},2.1207227419974767E-3]
["  In a registered civil partnership: Opposite sex",{"$f":"INDEX(Census2021Data!D268:Y268,Index!$B$1)","v":51},4.7765331734911777E-4,{"$f":"Census2021Data!Y268","v":34067},7.4047496773151067E-4]
["  In a registered civil partnership: Same sex",{"$f":"INDEX(Census2021Data!D269:Y269,Index!$B$1)","v":139},1.3018394335593602E-3,{"$f":"Census2021Data!Y269","v":63501},1.3802477742659658E-3]
["Total Separated, but still legally married or still legally in a civil partnership",{"$f":"INDEX(Census2021Data!D270:Y270,Index!$B$1)","v":2292},2.1466302026748586E-2,{"$f":"Census2021Data!Y270","v":1033518},2.2464385114625163E-2]
["  Separated, but still married",{"$f":"INDEX(Census2021Data!D271:Y271,Index!$B$1)","v":2284},2.139137601618402E-2,{"$f":"Census2021Data!Y271","v":1025977},2.2300475121621279E-2]
["  Separated, but still in a registered civil partnership",{"$f":"INDEX(Census2021Data!D272:Y272,Index!$B$1)","v":8},7.4926010564567484E-5,{"$f":"Census2021Data!Y272","v":7541},1.6390999300388418E-4]
["Total Divorced or civil partnership dissolved",{"$f":"INDEX(Census2021Data!D273:Y273,Index!$B$1)","v":10033},{"$f":"B259/B$247","v":9.3966582999288201E-2},{"$f":"Census2021Data!Y273","v":4171639},{"$f":"D259/D$247","v":9.0674090877168864E-2}]
["  Divorced",{"$f":"INDEX(Census2021Data!D274:Y274,Index!$B$1)","v":10008},9.373243921627393E-2,{"$f":"Census2021Data!Y274","v":4160359},9.0428910566721463E-2]
["  Formerly in a civil partnership now legally dissolved",{"$f":"INDEX(Census2021Data!D275:Y275,Index!$B$1)","v":25},2.341437830142734E-4,{"$f":"Census2021Data!Y275","v":11280},2.4518031044739604E-4]
["Total Widowed or surviving civil partnership partner",{"$f":"INDEX(Census2021Data!D276:Y276,Index!$B$1)","v":6466},6.055894803881167E-2,{"$f":"Census2021Data!Y276","v":2790036},6.0643784808458424E-2]
["  Widowed",{"$f":"INDEX(Census2021Data!D277:Y277,Index!$B$1)","v":6458},6.0484022028247104E-2,{"$f":"Census2021Data!Y277","v":2785998},6.0556015473920609E-2]
["  Surviving partner from civil partnership",{"$f":"INDEX(Census2021Data!D278:Y278,Index!$B$1)","v":8},7.4926010564567484E-5,{"$f":"Census2021Data!Y278","v":4038},8.7769334537817837E-5]
[]
[]
[]
[]
[]
[]
["Living Arrangements - people aged 16+"]
["Source: 2021 Census Table TS010"]
[null,{"$f":"B6","v":"Ashford "},null,"England"]
[null,"Number","% of all people 16+","Number","% of all people 16+"]
["All household residents aged 16+",{"$f":"INDEX(Census2021Data!D280:Y280,Index!$B$1)","v":105870},null,{"$f":"Census2021Data!Y280","v":45055453}]
["Living in a couple",{"$f":"INDEX(Census2021Data!D281:Y281,Index!$B$1)","v":66507},{"$f":"B276/B$275","v":0.62819495607820908},{"$f":"Census2021Data!Y281","v":26061709},{"$f":"D276/D$275","v":0.57843628827791393}]
["Married or in a civil partnership",{"$f":"INDEX(Census2021Data!D282:Y282,Index!$B$1)","v":50842},0.48023047133276658,{"$f":"Census2021Data!Y282","v":19678295},0.43675723335863476]
["  Opposite-sex couple",{"$f":"INDEX(Census2021Data!D283:Y283,Index!$B$1)","v":50491},0.47691508453764048,{"$f":"Census2021Data!Y283","v":19527902},0.43341928001478536]
["  Same-sex couple",{"$f":"INDEX(Census2021Data!D284:Y284,Index!$B$1)","v":351},3.3153867951260982E-3,{"$f":"Census2021Data!Y284","v":150393},3.3379533438494115E-3]
["Separated, but still married or in a civil partnership",{"$f":"INDEX(Census2021Data!D285:Y285,Index!$B$1)","v":119},1.1240200245584207E-3,{"$f":"Census2021Data!Y285","v":45382},1.0072476687782942E-3]
["Cohabiting",{"$f":"INDEX(Census2021Data!D286:Y286,Index!$B$1)","v":15546},0.14684046472088411,{"$f":"Census2021Data!Y286","v":6338032},0.14067180725050085]
["  Opposite-sex couple",{"$f":"INDEX(Census2021Data!D287:Y287,Index!$B$1)","v":14890},0.1406441862661755,{"$f":"Census2021Data!Y287","v":6037611},0.13400400169098289]
["  Same-sex couple",{"$f":"INDEX(Census2021Data!D288:Y288,Index!$B$1)","v":656},6.1962784547086045E-3,{"$f":"Census2021Data!Y288","v":300421},6.6678055595179569E-3]
["Not living in a couple",{"$f":"INDEX(Census2021Data!D289:Y289,Index!$B$1)","v":39363},0.37180504392179087,{"$f":"Census2021Data!Y289","v":18993744},0.42156371172208612]
["Single (never married and never registered a same-sex civil partnership)",{"$f":"INDEX(Census2021Data!D290:Y290,Index!$B$1)","v":23850},0.22527628223292717,{"$f":"Census2021Data!Y290","v":12033302},0.26707759435911121]
["Married or in a registered civil partnership",{"$f":"INDEX(Census2021Data!D291:Y291,Index!$B$1)","v":1359},1.2836497591385661E-2,{"$f":"Census2021Data!Y291","v":629736},1.3976909742756331E-2]
["Separated (including those who are married and those who are in civil partnerships)",{"$f":"INDEX(Census2021Data!D292:Y292,Index!$B$1)","v":1702},1.6076320015112874E-2,{"$f":"Census2021Data!Y292","v":841329},1.8673189236383884E-2]
["Divorced or formerly in a civil partnership which is now legally dissolved",{"$f":"INDEX(Census2021Data!D293:Y293,Index!$B$1)","v":6630},6.2623972796826299E-2,{"$f":"Census2021Data!Y293","v":2976317},6.6058974038059284E-2]
["Widowed or surviving partner from a civil partnership",{"$f":"INDEX(Census2021Data!D294:Y294,Index!$B$1)","v":5822},5.4991971285538871E-2,{"$f":"Census2021Data!Y294","v":2513060},5.5777044345775413E-2]
[]
[]
["Glossary"]
[]
["Population by Ethnicity"]
["Ethnic population totals are taken from the 2021 Census which was released in 2023"]
["This provides a count of the number of people by ethnicity as at the time of the 2021 Census (21st March 2021)"]
["The 2011 Census used 18 categories of ethnic group, which were then grouped into five broad categories.  The more recent 2021 Census used 19 categories "]
["of ethnic group but which are also grouped into five broad categories. The two new category is 'Roma'."]
["Source: 2011 Census - Table RM032"]
[]
["Population by Ethnicity (age and gender)"]
["Ethnic population by age and gender totals are taken from the 2011 Census which was released in 2023"]
["This provides an age profile by ethnicity as at the time of the 2011 Census (21st March 2021)"]
["Source: 2011 Census - Table RM032"]
[]
["Country of birth"]
["Country of birth is the country in which the person was born."]
["Source: Office for National Statistics 2021 Census:Table TS012"]
[]
["Household Language"]
["Household language classifies households by the combination of adults and children within a household that have English (English, or Welsh in Wales)"]
[" as a main language. "]
["Main language is defined as the language that is a person's first or preferred language."]
["Source: Office for National Statistics 2021 Census:Table TS025"]
[]
["Length of Residence in the UK"]
["The length of residence in the UK is derived from the date that a person last arrived to live in the UK. Short visits away from the UK are not counted in determining the date that a person "]
["last arrived."]
["Length of residence is only applicable to usual residents who were not born in the UK. It does not include usual residents born in the UK who have emigrated and since returned"]
[" - these are recorded in the category 'Born in the UK'."]
["Source: Office for National Statistics 2021 Census:Table TS016"]
[]
["Population by Religion"]
["This shows the population by their stated religion"]
["Source: Office for National Statistics 2021 Census:Table TS030"]
[]
["Population by Religion (age and gender)"]
["This shows the population by their stated religion by age and gender"]
["Source: Office for National Statistics 2021 Census: Custom Table"]
[]
["Marital and Civil Partnership Status"]
["Marital and civil partnership status classifies an individual according to their legal marital or registered same-sex civil partnership status as at census day, 27 March 2011."]
["Source: Office for National Statistics 2021 Census:Table TS002"]
[]
["Same Sex Households"]
["The same-sex couple consists of two people of the same sex identifying the other as partner."]
["Source: Office for National Statistics 2021 Census: Custom Table TS010"]

{"sheet":"Health","index":4,"n_rows":405,"n_cols":14,"rows_kept":405,"cut":false,"hidden":false,"merged":[]}
["Health"]
["Includes information about the numbers of births & deaths, life expectancy, people with limiting long term illness,"]
["health related benefits claimants and people providing unpaid care.",null,null,null,null,null,null,null,null,null,null,null,null,{"$f":"Profile!E14","v":"Version date: 4 February 2025"}]
[null,null,null,null,null,null,"Select geography:",null,null,null,"Select topic:"]
[]
["District profile for",{"$f":"Index!C1","v":"Ashford "}]
[]
[{"$f":"\"Births & deaths - \"&B6&\" area - \"&Data!C260","v":"Births & deaths - Ashford  area - 2023"}]
["Source: Vital Statistics, Office for National Statistics",null,null,null,null,null,null,null,null,"Births","deaths","natural change"]
[null,null,null,null,null,null,null,null,{"$f":"Data!C245","v":2008},{"$f":"INDEX(Data!E245:V245,Index!$B$1)","v":1528},{"$f":"INDEX(Data!E265:V265,Index!$B$1)","v":904},{"$f":"J10-K10","v":624}]
[{"$f":"Data!C260","v":2023},{"$f":"Index!$M$6","v":"Ashford "},"Kent","South East","England",null,null,null,{"$f":"Data!C246","v":2009},{"$f":"INDEX(Data!E246:V246,Index!$B$1)","v":1471},{"$f":"INDEX(Data!E266:V266,Index!$B$1)","v":963},{"$f":"J11-K11","v":508}]
["Total live births",{"$f":"INDEX(Data!E260:Z260,Index!$B$1)","v":1364},{"$f":"Data!Q260","v":15429},{"$f":"Data!Y260","v":88164},{"$f":"Data!Z260","v":591072},null,null,null,{"$f":"Data!C247","v":2010},{"$f":"INDEX(Data!E247:V247,Index!$B$1)","v":1495},{"$f":"INDEX(Data!E267:V267,Index!$B$1)","v":948},547]
["Total deaths",{"$f":"INDEX(Data!E280:Z280,Index!$B$1)","v":1285},{"$f":"Data!Q280","v":16264},{"$f":"Data!Y280","v":89299},{"$f":"Data!Z280","v":581363},null,null,null,{"$f":"Data!C248","v":2011},{"$f":"INDEX(Data!E248:V248,Index!$B$1)","v":1449},{"$f":"INDEX(Data!E268:V268,Index!$B$1)","v":888},561]
["Natural change",{"$f":"B12-B13","v":79},{"$f":"C12-C13","v":-835},{"$f":"D12-D13","v":-1135},{"$f":"E12-E13","v":9709},null,null,null,{"$f":"Data!C249","v":2012},{"$f":"INDEX(Data!E249:V249,Index!$B$1)","v":1597},{"$f":"INDEX(Data!E269:V269,Index!$B$1)","v":947},650]
[null,null,null,null,null,null,null,null,{"$f":"Data!C250","v":2013},{"$f":"INDEX(Data!E250:V250,Index!$B$1)","v":1452},{"$f":"INDEX(Data!E270:V270,Index!$B$1)","v":1018},434]
[null,null,null,null,null,null,null,null,{"$f":"Data!C251","v":2014},{"$f":"INDEX(Data!E251:V251,Index!$B$1)","v":1474},{"$f":"INDEX(Data!E271:V271,Index!$B$1)","v":1087},387]
[{"$f":"\"Births & deaths by sex - \"&B6&\" area - \"&Data!E234","v":"Births & deaths by sex - Ashford  area - 2017"},null,null,null,null,null,null,null,{"$f":"Data!C252","v":2015},{"$f":"INDEX(Data!E252:V252,Index!$B$1)","v":1523},{"$f":"INDEX(Data!E272:V272,Index!$B$1)","v":1075},448]
["Source: Vital Statistics, Office for National Statistics",null,null,null,null,null,null,null,{"$f":"Data!C253","v":2016},{"$f":"INDEX(Data!E253:V253,Index!$B$1)","v":1565},{"$f":"INDEX(Data!E273:V273,Index!$B$1)","v":1077},488]
[null,null,null,null,null,null,null,null,{"$f":"Data!C254","v":2017},{"$f":"INDEX(Data!E254:V254,Index!$B$1)","v":1571},{"$f":"INDEX(Data!E274:V274,Index!$B$1)","v":1078},493]
["Total live births",{"$f":"SUM(B23,B26)","v":1571},null,null,null,null,null,null,{"$f":"Data!C255","v":2018},{"$f":"INDEX(Data!E255:V255,Index!$B$1)","v":1460},{"$f":"INDEX(Data!E275:V275,Index!$B$1)","v":1179},281]
["Total deaths",{"$f":"SUM(B24,B27)*-1","v":1078},null,null,null,null,null,null,{"$f":"Data!C256","v":2019},{"$f":"INDEX(Data!E256:V256,Index!$B$1)","v":1378},{"$f":"INDEX(Data!E276:V276,Index!$B$1)","v":1162},216]
["Natural change",{"$f":"IF(ISERROR((B20-B21)),\"n.a.\",(B20-B21))","v":493},null,"`",null,null,null,null,{"$f":"Data!C257","v":2020},{"$f":"INDEX(Data!E257:V257,Index!$B$1)","v":1423},{"$f":"INDEX(Data!E277:V277,Index!$B$1)","v":1334},89]
["Male live births",{"$f":"IF(ISERROR((INDEX(Data!E237:Z237,Index!B1))),\"n.a.\",(INDEX(Data!E237:Z237,Index!B1)))","v":814},null,null,null,null,null,null,{"$f":"Data!C258","v":2021},{"$f":"INDEX(Data!E258:V258,Index!$B$1)","v":1415},{"$f":"INDEX(Data!E278:V278,Index!$B$1)","v":1252},163]
["Male deaths",{"$f":"IF(ISERROR((INDEX(Data!E238:Z238,Index!B1))),\"n.a.\",(INDEX(Data!E238:Z238,Index!B1)))","v":-519},null,null,null,null,null,null,{"$f":"Data!C259","v":2022},{"$f":"INDEX(Data!E259:V259,Index!$B$1)","v":1441},{"$f":"INDEX(Data!E279:V279,Index!$B$1)","v":1224},217]
["Male natural change",{"$f":"IF(ISERROR((B23+B24)),\"n.a.\",(B23+B24))","v":295},null,null,null,null,null,null,{"$f":"Data!C260","v":2023},{"$f":"INDEX(Data!E260:V260,Index!$B$1)","v":1364},{"$f":"INDEX(Data!E280:V280,Index!$B$1)","v":1285},79]
["Female live births",{"$f":"IF(ISERROR((INDEX(Data!E239:Z239,Index!B1))),\"n.a.\",(INDEX(Data!E239:Z239,Index!B1)))","v":757}]
["Female deaths",{"$f":"IF(ISERROR((INDEX(Data!E240:Z240,Index!B1))),\"n.a.\",(INDEX(Data!E240:Z240,Index!B1)))","v":-559}]
["Female natural change",{"$f":"IF(ISERROR((B26+B27)),\"n.a.\",(B26+B27))","v":198}]
[]
[]
[]
[]
[]
[]
[{"$f":"\"Deaths by cause - \"&B6&\" - \"&Data!E281","v":"Deaths by cause - Ashford  - 2023"}]
["Source: ONS - Mortality Statistics"]
["Note: Rates are Directly Age Standardised Rates per 100,000."]
[]
["All age all causes mortality","Rate",{"$f":"INDEX(Data!E282:Z282,Index!$B$1)","v":929}]
["All age cancer mortality","Rate",{"$f":"INDEX(Data!E283:Z283,Index!$B$1)","v":235.19}]
["All age cirulatory mortality","Rate",{"$f":"INDEX(Data!E284:Z284,Index!$B$1)","v":238.57}]
["All age respiratory mortality","Rate",{"$f":"INDEX(Data!E285:Z285,Index!$B$1)","v":112.45}]
[]
[]
[]
[]
[]
[]
["All age all causes mortality (per 100,000 population)",{"$f":"$B$6","v":"Ashford "},"Kent","England & Wales"]
[{"$f":"Data!C286","v":2015},{"$f":"INDEX(Data!E286:Z286,Index!$B$1)","v":910.26},{"$f":"Data!Q286","v":966.08},{"$f":"Data!Z286","v":991.1}]
[{"$f":"Data!C287","v":2016},{"$f":"INDEX(Data!E287:Z287,Index!$B$1)","v":891.67},{"$f":"Data!Q287","v":943.95},{"$f":"Data!Z287","v":964.78}]
[{"$f":"Data!C288","v":2017},{"$f":"INDEX(Data!E288:Z288,Index!$B$1)","v":868.8},{"$f":"Data!Q288","v":937.82},{"$f":"Data!Z288","v":963.27}]
[{"$f":"Data!C289","v":2018},{"$f":"INDEX(Data!E289:Z289,Index!$B$1)","v":928.31},{"$f":"Data!Q289","v":956.65},{"$f":"Data!Z289","v":963.06}]
[{"$f":"Data!C290","v":2019},{"$f":"INDEX(Data!E290:Z290,Index!$B$1)","v":908.57},{"$f":"Data!Q290","v":911.38},{"$f":"Data!Z290","v":922.71}]
[{"$f":"Data!C291","v":2020},{"$f":"INDEX(Data!E291:Z291,Index!$B$1)","v":1024.56},{"$f":"Data!Q291","v":1028.29},{"$f":"Data!Z291","v":1046.82}]
[{"$f":"Data!C292","v":2021},{"$f":"INDEX(Data!E292:Z292,Index!$B$1)","v":949.96},{"$f":"Data!Q292","v":1001.38},{"$f":"Data!Z292","v":1012.79}]
[{"$f":"Data!C293","v":2022},{"$f":"INDEX(Data!E293:Z293,Index!$B$1)","v":895.88},{"$f":"Data!Q293","v":960.08},{"$f":"Data!Z293","v":976.72}]
[{"$f":"Data!C294","v":2023},{"$f":"INDEX(Data!E294:Z294,Index!$B$1)","v":929},{"$f":"Data!Q294","v":942.67},{"$f":"Data!Z294","v":969.53}]
["Source: ONS - Mortality Statistics"]
["Note: Rates are Directly Age Standardised Rates per 100,000."]
[]
[]
[]
["All age mortality - Cancers (per 100,000 population)",{"$f":"$B$6","v":"Ashford "},"Kent","England & Wales"]
[{"$f":"Data!C295","v":2015},{"$f":"INDEX(Data!E295:Z295,Index!$B$1)","v":287.38},{"$f":"Data!Q295","v":283.58999999999997},{"$f":"Data!Z295","v":277.58}]
[{"$f":"Data!C296","v":2016},{"$f":"INDEX(Data!E296:Z296,Index!$B$1)","v":270.25},{"$f":"Data!Q296","v":276.33},{"$f":"Data!Z296","v":276.08999999999997}]
[{"$f":"Data!C297","v":2017},{"$f":"INDEX(Data!E297:Z297,Index!$B$1)","v":246.26},{"$f":"Data!Q297","v":275.33999999999997},{"$f":"Data!Z297","v":271.37}]
[{"$f":"Data!C298","v":2018},{"$f":"INDEX(Data!E298:Z298,Index!$B$1)","v":284.63},{"$f":"Data!Q298","v":276.37},{"$f":"Data!Z298","v":267.10000000000002}]
[{"$f":"Data!C299","v":2019},{"$f":"INDEX(Data!E299:Z299,Index!$B$1)","v":273.33999999999997},{"$f":"Data!Q299","v":262.08},{"$f":"Data!Z299","v":263.20999999999998}]
[{"$f":"Data!C300","v":2020},{"$f":"INDEX(Data!E300:Z300,Index!$B$1)","v":273.24},{"$f":"Data!Q300","v":262.47000000000003},{"$f":"Data!Z300","v":260.7}]
[{"$f":"Data!C301","v":2021},{"$f":"INDEX(Data!E301:Z301,Index!$B$1)","v":247.84},{"$f":"Data!Q301","v":249.23},{"$f":"Data!Z301","v":255.34}]
[{"$f":"Data!C302","v":2022},{"$f":"INDEX(Data!E302:Z302,Index!$B$1)","v":247.98},{"$f":"Data!Q302","v":260.93},{"$f":"Data!Z302","v":258.02999999999997}]
[{"$f":"Data!C303","v":2023},{"$f":"INDEX(Data!E303:Z303,Index!$B$1)","v":235.19},{"$f":"Data!Q303","v":246.33},{"$f":"Data!Z303","v":253.82}]
["Source: ONS - Mortality Statistics"]
["Note: Rates are Directly Age Standardised Rates per 100,000."]
[]
[]
[]
["All age mortality - Circulatory Diseases (per 100,000 population)",{"$f":"$B$6","v":"Ashford "},"Kent","England & Wales"]
[{"$f":"Data!C304","v":2015},{"$f":"INDEX(Data!E304:Z304,Index!$B$1)","v":232.49},{"$f":"Data!Q304","v":247.85},{"$f":"Data!Z304","v":259.69}]
[{"$f":"Data!C305","v":2016},{"$f":"INDEX(Data!E305:Z305,Index!$B$1)","v":231.25},{"$f":"Data!Q305","v":233.88},{"$f":"Data!Z305","v":245.79}]
[{"$f":"Data!C306","v":2017},{"$f":"INDEX(Data!E306:Z306,Index!$B$1)","v":204.94},{"$f":"Data!Q306","v":220.85},{"$f":"Data!Z306","v":241.04}]
[{"$f":"Data!C307","v":2018},{"$f":"INDEX(Data!E307:Z307,Index!$B$1)","v":222.7},{"$f":"Data!Q307","v":224.73},{"$f":"Data!Z307","v":234.98}]
[{"$f":"Data!C308","v":2019},{"$f":"INDEX(Data!E308:Z308,Index!$B$1)","v":213.84},{"$f":"Data!Q308","v":210.71},{"$f":"Data!Z308","v":224.65}]
[{"$f":"Data!C309","v":2020},{"$f":"INDEX(Data!E309:Z309,Index!$B$1)","v":192.82},{"$f":"Data!Q309","v":209.6},{"$f":"Data!Z309","v":228.73}]
[{"$f":"Data!C310","v":2021},{"$f":"INDEX(Data!E310:Z310,Index!$B$1)","v":212.95},{"$f":"Data!Q310","v":213.9},{"$f":"Data!Z310","v":232.23}]
[{"$f":"Data!C311","v":2022},{"$f":"INDEX(Data!E311:Z311,Index!$B$1)","v":193.68},{"$f":"Data!Q311","v":225.06},{"$f":"Data!Z311","v":237.5}]
[{"$f":"Data!C312","v":2023},{"$f":"INDEX(Data!E312:Z312,Index!$B$1)","v":238.57},{"$f":"Data!Q312","v":229.31},{"$f":"Data!Z312","v":233.92}]
["Source: ONS - Mortality Statistics"]
["Note: Rates are Directly Age Standardised Rates per 100,000."]
[]
[]
["All age mortality - Respiratory Diseases (per 100,000 population)",{"$f":"$B$6","v":"Ashford "},"Kent","England & Wales"]
[{"$f":"Data!C313","v":2015},{"$f":"INDEX(Data!E313:Z313,Index!$B$1)","v":136.29},{"$f":"Data!Q313","v":145.34},{"$f":"Data!Z313","v":142.26}]
[{"$f":"Data!C314","v":2016},{"$f":"INDEX(Data!E314:Z314,Index!$B$1)","v":117.4},{"$f":"Data!Q314","v":132.24},{"$f":"Data!Z314","v":133.55000000000001}]
[{"$f":"Data!C315","v":2017},{"$f":"INDEX(Data!E315:Z315,Index!$B$1)","v":129.25},{"$f":"Data!Q315","v":132.81},{"$f":"Data!Z315","v":133.41}]
[{"$f":"Data!C316","v":2018},{"$f":"INDEX(Data!E316:Z316,Index!$B$1)","v":142.16},{"$f":"Data!Q316","v":139.93},{"$f":"Data!Z316","v":136.97999999999999}]
[{"$f":"Data!C317","v":2019},{"$f":"INDEX(Data!E317:Z317,Index!$B$1)","v":153.97},{"$f":"Data!Q317","v":130.47999999999999},{"$f":"Data!Z317","v":126.16}]
[{"$f":"Data!C318","v":2020},{"$f":"INDEX(Data!E318:Z318,Index!$B$1)","v":99.45},{"$f":"Data!Q318","v":107.22},{"$f":"Data!Z318","v":106.82}]
[{"$f":"Data!C319","v":2021},{"$f":"INDEX(Data!E319:Z319,Index!$B$1)","v":79.3},{"$f":"Data!Q319","v":91.16},{"$f":"Data!Z319","v":94.95}]
[{"$f":"Data!C320","v":2022},{"$f":"INDEX(Data!E320:Z320,Index!$B$1)","v":107.13},{"$f":"Data!Q320","v":103.16},{"$f":"Data!Z320","v":108.21}]
[{"$f":"Data!C321","v":2023},{"$f":"INDEX(Data!E321:Z321,Index!$B$1)","v":112.45},{"$f":"Data!Q321","v":114.24},{"$f":"Data!Z321","v":118.71}]
["Source: ONS - Mortality Statistics"]
["Note: Rates are Directly Age Standardised Rates per 100,000."]
[]
["Life Expectancy"]
[]
["Life expectancy at birth (years)"]
["Source: Office for National Statistics"]
[{"$f":"Data!E322","v":"2021-23"},{"$f":"Index!$M$6","v":"Ashford "},"Kent","South East","England"]
["Males",{"$f":"INDEX(Data!E323:Z323,Index!$B$1)","v":80.12},{"$f":"Data!Q323","v":79.31},{"$f":"Data!Y323","v":80.319999999999993},{"$f":"Data!Z323","v":79.11}]
["Females",{"$f":"INDEX(Data!E324:Z324,Index!$B$1)","v":83.55},{"$f":"Data!Q324","v":83.34},{"$f":"Data!Y324","v":84.06},{"$f":"Data!Z324","v":83.05}]
[]
[]
[]
[]
[]
[]
[]
[]
[]
[]
[]
[]
[]
[]
[]
[]
[]
["Life expectancy at age 65 (years)"]
["Source: Office for National Statistics"]
[{"$f":"Data!E322","v":"2021-23"},{"$f":"Index!$M$6","v":"Ashford "},"Kent","South East","England"]
["Males",{"$f":"INDEX(Data!E325:Z325,Index!$B$1)","v":19.010000000000002},{"$f":"Data!Q325","v":18.670000000000002},{"$f":"Data!Y325","v":19.260000000000002},{"$f":"Data!Z325","v":18.670000000000002}]
["Females",{"$f":"INDEX(Data!E326:Z326,Index!$B$1)","v":21.53},{"$f":"Data!Q326","v":21.28},{"$f":"Data!Y326","v":21.79},{"$f":"Data!Z326","v":21.14}]
[]
[]
[]
[]
[]
[]
[]
[]
[]
[]
[]
[]
[]
[]
[]
[]
[]
["Health"]
["Source: 2021 Census - Table TS037"]
[null,{"$f":"Index!L6","v":"Ashford "},null,"England"]
[null,"Number","% of all people","Number","% of all people"]
["All People",{"$f":"INDEX(Census2021Data!D296:Y296,Index!$B$1)","v":132747},{"$f":"B156/B$156","v":1},{"$f":"Census2021Data!Y296","v":56490046},{"$f":"D156/D$156","v":1}]
["Very good health",{"$f":"INDEX(Census2021Data!D297:Y297,Index!$B$1)","v":64334},{"$f":"B157/B$156","v":0.48463618763512545},{"$f":"Census2021Data!Y297","v":27390829},{"$f":"D157/D$156","v":0.4848788581266158}]
["Good health",{"$f":"INDEX(Census2021Data!D298:Y298,Index!$B$1)","v":45779},0.34485901752958636,{"$f":"Census2021Data!Y298","v":19040735},0.33706354213271483]
["Fair health",{"$f":"INDEX(Census2021Data!D299:Y299,Index!$B$1)","v":16551},0.12468078374652534,{"$f":"Census2021Data!Y299","v":7147346},0.12652398973086337]
["Bad health",{"$f":"INDEX(Census2021Data!D300:Y300,Index!$B$1)","v":4748},3.5767286643012645E-2,{"$f":"Census2021Data!Y300","v":2248255},3.9799135585763201E-2]
["Very bad health",{"$f":"INDEX(Census2021Data!D301:Y301,Index!$B$1)","v":1335},1.0056724445750186E-2,{"$f":"Census2021Data!Y301","v":662881},1.1734474424042777E-2]
["All usual residents living in households"]
[]
[]
[]
[]
[]
[]
[]
[]
[]
[]
[]
[]
[]
[]
["Long term health problem or disability"]
["Source: 2021 Census - Table TS038"]
[null,{"$f":"Index!L6","v":"Ashford "},null,"England"]
[null,"Number","% of all people","Number","% of all people"]
["All People",{"$f":"INDEX(Census2021Data!D303:Y303,Index!$B$1)","v":132747},{"$f":"B181/B$181","v":1},{"$f":"Census2021Data!Y303","v":56490048},{"$f":"D181/D$181","v":1}]
["Disabled under the Equality Act",{"$f":"INDEX(Census2021Data!D304:Y304,Index!$B$1)","v":22655},0.17066299050072695,{"$f":"Census2021Data!Y304","v":9774510},0.17303065488632619]
["  Day-to-day activities limited a lot",{"$f":"INDEX(Census2021Data!D305:Y305,Index!$B$1)","v":9079},6.8393259358026925E-2,{"$f":"Census2021Data!Y305","v":4140357},7.3293564912531139E-2]
["  Day-to-day activities limited a little",{"$f":"INDEX(Census2021Data!D306:Y306,Index!$B$1)","v":13576},0.10226973114270002,{"$f":"Census2021Data!Y306","v":5634153},9.9737089973795032E-2]
["Not disabled under the Equality Act",{"$f":"INDEX(Census2021Data!D307:Y307,Index!$B$1)","v":110092},0.82933700949927303,{"$f":"Census2021Data!Y307","v":46715538},0.82696934511367381]
["  Has long term physical or mental health condition but day-to-day activities are not limited",{"$f":"INDEX(Census2021Data!D308:Y308,Index!$B$1)","v":9592},7.2257753470888225E-2,{"$f":"Census2021Data!Y308","v":3856029},6.8260324367223055E-2]
["  No long term physical or mental health conditions",{"$f":"INDEX(Census2021Data!D309:Y309,Index!$B$1)","v":100500},0.75707925602838477,{"$f":"Census2021Data!Y309","v":42859509},0.75870902074645075]
["All usual residents living in households"]
[]
[]
[]
[]
[]
[]
[]
[]
[]
["Disability benefit claimants (Disability Living Allowance/Personal Independence Payments or Attendance Allowance)"]
[]
[{"$f":"Index!K6&\" - \"&Data!E327","v":"Ashford  - Nov 2023"}]
["Source: DWP"]
[null,"All People",null,"Males",null,"Females"]
[null,"Number","%","Number","%","Number","%"]
["Total",{"$f":"INDEX(Data!E328:Z328,Index!$B$1)","v":12055},{"$f":"B204/Population!B37","v":8.7165582067968192E-2},{"$f":"INDEX(Data!E333:Z333,Index!$B$1)","v":5533},{"$f":"D204/Population!D37","v":8.2213967310549779E-2},{"$f":"INDEX(Data!E338:Z338,Index!$B$1)","v":6518},{"$f":"F204/Population!F37","v":9.1802816901408457E-2}]
["0-15",{"$f":"INDEX(Data!E329:Z329,Index!$B$1)","v":2016},{"$f":"B205/Population!B38","v":7.4117647058823524E-2},{"$f":"INDEX(Data!E334:Z334,Index!$B$1)","v":1374},{"$f":"D205/Population!D38","v":9.8848920863309347E-2},{"$f":"INDEX(Data!E339:Z339,Index!$B$1)","v":637},{"$f":"F205/Population!F38","v":4.7894736842105261E-2},null,{"$f":"\"Percentage of age group claiming disability benefits - \"&#REF!&\" - \"&A200","v":{"$error":"#REF!"}}]
["16-64",{"$f":"INDEX(Data!E330:Z330,Index!$B$1)","v":5817},{"$f":"B206/Population!B39","v":6.9332538736591176E-2},{"$f":"INDEX(Data!E335:Z335,Index!$B$1)","v":2526},{"$f":"D206/Population!D39","v":6.176039119804401E-2},{"$f":"INDEX(Data!E340:Z340,Index!$B$1)","v":3291},{"$f":"F206/Population!F39","v":7.653488372093023E-2}]
["65+",{"$f":"INDEX(Data!E331:Z331,Index!$B$1)","v":886},{"$f":"B207/Population!B40","v":3.2693726937269373E-2},{"$f":"INDEX(Data!E336:Z336,Index!$B$1)","v":1645},{"$f":"D207/Population!D40","v":0.13266129032258064},{"$f":"INDEX(Data!E341:Z341,Index!$B$1)","v":2586},{"$f":"F207/Population!F40","v":0.17591836734693878}]
["Young people (24 and under)",{"$f":"INDEX(Data!E332:Z332,Index!$B$1)","v":2923},{"$f":"B208/(Population!B16+Population!B15+Population!B14+Population!B13+Population!B12)","v":7.4187817258883251E-2},{"$f":"INDEX(Data!E337:Z337,Index!$B$1)","v":1915},{"$f":"D208/(Population!D16+Population!D15+Population!D14+Population!D13+Population!D12)","v":9.4801980198019803E-2},{"$f":"INDEX(Data!E342:Z342,Index!$B$1)","v":1014},{"$f":"F208/(Population!F16+Population!F15+Population!F14+Population!F13+Population!F12)","v":5.3089005235602095E-2}]
[]
[]
[]
[]
[]
[]
[]
[]
[]
[]
[]
[]
[]
[]
[{"$f":"\"Disability benefits claimants by health condition - \"&Data!E327","v":"Disability benefits claimants by health condition - Nov 2023"}]
["Source: DWP"]
[{"$f":"Index!K6","v":"Ashford "},"Number","%"]
["Mental Health",{"$f":"INDEX(Data!E343:Z343,Index!$B$1)","v":2081},{"$f":"INDEX(Data!E346:Z346,Index!$B$1)","v":0.17262546661136458},null,null,null,"KCC Area"]
["Learning Difficulty",{"$f":"INDEX(Data!E344:Z344,Index!$B$1)","v":2763},{"$f":"INDEX(Data!E347:Z347,Index!$B$1)","v":0.22919950228121111},null,null,null,{"$f":"Data!Q343","v":24641},{"$f":"Data!Q346","v":0.16388656104925708}]
["Physical Disablity",{"$f":"INDEX(Data!E345:Z345,Index!$B$1)","v":7537},{"$f":"INDEX(Data!E348:Z348,Index!$B$1)","v":0.62521775197013685},null,null,null,{"$f":"Data!Q344","v":35826},{"$f":"Data!Q347","v":0.23827766471128137}]
[null,null,null,null,null,null,{"$f":"Data!Q345","v":96036},{"$f":"Data!Q348","v":0.63873259108503933}]
[]
[]
[]
[]
[]
[]
[]
[]
[]
[]
[]
[]
[]
[]
[]
["People providing unpaid care"]
["Source: 2021 Census Custom Table "]
["People providing unpaid care",{"$f":"Index!L6","v":"Ashford "},null,"England"]
[null,"Number","%","Number","%"]
["All People aged 5 and over",{"$f":"INDEX(Census2021Data!D311:Y311,Index!$B$1)","v":125140},{"$f":"B249/B$249","v":1},{"$f":"Census2021Data!Y311","v":53413096},{"$f":"D249/D$249","v":1}]
["Provides no unpaid care",{"$f":"INDEX(Census2021Data!D312:Y312,Index!$B$1)","v":113987},{"$f":"B250/B$249","v":0.91087581908262749},{"$f":"Census2021Data!Y312","v":48734832},{"$f":"D250/D$249","v":0.91241353993035712}]
["Provides 1 to 19 hours unpaid care a week",{"$f":"INDEX(Census2021Data!D313:Y313,Index!$B$1)","v":5454},{"$f":"B251/B$249","v":4.3583186830749562E-2},{"$f":"Census2021Data!Y313","v":2303725},{"$f":"D251/D$249","v":4.313034016975912E-2}]
["Provides 20 to 49 hours unpaid care a week",{"$f":"INDEX(Census2021Data!D314:Y314,Index!$B$1)","v":2200},{"$f":"B252/B$249","v":1.7580310052740931E-2},{"$f":"Census2021Data!Y314","v":969768},{"$f":"D252/D$249","v":1.8155996798987276E-2}]
["Provides 50 or more hours unpaid care a week",{"$f":"INDEX(Census2021Data!D315:Y315,Index!$B$1)","v":3499},{"$f":"B253/B$249","v":2.7960684033882053E-2},{"$f":"Census2021Data!Y315","v":1404771},{"$f":"D253/D$249","v":2.6300123100896456E-2}]
["All usual residents aged 5 and over living in households"]
[]
[]
[]
[]
[]
[]
[]
[]
[]
[]
["People providing unpaid care by age and sex"]
[{"$f":"B6","v":"Ashford "}]
["Source: 2021 Census Custom Table"]
[null,"All People",null,"Males",null,"Females"]
[null,"Number","%","Number","%","Number","%"]
["Total providing unpaid care",{"$f":"INDEX(Census2021Data!D317:Y317,Index!$B$1)","v":11153},{"$f":"B270/B$270","v":1},{"$f":"INDEX(Census2021Data!D321:Y321,Index!$B$1)","v":4465},{"$f":"D270/D$270","v":1},{"$f":"INDEX(Census2021Data!D325:Y325,Index!$B$1)","v":6688},{"$f":"F270/F$270","v":1},null,null,"0-15","16-64","65+"]
["Age 5-15",{"$f":"INDEX(Census2021Data!D318:Y318,Index!$B$1)","v":350},{"$f":"B271/B$270","v":3.1381691024836365E-2},{"$f":"INDEX(Census2021Data!D322:Y322,Index!$B$1)","v":152},{"$f":"D271/D$270","v":3.4042553191489362E-2},{"$f":"INDEX(Census2021Data!D326:Y326,Index!$B$1)","v":198},{"$f":"F271/F$270","v":2.9605263157894735E-2},null,"Males",{"$f":"E271","v":3.4042553191489362E-2},{"$f":"E272","v":0.70190369540873465},{"$f":"E273","v":0.26405375139977605}]
["Age 16-64",{"$f":"INDEX(Census2021Data!D319:Y319,Index!$B$1)","v":8174},{"$f":"B272/B$270","v":0.73289697839146417},{"$f":"INDEX(Census2021Data!D323:Y323,Index!$B$1)","v":3134},{"$f":"D272/D$270","v":0.70190369540873465},{"$f":"INDEX(Census2021Data!D327:Y327,Index!$B$1)","v":5040},{"$f":"F272/F$270","v":0.75358851674641147},null,"Females",{"$f":"G271","v":2.9605263157894735E-2},{"$f":"G272","v":0.75358851674641147},{"$f":"G273","v":0.21680622009569378}]
["Age 65+",{"$f":"INDEX(Census2021Data!D320:Y320,Index!$B$1)","v":2629},{"$f":"B273/B$270","v":0.23572133058369946},{"$f":"INDEX(Census2021Data!D324:Y324,Index!$B$1)","v":1179},{"$f":"D273/D$270","v":0.26405375139977605},{"$f":"INDEX(Census2021Data!D328:Y328,Index!$B$1)","v":1450},{"$f":"F273/F$270","v":0.21680622009569378}]
[]
[]
[]
[]
[]
[]
[]
[]
[]
[]
["People claiming carers allowance"]
["Source: DWP"]
[{"$f":"Data!E349","v":"Nov 2023"},{"$f":"Index!K6","v":"Ashford "},null,"Kent",null,"Great Britain"]
["aged 16+","Number","% of age group","Number","% of age group","Number","% of age group"]
["Aged 18-24",{"$f":"INDEX(Data!E351:Z351,Index!$B$1)","v":105},{"$f":"INDEX(Data!E355:Z355,Index!$B$1)","v":1.1845667870036101E-2},{"$f":"Data!Q351","v":1128},{"$f":"Data!Q355","v":1.0046849671339758E-2},{"$f":"Data!Z351","v":46321},{"$f":"Data!Z355","v":9.2484369640384936E-3}]
["Age 25-64",{"$f":"INDEX(Data!E352:Z352,Index!$B$1)","v":2026},{"$f":"INDEX(Data!E356:Z356,Index!$B$1)","v":2.8871503284739145E-2},{"$f":"Data!Q352","v":25124},{"$f":"Data!Q356","v":3.0923368535066342E-2},{"$f":"Data!Z352","v":896603},{"$f":"Data!Z356","v":2.8536628387312874E-2}]
["Age 65 and over",{"$f":"INDEX(Data!E353:Z353,Index!$B$1)","v":623},{"$f":"INDEX(Data!E357:Z357,Index!$B$1)","v":2.3290590302441214E-2},{"$f":"Data!Q353","v":7598},{"$f":"Data!Q357","v":2.3303460247940475E-2},{"$f":"Data!Z353","v":311461},{"$f":"Data!Z357","v":2.7554124979752039E-2}]
["Total Claimants",{"$f":"INDEX(Data!E350:Z350,Index!$B$1)","v":2768},{"$f":"INDEX(Data!E354:Z354,Index!$B$1)","v":2.5414780604702838E-2},{"$f":"Data!Q350","v":33876},{"$f":"Data!Q354","v":2.6296301471307411E-2},{"$f":"Data!Z350","v":1254393},{"$f":"Data!Z354","v":2.5540732432234269E-2}]
[]
[]
[]
[]
[]
[]
[]
[]
[]
[]
[]
[]
[]
["Population by activity levels - aged 16+"]
["Source: Sport England"]
[{"$f":"Data!E361","v":"May 2020-2021"},{"$f":"Index!C1","v":"Ashford "},"Kent","England"]
["Active (150+ mins per week)",{"$f":"INDEX(Data!$E362:$Z362,Index!$B$1)","v":0.5968},{"$f":"Data!Q362","v":0.61839999999999995},{"$f":"Data!Z362","v":0.60940000000000005}]
["Fairly active (30-149 mins per week)",{"$f":"INDEX(Data!$E363:$Z363,Index!$B$1)","v":0.13170000000000001},{"$f":"Data!Q363","v":0.1089},{"$f":"Data!Z363","v":0.11600000000000001}]
["Inactive (less than 30 mins per week)",{"$f":"INDEX(Data!$E364:$Z364,Index!$B$1)","v":0.27150000000000002},{"$f":"Data!Q364","v":0.2727},{"$f":"Data!Z364","v":0.27460000000000001}]
[]
[]
[]
[]
[]
[]
[]
[]
[]
["Percentage change in activity levels since previous year - aged 16+"]
["Source: Sport England"]
[{"$f":"Data!E365","v":"May 2020-2021"},{"$f":"Index!C1","v":"Ashford "},"Kent","England"]
["Active (150+ mins per week)",{"$f":"INDEX(Data!$E366:$Z366,Index!$B$1)","v":2.4199999999999999E-2},{"$f":"Data!Q366","v":-2.5399999999999999E-2},{"$f":"Data!Z366","v":-1.8700000000000001E-2}]
["Fairly active (30-149 mins per week)",{"$f":"INDEX(Data!$E367:$Z367,Index!$B$1)","v":5.7000000000000002E-3},{"$f":"Data!Q367","v":5.9999999999999995E-4},{"$f":"Data!Z367","v":-1.4E-3}]
["Inactive (less than 30 mins per week)",{"$f":"INDEX(Data!$E368:$Z368,Index!$B$1)","v":-2.98E-2},{"$f":"Data!Q368","v":2.4799999999999999E-2},{"$f":"Data!Z368","v":2.01E-2}]
[]
[]
[]
[]
[]
[]
[]
[]
[]
[]
[]
[]
["Glossary"]
[]
["Births & Deaths"]
["The number of births and deaths that occur in England and Wales are collated and presented in a data series called “Vital Statistics” by the Office for National Statistics (ONS)."]
["Source: Office for National Statistics, Vital Statistic"]
[]
["Deaths by Cause"]
["Source: Office for National Statistics - Vital Statistics - Mortality statistics"]
[]
["Life Expectancy"]
["Life expectancy is the estimated number of years a person would be expected to survive if he or she continued to experience the area’s mortality rate at that time throughout "]
["the rest of their life. The figures reflect mortality of those living in an area at that point in time rather than those born in the area."]
["Source: Office for National Statistics, Vital Statistics"]
[]
["Population Registered With a GP"]
["Source: Kent Primary Care Agency"]
[]
["General Health"]
["General health is a self-assessment of a person’s general state of health. People were asked to assess whether their health was very good, good, fair, bad or very bad. "]
["This assessment is not based on a person's health over any specified period of time."]
["Source: 2021 Census, The Office for National Statistics(ONS)"]
["Table: TS037"]
[]
["Long-term health problem or disability"]
["A long-term health problem or disability that limits a person's day-to-day activities, and has lasted, or is expected to last, at least 12 months."]
["This includes problems that are related to old age. People were asked to assess whether their daily activities were limited a lot or a little by such a health problem, "]
["or whether their daily activities were not limited at all."]
["Source: 2011 Census, The Office for National Statistics(ONS)"]
["Table: CT0224"]
[]
["Disability Benefits Claimants "]
["This data gives a count of the number of people claiming the disability related benefits Disability Living Allowance (DLA), Personal Inependence Payments (PIP) "]
["and Attendance Allowance (AA)."]
["Data is at November each year"]
["Source: Department for Work & Pensions Longitudinal Study"]
[]
["Disability Benefits Claimants by Health Condition"]
["This data looks at the main reason for people claiming the disability related benefits Disability Living Allowance (DLA), Personal Independence Payments (PIP)"]
["and Attendance Allowance (AA)."]
["Data is at November each year"]
["Source: Department for Work & Pensions 5% Data"]
[]
["Provision of unpaid care"]
["A person is a provider of unpaid care if they look after or give help or support to family members, friends, neighbours or others because of long-term physical or mental ill health "]
["or disability, or problems related to old age. This does not include any activities as part of paid employment."]
["No distinction is made about whether any care that a person provides is within their own household or outside of the household, so no explicit link can be made about whether "]
["the care provided is for a person within the household who has poor general health or a long-term health problem "]
["Source: 2021 Census, Custom Table, The Office for National Statistics(ONS)"]
[]
["Provision of unpaid care by sex and age group"]
["This table shows the number of people providing unpaid care by sex and broad age group. (Excluding those aged under 5)"]
["Source: 2021 Census, Custom Table, The Office for National Statistics(ONS)"]
[]
["Carers Allowance Claimants"]
["This data looks at the number of people who are claiming the DWP benefit Carers Allowance."]
["This benefit is available for people aged 16 and over who look after a severely disabled person for at least 35 hours a week, are not employed and are not in full-time education."]
["Data is at November each year"]
["Source: Department for Work & Pensions Longitudinal Study"]
[]
["Population activity levels"]
["Sport England produce estimates of physical activity in the poopulation aged 16 and above based on the results from the Active Lives Adult Survey."]
["The estimates include the activities of walking, cycling, dance, fitness and sporting activities, but exclude gardening which is outside of Sport England's remit."]
["Activity is counted in moderate intensity equivalent minutes whereby each ‘moderate’ minute counts as one minute and each 'vigorous' minute counts as two moderate minutes."]
[" Depending on the number of minutes of moderate intensity equivalent (MIE)* physical activity, people are described as being:"]
["•  Inactive – Doing less than 30 minutes a week"]
["•  Fairly Active - Doing 30-149 minutes a week"]
["•  Active – Doing at least 150 minutes a week"]
["Source: Sport England: Active Lives Survey"]

{"sheet":"Deprivation","index":5,"n_rows":210,"n_cols":14,"rows_kept":210,"cut":false,"hidden":false,"merged":[]}
["Deprivation"]
["Includes information from the Index of Multiple Deprivation, benefits claimants, worklessness, unemployment, tax credit recipients, children in poverty and recorded crime."]
[null,null,null,null,null,null,null,null,null,null,null,null,null,{"$f":"Profile!E14","v":"Version date: 4 February 2025"}]
["Provisional release date for an update to the 2019 IoD is 2025",null,null,null,null,null,"Select geography:",null,null,null,"Select topic:"]
[]
["District profile for",{"$f":"Index!C1","v":"Ashford "}]
[{"$f":"\"Index of Multiple Deprivation (2019 IMD) - \"&B6","v":"Index of Multiple Deprivation (2019 IMD) - Ashford "}]
["Source: Ministry of Housing, Communities & Local Government (MHCLG)"]
[{"$f":"IF(INDEX(Data!E373:Z373,Index!B1)=\"n.a.\",\"\",INDEX(Data!E373:Z373,Index!B1)&\" of the \"&INDEX(Data!E374:Z374,Index!B1)&\" LSOAs in \"&B6&\" are within the top 10% most deprived areas in England\")","v":"1 of the 78 LSOAs in Ashford  are within the top 10% most deprived areas in England"}]
[]
["Kent rank*",{"$f":"INDEX(Data!E371:Z371,Index!$B$1)","v":7}]
["National rank**",{"$f":"INDEX(Data!E372:Z372,Index!$B$1)","v":152}]
["Average Score",{"$f":"INDEX(Data!E370:Z370,Index!$B$1)","v":18.545999999999999}]
[]
["1=lowest rank - most deprived"]
["*Ranked out of 12 local authorities in KCC area"]
["**Ranked out of 317 local authorities in England"]
[]
[]
[]
[]
[]
[]
[]
[]
[]
[]
[]
[]
[]
[]
[]
[]
["Benefits Claimants"]
["Source: DWP Stat Xplore"]
[{"$f":"Data!E375","v":"Nov 2023"},{"$f":"Index!K6","v":"Ashford "},"Kent","England & Wales"]
[null,"Number","Number","Number"]
["Income Support",{"$f":"INDEX(Data!E376:Z376,Index!$B$1)","v":286},{"$f":"Data!Q376","v":3137},{"$f":"Data!Z376","v":119152}]
["Jobseekers Allowance",{"$f":"INDEX(Data!E377:Z377,Index!$B$1)","v":123},{"$f":"Data!Q377","v":1808},{"$f":"Data!Z377","v":79980},null,null,null,null,null,{"$f":"A34&\" - \"&A36","v":"Benefits Claimants - Nov 2023"}]
["Incapacity benefits",{"$f":"INDEX(Data!E378:Z378,Index!$B$1)","v":52},{"$f":"Data!Q378","v":678},{"$f":"Data!Z378","v":25504}]
["Employment Support Allowance",{"$f":"INDEX(Data!E379:Z379,Index!$B$1)","v":2380},{"$f":"Data!Q379","v":30330},{"$f":"Data!Z379","v":1375896}]
["Pension Credits",{"$f":"INDEX(Data!E380:Z380,Index!$B$1)","v":2595},{"$f":"Data!Q380","v":30289},{"$f":"Data!Z380","v":1242437}]
["State Pension",{"$f":"INDEX(Data!E381:Z381,Index!$B$1)","v":0},{"$f":"Data!Q381","v":0},{"$f":"Data!Z381","v":0}]
["Personal Independence Payment",{"$f":"INDEX(Data!E382:Z382,Index!$B$1)","v":6055},{"$f":"Data!Q382","v":79068},{"$f":"Data!Z382","v":3217061}]
[]
[]
[]
[]
["Universal Credit Claimants"]
["Universal Credit is a new benefit which is replacing: Jobseekers Allowance. Income Support, ESA,"]
["Child Tax Credits, Working Tax Credits and Housing Benefit"]
["Source: DWP Stat Xplore"]
[null,{"$f":"Index!K6","v":"Ashford "},null,"Kent",null,"England & Wales"]
[{"$f":"Data!E375","v":"Nov 2023"},"Number","% of 16-64","Number","% of 16-64","Number","% of 16-64"]
["Total Universal Credit Claimants",{"$f":"INDEX(Data!E383:Z383,Index!$B$1)","v":11405},{"$f":"INDEX(Data!E393:Z393,Index!$B$1)","v":0.13880775035295262},{"$f":"Data!Q383","v":139660},{"$f":"Data!Q393","v":0.14514714257801944},{"$f":"Data!Z383","v":5714462},{"$f":"Data!Z393","v":0.15113696376899294}]
[null,null,null,null,null,null,null,null,{"$f":"\"People aged 16-64 claiming Universal Credit - \"&A54","v":"People aged 16-64 claiming Universal Credit - Nov 2023"}]
[null,{"$f":"Index!K6","v":"Ashford "},null,"Kent",null,"England & Wales"]
[{"$f":"Data!E375","v":"Nov 2023"},"Number","% of claimants","Number","% of claimants","Number","% of claimants"]
["claimants in employment",{"$f":"INDEX(Data!E384:Z384,Index!$B$1)","v":4650},{"$f":"INDEX(Data!E394:Z394,Index!$B$1)","v":0.40771591407277508},{"$f":"Data!Q384","v":54269},{"$f":"Data!Q394","v":0.38857940713160533},{"$f":"Data!Z384","v":2224149},{"$f":"Data!Z394","v":0.38921406774601003},null,null,null,{"$f":"B53","v":"Ashford "},{"$f":"D53","v":"Kent"},{"$f":"F53","v":"England & Wales"}]
["claimants not in employment",{"$f":"INDEX(Data!E385:Z385,Index!$B$1)","v":6755},{"$f":"INDEX(Data!E395:Z395,Index!$B$1)","v":0.59228408592722492},{"$f":"Data!Q385","v":85397},{"$f":"Data!Q395","v":0.61146355434626953},{"$f":"Data!Z385","v":3490314},{"$f":"Data!Z395","v":0.61078610724859139},null,null,null,{"$f":"B59","v":4650},{"$f":"D59","v":54269},{"$f":"F59","v":2224149}]
[null,null,null,null,null,null,null,null,null,null,{"$f":"B60","v":6755},{"$f":"D60","v":85397},{"$f":"F60","v":3490314}]
["Note: Rates are calculated as a proportion of the population aged 16-64"]
["Figures may not sum due to rounding at source"]
[]
[]
[]
[]
[]
["Lone parents claiming Income Support"]
["Source: DWP Longitudinal Study"]
[null,{"$f":"Index!K6","v":"Ashford "},null,"Kent",null,"England & Wales"]
[{"$f":"Data!E375","v":"Nov 2023"},"Number","%","Number","%","Number","%"]
["Total",{"$f":"INDEX(Data!E410:Z410,Index!$B$1)","v":148},{"$f":"INDEX(Data!E413:Z413,Index!$B$1)","v":1.997139232990581E-3},{"$f":"Data!Q410","v":1461},{"$f":"Data!Q413","v":1.6884610272915859E-3},{"$f":"Data!Z410","v":50490},{"$f":"Data!Z413","v":1.4753490475977583E-3}]
["Males ",{"$f":"INDEX(Data!E411:Z411,Index!$B$1)","v":"-"},{"$f":"INDEX(Data!E414:Z414,Index!$B$1)","v":0},{"$f":"Data!Q411","v":25},{"$f":"Data!Q414","v":5.9077074314233319E-5},{"$f":"Data!Z411","v":1064},{"$f":"Data!Z414","v":6.3051306341290324E-5}]
["Females",{"$f":"INDEX(Data!E412:Z412,Index!$B$1)","v":144},{"$f":"INDEX(Data!E415:Z415,Index!$B$1)","v":3.7827046338131764E-3},{"$f":"Data!Q412","v":1429},{"$f":"Data!Q415","v":3.2322345846838674E-3},{"$f":"Data!Z412","v":49422},{"$f":"Data!Z415","v":2.8489795278379346E-3},null,null,{"$f":"A69&\" - \"&A72","v":"Lone parents claiming Income Support - Nov 2023"}]
[]
["Percentages are calculated as a proportion of males, females or total population"]
["aged 16-59"]
[]
[]
[]
[]
[]
[]
[]
[]
[]
[{"$f":"\"Children under 16 in Low Income Families - \"&Data!E416","v":"Children under 16 in Low Income Families - 2022-23"}]
["Source: DWP"]
["Absolute low Income",{"$f":"Index!$L$6","v":"Ashford "},"Kent","England"]
["Number",{"$f":"INDEX(Data!E417:Z417,Index!$B$1)","v":3405},{"$f":"Data!Q417","v":38706},{"$f":"Data!Z417","v":1645067}]
["Percent",{"$f":"INDEX(Data!E418:Z418,Index!$B$1)","v":0.12754242049668502},{"$f":"Data!Q418","v":0.12692614174829234},{"$f":"Data!Z418","v":0.15555718408520972}]
["Aged 0-4",{"$f":"INDEX(Data!E419:Z419,Index!$B$1)","v":1039},{"$f":"Data!Q419","v":11526},{"$f":"Data!Z419","v":463168}]
["Aged 5-10",{"$f":"INDEX(Data!E420:Z420,Index!$B$1)","v":1181},{"$f":"Data!Q420","v":13808},{"$f":"Data!Z420","v":602874}]
["Aged 11-15",{"$f":"INDEX(Data!E421:Z421,Index!$B$1)","v":1184},{"$f":"Data!Q421","v":13375},{"$f":"Data!Z421","v":579026}]
[]
[]
["Relative Low Income",{"$f":"Index!$L$6","v":"Ashford "},"KCC Area","England"]
["Number",{"$f":"INDEX(Data!E423:Z423,Index!$B$1)","v":4183},{"$f":"Data!Q423","v":47273},{"$f":"Data!Z423","v":2091956}]
["Percent",{"$f":"INDEX(Data!E424:Z424,Index!$B$1)","v":0.15668427164100834},{"$f":"Data!Q424","v":0.15501936389363466},{"$f":"Data!Z424","v":0.19781491245654978}]
["Aged 0-4",{"$f":"INDEX(Data!E425:Z425,Index!$B$1)","v":1204},{"$f":"Data!Q425","v":13356},{"$f":"Data!Z425","v":571046}]
["Aged 5-10",{"$f":"INDEX(Data!E426:Z426,Index!$B$1)","v":1511},{"$f":"Data!Q426","v":17273},{"$f":"Data!Z426","v":779220}]
["Aged 11-15",{"$f":"INDEX(Data!E427:Z427,Index!$B$1)","v":1473},{"$f":"Data!Q427","v":16647},{"$f":"Data!Z427","v":741692}]
[]
[]
[]
[{"$f":"\"Road Traffic Collisions - \"&Data!E428&\" - \"&B6","v":"Road Traffic Collisions - 2023 - Ashford "}]
["Source: Kent Highways Services"]
[null,{"$f":"B6","v":"Ashford "},"Kent"]
["Fatal ",{"$f":"IF(ISERROR((INDEX(Data!E429:V429,Index!$B$1))),\"n.a.\",(INDEX(Data!E429:V429,Index!$B$1)))","v":6},{"$f":"Data!Q429","v":37}]
["Serious ",{"$f":"IF(ISERROR((INDEX(Data!E430:V430,Index!$B$1))),\"n.a.\",(INDEX(Data!E430:V430,Index!$B$1)))","v":75},{"$f":"Data!Q430","v":665}]
["Slight ",{"$f":"IF(ISERROR((INDEX(Data!E431:V431,Index!$B$1))),\"n.a.\",(INDEX(Data!E431:V431,Index!$B$1)))","v":222},{"$f":"Data!Q431","v":2623}]
["Total ",{"$f":"IF(ISERROR((INDEX(Data!E432:V432,Index!$B$1))),\"n.a.\",(INDEX(Data!E432:V432,Index!$B$1)))","v":303},{"$f":"Data!Q432","v":3325}]
[]
[]
[{"$f":"\"Road Traffic Casualties - \"&Data!E428&\" - \"&B6","v":"Road Traffic Casualties - 2023 - Ashford "}]
["Source: Kent Highways Services"]
[null,"Total","Aged under 16","Aged 16 and over"]
["Fatal ",{"$f":"IF(ISERROR((INDEX(Data!$E433:$V433,Index!$B$1))),\"n.a.\",(INDEX(Data!$E433:$V433,Index!$B$1)))","v":7},{"$f":"IF(ISERROR((INDEX(Data!$E437:$V437,Index!$B$1))),\"n.a.\",(INDEX(Data!$E437:$V437,Index!$B$1)))","v":1},{"$f":"IF(ISERROR((INDEX(Data!$E441:$V441,Index!$B$1))),\"n.a.\",(INDEX(Data!$E441:$V441,Index!$B$1)))","v":6}]
["Serious ",{"$f":"IF(ISERROR((INDEX(Data!$E434:$V434,Index!$B$1))),\"n.a.\",(INDEX(Data!$E434:$V434,Index!$B$1)))","v":83},{"$f":"IF(ISERROR((INDEX(Data!$E438:$V438,Index!$B$1))),\"n.a.\",(INDEX(Data!$E438:$V438,Index!$B$1)))","v":10},{"$f":"IF(ISERROR((INDEX(Data!$E442:$V442,Index!$B$1))),\"n.a.\",(INDEX(Data!$E442:$V442,Index!$B$1)))","v":73}]
["Slight ",{"$f":"IF(ISERROR((INDEX(Data!$E435:$V435,Index!$B$1))),\"n.a.\",(INDEX(Data!$E435:$V435,Index!$B$1)))","v":351},{"$f":"IF(ISERROR((INDEX(Data!$E439:$V439,Index!$B$1))),\"n.a.\",(INDEX(Data!$E439:$V439,Index!$B$1)))","v":23},{"$f":"IF(ISERROR((INDEX(Data!$E443:$V443,Index!$B$1))),\"n.a.\",(INDEX(Data!$E443:$V443,Index!$B$1)))","v":328}]
["Total ",{"$f":"IF(ISERROR((INDEX(Data!$E436:$V436,Index!$B$1))),\"n.a.\",(INDEX(Data!$E436:$V436,Index!$B$1)))","v":441},{"$f":"IF(ISERROR((INDEX(Data!$E440:$V440,Index!$B$1))),\"n.a.\",(INDEX(Data!$E440:$V440,Index!$B$1)))","v":34},{"$f":"IF(ISERROR((INDEX(Data!$E444:$V444,Index!$B$1))),\"n.a.\",(INDEX(Data!$E444:$V444,Index!$B$1)))","v":407}]
[]
[]
[]
[]
[]
[{"$f":"\"Road traffic casualties type by road user type - \"&Data!E428&\" - \"&B6","v":"Road traffic casualties type by road user type - 2023 - Ashford "}]
["Source: Kent Highways Services"]
[null,{"$f":"B6","v":"Ashford "},"Kent"]
["Pedestrians",{"$f":"IF(ISERROR((INDEX(Data!$E445:$V445,Index!$B$1))),\"n.a.\",(INDEX(Data!$E445:$V445,Index!$B$1)))","v":27},{"$f":"Data!Q445","v":503}]
["Cyclists",{"$f":"IF(ISERROR((INDEX(Data!$E446:$V446,Index!$B$1))),\"n.a.\",(INDEX(Data!$E446:$V446,Index!$B$1)))","v":21},{"$f":"Data!Q446","v":269}]
["Powered 2 wheelers",{"$f":"IF(ISERROR((INDEX(Data!$E447:$V447,Index!$B$1))),\"n.a.\",(INDEX(Data!$E447:$V447,Index!$B$1)))","v":32},{"$f":"Data!Q447","v":441}]
["Car users",{"$f":"IF(ISERROR((INDEX(Data!$E448:$V448,Index!$B$1))),\"n.a.\",(INDEX(Data!$E448:$V448,Index!$B$1)))","v":329},{"$f":"Data!Q448","v":2966}]
["Others",{"$f":"IF(ISERROR((INDEX(Data!$E449:$V449,Index!$B$1))),\"n.a.\",(INDEX(Data!$E449:$V449,Index!$B$1)))","v":32},{"$f":"Data!Q449","v":319}]
["Child casualties <16",{"$f":"IF(ISERROR((INDEX(Data!$E450:$V450,Index!$B$1))),\"n.a.\",(INDEX(Data!$E450:$V450,Index!$B$1)))","v":37},{"$f":"Data!Q450","v":402}]
["17 - 24 car drivers",{"$f":"IF(ISERROR((INDEX(Data!$E451:$V451,Index!$B$1))),\"n.a.\",(INDEX(Data!$E451:$V451,Index!$B$1)))","v":51},{"$f":"Data!Q451","v":377}]
[">=65 Road users",{"$f":"IF(ISERROR((INDEX(Data!$E452:$V452,Index!$B$1))),\"n.a.\",(INDEX(Data!$E452:$V452,Index!$B$1)))","v":50},{"$f":"Data!Q452","v":509}]
["Total",{"$f":"IF(ISERROR((INDEX(Data!$E436:$V436,Index!$B$1))),\"n.a.\",(INDEX(Data!$E436:$V436,Index!$B$1)))","v":441},{"$f":"Data!Q436","v":4498}]
[]
[]
[]
[]
[]
[{"$f":"\"Police recorded crimes per 1,000 population - \"&Data!E453","v":"Police recorded crimes per 1,000 population - 2023"}]
["Source: Home Office"]
["Dartford and Gravesham figures are combined"]
[null,{"$f":"B6","v":"Ashford "},"Kent",null,null,null,{"$f":"A145&\" - \"&B6","v":"Police recorded crimes per 1,000 population - 2023 - Ashford "}]
["Criminal damage and arson",{"$f":"INDEX(Data!E454:Z454,Index!$B$1)","v":9.9771403288843015},{"$f":"Data!Q454","v":10.2611676817155}]
["Drug offences",{"$f":"INDEX(Data!E455:Z455,Index!$B$1)","v":1.8508959516259864},{"$f":"Data!Q455","v":2.8069453066204866}]
["Miscellaneous crimes",{"$f":"INDEX(Data!E456:Z456,Index!$B$1)","v":2.4187006857901334},{"$f":"Data!Q456","v":2.9073726878949229}]
["Possession of weapons offences",{"$f":"INDEX(Data!E457:Z457,Index!$B$1)","v":0.75953100803775531},{"$f":"Data!Q457","v":0.84296233157229739}]
["Public order offences",{"$f":"INDEX(Data!E458:Z458,Index!$B$1)","v":4.763660497013495},{"$f":"Data!Q458","v":5.5498681576785209}]
["Robbery",{"$f":"INDEX(Data!E459:Z459,Index!$B$1)","v":0.4203229850306025},{"$f":"Data!Q459","v":0.52347772489299782}]
["Sexual offences",{"$f":"INDEX(Data!E460:Z460,Index!$B$1)","v":2.7800309711673181},{"$f":"Data!Q460","v":3.3078268707267364}]
["Theft offences",{"$f":"INDEX(Data!E461:Z461,Index!$B$1)","v":23.508590811887029},{"$f":"Data!Q461","v":24.69069935745306}]
["Violence against the person",{"$f":"INDEX(Data!E462:Z462,Index!$B$1)","v":32.748322395103607},{"$f":"Data!Q462","v":36.891998511164068}]
["Total",{"$f":"INDEX(Data!E463:Z463,Index!$B$1)","v":79.227195634540223},{"$f":"Data!Q463","v":87.782318629718588}]
[]
[]
[]
[]
[]
[]
["Glossary"]
[]
["Index of Multiple Deprivation, 2019"]
["The IoD2019 is made up of 38 indicators which are grouped into seven domains each of which reflects a different aspect of deprivation."]
["The seven domains are combined to produce an overall Index of Multiple Deprivation (IMD2019) score."]
["Source: Ministry of Housing, Communities & Local Government (MHCLG)"]
[]
["Benefits Claimants, Worklessness, Lone Parents on Income Support"]
["This section looks at people who are claiming DWP benefits."]
["Claimant rates are calculated as a proportion of the age group eligible to claim each individual benefit"]
["Income Support - can be claimed by those aged 16-59"]
["Jobseekers Allowance - can be claimed by people of working age (females aged 16-59, males aged 16-64)"]
["Incapacity Benefit or Employment and Support Allowance - can be claimed by people of working age (females aged 16-59, males aged 16-64)"]
["Pension Credit - can be claimed by those aged 60+"]
["State Pension - can be claimed by those of pensionable age (females aged 60+, males aged 65+)"]
["Note: State Pension Age is due to increase for for women to age 65 by 2018 and then to age 66 for both men and women by 2020"]
["Personal Independence Payments - can be claimed by people aged 16 and over who make a claim before their 65th birthday"]
[]
["In addition to the individual benefit counts claimants can be grouped into statistical groupings."]
["One of the possible groupings of benefits claimants which is used by Kent County Council is the out of work benefits group."]
["This group includes people claiming Jobseekers Allowance, loneparents claiming Income Support, Incapacity Benefits claimants and others on income related benefits "]
["with the exception of carers, and is used as an indicator of worklessness."]
["Data is as at November each year"]
["Source: Department for Work & Pensions Stat Xplore"]
[]
["Children in Poverty"]
["The children in low-income families statistics, provide information on the number and proportion of children living in Relative and Absolute low income Before Housing Costs by local area across Great Britain"]
["The CiLIF measure looks at the number of children in families (not households), where the income is less than 60% of median income before housing costs in both absolute and relative terms"]
["Absolute low income is defined as a family in low income before housing costs in the reference year, in comparison with incomes in 2010/11"]
["Relative low income is defined as a family in low income before housing costs in the reference year"]
["Source: Department for Work & Pensions"]
[]
["Looked After Children, Children subject to a Child Protection Plan"]
["Source: Kent County Council"]
[]
["Road Traffic Injuries"]
["The data here refers only to the roads that are the responsibility of Kent County Council."]
["Crashes are categorised by severity:"]
["Fatal - a crash resulting in a death."]
["Serious - detention in hospital, includes paralysis, fractures and severe lacerations."]
["Slight - includes whiplash, sprains and minor lacerations."]
["Source: Kent Highways Services"]
[]
["Recorded Crimes"]
["This shows the number of reported crimes per 1,000 population. Burglaries of dwellings are shown per 1,000 households."]
["Source: Kent County Council Community Safety Team"]

{"sheet":"Housing & households","index":6,"n_rows":419,"n_cols":14,"rows_kept":419,"cut":false,"hidden":false,"merged":[]}
["Housing & Households"]
["Includes information about housing types, amenities, tenure, household composition, car ownership, housing stock, housing completions and council tax bands."]
[null,null,null,null,null,null,null,null,null,null,null,null,null,{"$f":"Profile!E14","v":"Version date: 4 February 2025"}]
[null,null,null,null,null,null,"Select geography:",null,null,null,"Select topic:"]
[]
["District profile for",{"$f":"Index!C1","v":"Ashford "}]
[]
["Housing Tenure"]
["Source: 2021 Census - Table TS054",null,null,null,null,null,null,{"$f":"B10","v":"Ashford "},{"$f":"C10","v":"Kent"},{"$f":"D10","v":"England"}]
[2021,{"$f":"Index!$L$6","v":"Ashford "},"Kent","England",null,null,null,{"$f":"B12/B$11","v":0.33652464401022714},{"$f":"C12/C$11","v":0.35122063316537966},{"$f":"D12/D$11","v":0.32533987651947838}]
["All Households",{"$f":"INDEX(Census2021Data!D330:Y330,Index!$B$1)","v":53583},{"$f":"Census2021Data!P330","v":648393},{"$f":"Census2021Data!Y330","v":23436085},null,null,null,{"$f":"B13/B$11","v":0.32780919321426571},{"$f":"C13/C$11","v":0.31008046046147936},{"$f":"D13/D$11","v":0.28777724607160282}]
["Owned: Owned outright",{"$f":"INDEX(Census2021Data!D332:Y332,Index!$B$1)","v":18032},{"$f":"Census2021Data!P332","v":227729},{"$f":"Census2021Data!Y332","v":7624693},null,null,null,1.711363678778717E-2,1.3470225619338888E-2,1.0067850496360633E-2]
["Owned: Owned with a mortgage or loan",{"$f":"INDEX(Census2021Data!D333:Y333,Index!$B$1)","v":17565},{"$f":"Census2021Data!P333","v":201054},{"$f":"Census2021Data!Y333","v":6744372},null,null,null,8.864751880260531E-2,5.5185666717561727E-2,8.2998162875753359E-2]
["Shared ownership (part owned and part rented)",{"$f":"INDEX(Census2021Data!D334:Y334,Index!$B$1)","v":917},{"$f":"Census2021Data!P334","v":8734},{"$f":"Census2021Data!Y334","v":235951},null,null,null,5.1340910363361511E-2,8.0332452694584916E-2,8.7920444050275465E-2]
["Social rented: Rented from council (Local Authority)",{"$f":"INDEX(Census2021Data!D336:Y336,Index!$B$1)","v":4750},{"$f":"Census2021Data!P336","v":35782},{"$f":"Census2021Data!Y336","v":1945152},null,null,null,0.15370546628594889,0.16740310274787051,0.18235507338363041]
["Social rented: Other",{"$f":"INDEX(Census2021Data!D337:Y337,Index!$B$1)","v":2751},{"$f":"Census2021Data!P337","v":52087},{"$f":"Census2021Data!Y337","v":2060511},null,null,null,2.3570908683724315E-2,2.1520898590823775E-2,2.2239209321864125E-2]
["Private rented: Private landlord or letting agency",{"$f":"INDEX(Census2021Data!D339:Y339,Index!$B$1)","v":8236},{"$f":"Census2021Data!P339","v":108543},{"$f":"Census2021Data!Y339","v":4273689},null,null,null,1.2877218520799508E-3,7.8656000296116707E-4,1.3021372810347804E-3]
["Private rented: Other",{"$f":"INDEX(Census2021Data!D340:Y340,Index!$B$1)","v":1263},{"$f":"Census2021Data!P340","v":13954},{"$f":"Census2021Data!Y340","v":521200}]
["Living rent free",{"$f":"INDEX(Census2021Data!D341:Y341,Index!$B$1)","v":69},{"$f":"Census2021Data!P341","v":510},{"$f":"Census2021Data!Y341","v":30517}]
[]
[]
[]
[]
[{"$f":"Census2021Data!A342","v":"Household size - Persons"}]
["Source: 2021 Census - Table TS017"]
[2021,{"$f":"Index!$L$6","v":"Ashford "},"Kent","England"]
["1 person",{"$f":"INDEX(Census2021Data!D344:Y344,Index!$B$1)","v":13861},{"$f":"Census2021Data!P344","v":183814},{"$f":"Census2021Data!Y344","v":7052232}]
["2 people",{"$f":"INDEX(Census2021Data!D345:Y345,Index!$B$1)","v":18895},{"$f":"Census2021Data!P345","v":225024},{"$f":"Census2021Data!Y345","v":7978497}]
["3 people",{"$f":"INDEX(Census2021Data!D346:Y346,Index!$B$1)","v":9068},{"$f":"Census2021Data!P346","v":106015},{"$f":"Census2021Data!Y346","v":3742887},null,null,null,null,null,{"$f":"B26","v":"Ashford "},{"$f":"C26","v":"Kent"},{"$f":"D26","v":"England"}]
["4 people",{"$f":"INDEX(Census2021Data!D347:Y347,Index!$B$1)","v":7794},{"$f":"Census2021Data!P347","v":90015},{"$f":"Census2021Data!Y347","v":3024796},null,null,null,null,null,{"$f":"B27/B$11","v":0.25868279118377097},{"$f":"C27/C$11","v":0.28349164781236069},{"$f":"D27/D$11","v":0.30091339914495102}]
["5 people",{"$f":"INDEX(Census2021Data!D348:Y348,Index!$B$1)","v":2670},{"$f":"Census2021Data!P348","v":30313},{"$f":"Census2021Data!Y348","v":1060450},null,null,null,null,null,{"$f":"B28/B$11","v":0.35263049847899519},{"$f":"C28/C$11","v":0.34704878060065425},{"$f":"D28/D$11","v":0.34043642528178236}]
["6 people",{"$f":"INDEX(Census2021Data!D349:Y349,Index!$B$1)","v":886},{"$f":"Census2021Data!P349","v":9055},{"$f":"Census2021Data!Y349","v":358795},null,null,null,null,null,0.16923277905305786,0.16350423277240808,0.15970615399287039]
["7 people",{"$f":"INDEX(Census2021Data!D350:Y350,Index!$B$1)","v":275},{"$f":"Census2021Data!P350","v":2718},{"$f":"Census2021Data!Y350","v":126018},null,null,null,null,null,0.14545658137842227,0.13882784052264599,0.12906575479650292]
["8 people or more",{"$f":"INDEX(Census2021Data!D351:Y351,Index!$B$1)","v":133},{"$f":"Census2021Data!P351","v":1439},{"$f":"Census2021Data!Y351","v":92415},null,null,null,null,null,4.982923688483288E-2,4.6750967391689914E-2,4.5248598475385288E-2]
[null,null,null,null,null,null,null,null,null,1.6535095086128063E-2,1.3965295738849741E-2,1.5309510952874595E-2]
[null,null,null,null,null,null,null,null,null,5.1322247727824122E-3,4.1919021334283378E-3,5.3770926330058968E-3]
[null,null,null,null,null,null,null,null,null,2.4821305264729485E-3,2.2193330279629791E-3,3.9432780688412761E-3]
[]
[]
[]
[]
["Average household size  "]
["Source: 2021 Census - Table TS001 & TS046"]
[2021,{"$f":"Index!$L$6","v":"Ashford "},"Kent","England"]
["Average household size (persons)",{"$f":"INDEX(Census2021Data!D352:Y352,Index!B1)","v":2.4593807737528692},{"$f":"Census2021Data!P352","v":2.3897358546437113},{"$f":"Census2021Data!Y352","v":2.3683265357673862}]
[]
[]
["Occupancy Rating"]
["Source: 2021 Census - Table TS053 & TS052"]
[2021,{"$f":"Index!$L$6","v":"Ashford "},"% of all households"]
["Occupancy rating (rooms) of -1 or less",{"$f":"INDEX(Census2021Data!D356:Y356,Index!$B$1)","v":2461},{"$f":"B51/$B$11","v":4.592874605751824E-2}]
["Occupancy rating (bedrooms) of -1 or less",{"$f":"INDEX(Census2021Data!D357:Y357,Index!$B$1)","v":1821},{"$f":"B52/$B$11","v":3.3984659313588267E-2}]
[]
["The occupancy rating provides a measure of under-occupancy and overcrowding."]
["For example a value of -1 implies that there is one room too few and that "]
["there is overcrowding in the household. "]
["There are two measures of occupancy rating, one based on the number of rooms"]
[" in a household's accommodation, and one based on the number of bedrooms."]
["The occupancy rating assumes that every household, including one person "]
["households, requires a minimum of two common rooms (excluding bathrooms)."]
[]
[]
[]
[]
[]
[]
[]
[]
["Household amenities"]
["Source: 2021 Census - Tables TS046 & TS045",null,null,null,null,null,null,{"$f":"B71","v":"Ashford "},{"$f":"C71","v":"Kent"},{"$f":"D71","v":"England"}]
[2021,{"$f":"Index!$L$6","v":"Ashford "},"Kent","England",null,null,null,{"$f":"B72/B$11","v":1},1,1]
["All Households",{"$f":"INDEX(Census2021Data!D359:Y359,Index!$B$1)","v":53583},{"$f":"Census2021Data!P359","v":648393},{"$f":"Census2021Data!Y359","v":23436085},null,null,null,1.1645484575331728E-2,1.3087741539467576E-2,1.5003999174776845E-2]
["Does not have central heating",{"$f":"INDEX(Census2021Data!D360:Y360,Index!$B$1)","v":624},{"$f":"Census2021Data!P360","v":8486},{"$f":"Census2021Data!Y360","v":351635},null,null,null,0.98835451542466823,0.98691225846053243,0.98499600082522321]
["Does have central heating",{"$f":"INDEX(Census2021Data!D361:Y361,Index!$B$1)","v":52959},{"$f":"Census2021Data!P361","v":639907},{"$f":"Census2021Data!Y361","v":23084450},null,null,null,{"$f":"B75/B$11","v":0.14381426945113188},{"$f":"C75/C$11","v":0.1747720903834557},{"$f":"D75/D$11","v":0.23536772460075989}]
["No cars or vans in household",{"$f":"INDEX(Census2021Data!D362:Y362,Index!$B$1)","v":7706},{"$f":"Census2021Data!P362","v":113321},{"$f":"Census2021Data!Y362","v":5516098},null,null,null,{"$f":"#REF!/B$11","v":{"$error":"#REF!"}},{"$f":"#REF!/C$11","v":{"$error":"#REF!"}},{"$f":"#REF!/D$11","v":{"$error":"#REF!"}}]
[]
[]
[]
[]
[]
[]
[]
[null,null,null,null,null,null,null,{"$f":"#REF!/B$11","v":{"$error":"#REF!"}},{"$f":"#REF!/C$11","v":{"$error":"#REF!"}},{"$f":"#REF!/D$11","v":{"$error":"#REF!"}}]
[]
[]
[]
[]
[]
["Houshold Composition"]
["Source: 2021 Census - Table TS003"]
[2021,{"$f":"Index!$L$6","v":"Ashford "},"Kent","England",null,null,null,null,{"$f":"B91","v":"Ashford "},{"$f":"C91","v":"Kent"},{"$f":"D91","v":"England"}]
["Total Households ",{"$f":"INDEX(Census2021Data!D364:Y364,Index!$B$1)","v":53586},{"$f":"Census2021Data!P364","v":648393},{"$f":"Census2021Data!Y364","v":23436086},null,null,null,{"$f":"A93","v":"One person Households"},{"$f":"B93/B$92","v":0.2586869704773635},{"$f":"C93/C$92","v":0.28349164781236069},{"$f":"D93/D$92","v":0.30091325829748194}]
["One person Households",{"$f":"INDEX(Census2021Data!D365:Y365,Index!$B$1)","v":13862},{"$f":"Census2021Data!P365","v":183814},{"$f":"Census2021Data!Y365","v":7052229},null,null,null,{"$f":"A94","v":"Aged 66 and over"},0.12350240734520211,0.13661930341629228,0.12808405806327899]
["Aged 66 and over",{"$f":"INDEX(Census2021Data!D366:Y366,Index!$B$1)","v":6618},{"$f":"Census2021Data!P366","v":88583},{"$f":"Census2021Data!Y366","v":3001789},null,null,null,"Other",0.13518456313216137,0.14687234439606844,0.17282920023420292]
["Other",{"$f":"INDEX(Census2021Data!D367:Y367,Index!$B$1)","v":7244},{"$f":"Census2021Data!P367","v":95231},{"$f":"Census2021Data!Y367","v":4050440},null,null,null,"One Family Only",0.67765834359720822,0.65440712654208177,0.62992271832421165]
["One Family Only",{"$f":"INDEX(Census2021Data!D368:Y368,Index!$B$1)","v":36313},{"$f":"Census2021Data!P368","v":424313},{"$f":"Census2021Data!Y368","v":14762923},null,null,null," All aged 66 and over",0.10812525659687232,0.10616863538008585,9.1537383844725609E-2]
[" All aged 66 and over",{"$f":"INDEX(Census2021Data!D369:Y369,Index!$B$1)","v":5794},{"$f":"Census2021Data!P369","v":68839},{"$f":"Census2021Data!Y369","v":2145278},null,null,null,"Total Married and civil partnership couples",0.33736423692755568,0.31806327335427742,0.30422289797024982]
["Total Married and civil partnership couples",{"$f":"INDEX(Census2021Data!D370:Y370,Index!$B$1)","v":18078},{"$f":"Census2021Data!P370","v":206230},{"$f":"Census2021Data!Y370","v":7129794},null,null,null," Married or civil partnership couple: No children",0.11475012130033964,0.10803787209300532,0.1041219084108157]
[" Married or civil partnership couple: No children",{"$f":"INDEX(Census2021Data!D371:Y371,Index!$B$1)","v":6149},{"$f":"Census2021Data!P371","v":70051},{"$f":"Census2021Data!Y371","v":2440210},null,null,null," Married or civil partnership couple: Dependent children",0.15981786287463143,0.15101797829402847,0.14402584117501532]
[" Married or civil partnership couple: Dependent children",{"$f":"INDEX(Census2021Data!D372:Y372,Index!$B$1)","v":8564},{"$f":"Census2021Data!P372","v":97919},{"$f":"Census2021Data!Y372","v":3375402},null,null,null," Married or civil partnership couple: All children non-dependent",6.279625275258463E-2,5.9007422967243629E-2,5.6075148384418801E-2]
[" Married or civil partnership couple: All children non-dependent",{"$f":"INDEX(Census2021Data!D373:Y373,Index!$B$1)","v":3365},{"$f":"Census2021Data!P373","v":38260},{"$f":"Census2021Data!Y373","v":1314182},null,null,null,"Total cohabiting couple families",0.12219609599522263,0.11934582884145881,0.11559007762644326]
["Total cohabiting couple families",{"$f":"INDEX(Census2021Data!D374:Y374,Index!$B$1)","v":6548},{"$f":"Census2021Data!P374","v":77383},{"$f":"Census2021Data!Y374","v":2708979},null,null,null," Cohabiting couple: No children",6.0631508229761502E-2,6.026283442295028E-2,6.3447497163135511E-2]
[" Cohabiting couple: No children",{"$f":"INDEX(Census2021Data!D375:Y375,Index!$B$1)","v":3249},{"$f":"Census2021Data!P375","v":39074},{"$f":"Census2021Data!Y375","v":1486961},null,null,null," Cohabiting couple: Dependent children",5.3353487851304449E-2,5.0853417603212867E-2,4.4930753368971253E-2]
[" Cohabiting couple: Dependent children",{"$f":"INDEX(Census2021Data!D376:Y376,Index!$B$1)","v":2859},{"$f":"Census2021Data!P376","v":32973},{"$f":"Census2021Data!Y376","v":1053001},null,null,null," Cohabiting couple: All children non-dependent",8.2110999141566821E-3,8.2295768152956614E-3,7.2118270943364862E-3]
[" Cohabiting couple: All children non-dependent",{"$f":"INDEX(Census2021Data!D377:Y377,Index!$B$1)","v":440},{"$f":"Census2021Data!P377","v":5336},{"$f":"Census2021Data!Y377","v":169017},null,null,null,"Total lone parent families",0.10504609412906356,0.1054160054164681,0.11072245595958301]
["Total lone parent families",{"$f":"INDEX(Census2021Data!D378:Y378,Index!$B$1)","v":5629},{"$f":"Census2021Data!P378","v":68351},{"$f":"Census2021Data!Y378","v":2594901},null,null,null," Lone parent: Dependent children",6.8376068376068383E-2,6.5740993502397468E-2,6.8999405446796877E-2]
[" Lone parent: Dependent children",{"$f":"INDEX(Census2021Data!D379:Y379,Index!$B$1)","v":3664},{"$f":"Census2021Data!P379","v":42626},{"$f":"Census2021Data!Y379","v":1617076},null,null,null," Lone parent: All children non-dependent",3.6670025752995182E-2,3.9675011914070635E-2,4.1723050512786138E-2]
[" Lone parent: All children non-dependent",{"$f":"INDEX(Census2021Data!D380:Y380,Index!$B$1)","v":1965},{"$f":"Census2021Data!P380","v":25725},{"$f":"Census2021Data!Y380","v":977825},null,null,null,"Other one family households",4.9266599484940098E-3,5.413383549791562E-3,7.8499029232099587E-3]
["Other one family households",{"$f":"INDEX(Census2021Data!D381:Y381,Index!$B$1)","v":264},{"$f":"Census2021Data!P381","v":3510},{"$f":"Census2021Data!Y381","v":183971},null,null,null,"Other Household Types",6.3654685925428278E-2,6.2101225645557555E-2,6.9164023378306433E-2]
["Other Household Types",{"$f":"INDEX(Census2021Data!D382:Y382,Index!$B$1)","v":3411},{"$f":"Census2021Data!P382","v":40266},{"$f":"Census2021Data!Y382","v":1620934},null,null,null,"With dependent children",2.7544507893852873E-2,2.6261850451809319E-2,2.6896129328079783E-2]
["With dependent children",{"$f":"INDEX(Census2021Data!D383:Y383,Index!$B$1)","v":1476},{"$f":"Census2021Data!P383","v":17028},{"$f":"Census2021Data!Y383","v":630340},null,null,null,"Other, including all full-time students and all aged 66 years and over",3.6110178031575409E-2,3.5839375193748239E-2,4.226789405022665E-2]
["Other, including all full-time students and all aged 66 years and over",{"$f":"INDEX(Census2021Data!D384:Y384,Index!$B$1)","v":1935},{"$f":"Census2021Data!P384","v":23238},{"$f":"Census2021Data!Y384","v":990594}]
[]
[]
[]
[]
[]
[]
["Council tax bands"]
["Source: Office for National Statistics",null,null,null,null,null,null,null,{"$f":"B121","v":"Ashford "},{"$f":"C121","v":"Kent"},{"$f":"D121","v":"South East"}]
[{"$f":"Data!E493","v":2024},{"$f":"Index!L6","v":"Ashford "},"Kent","South East",null,null,null,null,{"$f":"B122/B$130","v":7.3766321858572154E-2},9.9483222327048454E-2,8.8491406901049535E-2]
["Band A  <£40k",{"$f":"INDEX(Data!E494:Z494,Index!$B$1)","v":4350},{"$f":"Data!Q494","v":70650},{"$f":"Data!Y494","v":366350},null,null,null,null,0.23520434119043582,0.18466001098328569,0.16503339412311743]
["Band B  £40-52k",{"$f":"INDEX(Data!E495:Z495,Index!$B$1)","v":13870},{"$f":"Data!Q495","v":131140},{"$f":"Data!Y495","v":683230},null,null,null,null,0.23062574190266238,0.27216018699747946,0.25799103853911282]
["Band C  £52-68k",{"$f":"INDEX(Data!E496:Z496,Index!$B$1)","v":13600},{"$f":"Data!Q496","v":193280},{"$f":"Data!Y496","v":1068070},null,null,null,null,0.17246057317279972,0.20168410380613092,0.20201934805975919]
["Band D  £68-88k",{"$f":"INDEX(Data!E497:Z497,Index!$B$1)","v":10170},{"$f":"Data!Q497","v":143230},{"$f":"Data!Y497","v":836350},null,null,null,null,0.12023062574190266,0.11628201698184942,0.13224072754501867]
["Band E  £88-120k",{"$f":"INDEX(Data!E498:Z498,Index!$B$1)","v":7090},{"$f":"Data!Q498","v":82580},{"$f":"Data!Y498","v":547470},null,null,null,null,0.1041207393589961,6.8293507188419672E-2,8.0788415319025586E-2]
["Band F  £120-160k",{"$f":"INDEX(Data!E499:Z499,Index!$B$1)","v":6140},{"$f":"Data!Q499","v":48500},{"$f":"Data!Y499","v":334460},null,null,null,null,6.0030523995251821E-2,5.2029795682723853E-2,6.3778548050097222E-2]
["Band G  £160-320k",{"$f":"INDEX(Data!E500:Z500,Index!$B$1)","v":3540},{"$f":"Data!Q500","v":36950},{"$f":"Data!Y500","v":264040},null,null,null,null,3.5611327793793456E-3,5.4071560330625065E-3,9.6595369509293594E-3]
["Band H  >£320k",{"$f":"INDEX(Data!E501:Z501,Index!$B$1)","v":210},{"$f":"Data!Q501","v":3840},{"$f":"Data!Y501","v":39990}]
["Total Dwellings",{"$f":"INDEX(Data!E502:Z502,Index!$B$1)","v":58970},{"$f":"Data!Q502","v":710170},{"$f":"Data!Y502","v":4139950}]
[]
[]
[]
[]
[]
[]
[{"$f":"Data!B482","v":"Average House Prices"}]
["Source: The Land Registry"]
[{"$f":"Data!E482","v":2023},{"$f":"B6","v":"Ashford "},"Kent","South East"]
["Detached",{"$f":"INDEX(Data!E483:Z483,Index!$B$1)","v":594933},{"$f":"Data!Q483","v":664751},{"$f":"Data!Y483","v":736640}]
["Semi",{"$f":"INDEX(Data!E484:Z484,Index!$B$1)","v":358369},{"$f":"Data!Q484","v":401648},{"$f":"Data!Y484","v":441394}]
["Terrace",{"$f":"INDEX(Data!E485:Z485,Index!$B$1)","v":293989},{"$f":"Data!Q485","v":326906},{"$f":"Data!Y485","v":362116}]
["Flat/ Maisonette",{"$f":"INDEX(Data!E486:Z486,Index!$B$1)","v":181645},{"$f":"Data!Q486","v":223636},{"$f":"Data!Y486","v":242570}]
["All",{"$f":"INDEX(Data!E487:Z487,Index!$B$1)","v":400312},{"$f":"Data!Q487","v":408640},{"$f":"Data!Y487","v":455599}]
[]
[]
[]
[]
[]
[]
[]
[]
[]
[]
[]
[]
[]
[]
[]
["Housing completions (Net)"]
["Source: Housing Information Audit (HIA) Kent Analytics,  Kent County Council"]
["Year",{"$f":"B6","v":"Ashford "},"Kent"]
[{"$f":"Data!C464","v":"2005/06"},{"$f":"INDEX(Data!E464:Z464,Index!$B$1)","v":590},{"$f":"Data!Q464","v":6205}]
[{"$f":"Data!C465","v":"2006/07"},{"$f":"INDEX(Data!E465:Z465,Index!$B$1)","v":359},{"$f":"Data!Q465","v":6140}]
[{"$f":"Data!C466","v":"2007/08"},{"$f":"INDEX(Data!E466:Z466,Index!$B$1)","v":566},{"$f":"Data!Q466","v":7414}]
[{"$f":"Data!C467","v":"2008/09"},{"$f":"INDEX(Data!E467:Z467,Index!$B$1)","v":536},{"$f":"Data!Q467","v":6629}]
[{"$f":"Data!C468","v":"2009/10"},{"$f":"INDEX(Data!E468:Z468,Index!$B$1)","v":501},{"$f":"Data!Q468","v":4087}]
[{"$f":"Data!C469","v":"2010/11"},{"$f":"INDEX(Data!E469:Z469,Index!$B$1)","v":555},{"$f":"Data!Q469","v":4714}]
[{"$f":"Data!C470","v":"2011/12"},{"$f":"INDEX(Data!E470:Z470,Index!$B$1)","v":633},{"$f":"Data!Q470","v":4728}]
[{"$f":"Data!C471","v":"2012/13"},{"$f":"INDEX(Data!E471:Z471,Index!$B$1)","v":284},{"$f":"Data!Q471","v":3697}]
[{"$f":"Data!C472","v":"2013/14"},{"$f":"INDEX(Data!E472:Z472,Index!$B$1)","v":137},{"$f":"Data!Q472","v":3649}]
[{"$f":"Data!C473","v":"2014/15"},{"$f":"INDEX(Data!E473:Z473,Index!$B$1)","v":405},{"$f":"Data!Q473","v":4604}]
[{"$f":"Data!C474","v":"2015/16"},{"$f":"INDEX(Data!E474:Z474,Index!$B$1)","v":1022},{"$f":"Data!Q474","v":6718}]
[{"$f":"Data!C475","v":"2016/17"},{"$f":"INDEX(Data!E475:Z475,Index!$B$1)","v":696},{"$f":"Data!Q475","v":7158}]
[{"$f":"Data!C476","v":"2017/18"},{"$f":"INDEX(Data!E476:Z476,Index!$B$1)","v":577},{"$f":"Data!Q476","v":7982}]
[{"$f":"Data!C477","v":"2018/19"},{"$f":"INDEX(Data!E477:Z477,Index!$B$1)","v":880},{"$f":"Data!Q477","v":7377}]
[{"$f":"Data!C478","v":"2019/20"},{"$f":"INDEX(Data!E478:Z478,Index!$B$1)","v":746},{"$f":"Data!Q478","v":6744}]
[{"$f":"Data!C479","v":"2020/21"},{"$f":"INDEX(Data!E479:Z479,Index!$B$1)","v":1088},{"$f":"Data!Q479","v":7213}]
[{"$f":"Data!C480","v":"2021/22"},{"$f":"INDEX(Data!E480:Z480,Index!$B$1)","v":627},{"$f":"Data!Q480","v":8303}]
[{"$f":"Data!C481","v":"2022/23"},{"$f":"INDEX(Data!E481:Z481,Index!$B$1)","v":1018},{"$f":"Data!Q481","v":8179}]
[]
[]
["New Dwelling Completions based on Energy Performance Certificates issued"]
["Source: MHCLG"]
[null,{"$f":"B6","v":"Ashford "}]
[{"$f":"Data!C526","v":"Q1 - 2024"},{"$f":"INDEX(Data!E526:Z526,Index!$B$1)","v":79}]
[{"$f":"Data!C527","v":"Q2 - 2024"},{"$f":"INDEX(Data!E527:Z527,Index!$B$1)","v":121}]
[{"$f":"Data!C528","v":"Q3 - 2024"},{"$f":"INDEX(Data!E528:Z528,Index!$B$1)","v":100}]
[{"$f":"Data!C529","v":"Q4 - 2024"},{"$f":"INDEX(Data!E529:Z529,Index!$B$1)","v":148}]
["September 2020/21 Total",{"$f":"INDEX(Data!E530:Z530,Index!$B$1)","v":448}]
[]
[]
[]
[]
[]
[]
[]
[]
[]
[]
[]
["New Dwelling Energy Performance Certificates - 12 month rolling average"]
[]
["Source: MHCLG"]
["Year to:",{"$f":"B6","v":"Ashford "}]
[{"$f":"Data!C531","v":"2019-09-01"},{"$f":"INDEX(Data!E531:Z531,Index!$B$1)","v":779}]
[{"$f":"Data!C532","v":"2019-12-01"},{"$f":"INDEX(Data!E532:Z532,Index!$B$1)","v":730}]
[{"$f":"Data!C533","v":"2020-03-01"},{"$f":"INDEX(Data!E533:Z533,Index!$B$1)","v":719}]
[{"$f":"Data!C534","v":"2020-06-01"},{"$f":"INDEX(Data!E534:Z534,Index!$B$1)","v":669}]
[{"$f":"Data!C535","v":"2020-09-01"},{"$f":"INDEX(Data!E535:Z535,Index!$B$1)","v":807}]
[{"$f":"Data!C536","v":"2020-12-01"},{"$f":"INDEX(Data!E536:Z536,Index!$B$1)","v":845}]
[{"$f":"Data!C537","v":"2021-03-01"},{"$f":"INDEX(Data!E537:Z537,Index!$B$1)","v":944}]
[{"$f":"Data!C538","v":"2021-06-01"},{"$f":"INDEX(Data!E538:Z538,Index!$B$1)","v":1129}]
[{"$f":"Data!C539","v":"2021-09-01"},{"$f":"INDEX(Data!E539:Z539,Index!$B$1)","v":1044}]
[{"$f":"Data!C540","v":"2021-12-01"},{"$f":"INDEX(Data!E540:Z540,Index!$B$1)","v":977}]
[{"$f":"Data!C541","v":"2022-03-01"},{"$f":"INDEX(Data!E541:Z541,Index!$B$1)","v":886}]
[{"$f":"Data!C542","v":"2022-06-01"},{"$f":"INDEX(Data!E542:Z542,Index!$B$1)","v":900}]
[{"$f":"Data!C543","v":"2022-09-01"},{"$f":"INDEX(Data!E543:Z543,Index!$B$1)","v":782}]
[{"$f":"Data!C544","v":"2022-12-01"},{"$f":"INDEX(Data!E544:Z544,Index!$B$1)","v":963}]
[{"$f":"Data!C545","v":"2023-03-01"},{"$f":"INDEX(Data!E545:Z545,Index!$B$1)","v":1017}]
[{"$f":"Data!C546","v":"2023-06-01"},{"$f":"INDEX(Data!E546:Z546,Index!$B$1)","v":902}]
[{"$f":"Data!C547","v":"2023-09-01"},{"$f":"INDEX(Data!E547:Z547,Index!$B$1)","v":893}]
[{"$f":"Data!C548","v":"2023-12-01"},{"$f":"INDEX(Data!E548:Z548,Index!$B$1)","v":777}]
[{"$f":"Data!C549","v":"2024-03-01"},{"$f":"INDEX(Data!E549:Z549,Index!$B$1)","v":1323}]
[{"$f":"Data!C550","v":"2024-06-01"},{"$f":"INDEX(Data!E550:Z550,Index!$B$1)","v":1230}]
[{"$f":"Data!C551","v":"2024-09-01"},{"$f":"INDEX(Data!E551:Z551,Index!$B$1)","v":1199}]
[]
[]
[]
[]
["Total Rough Sleepers per 10,000 households"]
["Source: MHCLG"]
[{"$f":"Data!E513","v":2021},{"$f":"B6","v":"Ashford "},"Kent","England"]
["Total ",{"$f":"INDEX(Data!E512:Z512,Index!B1)","v":1.4074954475860171},{"$f":"Data!S512","v":1.8255650571530955},{"$f":"Data!Z512","v":1.6214086239401571}]
[]
[]
["Rough Sleeping"]
["Source: MHCLG"]
["Year",{"$f":"B6","v":"Ashford "}]
[{"$f":"Data!C503","v":2015},{"$f":"INDEX(Data!E503:Z503,Index!$B$1)","v":5}]
[{"$f":"Data!C504","v":2016},{"$f":"INDEX(Data!E504:Z504,Index!$B$1)","v":8}]
[{"$f":"Data!C505","v":2017},{"$f":"INDEX(Data!E505:Z505,Index!$B$1)","v":11}]
[{"$f":"Data!C506","v":2018},{"$f":"INDEX(Data!E506:Z506,Index!$B$1)","v":20}]
[{"$f":"Data!C507","v":2019},{"$f":"INDEX(Data!E507:Z507,Index!$B$1)","v":25}]
[{"$f":"Data!C508","v":2020},{"$f":"INDEX(Data!E508:Z508,Index!$B$1)","v":0}]
[{"$f":"Data!C509","v":2021},{"$f":"INDEX(Data!E509:Z509,Index!$B$1)","v":0}]
[{"$f":"Data!C510","v":2022},{"$f":"INDEX(Data!E510:Z510,Index!$B$1)","v":8}]
[{"$f":"Data!C511","v":2023},{"$f":"INDEX(Data!E511:Z511,Index!$B$1)","v":8}]
["Count or estimates as at October/November"]
[]
[null,null,null,null,null,null,{"$f":"\"Characteristics of rough sleepers in \"&B6","v":"Characteristics of rough sleepers in Ashford "},null,null,{"$f":"A255","v":2021}]
[]
["Rough Sleepers - Characteristics"]
["Source: MHCLG",null,null,"% of all rough sleepers"]
[{"$f":"Data!E513","v":2021},{"$f":"B6","v":"Ashford "},"Kent","England"]
["Males",{"$f":"INDEX(Data!E515:Z515,Index!$B$1)","v":"n.a"},{"$f":"Data!Q515","v":"n.a"},{"$f":"Data!Z515","v":85.2}]
["Females",{"$f":"INDEX(Data!E516:Z516,Index!$B$1)","v":"n.a"},{"$f":"Data!Q516","v":"n.a"},{"$f":"Data!Z516","v":13.1}]
["UK nationals",{"$f":"INDEX(Data!E518:Z518,Index!$B$1)","v":"n.a"},{"$f":"Data!Q518","v":"n.a"},{"$f":"Data!Z518","v":66.8}]
["EU, non-UK nationals",{"$f":"INDEX(Data!E519:Z519,Index!$B$1)","v":"n.a"},{"$f":"Data!Q519","v":"n.a"},{"$f":"Data!Z519","v":20.5}]
["Non-EU nationals",{"$f":"INDEX(Data!E520:Z520,Index!$B$1)","v":"n.a"},{"$f":"Data!Q520","v":"n.a"},{"$f":"Data!Z520","v":4.5}]
["18 - 25",{"$f":"INDEX(Data!E523:Z523,Index!$B$1)","v":"n.a"},{"$f":"Data!Q523","v":"n.a"},{"$f":"Data!Z523","v":4.5}]
["Over 25",{"$f":"INDEX(Data!E524:Z524,Index!$B$1)","v":"n.a"},{"$f":"Data!Q524","v":"n.a"},{"$f":"Data!Z524","v":86.5}]
[]
[null,null,null,null,null,null,"Source: MHCLG"]
[]
[]
["Households assessed as homeless - per 1,000 households"]
["Source: MHCLG"]
[null,{"$f":"B6","v":"Ashford "},"Kent","England"]
[{"$f":"Data!C553","v":"2022-23"},{"$f":"INDEX(Data!E553:Z553,Index!$B$1)","v":5.4891887612378829},{"$f":"Data!Q553","v":4.4295965262867911},{"$f":"Data!Z553","v":6.5571779343724819}]
[{"$f":"Data!C554","v":"2023-24"},{"$f":"INDEX(Data!E554:Z554,Index!$B$1)","v":7.7853468650076465},{"$f":"Data!Q554","v":4.9625857410101855},{"$f":"Data!Z554","v":7.3757608112147262}]
[]
[]
[]
[]
[]
[]
[]
[]
[]
[]
[]
["Housholds in temporary accommodation - per 1,000 households"]
[null,{"$f":"B6","v":"Ashford "},"Kent","England"]
[{"$f":"Data!C555","v":"Q1 2022-23"},{"$f":"INDEX(Data!E555:Z555,Index!$B$1)","v":2.3165885560525301},{"$f":"Data!Q555","v":2.8619801251380199},{"$f":"Data!Z555","v":4.0090417743116902}]
[{"$f":"Data!C556","v":"Q2 2022-23"},{"$f":"INDEX(Data!E556:Z556,Index!$B$1)","v":2.7620863552934001},{"$f":"Data!Q556","v":3.0518954729481047},{"$f":"Data!Z556","v":4.1408155254471}]
[{"$f":"Data!C557","v":"Q3 2022-23"},{"$f":"INDEX(Data!E557:Z557,Index!$B$1)","v":2.8690058271112102},{"$f":"Data!Q557","v":3.1093117408906883},{"$f":"Data!Z557","v":4.2108848366898197}]
[{"$f":"Data!C558","v":"Q4 2022-23"},{"$f":"INDEX(Data!E558:Z558,Index!$B$1)","v":2.5686588433997799},{"$f":"Data!Q558","v":3.1483805517536916},{"$f":"Data!Z558","v":4.3486395917292002}]
[{"$f":"Data!C559","v":"Q1 2023-24"},{"$f":"INDEX(Data!E559:Z559,Index!$B$1)","v":2.6390330582874402},{"$f":"Data!Q559","v":2.9414036821476621},{"$f":"Data!Z559","v":4.4156382737442099}]
[{"$f":"Data!C560","v":"Q2 2023-24"},{"$f":"INDEX(Data!E560:Z560,Index!$B$1)","v":3.25480743855451},{"$f":"Data!Q560","v":2.7154782258875589},{"$f":"Data!Z560","v":4.5442188150279899}]
[{"$f":"Data!C561","v":"Q3 2023-24"},{"$f":"INDEX(Data!E561:Z561,Index!$B$1)","v":3.1668396699449302},{"$f":"Data!Q561","v":3.1279743815108438},{"$f":"Data!Z561","v":4.6982933419568296}]
[{"$f":"Data!C562","v":"Q4 2023-24"},{"$f":"INDEX(Data!E562:Z562,Index!$B$1)","v":3.3713332406506327},{"$f":"Data!Q562","v":3.4758308505970117},{"$f":"Data!Z562","v":4.8473652060710579}]
["Source: MHCLG"]
[".. incomplete data available"]
[]
[]
[]
[]
[]
["Dwelling Condition of Local Authority Owned Dwellings - Decent Homes Standard"]
["Source: MHCLG Local Authority Housing Statistics data returns"]
[]
[{"$f":"Data!E563","v":"2020/2021"},{"$f":"B6","v":"Ashford "},"Kent","England"]
["Local Authority Owned (including those owned by other Local Authorities)",{"$f":"INDEX(Data!E564:Z564,Index!$B$1)","v":5105},{"$f":"Data!Q564","v":31494},{"$f":"Data!Z564","v":1581413}]
["Non-decent dwellings at 31 March 2019",{"$f":"INDEX(Data!E565:Z565,Index!$B$1)","v":0},{"$f":"Data!Q565","v":1095},{"$f":"Data!Z565","v":70742}]
["Dwellings with category 1 hazards (HHSRS)",{"$f":"INDEX(Data!E566:Z566,Index!$B$1)","v":0},{"$f":"Data!Q566","v":184},{"$f":"Data!Z566","v":5412}]
["Dwellings not in a reasonable state of repair",{"$f":"INDEX(Data!E567:Z567,Index!$B$1)","v":0},{"$f":"Data!Q567","v":1014},{"$f":"Data!Z567","v":52839}]
["Dwellings without reasonably modern amenities and services",{"$f":"INDEX(Data!E568:Z568,Index!$B$1)","v":0},{"$f":"Data!Q568","v":457},{"$f":"Data!Z568","v":12984}]
["Dwellings without a reasonable degree of thermal comfort",{"$f":"INDEX(Data!E569:Z569,Index!$B$1)","v":0},{"$f":"Data!Q569","v":48},{"$f":"Data!Z569","v":6988}]
["Dwellings made decent during year",{"$f":"INDEX(Data!E570:Z570,Index!$B$1)","v":0},{"$f":"Data!Q570","v":367},{"$f":"Data!Z570","v":39916}]
["Dwellings receiving work to prevent them becoming non-decent during year",{"$f":"INDEX(Data!E571:Z571,Index!$B$1)","v":0},{"$f":"Data!Q571","v":0},{"$f":"Data!Z571","v":0}]
["Dwellings becoming non-decent during year",{"$f":"INDEX(Data!E572:Z572,Index!$B$1)","v":0},{"$f":"Data!Q572","v":2184},{"$f":"Data!Z572","v":39916}]
["Other reduction in non-decent dwellings",{"$f":"INDEX(Data!E573:Z573,Index!$B$1)","v":0},{"$f":"Data!Q573","v":16},{"$f":"Data!Z573","v":3303}]
["Number of non-decent dwellings, 31 March 2019",{"$f":"INDEX(Data!E574:Z574,Index!$B$1)","v":0},{"$f":"Data!Q574","v":1095},{"$f":"Data!Z574","v":70742}]
[]
["The Decent Homes standard applies to and is reported on all social housing "]
["except leasehold and shared ownership properties"]
[]
[]
["Dwelling condition of Private Registered Provider Housing Stock - Decent Homes Standard"]
["Source: Private Registered Provider Social Housing Stock in England: Statistical Data Return dataset 2019"]
["Regulator of Social Housing"]
[{"$f":"Data!E575","v":"2020/2021"},{"$f":"B26","v":"Ashford "},"Kent"]
["Total owned units",{"$f":"INDEX(Data!E576:Z576,Index!$B$1)","v":2657},{"$f":"Data!Q576","v":59292}]
["Total number of owned units which fail the DHS by Local Authority area",{"$f":"INDEX(Data!E577:Z577,Index!$B$1)","v":16},{"$f":"Data!Q577","v":148}]
[]
[]
[]
[]
[]
[]
[]
[]
[]
["Glossary"]
[]
[]
["Housholds - Definition"]
["A household is defined as one person living alone, or a group of people (not necessarily related) living at the same address who share cooking facilities"]
["and share a living room or sitting room or dining area"]
["A household must contain at least one person whose place of usual residence is at the address."]
[" A group of short-term residents living together is not classified as a household, and neither is a group of people at an address where only visitors are staying."]
[]
[]
["Households - Tenure, "]
["Tenure provides information about whether a household rents or owns the accommodation that it occupies and, if rented, "]
["combines this with information about the type of landlord who owns or manages the accommodation."]
["Source: 2021 Census Table TS054, Office for National Statistics"]
[]
["Household Size"]
["Source: 2021 Census Table TS017, Office for National Statistics"]
[]
["Occupancy Rating"]
["The occupancy rating provides a measure of under-occupancy and overcrowding. For example a value of -1 implies that there is one room too few and that "]
["there is overcrowding in the household. "]
["There are two measures of occupancy rating, one based on the number of rooms  in a household's accommodation, and one based on the number of bedrooms."]
["The occupancy rating assumes that every household, including one person households, requires a minimum of two common rooms (excluding bathrooms)."]
["Source: 2021 Census Table TS052 and TS053, Office for National Statistics"]
[]
["Household Composition"]
["This table shows the makeup of families in households at the time of the 2021 Census."]
["Source: 2021 Census - Table TS003, Office for National Statistics"]
[]
["Household Amenities"]
["A household’s accommodation is classified as having central heating if it is present in some or all rooms (whether used or not). "]
["Source: 2021 Census - Table TS046"]
["The number of cars or vans that are owned, or available for use, by one or more members of a household. "]
["This includes company cars and vans that are available for private use. It does not include motorbikes or scooters, or any cars or vans belonging to visitors."]
["Source: 2021 Census - Table TS045"]
[]
["Council Tax Bands"]
["Source: Office for National Statistics, Neighbourhood Statistics"]
[]
["Average House Prices"]
["Source: The Land Registry"]
[]
["Housing Completions"]
["This data shows the net dwelling completions in Kent local authority districts."]
["Net completions are the number of dwellings built minus the number demolished in each 12 month period. "]
["A positive number indicates that more houses were built than demolished (net gain)"]
["A negative number indicates that fewer houses were built than were demolished resulting in a net loss of dwellings."]
["Source: KCC Housing Information Audit, Kent Analytics, Kent County Council"]
[]
["New Dwelling Completions based on Energy Performance Certificates issued"]
["Source: MHCLG"]
["This data shows the number of new dwelling Energy Performance Certificates (EPCs) lodged on the register in England & Wales"]
[]
["Rough Sleeping"]
["Source: MHCLG"]
["The data shows an estimate or count of the number of people who are rough sleeping. "]
["Each Local Authority either conducts a street count or provides an estimate. "]
["These counts and estimates were carried out between 1 October and 30 November."]
["An estimate is the number of people thought to be sleeping rough in a local authority area on any one night in a chosen week. "]
["Guidance, enables local authorities to decide whether to provide a count or an estimate in light of their local circumstances: "]
["http://www.homeless.org.uk/our-work/resources/counts-and-estimates-evaluating-extent-of-rough-sleeping"]
["Data is presented per 10,000 households."]
["Characteristics are shown as a percentage of total number of rough sleepers in an area."]
[]
["Homeless in Priority Need - Per 1,000 households"]
["Source: MHCLG"]
["Under the Housing Act 1996 local authorities have a duty to secure that accommodation is made available for applicants who are homeless and in priority need"]
["Data is presented per 1,000 households"]
["For more information on homelessness:"]
["https://www.gov.uk/guidance/homelessness-data-notes-and-definitions"]
[]
["Temporary Accommodation - Per 1,000 households"]
["Source: MHCLG"]
["For households which are unintentionally homeless and in a priority need category (such as having dependent children) the local authority has a main duty "]
["to secure settled accommodation. "]
["The local authority has a duty to ensure suitable temporary accommodation is provided until settled accommodation is available"]
["Data is presented per 1,000 households"]
["For more information on homelessness:"]
["https://www.gov.uk/guidance/homelessness-data-notes-and-definitions"]
[]
[]
["Dwelling Condition"]
["Source: MHCLG Local Authority Housing Statistics data returns; Private Registered Provider Social Housing Stock in England: Statistical Data Return dataset 2019"]
["The Decent Homes Standard is a technical standard for public housing introduced by the United Kingdom government. It underpinned the Decent Homes Programme"]
["which aimed to provide a minimum standard of housing conditions for all those who are housed in the public sector - i.e. council housing and housing associations. "]

{"sheet":"Young people ed & skills","index":7,"n_rows":305,"n_cols":14,"rows_kept":305,"cut":false,"hidden":false,"merged":[]}
["Young people, education & skills"]
[null,null,null,null,null,null,null,null,null,null,null,null,null,{"$f":"Profile!E14","v":"Version date: 4 February 2025"}]
["Includes information about the population aged under 24, key age groups, school populations, child benefit, tax credit recipient families, "]
["children in poverty, children providing unpaid care, youth unemployment, young claimants of disability benefits.",null,null,null,null,null,null,null,null,null,"Select topic:"]
[]
["District profile for",{"$f":"Index!C1","v":"Ashford "}]
[]
[{"$f":"\"Population aged under 20 in \"&Index!K6&\" area - \"&Data!E578","v":"Population aged under 20 in Ashford  area - Mid 2023"}]
["Source: ONS Mid Year Estimates"]
[null,"Total Persons",null,"Males",null,"Females"]
["Age group","No.","% of total population","No.","%","No.","%"]
["All Ages",{"$f":"INDEX(Data!$E$8:$Z8,Index!$B$1)","v":138300},{"$f":"INDEX(Data!E33:Z33,Index!B1)","v":1},{"$f":"INDEX(Data!E58:Z58,Index!B1)","v":67300},{"$f":"INDEX(Data!E604:Z604,Index!B1)","v":0.51142307461071368},{"$f":"INDEX(Data!E133:Z133,Index!B1)","v":71000},{"$f":"INDEX(Data!E618:Z618,Index!B1)","v":0.48857692538928638}]
["0-3 - Early Years children",{"$f":"INDEX(Data!$E579:$Z579,Index!$B$1)","v":6100},{"$f":"INDEX(Data!E585:Z585,Index!$B$1)","v":4.3917184324898939E-2},{"$f":"INDEX(Data!E592:Z592,Index!$B$1)","v":3100},{"$f":"INDEX(Data!E598:Z598,Index!$B$1)","v":0.51457269883089085},{"$f":"INDEX(Data!E606:Z606,Index!$B$1)","v":2900},{"$f":"INDEX(Data!E612:Z612,Index!$B$1)","v":0.48542730116910915}]
["4-10 - Primary age children",{"$f":"INDEX(Data!$E580:$Z580,Index!$B$1)","v":12100},{"$f":"INDEX(Data!E586:Z586,Index!$B$1)","v":8.7378781195085437E-2},{"$f":"INDEX(Data!E593:Z593,Index!$B$1)","v":6200},{"$f":"INDEX(Data!E599:Z599,Index!$B$1)","v":0.51493834312670694},{"$f":"INDEX(Data!E607:Z607,Index!$B$1)","v":5900},{"$f":"INDEX(Data!E613:Z613,Index!$B$1)","v":0.48506165687329306}]
["11-18 - Secondary age children",{"$f":"INDEX(Data!$E581:$Z581,Index!$B$1)","v":13900},{"$f":"INDEX(Data!E587:Z587,Index!$B$1)","v":0.10057635428794573},{"$f":"INDEX(Data!E594:Z594,Index!$B$1)","v":7100},{"$f":"INDEX(Data!E600:Z600,Index!$B$1)","v":0.50790911705493236},{"$f":"INDEX(Data!E608:Z608,Index!$B$1)","v":6800},{"$f":"INDEX(Data!E614:Z614,Index!$B$1)","v":0.49209088294506759}]
["10-17 - age group covered by youth offending service",{"$f":"INDEX(Data!$E582:$Z582,Index!$B$1)","v":14200},{"$f":"INDEX(Data!E588:Z588,Index!$B$1)","v":0.10268073443590318},{"$f":"INDEX(Data!E595:Z595,Index!$B$1)","v":7200},{"$f":"INDEX(Data!E601:Z601,Index!$B$1)","v":0.50799352067046977},{"$f":"INDEX(Data!E609:Z609,Index!$B$1)","v":7000},{"$f":"INDEX(Data!E615:Z615,Index!$B$1)","v":0.49200647932953023}]
["14-19 - age group for Key Qualifications",{"$f":"INDEX(Data!$E583:$Z583,Index!$B$1)","v":9700},{"$f":"INDEX(Data!E589:Z589,Index!$B$1)","v":6.9972447806310248E-2},{"$f":"INDEX(Data!E596:Z596,Index!$B$1)","v":4900},{"$f":"INDEX(Data!E602:Z602,Index!$B$1)","v":0.50682100041339395},{"$f":"INDEX(Data!E610:Z610,Index!$B$1)","v":4800},{"$f":"INDEX(Data!E616:Z616,Index!$B$1)","v":0.49317899958660605}]
["0-19 - All children & young people",{"$f":"INDEX(Data!$E584:$Z584,Index!$B$1)","v":33300},{"$f":"INDEX(Data!E590:Z590,Index!$B$1)","v":0.24056463918196741},{"$f":"INDEX(Data!E597:Z597,Index!$B$1)","v":17000},{"$f":"INDEX(Data!E603:Z603,Index!$B$1)","v":0.51142307461071368},{"$f":"INDEX(Data!E611:Z611,Index!$B$1)","v":16300},{"$f":"INDEX(Data!E617:Z617,Index!$B$1)","v":0.48857692538928638}]
[]
[]
[]
[]
[]
[]
[]
[]
["Number of state funded schools"]
["Source:Kent County Council"]
[{"$f":"Data!E619","v":"February 2025"},{"$f":"B6","v":"Ashford "},"Kent"]
["Academy Infant",{"$f":"INDEX(Data!E620:Z620,Index!$B$1)","v":1},{"$f":"Data!Q620","v":8}]
["Academy Junior",{"$f":"INDEX(Data!E621:Z621,Index!$B$1)","v":2},{"$f":"Data!Q621","v":12}]
["Academy Primary",{"$f":"INDEX(Data!E622:Z622,Index!$B$1)","v":15},{"$f":"Data!Q622","v":183},null,null,null,null,{"$f":"\"Secondary schools in \"&$B$6&\" area by school type\"","v":"Secondary schools in Ashford  area by school type"}]
["Primary Free School",{"$f":"INDEX(Data!E624:Z624,Index!$B$1)","v":0},{"$f":"Data!Q624","v":1}]
["Maintained Nursery School",{"$f":"INDEX(Data!E623:Z623,Index!$B$1)","v":1},{"$f":"Data!Q623","v":10},null,null,null,null,{"$f":"\"Primary schools in \"&$B$6&\" area by school type\"","v":"Primary schools in Ashford  area by school type"}]
["Infant ",{"$f":"INDEX(Data!E625:Z625,Index!$B$1)","v":2},{"$f":"Data!Q625","v":17}]
["Junior",{"$f":"INDEX(Data!E626:Z626,Index!$B$1)","v":1},{"$f":"Data!Q626","v":13}]
["Primary",{"$f":"INDEX(Data!E627:Z627,Index!$B$1)","v":21},{"$f":"Data!Q627","v":217}]
["Total No of Primary Schools",{"$f":"INDEX(Data!E628:Z628,Index!$B$1)","v":43},{"$f":"Data!Q628","v":461}]
["Academy Grammar",{"$f":"INDEX(Data!E629:Z629,Index!$B$1)","v":2},{"$f":"Data!Q629","v":23}]
["Academy High",{"$f":"INDEX(Data!E630:Z630,Index!$B$1)","v":3},{"$f":"Data!Q630","v":37}]
["Academy Wide Ability",{"$f":"INDEX(Data!E631:Z631,Index!$B$1)","v":1},{"$f":"Data!Q631","v":17}]
["Academy University Technical College",{"$f":"INDEX(Data!E632:Z632,Index!$B$1)","v":0},{"$f":"Data!Q632","v":1}]
["Secondary Free School",{"$f":"INDEX(Data!E633:Z633,Index!$B$1)","v":2},{"$f":"Data!Q633","v":8}]
["Grammar",{"$f":"INDEX(Data!E634:Z634,Index!$B$1)","v":0},{"$f":"Data!Q634","v":9}]
["High",{"$f":"INDEX(Data!E635:Z635,Index!$B$1)","v":0},{"$f":"Data!Q635","v":6}]
["Wide Ability",{"$f":"INDEX(Data!E636:Z636,Index!$B$1)","v":0},{"$f":"Data!Q636","v":2}]
["Total No of Secondary Schools",{"$f":"INDEX(Data!E637:Z637,Index!$B$1)","v":8},{"$f":"Data!Q637","v":103}]
[]
["Special School Academy",{"$f":"INDEX(Data!E638:Z638,Index!$B$1)","v":0},{"$f":"Data!Q638","v":1}]
["Special School Free",{"$f":"INDEX(Data!E639:Z639,Index!$B$1)","v":0},{"$f":"Data!Q639","v":3}]
["Special School",{"$f":"INDEX(Data!E640:Z640,Index!$B$1)","v":2},{"$f":"Data!Q640","v":21}]
["Pupil Referral Unit (PRU) Academy",{"$f":"INDEX(Data!E641:Z641,Index!$B$1)","v":0},{"$f":"Data!Q641","v":1}]
["Pupil Referral Unit (PRU) ",{"$f":"INDEX(Data!E642:Z642,Index!$B$1)","v":0},{"$f":"Data!Q642","v":5}]
["Total PRUs & Special Schools",{"$f":"INDEX(Data!E643:Z643,Index!$B$1)","v":2},{"$f":"Data!Q643","v":31}]
[]
[]
[]
["School population"]
["Source:Kent County Council",null,null,null,null,null,{"$f":"A58&\" - \"&A60&\" - \"&B6","v":"School population - January 2024 - Ashford "}]
[{"$f":"Data!E647","v":"January 2024"},{"$f":"B6","v":"Ashford "},null,"Kent"]
[null,"Number","%","Number","%"]
["English additional language",{"$f":"INDEX(Data!E649:Z649,Index!$B$1)","v":3304},{"$f":"IF(ISERROR((B62/B$66)),\"\",(B62/B$66))","v":0.15284267012073829},{"$f":"Data!Q649","v":34239},{"$f":"D62/D$66","v":0.13607261657320674}]
["Free school meals",{"$f":"INDEX(Data!E650:Z650,Index!$B$1)","v":4760},{"$f":"IF(ISERROR((B63/B$66)),\"\",(B63/B$66))","v":0.22019706712309756},{"$f":"Data!Q650","v":55007},{"$f":"D63/D$66","v":0.21860879172412698}]
["SEN - with SEN support",{"$f":"INDEX(Data!E652:Z652,Index!$B$1)","v":2447},{"$f":"IF(ISERROR((B64/B$66)),\"\",(B64/B$66))","v":0.11319794606097053},{"$f":"Data!Q652","v":29782},{"$f":"D64/D$66","v":0.11835960941567344}]
["SEN - with SEN Statement",{"$f":"INDEX(Data!E653:Z653,Index!$B$1)","v":1084},{"$f":"IF(ISERROR((B65/B$66)),\"\",(B65/B$66))","v":5.0145718647360872E-2},{"$f":"Data!Q653","v":12762},{"$f":"D65/D$66","v":5.0718733979008279E-2}]
["Number of pupils  on roll",{"$f":"INDEX(Data!E645:Z645,Index!$B$1)","v":21617},{"$f":"IF(ISERROR((B66/B$66)),\"\",(B66/B$66))","v":1},{"$f":"Data!Q645","v":251623},{"$f":"D66/D$66","v":1}]
[]
[]
[]
[]
[]
[]
[]
[]
["Disabled pupils"]
["Source:Kent County Council"]
[{"$f":"Data!E654","v":"January 2024"},{"$f":"B6","v":"Ashford "},null,"Kent"]
[null,"Number","%","Number","%"]
["Number with a Primary SEN Need",{"$f":"INDEX(Data!E655:Z655,Index!$B$1)","v":3531},{"$f":"IF(ISERROR((B79/B$79)),\"n.a.\",(B79/B$79))","v":1},{"$f":"Data!Q655","v":42544},{"$f":"D79/D$79","v":1}]
["Autistic Spectrum Disorder",{"$f":"INDEX(Data!E656:Z656,Index!$B$1)","v":794},0.22486547720192579,{"$f":"Data!Q656","v":9839},{"$f":"D80/D$79","v":0.23126645355396766}]
["Hearing Impairment",{"$f":"INDEX(Data!E657:Z657,Index!$B$1)","v":23},6.5137354856981029E-3,{"$f":"Data!Q657","v":343},8.062241444151937E-3]
["Moderate Learning Difficulties",{"$f":"INDEX(Data!E658:Z658,Index!$B$1)","v":243},6.881903143585387E-2,{"$f":"Data!Q658","v":3543},8.3278488153441146E-2]
["Multi Sensory Impairment",{"$f":"INDEX(Data!E659:Z659,Index!$B$1)","v":9},2.5488530161427358E-3,{"$f":"Data!Q659","v":107},2.5150432493418577E-3,null,{"$f":"\"Disabled students by disability/need - \"&A77&\" - \"&B6","v":"Disabled students by disability/need - January 2024 - Ashford "}]
["SEN Support - No Specialist Assessment",{"$f":"INDEX(Data!E660:Z660,Index!$B$1)","v":130},3.6816765788728403E-2,{"$f":"Data!Q660","v":1438},3.3800300864986838E-2]
["Other",{"$f":"INDEX(Data!E661:Z661,Index!$B$1)","v":83},2.3506088926649675E-2,{"$f":"Data!Q661","v":1638},3.8501316284317411E-2]
["Physical Disability",{"$f":"INDEX(Data!E662:Z662,Index!$B$1)","v":80},2.2656471254602097E-2,{"$f":"Data!Q662","v":1093},2.5691049266641595E-2]
["Profound & Multiple Learning Difficulties",{"$f":"INDEX(Data!E663:Z663,Index!$B$1)","v":27},7.6465590484282074E-3,{"$f":"Data!Q663","v":366},8.6028582173749528E-3]
["Social, Emotional & Mental Health",{"$f":"INDEX(Data!E664:Z664,Index!$B$1)","v":778},0.22033418295100538,{"$f":"Data!Q664","v":9039},0.21246239187664537]
["Speech, Language & Communication Needs",{"$f":"INDEX(Data!E665:Z665,Index!$B$1)","v":851},0.2410082129708298,{"$f":"Data!Q665","v":9743},0.22900996615268898]
["Severe Learning Difficulties",{"$f":"INDEX(Data!E666:Z666,Index!$B$1)","v":92},2.6054941942792412E-2,{"$f":"Data!Q666","v":720},1.6923655509590071E-2]
["Specific Learning Difficulties",{"$f":"INDEX(Data!E667:Z667,Index!$B$1)","v":409},0.11583120928915322,{"$f":"Data!Q667","v":4416},0.10379842045881911,null,null,null,{"$f":"SUM(I34:I39)","v":0}]
["Visual Impairment",{"$f":"INDEX(Data!E668:Z668,Index!$B$1)","v":12},{"$f":"IF(ISERROR((B92/B$79)),\"n.a.\",(B92/B$79))","v":3.3984706881903144E-3},{"$f":"Data!Q668","v":259},{"$f":"D92/D$79","v":6.0878149680330951E-3}]
[]
[]
[{"$f":"Data!B669","v":"GCSE Results"}]
["Source:Department for Education"]
[{"$f":"Data!E669","v":"2022/23"},{"$f":"B6","v":"Ashford "}]
[null,"% of pupils",null,null,null,null,{"$f":"\"GCSE results - \"&Data!E669&\" - \"&B6","v":"GCSE results - 2022/23 - Ashford "}]
["% Achieving Strong Pass (Grades 9-5) in English & Maths",{"$f":"INDEX(Data!E670:Z670,Index!$B$1)","v":0.45478374836173002}]
["% Achieving Standard Pass (Grades 9-4) in English & Maths",{"$f":"INDEX(Data!E671:Z671,Index!$B$1)","v":0.65727391874180863}]
["% Achieving Strong Pass (Grade 5 or above) English Baccalaureate",{"$f":"INDEX(Data!E672:Z672,Index!$B$1)","v":0.21821756225425951}]
["% Achieving Standard Pass (Grade 4 or above) English Baccalaureate",{"$f":"INDEX(Data!E673:Z673,Index!$B$1)","v":0.32044560943643513}]
["Coverage: England, maintained schools (including Academies and CTCs)"]
[]
[]
[]
[]
[]
[]
[]
[]
["Regulated Qualifications Framework (RQF) qualifications by age group"]
[{"$f":"Index!N6&\" area\"","v":"Ashford  area"}]
["Source:Annual Population Survey",null,null,null,null,null,null,{"$f":"A112&\" - \"&A115&\" - \"&Index!N6","v":"Regulated Qualifications Framework (RQF) qualifications by age group - 2023 - Ashford "}]
[{"$f":"Data!E674","v":2023},"16-64","16-24","25-49","50-64"]
["Population",{"$f":"INDEX(Data!E675:Z675,Index!$B$1)","v":74600},{"$f":"INDEX(Data!E683:Z683,Index!$B$1)","v":10800},{"$f":"INDEX(Data!E691:Z691,Index!$B$1)","v":33700},{"$f":"INDEX(Data!E699:Z699,Index!$B$1)","v":30100}]
["No qualifications",{"$f":"INDEX(Data!E676:Z676,Index!$B$1)","v":0.11528150134048257},{"$f":"INDEX(Data!E684:Z684,Index!$B$1)","v":"-"},{"$f":"INDEX(Data!E692:Z692,Index!$B$1)","v":0.228486646884273},{"$f":"INDEX(Data!E700:Z700,Index!$B$1)","v":"-"}]
["Highest qualification RQF1",{"$f":"INDEX(Data!E677:Z677,Index!$B$1)","v":"-"},{"$f":"INDEX(Data!E685:Z685,Index!$B$1)","v":"-"},{"$f":"INDEX(Data!E693:Z693,Index!$B$1)","v":"-"},{"$f":"INDEX(Data!E701:Z701,Index!$B$1)","v":"-"}]
["Highest qualification RQF2",{"$f":"INDEX(Data!E678:Z678,Index!$B$1)","v":0.1970509383378016},{"$f":"INDEX(Data!E686:Z686,Index!$B$1)","v":0.30555555555555558},{"$f":"INDEX(Data!E694:Z694,Index!$B$1)","v":0.10089020771513353},{"$f":"INDEX(Data!E702:Z702,Index!$B$1)","v":0.26578073089700999}]
["Highest qualification RQF3",{"$f":"INDEX(Data!E679:Z679,Index!$B$1)","v":0.25603217158176944},{"$f":"INDEX(Data!E687:Z687,Index!$B$1)","v":0.60185185185185186},{"$f":"INDEX(Data!E695:Z695,Index!$B$1)","v":0.23442136498516319},{"$f":"INDEX(Data!E703:Z703,Index!$B$1)","v":0.15614617940199335}]
["Highest qualification RQF4/5",{"$f":"INDEX(Data!E680:Z680,Index!$B$1)","v":0.37533512064343161},{"$f":"INDEX(Data!E688:Z688,Index!$B$1)","v":"-"},{"$f":"INDEX(Data!E696:Z696,Index!$B$1)","v":0.36795252225519287},{"$f":"INDEX(Data!E704:Z704,Index!$B$1)","v":0.51827242524916939}]
[]
["Note: \" - \" indicates figures not available since the group sample size is zero or disclosive"]
[]
[]
[]
[]
[]
[]
["Looked After Children - per 10,000 aged 0-17"]
["Source: KCC",null,null,null,null,null,null,null,null,"Kent",{"$f":"B132","v":"Ashford "}]
[{"$f":"Data!E737","v":"March 2021"},{"$f":"B6","v":"Ashford "},"Kent",null,null,null,null,null,null,{"$f":"Data!Q738","v":39.931479558746972},{"$f":"B133","v":29.00966988996332}]
["Children In Care (excluding Unaccompanied Asylum Seeking Children)",{"$f":"INDEX(Data!E738:Z738,Index!B1)","v":29.00966988996332},{"$f":"J132","v":39.931479558746972},null,null,null,null,null,null,{"$f":"Data!Q739","v":47.987575580431539},{"$f":"B134","v":39.346448816272087}]
["Children In Care (including Unaccompanied Asylum Seeking Children)",{"$f":"INDEX(Data!E739:Z739,Index!B1)","v":39.346448816272087},{"$f":"J133","v":47.987575580431539}]
[null,null,null,null,null,null,null,null,null,{"$f":"Data!#REF!","v":{"$error":"#REF!"}},{"$f":"B138","v":33.677892630876961}]
["Children subject to a child protection plan -  per 10,000 aged 0-17"]
[{"$f":"Data!E740","v":"March 2021"},{"$f":"B6","v":"Ashford "},"Kent"]
["Children subject to a Child Protection Plan",{"$f":"INDEX(Data!E741:Z741,Index!B1)","v":33.677892630876961},{"$f":"Data!Q741","v":34.87097158844692}]
[]
[]
[]
[]
[]
[]
[]
[]
[]
[]
[]
["Young people providing unpaid care - 2021"]
["Source: 2021 Census Custom Table"]
["People providing unpaid care",{"$f":"B6","v":"Ashford "},null,"Kent",null,"England"]
[null,"Number","% of age group","Number","% of age group","Number","% of age group"]
["  5 - 9 providing unpaid care",{"$f":"INDEX(Census2021Data!D388:Z388,Index!$B$1)","v":64},{"$f":"B154/B$158","v":6.5040650406504072E-2},{"$f":"(Census2021Data!P388)","v":689},{"$f":"D154/D$158","v":6.3478901787359501E-2},{"$f":"Census2021Data!Y388","v":16506},{"$f":"F154/F$158","v":4.9373926881360192E-2},null,null,null,{"$f":"\"Percentage of carers aged under 25 by age group - \"&B152","v":"Percentage of carers aged under 25 by age group - Ashford "}]
["10-15 providing unpaid care",{"$f":"INDEX(Census2021Data!D389:Z389,Index!$B$1)","v":286},{"$f":"B155/B$158","v":0.29065040650406504},{"$f":"(Census2021Data!P389)","v":2783},0.25640316933849272,{"$f":"Census2021Data!Y389","v":62303},{"$f":"F155/F$158","v":0.18636518638612529},null,null,"5-9",{"$f":"B154/B$158","v":6.5040650406504072E-2}]
["16-19 providing unpaid care",{"$f":"INDEX(Census2021Data!D390:Z390,Index!$B$1)","v":261},0.2652439024390244,{"$f":"(Census2021Data!P390)","v":3059},0.2818315828266077,{"$f":"Census2021Data!Y390","v":92679},{"$f":"F156/F$158","v":0.27722804855431848},null,null,"10-15",{"$f":"B155/B$158","v":0.29065040650406504}]
["20-24 providing unpaid care",{"$f":"INDEX(Census2021Data!D391:Z391,Index!$B$1)","v":373},0.37906504065040653,{"$f":"(Census2021Data!P391)","v":4323},0.3982863460475401,{"$f":"Census2021Data!Y391","v":162818},{"$f":"F157/F$158","v":0.48703283817819604},null,null,"16-19",{"$f":"B156/B$158","v":0.2652439024390244}]
["Total under 25 providing unpaid care",{"$f":"INDEX(Census2021Data!D387:Z387,Index!$B$1)","v":984},{"$f":"B158/B$158","v":1},{"$f":"(Census2021Data!P387)","v":10854},{"$f":"D158/D$158","v":1},{"$f":"Census2021Data!Y387","v":334306},{"$f":"F158/F$158","v":1},null,null,"20-24",{"$f":"B157/B$158","v":0.37906504065040653}]
["All usual residents living in households"]
[]
[]
[]
[]
["Young people whose day-to-day activities are limited - 2011"]
["Source: 2021 Census Custom Table"]
["Day-to-day activities limited",{"$f":"B6","v":"Ashford "},null,"Kent",null,"England"]
[null,"Number","% of age group","Number","% of age group","Number","% of age group"]
["0-4",{"$f":"INDEX(Census2021Data!D395:Z395,Index!$B$1)","v":228},{"$f":"B168/$B$173","v":6.6940692894891365E-2},{"$f":"(Census2021Data!P395)","v":2626},{"$f":"D168/$D$173","v":6.0150720388482945E-2},{"$f":"Census2021Data!Y395","v":81524},{"$f":"F168/$F$173","v":6.0202590386224386E-2}]
["5-9",{"$f":"INDEX(Census2021Data!D396:Z396,Index!$B$1)","v":639},{"$f":"B169/$B$173","v":0.18761009982384028},{"$f":"(Census2021Data!P396)","v":7774},{"$f":"D169/$D$173","v":0.1780699544173901},{"$f":"Census2021Data!Y396","v":216320},{"$f":"F169/$F$173","v":0.1597446684699973},null,null,null,{"$f":"\"Day-to-day activities are limited by age group, \"&B166","v":"Day-to-day activities are limited by age group, Ashford "}]
["10-14",{"$f":"INDEX(Census2021Data!D397:Z397,Index!$B$1)","v":922},0.27069876688197297,{"$f":"(Census2021Data!P397)","v":10587},0.24250406578555558,{"$f":"Census2021Data!Y397","v":295266},0.21804349704355686,null,null,"0-4",{"$f":"B168/B$173","v":6.6940692894891365E-2}]
["15-19",{"$f":"INDEX(Census2021Data!D398:Z398,Index!$B$1)","v":882},0.25895478567234292,{"$f":"(Census2021Data!P398)","v":11804},0.27038046590466591,{"$f":"Census2021Data!Y398","v":363044},0.26809515264433109,null,null,"5-9",{"$f":"B169/B$173","v":0.18761009982384028}]
["20-24",{"$f":"INDEX(Census2021Data!D399:Z399,Index!$B$1)","v":894},0.26247798003523193,{"$f":"(Census2021Data!P399)","v":12582},0.2882012048468745,{"$f":"Census2021Data!Y399","v":449066},0.33161935693023209,null,null,"10-14",{"$f":"B170/B$173","v":0.27069876688197297}]
["All people under 25",{"$f":"INDEX(Census2021Data!D394:Z394,Index!$B$1)","v":3406},1,{"$f":"(Census2021Data!P394)","v":43657},1,{"$f":"Census2021Data!Y394","v":1354161},1,null,null,"15-19",{"$f":"B171/B$173","v":0.25895478567234292}]
["All usual residents living in households"]
[]
[]
[]
[]
["Top ten areas of origin of first year students starting at university in Kent"]
["Source: HESA"]
["2017/18","No.","%"]
["Kent",4325,0.30447025695177754]
["Greater London",3080,0.21682506159802886]
["Medway",840,5.9134107708553325E-2]
["Essex",495,3.4846884899683211E-2]
["Surrey",290,2.0415346708905314E-2]
["Hertfordshire",280,1.9711369236184443E-2]
["East Sussex",265,1.8655403027103133E-2]
["West Sussex",175,1.2319605772615276E-2]
["Hampshire",135,9.5036958817317843E-3]
["Suffolk",125,8.7997184090109117E-3]
[]
[]
[]
["Top ten areas of study for university students coming from Kent"]
["Source:HESA"]
["2017/18","No.","%"]
["Kent",4325,0.27090510491700592]
["Greater London",3055,0.19135609145004698]
["Milton Keynes",980,6.1384278108362042E-2]
["Brighton and Hove",590,3.6955840901973069E-2]
["Surrey",580,3.6329470717193862E-2]
["West Midlands",520,3.2571249608518635E-2]
["City of Nottingham",325,2.0357031005324145E-2]
["Essex",310,1.9417475728155338E-2]
["City of Portsmouth",305,1.9104290635765738E-2]
["Oxfordshire",300,1.8791105543376135E-2]
[]
[]
[]
[]
[]
[]
["Occupation of graduates in full time paid employment in Kent"]
["Source: HESA"]
["Occupation","Number",null,"Change"]
[null,"2014/15","2015/16","Number","%"]
["Managers, directors & senior officials",210,230,20,9.5238095238095237]
["Professional occupations",2395,2465,70,2.9227557411273484]
["Associate professional & technical occupations",1005,935,-70,-6.9651741293532341]
["Administrative & secretarial occupations",265,210,-55,-20.754716981132077]
["Skilled trades occupations",70,65,-5,-7.1428571428571423]
["Caring, leisure & other service occupations",350,390,40,11.428571428571429]
["Sales & customer service occupations",420,435,15,3.5714285714285712]
["Process, plant & machine operatives",20,30,10,50]
["Elementary occupations",235,235,0,0]
[]
[]
[]
["Industry of employment of graduates in full time paid employment in Kent"]
[]
["Industry","Number",null,"Change"]
[null,"2014/15","2015/16","Number","%"]
["Agriculture, forestry & fishing",10,25,15,150]
["Mining & Quarrying",10,5,-5,-50]
["Manufacturing",155,150,-5,-3.225806451612903]
["Electricity, gas, steam & air conditioning supply",5,20,15,300]
["Water supply; sewerage, waste management & remediation activities",20,15,-5,-25]
["Construction",145,100,-45,-31.03448275862069]
["Wholesale & retail trade; repair of motor vehicles & motor cycles",585,555,-30,-5.1282051282051277]
["Transport & storage",50,60,10,20]
["Accommodation & food service activities",240,225,-15,-6.25]
["Information & communication",160,135,-25,-15.625]
["Financial & insurance activities",105,100,-5,-4.7619047619047619]
["Real Estate activities",35,40,5,14.285714285714285]
["Professional, scientific & technical activities",350,350,0,0]
["Business administration & support service activities",135,145,10,7.4074074074074066]
["Public administration & defence",275,260,-15,-5.4545454545454541]
["Education",1345,1475,130,9.6654275092936803]
["Human health & social work activities",1095,1075,-20,-1.8264840182648401]
["Arts, entertainment, recreation",185,180,-5,-2.7027027027027026]
["Other service activities",70,70,0,0]
["Activities of households as employers",5,5,0,0]
["Activities of extraterritorial organisations & bodies",0,0,0,0]
[]
[]
[]
["NEETs - Year 12 & 13 (aged 16 & 17)"]
["Source:Kent County Council"]
[null,{"$f":"Data!E1146","v":"2024-12-01"}]
["Total",{"$f":"INDEX(Data!E1147:Z1147,Index!B1)","v":96}]
[]
["Glossary"]
[]
["Population by age and gender"]
["All numbers are separately rounded to the nearest 100. Percentages are calculated using rounded data"]
["Source: 2023 Mid-year population estimates, Office for National Statistics (ONS)"]
[]
["Schools - Number of schools, school populations, disabled pupils"]
["Source: Kent County Council"]
[]
["GCSE Results"]
["Source: Kent County Council"]
[]
["Regulated Qualifications Framework (RQF) qualifications"]
["RQF1 - 3-4 GCSEs at grades D-E"]
["RQF2 - 4-5 GCSEs at grade A*-C"]
["RQF3 - 2 or more Alevels"]
["RQF4+ - Degree and above"]
["Source: Annual Population Survey"]
[]
["Looked After Children, Children subject to a Child Protection Plan"]
["Source: Kent County Council"]
[]
["University Students"]
["This shows the number of students who come to study in Kent, and where students from Kent go to study. This information is available at county level only"]
["Source: Higher Education Statistics Agency (HESA)"]
[]
["NEETs"]
["Young people  who are not in employment, education or training."]
["The figures include Y12 & Y13 (academic age 16 & 17) with a Kent County Council area postcode as their primary address."]
["Source: Kent County Council"]
[]
["Provision of unpaid care"]
["A person is a provider of unpaid care if they look after or give help or support to family members, friends, neighbours or others because of long-term physical or mental ill health "]
["or disability, or problems related to old age. This does not include any activities as part of paid employment."]
["No distinction is made about whether any care that a person provides is within their own household or outside of the household, so no explicit link can be made about whether "]
["the care provided is for a person within the household who has poor general health or a long-term health problem "]
["Source: 2021 Census Custom Table, The Office for National Statistics(ONS)"]
[]
["Long term health problem or disability"]
["A long-term health problem or disability that limits a person's day-to-day activities, and has lasted, or is expected to last, at least 12 months."]
["This includes problems that are related to old age. People were asked to assess whether their daily activities were limited a lot or a little by such a health problem,"]
["or whether their daily activities were not limited at all."]
["Source: 2021 Census Custom Table, The Office for National Statistics(ONS)"]

{"sheet":"Older people","index":8,"n_rows":196,"n_cols":14,"rows_kept":196,"cut":false,"hidden":false,"merged":[]}
["Older people"]
["Includes information about the age of the population aged 60+, age groups, State Pension claimants, Pension Credit claimants, Disability Benefits claimants, "]
["Limiting long term illness and provision of unpaid care.",null,null,null,null,null,null,null,null,null,null,null,null,{"$f":"Profile!E14","v":"Version date: 4 February 2025"}]
[null,null,null,null,null,null,"Select geography:",null,null,null,"Select topic:"]
[]
["District Profile for",{"$f":"Index!C1","v":"Ashford "}]
[]
[]
[{"$f":"\"Population aged 60+, 2023 \"&Index!K6","v":"Population aged 60+, 2023 Ashford "}]
["Source: ONS Mid Year Estimates"]
[null,"Total Persons",null,"Males",null,"Females"]
["Age group","No.","% of total population","No.","% of total males","No.","% of total females"]
["Total Population",{"$f":"INDEX(Data!$E8:$Z8,Index!$B$1)","v":138300},null,{"$f":"INDEX(Data!$E58:$Z58,Index!$B$1)","v":67300},null,{"$f":"INDEX(Data!$E133:$Z133,Index!$B$1)","v":71000}]
["Population aged 60+",{"$f":"INDEX(Data!E31:Z31,Index!B1)","v":35600},{"$f":"INDEX(Data!E56:Z56,Index!B1)","v":0.25734905953732562},{"$f":"INDEX(Data!E156:Z156,Index!B1)","v":18900},{"$f":"INDEX(Data!E131:Z131,Index!B1)","v":0.24789766142691588},{"$f":"INDEX(Data!E156:Z156,Index!B1)","v":18900},{"$f":"INDEX(Data!E206:Z206,Index!B1)","v":0.26631162207475662},null,null,null,null,"KCC Males","KCC Females"]
["60-64",{"$f":"INDEX(Data!E21:Z21,Index!$B$1)","v":8500},{"$f":"INDEX(Data!E46:Z46,Index!$B$1)","v":6.115719213496959E-2},{"$f":"INDEX(Data!E146:Z146,Index!$B$1)","v":4200},{"$f":"INDEX(Data!E121:Z121,Index!$B$1)","v":3.0640064216136475E-2},{"$f":"INDEX(Data!E146:Z146,Index!$B$1)","v":4200},{"$f":"INDEX(Data!E196:Z196,Index!$B$1)","v":3.0517127918833119E-2},null,null,{"$f":"Population!J23","v":-3.0368763557483729E-2},{"$f":"Population!K23","v":3.0368763557483729E-2},{"$f":"Population!L23","v":-3.0391535232705956E-2},{"$f":"Population!M23","v":3.1483290493221246E-2}]
["65-69",{"$f":"INDEX(Data!E22:Z22,Index!$B$1)","v":6800},{"$f":"INDEX(Data!E47:Z47,Index!$B$1)","v":4.9434854609749571E-2},{"$f":"INDEX(Data!E147:Z147,Index!$B$1)","v":3600},{"$f":"INDEX(Data!E122:Z122,Index!$B$1)","v":2.3451906597340238E-2},{"$f":"INDEX(Data!E147:Z147,Index!$B$1)","v":3600},{"$f":"INDEX(Data!E197:Z197,Index!$B$1)","v":2.5982948012409336E-2},null,null,{"$f":"Population!J24","v":-2.3138105567606652E-2},{"$f":"Population!K24","v":2.6030368763557483E-2},{"$f":"Population!L24","v":-2.5206629277050596E-2},{"$f":"Population!M24","v":2.713986825656373E-2}]
["70-74",{"$f":"INDEX(Data!E23:Z23,Index!$B$1)","v":6500},{"$f":"INDEX(Data!E48:Z48,Index!$B$1)","v":4.7019517945083633E-2},{"$f":"INDEX(Data!E148:Z148,Index!$B$1)","v":3400},{"$f":"INDEX(Data!E123:Z123,Index!$B$1)","v":2.2287627546408451E-2},{"$f":"INDEX(Data!E148:Z148,Index!$B$1)","v":3400},{"$f":"INDEX(Data!E198:Z198,Index!$B$1)","v":2.4731890398675179E-2},null,null,{"$f":"Population!J25","v":-2.2415039768618944E-2},{"$f":"Population!K25","v":2.4584237165582067E-2},{"$f":"Population!L25","v":-2.2916924131703691E-2},{"$f":"Population!M25","v":2.5596630587405318E-2}]
["75-79",{"$f":"INDEX(Data!E24:Z24,Index!$B$1)","v":6500},{"$f":"INDEX(Data!E49:Z49,Index!$B$1)","v":4.6889350100880078E-2},{"$f":"INDEX(Data!E149:Z149,Index!$B$1)","v":3500},{"$f":"INDEX(Data!E124:Z124,Index!$B$1)","v":2.1723566888193054E-2},{"$f":"INDEX(Data!E149:Z149,Index!$B$1)","v":3500},{"$f":"INDEX(Data!E199:Z199,Index!$B$1)","v":2.5165783212687025E-2},null,null,{"$f":"Population!J26","v":-2.1691973969631236E-2},{"$f":"Population!K26","v":2.5307302964569775E-2},{"$f":"Population!L26","v":-2.2182877079411842E-2},{"$f":"Population!M26","v":2.5446964479450718E-2}]
["80-84",{"$f":"INDEX(Data!E25:Z25,Index!$B$1)","v":3900},{"$f":"INDEX(Data!E50:Z50,Index!$B$1)","v":2.8101791254167178E-2},{"$f":"INDEX(Data!E150:Z150,Index!$B$1)","v":2100},{"$f":"INDEX(Data!E125:Z125,Index!$B$1)","v":1.2749217185048053E-2},{"$f":"INDEX(Data!E150:Z150,Index!$B$1)","v":2100},{"$f":"INDEX(Data!E200:Z200,Index!$B$1)","v":1.5352574069119126E-2},null,null,{"$f":"Population!J27","v":-1.3015184381778741E-2},{"$f":"Population!K27","v":1.5184381778741865E-2},{"$f":"Population!L27","v":-1.2795520698325914E-2},{"$f":"Population!M27","v":1.5900626672487705E-2}]
["85-89",{"$f":"INDEX(Data!E26:Z26,Index!$B$1)","v":2200},{"$f":"INDEX(Data!E51:Z51,Index!$B$1)","v":1.6119118040540052E-2},{"$f":"INDEX(Data!E151:Z151,Index!$B$1)","v":1300},{"$f":"INDEX(Data!E126:Z126,Index!$B$1)","v":6.8916641958881421E-3},{"$f":"INDEX(Data!E151:Z151,Index!$B$1)","v":1300},{"$f":"INDEX(Data!E201:Z201,Index!$B$1)","v":9.2274538446519092E-3},null,null,{"$f":"Population!J28","v":-7.2306579898770785E-3},{"$f":"Population!K28","v":9.3998553868402026E-3},{"$f":"Population!L28","v":-7.1802470546517283E-3},{"$f":"Population!M28","v":1.0376643144453877E-2}]
["90+",{"$f":"INDEX(Data!E27:Z27,Index!$B$1)","v":1200},{"$f":"INDEX(Data!E52:Z52,Index!$B$1)","v":8.6272354519355242E-3},{"$f":"INDEX(Data!E152:Z152,Index!$B$1)","v":800},{"$f":"INDEX(Data!E127:Z127,Index!$B$1)","v":2.9143134007795606E-3},{"$f":"INDEX(Data!E152:Z152,Index!$B$1)","v":800},{"$f":"INDEX(Data!E202:Z202,Index!$B$1)","v":5.7129220511559628E-3},null,null,{"$f":"Population!J29","v":-2.8922631959508315E-3},{"$f":"Population!K29","v":5.7845263919016629E-3},{"$f":"Population!L29","v":-3.2926543750011646E-3},{"$f":"Population!M29","v":6.7598157057502219E-3}]
[]
[]
[]
["State Pension Claimants"]
["Source: DWP"]
[null,{"$f":"Index!$K$6","v":"Ashford "},null,"Kent",null,"South East",null,"England & Wales"]
[{"$f":"Data!E742","v":"Nov 2020"},"No.","%  of  claimants","No.","%  of  claimants","No.","%  of  claimants","No.","%  of  claimants"]
["Total claimants",{"$f":"INDEX(Data!E743:Z743,Index!$B$1)","v":23702},{"$f":"B29/B$29","v":1},{"$f":"Data!Q743","v":296153},{"$f":"D29/D$29","v":1},{"$f":"Data!Y743","v":1660920},{"$f":"F29/F$29","v":1},{"$f":"Data!Z743","v":10203908},{"$f":"H29/H$29","v":1}]
["Male",{"$f":"INDEX(Data!E751:Z751,Index!$B$1)","v":10874},{"$f":"B30/B$29","v":0.4587798498017045},{"$f":"Data!Q751","v":135025},0.45592987408535451,{"$f":"Data!Y751","v":754202},{"$f":"F30/F$29","v":0.45408689160224452},{"$f":"Data!Z751","v":4677082},{"$f":"H30/H$29","v":0.4583618354849926}]
["Female",{"$f":"INDEX(Data!E759:Z759,Index!$B$1)","v":12827},0.54117795966585103,{"$f":"Data!Q759","v":161136},0.5440971389788386,{"$f":"Data!Y759","v":906723},{"$f":"F31/F$29","v":0.54591611877754498},{"$f":"Data!Z759","v":5526817},{"$f":"H31/H$29","v":0.54163728249999898}]
[]
[]
[{"$f":"\"State Pension Claimants by Age in \"&Index!K6","v":"State Pension Claimants by Age in Ashford "}]
["Source: DWP"]
[{"$f":"Index!$K$6","v":"Ashford "},"Total",null,"Males",null,"Females"]
[{"$f":"Data!E742","v":"Nov 2020"},"No.","%  of State Pension claimants",null,"%  of male State Pension claimants",null,"%  of female State Pension claimants"]
["Total claimants",{"$f":"INDEX(Data!E743:Z743,Index!$B$1)","v":23702},{"$f":"B38/$B$38","v":1},{"$f":"INDEX(Data!E751:Z751,Index!$B$1)","v":10874},{"$f":"D38/D38","v":1},{"$f":"INDEX(Data!E759:Z759,Index!$B$1)","v":12827},{"$f":"F38/F38","v":1}]
["aged 60-64",{"$f":"INDEX(Data!E744:Z744,Index!$B$1)","v":".."},{"$f":"IFERROR(B39/B$38,\"-\")","v":"-"},{"$f":"INDEX(Data!E752:Z752,Index!$B$1)","v":".."},{"$f":"IF(ISERROR((D39/D$38)),\"-\",(D39/D$38))","v":"-"},{"$f":"INDEX(Data!E760:Z760,Index!$B$1)","v":".."},{"$f":"IFERROR(F39/F$38,\"-\")","v":"-"}]
["aged 65-69",{"$f":"INDEX(Data!E745:Z745,Index!$B$1)","v":4815},{"$f":"B40/B$38","v":0.20314741372036116},{"$f":"INDEX(Data!E753:Z753,Index!$B$1)","v":2329},{"$f":"D40/D$38","v":0.21418061430936178},{"$f":"INDEX(Data!E761:Z761,Index!$B$1)","v":2487},{"$f":"F40/F$38","v":0.19388789272628051}]
["aged 70-74",{"$f":"INDEX(Data!E746:Z746,Index!$B$1)","v":7114},0.30014344781031138,{"$f":"INDEX(Data!E754:Z754,Index!$B$1)","v":3357},0.3087180430384403,{"$f":"INDEX(Data!E762:Z762,Index!$B$1)","v":3758},0.29297575426834022]
["aged 75-79",{"$f":"INDEX(Data!E747:Z747,Index!$B$1)","v":5134},0.21660619357016286,{"$f":"INDEX(Data!E755:Z755,Index!$B$1)","v":2411},0.22172153761265403,{"$f":"INDEX(Data!E763:Z763,Index!$B$1)","v":2723},0.21228658298900757]
["aged 80-84",{"$f":"INDEX(Data!E748:Z748,Index!$B$1)","v":3463},0.14610581385537086,{"$f":"INDEX(Data!E756:Z756,Index!$B$1)","v":1563},0.14373735515909508,{"$f":"INDEX(Data!E764:Z764,Index!$B$1)","v":1906},0.14859281203710922]
["aged 85-89",{"$f":"INDEX(Data!E749:Z749,Index!$B$1)","v":2043},8.619525778415324E-2,{"$f":"INDEX(Data!E757:Z757,Index!$B$1)","v":843},7.7524370057016734E-2,{"$f":"INDEX(Data!E765:Z765,Index!$B$1)","v":1194},9.3084899041085217E-2]
["aged 90 and over",{"$f":"INDEX(Data!E750:Z750,Index!$B$1)","v":1135},4.7886254324529573E-2,{"$f":"INDEX(Data!E758:Z758,Index!$B$1)","v":370},3.4026117344123599E-2,{"$f":"INDEX(Data!E766:Z766,Index!$B$1)","v":763},5.9483901146020111E-2]
[]
[]
[]
["Pension Credit Claimants"]
["Source: DWP"]
[{"$f":"Data!E792","v":"Nov 2023"},{"$f":"Index!$K$6","v":"Ashford "},null,"Kent",null,"South East",null,"England & Wales"]
[null,"No.","%  of  claimants","No.","%  of  claimants","No.","%  of  claimants","No.","%  of  claimants"]
["Total claimants",{"$f":"INDEX(Data!E793:Z793,Index!$B$1)","v":2595},{"$f":"B53/B$53","v":1},{"$f":"Data!Q793","v":30289},{"$f":"D53/D$53","v":1},{"$f":"Data!Y793","v":148757},{"$f":"F53/F$53","v":1},{"$f":"Data!Z793","v":1242435},{"$f":"H53/H$53","v":1}]
["Male",{"$f":"INDEX(Data!E801:Z801,Index!$B$1)","v":944},{"$f":"B54/B$53","v":0.36377649325626205},{"$f":"Data!Q801","v":10171},{"$f":"D54/D$53","v":0.33579847469378321},{"$f":"Data!Y801","v":49012},{"$f":"F54/F$53","v":0.32947693217798152},{"$f":"Data!Z801","v":420879},{"$f":"H54/H$53","v":0.33875333518453682}]
["Female",{"$f":"INDEX(Data!E809:Z809,Index!$B$1)","v":1651},{"$f":"B55/B$53","v":0.63622350674373795},{"$f":"Data!Q809","v":20106},{"$f":"D55/D$53","v":0.66380534187328732},{"$f":"Data!Y809","v":99744},{"$f":"F55/F$53","v":0.67051634544928973},{"$f":"Data!Z809","v":821552},{"$f":"H55/H$53","v":0.6612434453311441}]
[]
[]
[]
["Pension Credit Claimants by Age"]
["Source: DWP"]
[{"$f":"Index!$K$6","v":"Ashford "},"Total",null,"Males",null,"Females"]
[{"$f":"Data!E792","v":"Nov 2023"},"No.","% of Pension Credit Claimants","No.","% of Pension Credit Claimants","No.","% of Pension Credit Claimants"]
["Total",{"$f":"INDEX(Data!E793:Z793,Index!$B$1)","v":2595},{"$f":"B63/B$63","v":1},{"$f":"INDEX(Data!E801:Z801,Index!$B$1)","v":944},{"$f":"D63/D$63","v":1},{"$f":"INDEX(Data!E809:Z809,Index!$B$1)","v":1651},{"$f":"F63/F$63","v":1}]
["aged 60-64",{"$f":"INDEX(Data!E794:Z794,Index!$B$1)","v":0},{"$f":"IFERROR(B64/B$63,\"-\")","v":0},{"$f":"INDEX(Data!E802:Z802,Index!$B$1)","v":0},{"$f":"IFERROR(D64/D$63,\"-\")","v":0},{"$f":"INDEX(Data!E810:Z810,Index!$B$1)","v":0},{"$f":"IFERROR(F64/F$63,\"-\")","v":0}]
["aged 65-69",{"$f":"INDEX(Data!E795:Z795,Index!$B$1)","v":234},{"$f":"B65/B$63","v":9.0173410404624274E-2},{"$f":"INDEX(Data!E803:Z803,Index!$B$1)","v":94},9.9576271186440676E-2,{"$f":"INDEX(Data!E811:Z811,Index!$B$1)","v":139},8.419139915202907E-2]
["aged 70-74",{"$f":"INDEX(Data!E796:Z796,Index!$B$1)","v":621},0.23930635838150288,{"$f":"INDEX(Data!E804:Z804,Index!$B$1)","v":237},0.2510593220338983,{"$f":"INDEX(Data!E812:Z812,Index!$B$1)","v":383},0.23198061780738946]
["aged 75-79",{"$f":"INDEX(Data!E797:Z797,Index!$B$1)","v":731},0.2816955684007707,{"$f":"INDEX(Data!E805:Z805,Index!$B$1)","v":305},0.32309322033898308,{"$f":"INDEX(Data!E813:Z813,Index!$B$1)","v":426},0.25802543912780135]
["aged 80-84",{"$f":"INDEX(Data!E798:Z798,Index!$B$1)","v":505},0.19460500963391136,{"$f":"INDEX(Data!E806:Z806,Index!$B$1)","v":195},0.2065677966101695,{"$f":"INDEX(Data!E814:Z814,Index!$B$1)","v":312},0.1889763779527559]
["aged 85-89",{"$f":"INDEX(Data!E799:Z799,Index!$B$1)","v":280},0.10789980732177264,{"$f":"INDEX(Data!E807:Z807,Index!$B$1)","v":65},6.8855932203389827E-2,{"$f":"INDEX(Data!E815:Z815,Index!$B$1)","v":212},0.12840702604482132]
["aged 90 and over",{"$f":"INDEX(Data!E800:Z800,Index!$B$1)","v":221},8.5163776493256266E-2,{"$f":"INDEX(Data!E808:Z808,Index!$B$1)","v":47},4.9788135593220338E-2,{"$f":"INDEX(Data!E816:Z816,Index!$B$1)","v":174},0.10539067231980617]
[]
[]
[]
[]
[]
[]
["Disability living Allowance (DLA)"]
["Source: DWP"]
[{"$f":"Data!E842","v":"Nov 2023"},"Total",null,"Males",null,"Females"]
[{"$f":"Index!$K$6","v":"Ashford "},"No.","% of all claimants","No.","% of all male claimants","No.","% of all female claimants"]
["Total Disability Living Allowance Claimants aged 60+",{"$f":"INDEX(Data!E843:Z843,Index!$B$1)","v":853},{"$f":"B81/B$81","v":1},{"$f":"INDEX(Data!E851:Z851,Index!$B$1)","v":357},{"$f":"D81/D$81","v":1},{"$f":"INDEX(Data!E859:Z859,Index!$B$1)","v":505},{"$f":"F81/F$81","v":1}]
["aged 60-64",{"$f":"INDEX(Data!E844:Z844,Index!$B$1)","v":105},{"$f":"IF(ISERROR((B82/B$81)),\"~\",(B82/B$81))","v":0.123094958968347},{"$f":"INDEX(Data!E852:Z852,Index!$B$1)","v":51},{"$f":"IF(ISERROR((D82/D$81)),\"~\",(D82/D$81))","v":0.14285714285714285},{"$f":"INDEX(Data!E860:Z860,Index!$B$1)","v":56},{"$f":"IF(ISERROR((F82/F$81)),\"~\",(F82/F$81))","v":0.11089108910891089}]
["aged 65-69",{"$f":"INDEX(Data!E845:Z845,Index!$B$1)","v":104},0.12192262602579132,{"$f":"INDEX(Data!E853:Z853,Index!$B$1)","v":30},8.4033613445378158E-2,{"$f":"INDEX(Data!E861:Z861,Index!$B$1)","v":74},0.14653465346534653]
["aged 70-74",{"$f":"INDEX(Data!E846:Z846,Index!$B$1)","v":120},0.1406799531066823,{"$f":"INDEX(Data!E854:Z854,Index!$B$1)","v":48},0.13445378151260504,{"$f":"INDEX(Data!E862:Z862,Index!$B$1)","v":69},0.13663366336633664]
["aged 75-79",{"$f":"INDEX(Data!E847:Z847,Index!$B$1)","v":295},0.34583821805392734,{"$f":"INDEX(Data!E855:Z855,Index!$B$1)","v":126},0.35294117647058826,{"$f":"INDEX(Data!E863:Z863,Index!$B$1)","v":174},0.34455445544554453]
["aged 80-84",{"$f":"INDEX(Data!E848:Z848,Index!$B$1)","v":158},0.18522860492379836,{"$f":"INDEX(Data!E856:Z856,Index!$B$1)","v":74},0.20728291316526612,{"$f":"INDEX(Data!E864:Z864,Index!$B$1)","v":88},0.17425742574257425]
["aged 85-89",{"$f":"INDEX(Data!E849:Z849,Index!$B$1)","v":55},6.4478311840562713E-2,{"$f":"INDEX(Data!E857:Z857,Index!$B$1)","v":21},5.8823529411764705E-2,{"$f":"INDEX(Data!E865:Z865,Index!$B$1)","v":31},6.1386138613861385E-2]
["aged 90 and over",{"$f":"INDEX(Data!E850:Z850,Index!$B$1)","v":16},1.8757327080890972E-2,{"$f":"INDEX(Data!E858:Z858,Index!$B$1)","v":7},1.9607843137254902E-2,{"$f":"INDEX(Data!E866:Z866,Index!$B$1)","v":13},2.5742574257425741E-2]
[]
[]
[]
["Attendance Allowance (AA)"]
["Source: DWP"]
[{"$f":"Data!E867","v":"Nov 2023"},"Total",null,"Males",null,"Females"]
[{"$f":"Index!$K$6","v":"Ashford "},"No.","% of all claimants","No.","% of all male claimants","No.","% of all female claimants"]
["Total Attendance Allowance Claimants aged 65+",{"$f":"INDEX(Data!E868:Z868,Index!$B$1)","v":3354},{"$f":"B96/B$96","v":1},{"$f":"INDEX(Data!E875:Z875,Index!$B$1)","v":1280},{"$f":"D96/D$96","v":1},{"$f":"INDEX(Data!E882:Z882,Index!$B$1)","v":2064},{"$f":"F96/F$96","v":1}]
["aged 65-69",{"$f":"INDEX(Data!E869:Z869,Index!$B$1)","v":105},3.1305903398926652E-2,{"$f":"INDEX(Data!E876:Z876,Index!$B$1)","v":55},4.296875E-2,{"$f":"INDEX(Data!E883:Z883,Index!$B$1)","v":46},2.2286821705426358E-2]
["aged 70-74",{"$f":"INDEX(Data!E870:Z870,Index!$B$1)","v":362},0.10793082886106142,{"$f":"INDEX(Data!E877:Z877,Index!$B$1)","v":158},0.12343750000000001,{"$f":"INDEX(Data!E884:Z884,Index!$B$1)","v":202},9.7868217054263559E-2]
["aged 75-79",{"$f":"INDEX(Data!E871:Z871,Index!$B$1)","v":720},0.21466905187835419,{"$f":"INDEX(Data!E878:Z878,Index!$B$1)","v":318},0.24843750000000001,{"$f":"INDEX(Data!E885:Z885,Index!$B$1)","v":403},0.19525193798449614]
["aged 80-84",{"$f":"INDEX(Data!E872:Z872,Index!$B$1)","v":781},0.23285629099582589,{"$f":"INDEX(Data!E879:Z879,Index!$B$1)","v":295},0.23046875,{"$f":"INDEX(Data!E886:Z886,Index!$B$1)","v":485},0.23498062015503876]
["aged 85-89",{"$f":"INDEX(Data!E873:Z873,Index!$B$1)","v":719},0.21437090041741205,{"$f":"INDEX(Data!E880:Z880,Index!$B$1)","v":246},0.19218750000000001,{"$f":"INDEX(Data!E887:Z887,Index!$B$1)","v":472},0.22868217054263565]
["aged 90 and over",{"$f":"INDEX(Data!E874:Z874,Index!$B$1)","v":667},0.1988670244484198,{"$f":"INDEX(Data!E881:Z881,Index!$B$1)","v":208},0.16250000000000001,{"$f":"INDEX(Data!E888:Z888,Index!$B$1)","v":456},0.22093023255813954]
[]
[]
[]
["Disability Benefits Claimants (AA or DLA)"]
["Source: DWP"]
[{"$f":"Data!E889","v":"Nov 2023"},"Total",null,"Males",null,"Females"]
[{"$f":"Index!$K$6","v":"Ashford "},"No.","% of all claimants","No.","% of all male claimants","No.","% of all female claimants"]
["Total Disability Benefits Claimants aged 60+",{"$f":"INDEX(Data!E890:Z890,Index!$B$1)","v":3482},{"$f":"B110/B$110","v":1},{"$f":"INDEX(Data!E898:Z898,Index!$B$1)","v":1557},{"$f":"D110/D$110","v":1},{"$f":"INDEX(Data!E906:Z906,Index!$B$1)","v":2450},{"$f":"F110/F$110","v":1}]
["aged 60-64",{"$f":"INDEX(Data!E891:Z891,Index!$B$1)","v":45},{"$f":"B111/B$110","v":1.2923607122343481E-2},{"$f":"INDEX(Data!E899:Z899,Index!$B$1)","v":45},{"$f":"D111/D$110","v":2.8901734104046242E-2},{"$f":"INDEX(Data!E907:Z907,Index!$B$1)","v":45},{"$f":"F111/F$110","v":1.8367346938775512E-2}]
["aged 65-69",{"$f":"INDEX(Data!E892:Z892,Index!$B$1)","v":123},3.5324526134405516E-2,{"$f":"INDEX(Data!E900:Z900,Index!$B$1)","v":74},4.7527296082209375E-2,{"$f":"INDEX(Data!E908:Z908,Index!$B$1)","v":118},4.8163265306122451E-2]
["aged 70-74",{"$f":"INDEX(Data!E893:Z893,Index!$B$1)","v":405},0.11631246410109132,{"$f":"INDEX(Data!E901:Z901,Index!$B$1)","v":218},0.14001284521515736,{"$f":"INDEX(Data!E909:Z909,Index!$B$1)","v":261},0.10653061224489796]
["aged 75-79",{"$f":"INDEX(Data!E894:Z894,Index!$B$1)","v":770},0.22113727742676623,{"$f":"INDEX(Data!E902:Z902,Index!$B$1)","v":411},0.26396917148362237,{"$f":"INDEX(Data!E910:Z910,Index!$B$1)","v":551},0.22489795918367347]
["aged 80-84",{"$f":"INDEX(Data!E895:Z895,Index!$B$1)","v":784},0.22515795519816198,{"$f":"INDEX(Data!E903:Z903,Index!$B$1)","v":349},0.22414900449582531,{"$f":"INDEX(Data!E911:Z911,Index!$B$1)","v":510},0.20816326530612245]
["aged 85-89",{"$f":"INDEX(Data!E896:Z896,Index!$B$1)","v":680},0.19529006318207925,{"$f":"INDEX(Data!E904:Z904,Index!$B$1)","v":256},0.16441875401412973,{"$f":"INDEX(Data!E912:Z912,Index!$B$1)","v":448},0.18285714285714286]
["aged 90 and over",{"$f":"INDEX(Data!E897:Z897,Index!$B$1)","v":675},{"$f":"IF(ISERROR((B117/B$110)),\"-\",(B117/B$110))","v":0.19385410683515222},{"$f":"INDEX(Data!E905:Z905,Index!$B$1)","v":204},{"$f":"IF(ISERROR((D117/D$110)),\"-\",(D117/D$110))","v":0.13102119460500963},{"$f":"INDEX(Data!E913:Z913,Index!$B$1)","v":492},{"$f":"IF(ISERROR((F117/F$110)),\"-\",(F117/F$110))","v":0.20081632653061224}]
[]
[]
[]
[]
["Personal Independence Payments (PIP)"]
["Source: DWP"]
["PIP is a new benefit introduced in 2013 which is paid to qualifiying people with additional health related needs"]
["It will replace DLA for people aged 16 and over who make a claim before their 65th birthday"]
[]
[{"$f":"Data!E914","v":"Nov 2023"},"Total",null,"Males",null,"Females"]
[{"$f":"Index!$K$6","v":"Ashford "},"No.","% of all claimants","No.","% of all male claimants","No.","% of all female claimants"]
["Total PIP Claimants aged 60+",{"$f":"INDEX(Data!E915:Z915,Index!$B$1)","v":1638},{"$f":"B129/B$129","v":1},{"$f":"INDEX(Data!E918:Z918,Index!$B$1)","v":684},{"$f":"D129/D$129","v":1},{"$f":"INDEX(Data!E921:Z921,Index!$B$1)","v":951},{"$f":"F129/F$129","v":1}]
["aged 60-64",{"$f":"INDEX(Data!E916:Z916,Index!$B$1)","v":733},{"$f":"B130/B$129","v":0.44749694749694752},{"$f":"INDEX(Data!E919:Z919,Index!$B$1)","v":298},{"$f":"D130/D$129","v":0.43567251461988304},{"$f":"INDEX(Data!E922:Z922,Index!$B$1)","v":434},{"$f":"F130/F$129","v":0.45636172450052576}]
["aged 65+",{"$f":"INDEX(Data!E917:Z917,Index!$B$1)","v":905},{"$f":"B131/B$129","v":0.55250305250305254},{"$f":"INDEX(Data!E920:Z920,Index!$B$1)","v":386},{"$f":"D131/D$129","v":0.56432748538011701},{"$f":"INDEX(Data!E923:Z923,Index!$B$1)","v":517},{"$f":"F131/F$129","v":0.54363827549947419}]
[]
[]
[]
["Long term health problem or disability: day to day activities are limited"]
["Source: 2021 Census - Custom Table"]
[2021,"Total",null,"Males",null,"Females"]
[{"$f":"Index!$L$6","v":"Ashford "},"No.","% of people 60+ whose day to day activities are limited","No.","% of males 60+ whose day to day activities are limited","No.","% of females 60+ whose day to day activities are limited"]
["Aged 60+",{"$f":"INDEX(Census2021Data!D401:Y401,Index!$B$1)","v":10126},{"$f":"B139/B$139","v":1},{"$f":"INDEX(Census2021Data!D408:Z408,Index!$B$1)","v":4447},{"$f":"D139/D$139","v":1},{"$f":"INDEX(Census2021Data!D415:Z415,Index!$B$1)","v":5679},{"$f":"F139/F$139","v":1}]
["60-64",{"$f":"INDEX(Census2021Data!D402:Y402,Index!$B$1)","v":1668},0.16472447165712029,{"$f":"INDEX(Census2021Data!D409:Z409,Index!$B$1)","v":784},0.17629862828873397,{"$f":"INDEX(Census2021Data!D416:Z416,Index!$B$1)","v":884},0.15566120795914773]
["65-69",{"$f":"INDEX(Census2021Data!D403:Y403,Index!$B$1)","v":1576},0.15563894923958127,{"$f":"INDEX(Census2021Data!D410:Z410,Index!$B$1)","v":723},0.16258151562851361,{"$f":"INDEX(Census2021Data!D417:Z417,Index!$B$1)","v":853},0.15020250044021835]
["70-74",{"$f":"INDEX(Census2021Data!D404:Y404,Index!$B$1)","v":1903},0.18793205609322536,{"$f":"INDEX(Census2021Data!D411:Z411,Index!$B$1)","v":908},0.20418259500787048,{"$f":"INDEX(Census2021Data!D418:Z418,Index!$B$1)","v":995},0.17520690262370137]
["75-79",{"$f":"INDEX(Census2021Data!D405:Y405,Index!$B$1)","v":1696},0.1674896306537626,{"$f":"INDEX(Census2021Data!D412:Z412,Index!$B$1)","v":781},0.17562401619069035,{"$f":"INDEX(Census2021Data!D419:Z419,Index!$B$1)","v":915},0.16111991547807714]
["80-84",{"$f":"INDEX(Census2021Data!D406:Y406,Index!$B$1)","v":1452},0.1433932451115939,{"$f":"INDEX(Census2021Data!D413:Z413,Index!$B$1)","v":605},0.13604677310546437,{"$f":"INDEX(Census2021Data!D420:Z420,Index!$B$1)","v":847},0.14914597640429653]
["85+",{"$f":"INDEX(Census2021Data!D407:Y407,Index!$B$1)","v":1831},0.18082164724471658,{"$f":"INDEX(Census2021Data!D414:Z414,Index!$B$1)","v":646},0.14526647177872723,{"$f":"INDEX(Census2021Data!D421:Z421,Index!$B$1)","v":1185},0.20866349709455889]
[]
[]
[]
["Providing unpaid care aged 50+"]
["Source: 2021 Census - Custom Table"]
[2021,"Total",null,"Males",null,"Females"]
[{"$f":"Index!$L$6","v":"Ashford "},"No.","%  of unpaid carers","No.","%  of unpaid male carers","No.","%  of unpaid female carers"]
["Aged 50+",{"$f":"INDEX(Census2021Data!D423:Z423,Index!$B$1)","v":6542},{"$f":"B153/B$153","v":1},{"$f":"INDEX(Census2021Data!D428:Z428,Index!$B$1)","v":2747},{"$f":"D153/D$153","v":1},{"$f":"INDEX(Census2021Data!D433:Z433,Index!$B$1)","v":3795},{"$f":"F153/F$153","v":1}]
["50-64",{"$f":"INDEX(Census2021Data!D424:Z424,Index!$B$1)","v":3913},{"$f":"B154/B$153","v":0.59813512687251602},{"$f":"INDEX(Census2021Data!D429:Z429,Index!$B$1)","v":1568},{"$f":"D154/D$153","v":0.57080451401528942},{"$f":"INDEX(Census2021Data!D434:Z434,Index!$B$1)","v":2345},{"$f":"F154/F$153","v":0.61791831357048743}]
["65-74",{"$f":"INDEX(Census2021Data!D425:Z425,Index!$B$1)","v":1543},{"$f":"B155/B$153","v":0.23586059309079793},{"$f":"INDEX(Census2021Data!D430:Z430,Index!$B$1)","v":632},{"$f":"D155/D$153","v":0.23006916636330543},{"$f":"INDEX(Census2021Data!D435:Z435,Index!$B$1)","v":911},{"$f":"F155/F$153","v":0.24005270092226613}]
["75-84",{"$f":"INDEX(Census2021Data!D426:Z426,Index!$B$1)","v":858},{"$f":"B156/B$153","v":0.1311525527361663},{"$f":"INDEX(Census2021Data!D431:Z431,Index!$B$1)","v":410},{"$f":"D156/D$153","v":0.14925373134328357},{"$f":"INDEX(Census2021Data!D436:Z436,Index!$B$1)","v":448},{"$f":"F156/F$153","v":0.11805006587615283}]
["85+",{"$f":"INDEX(Census2021Data!D427:Z427,Index!$B$1)","v":228},{"$f":"B157/B$153","v":3.4851727300519719E-2},{"$f":"INDEX(Census2021Data!D432:Z432,Index!$B$1)","v":137},{"$f":"D157/D$153","v":4.9872588278121584E-2},{"$f":"INDEX(Census2021Data!D437:Z437,Index!$B$1)","v":91},{"$f":"F157/F$153","v":2.3978919631093543E-2}]
[]
[]
["Glossary"]
[]
[]
["Population by age and gender"]
["All numbers are separately rounded to the nearest 100. Percentages are calculated using unrounded data"]
["Source: 2023 Mid-year population estimates, Office for National Statistics (ONS)"]
[]
["State Pension Claimants"]
["The State Pension is a regular payment you can receive when you reach State Pension age. It is based on your National Insurance contributions."]
["The State Pension age (formerly aged 60 for females and 65 for males) will rise in the future. From December 2018 the State Pension age for both men and women will start to increase"]
["to reach 66 by October 2020. This will mean women's State Pension age will increase more quickly to 65 between April 2016 and November 2018."]
["Data is as at November each year"]
["Source: DWP - Note: percentages are based on rounded figures so may exceed 100% in some cases"]
[]
["Pension Credit Claimants"]
["Pension Credit is an income related benefit for pensioners living in Great Britain and is available in two parts:"]
["Guarantee Credit - this tops up weekly income to a guaranteed weekly level"]
["Savings Credit - this is extra money for people who have an income higher than the Basic State Pension or who have a small amount of savings."]
["Data is as at November each year"]
["Source: DWP "]
[]
["Disability Benefits Claimants"]
["This data gives a count of the number of people claiming the disability related benefits Disability Living Allowance (DLA) and Attendance Allowance (AA)."]
["Claimants of Disability living Allowance must be aged under 65 when they make their claim, but may continue to receive it beyond that age."]
["For all new claims from the age of 65 the claimant would be for eligible for the disability benefit Attendance Allowance."]
["This section also presents the number of people claiming Personal Independence Payments (PIP)"]
["PIP was introduced in 2013 to replace DLA for people aged 16 and over who claim before their 65th birthday."]
["Data is as at November each year"]
["Source: Department for Work & Pensions Longitudinal Study"]
[]
["Long term health problem or disability"]
["This data shows the number of people who consider themselves to have a limiting long term illness, health problem or disability which limits daily activities or work"]
["Source: 2021 Census, Office for National Statistics"]
[]
["Carers"]
["The 2021 Census gives us data looking at the number of people who provide unpaid care. This section looks particularly at older people (aged 60 and above) who provide unpaid care."]
["Source: 2021 Census, Office for National Statistics"]

{"sheet":"Economy","index":9,"n_rows":696,"n_cols":14,"rows_kept":696,"cut":false,"hidden":false,"merged":[]}
["Economy"]
["Includes information about the working age population, employees, economic activity, People in employment, employment by industry and occupation, "]
["method of travel to work and distance travelled, unemployment and worklessness and qualifications.",null,null,null,null,null,null,null,null,null,null,null,null,{"$f":"Profile!E14","v":"Version date: 4 February 2025"}]
[null,null,null,null,null,null,"Select geography:",null,null,null,"Select topic:"]
[]
["District Profile for",{"$f":"Index!C1","v":"Ashford "}]
[]
[]
["Population aged 16-64 (working age)"]
["Source: ONS Mid Year Estimates"]
[{"$f":"Data!E924","v":"Mid 2023"},{"$f":"Index!K6","v":"Ashford "},null,"Kent"]
[null,"Number","% ","Number","%"]
["Males",{"$f":"INDEX(Data!E926:Z926,Index!$B$1)","v":40900},{"$f":"INDEX(Data!E929:Z929,Index!$B$1)","v":0.60785071167503635},{"$f":"Data!Q926","v":474600},{"$f":"Data!Q929","v":0.60530880447314983}]
["Females",{"$f":"INDEX(Data!E927:Z927,Index!$B$1)","v":43000},{"$f":"INDEX(Data!E930:Z930,Index!$B$1)","v":0.60602730461980636},{"$f":"Data!Q927","v":496900},{"$f":"Data!Q930","v":0.60142581351860036},null,{"$f":"A9&\" - \"&A11&\" - \"&Index!K6","v":"Population aged 16-64 (working age) - Mid 2023 - Ashford "}]
["Total",{"$f":"INDEX(Data!E925:Z925,Index!$B$1)","v":83900},{"$f":"INDEX(Data!E928:Z928,Index!$B$1)","v":0.60691480514596874},{"$f":"Data!Q925","v":971500},{"$f":"Data!Q928","v":0.60331650158888273}]
[null,null,null,null,null,null,null,"working age","Above or below working age"]
[null,null,null,null,null,null,null,{"$f":"C13","v":0.60785071167503635},{"$f":"100%-H17","v":0.39214928832496365}]
[null,null,null,null,null,null,null,{"$f":"C14","v":0.60602730461980636},{"$f":"100%-H18","v":0.39397269538019364}]
["Labour market pressure",null,null,null,null,null,null,{"$f":"C15","v":0.60691480514596874}]
[{"$f":"Data!E960","v":"Mid 2023"},{"$f":"Index!K6","v":"Ashford "},"Kent",null,null,null,null,{"$f":"100%-H19","v":0.39308519485403126}]
["Those aged 5-14",{"$f":"INDEX(Data!E961:Z961,Index!$B$1)","v":17800},{"$f":"Data!Q961","v":201000}]
["Those aged 55-64",{"$f":"INDEX(Data!E962:Z962,Index!$B$1)","v":18400},{"$f":"Data!Q962","v":212000}]
["Ratio",{"$f":"INDEX(Data!E963:Z963,Index!$B$1)","v":0.96739130434782605},{"$f":"Data!Q963","v":0.94811320754716977}]
["Note: Labour market pressure is the difference between those about to leave and those"]
["about to join the labour market"]
[]
[]
[]
[]
[]
[]
[]
["Economic Activity"]
["Source: 2021 Census Custom Table"]
[null,"All People",null,"Males",null,"Females"]
[{"$f":"Index!L6","v":"Ashford "},"Number","% of all people 16+","Number","% of 16+ Males","Number","% of 16+ Females"]
["Aged 16 and over",{"$f":"INDEX(Census2021Data!D439:Y439,Index!$B$1)","v":106766},{"$f":"B37/B$37","v":1},{"$f":"INDEX(Census2021Data!D467:Y467,Index!$B$1)","v":51342},{"$f":"D37/D$37","v":1},{"$f":"INDEX(Census2021Data!D453:Y453,Index!$B$1)","v":55422},{"$f":"F37/F$37","v":1}]
["Economically Active",{"$f":"INDEX(Census2021Data!D440:Y440,Index!$B$1)","v":66677},0.62451529513140891,{"$f":"INDEX(Census2021Data!D468:Y468,Index!$B$1)","v":34946},0.68065131860854666,{"$f":"INDEX(Census2021Data!D454:Y454,Index!$B$1)","v":31731},0.57253437263180684]
["Employee: Part-time",{"$f":"INDEX(Census2021Data!D441:Y441,Index!$B$1)","v":18592},0.1741378341419553,{"$f":"INDEX(Census2021Data!D469:Y469,Index!$B$1)","v":5392},0.10502123018191734,{"$f":"INDEX(Census2021Data!D455:Y455,Index!$B$1)","v":13200},0.23817256685070912]
["Employee: Full-time",{"$f":"INDEX(Census2021Data!D442:Y442,Index!$B$1)","v":45023},0.42169791881310531,{"$f":"INDEX(Census2021Data!D470:Y470,Index!$B$1)","v":27942},0.54423279186630824,{"$f":"INDEX(Census2021Data!D456:Y456,Index!$B$1)","v":17081},0.30819891018007289]
["Self-employed",{"$f":"INDEX(Census2021Data!D443:Y443,Index!$B$1)","v":11573},0.10839593128898713,{"$f":"INDEX(Census2021Data!D471:Y471,Index!$B$1)","v":7802},0.15196135717346421,{"$f":"INDEX(Census2021Data!D457:Y457,Index!$B$1)","v":3771},6.8041571938941212E-2]
["Unemployed",{"$f":"INDEX(Census2021Data!D444:Y444,Index!$B$1)","v":3063},2.868890845400221E-2,{"$f":"INDEX(Census2021Data!D472:Y472,Index!$B$1)","v":1614},3.1436251022554637E-2,{"$f":"INDEX(Census2021Data!D458:Y458,Index!$B$1)","v":1449},2.6144852224748296E-2]
["Full-time student",{"$f":"INDEX(Census2021Data!D445:Y445,Index!$B$1)","v":1851},1.7336979937433265E-2,{"$f":"INDEX(Census2021Data!D473:Y473,Index!$B$1)","v":718},1.3984651941879943E-2,{"$f":"INDEX(Census2021Data!D459:Y459,Index!$B$1)","v":1133},2.0443145321352531E-2]
["Economically Inactive",{"$f":"INDEX(Census2021Data!D446:Y446,Index!$B$1)","v":40087},0.37546597231328327,{"$f":"INDEX(Census2021Data!D474:Y474,Index!$B$1)","v":16396},0.31934868139145339,{"$f":"INDEX(Census2021Data!D460:Y460,Index!$B$1)","v":23691},0.42746562736819316]
["Retired",{"$f":"INDEX(Census2021Data!D447:Y447,Index!$B$1)","v":24070},0.22544630313021,{"$f":"INDEX(Census2021Data!D475:Y475,Index!$B$1)","v":10650},0.2074325113941802,{"$f":"INDEX(Census2021Data!D461:Y461,Index!$B$1)","v":13420},0.24214210963155425]
["Student (including full-time students)",{"$f":"INDEX(Census2021Data!D448:Y448,Index!$B$1)","v":3927},3.6781372347001857E-2,{"$f":"INDEX(Census2021Data!D476:Y476,Index!$B$1)","v":1987},3.8701258229130148E-2,{"$f":"INDEX(Census2021Data!D462:Y462,Index!$B$1)","v":1940},3.5004149976543608E-2]
["Looking after home or family",{"$f":"INDEX(Census2021Data!D449:Y449,Index!$B$1)","v":5431},5.086825393851975E-2,{"$f":"INDEX(Census2021Data!D477:Y477,Index!$B$1)","v":725},1.4120992559697714E-2,{"$f":"INDEX(Census2021Data!D463:Y463,Index!$B$1)","v":4706},8.4912128757533109E-2]
["Long-term sick or disabled",{"$f":"INDEX(Census2021Data!D450:Y450,Index!$B$1)","v":3636},3.4055785549706834E-2,{"$f":"INDEX(Census2021Data!D478:Y478,Index!$B$1)","v":1519},2.9585914066456314E-2,{"$f":"INDEX(Census2021Data!D464:Y464,Index!$B$1)","v":2117},3.8197827577496304E-2]
["Other",{"$f":"INDEX(Census2021Data!D451:Y451,Index!$B$1)","v":3023},2.8314257347844818E-2,{"$f":"INDEX(Census2021Data!D479:Y479,Index!$B$1)","v":1515},2.9508005141989015E-2,{"$f":"INDEX(Census2021Data!D465:Y465,Index!$B$1)","v":1508},2.7209411425065857E-2]
[]
[]
[]
["Economically active population by age"]
["Source: Annual Population Survey (ONS)"]
[{"$f":"Data!E947","v":2023},{"$f":"B6","v":"Ashford "}]
[null,"Males","Females","Total",null,null,null,{"$f":"A53&\" - \"&A55&\" - \"&B6","v":"Economically active population by age - 2023 - Ashford "}]
["Aged 16-24",{"$f":"INDEX(Data!E932:Z932,Index!$B$1)","v":"-"},{"$f":"INDEX(Data!E940:Z940,Index!$B$1)","v":4300},{"$f":"INDEX(Data!E948:Z948,Index!$B$1)","v":5600}]
["Aged 25-34",{"$f":"INDEX(Data!E933:Z933,Index!$B$1)","v":6400},{"$f":"INDEX(Data!E941:Z941,Index!$B$1)","v":4600},{"$f":"INDEX(Data!E949:Z949,Index!$B$1)","v":11000}]
["Aged 35-49",{"$f":"INDEX(Data!E934:Z934,Index!$B$1)","v":9900},{"$f":"INDEX(Data!E942:Z942,Index!$B$1)","v":5600},{"$f":"INDEX(Data!E950:Z950,Index!$B$1)","v":15500}]
["Aged 50-64",{"$f":"INDEX(Data!E935:Z935,Index!$B$1)","v":13200},{"$f":"INDEX(Data!E943:Z943,Index!$B$1)","v":11700},{"$f":"INDEX(Data!E951:Z951,Index!$B$1)","v":24900}]
["Aged 65+",{"$f":"INDEX(Data!E936:Z936,Index!$B$1)","v":3800},{"$f":"INDEX(Data!E944:Z944,Index!$B$1)","v":1700},{"$f":"INDEX(Data!E952:Z952,Index!$B$1)","v":5500}]
["Aged 16-64",{"$f":"INDEX(Data!E937:Z937,Index!$B$1)","v":30800},{"$f":"INDEX(Data!E945:Z945,Index!$B$1)","v":26200},{"$f":"INDEX(Data!E953:Z953,Index!$B$1)","v":57000}]
["Aged 16-74",{"$f":"INDEX(Data!E938:Z938,Index!$B$1)","v":0},{"$f":"INDEX(Data!E946:Z946,Index!$B$1)","v":0},{"$f":"INDEX(Data!E954:Z954,Index!$B$1)","v":0}]
["Note: \"-\" figures missing or disclosive"]
[]
[]
[]
[]
[]
[]
[]
[]
[]
["Workforce Forecast (Economically Active Population)"]
["Source:KCC Housing Led Forecasts November 2020",null,null,null,null,null,{"$f":" \"Workforce \"&A76&\" - \"&B6","v":"Workforce Kent Housing Led  Forecasts - November 2020 - Ashford "}]
["Kent Housing Led  Forecasts - November 2020"]
[{"$f":"B6","v":"Ashford "}]
[2018,{"$f":"INDEX(Data!E955:Z955,Index!$B$1)","v":93500}]
[2023,{"$f":"INDEX(Data!E956:Z956,Index!$B$1)","v":101700}]
[2028,{"$f":"INDEX(Data!E957:Z957,Index!$B$1)","v":109800}]
[2033,{"$f":"INDEX(Data!E958:Z958,Index!$B$1)","v":113600}]
[2038,{"$f":"INDEX(Data!E959:Z959,Index!$B$1)","v":116500}]
[]
[]
[]
[]
[]
[]
[{"$f":"\"Employment Rate\"&\" - \"&Data!E964&\" - \"&Index!N6","v":"Employment Rate - 2023 - Ashford "}]
["Source: NOMIS - Annual Population Survey"]
[null,"Males","Females","Total"]
["16-24",{"$f":"INDEX(Data!E965:Z965,Index!$B$1)","v":"-"},{"$f":"INDEX(Data!E969:Z969,Index!$B$1)","v":0.51807228915662651},{"$f":"INDEX(Data!E973:Z973,Index!$B$1)","v":0.51851851851851849}]
["25-49",{"$f":"INDEX(Data!E966:Z966,Index!$B$1)","v":0.850828729281768},{"$f":"INDEX(Data!E970:Z970,Index!$B$1)","v":0.53968253968253965},{"$f":"INDEX(Data!E974:Z974,Index!$B$1)","v":0.69189189189189193}]
["50-64",{"$f":"INDEX(Data!E967:Z967,Index!$B$1)","v":0.77707006369426757},{"$f":"INDEX(Data!E971:Z971,Index!$B$1)","v":0.66874999999999996},{"$f":"INDEX(Data!E975:Z975,Index!$B$1)","v":0.72239747634069396}]
["16-64",{"$f":"INDEX(Data!E968:Z968,Index!$B$1)","v":0.80110497237569056},{"$f":"INDEX(Data!E972:Z972,Index!$B$1)","v":0.57967667436489612},{"$f":"INDEX(Data!E976:Z976,Index!$B$1)","v":0.68136020151133503}]
[]
[]
[]
[]
[]
[]
[]
[]
[]
[]
[]
[{"$f":"\"Annual Average Unemployment Rate - \"&A110&\"-\"&A124","v":"Annual Average Unemployment Rate - 2010-2024"}]
["Source: NOMIS - Claimant Count"]
[null,{"$f":"Index!N6","v":"Ashford "},"Kent","GB"]
[2010,{"$f":"INDEX(Data!E977:Z977,Index!$B$1)","v":2.5000000000000001E-2},{"$f":"Data!Q977","v":2.8999999999999998E-2},{"$f":"Data!Z977","v":3.7000000000000005E-2}]
[2011,{"$f":"INDEX(Data!E978:Z978,Index!$B$1)","v":2.6000000000000002E-2},{"$f":"Data!Q978","v":0.03},{"$f":"Data!Z978","v":3.7000000000000005E-2}]
[2012,{"$f":"INDEX(Data!E979:Z979,Index!$B$1)","v":2.7000000000000003E-2},{"$f":"Data!Q979","v":3.2000000000000001E-2},{"$f":"Data!Z979","v":3.7999999999999999E-2}]
[2013,{"$f":"INDEX(Data!E980:Z980,Index!$B$1)","v":2.4E-2},{"$f":"Data!Q980","v":2.7999999999999997E-2},{"$f":"Data!Z980","v":3.4000000000000002E-2}]
[2014,{"$f":"INDEX(Data!E981:Z981,Index!$B$1)","v":1.7000000000000001E-2},{"$f":"Data!Q981","v":0.02},{"$f":"Data!Z981","v":2.5000000000000001E-2}]
[2015,{"$f":"INDEX(Data!E982:Z982,Index!$B$1)","v":1.3000000000000001E-2},{"$f":"Data!Q982","v":1.4999999999999999E-2},{"$f":"Data!Z982","v":1.9E-2}]
[2016,{"$f":"INDEX(Data!E983:Z983,Index!$B$1)","v":1.4999999999999999E-2},{"$f":"Data!Q983","v":1.6E-2},{"$f":"Data!Z983","v":1.8000000000000002E-2}]
[2017,{"$f":"INDEX(Data!E984:Z984,Index!$B$1)","v":1.6E-2},{"$f":"Data!Q984","v":1.7000000000000001E-2},{"$f":"Data!Z984","v":1.9E-2}]
[2018,{"$f":"INDEX(Data!E985:Z985,Index!$B$1)","v":1.9E-2},{"$f":"Data!Q985","v":1.9E-2},{"$f":"Data!Z985","v":2.2000000000000002E-2}]
[2019,{"$f":"INDEX(Data!E986:Z986,Index!$B$1)","v":2.5000000000000001E-2},{"$f":"Data!Q986","v":2.5000000000000001E-2},{"$f":"Data!Z986","v":2.7000000000000003E-2}]
[2020,{"$f":"INDEX(Data!E987:Z987,Index!$B$1)","v":5.2000000000000005E-2},{"$f":"Data!Q987","v":5.2000000000000005E-2},{"$f":"Data!Z987","v":5.4000000000000006E-2}]
[2021,{"$f":"INDEX(Data!E988:Z988,Index!$B$1)","v":4.9000000000000002E-2},{"$f":"Data!Q988","v":0.05},{"$f":"Data!Z988","v":5.5E-2}]
[2022,{"$f":"INDEX(Data!E989:Z989,Index!$B$1)","v":3.2000000000000001E-2},{"$f":"Data!Q989","v":3.4000000000000002E-2},{"$f":"Data!Z989","v":3.7999999999999999E-2}]
[2023,{"$f":"INDEX(Data!E990:Z990,Index!$B$1)","v":0.03},{"$f":"Data!Q990","v":3.3000000000000002E-2},{"$f":"Data!Z990","v":3.7000000000000005E-2}]
[2024,{"$f":"INDEX(Data!E991:Z991,Index!$B$1)","v":3.2000000000000001E-2},{"$f":"Data!Q991","v":3.5000000000000003E-2},{"$f":"Data!Z991","v":4.0999999999999995E-2}]
[]
["Unemployment rate calculated as a proportion of those aged 16-64"]
[]
[]
[]
[]
[]
[]
[]
["Annual average unemployment by age and sex, 2023 (% of unemployed)"]
["Source: NOMIS - Claimant Count"]
[{"$f":"Index!N6","v":"Ashford "},"Males",null,"Females",null,"Total",null,null,{"$f":"A134&\" - \"&B6","v":"Annual average unemployment by age and sex, 2023 (% of unemployed) - Ashford "}]
["18-24",{"$f":"INDEX(Data!E993:Z993,Index!$B$1)","v":290},{"$f":"B137/B$140","v":0.21090909090909091},{"$f":"INDEX(Data!E997:Z997,Index!$B$1)","v":195},{"$f":"D137/D$140","v":0.15918367346938775},{"$f":"INDEX(Data!E1001:Z1001,Index!$B$1)","v":485},{"$f":"F137/F$140","v":0.18689788053949905}]
["25-49",{"$f":"INDEX(Data!E994:Z994,Index!$B$1)","v":755},{"$f":"B138/B$140","v":0.54909090909090907},{"$f":"INDEX(Data!E998:Z998,Index!$B$1)","v":760},{"$f":"D138/D$140","v":0.62040816326530612},{"$f":"INDEX(Data!E1002:Z1002,Index!$B$1)","v":1515},{"$f":"F138/F$140","v":0.58381502890173409}]
["50-64",{"$f":"INDEX(Data!E995:Z995,Index!$B$1)","v":325},{"$f":"B139/B$140","v":0.23636363636363636},{"$f":"INDEX(Data!E999:Z999,Index!$B$1)","v":265},{"$f":"D139/D$140","v":0.21632653061224491},{"$f":"INDEX(Data!E1003:Z1003,Index!$B$1)","v":590},{"$f":"F139/F$140","v":0.22736030828516376}]
["16-64",{"$f":"INDEX(Data!E996:Z996,Index!$B$1)","v":1375},{"$f":"B140/B$140","v":1},{"$f":"INDEX(Data!E1000:Z1000,Index!$B$1)","v":1225},{"$f":"D140/D$140","v":1},{"$f":"INDEX(Data!E1004:Z1004,Index!$B$1)","v":2595},{"$f":"F140/F$140","v":1}]
[]
[]
[]
[]
[]
[]
[]
[]
[]
[]
[]
[]
[]
[]
[]
[]
["Employee Jobs"]
["Source: BRES"]
[]
[{"$f":"Data!E1149","v":2023},{"$f":"B6","v":"Ashford "},null,"Kent",null,"England",null,null,null,{"$f":"\"Employee Jobs in \"&B160&\", \"&A160","v":"Employee Jobs in Ashford , 2023"}]
[null,"Number","%","Number","%","Number","%"]
["Full time",{"$f":"INDEX(Data!E1150:Z1150,Index!$B$1)","v":41500},{"$f":"INDEX(Data!E1153:Z1153,Index!$B$1)","v":0.66935483870967738},{"$f":"Data!Q1150","v":434000},{"$f":"Data!Q1153","v":0.6676923076923077},{"$f":"Data!Z1150","v":19016000},{"$f":"Data!Z1153","v":0.69157892822722888}]
["Part time",{"$f":"INDEX(Data!E1151:Z1151,Index!$B$1)","v":20500},{"$f":"INDEX(Data!E1154:Z1154,Index!$B$1)","v":0.33064516129032256},{"$f":"Data!Q1151","v":216500},{"$f":"Data!Q1154","v":0.3330769230769231},{"$f":"Data!Z1151","v":8480000},{"$f":"Data!Z1154","v":0.30840288764024515}]
["Total",{"$f":"INDEX(Data!E1152:Z1152,Index!$B$1)","v":62000},{"$f":"INDEX(Data!E1155:Z1155,Index!$B$1)","v":1},{"$f":"Data!Q1152","v":650000},{"$f":"Data!Q1155","v":1},{"$f":"Data!Z1152","v":27496500},{"$f":"Data!Z1155","v":1}]
[]
[]
[]
[]
[]
[]
[]
["Employee jobs by industry"]
["Source: BRES"]
[]
[{"$f":"Data!E1149","v":2023},{"$f":"B6","v":"Ashford "},null,"Kent",null,"England",null,null,null,{"$f":"\"Industrial structure, \"&A175","v":"Industrial structure, 2023"}]
[null,"Number","%","Number","%","Number","%"]
["Agriculture, forestry and fishing",{"$f":"INDEX(Data!E1156:Z1156,Index!$B$1)","v":1100},{"$f":"INDEX(Data!E1177:Z1177,Index!$B$1)","v":1.8145161290322582E-2},{"$f":"Data!Q1156","v":10000},{"$f":"Data!Q1177","v":1.5384615384615385E-2},{"$f":"Data!Z1156","v":142500},{"$f":"Data!Z1177","v":5.1824777698979869E-3}]
["Mining and quarrying",{"$f":"INDEX(Data!E1157:Z1157,Index!$B$1)","v":0},{"$f":"INDEX(Data!E1178:Z1178,Index!$B$1)","v":2.4193548387096774E-4},{"$f":"Data!Q1157","v":200},{"$f":"Data!Q1178","v":3.076923076923077E-4},{"$f":"Data!Z1157","v":19500},{"$f":"Data!Z1178","v":7.0918116851235611E-4}]
["Manufacturing",{"$f":"INDEX(Data!E1158:Z1158,Index!$B$1)","v":4800},{"$f":"INDEX(Data!E1179:Z1179,Index!$B$1)","v":7.6612903225806453E-2},{"$f":"Data!Q1158","v":38500},{"$f":"Data!Q1179","v":5.9230769230769233E-2},{"$f":"Data!Z1158","v":2035500},{"$f":"Data!Z1179","v":7.4027603513174403E-2}]
["Electricity, gas, steam and air conditioning supply",{"$f":"INDEX(Data!E1159:Z1159,Index!$B$1)","v":400},{"$f":"INDEX(Data!E1180:Z1180,Index!$B$1)","v":6.8548387096774195E-3},{"$f":"Data!Q1159","v":2000},{"$f":"Data!Q1180","v":3.0769230769230769E-3},{"$f":"Data!Z1159","v":92500},{"$f":"Data!Z1180","v":3.3640645173022019E-3}]
["Water supply; sewerage, waste management and remediation activities",{"$f":"INDEX(Data!E1160:Z1160,Index!$B$1)","v":600},{"$f":"INDEX(Data!E1181:Z1181,Index!$B$1)","v":8.870967741935484E-3},{"$f":"Data!Q1160","v":6000},{"$f":"Data!Q1181","v":9.2307692307692316E-3},{"$f":"Data!Z1160","v":192000},{"$f":"Data!Z1181","v":6.9827068899678138E-3}]
["Construction",{"$f":"INDEX(Data!E1161:Z1161,Index!$B$1)","v":3800},{"$f":"INDEX(Data!E1182:Z1182,Index!$B$1)","v":6.0483870967741937E-2},{"$f":"Data!Q1161","v":44000},{"$f":"Data!Q1182","v":6.7692307692307691E-2},{"$f":"Data!Z1161","v":1298500},{"$f":"Data!Z1182","v":4.7224192169912534E-2}]
["Wholesale and retail trade; repair of motor vehicles and motorcycles",{"$f":"INDEX(Data!E1162:Z1162,Index!$B$1)","v":12000},{"$f":"INDEX(Data!E1183:Z1183,Index!$B$1)","v":0.19354838709677419},{"$f":"Data!Q1162","v":105000},{"$f":"Data!Q1183","v":0.16153846153846155},{"$f":"Data!Z1162","v":3773500},{"$f":"Data!Z1183","v":0.13723564817340389}]
["Transportation and storage",{"$f":"INDEX(Data!E1163:Z1163,Index!$B$1)","v":2400},{"$f":"INDEX(Data!E1184:Z1184,Index!$B$1)","v":3.8306451612903226E-2},{"$f":"Data!Q1163","v":37500},{"$f":"Data!Q1184","v":5.7692307692307696E-2},{"$f":"Data!Z1163","v":1400500},{"$f":"Data!Z1184","v":5.0933755205207938E-2}]
["Accommodation and food service activities",{"$f":"INDEX(Data!E1164:Z1164,Index!$B$1)","v":4000},{"$f":"INDEX(Data!E1185:Z1185,Index!$B$1)","v":6.4516129032258063E-2},{"$f":"Data!Q1164","v":56500},{"$f":"Data!Q1185","v":8.6923076923076922E-2},{"$f":"Data!Z1164","v":2156000},{"$f":"Data!Z1185","v":7.8409979451930248E-2}]
["Information and communication",{"$f":"INDEX(Data!E1165:Z1165,Index!$B$1)","v":1400},{"$f":"INDEX(Data!E1186:Z1186,Index!$B$1)","v":2.2177419354838711E-2},{"$f":"Data!Q1165","v":16500},{"$f":"Data!Q1186","v":2.5384615384615384E-2},{"$f":"Data!Z1165","v":1309500},{"$f":"Data!Z1186","v":4.762424308548361E-2}]
["Financial and insurance activities",{"$f":"INDEX(Data!E1166:Z1166,Index!$B$1)","v":700},{"$f":"INDEX(Data!E1187:Z1187,Index!$B$1)","v":1.0483870967741936E-2},{"$f":"Data!Q1166","v":14500},{"$f":"Data!Q1187","v":2.2307692307692306E-2},{"$f":"Data!Z1166","v":947500},{"$f":"Data!Z1187","v":3.4458931136690123E-2}]
["Real estate activities",{"$f":"INDEX(Data!E1167:Z1167,Index!$B$1)","v":700},{"$f":"INDEX(Data!E1188:Z1188,Index!$B$1)","v":1.0483870967741936E-2},{"$f":"Data!Q1167","v":10500},{"$f":"Data!Q1188","v":1.6153846153846154E-2},{"$f":"Data!Z1167","v":535500},{"$f":"Data!Z1188","v":1.9475205935300857E-2}]
["Professional, scientific and technical activities",{"$f":"INDEX(Data!E1168:Z1168,Index!$B$1)","v":3000},{"$f":"INDEX(Data!E1189:Z1189,Index!$B$1)","v":4.8387096774193547E-2},{"$f":"Data!Q1168","v":38500},{"$f":"Data!Q1189","v":5.9230769230769233E-2},{"$f":"Data!Z1168","v":2644000},{"$f":"Data!Z1189","v":9.6157692797265104E-2}]
["Administrative and support service activities",{"$f":"INDEX(Data!E1169:Z1169,Index!$B$1)","v":6000},{"$f":"INDEX(Data!E1190:Z1190,Index!$B$1)","v":9.6774193548387094E-2},{"$f":"Data!Q1169","v":55500},{"$f":"Data!Q1190","v":8.5384615384615378E-2},{"$f":"Data!Z1169","v":2442500},{"$f":"Data!Z1190","v":8.8829487389304088E-2}]
["Public administration and defence; compulsory social security",{"$f":"INDEX(Data!E1170:Z1170,Index!$B$1)","v":1800},{"$f":"INDEX(Data!E1191:Z1191,Index!$B$1)","v":2.8225806451612902E-2},{"$f":"Data!Q1170","v":27500},{"$f":"Data!Q1191","v":4.230769230769231E-2},{"$f":"Data!Z1170","v":1199000},{"$f":"Data!Z1191","v":4.3605549797246922E-2}]
["Education",{"$f":"INDEX(Data!E1171:Z1171,Index!$B$1)","v":5000},{"$f":"INDEX(Data!E1192:Z1192,Index!$B$1)","v":8.0645161290322578E-2},{"$f":"Data!Q1171","v":60500},{"$f":"Data!Q1192","v":9.3076923076923071E-2},{"$f":"Data!Z1171","v":2350500},{"$f":"Data!Z1192","v":8.5483607004527853E-2}]
["Human health and social work activities",{"$f":"INDEX(Data!E1172:Z1172,Index!$B$1)","v":12500},{"$f":"INDEX(Data!E1193:Z1193,Index!$B$1)","v":0.20161290322580644},{"$f":"Data!Q1172","v":96000},{"$f":"Data!Q1193","v":0.14769230769230771},{"$f":"Data!Z1172","v":3713000},{"$f":"Data!Z1193","v":0.13503536813776298}]
["Arts, entertainment and recreation",{"$f":"INDEX(Data!E1173:Z1173,Index!$B$1)","v":1100},{"$f":"INDEX(Data!E1194:Z1194,Index!$B$1)","v":1.8145161290322582E-2},{"$f":"Data!Q1173","v":17000},{"$f":"Data!Q1194","v":2.6153846153846153E-2},{"$f":"Data!Z1173","v":702000},{"$f":"Data!Z1194","v":2.5530522066444822E-2}]
["Other service activities",{"$f":"INDEX(Data!E1174:Z1174,Index!$B$1)","v":1000},{"$f":"INDEX(Data!E1195:Z1195,Index!$B$1)","v":1.6129032258064516E-2},{"$f":"Data!Q1174","v":13000},{"$f":"Data!Q1195","v":0.02},{"$f":"Data!Z1174","v":542500},{"$f":"Data!Z1195","v":1.9729783790664267E-2}]
["Activities of households as employers;undifferentiated goods-and services-producing activities of households for own use",{"$f":"INDEX(Data!E1175:Z1175,Index!$B$1)","v":0},{"$f":"INDEX(Data!E1196:Z1196,Index!$B$1)","v":0},{"$f":"Data!Q1175","v":0},{"$f":"Data!Q1196","v":0},{"$f":"Data!Z1175","v":0},{"$f":"Data!Z1196","v":0}]
["Activities of extraterritorial organisations and bodies",{"$f":"INDEX(Data!E1176:Z1176,Index!$B$1)","v":0},{"$f":"INDEX(Data!E1197:Z1197,Index!$B$1)","v":0},{"$f":"Data!Q1176","v":0},{"$f":"Data!Q1197","v":0},{"$f":"Data!Z1176","v":0},{"$f":"Data!Z1197","v":0}]
[]
[]
["Employee jobs by industrial groupings"]
[]
[{"$f":"Data!E1149","v":2023},{"$f":"B6","v":"Ashford "},null,"Kent",null,"England",null,null,null,{"$f":"A200&\", \"&A202","v":"Employee jobs by industrial groupings, 2023"}]
[null,"Number","%","Number","%","Number","%"]
["Knowledge Economy",{"$f":"INDEX(Data!E1198:Z1198,Index!$B$1)","v":6500},{"$f":"INDEX(Data!E1203:Z1203,Index!$B$1)","v":0.10483870967741936},{"$f":"Data!Q1198","v":89500},{"$f":"Data!Q1203","v":0.1376923076923077},{"$f":"Data!Z1198","v":5917000},{"$f":"Data!Z1203","v":0.21519102431218518}]
["Creative Industries",{"$f":"INDEX(Data!E1199:Z1199,Index!$B$1)","v":900},{"$f":"INDEX(Data!E1204:Z1204,Index!$B$1)","v":1.4086451612903228E-2},{"$f":"Data!Q1199","v":8900},{"$f":"Data!Q1204","v":1.3683392307692308E-2},{"$f":"Data!Z1199","v":676800},{"$f":"Data!Z1204","v":2.4612477951739313E-2}]
["Tourism",{"$f":"INDEX(Data!E1200:Z1200,Index!$B$1)","v":5500},{"$f":"INDEX(Data!E1205:Z1205,Index!$B$1)","v":8.8709677419354843E-2},{"$f":"Data!Q1200","v":76000},{"$f":"Data!Q1205","v":0.11692307692307692},{"$f":"Data!Z1200","v":2980500},{"$f":"Data!Z1205","v":0.10839561398723474}]
["Life Sciences",{"$f":"INDEX(Data!E1201:Z1201,Index!$B$1)","v":10000},{"$f":"INDEX(Data!E1206:Z1206,Index!$B$1)","v":0.16129032258064516},{"$f":"Data!Q1201","v":63000},{"$f":"Data!Q1206","v":9.6923076923076917E-2},{"$f":"Data!Z1201","v":2680000},{"$f":"Data!Z1206","v":9.7466950339134065E-2}]
["Food & Drink Production",{"$f":"INDEX(Data!E1202:Z1202,Index!$B$1)","v":2000},{"$f":"INDEX(Data!E1207:Z1207,Index!$B$1)","v":3.2258064516129031E-2},{"$f":"Data!Q1202","v":16000},{"$f":"Data!Q1207","v":2.4615384615384615E-2},{"$f":"Data!Z1202","v":499500},{"$f":"Data!Z1207","v":1.8165948393431892E-2}]
[]
[]
[]
["Job Density - number of jobs per head of population aged 16-64"]
["Source: Office for National Statistics"]
[{"$f":"Data!C1208","v":2022},"Density"]
[{"$f":"B6","v":"Ashford "},{"$f":"INDEX(Data!E1208:Z1208,Index!$B$1)","v":0.9}]
["Kent",{"$f":"Data!Q1208","v":0.82}]
["England & Wales",{"$f":"Data!Y1208","v":0.87}]
[]
[]
["Employment by Industry 2021"]
["Source: 2021 Census Table TS060"]
[{"$f":"Index!L6","v":"Ashford "},"Number","% of all people aged over 16 in employment"]
["All Industries",{"$f":"INDEX(Census2021Data!D481:Y481,Index!$B$1)","v":63614},{"$f":"B223/B$223","v":1}]
["A Agriculture, forestry and fishing",{"$f":"INDEX(Census2021Data!D482:Y482,Index!$B$1)","v":993},{"$f":"B224/B$223","v":1.5609771433961079E-2}]
["B Mining and quarrying",{"$f":"INDEX(Census2021Data!D483:Y483,Index!$B$1)","v":31},4.8731411324551201E-4]
["C Manufacturing",{"$f":"INDEX(Census2021Data!D484:Y484,Index!$B$1)","v":4237},6.6604835413588206E-2]
["D Electricity, gas, steam and air conditioning supply ",{"$f":"INDEX(Census2021Data!D485:Y485,Index!$B$1)","v":470},7.3883107492061497E-3]
["E Water supply; sewerage, waste management and remediation activities",{"$f":"INDEX(Census2021Data!D486:Y486,Index!$B$1)","v":420},6.6023202439714525E-3]
["F Construction",{"$f":"INDEX(Census2021Data!D487:Y487,Index!$B$1)","v":6985},0.10980287358128714]
["G Wholesale and retail trade; repair of motor vehicles and motor cycles",{"$f":"INDEX(Census2021Data!D488:Y488,Index!$B$1)","v":9806},0.15414845788662873]
["H Transport and storage",{"$f":"INDEX(Census2021Data!D489:Y489,Index!$B$1)","v":3217},5.0570629106800387E-2]
["I Accommodation and food service activities",{"$f":"INDEX(Census2021Data!D490:Y490,Index!$B$1)","v":2817},4.4282705064922816E-2]
["J Information and communication",{"$f":"INDEX(Census2021Data!D491:Y491,Index!$B$1)","v":2300},3.6155563240796051E-2]
["K Financial and insurance activities",{"$f":"INDEX(Census2021Data!D492:Y492,Index!$B$1)","v":2058},3.2351369195460118E-2]
["L Real estate activities",{"$f":"INDEX(Census2021Data!D493:Y493,Index!$B$1)","v":809},1.2717326374697394E-2]
["M Professional, scientific and technical activities",{"$f":"INDEX(Census2021Data!D494:Y494,Index!$B$1)","v":3796},5.9672399157418177E-2]
["N Administrative and support service activities",{"$f":"INDEX(Census2021Data!D495:Y495,Index!$B$1)","v":3880},6.0992863206212472E-2]
["O Public administration and defence; compulsory social security",{"$f":"INDEX(Census2021Data!D496:Y496,Index!$B$1)","v":3555},5.5883924922186939E-2]
["P Education",{"$f":"INDEX(Census2021Data!D497:Y497,Index!$B$1)","v":5634},8.8565410129845631E-2]
["Q Human health and social work activities",{"$f":"INDEX(Census2021Data!D498:Y498,Index!$B$1)","v":10032},0.15770113497028956]
["R, S, T, U Other",{"$f":"INDEX(Census2021Data!D499:Y499,Index!$B$1)","v":2574},4.0462791209482186E-2]
[]
[]
[]
[]
["Employment by Occupation, 2021"]
["Source: 2021 Census Table TS063"]
[{"$f":"Index!L6","v":"Ashford "},"Number","% of all people 16+ in employment"]
["All Occupations",{"$f":"INDEX(Census2021Data!D501:Y501,Index!B$1)","v":63616},{"$f":"B249/B$249","v":1}]
["Managers, directors and senior officials",{"$f":"INDEX(Census2021Data!D502:Y502,Index!B$1)","v":9171},{"$f":"B250/B$249","v":0.14416184607645877}]
["Professional occupations",{"$f":"INDEX(Census2021Data!D503:Y503,Index!B$1)","v":11751},0.18471768108651912]
["Associate professional and technical occupations",{"$f":"INDEX(Census2021Data!D504:Y504,Index!B$1)","v":8251},0.12970007545271631]
["Administrative and secretarial occupations",{"$f":"INDEX(Census2021Data!D505:Y505,Index!B$1)","v":5811},9.1344944668008049E-2]
["Skilled trades occupations",{"$f":"INDEX(Census2021Data!D506:Y506,Index!B$1)","v":7322},0.1150968309859155]
["Caring, leisure and other service occupations",{"$f":"INDEX(Census2021Data!D507:Y507,Index!B$1)","v":5812},9.1360663983903426E-2]
["Sales and customer service occupations",{"$f":"INDEX(Census2021Data!D508:Y508,Index!B$1)","v":4895},7.6946051307847083E-2]
["Process, plant and machine operatives",{"$f":"INDEX(Census2021Data!D509:Y509,Index!B$1)","v":4350},6.837902414486921E-2]
["Elementary occupations",{"$f":"INDEX(Census2021Data!D510:Y510,Index!B$1)","v":6253},9.8292882293762582E-2]
[]
[]
[]
["Method of travel to work, 2021"]
["Source: 2021 Census Table TS061"]
[{"$f":"Index!L6","v":"Ashford "},"Number","% of all people 16+ in employment"]
["All people aged 16 and over in employment",{"$f":"INDEX(Census2021Data!D512:Y512,Index!B$1)","v":63614},{"$f":"B265/B$265","v":1}]
["Work mainly at or from home",{"$f":"INDEX(Census2021Data!D513:Y513,Index!B$1)","v":19120},{"$f":"B266/B$265","v":0.30056276920174807}]
["Underground, metro, light rail, tram",{"$f":"INDEX(Census2021Data!D514:Y514,Index!B$1)","v":83},1.3047442386895966E-3]
["Train",{"$f":"INDEX(Census2021Data!D515:Y515,Index!B$1)","v":1575},2.4758700914892948E-2]
["Bus, minibus or coach",{"$f":"INDEX(Census2021Data!D516:Y516,Index!B$1)","v":1177},1.8502216493224762E-2]
["Taxi",{"$f":"INDEX(Census2021Data!D517:Y517,Index!B$1)","v":152},2.3894111359134781E-3]
["Motorcycle, scooter or moped",{"$f":"INDEX(Census2021Data!D518:Y518,Index!B$1)","v":221},3.4740780331373598E-3]
["Driving a car or van",{"$f":"INDEX(Census2021Data!D519:Y519,Index!B$1)","v":32389},0.50914892948093182]
["Passenger in a car or van",{"$f":"INDEX(Census2021Data!D520:Y520,Index!B$1)","v":2552},4.0116955387178924E-2]
["Bicycle",{"$f":"INDEX(Census2021Data!D521:Y521,Index!B$1)","v":1186},1.8643694784167008E-2]
["On foot",{"$f":"INDEX(Census2021Data!D522:Y522,Index!B$1)","v":4533},7.1257899204577604E-2]
["Other method of travel to work",{"$f":"INDEX(Census2021Data!D523:Y523,Index!B$1)","v":626},9.8406011255384035E-3]
[]
[]
["Distance travelled to work, 2021"]
["Source: 2021 Census Table TS058"]
[{"$f":"Index!L6","v":"Ashford "},"Number","% of all people 16+ in employment"]
["All people aged 16 and over in employment",{"$f":"INDEX(Census2021Data!D525:Y525,Index!B$1)","v":63615},{"$f":"B282/B$282","v":1}]
["Less than 2km",{"$f":"INDEX(Census2021Data!D526:Y526,Index!B$1)","v":7209},{"$f":"B283/B$282","v":0.11332232963923602}]
["2km to less than 5km",{"$f":"INDEX(Census2021Data!D527:Y527,Index!B$1)","v":9105},0.14312662107993399]
["5km to less than 10km",{"$f":"INDEX(Census2021Data!D528:Y528,Index!B$1)","v":3845},6.0441719720191779E-2]
["10km to less than 20km",{"$f":"INDEX(Census2021Data!D529:Y529,Index!B$1)","v":5100},8.0169771280358404E-2]
["20km to less than 30km",{"$f":"INDEX(Census2021Data!D530:Y530,Index!B$1)","v":3927},6.1730723885875971E-2]
["30km to less than 40km",{"$f":"INDEX(Census2021Data!D531:Y531,Index!B$1)","v":1822},2.8641043778982946E-2]
["40km to less than 60km",{"$f":"INDEX(Census2021Data!D532:Y532,Index!B$1)","v":981},1.5420891299221882E-2]
["60km and over",{"$f":"INDEX(Census2021Data!D533:Y533,Index!B$1)","v":2081},3.2712410594985461E-2]
["Work mainly at or from home",{"$f":"INDEX(Census2021Data!D534:Y534,Index!B$1)","v":19120},0.30055804448636325]
["Other",{"$f":"INDEX(Census2021Data!D535:Y535,Index!B$1)","v":10425},0.16387644423485026]
["Other includes those who work mainly at an offshore installation, in no fixed place, or outside the UK"]
[]
[]
[]
[]
["Hours Worked, 2021"]
["Source: 2021 Census Table TS059"]
[null,"All People",null,"Males",null,"Females"]
[{"$f":"Index!L6","v":"Ashford "},"Number","% of all people 16 and over","Number","% of 16+ Males","Number","% of 16+ Females"]
["People 16 and over in employment",{"$f":"INDEX(Census2021Data!D537:Y537,Index!$B$1)","v":63615},{"$f":"B302/B$302","v":1},{"$f":"INDEX(Census2021Data!D542:Y542,Index!$B$1)","v":33334},{"$f":"D302/D$302","v":1},{"$f":"INDEX(Census2021Data!D547:Y547,Index!$B$1)","v":30281},{"$f":"F302/F$302","v":1}]
["Full Time",{"$f":"SUM(B304:B305)","v":45023},0.70774188477560329,{"$f":"SUM(D304:D305)","v":27942},0.8382432351352973,{"$f":"SUM(F304:F305)","v":17081},0.56408308840527066]
["Full-time: 31 to 48 hours worked",{"$f":"INDEX(Census2021Data!D540:Y540,Index!$B$1)","v":36702},0.57693940108464981,{"$f":"INDEX(Census2021Data!D545:Y545,Index!B$1)","v":21604},0.64810703785924284,{"$f":"INDEX(Census2021Data!D550:Y550,Index!B$1)","v":15098},0.49859647964069881]
["Full-time: 49 or more hours worked",{"$f":"INDEX(Census2021Data!D541:Y541,Index!$B$1)","v":8321},0.1308024836909534,{"$f":"INDEX(Census2021Data!D546:Y546,Index!B$1)","v":6338},0.19013619727605449,{"$f":"INDEX(Census2021Data!D551:Y551,Index!B$1)","v":1983},6.5486608764571838E-2]
["Part Time",{"$f":"SUM(B307:B308)","v":18592},0.29225811522439676,{"$f":"SUM(D307:D308)","v":5392},0.1617567648647027,{"$f":"SUM(F307:F308)","v":13200},0.43591691159472939]
["Part-time: 15 hours or less worked",{"$f":"INDEX(Census2021Data!D538:Y538,Index!$B$1)","v":6754},0.10616992847598837,{"$f":"INDEX(Census2021Data!D543:Y543,Index!B$1)","v":2231},6.6928661426771466E-2,{"$f":"INDEX(Census2021Data!D548:Y548,Index!B$1)","v":4523},0.14936759023810309]
["Part-time: 16 to 30 hours worked",{"$f":"INDEX(Census2021Data!D539:Y539,Index!$B$1)","v":11838},0.18608818674840841,{"$f":"INDEX(Census2021Data!D544:Y544,Index!B$1)","v":3161},9.4828103437931244E-2,{"$f":"INDEX(Census2021Data!D549:Y549,Index!B$1)","v":8677},0.28654932135662625]
[]
[]
[]
[]
[]
[]
[]
[]
[]
[]
[{"$f":"\"Median weekly full-time earnings (£s) - workplace based - \"&A321","v":"Median weekly full-time earnings (£s) - workplace based - 2024"}]
["Source: NOMIS - Annual Survey of Hours & Earnings"]
[{"$f":"Data!E1008","v":2024},{"$f":"Index!N6","v":"Ashford "},"Kent","Great Britain"]
["Males",{"$f":"INDEX(Data!E1009:Z1009,Index!$B$1)","v":695.8},{"$f":"Data!Q1009","v":761.7},{"$f":"Data!Z1009","v":783.8}]
["Females",{"$f":"INDEX(Data!E1010:Z1010,Index!$B$1)","v":635.4},{"$f":"Data!Q1010","v":628.6},{"$f":"Data!Z1010","v":672.3}]
["Total",{"$f":"INDEX(Data!E1011:Z1011,Index!$B$1)","v":678.3},{"$f":"Data!Q1011","v":689.9},{"$f":"Data!Z1011","v":732.1}]
[]
[]
[]
[]
[]
[]
[]
[]
[]
[]
[]
[{"$f":"\"Median weekly full-time earnings (£s) - resident based - \"&A338","v":"Median weekly full-time earnings (£s) - resident based - 2024"}]
["Source: NOMIS - Annual Survey of Hours & Earnings"]
[{"$f":"Data!E1015","v":2024},{"$f":"Index!N6","v":"Ashford "},"Kent","Great Britain"]
["Males",{"$f":"INDEX(Data!E1016:Z1016,Index!$B$1)","v":788.8},{"$f":"Data!Q1016","v":824.2},{"$f":"Data!Z1016","v":783.8}]
["Females",{"$f":"INDEX(Data!E1017:Z1017,Index!$B$1)","v":634},{"$f":"Data!Q1017","v":670.8},{"$f":"Data!Z1017","v":671.6}]
["Total",{"$f":"INDEX(Data!E1018:Z1018,Index!$B$1)","v":700.2},{"$f":"Data!Q1018","v":751.8},{"$f":"Data!Z1018","v":732}]
[]
[]
[]
[]
[]
[null,null,null,null,null,null,null,"Resident"]
[]
[]
[]
[]
[]
[]
[]
[{"$f":"\"VAT and/or PAYE based enterprises - \"&A357","v":"VAT and/or PAYE based enterprises - 2024"}]
["Source: UK Business Survey, ONS"]
[{"$f":"Data!E1022","v":2024},{"$f":"Index!N6","v":"Ashford "},"Kent","England & Wales",null,null,{"$f":"B357","v":"Ashford "},"Kent","Great Britain"]
["Agriculture, forestry & fishing",{"$f":"INDEX(Data!E1023:Z1023,Index!$B$1)","v":410},{"$f":"Data!Q1023","v":2075},{"$f":"Data!Z1023","v":105365},null,null,{"$f":"B358/B$376","v":6.3174114021571651E-2},{"$f":"C358/C$376","v":3.2133178474641887E-2},4.2596070076427531E-2]
["Mining, quarrying & utilities",{"$f":"INDEX(Data!E1024:Z1024,Index!$B$1)","v":50},{"$f":"Data!Q1024","v":365},{"$f":"Data!Z1024","v":13655},null,null,{"$f":"B359/B$376","v":7.7041602465331279E-3},5.6523422377080914E-3,5.5203277833589708E-3]
["Manufacturing",{"$f":"INDEX(Data!E1025:Z1025,Index!$B$1)","v":310},{"$f":"Data!Q1025","v":3050},{"$f":"Data!Z1025","v":118965},null,null,4.7765793528505393E-2,4.7231900890437474E-2,4.8094162925470522E-2]
["Construction",{"$f":"INDEX(Data!E1026:Z1026,Index!$B$1)","v":1070},{"$f":"Data!Q1026","v":11835},{"$f":"Data!Z1026","v":346485},null,null,0.16486902927580893,0.18327526132404182,0.14007402211769557]
["Motor trades",{"$f":"INDEX(Data!E1027:Z1027,Index!$B$1)","v":180},{"$f":"Data!Q1027","v":1965},{"$f":"Data!Z1027","v":73640},null,null,2.7734976887519261E-2,3.0429732868757258E-2,2.9770555691435711E-2]
["Wholesale",{"$f":"INDEX(Data!E1028:Z1028,Index!$B$1)","v":230},{"$f":"Data!Q1028","v":2120},{"$f":"Data!Z1028","v":93560},null,null,3.543913713405239E-2,3.2830042586140147E-2,3.7823644629151616E-2]
["Retail",{"$f":"INDEX(Data!E1029:Z1029,Index!$B$1)","v":390},{"$f":"Data!Q1029","v":4390},{"$f":"Data!Z1029","v":194510},null,null,6.0092449922958396E-2,6.7982965543941148E-2,7.8634855887305261E-2]
["Transport & storage",{"$f":"INDEX(Data!E1030:Z1030,Index!$B$1)","v":185},{"$f":"Data!Q1030","v":2815},{"$f":"Data!Z1030","v":107580},null,null,2.8505392912172575E-2,4.359272164150213E-2,4.3491531522062109E-2]
["Accommodation & food services",{"$f":"INDEX(Data!E1031:Z1031,Index!$B$1)","v":280},{"$f":"Data!Q1031","v":3900},{"$f":"Data!Z1031","v":154020},null,null,4.3143297380585519E-2,6.039488966318235E-2,6.2265901515411844E-2]
["Information & communication",{"$f":"INDEX(Data!E1032:Z1032,Index!$B$1)","v":365},{"$f":"Data!Q1032","v":4085},{"$f":"Data!Z1032","v":177955},null,null,5.6240369799691832E-2,6.3259775454897402E-2,7.1942140658194487E-2]
["Financial & insurance",{"$f":"INDEX(Data!E1033:Z1033,Index!$B$1)","v":400},{"$f":"Data!Q1033","v":1385},{"$f":"Data!Z1033","v":54830},null,null,6.1633281972265024E-2,2.1447928765001935E-2,2.2166208155369637E-2]
["Property",{"$f":"INDEX(Data!E1034:Z1034,Index!$B$1)","v":310},{"$f":"Data!Q1034","v":2430},{"$f":"Data!Z1034","v":108845},null,null,4.7765793528505393E-2,3.7630662020905925E-2,4.4002935011329708E-2]
["Professional, scientific & technical",{"$f":"INDEX(Data!E1035:Z1035,Index!$B$1)","v":1005},{"$f":"Data!Q1035","v":10185},{"$f":"Data!Z1035","v":386435},null,null,0.15485362095531588,0.15772357723577235,0.15622466986175934]
["Business administration & support services",{"$f":"INDEX(Data!E1036:Z1036,Index!$B$1)","v":575},{"$f":"Data!Q1036","v":5790},{"$f":"Data!Z1036","v":210815},null,null,8.8597842835130974E-2,8.9663182346109177E-2,8.5226503233161582E-2]
["Public administration & defence",{"$f":"INDEX(Data!E1037:Z1037,Index!$B$1)","v":35},{"$f":"Data!Q1037","v":270},{"$f":"Data!Z1037","v":7750},null,null,5.3929121725731898E-3,4.181184668989547E-3,3.1331043808884677E-3]
["Education",{"$f":"INDEX(Data!E1038:Z1038,Index!$B$1)","v":90},{"$f":"Data!Q1038","v":1150},{"$f":"Data!Z1038","v":45055},null,null,1.386748844375963E-2,1.7808749516066591E-2,1.8214453920119989E-2]
["Health",{"$f":"INDEX(Data!E1039:Z1039,Index!$B$1)","v":260},{"$f":"Data!Q1039","v":2670},{"$f":"Data!Z1039","v":104000},null,null,4.0061633281972264E-2,{"$f":"C374/C$376","v":4.13472706155633E-2},{"$f":"D374/D$376","v":4.2044239433858148E-2}]
["Arts, entertainment, recreation & other services",{"$f":"INDEX(Data!E1040:Z1040,Index!$B$1)","v":360},{"$f":"Data!Q1040","v":4095},{"$f":"Data!Z1040","v":170125},null,null,5.5469953775038522E-2,6.3414634146341464E-2,6.8776694554664591E-2]
["Total",{"$f":"INDEX(Data!E1042:Z1042,Index!$B$1)","v":6490},{"$f":"Data!Q1042","v":64575},{"$f":"Data!Z1042","v":2473585}]
[]
[]
[{"$f":"\"VAT and/or PAYE based enterprises by number of employees - \"&A381","v":"VAT and/or PAYE based enterprises by number of employees - 2024"}]
["Source: UK Business Survey, ONS"]
[{"$f":"Data!E1043","v":2024},{"$f":"Index!N6","v":"Ashford "},"Kent","England & Wales",null,null,null,null,null,{"$f":"B381","v":"Ashford "},"Kent","Great Britain"]
["0 - 4",{"$f":"INDEX(Data!E1044:Z1044,Index!$B$1)","v":5270},{"$f":"Data!Q1044","v":50990},{"$f":"Data!Z1044","v":1933165},null,null,null,null,null,{"$f":"B382/B$389","v":0.8120184899845917},0.78962446767324812,0.78152357812648443]
["5 - 9",{"$f":"INDEX(Data!E1045:Z1045,Index!$B$1)","v":630},{"$f":"Data!Q1045","v":7045},{"$f":"Data!Z1045","v":274385},null,null,null,null,null,9.7072419106317406E-2,0.10909794812233836,0.11092604458710738]
["10 - 19",{"$f":"INDEX(Data!E1046:Z1046,Index!$B$1)","v":325},{"$f":"Data!Q1046","v":3460},{"$f":"Data!Z1046","v":139285},null,null,null,null,null,5.007704160246533E-2,5.3581107239643828E-2,5.6308960476393576E-2]
["20 - 49",{"$f":"INDEX(Data!E1047:Z1047,Index!$B$1)","v":175},{"$f":"Data!Q1047","v":1920},{"$f":"Data!Z1047","v":76925},null,null,null,null,null,2.6964560862865947E-2,2.9732868757259001E-2,3.1098587677399401E-2]
["50 - 99",{"$f":"INDEX(Data!E1048:Z1048,Index!$B$1)","v":50},{"$f":"Data!Q1048","v":600},{"$f":"Data!Z1048","v":26015},null,null,null,null,null,7.7041602465331279E-3,9.2915214866434379E-3,1.0517123931459805E-2]
["100 - 249",{"$f":"INDEX(Data!E1049:Z1049,Index!$B$1)","v":30},{"$f":"Data!Q1049","v":350},{"$f":"Data!Z1049","v":13475},null,null,null,null,null,4.6224961479198771E-3,5.4200542005420054E-3,5.4475589074157553E-3]
["250 +",{"$f":"INDEX(Data!E1050:Z1050,Index!$B$1)","v":10},{"$f":"Data!Q1050","v":210},{"$f":"Data!Z1050","v":10340},null,null,null,null,null,1.5408320493066256E-3,3.2520325203252032E-3,4.1801676514047429E-3]
["TOTAL",{"$f":"INDEX(Data!E1051:Z1051,Index!$B$1)","v":6490},{"$f":"Data!Q1051","v":64575},{"$f":"Data!Z1051","v":2473585}]
[]
[]
[]
[]
[]
[]
[]
[]
["Business Births, Death and Active Businesses"]
["Source: UK Business Demography, ONS"]
[{"$f":"Index!N6","v":"Ashford "},"Business Births","Business Deaths","Active Businesses",null,null,null,"Deaths"]
[{"$f":"Data!D1128","v":2018},{"$f":"INDEX(Data!E1128:Z1128,Index!$B$1)","v":745},{"$f":"INDEX(Data!E1134:Z1134,Index!$B$1)","v":510},{"$f":"INDEX(Data!E1140:Z1140,Index!$B$1)","v":6255},null,null,null,{"$f":"C401*-1","v":-510}]
[{"$f":"Data!D1129","v":2019},{"$f":"INDEX(Data!E1129:Z1129,Index!$B$1)","v":785},{"$f":"INDEX(Data!E1135:Z1135,Index!$B$1)","v":675},{"$f":"INDEX(Data!E1141:Z1141,Index!$B$1)","v":6505},null,null,null,-675]
[{"$f":"Data!D1130","v":2020},{"$f":"INDEX(Data!E1130:Z1130,Index!$B$1)","v":700},{"$f":"INDEX(Data!E1136:Z1136,Index!$B$1)","v":660},{"$f":"INDEX(Data!E1142:Z1142,Index!$B$1)","v":6550},null,null,null,-660]
[{"$f":"Data!D1131","v":2021},{"$f":"INDEX(Data!E1131:Z1131,Index!$B$1)","v":715},{"$f":"INDEX(Data!E1137:Z1137,Index!$B$1)","v":825},{"$f":"INDEX(Data!E1143:Z1143,Index!$B$1)","v":6605},null,null,null,-825]
[{"$f":"Data!D1132","v":2022},{"$f":"INDEX(Data!E1132:Z1132,Index!$B$1)","v":650},{"$f":"INDEX(Data!E1138:Z1138,Index!$B$1)","v":695},{"$f":"INDEX(Data!E1144:Z1144,Index!$B$1)","v":6365},null,null,null,-695]
[{"$f":"Data!D1133","v":2023},{"$f":"INDEX(Data!E1133:Z1133,Index!$B$1)","v":675},{"$f":"INDEX(Data!E1139:Z1139,Index!$B$1)","v":605},{"$f":"INDEX(Data!E1145:Z1145,Index!$B$1)","v":6320},null,null,null,{"$f":"C401*-1","v":-510}]
[]
[]
[]
[]
[]
[]
[{"$f":"\"Business Survival Rates, \"&Data!E1121","v":"Business Survival Rates, 2023"}]
["Source: UK Business Demography, ONS"]
[{"$f":"Data!E1121","v":2023},{"$f":"Index!N6","v":"Ashford "},"Kent","Great Britain"]
[null,"%","%","%"]
["1 year",{"$f":"INDEX(Data!E1123:Z1123,Index!$B$1)","v":94.615384615384613},{"$f":"Data!Q1123","v":93.440334961618973},{"$f":"Data!Z1123","v":92.362912469083668}]
["3 years",{"$f":"INDEX(Data!E1125:Z1125,Index!$B$1)","v":55.000000000000007},{"$f":"Data!Q1125","v":54.737516005121634},{"$f":"Data!Z1125","v":52.885290972964718}]
["5 years",{"$f":"INDEX(Data!E1127:Z1127,Index!$B$1)","v":40.939597315436245},{"$f":"Data!Q1127","v":44.141145139813581},{"$f":"Data!Z1127","v":39.287640089190724}]
[]
[]
[]
[]
[]
[]
[]
[]
[]
[]
[]
[]
["Output (Gross Value Added - GVA) Estimates (£m.)"]
["Source: ONS GVA Estimates"]
[null,{"$f":"Index!L6","v":"Ashford "}]
[{"$f":"Data!C1052","v":2006},{"$f":"INDEX(Data!E1052:Z1052,Index!$B$1)","v":2160}]
[{"$f":"Data!C1053","v":2007},{"$f":"INDEX(Data!E1053:Z1053,Index!$B$1)","v":2247}]
[{"$f":"Data!C1054","v":2008},{"$f":"INDEX(Data!E1054:Z1054,Index!$B$1)","v":2367}]
[{"$f":"Data!C1055","v":2009},{"$f":"INDEX(Data!E1055:Z1055,Index!$B$1)","v":2239}]
[{"$f":"Data!C1056","v":2010},{"$f":"INDEX(Data!E1056:Z1056,Index!$B$1)","v":2294}]
[{"$f":"Data!C1057","v":2011},{"$f":"INDEX(Data!E1057:Z1057,Index!$B$1)","v":2339}]
[{"$f":"Data!C1058","v":2012},{"$f":"INDEX(Data!E1058:Z1058,Index!$B$1)","v":2468}]
[{"$f":"Data!C1059","v":2013},{"$f":"INDEX(Data!E1059:Z1059,Index!$B$1)","v":2488}]
[{"$f":"Data!C1060","v":2014},{"$f":"INDEX(Data!E1060:Z1060,Index!$B$1)","v":2688}]
[{"$f":"Data!C1061","v":2015},{"$f":"INDEX(Data!E1061:Z1061,Index!$B$1)","v":2790}]
[{"$f":"Data!C1062","v":2016},{"$f":"INDEX(Data!E1062:Z1062,Index!$B$1)","v":2842}]
[{"$f":"Data!C1063","v":2017},{"$f":"INDEX(Data!E1063:Z1063,Index!$B$1)","v":2899}]
[{"$f":"Data!C1064","v":2018},{"$f":"INDEX(Data!E1064:Z1064,Index!$B$1)","v":3002}]
[{"$f":"Data!C1065","v":2019},{"$f":"INDEX(Data!E1065:Z1065,Index!$B$1)","v":3241}]
[{"$f":"Data!C1066","v":2020},{"$f":"INDEX(Data!E1066:Z1066,Index!$B$1)","v":3117}]
[{"$f":"Data!C1067","v":2021},{"$f":"INDEX(Data!E1067:Z1067,Index!$B$1)","v":3212}]
[]
[]
["GVA per head estimates (£/head)"]
["Source: ONS GVA Estimates"]
[null,{"$f":"Index!L6","v":"Ashford "}]
[{"$f":"Data!C1069","v":2006},{"$f":"INDEX(Data!E1069:Z1069,Index!$B$1)","v":19379.32333862676}]
[{"$f":"Data!C1070","v":2007},{"$f":"INDEX(Data!E1070:Z1070,Index!$B$1)","v":19834.754515121022}]
[{"$f":"Data!C1071","v":2008},{"$f":"INDEX(Data!E1071:Z1071,Index!$B$1)","v":20662.383463109745}]
[{"$f":"Data!C1072","v":2009},{"$f":"INDEX(Data!E1072:Z1072,Index!$B$1)","v":19352.775424827563}]
[{"$f":"Data!C1073","v":2010},{"$f":"INDEX(Data!E1073:Z1073,Index!$B$1)","v":19611.027997435351}]
[{"$f":"Data!C1074","v":2011},{"$f":"INDEX(Data!E1074:Z1074,Index!$B$1)","v":19754.233351632109}]
[{"$f":"Data!C1075","v":2012},{"$f":"INDEX(Data!E1075:Z1075,Index!$B$1)","v":20533.9834097395}]
[{"$f":"Data!C1076","v":2013},{"$f":"INDEX(Data!E1076:Z1076,Index!$B$1)","v":20418.5473943373}]
[{"$f":"Data!C1077","v":2014},{"$f":"INDEX(Data!E1077:Z1077,Index!$B$1)","v":21733.154379780404}]
[{"$f":"Data!C1078","v":2015},{"$f":"INDEX(Data!E1078:Z1078,Index!$B$1)","v":22395.248033392199}]
[{"$f":"Data!C1079","v":2016},{"$f":"INDEX(Data!E1079:Z1079,Index!$B$1)","v":22497.170042825364}]
[{"$f":"Data!C1080","v":2017},{"$f":"INDEX(Data!E1080:Z1080,Index!$B$1)","v":22639.770712774018}]
[{"$f":"Data!C1081","v":2018},{"$f":"INDEX(Data!E1081:Z1081,Index!$B$1)","v":23145.542439919507}]
[{"$f":"Data!C1082","v":2019},{"$f":"INDEX(Data!E1082:Z1082,Index!$B$1)","v":24841.721214722609}]
[{"$f":"Data!C1083","v":2020},{"$f":"INDEX(Data!E1083:Z1083,Index!$B$1)","v":23715.866119865175}]
[{"$f":"Data!C1084","v":2021},{"$f":"INDEX(Data!E1084:Z1084,Index!$B$1)","v":24110.312938650812}]
[]
[]
["GVA by Industry (£m)"]
["Source: ONS GVA Estimates"]
[{"$f":"Data!E1086","v":2022},{"$f":"Index!L6","v":"Ashford "}]
["Agriculture, forestry & fishing",{"$f":"INDEX(Data!E1087:Z1087,Index!$B$1)","v":"-"}]
["Production other than manufacturing",{"$f":"INDEX(Data!E1088:Z1088,Index!$B$1)","v":107}]
["Manufacturing",{"$f":"INDEX(Data!E1089:Z1089,Index!$B$1)","v":394}]
["Construction",{"$f":"INDEX(Data!E1090:Z1090,Index!$B$1)","v":235}]
["Distribution; transport; accommodation & food",{"$f":"INDEX(Data!E1091:Z1091,Index!$B$1)","v":609}]
["Information & communication",{"$f":"INDEX(Data!E1092:Z1092,Index!$B$1)","v":77}]
["Financial & insurance activities",{"$f":"INDEX(Data!E1093:Z1093,Index!$B$1)","v":27}]
["Real estate activities",{"$f":"INDEX(Data!E1094:Z1094,Index!$B$1)","v":473}]
["Business service activities",{"$f":"INDEX(Data!E1095:Z1095,Index!$B$1)","v":377}]
["Public administration; education; health ",{"$f":"INDEX(Data!E1096:Z1096,Index!$B$1)","v":709}]
["Other services & household activities",{"$f":"INDEX(Data!E1097:Z1097,Index!$B$1)","v":104}]
[]
[]
[]
["NINos"]
["Source: DWP"]
[null,{"$f":"Index!L6","v":"Ashford "},null,null,null,{"$f":"\"National Insurance Number Allocations to Overseas Nationals - \"&B6","v":"National Insurance Number Allocations to Overseas Nationals - Ashford "}]
[{"$f":"Data!C1098","v":2009},{"$f":"INDEX(Data!E1098:Z1098,Index!$B$1)","v":555}]
[{"$f":"Data!C1099","v":2010},{"$f":"INDEX(Data!E1099:Z1099,Index!$B$1)","v":720}]
[{"$f":"Data!C1100","v":2011},{"$f":"INDEX(Data!E1100:Z1100,Index!$B$1)","v":793}]
[{"$f":"Data!C1101","v":2012},{"$f":"INDEX(Data!E1101:Z1101,Index!$B$1)","v":625}]
[{"$f":"Data!C1102","v":2013},{"$f":"INDEX(Data!E1102:Z1102,Index!$B$1)","v":742}]
[{"$f":"Data!C1103","v":2014},{"$f":"INDEX(Data!E1103:Z1103,Index!$B$1)","v":873}]
[{"$f":"Data!C1104","v":2015},{"$f":"INDEX(Data!E1104:Z1104,Index!$B$1)","v":884}]
[{"$f":"Data!C1105","v":2016},{"$f":"INDEX(Data!E1105:Z1105,Index!$B$1)","v":962}]
[{"$f":"Data!C1106","v":2017},{"$f":"INDEX(Data!E1106:Z1106,Index!$B$1)","v":839}]
[{"$f":"Data!C1107","v":2018},{"$f":"INDEX(Data!E1107:Z1107,Index!$B$1)","v":747}]
[{"$f":"Data!C1108","v":2019},{"$f":"INDEX(Data!E1108:Z1108,Index!$B$1)","v":912}]
[{"$f":"Data!C1109","v":2020},{"$f":"INDEX(Data!E1109:Z1109,Index!$B$1)","v":407}]
[{"$f":"Data!C1110","v":2021},{"$f":"INDEX(Data!E1110:Z1110,Index!$B$1)","v":913}]
[{"$f":"Data!C1111","v":2022},{"$f":"INDEX(Data!E1111:Z1111,Index!$B$1)","v":1390}]
[{"$f":"Data!C1112","v":2023},{"$f":"INDEX(Data!E1112:Z1112,Index!$B$1)","v":1446}]
[]
[]
[]
[]
[]
[]
[]
[{"$f":"\"% of area NINos by world area of origin, \"&A518","v":"% of area NINos by world area of origin, 2023"}]
["Source: DWP"]
[{"$f":"Data!E1113","v":2023},{"$f":"B6","v":"Ashford "},"Kent","England"]
["EU Accession states",{"$f":"INDEX(Data!E1114:Z1114,Index!$B$1)","v":1.2448132780082987E-2},{"$f":"Data!Q1114","v":5.1388499298737726E-2},{"$f":"Data!Z1114","v":3.8013025567340666E-2}]
["European Union",{"$f":"INDEX(Data!E1115:Z1115,Index!$B$1)","v":6.2240663900414939E-2},{"$f":"Data!Q1115","v":0.10210378681626929},{"$f":"Data!Z1115","v":0.12926238730560252}]
["Other European",{"$f":"INDEX(Data!E1116:Z1116,Index!$B$1)","v":4.1493775933609957E-2},{"$f":"Data!Q1116","v":0.10546984572230014},{"$f":"Data!Z1116","v":5.9069797063493218E-2}]
["Asia",{"$f":"INDEX(Data!E1117:Z1117,Index!$B$1)","v":0.56431535269709543},{"$f":"Data!Q1117","v":0.50754558204768585},{"$f":"Data!Z1117","v":0.55188718772660383}]
["Africa",{"$f":"INDEX(Data!E1118:Z1118,Index!$B$1)","v":0.28838174273858919},{"$f":"Data!Q1118","v":0.25649368863955119},{"$f":"Data!Z1118","v":0.23420881801188592}]
["The Americas",{"$f":"INDEX(Data!E1119:Z1119,Index!$B$1)","v":3.1120331950207469E-2},{"$f":"Data!Q1119","v":2.7152875175315568E-2},{"$f":"Data!Z1119","v":3.4968363446624559E-2}]
["Oceania",{"$f":"INDEX(Data!E1120:Z1120,Index!$B$1)","v":1.8672199170124481E-2},{"$f":"Data!Q1120","v":8.190743338008415E-3},{"$f":"Data!Z1120","v":1.7520494207320821E-2}]
[]
[]
[]
[]
[]
[]
[]
[]
[]
[]
[]
["Highest level of Qualification (resident population aged 16+), 2021"]
["Source: 2021 Census Table TS067"]
[null,"All People"]
[{"$f":"B6","v":"Ashford "},"Number","% of all people 16+"]
["Population aged 16+",{"$f":"INDEX(Census2021Data!D553:Y553,Index!$B$1)","v":106766},{"$f":"B541/B$541","v":1}]
["No qualifications",{"$f":"INDEX(Census2021Data!D554:Y554,Index!$B$1)","v":18829},{"$f":"B542/B$541","v":0.17635764194593784}]
["Level 1 qualifications",{"$f":"INDEX(Census2021Data!D555:Y555,Index!$B$1)","v":12098},0.11331322705730289]
["Level 2 qualifications",{"$f":"INDEX(Census2021Data!D556:Y556,Index!$B$1)","v":16412},0.1537193488563775]
["Apprenticeship",{"$f":"INDEX(Census2021Data!D557:Y557,Index!$B$1)","v":5952},5.5748084596219771E-2]
["Level 3 qualifications",{"$f":"INDEX(Census2021Data!D558:Y558,Index!$B$1)","v":18232},0.1707659741865388]
["Level 4 qualifications and above",{"$f":"INDEX(Census2021Data!D559:Y559,Index!$B$1)","v":32148},0.30110709401869507]
["Other qualifications",{"$f":"INDEX(Census2021Data!D560:Y560,Index!$B$1)","v":3095},2.8988629338928124E-2]
[]
[]
[]
[]
[]
[]
[]
["Glossary"]
[]
["Working age population"]
["The working age population used here includes all people aged 16-64."]
["This was formerly defined as males aged 16-64 and females aged 16-59 but has now to changed to 16-64 for all people to reflect the gradual increase in pensionable age."]
["Source: 2023 Mid-year population estimates , Office for National Statistics"]
[]
[]
["Labour Market Pressure"]
["This shows the relationship between those about to enter and those about to leave the labour market."]
["A figure higher than 1 shows that there will be more people entering the labour market than will be leaving."]
["A figure lower than 1 shows that there will be fewer people entering the labour market than leaving."]
[]
[]
["Employee jobs (workplace based)"]
["This gives us the number of employee jobs in an area, broken down by part time/ full time and by industrial sector."]
["This section also looks at non standard industries. These are industries which incorporate parts of several different industrial sectors."]
["The Knowledge Economy comprises those industries whose main purpose centres on knowledge or information, from highly technical industries and knowledge intensive services to"]
["creative industries"]
["Creative Industries are those industries which have their origin in individual creativity, skill and talent and which have a potential for wealth and job creation through the generation and exploitation of intellectual "]
["property. More information on the Creative Industries is available from the Department for Culture, Media and Sport    https://www.gov.uk/government/organisations/department-for-digital-culture-media-sport"]
["Life Sciences are those industries whose main activity is within human and animal health, scientific research & development and residential and social care."]
["The Tourism Sector is defined as those industries which serve/supply the activities of persons identified as visitors. This not only includes activities of hotels, restaurants and campsites but also includes libraries"]
["and museums."]
[]
["Economic Activity"]
["Economic activity relates to whether or not a person who was aged 16 to 74 was working or looking for work in the week before census. "]
["Rather than a simple indicator of whether or not someone was currently in employment, it provides a measure of whether or not a person was an active participant in the labour market."]
["A person's economic activity is derived from their 'Activity last week'. This is an indicator of their status or availability for employment - whether employed, actively looking for work, "]
["waiting to start a new job, available to start a new job, or their status if not employed or not seeking employment."]
["Source: 2021 Census Custom Table, Office for National Statistics"]
[]
[]
["Economically Active Population by Age"]
["Using activity rates published by the Office For National Statistics Research & Evaluation look at the number of people who are working or available for work (economically active)."]
["Economically Inactive people include those who are retired, students, looking after them home or long term sick or disabled."]
["Source: Strategic Commissining - Analytics, Kent County Council"]
[]
[]
["Workforce Forecasts"]
["Strategic Commissioning - Analytics Workforce Forecasts look at the size of Kent’s labour market currently and how this is expected to change in the future."]
["Source: KCC Housing Led Forecasts November 2021, Strategic Commissioning - Analytics, Kent County Council"]
[]
[]
["Employment Rate"]
["This shows the proportion of people  aged 16-64 who are in employment."]
["Source: Annual Population Survey"]
[]
[]
["Unemployment Rate"]
["This shows the annual average unemployment rate."]
["Unemployment figures from the claimant count are released monthly and are also available from the Facts and Figures About Kent webpage"]
["Source: Claimant Count"]
[]
[]
["Employment by Industry (resident based)"]
["A person aged 16 to 74 is defined as employed (or in employment) if in the week before the census they carried out at least one hour's paid work, either as an employee or self-employed."]
["This includes casual or temporary work, on a government-sponsored training scheme, doing paid or unpaid work for their own or family business, "]
["being away from work ill, on maternity leave, or on holiday or temporarily laid off."]
["The industry in which a person aged 16 to 74 works relates to their main job, and is derived from information provided on the main activity of their employer or business."]
["Other industry’ includes the arts, entertainment and recreation industry; other service activities; the activities of households as employers, undifferentiated goods and services producing "]
["activities of households for own use industry; and the activities of extraterritorial organisations and bodies industry."]
["Source: 2021 Census Table TS060"]
[]
[]
["Employment by Occupation (resident based)"]
["A person's occupation relates to their main job and is derived from either their job title or details of the activities involved in their job. "]
["This is used to assign responses to an occupation code based on the Standard Occupational Classification 2010 (SOC2010)."]
["Source: 2021 Census Table TS063"]
[]
[]
["Method of travel to work, 2021"]
["The method of travel used for the longest part, by distance, of the usual journey to work. This topic is only applicable to people who were in employment in the week before the census."]
["Source: 2021 Census Table TS061"]
[]
[]
["Distance travelled to work, 2021"]
["This applies to the distance in kilometres between a person's residential postcode and their workplace postcode, measured in a straight line."]
["Source: 2021 Census Table TS058"]
[]
[]
["Hours Worked"]
["Working full-time is defined as working 31 hours or more per week. This applies to the number of hours a person aged 16 to 74 in employment "]
["in the week before the census worked in their main job, and includes paid and unpaid overtime."]
["The number of hours that a person aged 16 to 74 in employment in the week before the census worked in their main job. This includes paid and unpaid overtime"]
["Source: 2021 Census Table TS059"]
[]
[]
["Earnings, workplace and resident based"]
["Earnings data comes from the Annual Survey of Hours and Earnings (ASHE) from the Office for National Statistics. "]
["Data is based on a sample of employee jobs taken from HM Revenue & Customs PAYE records."]
["ASHE data looks at earnings based on resident or workplace populations."]
["Source: Annual Survey of Hours and Earnings"]
[]
[]
["Enterprises"]
["The UK Business data is published annually by the Office for National Statistics (ONS) and is based on output from the VAT and PAYE administrative systems."]
["The information provided by the UK Business dataset gives breakdowns by size band, industry, turnover and age of business."]
["Office for National Statistics UK Business Survey"]
[]
[]
["Business Births and Deaths & Active Businesses"]
["Active businesses are defined as businesses that had either turnover or employment at any time during the reference period."]
["A business birth is defined as a business that was present in the reference year but not in either of the two previous year."]
["A business death is defined as a busiess that was present in the reference year but not in either of the two subsequent years"]
["Office for National Statistics UK Business Demography"]
[]
[]
["Business Survival Rates"]
["A business is deemed to have survived if having been a birth in a previous year it has survived and continues to subsequent years"]
["Office for National Statistics UK Business Demography"]
[]
[]
["GVA"]
["Gross Value Added (GVA) is a key measure of economic wealth generation within a local area and is now the measure preferred by the Office for National Statistics "]
["to assess the economic health of an area."]
["Source: Office for National Statistics"]
[]
[]
["NiNo"]
["The Department for Work & pensions records the number of people who come to Britain from overseas and who register for a National Insurance Number."]
["A person has to have a National Insurance Number to be able to work or claim benefits, however they do not have to deregister if they leave the country."]
["Source: Department for Work & Pensions"]
[]
[]
["Qualifications - 2021 Census"]
["The highest level of qualification is derived from the question asking people to indicate all types of qualifications held. People were also asked if they held foreign qualifications and to indicate the closest equivalent."]
["No Qualifiications","No academic or professional qualifications"]
["Level 1 Qualifications","1-4 O Levels/CSE/GCSEs (any grades), Entry Level, Foundation Diploma, NVQ level 1, Foundation GNVQ, Basic/Essential Skills"]
["Level 2 Qualifications","5+ O Level (Passes)/CSEs (Grade 1)/GCSEs (Grades A*-C), School Certificate, 1 A Level/ 2-3 AS Levels/VCEs, Intermediate/Higher Diploma, Welsh Baccalaureate Intermediate Diploma, NVQ level 2, Intermediate GNVQ, City and Guilds Craft, BTEC First/General Diploma, RSA Diploma"]
["Apprenticeship"]
["Level 3 Qualifications"," 2+ A Levels/VCEs, 4+ AS Levels, Higher School Certificate, Progression/Advanced Diploma, Welsh Baccalaureate Advanced Diploma, NVQ Level 3; Advanced GNVQ, City and Guilds Advanced Craft, ONC, OND, BTEC National, RSA Advanced Diploma"]
["Level 4+ Qualifications","Degree (for example BA, BSc), Higher Degree (for example MA, PhD, PGCE), NVQ Level 4-5, HNC, HND, \nRSA Higher Diploma, BTEC Higher level, Foundation degree (NI), \nProfessional qualifications (for example teaching, nursing, accountancy)"]
["Other","Vocational/Work-related Qualifications, Foreign Qualifications (Not stated/ level unknown)."]
["Source: 2021 Census Table TS067"]
[]
[]
["Job Density"]
["The number of jobs in an area divided by the resident population aged 16-64 in that area. For example, a job density of 1.0 would mean that there is one job for every resident aged 16-64.  "]
["The total number of jobs is a workplace-based measure and comprises employee jobs, self-employed, government-supported trainees and HM Forces."]
["Source: Office for National Statistics"]

{"sheet":"Census2021Data","index":10,"n_rows":560,"n_cols":33,"rows_kept":560,"cut":false,"hidden":true,"merged":[]}
["Link to date",null,null,null,null,null,null,null,null,null,"KEY:"]
["District Data table",null,null,null,null,null,null,null,null,null,"Data - pre calculated/rounded"]
[null,null,null,null,null,null,null,null,null,null,"Dependent Cell"]
[null,null,null,null,null,null,null,null,null,null,"Calculation"]
[null,null,null,2021]
[null,null,"Variable number","Ashford Borough","Canterbury City","Dartford Borough","Dover District","Folkestone & Hythe District","Gravesham Borough","Maidstone Borough","Sevenoaks District","Swale Borough","Thanet District","Tonbridge & Malling District","Tunbridge Wells Borough","KCC Area","Medway","Kent","Medway PCT","Eastern & Coastal PCT","West Kent PCT","Thames Gateway","Sout East Local Enterprise Pertnership","South East","England",null,"NUTS315  UKJ41 Medway","NUTS315  UKJ43 Kent Thames gateway","NUTS315  UKJ44 East Kent","NUTS315  UKJ45 Mid Kent","NUTS315  UKJ46 West Kent","Source:","section"]
["Ethnic Group ","Table RM032",null,2021,2021,2021,2021,2021,2021,2021,2021,2021,2021,2021,2021,2021,2021,2021,2021,2021,2021,2021,2021,2021,2021,null,2021,2021,2021,2021,2021,"2021 Census","Diversity"]
["All usual residents","All People",null,132756,157426,116759,116389,109760,106899,175779,120518,151674,140592,132194,115305,1576069,279780,1855849,279780,808597,767454,655112,4261913,9278066,56490037,null,279780,333418,524167,308535,368017,"2021 Census","Diversity"]
["White British","All People",null,109677,129887,78557,105110,96588,73030,144111,103116,134385,122798,116787,97049,1311093,218952,1530045,218952,698445,612650,504924,3555674,7315057,41540789,null,218952,248175,454383,253788,316952,"2021 Census","Diversity"]
["Ethnic minorities","All People",null,23079,27539,38202,11279,13172,33869,31668,17402,17289,17794,15407,18256,264976,60828,325804,60828,110152,154804,150188,706239,1963009,14949248,null,60828,85243,69784,54747,51065,"2021 Census","Diversity"]
["Other than white","All People",null,15852,16949,29821,5972,8146,25011,17920,9512,9341,9863,8908,9743,167061,44035,211096,44035,66123,100915,108208,453109,1268686,10706642,null,44035,62978,40930,33772,28163,"2021 Census","Diversity"]
["Total Asian","All People",null,7667,6371,11516,2392,4272,11998,8220,3486,2313,3258,3871,4563,69940,16487,86427,16487,26273,43654,42314,176378,650547,5426388,null,16487,27786,16293,15887,11920,"2021 Census","Diversity"]
["  Bangladeshi","All People",null,335,429,1052,156,196,690,652,234,405,253,377,546,5334,1965,7299,1965,1774,3551,4112,17842,39881,629567,null,1965,1938,1034,987,1157,"2021 Census","Diversity"]
["  Chinese","All People",null,579,1356,1168,304,357,352,656,767,328,448,665,681,7656,1273,8929,1273,3372,4289,3121,20697,64329,431162,null,1273,1877,2465,1235,2113,"2021 Census","Diversity"]
["  Indian","All People",null,1719,1990,5123,550,493,8134,2148,1327,775,941,1547,1694,26440,7693,34133,7693,6468,19973,21725,67092,241537,1843248,null,7693,13750,3974,3867,4568,"2021 Census","Diversity"]
["  Pakistani","All People",null,404,541,760,38,214,843,568,254,149,271,286,365,4697,2126,6823,2126,1617,3076,3878,18112,145313,1570285,null,2126,1817,1064,972,905,"2021 Census","Diversity"]
["  Other Asian","All People",null,4630,2055,3413,1344,3012,1979,4196,904,656,1345,996,1277,25813,3430,29243,3430,13042,12765,9478,52635,159487,952126,null,3430,8404,7756,8826,3177,"2021 Census","Diversity"]
["Total black Caribbean or African","All People",null,3422,3910,12284,831,683,6953,3604,1933,3491,1478,1313,1130,41036,15725,56761,15725,13815,27217,38453,124683,221586,2381724,null,15725,19920,6902,7026,4376,"2021 Census","Diversity"]
["  African","All People",null,2504,2927,9816,544,384,5235,2566,1332,2544,858,872,829,30411,11266,41677,11266,9761,20650,28861,89578,150542,1468474,null,11266,15435,4713,5070,3033,"2021 Census","Diversity"]
["  Caribbean","All People",null,573,650,1140,178,202,847,645,372,452,451,278,172,5958,2554,8512,2554,2506,3454,4993,19761,43523,619418,null,2554,2189,1481,1218,822,"2021 Census","Diversity"]
["  Other black","All People",null,345,333,1328,109,97,871,393,229,495,169,163,129,4667,1905,6572,1905,1548,3113,4599,15344,27521,293832,null,1905,2296,708,738,521,"2021 Census","Diversity"]
["Total mixed or multiple ethnic groups","All People",null,2881,4313,3636,1751,2105,2829,4011,3182,2745,3418,2942,2946,36764,7862,44626,7862,17213,19546,17072,104516,260871,1669381,null,7862,8570,11587,6892,9070,"2021 Census","Diversity"]
["  White and Asian","All People",null,900,1409,980,545,677,792,1318,1347,758,891,1040,1285,11939,2159,14098,2159,5180,6762,4689,31116,88106,474193,null,2159,2449,3522,2218,3672,"2021 Census","Diversity"]
["  White and Black African","All People",null,439,661,727,297,300,535,609,335,414,591,415,367,5695,1396,7091,1396,2702,2988,3072,16831,38631,241528,null,1396,1562,1849,1048,1117,"2021 Census","Diversity"]
["  White and Black Caribbean","All People",null,775,980,999,411,552,787,977,658,819,1040,670,476,9150,2425,11575,2425,4577,4567,5030,28819,62087,499310,null,2425,2338,2983,1752,1804,"2021 Census","Diversity"]
["  Other mixed or multiple ethnic groups","All People",null,767,1263,930,498,576,715,1107,842,754,896,817,818,9980,1882,11862,1882,4754,5229,4281,27750,72047,454350,null,1882,2221,3233,1874,2477,"2021 Census","Diversity"]
["Total white","All People",null,116904,140477,86938,110417,101614,81888,157859,111006,142333,130729,123286,105562,1409008,235745,1644753,235745,742474,666539,546904,3808804,8009380,45783395,null,235745,270440,483237,274763,339854,"2021 Census","Diversity"]
["  English, Welsh, Scottish, Northern Irish or British","All People",null,109677,129887,78557,105110,96588,73030,144111,103116,134385,122798,116787,97049,1311093,218952,1530045,218952,698445,612650,504924,3555674,7315057,41540789,null,218952,248175,454383,253788,316952,"2021 Census","Diversity"]
["  Irish","All People",null,777,1312,813,649,767,698,994,1084,849,1148,849,914,10853,1870,12723,1870,5502,5352,4230,31573,78220,494251,null,1870,2278,3876,1771,2847,"2021 Census","Diversity"]
["  Gypsy or Irish Traveller","All People",null,686,393,309,244,146,316,1008,461,924,186,459,333,5472,751,6223,751,2579,2886,2300,9392,16748,64216,null,751,771,969,1694,1253,"2021 Census","Diversity"]
["  Roma","All People",null,81,191,157,243,137,351,272,73,175,383,76,118,2255,465,2720,465,1210,1047,1148,5196,12786,99137,null,465,645,954,353,267,"2021 Census","Diversity"]
["  Other white","All People",null,5683,8694,7102,4171,3976,7493,11474,6272,6000,6214,5115,7148,79335,13707,93042,13707,34738,44604,34302,206969,586569,3585002,null,13707,18571,23055,17157,18535,"2021 Census","Diversity"]
["Other ethnic group","All People",null,1882,2355,2385,998,1086,3231,2085,911,792,1709,782,1104,19321,3961,23282,3961,8822,10498,10369,47532,135682,1229149,null,3961,6702,6148,3967,2797,"2021 Census","Diversity"]
["  Arab","All People",null,297,674,254,134,119,128,249,156,129,248,170,249,2804,453,3257,453,1601,1206,964,7771,29572,320203,null,453,501,1175,546,575,"2021 Census","Diversity"]
["  Any other ethnic group","All People",null,1585,1681,2131,864,967,3103,1836,755,663,1461,612,855,16517,3508,20025,3508,7221,9292,9405,39761,106110,908946,null,3508,6201,4973,3421,2222,"2021 Census","Diversity"]
["Ethnicity by Age","Custom report",null,2021,2021,2021,2021,2021,2021,2021,2021,2021,2021,2021,2021,2021,2021,2021,2021,2021,2021,2021,2021,2021,2021,null,2021,2021,2021,2021,2021,"2021 Census","Diversity"]
["All usual residents aged 0-15","0-15",null,25977,24656,26056,20280,18203,22347,33647,23913,29675,25171,26677,22908,299503,57017,356520,57017,143962,155548,135095,799984,1723488,10483092,null,57017,66606,88310,59624,73498,"2021 Census","Diversity"]
["White British","0-15",null,20487,20007,14821,17685,15701,13589,26270,19448,25527,21082,22759,18555,235931,41366,277297,41366,120489,115442,95303,629058,1271747,6987274,null,41366,44111,74475,46757,60762,"2021 Census","Diversity"]
["Ethnic minorities","0-15",null,5490,4649,11235,2595,2502,8758,7377,4465,4148,4089,3918,4353,63572,15651,79223,15651,23473,40106,39792,170926,451741,3495818,null,15651,22495,13835,12867,12736,"2021 Census","Diversity"]
["Other than white","0-15",null,4260,3408,9754,1772,1889,7013,5088,3068,2841,2888,2835,3131,47943,12760,60703,12760,17058,30889,32368,132164,353697,2891116,null,12760,18656,9957,9348,9034,"2021 Census","Diversity"]
["Total Asian","0-15",null,1487,1037,3218,577,712,2636,1772,749,434,715,915,1183,15433,3545,18978,3545,4962,10473,9833,39171,151875,1292003,null,3545,6566,3041,3259,2847,"2021 Census","Diversity"]
["  Bangladeshi","0-15",null,102,108,365,47,40,204,184,65,90,67,97,165,1534,589,2123,589,454,1080,1248,5285,11131,187259,null,589,609,262,286,327,"2021 Census","Diversity"]
["  Chinese","0-15",null,112,215,263,54,60,50,96,154,60,97,136,140,1435,194,1629,194,598,839,567,3526,10376,62571,null,194,373,426,208,430,"2021 Census","Diversity"]
["  Indian","0-15",null,459,302,1348,113,76,1611,481,300,136,192,414,505,5938,1476,7414,1476,1278,4659,4571,14938,55360,367437,null,1476,3035,683,940,1219,"2021 Census","Diversity"]
["  Pakistani","0-15",null,121,111,274,10,60,275,142,79,25,66,97,115,1373,552,1925,552,393,982,1126,5151,43563,471391,null,552,609,247,263,291,"2021 Census","Diversity"]
["  Other Asian","0-15",null,693,301,968,353,476,496,869,151,123,293,171,258,5153,734,5887,734,2239,2913,2321,10271,31445,203345,null,734,1940,1423,1562,580,"2021 Census","Diversity"]
["Total black Caribbean or African","0-15",null,1003,492,4101,251,95,2180,1004,475,1009,280,333,270,11494,4619,16113,4619,3130,8363,11909,34480,55673,589439,null,4619,6376,1118,2007,1078,"2021 Census","Diversity"]
["  African","0-15",null,750,319,3089,167,53,1541,741,326,746,180,235,209,8357,3220,11577,3220,2215,6141,8596,24042,37950,382374,null,3220,4683,719,1491,770,"2021 Census","Diversity"]
["  Caribbean","0-15",null,82,53,187,27,9,140,71,53,45,42,28,13,750,363,1113,363,258,492,735,2583,4899,83439,null,363,336,131,153,94,"2021 Census","Diversity"]
["  Other black","0-15",null,171,120,825,57,33,499,192,96,218,58,70,48,2387,1036,3423,1036,657,1730,2578,7855,12824,123626,null,1036,1357,268,363,214,"2021 Census","Diversity"]
["Total mixed or multiple ethnic groups","0-15",null,1416,1504,1870,721,903,1433,1904,1672,1225,1461,1428,1464,16997,3720,20717,3720,7230,9771,8248,48642,118415,731169,null,3720,4206,4589,3320,4564,"2021 Census","Diversity"]
["  White and Asian","0-15",null,452,506,535,238,296,411,630,767,343,413,541,698,5830,1007,6837,1007,2248,3582,2296,15077,43531,228587,null,1007,1242,1453,1082,2006,"2021 Census","Diversity"]
["  White and Black African","0-15",null,278,279,441,156,171,303,359,196,238,302,235,208,3166,846,4012,846,1424,1742,1828,9503,20139,117318,null,846,915,908,637,639,"2021 Census","Diversity"]
["  White and Black Caribbean","0-15",null,353,318,468,148,230,371,447,340,332,424,294,215,3936,1068,5004,1068,1805,2135,2239,12749,26416,206000,null,1068,1069,1120,800,849,"2021 Census","Diversity"]
["  Other mixed or multiple ethnic groups","0-15",null,333,401,426,179,206,348,468,369,312,322,358,343,4065,799,4864,799,1753,2312,1885,11313,28329,179264,null,799,980,1108,801,1070,"2021 Census","Diversity"]
["Total white","0-15",null,21717,21248,16302,18508,16314,15334,28559,20845,26834,22283,23842,19777,251560,44257,295817,44257,126904,124659,102727,667820,1369791,7591976,null,44257,47950,78353,50276,64464,"2021 Census","Diversity"]
["  English, Welsh, Scottish, Northern Irish or British","0-15",null,20487,20007,14821,17685,15701,13589,26270,19448,25527,21082,22759,18555,235931,41366,277297,41366,120489,115442,95303,629058,1271747,6987274,null,41366,44111,74475,46757,60762,"2021 Census","Diversity"]
["  Irish","0-15",null,48,77,54,32,24,22,42,90,35,46,54,60,582,96,678,96,262,322,207,1631,4319,25381,null,96,100,179,90,204,"2021 Census","Diversity"]
["  Gypsy or Irish Traveller","0-15",null,257,111,111,65,42,114,353,166,282,46,187,139,1873,276,2149,276,803,1070,783,3124,5423,19425,null,276,267,264,610,492,"2021 Census","Diversity"]
["  Roma","0-15",null,17,33,31,87,35,102,50,15,33,138,13,14,566,89,655,89,343,225,255,1063,2212,17598,null,89,168,293,67,42,"2021 Census","Diversity"]
["  Other white","0-15",null,908,1020,1285,639,512,1507,1844,1126,957,971,829,1009,12608,2430,15038,2430,5007,7600,6179,32944,86090,542298,null,2430,3304,3142,2752,2964,"2021 Census","Diversity"]
["Other ethnic group","0-15",null,354,375,565,223,179,764,408,172,173,432,159,214,4019,876,4895,876,1736,2282,2378,9871,27734,278505,null,876,1508,1209,762,545,"2021 Census","Diversity"]
["  Arab","0-15",null,88,112,64,36,34,34,70,34,47,66,48,49,683,100,783,100,383,299,245,1922,7465,90807,null,100,132,248,158,131,"2021 Census","Diversity"]
["  Any other ethnic group","0-15",null,266,263,501,187,145,730,338,138,126,366,111,165,3336,776,4112,776,1353,1983,2133,7949,20269,187698,null,776,1376,961,604,414,"2021 Census","Diversity"]
["All usual residents aged 16-64","16-64",null,80771,98523,74660,68231,64128,66145,108612,70677,93090,82162,80222,70028,957243,176698,1133941,176698,486905,470344,410593,2585653,5750322,35605655,null,176698,204933,313044,189383,220927,"2021 Census","Diversity"]
["White British","16-64",null,65004,77438,49457,60689,54921,43412,86337,59070,81081,70181,69852,57382,774823,135565,910388,135565,409314,365510,309515,2103143,4382127,25224616,null,135565,147790,263229,151341,186304,"2021 Census","Diversity"]
["Ethnic minorities","16-64",null,15767,21085,25203,7542,9207,22733,22275,11607,12009,11981,10370,12646,182420,41133,223553,41133,77591,104834,101078,482510,1368195,10381039,null,41133,57143,49815,38042,34623,"2021 Census","Diversity"]
["Other than white","16-64",null,10503,12853,18823,3850,5643,16153,11764,5907,6035,6289,5572,6170,109556,28627,138183,28627,45173,64389,69638,294826,838910,7117394,null,28627,40619,28635,22267,17649,"2021 Census","Diversity"]
["Total Asian","16-64",null,5524,4978,7518,1665,3214,8093,5812,2446,1655,2288,2674,3144,49009,11346,60355,11346,19324,29687,28612,122825,451956,3723696,null,11346,18825,12145,11336,8264,"2021 Census","Diversity"]
["  Bangladeshi","16-64",null,226,317,662,109,147,462,447,160,310,182,267,369,3657,1302,4959,1302,1291,2367,2736,12040,27435,418061,null,1302,1271,755,673,796,"2021 Census","Diversity"]
["  Chinese","16-64",null,395,1049,807,209,252,247,482,540,225,310,479,487,5478,948,6426,948,2440,3042,2227,14732,48063,331587,null,948,1306,1820,877,1506,"2021 Census","Diversity"]
["  Indian","16-64",null,1170,1549,3349,373,339,5537,1471,905,515,657,1031,1101,17998,5227,23225,5227,4603,13394,14628,45680,166406,1278513,null,5227,9225,2918,2641,3037,"2021 Census","Diversity"]
["  Pakistani","16-64",null,256,413,458,30,144,533,389,165,113,187,172,242,3104,1404,4508,1404,1143,1959,2508,11969,93669,1012919,null,1404,1135,774,645,579,"2021 Census","Diversity"]
["  Other Asian","16-64",null,3477,1650,2242,944,2332,1314,3023,676,492,952,725,945,18772,2465,21237,2465,9847,8925,6513,38404,116383,682616,null,2465,5888,5878,6500,2346,"2021 Census","Diversity"]
["Total black Caribbean or African","16-64",null,2293,3328,7938,543,533,4568,2477,1372,2364,1079,926,807,28227,10590,38817,10590,10140,18088,25460,85685,155687,1638076,null,10590,13039,5483,4770,3105,"2021 Census","Diversity"]
["  African","16-64",null,1702,2572,6577,362,321,3589,1767,975,1745,637,618,592,21457,7833,29290,7833,7339,14118,19744,63513,108935,1034106,null,7833,10487,3892,3469,2185,"2021 Census","Diversity"]
["  Caribbean","16-64",null,423,557,873,128,159,621,517,274,356,342,221,143,4613,1928,6541,1928,1965,2649,3778,15082,33043,445409,null,1928,1653,1186,940,638,"2021 Census","Diversity"]
["  Other black","16-64",null,168,199,488,53,53,358,193,123,263,100,87,72,2157,829,2986,829,836,1321,1938,7090,13709,158561,null,829,899,405,361,282,"2021 Census","Diversity"]
["Total mixed or multiple ethnic groups","16-64",null,1376,2684,1700,946,1106,1344,1991,1423,1440,1793,1426,1405,18631,3909,22540,3909,9345,9289,8393,52618,134561,893933,null,3909,4150,6529,3367,4254,"2021 Census","Diversity"]
["  White and Asian","16-64",null,408,850,418,278,343,364,634,537,387,435,468,556,5678,1064,6742,1064,2701,2977,2233,14884,41820,232934,null,1064,1125,1906,1042,1561,"2021 Census","Diversity"]
["  White and Black African","16-64",null,151,368,274,130,123,224,240,136,172,259,169,153,2399,531,2930,531,1203,1196,1201,6978,17594,118309,null,531,621,880,391,458,"2021 Census","Diversity"]
["  White and Black Caribbean","16-64",null,404,645,528,247,301,406,515,304,462,580,358,249,4996,1313,6309,1313,2639,2360,2709,15391,34176,282787,null,1313,1235,1773,919,911,"2021 Census","Diversity"]
["  Other mixed or multiple ethnic groups","16-64",null,413,821,480,291,339,350,602,446,419,519,431,447,5558,1001,6559,1001,2802,2756,2250,15365,40971,259903,null,1001,1169,1970,1015,1324,"2021 Census","Diversity"]
["Total white","16-64",null,70268,85670,55837,64381,58485,49992,96848,64770,87055,75873,74650,63858,847687,148071,995758,148071,441732,405955,340955,2290827,4911412,28488261,null,148071,164314,284409,167116,203278,"2021 Census","Diversity"]
["  English, Welsh, Scottish, Northern Irish or British","16-64",null,65004,77438,49457,60689,54921,43412,86337,59070,81081,70181,69852,57382,774823,135565,910388,135565,409314,365510,309515,2103143,4382127,25224616,null,135565,147790,263229,151341,186304,"2021 Census","Diversity"]
["  Irish","16-64",null,492,857,528,350,430,397,634,719,523,666,572,596,6762,1097,7859,1097,3318,3446,2545,18949,49271,310262,null,1097,1355,2303,1126,1887,"2021 Census","Diversity"]
["  Gypsy or Irish Traveller","16-64",null,375,246,172,163,95,182,582,249,597,132,247,175,3216,425,3641,425,1608,1607,1376,5569,10045,40042,null,425,449,636,957,671,"2021 Census","Diversity"]
["  Roma","16-64",null,55,148,123,153,95,239,213,50,130,227,56,104,1595,352,1947,352,808,785,844,3911,10060,79006,null,352,457,623,268,210,"2021 Census","Diversity"]
["  Other white","16-64",null,4342,6981,5557,3026,2944,5762,9082,4682,4724,4667,3923,5601,61291,10632,71923,10632,26684,34607,26675,159255,459909,2834335,null,10632,14263,17618,13424,14206,"2021 Census","Diversity"]
["Other ethnic group","16-64",null,1310,1863,1667,696,790,2148,1484,666,576,1129,546,814,13689,2782,16471,2782,6364,7325,7173,33698,96706,861689,null,2782,4605,4478,2794,2026,"2021 Census","Diversity"]
["  Arab","16-64",null,193,541,178,87,74,86,159,113,74,163,105,174,1947,328,2275,328,1132,815,666,5332,20306,213828,null,328,338,865,352,392,"2021 Census","Diversity"]
["  Any other ethnic group","16-64",null,1117,1322,1489,609,716,2062,1325,553,502,966,441,640,11742,2454,14196,2454,5232,6510,6507,28366,76400,647861,null,2454,4267,3613,2442,1634,"2021 Census","Diversity"]
["All usual residents aged 65+","65+",null,25997,34247,16039,27900,27427,18414,33526,25931,28912,33262,25308,22374,319328,46059,365387,46059,177745,141592,109424,876257,1804257,10401301,null,46059,61880,122836,59523,73613,"2021 Census","Diversity"]
["White British","65+",null,24182,32442,14279,26737,25966,16029,31507,24598,27778,31533,24176,21112,300339,42021,342360,42021,168638,131701,100107,823471,1661184,9328900,null,42021,56274,116678,55689,69886,"2021 Census","Diversity"]
["Ethnic minorities","65+",null,1815,1805,1760,1163,1461,2385,2019,1333,1134,1729,1132,1262,18989,4038,23027,4038,9107,9891,9317,52786,143073,1072401,null,4038,5606,6158,3834,3727,"2021 Census","Diversity"]
["Other than white","65+",null,1088,690,1242,370,615,1848,1068,541,459,696,512,446,9569,2637,12206,2637,3918,5657,6186,26095,76081,698138,null,2637,3705,2371,2156,1499,"2021 Census","Diversity"]
["Total Asian","65+",null,658,360,777,159,347,1273,632,289,219,259,288,239,5498,1594,7092,1594,2002,3498,3863,14372,46714,410693,null,1594,2397,1125,1290,816,"2021 Census","Diversity"]
["  Bangladeshi","65+",null,10,6,25,6,9,25,18,9,6,5,12,14,143,71,214,71,42,103,127,513,1315,24247,null,71,59,26,28,35,"2021 Census","Diversity"]
["  Chinese","65+",null,71,93,95,40,48,57,79,71,43,42,50,54,743,131,874,131,337,406,326,2438,5890,37007,null,131,200,223,150,175,"2021 Census","Diversity"]
["  Indian","65+",null,89,143,426,64,75,988,193,120,122,94,102,86,2504,990,3494,990,587,1915,2526,6476,19771,197298,null,990,1489,376,282,308,"2021 Census","Diversity"]
["  Pakistani","65+",null,27,15,28,1,10,35,38,11,7,18,20,10,221,170,391,170,78,142,240,987,8079,85975,null,170,73,44,65,41,"2021 Census","Diversity"]
["  Other Asian","65+",null,461,103,203,48,205,168,304,78,41,100,104,75,1887,232,2119,232,958,932,644,3958,11659,66166,null,232,576,456,765,257,"2021 Census","Diversity"]
["Total black Caribbean or African","65+",null,130,85,241,43,54,204,125,86,116,123,57,52,1315,513,1828,513,551,765,1074,4513,10224,154210,null,513,499,305,255,195,"2021 Census","Diversity"]
["  African","65+",null,53,35,145,17,11,105,59,31,50,42,20,27,596,212,808,212,208,387,512,2021,3655,51994,null,212,261,105,112,78,"2021 Census","Diversity"]
["  Caribbean","65+",null,67,38,80,21,36,86,55,44,51,69,30,19,595,261,856,261,282,314,478,2091,5581,90572,null,261,202,164,122,93,"2021 Census","Diversity"]
["  Other black","65+",null,10,12,16,5,7,13,11,11,15,12,7,6,124,40,164,40,61,64,84,401,988,11644,null,40,36,36,21,24,"2021 Census","Diversity"]
["Total mixed or multiple ethnic groups","65+",null,82,126,70,88,98,53,119,91,76,166,91,80,1141,230,1371,230,636,504,429,3255,7898,44275,null,230,221,478,201,262,"2021 Census","Diversity"]
["  White and Asian","65+",null,37,52,27,31,37,16,52,43,28,46,32,31,431,87,518,87,231,201,158,1147,2755,12669,null,87,80,166,89,106,"2021 Census","Diversity"]
["  White and Black African","65+",null,7,13,8,11,9,9,12,8,5,30,12,7,133,17,150,17,75,56,39,355,900,5900,null,17,26,63,19,27,"2021 Census","Diversity"]
["  White and Black Caribbean","65+",null,18,21,10,16,23,11,17,13,19,38,20,14,219,43,262,43,135,85,83,679,1497,10523,null,43,44,98,35,47,"2021 Census","Diversity"]
["  Other mixed or multiple ethnic groups","65+",null,20,40,25,30,29,17,38,27,24,52,27,28,358,83,441,83,195,162,149,1074,2746,15183,null,83,71,151,58,82,"2021 Census","Diversity"]
["Total white","65+",null,24909,33557,14797,27530,26812,16566,32458,25390,28453,32566,24796,21928,309759,43422,353181,43422,173827,135935,103238,850162,1728176,9703163,null,43422,58175,120465,57367,72114,"2021 Census","Diversity"]
["  English, Welsh, Scottish, Northern Irish or British","65+",null,24182,32442,14279,26737,25966,16029,31507,24598,27778,31533,24176,21112,300339,42021,342360,42021,168638,131701,100107,823471,1661184,9328900,null,42021,56274,116678,55689,69886,"2021 Census","Diversity"]
["  Irish","65+",null,237,377,230,268,311,279,318,277,297,433,224,257,3506,673,4179,673,1923,1585,1479,10984,24629,158608,null,673,820,1389,555,758,"2021 Census","Diversity"]
["  Gypsy or Irish Traveller","65+",null,54,34,26,17,8,24,75,44,46,10,29,19,384,52,436,52,169,217,148,711,1280,4751,null,52,58,69,129,92,"2021 Census","Diversity"]
["  Roma","65+",null,5,11,4,3,7,10,10,7,14,15,5,2,94,28,122,28,55,38,56,224,514,2534,null,28,21,36,15,14,"2021 Census","Diversity"]
["  Other white","65+",null,431,693,258,505,520,224,548,464,318,575,362,538,5436,648,6084,648,3042,2394,1448,14772,40569,208370,null,648,1002,2293,979,1364,"2021 Census","Diversity"]
["Other ethnic group","65+",null,218,119,154,80,116,318,192,75,48,148,76,75,1615,300,1915,300,729,890,820,3955,11245,88960,null,300,588,463,410,226,"2021 Census","Diversity"]
["  Arab","65+",null,17,22,11,13,11,7,19,11,7,18,16,24,176,22,198,22,88,88,47,513,1805,15569,null,22,29,64,36,51,"2021 Census","Diversity"]
["  Any other ethnic group","65+",null,201,97,143,67,105,311,173,64,41,130,60,51,1439,278,1717,278,641,802,773,3442,9440,73391,null,278,559,399,374,175,"2021 Census","Diversity"]
["Ethnic Group - Males","Males",null,2021,2021,2021,2021,2021,2021,2021,2021,2021,2021,2021,2021,2021,2021,2021,2021,2021,2021,2021,2021,2021,2021,null,2021,2021,2021,2021,2021,"2021 Census","Diversity"]
["All usual residents","Males",null,64593,75583,57152,56798,53578,52236,86967,58204,75313,67661,64348,55945,768384,137129,905513,137129,393526,374852,321830,2074134,4539240,27656333,null,137129,162966,253620,151560,178497,"2021 Census","Diversity"]
["White British","Males",null,53498,62852,38564,51486,47204,35535,71313,50324,66555,59212,57183,47570,641297,107646,748943,107646,340807,300489,248300,1736898,3599119,20421992,null,107646,121303,220754,124811,155077,"2021 Census","Diversity"]
["Ethnic minorities","Males",null,11095,12731,18588,5312,6374,16701,15654,7880,8758,8449,7165,8375,127087,29483,156570,29483,52719,74363,73530,337236,940121,7234341,null,29483,41663,32866,26749,23420,"2021 Census","Diversity"]
["Other than white","Males",null,7778,8076,14612,2955,4175,12466,9078,4425,4887,4905,4299,4700,82364,21563,103927,21563,32776,49580,53528,221418,622495,5233767,null,21563,31253,20111,16856,13424,"2021 Census","Diversity"]
["Total Asian","Males",null,3754,3050,5712,1157,2242,6043,4145,1530,1132,1597,1808,2190,34369,7945,42314,7945,12932,21428,20832,84792,315775,2663692,null,7945,13997,8046,7899,5528,"2021 Census","Diversity"]
["  Bangladeshi","Males",null,184,216,553,91,112,375,343,118,234,142,194,299,2868,971,3839,971,979,1882,2133,9258,20521,315371,null,971,1040,561,527,611,"2021 Census","Diversity"]
["  Chinese","Males",null,262,627,533,143,140,151,283,326,145,201,305,300,3413,564,3977,564,1518,1898,1393,9200,28059,192987,null,564,824,1111,545,931,"2021 Census","Diversity"]
["  Indian","Males",null,851,979,2559,278,247,4101,1057,625,387,497,752,833,13167,3762,16929,3762,3239,9927,10809,33106,120217,920519,null,3762,6907,2001,1908,2210,"2021 Census","Diversity"]
["  Pakistani","Males",null,203,280,388,22,121,430,290,134,85,155,135,211,2456,1076,3532,1076,866,1588,1979,9359,73486,788336,null,1076,939,578,493,480,"2021 Census","Diversity"]
["  Other Asian","Males",null,2254,948,1679,623,1622,986,2172,327,281,602,422,547,12465,1572,14037,1572,6330,6133,4518,23869,73492,446479,null,1572,4287,3795,4426,1296,"2021 Census","Diversity"]
["Total black Caribbean or African","Males",null,1661,1787,5913,418,328,3309,1824,911,1834,733,668,536,19919,7634,27553,7634,6761,13161,18690,60537,108898,1128522,null,7634,9550,3266,3485,2115,"2021 Census","Diversity"]
["  African","Males",null,1199,1383,4693,280,188,2472,1266,623,1276,406,438,389,14610,5409,20019,5409,4732,9881,13850,42946,72971,698415,null,5409,7353,2257,2465,1450,"2021 Census","Diversity"]
["  Caribbean","Males",null,279,264,535,87,93,400,360,165,264,235,141,92,2909,1259,4168,1259,1222,1693,2458,9702,21855,283989,null,1259,1028,679,639,398,"2021 Census","Diversity"]
["  Other black","Males",null,183,140,685,51,47,437,198,123,294,92,89,55,2400,966,3366,966,807,1587,2382,7889,14072,146118,null,966,1169,330,381,267,"2021 Census","Diversity"]
["Total mixed or multiple ethnic groups","Males",null,1423,2108,1780,846,1054,1444,1977,1513,1484,1718,1418,1418,18188,3991,22179,3991,8633,9550,8699,51750,129190,817825,null,3991,4278,5726,3400,4349,"2021 Census","Diversity"]
["  White and Asian","Males",null,441,650,500,248,332,414,667,644,410,454,488,613,5858,1088,6946,1088,2535,3326,2412,15424,44076,236046,null,1088,1246,1684,1108,1745,"2021 Census","Diversity"]
["  White and Black African","Males",null,215,353,355,143,143,278,309,170,214,302,210,171,2869,709,3578,709,1370,1493,1556,8438,19296,118703,null,709,776,941,524,551,"2021 Census","Diversity"]
["  White and Black Caribbean","Males",null,384,491,489,210,277,399,473,301,452,516,344,231,4572,1245,5817,1245,2330,2237,2585,14361,31158,244909,null,1245,1165,1494,857,876,"2021 Census","Diversity"]
["  Other mixed or multiple ethnic groups","Males",null,383,614,436,245,302,353,528,398,408,446,376,403,4889,949,5838,949,2398,2494,2146,13527,34660,218167,null,949,1091,1607,911,1177,"2021 Census","Diversity"]
["Total white","Males",null,56815,67507,42540,53843,49403,39770,77889,53779,70426,62756,60049,51245,686020,115566,801586,115566,360750,325272,268302,1852716,3916745,22422566,null,115566,131713,233509,134704,165073,"2021 Census","Diversity"]
["  English, Welsh, Scottish, Northern Irish or British","Males",null,53498,62852,38564,51486,47204,35535,71313,50324,66555,59212,57183,47570,641297,107646,748943,107646,340807,300489,248300,1736898,3599119,20421992,null,107646,121303,220754,124811,155077,"2021 Census","Diversity"]
["  Irish","Males",null,356,616,379,317,368,344,457,502,431,527,398,400,5092,939,6031,939,2615,2480,2093,14516,36696,237503,null,939,1091,1828,813,1300,"2021 Census","Diversity"]
["  Gypsy or Irish Traveller","Males",null,352,194,143,125,79,153,472,233,506,84,211,158,2715,393,3108,393,1340,1370,1195,4657,8391,32049,null,393,375,482,824,602,"2021 Census","Diversity"]
["  Roma","Males",null,41,101,78,108,71,183,155,35,100,194,42,57,1166,237,1403,237,615,550,598,2780,7114,54892,null,237,332,474,196,134,"2021 Census","Diversity"]
["  Other white","Males",null,2568,3744,3376,1807,1681,3555,5492,2685,2834,2739,2215,3060,35750,6351,42101,6351,15373,20383,16116,93865,265425,1676130,null,6351,8612,9971,8060,7960,"2021 Census","Diversity"]
["Other ethnic group","Males",null,940,1131,1207,534,551,1670,1132,471,437,857,405,556,9888,1993,11881,1993,4450,5441,5307,24339,68632,623728,null,1993,3428,3073,2072,1432,"2021 Census","Diversity"]
["  Arab","Males",null,176,334,136,74,60,69,145,92,79,137,99,134,1533,244,1777,244,860,675,528,4257,16015,169631,null,244,265,605,321,325,"2021 Census","Diversity"]
["  Any other ethnic group","Males",null,764,797,1071,460,491,1601,987,379,358,720,306,422,8355,1749,10104,1749,3590,4766,4779,20082,52617,454097,null,1749,3163,2468,1751,1107,"2021 Census","Diversity"]
["Ethnic Group - Females","Females",null,2021,2021,2021,2021,2021,2021,2021,2021,2021,2021,2021,2021,2021,2021,2021,2021,2021,2021,2021,2021,2021,2021,null,2021,2021,2021,2021,2021,"2021 Census","Diversity"]
["All usual residents","Females",null,68163,81843,59607,59591,56182,54663,88812,62314,76361,72931,67846,59360,807685,142651,950336,142651,415071,392602,333282,2187779,4738826,28833704,null,142651,170452,270547,156975,189520,"2021 Census","Diversity"]
["White British","Females",null,56179,67035,39993,53624,49384,37495,72798,52792,67830,63586,59604,49479,669796,111306,781102,111306,357638,312161,256624,1818776,3715938,21118797,null,111306,126872,233629,128977,161875,"2021 Census","Diversity"]
["Ethnic minorities","Females",null,11984,14808,19614,5967,6798,17168,16014,9522,8531,9345,8242,9881,137889,31345,169234,31345,57433,80441,76658,369003,1022888,7714907,null,31345,43580,36918,27998,27645,"2021 Census","Diversity"]
["Other than white","Females",null,8074,8873,15209,3017,3971,12545,8842,5087,4454,4958,4609,5043,84697,22472,107169,22472,33347,51335,54680,231691,646191,5472875,null,22472,31725,20819,16916,14739,"2021 Census","Diversity"]
["Total Asian","Females",null,3913,3321,5804,1235,2030,5955,4075,1956,1181,1661,2063,2373,35571,8542,44113,8542,13341,22226,21482,91586,334772,2762696,null,8542,13789,8247,7988,6392,"2021 Census","Diversity"]
["  Bangladeshi","Females",null,151,213,499,65,84,315,309,116,171,111,183,247,2466,994,3460,994,795,1669,1979,8584,19360,314196,null,994,898,473,460,546,"2021 Census","Diversity"]
["  Chinese","Females",null,317,729,635,161,217,201,373,441,183,247,360,381,4243,709,4952,709,1854,2391,1728,11497,36270,238175,null,709,1053,1354,690,1182,"2021 Census","Diversity"]
["  Indian","Females",null,868,1011,2564,272,246,4033,1091,702,388,444,795,861,13273,3931,17204,3931,3229,10046,10916,33986,121320,922729,null,3931,6843,1973,1959,2358,"2021 Census","Diversity"]
["  Pakistani","Females",null,201,261,372,16,93,413,278,120,64,116,151,154,2241,1050,3291,1050,751,1488,1899,8753,71827,781949,null,1050,878,486,479,425,"2021 Census","Diversity"]
["  Other Asian","Females",null,2376,1107,1734,721,1390,993,2024,577,375,743,574,730,13348,1858,15206,1858,6712,6632,4960,28766,85995,505647,null,1858,4117,3961,4400,1881,"2021 Census","Diversity"]
["Total black Caribbean or African","Females",null,1761,2123,6371,413,355,3644,1780,1022,1657,745,645,594,21117,8091,29208,8091,7054,14056,19763,64146,112688,1253202,null,8091,10370,3636,3541,2261,"2021 Census","Diversity"]
["  African","Females",null,1305,1544,5123,264,196,2763,1300,709,1268,452,434,440,15801,5857,21658,5857,5029,10769,15011,46632,77571,770059,null,5857,8082,2456,2605,1583,"2021 Census","Diversity"]
["  Caribbean","Females",null,294,386,605,91,109,447,285,207,188,216,137,80,3049,1295,4344,1295,1284,1761,2535,10059,21668,335429,null,1295,1161,802,579,424,"2021 Census","Diversity"]
["  Other black","Females",null,162,193,643,58,50,434,195,106,201,77,74,74,2267,939,3206,939,741,1526,2217,7455,13449,147714,null,939,1127,378,357,254,"2021 Census","Diversity"]
["Total mixed or multiple ethnic groups","Females",null,1458,2205,1856,905,1051,1385,2034,1669,1261,1700,1524,1528,18576,3871,22447,3871,8580,9996,8373,52766,131681,851556,null,3871,4292,5861,3492,4721,"2021 Census","Diversity"]
["  White and Asian","Females",null,459,759,480,297,345,378,651,703,348,437,552,672,6081,1071,7152,1071,2645,3436,2277,15692,44030,238147,null,1071,1203,1838,1110,1927,"2021 Census","Diversity"]
["  White and Black African","Females",null,224,308,372,154,157,257,300,165,200,289,205,196,2826,687,3513,687,1332,1495,1516,8393,19335,122825,null,687,786,908,524,566,"2021 Census","Diversity"]
["  White and Black Caribbean","Females",null,391,489,510,201,275,388,504,357,367,524,326,245,4578,1180,5758,1180,2247,2330,2445,14458,30929,254401,null,1180,1173,1489,895,928,"2021 Census","Diversity"]
["  Other mixed or multiple ethnic groups","Females",null,384,649,494,253,274,362,579,444,346,450,441,415,5091,933,6024,933,2356,2735,2135,14223,37387,236183,null,933,1130,1626,963,1300,"2021 Census","Diversity"]
["Total white","Females",null,60089,72970,44398,56574,52211,42118,79970,57227,71907,67973,63237,54317,722988,120179,843167,120179,381724,341267,278602,1956088,4092635,23360829,null,120179,138727,249728,140059,174781,"2021 Census","Diversity"]
["  English, Welsh, Scottish, Northern Irish or British","Females",null,56179,67035,39993,53624,49384,37495,72798,52792,67830,63586,59604,49479,669796,111306,781102,111306,357638,312161,256624,1818776,3715938,21118797,null,111306,126872,233629,128977,161875,"2021 Census","Diversity"]
["  Irish","Females",null,421,696,434,332,399,354,537,582,418,621,451,514,5761,931,6692,931,2887,2872,2137,17057,41524,256748,null,931,1187,2048,958,1547,"2021 Census","Diversity"]
["  Gypsy or Irish Traveller","Females",null,334,199,166,119,67,163,536,228,418,102,248,175,2757,358,3115,358,1239,1516,1105,4735,8357,32167,null,358,396,487,870,651,"2021 Census","Diversity"]
["  Roma","Females",null,40,90,79,135,66,168,117,38,75,189,34,61,1089,228,1317,228,595,497,550,2416,5672,44245,null,228,313,480,157,133,"2021 Census","Diversity"]
["  Other white","Females",null,3115,4950,3726,2364,2295,3938,5982,3587,3166,3475,2900,4088,43585,7356,50941,7356,19365,24221,18186,113104,321144,1908872,null,7356,9959,13084,9097,10575,"2021 Census","Diversity"]
["Other ethnic group","Females",null,942,1224,1178,464,535,1561,953,440,355,852,377,548,9433,1968,11401,1968,4372,5057,5062,23193,67050,605421,null,1968,3274,3075,1895,1365,"2021 Census","Diversity"]
["  Arab","Females",null,121,340,118,60,59,59,104,64,50,111,71,115,1271,209,1480,209,741,531,436,3514,13557,150572,null,209,236,570,225,250,"2021 Census","Diversity"]
["  Any other ethnic group","Females",null,821,884,1060,404,476,1502,849,376,305,741,306,433,8162,1759,9921,1759,3631,4526,4626,19679,53493,454849,null,1759,3038,2505,1670,1115,"2021 Census","Diversity"]
["Country of birth - World area","Table: TS012",null,2021,2021,2021,2021,2021,2021,2021,2021,2021,2021,2021,2021,2021,2021,2021,2021,2021,2021,2021,2021,2021,2021,null,2021,2021,2021,2021,2021,"2021 Census","Diversity"]
["All usual residents","Persons",null,132749,157430,116755,116410,109756,106895,175782,120511,151678,140583,132197,115311,1576071,279778,1855849,279778,808606,767451,655106,4261898,9278064,56490051,null,279778,333406,524179,308531,368019,"2021 Census","Diversity"]
["Europe: Total","Persons",null,121312,146964,101902,111957,103319,95339,163907,112946,146646,134856,125389,106783,1471322,258294,1729616,258294,765054,706266,602181,3998375,8442793,50730043,null,258294,300560,497096,285219,345118,"2021 Census","Diversity"]
["Africa: Total","Persons",null,2917,3036,6626,1106,1245,3848,3463,2665,2298,1691,2247,2394,33544,8770,42314,8770,12293,21243,21542,91551,235197,1558199,null,8770,11719,7078,6380,7306,"2021 Census","Diversity"]
["Middle East and Asia: Total","Persons",null,7168,5286,6967,2261,4248,6637,6770,2866,1767,2755,3078,4204,54007,9947,63954,9947,23485,30522,25318,127951,450868,3241701,null,9947,17852,14550,13938,10148,"2021 Census","Diversity"]
["The Americas and the Caribbean: Total","Persons",null,972,1653,1090,767,646,866,1210,1396,699,900,1023,1278,12508,2311,14819,2311,5637,6863,4966,33093,113825,790002,null,2311,2602,3966,2182,3697,"2021 Census","Diversity"]
["Antarctica and Oceania: Total","Persons",null,380,491,170,319,298,205,432,637,268,381,460,652,4689,456,5145,456,2137,2556,1099,10924,35362,170023,null,456,673,1489,812,1749,"2021 Census","Diversity"]
["Household Language ","Table TS025",null,2021,2021,2021,2021,2021,2021,2021,2021,2021,2021,2021,2021,2021,2021,2021,2021,2021,2021,2021,2021,2021,2021,null,2021,2021,2021,2021,2021,"2021 Census","Diversity"]
["Total households","Households",null,53585,63795,45696,50550,48336,41724,71208,49011,60495,62199,53573,48223,648393,111458,759851,111458,338960,309435,259373,1771163,3807966,23436085,null,111458,135756,224880,124793,150807,"2021 Census","Diversity"]
["All adults (age 16+) in household have English as a main language","Households",null,49710,59731,40653,48433,45883,36099,65277,46720,57937,58854,51386,44958,605641,102839,708480,102839,320548,285093,237528,1661235,3481554,20920337,null,102839,122635,212901,114987,143064,"2021 Census","Diversity"]
["At least one adult in household has English as a main language","Households",null,1514,1955,1761,873,1017,2076,1962,1229,956,1218,1123,1452,17136,3427,20563,3427,7533,9603,8220,44905,138797,1016273,null,3427,4854,5063,3476,3804,"2021 Census","Diversity"]
["No adults in household but at least one person aged 3 to 15 has English as a main language","Households",null,607,472,1021,345,303,860,975,371,366,494,338,454,6605,1393,7998,1393,2587,4019,3640,16818,44590,323408,null,1393,2184,1614,1582,1163,"2021 Census","Diversity"]
["No adults in household have English as a main language","Households",null,1754,1637,2261,899,1133,2689,2994,691,1236,1633,726,1359,19011,3799,22810,3799,8292,10720,9985,48205,143025,1176067,null,3799,6083,5302,4748,2776,"2021 Census","Diversity"]
["Length of residence in UK","Table TS016",null,2021,2021,2021,2021,2021,2021,2021,2021,2021,2021,2021,2021,2021,2021,2021,2021,2021,2021,2021,2021,2021,2021,null,2021,2021,2021,2021,2021,"2021 Census","Diversity"]
["All categories: Length of residence in the UK","Persons",null,132747,157429,116753,116410,109758,106900,175785,120514,151677,140587,132204,115310,1576069,279773,1855842,279773,808608,767466,655103,4261902,9278065,56490048,null,279773,333411,524184,308532,368028,"2021 Census","Diversity"]
["Born in the UK","Persons",null,114942,137129,93777,106575,98281,86328,151237,107235,139533,126862,120359,99728,1381983,241119,1623102,241119,723322,658664,560757,3762293,7815950,46687506,null,241119,278386,468847,266179,327322,"2021 Census","Diversity"]
["Resident in UK: Less than 2 years","Persons",null,1651,3567,1602,645,815,1338,2387,1032,776,1067,890,1496,17266,3418,20684,3418,8521,8745,7134,43258,156320,1098454,null,3418,3755,6094,4038,3418,"2021 Census","Diversity"]
["Resident in UK: 2 years or more but less than 5 years","Persons",null,2269,2721,2366,876,1258,2196,3387,1397,1351,1261,1131,1752,21962,3831,25793,3831,9736,12229,9744,54136,180428,1295390,null,3831,5820,6116,5656,4280,"2021 Census","Diversity"]
["Resident in UK: 5 years or more but less than 10 years","Persons",null,3101,3250,4211,1560,1672,3933,5059,1959,2183,2295,1856,2681,33761,6354,40115,6354,14061,19699,16681,84478,245603,1699938,null,6354,9816,8777,8160,6496,"2021 Census","Diversity"]
["Resident in UK: 10 years or more","Persons",null,10784,10762,14797,6754,7732,13105,13715,8891,7834,9102,7968,9653,121097,25051,146148,25051,52968,68129,60787,317737,879764,5708760,null,25051,35634,34350,24499,26512,"2021 Census","Diversity"]
["Religion","Custom Table",null,2021,2021,2021,2021,2021,2021,2021,2021,2021,2021,2021,2021,2021,2021,2021,2021,2021,2021,2021,2021,2021,2021,null,2021,2021,2021,2021,2021,"2021 Census","Diversity"]
["ALL PEOPLE","Total",null,131781,148199,116020,114383,107865,106387,173457,119402,148677,138861,131083,113383,1549490,276024,1825514,276024,789766,759732,647108,4204550,9088554,55504302,null,276024,330272,509308,305238,363868,"2021 Census","Diversity"]
["Christian","Total",null,62762,70107,55808,56526,51817,52323,85555,61954,70239,64728,63935,56291,752046,124522,876568,124522,376179,375866,302892,2002796,4239226,25797155,null,124522,159948,243178,148317,182180,"2021 Census","Diversity"]
["Buddhist","Total",null,1336,857,692,579,961,347,1283,457,362,596,446,471,8389,955,9344,955,4691,3696,2356,19216,52636,254077,null,955,2000,2993,2619,1374,"2021 Census","Diversity"]
["Hindu","Total",null,2717,1079,4420,708,1406,1490,2309,800,579,801,1164,1116,18583,3093,21676,3093,7290,11299,9582,43179,151600,1003747,null,3093,7316,3994,5026,3080,"2021 Census","Diversity"]
["Jewish","Total",null,142,274,90,112,143,76,152,229,108,265,158,220,1967,210,2177,210,1044,925,484,13554,17815,264258,null,210,309,794,294,607,"2021 Census","Diversity"]
["Muslim","Total",null,2083,2436,4064,721,1091,3325,3144,1078,1301,2106,1375,1888,24613,7461,32074,7461,9738,14874,16151,76296,303342,3760190,null,7461,8480,6354,5227,4341,"2021 Census","Diversity"]
["Sikh","Total",null,145,211,2012,73,45,8542,260,288,197,99,240,78,12186,4355,16541,4355,770,11420,15106,22580,73600,515810,null,4355,10599,428,405,606,"2021 Census","Diversity"]
["All other religions","Total",null,1531,1081,461,640,918,661,1069,415,637,866,506,554,9341,1680,11021,1680,5673,3666,3439,23761,52240,324696,null,1680,2040,3505,2600,1475,"2021 Census","Diversity"]
["No religion","Total",null,53717,62697,42386,48763,45457,34177,70018,47304,67771,61556,56120,45962,635929,119064,754993,119064,339961,295967,263398,1766332,3666718,20358907,null,119064,122020,218473,123735,149386,"2021 Census","Diversity"]
["Religion not stated","Total",null,7348,9457,6087,6261,6027,5446,9667,6877,7483,7844,7139,6803,86436,14684,101120,14684,44420,42019,33700,236836,531377,3225462,null,14684,17560,29589,17015,20819,"2021 Census","Diversity"]
["ALL PEOPLE aged 0-15","0-15",null,25979,24656,26056,20278,18201,22340,33642,23913,29677,25171,26673,22908,299503,57016,356519,57016,143962,155532,135089,799983,12862589,10483091,null,57016,66597,88306,59621,73494,"2021 Census","Diversity"]
["Christian","0-15",null,9376,8798,10488,7086,5996,8856,12788,10177,9753,8187,10073,9482,111061,19229,130290,19229,49196,61864,48326,283585,4565471,3704358,null,19229,25340,30067,22164,29732,"2021 Census","Diversity"]
["Buddhist","0-15",null,177,88,127,86,135,50,167,57,26,37,50,39,1039,106,1145,106,549,490,309,2113,34247,26214,null,106,312,346,344,146,"2021 Census","Diversity"]
["Hindu","0-15",null,493,235,1409,187,268,377,463,201,136,199,307,360,4636,664,5300,664,1518,3117,2586,10371,254468,207252,null,664,2054,889,956,868,"2021 Census","Diversity"]
["Jewish","0-15",null,14,32,16,9,10,9,11,36,7,15,16,22,196,20,216,20,87,110,52,1937,60083,57559,null,20,35,66,25,74,"2021 Census","Diversity"]
["Muslim","0-15",null,682,660,1444,216,298,1136,1081,308,371,683,429,593,7907,2317,10224,2317,2910,4991,5268,23942,1296276,1182396,null,2317,2878,1857,1763,1330,"2021 Census","Diversity"]
["Sikh","0-15",null,22,41,419,11,6,1758,48,70,30,19,57,9,2489,892,3381,892,129,2361,3099,4666,128348,106430,null,892,2183,77,70,136,"2021 Census","Diversity"]
["All other religions","0-15",null,171,90,69,40,65,97,86,40,55,66,40,66,886,147,1033,147,487,398,368,2204,39002,32459,null,147,231,261,257,146,"2021 Census","Diversity"]
["No religion","0-15",null,13368,13004,10664,11357,10281,8808,16917,11427,17690,14314,14034,10625,152488,30426,182914,30426,80014,72475,67588,420826,5644541,4484250,null,30426,29753,48956,30285,36086,"2021 Census","Diversity"]
["Religion not stated","0-15",null,1676,1708,1420,1286,1142,1249,2081,1597,1609,1651,1667,1712,18801,3215,22016,3215,9072,9726,7493,50339,840153,682173,null,3215,3811,5787,3757,4976,"2021 Census","Diversity"]
["ALL PEOPLE aged 16-64","16-64",null,80773,98524,74659,68232,64123,66140,108610,70677,93092,82160,80218,70031,957241,176703,1133944,176703,486904,470335,410594,2585663,43447167,35605656,null,176703,204922,313039,189383,220926,"2021 Census","Diversity"]
["Christian","16-64",null,34730,39715,33852,29912,26461,30476,48588,33117,40155,33184,35307,31411,416910,73240,490150,73240,204157,212751,177723,1103506,18240262,14943679,null,73240,90789,129272,83318,99835,"2021 Census","Diversity"]
["Buddhist","16-64",null,999,731,509,430,798,250,1002,353,338,466,341,372,6595,799,7394,799,3762,2827,1896,14955,258432,202944,null,799,1557,2425,2001,1066,"2021 Census","Diversity"]
["Hindu","16-64",null,1972,976,2771,494,1250,993,1786,544,374,548,778,705,13188,2115,15303,2115,5614,7577,6253,29935,831886,697782,null,2115,5014,3268,3758,2027,"2021 Census","Diversity"]
["Jewish","16-64",null,87,179,61,60,76,50,113,142,72,143,103,138,1226,149,1375,149,617,607,332,7460,161662,148134,null,149,187,458,200,383,"2021 Census","Diversity"]
["Muslim","16-64",null,1350,2127,2529,476,762,2089,2138,718,1120,1348,877,1243,16774,4934,21708,4934,7183,9594,10672,50654,2672266,2434981,null,4934,5380,4713,3488,2838,"2021 Census","Diversity"]
["Sikh","16-64",null,109,214,1359,52,35,5624,179,194,153,71,166,67,8219,2885,11104,2885,634,7589,10021,15273,419155,349983,null,2885,7018,372,288,427,"2021 Census","Diversity"]
["All other religions","16-64",null,1126,947,351,516,779,477,920,326,546,689,414,434,7527,1380,8907,1380,4603,2922,2754,19105,320193,260911,null,1380,1607,2931,2046,1174,"2021 Census","Diversity"]
["No religion","16-64",null,35913,46256,29261,32494,30280,22787,47756,31200,45658,41069,37863,31512,432049,81543,513592,81543,231670,200379,179249,1196664,17935943,14427521,null,81543,82328,150099,83669,100575,"2021 Census","Diversity"]
["Religion not stated","16-64",null,4487,7379,3966,3798,3682,3394,6128,4083,4676,4642,4369,4149,54753,9658,64411,9658,28664,26089,21694,148111,2607368,2139721,null,9658,11042,19501,10615,12601,"2021 Census","Diversity"]
["ALL PEOPLE aged 65+","65+",null,25998,34249,16039,27901,27431,18417,33529,25927,28910,33260,25305,22374,319330,46054,365384,46054,177749,141591,109420,876259,12890276,10401303,null,46054,61887,122841,59527,73606,"2021 Census","Diversity"]
["Christian","65+",null,19091,24899,11832,20770,20196,13233,25213,19185,21654,24283,19024,16365,235745,33628,269373,33628,130893,104852,80347,641631,9329005,7519862,null,33628,45261,90148,44304,54574,"2021 Census","Diversity"]
["Buddhist","65+",null,164,140,54,76,142,47,171,52,39,95,60,74,1116,95,1211,95,656,458,235,2679,42677,33274,null,95,243,453,335,186,"2021 Census","Diversity"]
["Hindu","65+",null,252,86,255,43,108,123,228,60,77,57,83,50,1419,393,1812,393,623,799,848,3789,130587,115499,null,393,486,294,480,193,"2021 Census","Diversity"]
["Jewish","65+",null,42,100,14,45,56,18,40,58,40,110,42,65,631,47,678,47,393,237,119,4380,70544,63590,null,47,88,311,82,165,"2021 Census","Diversity"]
["Muslim","65+",null,78,88,129,41,47,98,113,62,38,98,75,70,933,388,1321,388,390,547,653,3385,200581,183810,null,388,274,274,191,207,"2021 Census","Diversity"]
["Sikh","65+",null,18,25,236,9,5,1178,43,25,29,12,17,5,1598,585,2183,585,98,1504,2028,2809,75920,63681,null,585,1419,51,61,47,"2021 Census","Diversity"]
["All other religions","65+",null,236,109,43,93,130,90,117,50,71,112,52,57,1159,178,1337,178,751,409,382,3187,48159,39040,null,178,263,444,353,159,"2021 Census","Diversity"]
["No religion","65+",null,4722,6827,2657,5451,5329,2758,5829,5013,5436,6671,4619,4343,59654,8340,67994,8340,34436,25219,19191,165595,2276967,1803893,null,8340,10744,24278,10551,13975,"2021 Census","Diversity"]
["Religion not stated","65+",null,1395,1975,819,1373,1418,872,1775,1422,1526,1822,1333,1345,17075,2400,19475,2400,9509,7566,5617,48804,715836,578654,null,2400,3109,6588,3170,4100,"2021 Census","Diversity"]
["All Males","Males",null,64166,71439,56850,55855,52529,52022,85553,57777,72815,66911,63713,55299,754922,134958,889880,134958,383715,371214,316645,2047121,4444151,27170831,null,134958,161401,246734,149719,176789,"2021 Census","Diversity"]
["Christian","Males",null,28444,31070,25525,25384,23172,23929,39255,27810,32038,28561,28771,25140,339099,56759,395858,56759,168669,170430,138251,902522,1914109,11737024,null,56759,72626,108187,67699,81721,"2021 Census","Diversity"]
["Buddhist","Males",null,615,376,319,262,448,147,615,196,148,240,200,194,3759,390,4149,390,2089,1671,1004,8290,22938,111018,null,390,914,1326,1230,590,"2021 Census","Diversity"]
["Hindu","Males",null,1321,503,2249,361,708,750,1169,396,297,418,550,580,9298,1512,10810,1512,3608,5694,4808,21445,75362,499304,null,1512,3707,1990,2490,1526,"2021 Census","Diversity"]
["Jewish","Males",null,70,132,39,55,66,31,87,105,52,133,86,116,973,108,1081,108,508,464,230,6452,8545,128183,null,108,136,386,157,307,"2021 Census","Diversity"]
["Muslim","Males",null,1129,1302,2130,414,615,1784,1708,577,735,1152,723,1067,13337,3803,17140,3803,5347,7989,8452,40475,156169,1899331,null,3803,4529,3483,2837,2367,"2021 Census","Diversity"]
["Sikh","Males",null,78,96,985,39,22,4315,133,131,95,45,119,38,6092,2133,8225,2133,375,5721,7528,11182,36500,258120,null,2133,5322,202,211,288,"2021 Census","Diversity"]
["All other religions","Males",null,730,466,210,264,392,296,492,143,272,361,198,238,4062,731,4793,731,2485,1577,1509,10077,22263,141709,null,731,898,1483,1222,579,"2021 Census","Diversity"]
["No religion","Males",null,28136,32809,22272,25891,24088,18031,37175,24921,35387,32123,29570,24508,334911,62049,396960,62049,178434,156477,137739,927733,1940818,10772032,null,62049,64391,114911,65311,78999,"2021 Census","Diversity"]
["Religion not stated","Males",null,3643,4685,3121,3185,3018,2739,4919,3498,3791,3878,3496,3418,43391,7473,50864,7473,22200,21191,17124,118945,267447,1624110,null,7473,8878,14766,8562,10412,"2021 Census","Diversity"]
["All Females","Females",null,67615,76760,59170,58528,55336,54365,87904,61625,75862,71950,67370,58084,794568,141066,935634,141066,406051,388518,330463,2157429,4644403,28333471,null,141066,168871,262574,155519,187079,"2021 Census","Diversity"]
["Christian","Females",null,34318,39037,30283,31142,28645,28394,46300,34144,38201,36167,35164,31151,412947,67763,480710,67763,207510,205436,164641,1100274,2325117,14060131,null,67763,87322,134991,80618,100459,"2021 Census","Diversity"]
["Buddhist","Females",null,721,481,373,317,513,200,668,261,214,356,246,277,4630,565,5195,565,2602,2025,1352,10926,29698,143059,null,565,1086,1667,1389,784,"2021 Census","Diversity"]
["Hindu","Females",null,1396,576,2171,347,698,740,1140,404,282,383,614,536,9285,1581,10866,1581,3682,5605,4774,21734,76238,504443,null,1581,3609,2004,2536,1554,"2021 Census","Diversity"]
["Jewish","Females",null,72,142,51,57,77,45,65,124,56,132,72,104,994,102,1096,102,536,461,254,7102,9270,136075,null,102,173,408,137,300,"2021 Census","Diversity"]
["Muslim","Females",null,954,1134,1934,307,476,1541,1436,501,566,954,652,821,11276,3658,14934,3658,4391,6885,7699,35821,147173,1860859,null,3658,3951,2871,2390,1974,"2021 Census","Diversity"]
["Sikh","Females",null,67,115,1027,34,23,4227,127,157,102,54,121,40,6094,2222,8316,2222,395,5699,7578,11398,37100,257690,null,2222,5277,226,194,318,"2021 Census","Diversity"]
["All other religions","Females",null,801,615,251,376,526,365,577,272,365,505,308,316,5279,949,6228,949,3188,2089,1930,13684,29977,182987,null,949,1142,2022,1378,896,"2021 Census","Diversity"]
["No religion","Females",null,25581,29888,20114,22872,21369,16146,32843,22383,32384,29433,26550,21454,301018,57015,358033,57015,161527,139490,125659,838599,1725900,9586875,null,57015,57629,103562,58424,70387,"2021 Census","Diversity"]
["Religion not stated","Females",null,3705,4772,2966,3076,3009,2707,4748,3379,3692,3966,3643,3385,43045,7211,50256,7211,22220,20828,16576,117891,263930,1601352,null,7211,8682,14823,8453,10407,"2021 Census","Diversity"]
["Marital & Civil Partnership Status - All residents 16+","Table TS002",null,2021,2021,2021,2021,2021,2021,2021,2021,2021,2021,2021,2021,2021,2021,2021,2021,2021,2021,2021,2021,2021,2021,null,2021,2021,2021,2021,2021,"2021 Census","Diversity"]
["All categories: Marital and civil partnership status","Persons aged 16+",null,106772,132774,90694,96132,91555,84555,142137,96603,122000,115416,105526,92402,1276566,222759,1499325,222759,664649,611917,520008,3461916,7554580,46006957,null,222759,266804,435877,248909,294531,"2021 Census","Diversity"]
["Single (never married or never registered a same-sex civil partnership)","Persons aged 16+",null,35293,54641,33917,31817,30297,30299,47830,29196,44166,41187,33357,29658,441658,84139,525797,84139,237401,204257,192521,1195172,2628945,17450122,null,84139,94513,157942,83123,92211,"2021 Census","Diversity"]
["Married or in a registered civil partnership","Persons aged 16+",null,52688,55088,42256,44204,41728,39559,69242,50470,54716,48578,53279,46343,598151,97875,696026,97875,297002,301149,234406,1615501,3596697,20561642,null,97875,123543,189598,121930,150092,"2021 Census","Diversity"]
[" Total Married","Persons aged 16+",null,52498,54750,42129,43900,41507,39412,68969,50273,54477,48234,53148,46161,595457,97510,692967,97510,295366,300092,233528,1608410,3579942,20464074,null,97510,123048,188391,121467,149582,"2021 Census","Diversity"]
["  Married: Opposite sex","Persons aged 16+",null,52194,54343,41939,43531,41239,39234,68619,50066,54132,47862,52910,45951,592019,96857,688876,96857,293301,298719,232162,1599201,3557428,20336565,null,96857,122412,186975,120813,148927,"2021 Census","Diversity"]
["  Married: Same sex","Persons aged 16+",null,304,407,190,369,268,178,350,207,345,372,238,210,3438,653,4091,653,2065,1373,1366,9209,22514,127509,null,653,636,1416,654,655,"2021 Census","Diversity"]
[" Total in a registered civil partnership","Persons aged 16+",null,190,338,127,304,221,147,273,197,239,344,131,182,2694,365,3059,365,1636,1057,878,7091,16755,97568,null,365,495,1207,463,510,"2021 Census","Diversity"]
["  In a registered civil partnership: Opposite sex","Persons aged 16+",null,51,99,53,89,64,68,104,66,78,102,46,64,883,180,1063,180,483,401,379,2355,5419,34067,null,180,185,354,155,176,"2021 Census","Diversity"]
["  In a registered civil partnership: Same sex","Persons aged 16+",null,139,239,74,215,157,79,169,131,161,242,85,118,1811,185,1996,185,1153,656,499,4736,11336,63501,null,185,310,853,308,334,"2021 Census","Diversity"]
["Total Separated, but still legally married or still legally in a civil partnership","Persons aged 16+",null,2292,2559,2171,2381,2180,2133,3188,1981,3153,3284,2274,1934,29530,5949,35479,5949,15849,13681,13406,79621,161395,1033518,null,5949,6484,10404,5480,6189,"2021 Census","Diversity"]
["  Separated, but still married","Persons aged 16+",null,2284,2533,2161,2365,2166,2116,3167,1971,3129,3260,2261,1927,29340,5909,35249,5909,15737,13603,13315,79080,160211,1025977,null,5909,6443,10324,5451,6159,"2021 Census","Diversity"]
["  Separated, but still in a registered civil partnership","Persons aged 16+",null,8,26,10,16,14,17,21,10,24,24,13,7,190,40,230,40,112,78,91,541,1184,7541,null,40,41,80,29,30,"2021 Census","Diversity"]
["Total Divorced or civil partnership dissolved","Persons aged 16+",null,10033,11876,7740,10614,10345,7235,13290,8429,12206,13753,10047,8736,124304,21715,146019,21715,68827,55477,48896,342933,705127,4171639,null,21715,25320,46588,23323,27212,"2021 Census","Diversity"]
["  Divorced","Persons aged 16+",null,10008,11844,7729,10599,10330,7221,13247,8418,12172,13711,10031,8719,124029,21679,145708,21679,68664,55365,48801,342149,703179,4160359,null,21679,25280,46484,23255,27168,"2021 Census","Diversity"]
["  Formerly in a civil partnership now legally dissolved","Persons aged 16+",null,25,32,11,15,15,14,43,11,34,42,16,17,275,36,311,36,163,112,95,784,1948,11280,null,36,40,104,68,44,"2021 Census","Diversity"]
["Total Widowed or surviving civil partnership partner","Persons aged 16+",null,6466,8610,4610,7116,7005,5329,8587,6527,7759,8614,6569,5731,82923,13081,96004,13081,45570,37353,30779,228689,462416,2790036,null,13081,16944,31345,15053,18827,"2021 Census","Diversity"]
["  Widowed","Persons aged 16+",null,6458,8595,4607,7098,6980,5325,8577,6524,7749,8595,6563,5725,82796,13073,95869,13073,45475,37321,30754,228348,461641,2785998,null,13073,16912,31268,15035,18812,"2021 Census","Diversity"]
["  Surviving partner from civil partnership","Persons aged 16+",null,8,15,3,18,25,4,10,3,10,19,6,6,127,8,135,8,95,32,25,341,775,4038,null,8,32,77,18,15,"2021 Census","Diversity"]
["Living Arrangements","Table TS010",null,2021,2021,2021,2021,2021,2021,2021,2021,2021,2021,2021,2021,2021,2021,2021,2021,2021,2021,2021,2021,2021,2021,null,2021,2021,2021,2021,2021,"2021 Census","Diversity"]
["All household residents aged 16+",null,null,105870,123929,89983,94498,89675,84068,139837,95646,119003,113855,104600,90888,1251849,219042,1470891,219042,646830,605022,512096,3407300,7378553,45055453,null,219042,263726,421957,245707,291134,"2021 Census","Diversity"]
["Living in a couple","Couple",null,66507,70204,54849,57298,53648,49250,88208,61477,73124,64892,67320,57422,764196,128729,892925,128729,385673,378526,305952,2066141,4508529,26061709,null,128729,157747,246042,154715,186219,"2021 Census","Diversity"]
["Married or in a civil partnership","Couple",null,50842,53181,40545,42721,40285,37778,66698,49128,52764,46906,52131,45066,578048,94338,672386,94338,286699,291346,225425,1563331,3470779,19678295,null,94338,118608,183093,117540,146325,"2021 Census","Diversity"]
["  Opposite-sex couple","Couple",null,50491,52627,40336,42219,39921,37583,66290,48856,52364,46417,51851,44798,573753,93692,667445,93692,284039,289714,223975,1551903,3442625,19527902,null,93692,117840,181184,116781,145505,"2021 Census","Diversity"]
["  Same-sex couple","Couple",null,351,554,209,502,364,195,408,272,400,489,280,268,4295,646,4941,646,2660,1632,1450,11428,28154,150393,null,646,768,1909,759,820,"2021 Census","Diversity"]
["  Separated, but still married or in a civil partnership","Couple",null,119,102,126,93,90,130,134,129,119,116,129,92,1376,255,1631,255,639,740,630,3900,7953,45382,null,255,346,401,253,350,"2021 Census","Diversity"]
["Cohabiting","Couple",null,15546,16921,14178,14484,13273,11342,21376,12220,20241,17870,15060,12264,184772,34136,218908,34136,98335,86440,79897,498910,1029797,6338032,null,34136,38793,62548,36922,39544,"2021 Census","Diversity"]
["  Opposite-sex couple","Couple",null,14890,16129,13674,13874,12703,10926,20516,11780,19466,17090,14584,11810,177439,32788,210227,32788,94152,83290,76854,479046,983711,6037611,null,32788,37303,59796,35406,38174,"2021 Census","Diversity"]
["  Same-sex couple","Couple",null,656,792,504,610,570,416,860,440,775,780,476,454,7333,1348,8681,1348,4183,3150,3043,19864,46086,300421,null,1348,1490,2752,1516,1370,"2021 Census","Diversity"]
["Not living in a couple","Not in couple",null,39363,53725,35134,37200,36027,34818,51629,34169,45879,48963,37280,33466,487653,90313,577966,90313,261157,226496,206144,1341159,2870024,18993744,null,90313,105979,175915,90992,104915,"2021 Census","Diversity"]
["  Single (never married and never registered a same-sex civil partnership)","Not in couple",null,23850,34507,22639,21028,20271,21692,31174,19877,27656,28001,21985,19797,292477,56058,348535,56058,155313,137164,128045,802513,1750591,12033302,null,56058,64602,103807,55024,61659,"2021 Census","Diversity"]
["  Married or in a registered civil partnership","Not in couple",null,1359,1275,1206,844,891,1268,1674,904,1121,975,805,856,13176,2456,15632,2456,6465,6713,6051,34486,86880,629736,null,2456,3365,3985,3033,2565,"2021 Census","Diversity"]
["  Separated (including those who are married and those who are in civil partnerships)","Not in couple",null,1702,2104,1720,1883,1692,1695,2412,1534,2366,2616,1778,1553,23057,4684,27741,4684,12363,10692,10465,62983,127842,841329,null,4684,5107,8295,4114,4865,"2021 Census","Diversity"]
["  Divorced or formerly in a civil partnership which is now legally dissolved","Not in couple",null,6630,8303,5435,7138,7044,5212,8711,5970,7814,9738,6686,6238,84919,15231,100150,15231,46667,38252,33692,236836,492161,2976317,null,15231,17691,32223,15341,18894,"2021 Census","Diversity"]
["  Widowed or surviving partner from a civil partnership","Not in couple",null,5822,7536,4134,6307,6129,4951,7658,5884,6922,7633,6026,5022,74024,11884,85908,11884,40349,33675,27891,204341,412550,2513060,null,11884,15214,27605,13480,16932,"2021 Census","Diversity"]
["Health","Table TS037",null,2021,2021,2021,2021,2021,2021,2021,2021,2021,2021,2021,2021,2021,2021,2021,2021,2021,2021,2021,2021,2021,2021,null,2021,2021,2021,2021,2021,"2021 Census","Health"]
["Total: All usual residents","Persons",null,132747,157429,116753,116410,109759,106900,175782,120515,151678,140587,132201,115311,1576069,279775,1855844,279775,808610,767462,655106,4261899,9278065,56490046,null,279775,333412,524185,308529,368027,"2021 Census","Health"]
["Very good health","Persons",null,64334,74034,61128,51455,47404,52013,87494,63410,68967,59000,67896,60833,757967,132845,890812,132845,365194,392774,314953,2039263,4636748,27390829,null,132845,160545,231893,151828,192139,"2021 Census","Health"]
["Good health","Persons",null,45779,54597,38680,40711,38432,36416,59781,38931,52738,49262,44052,37512,536891,96739,633630,96739,281519,255372,224573,1462099,3155834,19040735,null,96739,113528,183002,105560,120495,"2021 Census","Health"]
["Fair health","Persons",null,16551,20762,12556,17036,16801,13291,21018,13407,21338,22148,14959,12586,202451,35907,238358,35907,114636,87817,83092,548360,1092213,7147346,null,35907,42648,76747,37569,40952,"2021 Census","Health"]
["Bad health","Persons",null,4748,6224,3390,5611,5519,4088,5832,3660,6688,7823,4164,3415,61162,11171,72333,11171,36613,24549,25337,164731,307131,2248255,null,11171,12997,25177,10580,11239,"2021 Census","Health"]
["Very bad health","Persons",null,1335,1812,999,1597,1603,1092,1657,1107,1947,2354,1130,965,17598,3113,20711,3113,10648,6950,7151,47446,86139,662881,null,3113,3694,7366,2992,3202,"2021 Census","Health"]
["Long term health problem or disability","Table TS038",null,2021,2021,2021,2021,2021,2021,2021,2021,2021,2021,2021,2021,2021,2021,2021,2021,2021,2021,2021,2021,2021,2021,null,2021,2021,2021,2021,2021,"2021 Census","Health"]
["All usual residents","Persons",null,132747,157431,116753,116410,109758,106900,175782,120514,151677,140587,132201,115311,1576069,279773,1855842,279773,808610,767461,655103,4261895,9278065,56490048,null,279773,333411,524186,308529,368026,"2021 Census","Health"]
["Disabled under the Equality Act","Persons",null,22655,30870,16374,24647,23960,17509,28025,18088,29637,32135,20224,17299,281423,48572,329995,48572,163904,117519,112092,749649,1496340,9774510,null,48572,57843,111612,50680,55611,"2021 Census","Health"]
["  Day-to-day activities limited a lot","Persons",null,9079,12400,6646,10634,10429,7414,11012,7016,12671,14390,7841,6511,116043,20166,136209,20166,69603,46440,46897,308248,581048,4140357,null,20166,24489,47853,20091,21368,"2021 Census","Health"]
["  Day-to-day activities limited a little","Persons",null,13576,18470,9728,14013,13531,10095,17013,11072,16966,17745,12383,10788,165380,28406,193786,28406,94301,71079,65195,441401,915292,5634153,null,28406,33354,63759,30589,34243,"2021 Census","Health"]
["Not disabled under the Equality Act","Persons",null,110092,126561,100379,91763,85798,89391,147757,102426,122040,108452,111977,98012,1294646,231201,1525847,231201,644706,649942,543011,3512246,7781725,46715538,null,231201,275568,412574,257849,312415,"2021 Census","Health"]
["  Has long term physical or mental health condition but day-to-day activities are not limited","Persons",null,9592,12431,7148,9063,8486,6541,13001,9064,11087,10392,10388,9284,116477,19357,135834,19357,61051,55426,44133,308764,698690,3856029,null,19357,22175,40372,22593,28736,"2021 Census","Health"]
["  No long term physical or mental health conditions","Persons",null,100500,114130,93231,82700,77312,82850,134756,93362,110953,98060,101589,88728,1178169,211844,1390013,211844,583655,594516,498878,3203482,7083035,42859509,null,211844,253393,372202,235256,283679,"2021 Census","Health"]
["Providing Unpaid Care","Custom Table",null,2021,2021,2021,2021,2021,2021,2021,2021,2021,2021,2021,2021,2021,2021,2021,2021,2021,2021,2021,2021,2021,2021,null,null,null,null,null,null,"2021 Census","Health"]
["Total: All usual residents aged 5 and over","Persons aged 5+",null,125140,150609,108467,110739,104643,100296,165390,113786,142786,133251,124523,109145,1488783,262469,1488783,262469,767168,721607,614018,4026659,8782764,53413096,null,262469,313406,499242,290530,347454,"2021 Census","Health"]
["Provides no unpaid care","Persons aged 5+",null,113987,137223,99810,99234,93823,91314,151210,103809,128857,119406,113690,100527,1352890,239848,1592738,239848,692530,660360,559829,3664616,8049402,48734832,null,239848,284947,449686,265197,318026,"2021 Census","Health"]
["Provides 19 hours or less unpaid care a week","Persons aged 5+",null,5454,6743,4257,5367,4984,4141,7371,5535,6061,5874,5729,4950,66461,10306,76767,10306,34483,31983,24765,179609,388623,2303725,null,10306,13382,22968,12825,16214,"2021 Census","Health"]
["Provides 20 to 49 hours unpaid care a week","Persons aged 5+",null,2200,2480,1698,2340,2167,1873,2564,1647,2885,2893,1949,1414,26122,4930,31052,4930,14965,11145,11386,70029,134879,969768,null,4930,5738,9880,4764,5010,"2021 Census","Health"]
["Provides 50 or more hours unpaid care a week","Persons aged 5+",null,3499,4163,2702,3798,3669,2968,4245,2795,4983,5078,3155,2254,43310,7385,50695,7385,25190,18119,18038,112405,209860,1404771,null,7385,9339,16708,7744,8204,"2021 Census","Health"]
["Providing Unpaid Care by age & sex","Custom Table",null,2021,2021,2021,2021,2021,2021,2021,2021,2021,2021,2021,2021,2021,2021,2021,2021,2021,2021,2021,2021,2021,2021,null,2021,2021,2021,2021,2021,"2021 Census","Health"]
["Total persons aged 5 and over",null,null,11153,13386,8657,11505,10820,8982,14180,9977,13929,13845,10833,8618,135893,22621,158514,22621,74638,61247,54189,362043,733362,4678264,null,22621,28459,49556,25333,29428,"2021 Census","Health"]
["under 16",null,null,350,318,207,294,291,203,358,214,413,268,322,241,3472,424,3896,424,1934,1545,1247,7341,14514,78809,null,424,701,1171,708,777,"2021 Census","Health"]
["16-64",null,null,8174,9478,6868,8276,7636,6879,10367,7279,10428,9896,8016,6378,99681,17570,117251,17570,53888,45787,41745,264682,542111,3511221,null,17570,21383,35286,18541,21673,"2021 Census","Health"]
["65 and over",null,null,2629,3590,1582,2935,2893,1900,3455,2484,3088,3681,2495,1999,32740,4627,37367,4627,18816,13915,11197,90020,176737,1088234,null,4627,6375,13099,6084,6978,"2021 Census","Health"]
["Males aged 5 and over",null,null,4465,5423,3430,4705,4409,3579,5818,3946,5580,5560,4282,3405,54608,8935,63543,8935,30142,24460,21524,145129,296578,1907499,null,8935,11418,20097,10283,11633,"2021 Census","Health"]
["Males under 16",null,null,152,144,80,128,134,86,171,95,187,130,147,109,1563,196,1759,196,875,688,549,3341,6810,36847,null,196,300,536,323,351,"2021 Census","Health"]
["Males 16-64",null,null,3134,3672,2613,3236,2917,2618,4067,2729,3946,3730,2981,2416,38060,6546,44606,6546,20635,17424,15723,100593,209635,1367899,null,6546,8148,13555,7201,8126,"2021 Census","Health"]
["Males 65 and over",null,null,1179,1607,737,1341,1358,875,1580,1122,1447,1700,1154,880,14985,2193,17178,2193,8632,6348,5252,41195,80133,502753,null,2193,2970,6006,2759,3156,"2021 Census","Health"]
["Females Aged 5 and over",null,null,6688,7963,5227,6800,6411,5403,8362,6031,8349,8285,6551,5213,81285,13686,94971,13686,44496,36787,32665,216914,436784,2770765,null,13686,17041,29459,15050,17795,"2021 Census","Health"]
["Females under 16",null,null,198,174,127,166,157,117,187,119,226,138,175,132,1909,228,2137,228,1059,857,698,4000,7704,41962,null,228,401,635,385,426,"2021 Census","Health"]
["Females 16-64",null,null,5040,5806,4255,5040,4719,4261,6300,4550,6482,6166,5035,3962,61621,11024,72645,11024,33253,28363,26022,164089,332476,2143322,null,11024,13235,21731,11340,13547,"2021 Census","Health"]
["Females 65 and over",null,null,1450,1983,845,1594,1535,1025,1875,1362,1641,1981,1341,1119,17755,2434,20189,2434,10184,7567,5945,48825,96604,585481,null,2434,3405,7093,3325,3822,"2021 Census","Health"]
["Tenure","Table TS054",null,2021,2021,2021,2021,2021,2021,2021,2021,2021,2021,2021,2021,2021,2021,2021,2021,2021,2021,2021,2021,2021,2021,null,2021,2021,2021,2021,2021,"2021 Census","Housing "]
["Total households","Households",null,53583,63792,45694,50552,48337,41724,71208,49014,60495,62200,53571,48224,648393,111457,759850,111457,338959,309435,259370,1771163,3807966,23436085,null,111457,135755,224881,124791,150809,"2021 Census","Housing "]
["Owned","Households",null,35597,41313,29996,33478,31807,25960,47991,35066,40515,38162,37505,31393,428783,72122,500905,72122,220872,207911,168593,1187655,2500475,14369065,null,72122,87763,144760,83588,103964,"2021 Census","Housing "]
["  Owns outright","Households",null,18032,24477,12302,19753,18966,13018,24192,18769,20788,22731,18379,16324,227729,34388,262117,34388,124747,102984,80496,629721,1306219,7624693,null,34388,44286,85927,42224,53472,"2021 Census","Housing "]
["  Owns with a mortgage or loan","Households",null,17565,16836,17694,13725,12841,12942,23799,16297,19727,15431,19126,15069,201054,37734,238788,37734,96125,104927,88097,557934,1194256,6744372,null,37734,43477,58833,41364,50492,"2021 Census","Housing "]
["Shared ownership","Households",null,917,586,1042,387,365,443,1350,913,820,282,1108,521,8734,1646,10380,1646,3357,5377,3951,18638,54389,235951,null,1646,1850,1620,2267,2542,"2021 Census","Housing "]
["Social rented","Households",null,7501,7800,6314,7039,5251,7270,9507,6465,8041,7396,8255,7029,87869,15130,102999,15130,43028,44840,36755,238759,519352,4005663,null,15130,18835,27486,17008,21749,"2021 Census","Housing "]
["  Rents from council or Local Authority","Households",null,4750,5006,4274,4196,3153,5308,1887,996,1325,2940,1001,946,35782,4553,40335,4553,21370,14412,15460,110999,200415,1945152,null,4553,12735,15295,6637,2943,"2021 Census","Housing "]
["  Other social rented","Households",null,2751,2794,2040,2843,2098,1962,7620,5469,6716,4456,7254,6083,52087,10577,62664,10577,21658,30428,21295,127760,318937,2060511,null,10577,6100,12191,10371,18806,"2021 Census","Housing "]
["Private rented","Households",null,9499,14024,8275,9595,10870,7950,12339,6548,11102,16334,6694,9268,122497,22491,144988,22491,71424,51074,49818,324748,730767,4794889,null,22491,27095,50823,21838,22510,"2021 Census","Housing "]
["  Private landlord or letting agency","Households",null,8236,12522,7617,8379,9555,7276,10725,5572,9851,14755,5757,8297,108543,20219,128762,20219,63298,45244,44963,288258,645050,4273689,null,20219,24448,45211,18961,19626,"2021 Census","Housing "]
["  Other private rented","Households",null,1263,1502,658,1216,1315,674,1614,976,1251,1579,937,971,13954,2272,16226,2272,8126,5830,4855,36490,85717,521200,null,2272,2647,5612,2877,2884,"2021 Census","Housing "]
["Lives rent free","Households",null,69,69,67,53,44,101,21,22,17,26,9,13,510,68,578,68,278,233,253,1363,2983,30517,null,68,212,192,90,44,"2021 Census","Housing "]
["Household size - Persons","Tabe TS017",null,2021,2021,2021,2021,2021,2021,2021,2021,2021,2021,2021,2021,2021,2021,2021,2021,2021,2021,2021,2021,2021,2021,null,2021,2021,2021,2021,2021,"2021 Census","Housing "]
["All Household spaces","Households",null,53582,63792,45696,50548,48339,41724,71207,49011,60495,62200,53576,48222,648393,111458,759851,111458,338956,309436,259373,1771158,3807966,23436090,null,111458,135759,224879,124789,150809,"2021 Census","Housing "]
["1 person in household","Households",null,13861,19046,11827,15658,15728,11212,18800,12990,15957,20839,13698,14198,183814,30462,214276,30462,101089,82725,69458,511124,1081739,7052232,null,30462,38767,71271,32661,40886,"2021 Census","Housing "]
["2 people in household","Households",null,18895,22843,14013,18675,17799,12749,25050,16893,21206,21791,18695,16415,225024,35753,260777,35753,121209,103815,83721,612662,1324005,7978497,null,35753,44561,81108,43945,52003,"2021 Census","Housing "]
["3 people in household","Households",null,9068,9959,8413,7732,6863,7250,12023,8198,10223,9244,9279,7762,106015,19650,125665,19650,53089,52925,45536,287701,617807,3742887,null,19650,22526,33798,21091,25239,"2021 Census","Housing "]
["4 people in household","Households",null,7794,7927,7779,5619,5199,6607,10546,7760,8451,6716,8511,7104,90015,16738,106753,16738,41706,48307,39575,244150,535503,3024796,null,16738,19585,25461,18340,23375,"2021 Census","Housing "]
["5 people in household","Households",null,2670,2746,2633,1950,1821,2631,3349,2396,3029,2430,2568,2089,30313,6200,36513,6200,14646,15666,14493,81270,172459,1060450,null,6200,7085,8947,6019,7053,"2021 Census","Housing "]
["6 people in household","Households",null,886,908,706,608,629,853,959,562,1057,806,599,482,9055,1875,10930,1875,4894,4161,4491,23780,51445,358795,null,1875,2188,2951,1845,1643,"2021 Census","Housing "]
["7 people in household","Households",null,275,260,233,199,195,265,293,130,379,233,153,106,2718,524,3242,524,1541,1180,1401,6955,15687,126018,null,524,693,887,568,389,"2021 Census","Housing "]
["8 or more people in household","Households",null,133,103,92,107,105,157,187,82,193,141,73,66,1439,256,1695,256,782,657,698,3516,9321,92415,null,256,354,456,320,221,"2021 Census","Housing "]
["Average household size (Household residents/ households)","Calculation",null,2.4593807737528692,2.3231439678956609,2.5390187324929974,2.2628590646514204,2.2314583031632083,2.5497795034033168,2.4359201213346813,2.4362081981595969,2.4576982841273516,2.232352137356719,2.4467382174521699,2.3510627268014517,2.3897358546437113,2.4765955155985035,2.4024762912484898,2.4765955155985035,2.3299681080491035,2.455191491699495,2.4949588806594516,2.373904387868714,2.386721516610578,2.3683265357673862,null,2.4765955155985035,2.4328174606097659,2.2647723230167198,2.445993701468856,2.4127218836822246,"2021 Census","Housing "]
["Total household residents","Table TS001",null,131781,148198,116023,114383,107862,106387,173457,119401,148676,138859,131084,113380,1549488,276024,1825512,276024,789759,759732,647110,4204555,9088552,55504302,null,276024,330272,509302,305238,363865,"2021 Census","Housing "]
["Total Households","Table TS046",null,53583,63792,45696,50548,48337,41724,71208,49011,60494,62203,53575,48225,648393,111453,759846,111453,338957,309439,259367,1771156,3807965,23436085,null,111453,135757,224880,124791,150811,"2021 Census","Housing "]
["Housing_Occupancy Rating",null,null,2021,2021,2021,2021,2021,2021,2021,2021,2021,2021,2021,2021,2021,2021,2021,2021,2021,2021,2021,2021,2021,2021,null,2021,2021,2021,2021,2021,"2021 Census","Housing "]
["Occupancy rating (rooms) of -1 or less","Table TS053",null,2461,3730,3401,2285,2430,3300,3405,1883,3410,3669,1925,2865,34764,6659,41423,6659,17985,16779,16770,95911,212700,1510250,null,6659,9131,12114,5866,6673,"2021 Census","Housing "]
["Occupancy rating (bedrooms) of -1 or less","Table TS052",null,1821,1951,2581,1590,1516,2512,2425,1240,2421,2307,1344,1382,23093,5049,28142,5049,11606,11484,12563,62406,131349,1024691,null,5049,6609,7364,4246,3966,"2021 Census","Housing "]
["Household ameneties","Table TS046",null,2021,2021,2021,2021,2021,2021,2021,2021,2021,2021,2021,2021,2021,2021,2021,2021,2021,2021,2021,2021,2021,2021,null,2021,2021,2021,2021,2021,"2021 Census","Housing "]
["Total households","Households",null,53583,63792,45696,50548,48337,41724,71208,49011,60494,62203,53575,48225,648393,111453,759846,111453,338957,309439,259367,1771156,3807965,23436085,null,111453,135757,224880,124791,150811,"2021 Census","Housing "]
["No central heating","Households",null,624,789,623,676,738,627,848,485,941,960,549,628,8486,1887,10373,1887,4728,3760,4078,23234,49876,351635,null,1887,1988,3163,1472,1662,"2021 Census","Housing "]
["Has central heating","calculation",null,52959,63003,45073,49872,47599,41097,70360,48526,59553,61243,53026,47597,639907,109566,749473,109566,334229,305679,255289,1747922,3758089,23084450,null,null,null,null,null,null,"2021 Census","Housing "]
["No cars or vans in household",null,null,7706,13291,7700,10146,9912,8204,10401,5606,10064,16219,6593,7483,113321,21449,134770,21449,67338,45987,47417,311014,642098,5516098,null,21449,25816,49568,18107,19682,"2021 Census","Housing "]
["Household Composition","Table TS003",null,2021,2021,2021,2021,2021,2021,2021,2021,2021,2021,2021,2021,2021,2021,2021,2021,2021,2021,2021,2021,2021,2021,null,2021,2021,2021,2021,2021,"2021 Census","Housing "]
["All Households","Households",null,53586,63794,45697,50548,48336,41722,71207,49014,60495,62199,53573,48223,648393,111459,759852,111459,338958,309436,259373,1771165,3807967,23436086,null,111459,135755,224877,124793,150810,"2021 Census","Housing "]
["Total One person households","Households",null,13862,19047,11827,15658,15728,11212,18800,12990,15957,20839,13698,14198,183814,30462,214276,30462,101091,82725,69458,511125,1081739,7052229,null,30462,38767,71272,32662,40886,"2021 Census","Housing "]
["  Aged 66 years and over","Households",null,6618,9700,4421,7947,7917,5162,8450,7054,7860,10225,6831,6399,88583,13132,101715,13132,50267,38317,30575,247797,503974,3001789,null,13132,17500,35789,15068,20284,"2021 Census","Housing "]
["  Other","Households",null,7244,9347,7406,7711,7811,6050,10350,5936,8097,10614,6867,7799,95231,17330,112561,17330,50824,44408,38883,263328,577765,4050440,null,17330,21267,35483,17594,20602,"2021 Census","Housing "]
["Total Single family household","Households",null,36313,38832,30938,32172,29877,27208,47930,33655,40535,37575,37377,31900,424313,73294,497607,73294,215304,209008,171975,1155395,2473698,14762923,null,73294,88023,138456,84243,102932,"2021 Census","Housing "]
["  All aged 66 years and over","Households",null,5794,7453,3176,5961,5920,3687,7529,5774,6117,6720,5775,4933,68839,9113,77952,9113,37965,30874,22093,188417,386986,2145278,null,9113,12783,26054,13323,16482,"2021 Census","Housing "]
["Total Married or civil partnership couple","Households",null,18078,18021,15817,14627,13373,13456,23989,17858,18844,15802,19425,16942,206230,35051,241281,35051,98745,107487,83168,557652,1260379,7129794,null,35051,42646,61823,42067,54225,"2021 Census","Housing "]
["  No children","Households",null,6149,6638,4253,6041,5463,3843,7857,5416,6822,6288,6060,5219,70051,10985,81036,10985,37401,32648,25903,187943,420975,2440210,null,10985,13559,24430,14006,16695,"2021 Census","Housing "]
["  Dependent children","Households",null,8564,7992,8793,5761,5402,6668,11776,9174,8312,6560,9897,9022,97919,16923,114842,16923,42591,55330,40696,262009,619300,3375402,null,16923,20863,25715,20340,28093,"2021 Census","Housing "]
["  All children non-dependent","Households",null,3365,3391,2771,2825,2508,2945,4356,3268,3710,2954,3468,2701,38260,7143,45403,7143,18753,19509,16569,107700,220104,1314182,null,7143,8224,11678,7721,9437,"2021 Census","Housing "]
["Total Cohabiting couple family","Households",null,6548,6820,6176,6008,5527,4656,8885,5160,8397,7362,6496,5344,77383,14489,91872,14489,40662,36717,33718,209715,433453,2708979,null,14489,16359,25717,15433,17000,"2021 Census","Housing "]
["  No children","Households",null,3249,3871,2988,2966,2867,2035,4707,2654,3873,3509,3290,3063,39074,6699,45773,6699,20335,18737,15595,105509,240827,1486961,null,6699,7890,13213,7956,9007,"2021 Census","Housing "]
["  Dependent children","Households",null,2859,2523,2747,2587,2264,2255,3653,2155,3849,3324,2771,1985,32973,6655,39628,6655,17406,15566,15506,89324,166572,1053001,null,6655,7266,10698,6512,6911,"2021 Census","Housing "]
["  All children non-dependent","Households",null,440,426,441,455,396,366,525,351,675,529,435,296,5336,1135,6471,1135,2921,2414,2617,14882,26054,169017,null,1135,1203,1806,965,1082,"2021 Census","Housing "]
["Total Lone parent family","Households",null,5629,6117,5422,5342,4834,5106,7087,4663,6880,7381,5458,4433,68351,13930,82281,13930,36183,32169,31338,190018,369841,2594901,null,13930,15362,23674,12716,14554,"2021 Census","Housing "]
["  Dependent children","Households",null,3664,3781,3464,3350,2930,3192,4425,2736,4312,4668,3356,2747,42626,8657,51283,8657,22705,19920,19625,117428,227161,1617076,null,8657,9586,14729,8089,8839,"2021 Census","Housing "]
["  All children non-dependent","Households",null,1965,2336,1958,1992,1904,1914,2662,1927,2568,2713,2102,1686,25725,5273,30998,5273,13478,12249,11713,72590,142680,977825,null,5273,5776,8945,4627,5715,"2021 Census","Housing "]
["Other single family household","Households",null,264,421,347,234,223,303,440,200,297,310,223,248,3510,711,4221,711,1749,1761,1658,9593,23039,183971,null,711,873,1188,704,671,"2021 Census","Housing "]
["Total Other household types","Households",null,3411,5915,2932,2718,2731,3302,4477,2369,4003,3785,2498,2125,40266,7703,47969,7703,22563,17703,17940,104645,252530,1620934,null,7703,8965,15149,7888,6992,"2021 Census","Housing "]
["  With dependent children","Households",null,1476,1497,1523,1115,1131,1847,1921,1073,1979,1599,1054,813,17028,3721,20749,3721,8797,8231,9070,44614,93493,630340,null,3721,4501,5342,3397,2940,"2021 Census","Housing "]
["  Other, including all full-time students and all aged 66 years and over","Households",null,1935,4418,1409,1603,1600,1455,2556,1296,2024,2186,1444,1312,23238,3982,27220,3982,13766,9472,8870,60031,159037,990594,null,3982,4464,9807,4491,4052,"2021 Census","Housing "]
["Young people providing Unpaid Care ( age under 25)","Custom Table",null,2021,2021,2021,2021,2021,2021,2021,2021,2021,2021,2021,2021,2021,2021,2021,2021,2021,2021,2021,2021,2021,2021,null,2021,2021,2021,2021,2021,"2021 Census","Young people"]
["All People providing  unpaid care",null,null,11153,13386,8657,11505,10820,8982,14180,9977,13929,13845,10833,8618,135893,22621,158514,22621,74638,61247,54189,362043,733362,4678264,null,22621,28459,49556,25333,29428,"2021 Census","Young people"]
["All people aged under 25 providing unpaid care",null,null,984,1279,671,951,839,707,1090,609,1217,981,871,659,10854,1802,12656,1802,6251,4607,4397,25699,51267,334306,null,1802,2217,4050,2074,2139,"2021 Census","Young people"]
["Age 5-9 providing unpaid care",null,null,64,58,37,50,47,49,67,40,90,55,67,60,689,102,791,102,364,320,278,1570,3207,16506,null,102,133,210,131,167,"2021 Census","Young people"]
["Age 10-15 providing unpaid care",null,null,286,260,170,244,244,154,291,174,323,213,255,181,2783,322,3105,322,1570,1225,969,5771,11307,62303,null,322,568,961,577,610,"2021 Census","Young people"]
["Age 16-19 providing unpaid care",null,null,261,384,190,275,224,190,317,173,346,276,237,181,3059,472,3531,472,1766,1288,1198,7033,14190,92679,null,472,604,1159,578,591,"2021 Census","Young people"]
["Age 20-24 providing unpaid care",null,null,373,577,274,382,324,314,415,222,458,437,312,237,4323,906,5229,906,2551,1774,1952,11325,22563,162818,null,906,912,1720,788,771,"2021 Census","Young people"]
["Young people disabled under the Equality Act:","Custom Table",null,2021,2021,2021,2021,2021,2021,2021,2021,2021,2021,2021,2021,2021,2021,2021,2021,2021,2021,2021,2021,2021,2021,null,2021,2021,2021,2021,2021,"2021 Census","Young people"]
["All People whose day-to-day activities are limited",null,null,22648,30865,16371,24648,23960,17506,28032,18092,29635,32134,20228,17307,281423,48565,329988,48565,163890,117536,112077,749640,1496331,9774512,null,48565,57837,111607,50680,55627,"2021 Census","Young people"]
["All People aged under 25 whose day-to-day activities are limited",null,null,3406,6134,2848,3227,3130,2895,4080,2728,4935,4579,3222,2470,43657,8049,51706,8049,25411,18243,18727,108201,226243,1354161,null,8049,8873,17070,7486,8420,"2021 Census","Young people"]
["Age 0 to 4",null,null,228,241,205,217,188,156,226,179,315,365,193,105,2626,468,3094,468,1554,1064,1144,6898,12722,81524,null,468,549,1011,454,477,"2021 Census","Young people"]
["Age 5 to 9",null,null,639,648,561,630,597,589,800,536,951,845,597,373,7774,1380,9154,1380,4310,3456,3481,19211,36161,216320,null,1380,1747,2720,1439,1506,"2021 Census","Young people"]
["Age 10 to 14",null,null,922,942,732,797,804,750,1015,721,1315,1116,848,629,10587,2039,12626,2039,5896,4695,4836,26503,51075,295266,null,2039,2286,3659,1937,2198,"2021 Census","Young people"]
["Age 15 to 19",null,null,882,1746,770,840,800,767,1065,774,1264,1216,931,751,11804,2190,13994,2190,6748,5058,4991,29051,62494,363044,null,2190,2337,4602,1947,2456,"2021 Census","Young people"]
["Age 20 to 24",null,null,894,2713,707,890,848,743,1116,643,1302,1269,781,681,12582,2276,14858,2276,7916,4671,5028,30934,71924,449066,null,2276,2298,5720,2010,2105,"2021 Census","Young people"]
["Older people disabled under the Equality Act:","Custom Table",null,2021,2021,2021,2021,2021,2021,2021,2021,2021,2021,2021,2021,2021,2021,2021,2021,2021,2021,2021,2021,2021,2021,null,2021,2021,2021,2021,2021,"2021 Census","Older people"]
["Total 60+ whose day-to-day activities are limited",null,null,10126,13882,6738,12109,11837,7611,12832,9141,12492,15193,9200,8064,129219,19929,149148,19929,75639,53586,46770,353016,690056,4461653,null,19929,26186,53021,22958,26405,"2021 Census","Older people"]
["60-64",null,null,1668,2134,1228,2115,2075,1332,1973,1331,2307,2609,1515,1277,21565,3914,25479,3914,12908,8656,8781,58583,111977,796835,null,3914,4635,8933,3641,4123,"2021 Census","Older people"]
["65-69",null,null,1576,2138,1055,2020,1933,1213,2000,1276,2188,2658,1314,1141,20510,3504,24014,3504,12513,7999,7960,55550,105399,736199,null,3504,4201,8749,3576,3731,"2021 Census","Older people"]
["70-74",null,null,1903,2542,1163,2242,2289,1406,2377,1636,2461,2929,1637,1296,23883,3783,27666,3783,14366,9515,8813,65130,120571,803976,null,3783,4858,10002,4280,4569,"2021 Census","Older people"]
["75-79",null,null,1696,2320,1028,2057,1974,1205,2099,1512,2024,2615,1525,1264,21321,3162,24483,3162,12686,8633,7419,57892,111371,709477,null,3162,4207,8966,3795,4301,"2021 Census","Older people"]
["80-84",null,null,1452,2067,982,1626,1585,1120,1893,1319,1646,1959,1391,1209,18245,2637,20882,2637,10335,7914,6385,49750,99568,621951,null,2637,3687,7237,3345,3919,"2021 Census","Older people"]
["85+",null,null,1831,2681,1282,2049,1981,1335,2490,2067,1866,2423,1818,1877,23695,2929,26624,2929,12831,10869,7412,66111,141170,793215,null,2929,4598,9134,4321,5762,"2021 Census","Older people"]
["Total Males 60+ whose day-to-day activities are limited",null,null,4447,5927,2902,5530,5220,3360,5527,3891,5605,6777,4060,3485,56727,8664,65391,8664,33506,23225,20531,153580,299592,1950479,null,8664,11482,23454,9974,11436,"2021 Census","Older people"]
["60-64",null,null,784,994,556,990,948,616,890,615,1097,1249,728,610,10078,1820,11898,1820,6062,4015,4089,27358,52369,371795,null,1820,2120,4181,1674,1953,"2021 Census","Older people"]
["65-69",null,null,723,993,521,1017,907,580,910,587,1102,1276,658,558,9834,1696,11530,1696,6018,3814,3899,26366,50030,349252,null,1696,2008,4193,1633,1803,"2021 Census","Older people"]
["70-74",null,null,908,1202,532,1118,1106,681,1058,754,1113,1400,747,587,11207,1705,12912,1705,6847,4359,4031,30207,56276,375091,null,1705,2319,4826,1966,2088,"2021 Census","Older people"]
["75-79",null,null,781,1007,471,973,899,535,968,702,930,1201,675,575,9716,1436,11152,1436,5791,3926,3372,26090,50239,319555,null,1436,1905,4080,1749,1952,"2021 Census","Older people"]
["80-84",null,null,605,900,390,714,679,468,793,534,708,841,581,497,7706,1060,8766,1060,4447,3263,2626,20836,41830,260196,null,1060,1537,3134,1398,1612,"2021 Census","Older people"]
["85+",null,null,646,831,432,718,681,480,908,699,655,810,671,658,8186,947,9133,947,4341,3848,2514,22723,48848,274590,null,947,1593,3040,1554,2028,"2021 Census","Older people"]
["Total Females 60+ whose day-to-day activities are limited",null,null,5679,7955,3836,6579,6617,4251,7305,5250,6887,8416,5140,4579,72492,11265,83757,11265,42133,30361,26239,199436,390464,2511174,null,11265,14704,29567,12984,14969,"2021 Census","Older people"]
["60-64",null,null,884,1140,672,1125,1127,716,1083,716,1210,1360,787,667,11487,2094,13581,2094,6846,4641,4692,31225,59608,425040,null,2094,2515,4752,1967,2170,"2021 Census","Older people"]
["65-69",null,null,853,1145,534,1003,1026,633,1090,689,1086,1382,656,583,10676,1808,12484,1808,6495,4185,4061,29184,55369,386947,null,1808,2193,4556,1943,1928,"2021 Census","Older people"]
["70-74",null,null,995,1340,631,1124,1183,725,1319,882,1348,1529,890,709,12676,2078,14754,2078,7519,5156,4782,34923,64295,428885,null,2078,2539,5176,2314,2481,"2021 Census","Older people"]
["75-79",null,null,915,1313,557,1084,1075,670,1131,810,1094,1414,850,689,11605,1726,13331,1726,6895,4707,4047,31802,61132,389922,null,1726,2302,4886,2046,2349,"2021 Census","Older people"]
["80-84",null,null,847,1167,592,912,906,652,1100,785,938,1118,810,712,10539,1577,12116,1577,5888,4651,3759,28914,57738,361755,null,1577,2150,4103,1947,2307,"2021 Census","Older people"]
["85+",null,null,1185,1850,850,1331,1300,855,1582,1368,1211,1613,1147,1219,15509,1982,17491,1982,8490,7021,4898,43388,92322,518625,null,1982,3005,6094,2767,3734,"2021 Census","Older people"]
["Older people providing unpaid Care","Custom Table",null,2021,2021,2021,2021,2021,2021,2021,2021,2021,2021,2021,2021,2021,2021,2021,2021,2021,2021,2021,2021,2021,2021,null,2021,2021,2021,2021,2021,"2021 Census","Older people"]
["Total 50+",null,null,6542,8278,4724,7073,6772,5114,8613,6380,7836,8364,6611,5428,81743,12670,94413,12670,44865,36870,30344,222526,451365,2794033,null,12670,16610,30487,15155,18419,"2021 Census","Older people"]
["50-64",null,null,3913,4688,3142,4138,3879,3214,5158,3896,4748,4683,4116,3429,49003,8043,57046,8043,26049,22955,19147,132506,274628,1705799,null,8043,10235,17388,9071,11441,"2021 Census","Older people"]
["65-74",null,null,1543,2101,938,1795,1695,1106,1976,1464,1851,2186,1428,1125,19209,2899,22108,2899,11171,8037,6794,52298,101698,640556,null,2899,3739,7777,3519,4017,"2021 Census","Older people"]
["75-84",null,null,858,1150,484,912,991,603,1165,767,1009,1196,808,639,10586,1371,11957,1371,6116,4466,3467,29234,57273,348466,null,1371,2078,4249,2023,2214,"2021 Census","Older people"]
["85+",null,null,228,339,160,228,207,191,314,253,228,299,259,235,2945,357,3302,357,1529,1412,936,8488,17766,99212,null,357,558,1073,542,747,"2021 Census","Older people"]
["Males 50+",null,null,2747,3385,1957,2973,2874,2139,3626,2613,3294,3486,2714,2186,33997,5281,39278,5281,18759,15235,12671,92118,185914,1166274,null,5281,6970,12718,6373,7513,"2021 Census","Older people"]
["50-64",null,null,1568,1778,1220,1632,1516,1264,2046,1491,1847,1786,1560,1306,19012,3088,22100,3088,10127,8887,7419,50923,105781,663521,null,3088,4000,6712,3614,4357,"2021 Census","Older people"]
["65-74",null,null,632,887,416,777,737,478,842,629,802,935,626,466,8227,1293,9520,1293,4770,3457,2989,22568,43471,280755,null,1293,1631,3336,1474,1721,"2021 Census","Older people"]
["75-84",null,null,410,533,225,414,496,285,557,354,514,583,376,287,5038,687,5725,687,2950,2084,1711,13773,26563,165494,null,687,1006,2026,967,1017,"2021 Census","Older people"]
["85+",null,null,137,187,96,150,125,112,181,139,131,182,152,127,1720,213,1933,213,912,807,552,4854,10099,56504,null,213,333,644,318,418,"2021 Census","Older people"]
["Females 50+",null,null,3795,4893,2767,4100,3898,2975,4987,3767,4542,4878,3897,3242,47746,7389,55135,7389,26106,21635,17673,130408,265451,1627759,null,7389,9640,17769,8782,10906,"2021 Census","Older people"]
["50-64",null,null,2345,2910,1922,2506,2363,1950,3112,2405,2901,2897,2556,2123,29991,4955,34946,4955,15922,14068,11728,81583,168847,1042278,null,4955,6235,10676,5457,7084,"2021 Census","Older people"]
["65-74",null,null,911,1214,522,1018,958,628,1134,835,1049,1251,802,659,10982,1606,12588,1606,6401,4580,3805,29730,58227,359801,null,1606,2108,4441,2045,2296,"2021 Census","Older people"]
["75-84",null,null,448,617,259,498,495,318,608,413,495,613,432,352,5548,684,6232,684,3166,2382,1756,15461,30710,182972,null,684,1072,2223,1056,1197,"2021 Census","Older people"]
["85+",null,null,91,152,64,78,82,79,133,114,97,117,107,108,1225,144,1369,144,617,605,384,3634,7667,42708,null,144,225,429,224,329,"2021 Census","Older people"]
["Economic Activity","Table RM024 and RM056",null,2021,2021,2021,2021,2021,2021,2021,2021,2021,2021,2021,2021,2021,2021,2021,2021,2021,2021,2021,2021,2021,2021,null,2021,2021,2021,2021,2021,"2021 Census","Economy"]
["Total Persons aged 16 and over","RM024",null,106766,132776,90696,96135,91552,84560,142131,96605,122003,115411,105525,92401,1276563,222753,1499316,222753,664643,611918,520012,3461919,7554581,46006960,null,222753,266808,435874,248897,294531,"2021 Census","Economy"]
["Total economically active","RM024",null,66677,71397,61827,53978,50761,53019,90266,58727,73120,63335,66992,58285,768379,140574,908953,140574,379268,389116,328540,2093742,4701542,28001505,null,140574,165607,239471,156943,184004,"2021 Census","Economy"]
["Employee: Part-time","RM056",null,18592,23063,15126,16164,15160,14307,24266,16815,19520,20158,18529,16653,218353,36872,255225,36872,112657,105696,85825,602686,1320834,7871439,null,36872,44593,74545,42858,51997,"2021 Census","Economy"]
["Employee: Full-time","RM056",null,45023,43101,43697,34762,32659,35454,62143,39569,49683,39032,45897,39246,510265,95734,605999,95734,244260,266006,224568,1383253,3150946,18533776,null,95734,111810,149554,107166,124712,"2021 Census","Economy"]
["Self-employed","RM024",null,11573,12692,9387,9292,9172,8686,15493,12071,11836,12363,11554,12043,136159,21808,157967,21808,66928,69234,51717,372522,802657,4390032,null,21808,27245,43519,27066,35668,"2021 Census","Economy"]
["Unemployed","RM024",null,3063,5235,3004,3052,2945,3252,3857,2344,3917,4147,2565,2386,39763,7967,47730,7967,22359,17408,18140,107805,229763,1596288,null,7967,9201,15379,6920,7295,"2021 Census","Economy"]
["Full-time student","RM024",null,1851,6213,1573,1313,1356,1537,2206,1200,1725,1762,1552,1223,23515,4435,27950,4435,14220,9291,9270,62328,158516,1056250,null,4435,4466,10644,4057,3975,"2021 Census","Economy"]
["Total economically inactive","RM024",null,40087,61373,28866,42153,40792,31542,51871,37875,48877,52083,38534,34118,508188,82186,590374,82186,285365,222806,191471,1368177,2853039,18005455,null,82186,101200,196401,91958,110527,"2021 Census","Economy"]
["Retired","RM024",null,24070,32948,15467,26880,26200,17405,31642,24163,27482,32193,24153,20755,303368,43600,346968,43600,169773,133585,103954,831597,1697916,9882054,null,43600,59072,118221,55712,69071,"2021 Census","Economy"]
["Student","RM024",null,3927,15126,3796,3474,3005,3565,5022,3815,4270,4152,4119,3940,58210,10373,68583,10373,33954,24257,22004,144848,384992,2595453,null,10373,10366,25757,8949,11874,"2021 Census","Economy"]
["Looking after home or family","RM024",null,5431,5232,4466,4377,4259,4674,6661,5153,6737,5916,5006,4547,62462,11940,74402,11940,31952,30507,27817,166821,333553,2207738,null,11940,13399,19784,12092,14706,"2021 Census","Economy"]
["Long-term sick or disabled","RM024",null,3636,4924,2583,4627,4546,3103,4483,2431,5476,6224,2957,2631,47617,9063,56680,9063,29433,18188,20225,126679,234600,1874300,null,9063,10232,20321,8119,8019,"2021 Census","Economy"]
["Other","RM024",null,3023,3143,2554,2795,2782,2795,4063,2313,4912,3598,2299,2245,36531,7210,43741,7210,20253,16269,17471,98232,201978,1445910,null,7210,8131,12318,7086,6857,"2021 Census","Economy"]
["Economic Activity","Table RM024 and RM056",null,2021,2021,2021,2021,2021,2021,2021,2021,2021,2021,2021,2021,2021,2021,2021,2021,2021,2021,2021,2021,2021,2021,null,2021,2021,2021,2021,2021,"2021 Census","Economy"]
["Total Females aged 16 and over","RM024",null,55422,70012,46924,49751,47310,43661,72570,50608,61901,60856,54930,48189,662145,114745,776890,114745,345252,316882,267231,1798376,3899912,23719832,null,114745,137895,227929,127992,153727,"2021 Census","Economy"]
["Total economically active","RM024",null,31731,35062,29880,25923,24194,25111,42400,27941,34177,30969,32308,27939,367635,66725,434360,66725,182056,185579,155893,1001122,2246173,13379787,null,66725,79185,116148,74131,88188,"2021 Census","Economy"]
["Employee: Part-time","RM056",null,13200,15372,10682,11270,10323,10200,17153,11808,14097,13529,13410,11652,152696,26495,179191,26495,77791,74905,61474,423590,916762,5366613,null,26495,31205,50494,30353,36870,"2021 Census","Economy"]
["Employee: Full-time","RM056",null,17081,17153,17749,13320,12581,13443,23509,15009,18442,15635,17669,15151,196742,36578,233320,36578,94212,102530,86212,527977,1223950,7293224,null,36578,43773,58689,40590,47829,"2021 Census","Economy"]
["Self-employed","RM024",null,3771,4327,2595,3078,2949,2248,4731,4168,3594,4140,3952,4576,44130,5851,49981,5851,21859,22270,14288,116648,270646,1418616,null,5851,7792,14494,8502,12696,"2021 Census","Economy"]
["Unemployed","RM024",null,1449,2537,1449,1333,1293,1466,1738,1125,1638,1806,1228,1136,18199,3652,21851,3652,10056,8142,8205,49560,105461,719951,null,3652,4208,6969,3187,3489,"2021 Census","Economy"]
["Full-time student","RM024",null,1133,3664,940,779,768,866,1263,719,1043,1018,906,732,13832,2594,16426,2594,8405,5426,5443,36552,90105,609777,null,2594,2574,6229,2396,2357,"2021 Census","Economy"]
["Total economically inactive","RM024",null,23691,34950,17044,23828,23116,18550,30170,22667,27724,29887,22622,20250,294510,48020,342530,48020,163196,131303,111338,797254,1653739,10340045,null,48020,58710,111781,53861,65539,"2021 Census","Economy"]
["Retired","RM024",null,13420,18613,8597,14665,14459,9716,17655,13533,15127,18034,13467,11723,169016,24141,193157,24141,94318,74691,57581,464677,948896,5471631,null,24141,32772,65771,31075,38723,"2021 Census","Economy"]
["Student","RM024",null,1940,7776,1933,1749,1508,1737,2472,1956,2148,2002,1986,2044,29251,5337,34588,5337,17123,12128,11155,73129,192537,1324769,null,5337,5178,13035,4412,5986,"2021 Census","Economy"]
["Looking after home or family","RM024",null,4706,4389,3871,3616,3521,4062,5870,4621,5793,4850,4452,4023,53774,10393,64167,10393,26875,26899,24119,144338,290086,1866456,null,10393,11454,16376,10576,13096,"2021 Census","Economy"]
["Long-term sick or disabled","RM024",null,2117,2664,1406,2449,2404,1704,2369,1436,2921,3267,1606,1423,25762,4879,30641,4879,15822,9944,10910,68825,127790,999421,null,4879,5514,10784,4486,4465,"2021 Census","Economy"]
["Other","RM024",null,1508,1508,1237,1349,1224,1331,1804,1121,1735,1734,1111,1037,16707,3270,19977,3270,9058,7641,7573,46285,94430,677768,null,3270,3792,5815,3312,3269,"2021 Census","Economy"]
["Economic Activity","Table RM024 and RM056",null,2021,2021,2021,2021,2021,2021,2021,2021,2021,2021,2021,2021,2021,2021,2021,2021,2021,2021,2021,2021,2021,2021,null,2021,2021,2021,2021,2021,"2021 Census","Economy"]
["Total Males aged 16 and over","RM024",null,51342,62758,43769,46380,44243,40900,69567,45994,60096,54562,50596,44214,614422,108015,722437,108015,319381,295040,252780,1663543,3654669,22287128,null,108015,128912,207943,120909,140804,"2021 Census","Economy"]
["Total economically active","RM024",null,34946,36335,31947,28055,26567,27908,47866,30786,38943,32366,34684,30346,400744,73849,474593,73849,197212,203537,172647,1092620,2455369,14621718,null,73849,86422,123323,82812,95816,"2021 Census","Economy"]
["Employee: Part-time","RM056",null,5392,7691,4444,4894,4837,4107,7113,5007,5423,6629,5119,5001,65657,10377,76034,10377,34866,30791,24351,179096,404072,2504826,null,10377,13388,24051,12505,15127,"2021 Census","Economy"]
["Employee: Full-time","RM056",null,27942,25948,25948,21442,20078,22011,38634,24560,31241,23397,28228,24095,313523,59156,372679,59156,150048,163476,138356,855276,1926996,11240552,null,59156,68037,90865,66576,76883,"2021 Census","Economy"]
["Self-employed","RM024",null,7802,8365,6792,6214,6223,6438,10762,7903,8242,8223,7602,7467,92029,15957,107986,15957,45069,46964,37429,255874,532011,2971416,null,15957,19453,29025,18564,22972,"2021 Census","Economy"]
["Unemployed","RM024",null,1614,2698,1555,1719,1652,1786,2119,1219,2279,2341,1337,1250,21564,4315,25879,4315,12303,9266,9935,58245,124302,876337,null,4315,4993,8410,3733,3806,"2021 Census","Economy"]
["Full-time student","RM024",null,718,2549,633,534,588,671,943,481,682,744,646,491,9683,1841,11524,1841,5815,3865,3827,25776,68411,446473,null,1841,1892,4415,1661,1618,"2021 Census","Economy"]
["Total economically inactive","RM024",null,16396,26423,11822,18325,17676,12992,21701,15208,21153,22196,15912,13868,213678,34166,247844,34166,122169,91503,80133,570923,1199300,7665410,null,34166,42490,84620,38097,44988,"2021 Census","Economy"]
["Retired","RM024",null,10650,14335,6870,12215,11741,7689,13987,10630,12355,14159,10686,9032,134352,19459,153811,19459,75455,58894,46373,366920,749020,4410423,null,19459,26300,52450,24637,30348,"2021 Census","Economy"]
["Student","RM024",null,1987,7350,1863,1725,1497,1828,2550,1859,2122,2150,2133,1896,28959,5036,33995,5036,16831,12129,10849,71719,192455,1270684,null,5036,5188,12722,4537,5888,"2021 Census","Economy"]
["Looking after home or family","RM024",null,725,843,595,761,738,612,791,532,944,1066,554,524,8688,1547,10235,1547,5077,3608,3698,22483,43467,341282,null,1547,1945,3408,1516,1610,"2021 Census","Economy"]
["Long-term sick or disabled","RM024",null,1519,2260,1177,2178,2142,1399,2114,995,2555,2957,1351,1208,21855,4184,26039,4184,13611,8244,9315,57854,106810,874879,null,4184,4718,9537,3633,3554,"2021 Census","Economy"]
["Other","RM024",null,1515,1635,1317,1446,1558,1464,2259,1192,3177,1864,1188,1208,19824,3940,23764,3940,11195,8628,9898,51947,107548,768142,null,3940,4339,6503,3774,3588,"2021 Census","Economy"]
["Industry","Table TS060",null,2021,2021,2021,2021,2021,2021,2021,2021,2021,2021,2021,2021,2021,2021,2021,2021,2021,2021,2021,2021,2021,2021,null,2021,2021,2021,2021,2021,"2021 Census","Economy"]
["All usual residents aged 16 years and over in employment",null,null,63614,66166,58821,50923,47821,49757,86409,56386,69200,59184,64423,55897,728617,132608,861225,132608,356908,371693,310386,1985938,4471775,26405214,null,132608,156399,224094,150023,176706,"2021 Census","Economy"]
["A: Agriculture, Forestry and fishing",null,null,993,617,97,608,453,213,1226,400,798,349,397,568,6718,441,7159,441,3818,2901,1549,14999,28659,211867,null,441,763,2027,2219,1365,"2021 Census","Economy"]
["B: Mining and quarrying",null,null,31,32,52,20,26,37,46,81,38,23,57,81,524,80,604,80,170,354,207,1332,6059,40130,null,80,115,101,77,219,"2021 Census","Economy"]
["C: Manufacturing",null,null,4237,3008,2704,2701,2011,2879,4761,2389,5668,3617,3277,2190,39441,7782,47223,7782,21242,18200,19033,109676,266287,1921401,null,7782,7594,11337,8998,7856,"2021 Census","Economy"]
["D: Electricity, gas, steam and air conditioning supply",null,null,470,272,312,280,677,244,504,261,385,339,315,206,4265,888,5153,888,2423,1842,1829,9379,25891,152142,null,888,1233,1568,974,782,"2021 Census","Economy"]
["E:  Water supply; Sewerage, Waste management and Remediation activities",null,null,420,333,527,393,430,464,776,296,733,369,620,259,5623,1805,7428,1805,2678,2942,3529,15769,33043,190302,null,1805,1421,1525,1196,1175,"2021 Census","Economy"]
["F: Construction",null,null,6985,6011,7002,4981,5226,6803,10442,6115,8499,6099,7123,4611,79897,16803,96700,16803,37801,42096,39107,225784,403450,2288550,null,16803,19031,22317,17427,17849,"2021 Census","Economy"]
["G: Wholesale and retail trade; repair of motor vehicles and motorcycles",null,null,9806,9980,8687,6693,6855,7974,13275,7062,11191,8793,9269,7648,107239,20232,127471,20232,53318,53915,48084,292635,622163,3958259,null,20232,23516,32321,23081,23979,"2021 Census","Economy"]
["H: Transport and storage",null,null,3217,2478,3843,3932,2777,3510,4570,2019,4379,2758,2712,1665,37864,8550,46414,8550,19541,18319,20282,105913,217510,1328773,null,8550,10130,11945,7787,6396,"2021 Census","Economy"]
["I: Accommodation and food service activities",null,null,2817,3864,2398,2617,2520,2123,3371,2019,2857,3418,2197,2175,32376,5661,38037,5661,18093,14283,13039,84374,200464,1291556,null,5661,7041,12419,6188,6391,"2021 Census","Economy"]
["J: Information and communication",null,null,2300,2340,2821,1119,1376,1683,3289,2971,1960,1636,2984,3197,27676,4370,32046,4370,10731,16945,10834,74791,279336,1246568,null,4370,5880,6471,5589,9152,"2021 Census","Economy"]
["K: Financial and insurance activities",null,null,2058,1599,3238,1086,1798,2038,3717,5161,2030,1328,4597,5046,33696,5636,39332,5636,9899,23797,12942,108202,181855,1007530,null,5636,7074,5811,5775,14804,"2021 Census","Economy"]
["L: Real estate activities",null,null,809,869,1175,594,605,856,1354,1303,1160,863,1160,1093,11840,2059,13899,2059,4900,6941,5250,32839,71939,412648,null,2059,2636,2931,2163,3556,"2021 Census","Economy"]
["M: Professional, scientific and technical activities",null,null,3796,3917,3760,2337,2324,2695,5229,5384,3305,2797,4912,5488,45943,6151,52094,6151,18476,27468,15911,123921,323587,1768507,null,6151,8779,11375,9025,15784,"2021 Census","Economy"]
["N: Administrative and support service activities",null,null,3880,3223,3038,3075,3144,2874,4949,3381,3649,3105,3654,3277,41258,7022,48280,7022,20076,21173,16583,108592,253025,1399037,null,7022,9056,12547,8829,10312,"2021 Census","Economy"]
["O: Public administration and defence; compulsory social security",null,null,3555,3177,3460,4445,3480,2751,6204,2942,4656,3208,3601,2129,43611,9151,52762,9151,22521,21087,20018,113815,264605,1521181,null,9151,9691,14310,9759,8672,"2021 Census","Economy"]
["P: Education",null,null,5634,10437,5062,5357,4463,4320,7277,5518,6543,6553,6629,5781,73574,11735,85309,11735,38987,34587,27660,189334,457614,2601727,null,11735,13845,26810,12911,17928,"2021 Census","Economy"]
["Q: Human health and social work activities",null,null,10032,10811,8286,8296,7400,6334,11951,6191,8672,10704,7849,7730,104256,19013,123269,19013,55915,48341,42305,284838,621870,3856651,null,19013,22020,37211,21983,21770,"2021 Census","Economy"]
["R, S, T, U Other",null,null,2574,3198,2359,2389,2256,1959,3468,2893,2677,3225,3070,2753,32816,5229,38045,5229,16319,16502,12224,89745,214418,1208385,null,5229,6574,11068,6042,8716,"2021 Census","Economy"]
["Occupation","Table TS063",null,2021,2021,2021,2021,2021,2021,2021,2021,2021,2021,2021,2021,2021,2021,2021,2021,2021,2021,2021,2021,2021,2021,null,2021,2021,2021,2021,2021,"2021 Census","Economy"]
["All usual residents aged 16 years and over in employment",null,null,63616,66164,58824,50926,47817,49761,86407,56382,69203,59190,64424,55895,728618,132610,861228,132610,356916,371693,310398,1985943,4471777,26405214,null,132610,156402,224097,150023,176701,"2021 Census","Economy"]
["1. Managers, directors and senior officials",null,null,9171,8502,7555,5998,6167,6005,12732,10668,8539,7096,10664,10209,103306,14826,118132,14826,45473,57833,36925,276865,665423,3403916,null,14826,19727,27763,21903,31541,"2021 Census","Economy"]
["2. Professional occupations",null,null,11751,14588,12101,7795,7610,7846,15817,12361,10281,9544,13058,13095,135847,21929,157776,21929,61569,74278,52157,360883,948916,5356649,null,21929,27557,39537,27568,38514,"2021 Census","Economy"]
["3. Associate professional and technical occupations",null,null,8251,8689,7748,7505,6934,6125,12106,8215,9022,7433,9610,8175,99815,17307,117122,17307,47834,51979,40202,268472,637552,3499749,null,17307,20807,30561,20357,26000,"2021 Census","Economy"]
["4. Administrative and secretarial occupations",null,null,5811,5530,6827,4774,4324,5188,8635,5812,6850,5135,6728,4905,70521,13910,84431,13910,32424,38095,32775,205565,418153,2446565,null,13910,16339,19763,14446,17445,"2021 Census","Economy"]
["5. Skilled trades occupations",null,null,7322,6890,6203,5860,5592,5590,9423,5892,8591,6913,6666,5128,80070,15896,95966,15896,41168,38902,36280,224164,447317,2683139,null,15896,17385,25255,16745,17686,"2021 Census","Economy"]
["6. Caring, leisure and other service occupations",null,null,5812,6524,4860,6303,5681,4639,7124,4078,6482,7762,5106,4438,68808,12828,81636,12828,38564,30245,28809,189225,406891,2447148,null,12828,15180,26270,12936,13622,"2021 Census","Economy"]
["7. Sales and customer service occupations",null,null,4895,5248,4068,3913,3962,3797,5894,3208,4882,4916,4187,3608,52580,10137,62717,10137,27816,24762,22884,143258,304995,1972553,null,10137,11827,18039,10789,11003,"2021 Census","Economy"]
["8. Process, plant and machine operatives",null,null,4350,3466,4062,3737,3132,4387,5939,2463,6269,4083,3346,2098,47337,11111,58448,11111,25037,22295,25829,129407,248363,1832666,null,11111,11581,14418,10289,7907,"2021 Census","Economy"]
["9. Elementary occupations",null,null,6253,6727,5400,5041,4415,6184,8737,3685,8287,6308,5059,4239,70334,14666,85000,14666,37031,33304,34537,188104,394167,2762829,null,14666,15999,22491,14990,12983,"2021 Census","Economy"]
["Method of travel to work","Table TS061",null,2021,2021,2021,2021,2021,2021,2021,2021,2021,2021,2021,2021,2021,2021,2021,2021,2021,2021,2021,2021,2021,2021,null,2021,6063,8084,4042,6063,"2021 Census","Economy"]
["All people aged 16+ in employment","Persons age 16+",null,63614,66165,58824,50926,47819,49761,86406,56383,69202,59188,64429,55900,728620,132606,861226,132606,356914,371703,310393,1985940,4471779,26405214,null,132606,156404,224098,150020,176712,"2021 Census","Economy"]
["Work mainly at or from home","Persons age 16+",null,19120,20109,18217,12291,13770,13037,26842,23775,17587,14408,23812,23633,226597,34466,261063,34466,97285,129316,83307,615980,1603079,8321252,null,34466,45024,60578,45962,71220,"2021 Census","Economy"]
["Underground, metro, light rail, tram","Persons age 16+",null,83,105,475,52,40,203,108,161,73,72,78,67,1519,313,1832,313,425,1092,1064,11963,8734,504716,null,313,718,269,191,306,"2021 Census","Economy"]
["Train","Persons age 16+",null,1575,1537,4573,1023,932,2655,2239,3063,2200,1448,2200,1724,25169,5339,30508,5339,8715,16454,14767,69562,98706,517902,null,5339,8160,4940,3814,6987,"2021 Census","Economy"]
["Bus, minibus or coach","Persons age 16+",null,1177,1906,1963,1100,1319,1665,1583,441,477,2076,603,835,15147,3090,18237,3090,8055,7090,7195,41501,113131,1129539,null,3090,4947,6401,2760,1879,"2021 Census","Economy"]
["Taxi","Persons age 16+",null,152,210,394,264,256,224,259,140,214,561,123,130,2928,815,3743,815,1657,1270,1647,9710,20854,192884,null,815,874,1291,411,393,"2021 Census","Economy"]
["Motorcycle, scooter or moped","Persons age 16+",null,221,259,429,264,198,344,308,303,387,362,283,192,3552,807,4359,807,1691,1859,1967,9561,22226,124207,null,807,971,1083,529,778,"2021 Census","Economy"]
["Driving a car or van","Persons age 16+",null,32389,30603,26492,27830,23922,24799,43325,23224,37930,29473,30531,21856,352373,69504,421877,69504,182147,170227,158725,960513,1976300,11751945,null,69504,75213,111828,75714,75611,"2021 Census","Economy"]
["Passenger in a car or van","Persons age 16+",null,2552,2493,1904,2344,1932,2591,3414,1522,2990,3166,1984,1629,28519,6301,34820,6301,15477,13044,13786,75271,156802,1017402,null,6301,6427,9935,5966,5135,"2021 Census","Economy"]
["Bicycle","Persons age 16+",null,1186,1105,532,674,538,405,800,289,935,1194,564,506,8729,942,9671,942,5632,3096,2814,25255,86468,554215,null,942,1475,3511,1986,1359,"2021 Census","Economy"]
["On foot","Persons age 16+",null,4533,7145,3262,4462,4360,3264,6631,2959,5725,5787,3712,4855,56695,9519,66214,9519,32012,24683,21770,146035,340737,2016981,null,9519,10886,21754,11164,11526,"2021 Census","Economy"]
["Other method of travel to work","Persons age 16+",null,626,693,583,622,552,574,897,506,684,641,539,473,7392,1510,8902,1510,3818,3572,3351,20589,44742,274171,null,1510,1709,2508,1523,1518,"2021 Census","Economy"]
["Distance travelled to work","Table TS058",null,2021,2021,2021,2021,2021,2021,2021,2021,2021,2021,2021,2021,2021,2021,2021,2021,2021,2021,2021,2021,2021,2021,null,2021,6063,8084,4042,6063,"2021 Census","Economy"]
["Total: All usual residents aged 16 years and over in employment","Persons age 16+",null,63615,66162,58823,50926,47814,49762,86409,56385,69200,59189,64428,55899,728620,132606,861226,132606,356906,371706,310391,1985944,4471779,26405214,null,132606,156399,224091,150024,176712,"2021 Census","Economy"]
["Less than 2km","Persons age 16+",null,7209,8881,5077,6324,6157,4899,8336,3639,8371,8201,4803,5948,77848,13333,91181,13333,45143,32702,31680,209215,478840,2898994,null,13333,16133,29563,15545,14390,"2021 Census","Economy"]
["2km to less than 5km","Persons age 16+",null,9105,5781,6882,4147,4587,4749,9418,2946,6864,10407,4826,5323,75035,16797,91832,16797,40891,34144,35292,209676,477571,3335948,null,16797,16218,24922,18523,13095,"2021 Census","Economy"]
["5km to less than 10km","Persons age 16+",null,3845,7221,5740,4550,3275,5286,7898,4496,5859,6272,6659,4058,65162,12668,77830,12668,31022,34137,29553,174355,425138,3099302,null,12668,14301,21318,11743,15213,"2021 Census","Economy"]
["10km to less than 20km","Persons age 16+",null,5100,5817,5828,7953,5644,6081,8894,6575,9022,2742,6854,4068,74579,13080,87659,13080,36278,38300,34011,200854,411605,2750302,null,13080,17553,22156,13994,17497,"2021 Census","Economy"]
["20km to less than 30km","Persons age 16+",null,3927,3654,5010,3701,2947,2681,4094,3556,3807,3210,3207,1984,41778,5844,47622,5844,21246,20532,17342,106477,193432,1051967,null,5844,10638,13512,8021,8747,"2021 Census","Economy"]
["30km to less than 40km","Persons age 16+",null,1822,1238,1190,768,739,2254,1949,1860,1584,709,1725,1211,17054,3682,20736,3682,6860,10189,8710,49768,84076,439294,null,3682,4183,3454,3771,4796,"2021 Census","Economy"]
["40km to less than 60km","Persons age 16+",null,981,1114,450,595,924,684,2739,477,1796,781,2098,1708,14347,5450,19797,5450,6191,8156,8380,45423,71477,336581,null,5450,2058,3414,3720,4283,"2021 Census","Economy"]
["60km and over","Persons age 16+",null,2081,2154,458,1357,1391,535,959,366,1570,1728,513,512,13625,1541,15166,1541,10281,3343,4104,31756,63947,355062,null,1541,2384,6630,3040,1391,"2021 Census","Economy"]
["Works mainly from home","Persons age 16+",null,19120,20109,18217,12291,13770,13037,26842,23775,17587,14408,23812,23633,226597,34466,261063,34466,97285,129316,83307,615980,1603079,8321252,null,34466,45024,60578,45962,71220,"2021 Census","Economy"]
["Works mainly at an offshore installation, in no fixed place, or outside the UK","Persons age 16+",null,10425,10193,9971,9240,8380,9556,15280,8695,12740,10731,9931,7454,122595,25745,148340,25745,61709,60887,58012,342440,662614,3816512,null,25745,27907,38544,25705,26080,"2021 Census","Economy"]
["Hours Worked","Table TS059",null,2021,2021,2021,2021,2021,2021,2021,2021,2021,2021,2021,2021,2021,2021,2021,2021,2021,2021,2021,2021,2021,2021,null,2021,2021,2021,2021,2021,"2021 Census","Economy"]
["People 16 and over in employment",null,null,63615,66164,58823,50926,47819,49761,86409,56384,69203,59190,64426,55899,728618,132606,861224,132606,356917,371702,310393,1985939,4471780,26405215,null,132606,156403,224099,150024,176709,"2021 Census","Economy"]
["Part-time: 15 hours or less worked",null,null,6754,9225,5211,5631,5399,4871,8741,6623,6660,6864,6872,6414,79265,12782,92047,12782,40533,38732,29524,220751,490872,2731450,null,12782,15481,27119,15495,19909,"2021 Census","Economy"]
["Part-time: 16 to 30 hours worked",null,null,11838,13838,9915,10533,9761,9436,15525,10192,12860,13294,11657,10239,139088,24090,163178,24090,72124,66964,56301,381935,829962,5139989,null,24090,29112,47426,27363,32088,"2021 Census","Economy"]
["Full-time: 31 to 48 hours worked",null,null,36702,35357,37138,28511,27110,29262,50706,31037,40567,32623,37086,31163,417262,79932,497194,79932,200870,216392,186899,1139428,2618494,15608863,null,79932,93510,123601,87408,99286,"2021 Census","Economy"]
["Full-time: 49 or more hours worked",null,null,8321,7744,6559,6251,5549,6192,11437,8532,9116,6409,8811,8083,93003,15802,108805,15802,43390,49614,37669,243825,532452,2924913,null,15802,18300,25953,19758,25426,"2021 Census","Economy"]
["Males: Total",null,null,33334,33639,30392,26336,24915,26118,45747,29567,36664,30026,33347,29096,379180,69533,448713,69533,184914,194267,162707,1034372,2331068,13745378,null,69533,81425,114916,79081,92010,"2021 Census","Economy"]
["Males: Part-time: 15 hours or less worked",null,null,2231,3409,1755,1940,2044,1589,2960,2221,2149,2544,2257,2160,27259,4114,31373,4114,14317,12942,9607,74808,172750,978751,null,4114,5388,9937,5191,6638,"2021 Census","Economy"]
["Males: Part-time: 16 to 30 hours worked",null,null,3161,4282,2689,2954,2793,2518,4153,2786,3274,4085,2862,2841,38398,6263,44661,6263,20549,17849,14744,104288,231322,1526075,null,6263,8000,14114,7314,8489,"2021 Census","Economy"]
["Males: Full-time: 31 to 48 hours worked",null,null,21604,20377,21062,16791,15978,17181,29859,18189,24154,18854,21643,18174,243866,46911,290777,46911,117758,126108,109308,671322,1536521,9100532,null,46911,54221,72000,51463,58006,"2021 Census","Economy"]
["Males: Full-time: 49 or more hours worked",null,null,6338,5571,4886,4651,4100,4830,8775,6371,7087,4543,6585,5921,69657,12245,81902,12245,32290,37368,29048,183954,390475,2140020,null,12245,13816,18865,15113,18877,"2021 Census","Economy"]
["Females: Total",null,null,30281,32525,28431,24590,22904,23643,40662,26817,32539,29164,31079,26803,349438,63073,412511,63073,172003,177435,147686,951567,2140712,12659837,null,63073,74978,109183,70943,84699,"2021 Census","Economy"]
["Females: Part-time: 15 hours or less worked",null,null,4523,5816,3456,3691,3355,3282,5781,4402,4511,4320,4615,4254,52006,8668,60674,8668,26216,25790,19917,145943,318122,1752699,null,8668,10093,17182,10304,13271,"2021 Census","Economy"]
["Females: Part-time: 16 to 30 hours worked",null,null,8677,9556,7226,7579,6968,6918,11372,7406,9586,9209,8795,7398,100690,17827,118517,17827,51575,49115,41557,277647,598640,3613914,null,17827,21112,33312,20049,23599,"2021 Census","Economy"]
["Females: Full-time: 31 to 48 hours worked",null,null,15098,14980,16076,11720,11132,12081,20847,12848,16413,13769,15443,12989,173396,33021,206417,33021,83112,90284,77591,468106,1081973,6508331,null,33021,39289,51601,35945,41280,"2021 Census","Economy"]
["Females: Full-time: 49 or more hours worked",null,null,1983,2173,1673,1600,1449,1362,2662,2161,2029,1866,2226,2162,23346,3557,26903,3557,11100,12246,8621,59871,141977,784893,null,3557,4484,7088,4645,6549,"2021 Census","Economy"]
["Qualifications","Table TS067",null,2021,2021,2021,2021,2021,2021,2021,2021,2021,2021,2021,2021,2021,2021,2021,2021,2021,2021,2021,2021,2021,2021,null,2021,2021,2021,2021,2021,"2021 Census","Economy"]
["All categories: Highest level of qualification",null,null,106766,132775,90700,96130,91556,84554,142134,96603,122000,115417,105526,92400,1276566,222758,1499324,222758,664644,611917,520012,3461911,7554580,46006955,null,222758,266810,435878,248900,294529,"2021 Census","Economy"]
["No qualifications",null,null,18829,21555,14717,18706,17756,17186,24786,15087,26824,24990,16324,12454,229214,43158,272372,43158,128660,100554,101885,640562,1162221,8317789,null,43158,49659,83007,43615,43865,"2021 Census","Economy"]
["Highest level of qualification: Level 1 qualifications",null,null,12098,11845,10008,10741,10642,10086,15510,9281,15032,13332,11163,7996,137736,26898,164634,26898,73690,64044,62024,390702,739122,4456198,null,26898,30736,46560,27608,28440,"2021 Census","Economy"]
["Highest level of qualification: Level 2 qualifications",null,null,16412,16598,13850,14905,13599,12846,21706,14060,18975,16646,16681,13396,189679,35426,225105,35426,97135,92539,81097,530639,1046800,6126130,null,35426,40295,61748,38118,44137,"2021 Census","Economy"]
["Highest level of qualification: Apprenticeship",null,null,5952,6456,5055,5682,5791,4954,8547,4641,7665,7147,5851,3874,71615,13625,85240,13625,38693,32922,31299,194137,386759,2446935,null,13625,15800,25076,14499,14366,"2021 Census","Economy"]
["Highest level of qualification: Level 3 qualifications",null,null,18232,28827,15187,17218,15793,13962,24906,15101,21027,19294,18458,14385,222389,40009,262398,40009,120391,101999,90185,600849,1313552,7784977,null,40009,44942,81132,43138,47944,"2021 Census","Economy"]
["Highest level of qualification: Level 4 qualifications and above",null,null,32148,43896,29362,25951,25068,22572,42531,36073,28911,30376,34332,38010,389229,57001,446230,57001,186350,202880,137846,1005728,2702048,15606458,null,57001,77002,125291,74679,108415,"2021 Census","Economy"]
["Highest level of qualification: Other qualifications",null,null,3095,3598,2521,2927,2907,2948,4148,2360,3566,3632,2717,2285,36704,6641,43345,6641,19725,16979,15676,99294,204078,1268468,null,6641,8376,13064,7243,7362,"2021 Census","Economy"]

{"sheet":"Data","index":11,"n_rows":1224,"n_cols":34,"rows_kept":1224,"cut":false,"hidden":true,"merged":[]}
["Link to date",null,null,null,null,null,null,null,null,null,null,"KEY:",null,null,null,null,null,51,65]
["District Data table",null,null,null,null,null,null,null,null,null,null,"Data - pre calculated/rounded"]
[null,null,null,null,null,null,null,null,null,null,null,"Dependent Cell"]
[null,null,null,null,null,null,null,null,null,null,null,"Calculation"]
[]
[null,null,null,"Variable number","Ashford Borough","Canterbury City","Dartford Borough","Dover District","Folkestone & Hythe District","Gravesham Borough","Maidstone Borough","Sevenoaks District","Swale Borough","Thanet District","Tonbridge & Malling District","Tunbridge Wells Borough","KCC Area","Medway","Kent & Medway","Medway PCT","Eastern & Coastal PCT","West Kent PCT","Thames Gateway","South East Local Enterprise Partnership","South East","England & Wales",null,"NUTS315  UKJ41 Medway","NUTS315  UKJ43 Kent Thames gateway","NUTS315  UKJ44 East Kent","NUTS315  UKJ45 Mid Kent","NUTS315  UKJ46 West Kent"]
["Population","Population","Year",null,"Mid 2023","Mid 2023","Mid 2023","Mid 2023","Mid 2023","Mid 2023","Mid 2023","Mid 2023","Mid 2023","Mid 2023","Mid 2023","Mid 2023","Mid 2023","Mid 2023","Mid 2023","Mid 2023","Mid 2023","Mid 2023","Mid 2023","Mid 2023","Mid 2023","Mid 2023",null,"Mid 2023","Mid 2023","Mid 2023","Mid 2023","Mid 2023"]
[null,"Total","All Ages",null,138300,159900,120700,118600,111000,107700,184200,121300,155900,140400,135200,117000,1610300,286800,1897100,286800,824100,786100,671100,4349100,9482500,60854700,null,286800,384300,530000,322500,373500]
[null,null,null,null,7600,7000,8400,5600,5000,6800,10900,6500,8900,7200,7400,6100,87500,17400,104900,17400,41400,46000,41400,235200,495000,3214800,null,17400,24000,24900,18500,20100]
[null,null,null,null,8700,7900,8700,6500,5600,7300,11600,7500,9900,7800,8700,7200,97400,19100,116500,19100,46300,51100,45100,260200,554600,3522300,null,19100,25900,27800,20300,23400]
[null,null,null,null,9100,8900,8800,7200,6300,7600,11600,8100,10100,8400,9200,8400,103500,19300,122800,19300,50000,53600,45800,272400,594000,3715800,null,19300,26500,30800,20600,25600]
[null,null,null,null,7900,12100,7000,6300,5800,6500,9700,7300,8800,7600,8000,7100,93800,17200,111000,17200,48400,45400,39400,247100,557900,3589800,null,17200,22200,31800,17500,22300]
[null,null,null,null,6100,14700,5200,4800,4800,5300,8200,4500,7400,5900,5800,4400,77100,15100,92200,15100,43800,33300,33000,207200,505000,3647300,null,15100,17900,30200,14300,14600]
[null,null,null,null,8000,8700,7600,6300,5700,6400,11300,5500,9300,7200,7000,5800,88700,18400,107100,18400,45200,43600,41600,244000,543000,3968400,null,18400,23300,27800,19400,18300]
[null,null,null,null,9400,8800,9900,7200,6400,7300,13000,6600,10700,8600,8600,6600,102900,20900,123800,20900,50900,52000,48800,280000,612500,4215100,null,20900,27900,30900,22400,21800]
[null,null,null,null,9300,9100,10300,7100,6400,7700,13200,7400,10600,8800,8900,7500,106400,20900,127300,20900,51300,55100,49500,287300,637200,4149600,null,20900,28600,31400,22600,23800]
[null,null,null,null,8700,9000,9600,6700,6600,7500,12700,8000,10300,8500,9100,8100,104800,20000,124900,20000,49900,54900,47300,281400,639000,3971600,null,20000,27300,30900,21400,25200]
[null,null,null,null,8300,8500,8200,6300,6200,6500,11400,7900,9000,8000,8900,8000,97300,17600,114900,17600,46400,50900,41300,260800,594700,3606800,null,17600,23700,29000,19800,24800]
[null,null,null,null,9500,9900,7500,7800,7600,7200,12700,8400,10400,9300,9700,8800,108900,18300,127200,18300,54500,54400,43400,293300,644400,4018400,null,18300,25100,34600,22200,27000]
[null,null,null,null,10000,10200,7300,9000,8400,6900,12500,8900,11000,9900,9600,8600,112300,18500,130900,18500,58500,53800,43800,303800,651900,4087600,null,18500,25300,37500,22400,27100]
[null,null,null,null,8500,9700,5800,8700,8100,6200,10600,7800,9700,9400,8100,7000,99600,16600,116300,16600,54000,45700,38400,272300,579200,3681900,null,16600,21700,35900,19100,23000]
[null,null,null,null,6800,8900,4500,7800,7000,5000,8900,6400,8100,8600,6700,5800,84300,13300,97600,13300,47100,37200,30900,229900,481200,3065200,null,13300,17500,32200,15700,18900]
[null,null,null,null,6500,8400,3800,7000,6900,4200,8200,6200,7200,8200,6000,5400,78100,11700,89800,11700,44300,33800,26900,213500,439200,2758900,null,11700,15300,30500,14700,17600]
[null,null,null,null,6500,8200,3600,6800,6900,4200,8200,6300,7000,7900,6000,5200,76700,10700,87400,10700,43300,33400,25500,210700,423400,2538500,null,10700,14800,29800,14600,17500]
[null,null,null,null,3900,5000,2200,4000,3900,2600,4900,3800,4100,4700,3800,3400,46200,6200,52400,6200,25600,20700,15100,126000,262500,1570100,null,6200,8900,17600,8800,10900]
[null,null,null,null,2200,3000,1500,2300,2300,1600,3100,2600,2300,2800,2400,2200,28300,3600,31900,3600,14800,13400,9100,78700,167300,980900,null,3600,5400,10300,5300,7200]
[null,null,null,null,1200,1900,800,1300,1300,900,1700,1700,1200,1600,1200,1500,16200,1900,18100,1900,8500,7700,4800,45500,100500,551800,null,1900,2900,6100,2900,4300]
[null,"Broad age bands","0-15",null,27200,25700,27500,20700,18200,23100,36200,23900,30800,25200,27100,23400,309000,59600,368500,59600,147800,161100,141000,822000,1762100,11196900,null,59600,81400,89800,63500,74300]
[null,null,null,null,83900,98800,76800,68800,64400,66100,113100,70500,95200,81600,82000,70200,971500,179700,1151200,179700,492700,478800,417900,2623000,5846300,38192500,null,179700,238200,313600,197000,222700]
[null,null,null,null,27100,35500,16400,29100,28300,18500,34900,26900,29900,33700,26100,23400,329800,47500,377300,47500,183600,146200,112300,904100,1874100,11465300,null,47500,64800,126600,62000,76400]
[null,null,null,null,35600,45200,22200,37800,36400,24800,45500,34700,39500,43100,34200,30500,429400,64100,493500,64100,237500,191900,150600,1176400,2453300,15147200,null,64100,86500,162400,81100,99400]
["Population","Population","Year",null,"Mid 2023","Mid 2023","Mid 2023","Mid 2023","Mid 2023","Mid 2023","Mid 2023","Mid 2023","Mid 2023","Mid 2023","Mid 2023","Mid 2023","Mid 2023","Mid 2023","Mid 2023","Mid 2023","Mid 2023","Mid 2023","Mid 2023","Mid 2023","Mid 2023","Mid 2023",null,"Mid 2023","Mid 2023","Mid 2023","Mid 2023","Mid 2023"]
[null,"Total","All Ages",null,1,1,1,1,1,1,1,1,1,1,1,1,1,1,1,1,1,1,1,1,1,1,null,1,1,1,1,1]
[null,"Percentage","0-4",null,5.5133313567105137E-2,4.3610376456023857E-2,6.9304633841208302E-2,4.7575279742982181E-2,4.5146177755754767E-2,6.2698979923331816E-2,5.8907523332265579E-2,5.3850340584849332E-2,5.7173830768539963E-2,5.1616716154344593E-2,5.4768279514222744E-2,5.2503845496496324E-2,5.4316376763622568E-2,6.0725244072524408E-2,5.528528226178421E-2,6.0725244072524408E-2,5.0251170917562551E-2,5.8578241495157807E-2,6.1760108712333991E-2,5.4085591929411085E-2,5.2198432334402703E-2,5.2827991488648036E-2,null,6.0725244072524408E-2,6.2532361596444708E-2,4.6940924289197002E-2,5.7289050144199459E-2,5.3760763398020821E-2]
[null,null,null,null,6.2986773500719545E-2,4.9106221747041059E-2,7.2419821208129315E-2,5.4531962796502263E-2,5.0759043200144148E-2,6.8156714963290232E-2,6.3174925483340305E-2,6.2047467467137275E-2,6.3197192946444034E-2,5.5554368800689265E-2,6.4272295608183067E-2,6.127157750811827E-2,6.0501747864152855E-2,6.6673640167364018E-2,6.1434827002542367E-2,6.6673640167364018E-2,5.6202829616327325E-2,6.5008631096626301E-2,6.7137614378159793E-2,5.9824907308941452E-2,5.8484322764011672E-2,5.7880400975260309E-2,null,6.6673640167364018E-2,6.748384847357343E-2,5.2375255677744148E-2,6.3094241324774397E-2,6.2609775949963586E-2]
[null,null,null,null,6.5604593478591003E-2,5.5883805700923474E-2,7.2817504701778807E-2,6.0400873590744662E-2,5.6498040452272622E-2,7.0625690338509517E-2,6.2794876945712785E-2,6.6756279790866055E-2,6.4865003560134193E-2,5.9919253198897744E-2,6.7741076579441742E-2,7.1380960519569298E-2,6.4301776555332063E-2,6.7210599721059971E-2,6.4741538313940958E-2,6.7210599721059971E-2,6.06341155628898E-2,6.8146864755740597E-2,6.8222353675671893E-2,6.2626620297186214E-2,6.2641556710688426E-2,6.1060761968417011E-2,null,6.7210599721059971E-2,6.8977360542660071E-2,5.8092625159444793E-2,6.3999751914906811E-2,6.8561774407745357E-2]
[null,null,null,null,5.6839958635551732E-2,7.5497533434621955E-2,5.7697246870313752E-2,5.2828629491276743E-2,5.2317671967205728E-2,6.007221288879401E-2,5.2392405544365236E-2,5.9911596378090418E-2,5.6224461649977867E-2,5.4336758307877445E-2,5.9124595062349301E-2,6.0562297043240475E-2,5.8273523817094351E-2,5.9909344490934449E-2,5.8520830489006359E-2,5.9909344490934449E-2,5.8731526197005363E-2,5.7793365059132872E-2,5.868171394769113E-2,5.6825223464489982E-2,5.8835601175933748E-2,5.8990421565772534E-2,null,5.9909344490934449E-2,5.7765612274899888E-2,5.9962563494878898E-2,5.4299624771296552E-2,5.9830570192348886E-2]
[null,null,null,null,4.4264298576108418E-2,9.2035088377443897E-2,4.3397211244500786E-2,4.0711352463509036E-2,4.281273931258165E-2,4.8748340867111578E-2,4.4389669194894323E-2,3.7183948805066716E-2,4.7725042176364557E-2,4.1939916974629551E-2,4.2727393754715029E-2,3.7275679371047685E-2,4.7858998379755706E-2,5.2705718270571827E-2,4.8591735277543936E-2,5.2705718270571827E-2,5.3086854175261482E-2,4.2378239205404837E-2,4.9239415969210089E-2,4.7647745236110713E-2,5.3258805925479415E-2,5.9934473126467235E-2,null,5.2705718270571827E-2,4.6652737628438135E-2,5.696613354869387E-2,4.4335907216175148E-2,3.9219466221136957E-2]
[null,null,null,null,5.8091016249285886E-2,5.4145643026403817E-2,6.2709715904854219E-2,5.3140626185798248E-2,5.0957250326591291E-2,5.9153308519821417E-2,6.1459277799193211E-2,4.5100691065626496E-2,5.9758937219759709E-2,5.1381738690819502E-2,5.1743265831398016E-2,4.9888907878995047E-2,5.5114388998982147E-2,6.4103905160390509E-2,5.647344220055233E-2,6.4103905160390509E-2,5.4824423034921251E-2,5.5418382391290801E-2,6.204917385480288E-2,5.6093352111056823E-2,5.7259857546110959E-2,6.5210431393439655E-2,null,6.4103905160390509E-2,6.0515860109437485E-2,5.2520548565562944E-2,6.001488510559122E-2,4.9005590541061558E-2]
[null,null,null,null,6.7759594454849831E-2,5.4895929072959065E-2,8.1955939982932755E-2,6.0316550159792905E-2,5.7462047839992793E-2,6.8156714963290232E-2,7.0482715935435189E-2,5.4402863221784233E-2,6.8540601566459039E-2,6.1108381574918651E-2,6.3621436918479948E-2,5.6135703298581439E-2,6.3923574647679157E-2,7.2758019525801951E-2,6.5259183859579947E-2,7.2758019525801951E-2,6.1819593758342027E-2,6.6129337968811014E-2,7.2693923224894166E-2,6.4369729543298934E-2,6.4595364917737472E-2,6.9265153387344916E-2,null,7.2758019525801951E-2,7.2646092280311922E-2,5.8292638745273261E-2,6.9314975036437493E-2,5.8282997044081734E-2]
[null,null,null,null,6.7571574235444701E-2,5.6834168026560127E-2,8.5245113878325424E-2,6.0080444553127978E-2,5.7426010180638767E-2,7.1888023613057725E-2,7.1720588315136252E-2,6.1189820388909966E-2,6.7745184196852964E-2,6.2881393345153413E-2,6.5803292753280174E-2,6.4347974705178598E-2,6.6086591469280254E-2,7.2963737796373773E-2,6.7126292334786994E-2,7.2963737796373773E-2,6.2277040308685416E-2,7.008043393363024E-2,7.3787602681451708E-2,6.6061334176414799E-2,6.7196681215210288E-2,6.8187833625479907E-2,null,7.2963737796373773E-2,7.4402400027060153E-2,5.9287045912552551E-2,6.9941389896734582E-2,6.3849440945893843E-2]
[null,null,null,null,6.3182025267024863E-2,5.6346482096299215E-2,7.9321286837504862E-2,5.6893018863151505E-2,5.938105320059462E-2,6.9187001680017082E-2,6.8913658401515851E-2,6.5610001484389169E-2,6.6083788239369307E-2,6.0674029293857117E-2,6.7474816206381377E-2,6.9552213296872334E-2,6.5113451256977956E-2,6.9748953974895403E-2,6.5814255916156181E-2,6.9748953974895403E-2,6.0560099012303734E-2,6.9887077015841279E-2,7.0528914709392682E-2,6.4702440146006387E-2,6.7388086294057042E-2,6.5264034460297549E-2,null,6.9748953974895403E-2,7.1110949212783839E-2,5.8251126491610752E-2,6.6455794337457755E-2,6.7520241614188403E-2]
[null,null,null,null,6.0318332694546693E-2,5.3045223491456114E-2,6.8053587850769273E-2,5.3503216938890812E-2,5.5822334339384654E-2,6.0202158961173972E-2,6.1975057957401991E-2,6.5271890617011094E-2,5.7738320514712012E-2,5.7135126282585325E-2,6.6076949247814445E-2,6.8133652367116729E-2,6.0442750850643781E-2,6.1230822873082284E-2,6.0561893169978037E-2,6.1230822873082284E-2,5.6290193413740384E-2,6.4796192904055527E-2,6.1481473755418112E-2,5.9975052453079644E-2,6.2712107673635248E-2,5.926901947978503E-2,null,6.1230822873082284E-2,6.1668518378784842E-2,5.4813157120106273E-2,6.1264613762520542E-2,6.6459966585271812E-2]
[null,null,null,null,6.8764779473977272E-2,6.2179956108266279E-2,6.2444593575754562E-2,6.5645790995944045E-2,6.8030091445560617E-2,6.6801563065613481E-2,6.915254605373887E-2,6.9411687090762147E-2,6.6776571109671376E-2,6.6057149367340987E-2,7.2089996006094406E-2,7.5081182703811311E-2,6.7627966074854162E-2,6.3730822873082293E-2,6.7038788097947818E-2,6.3730822873082293E-2,6.6101633217657191E-2,6.9228136993376252E-2,6.4699931011772696E-2,6.744253154370132E-2,6.7956290462005464E-2,6.6032372472889414E-2,null,6.3730822873082293E-2,6.5423114050722167E-2,6.520820282132371E-2,6.898626228796477E-2,7.2157606134601385E-2]
[null,null,null,null,7.2134680329469278E-2,6.4043166457211809E-2,6.0621877563194392E-2,7.5933249572058589E-2,7.5327717464750671E-2,6.4276896516517079E-2,6.765949822734503E-2,7.3287592155827877E-2,7.0734413989082257E-2,7.0471877469933566E-2,7.13651761016523E-2,7.346607417535464E-2,6.9768626133441314E-2,6.4640864714086477E-2,6.899340080999404E-2,6.4640864714086477E-2,7.0992792486713419E-2,6.8485239361871286E-2,6.5275081243695326E-2,6.9854051102233208E-2,6.8752177035039358E-2,6.7169358922602673E-2,null,6.4640864714086477E-2,6.5748356226045912E-2,7.0770844812100442E-2,6.9578565447948645E-2,7.2647581716146173E-2]
[null,null,null,null,6.115719213496959E-2,6.0654374480270605E-2,4.8384825060688155E-2,7.3099982292079493E-2,7.2751024820937885E-2,5.7928102694524627E-2,5.7582782715392508E-2,6.4430736751826617E-2,6.1952749642382919E-2,6.7061143984220903E-2,6.0093486975430085E-2,6.0083746368142198E-2,6.1874825725927202E-2,5.7946304044630408E-2,6.1280903887138513E-2,5.7946304044630408E-2,6.5496153566141677E-2,5.8078312095874503E-2,5.7154436777430269E-2,6.2606846204696351E-2,6.1080260736954897E-2,6.0502941702458055E-2,null,5.7946304044630408E-2,5.6563517194903323E-2,6.7670634231759133E-2,5.9115576642788478E-2,6.1498629139356553E-2]
[null,null,null,null,4.9434854609749571E-2,5.5539924596252323E-2,3.6951424618265269E-2,6.5418117732374298E-2,6.2975809721158613E-2,4.639074783964655E-2,4.8141291187760268E-2,5.2836007982715115E-2,5.1708543680601439E-2,6.1058537870534536E-2,4.9369110838276407E-2,4.9401811656127156E-2,5.2346497533614325E-2,4.6530683403068339E-2,5.146725101222898E-2,4.6530683403068339E-2,5.715412429926954E-2,4.73062964390525E-2,4.5988178129688924E-2,5.2851550599258473E-2,5.0750503005165197E-2,5.0369135663035677E-2,null,4.6530683403068339E-2,4.558334135597366E-2,6.0770165520676878E-2,4.8696002728936025E-2,5.0504969369832495E-2]
[null,null,null,null,4.7019517945083633E-2,5.2776370991440488E-2,3.1168443814778912E-2,5.9203480871229688E-2,6.2173971800531552E-2,3.9429351105005707E-2,4.4731712878759086E-2,5.0931041876267916E-2,4.6442110935064437E-2,5.8181844074651629E-2,4.4591216366137595E-2,4.6051956930439245E-2,4.8513554719109009E-2,4.0732217573221756E-2,4.7337156460211138E-2,4.0732217573221756E-2,5.3723881864731718E-2,4.3051172162709844E-2,4.0129393901917512E-2,4.9091253987871127E-2,4.6317919934042759E-2,4.533547574701962E-2,null,4.0732217573221756E-2,3.9679545389497022E-2,5.7615234242325897E-2,4.5712779483362796E-2,4.7107269845349783E-2]
[null,null,null,null,4.6889350100880078E-2,5.1307060816936458E-2,2.9660560568024592E-2,5.7120692126721252E-2,6.1984774088922924E-2,3.8696083982290207E-2,4.4319088752192065E-2,5.156603057841698E-2,4.5204082287209818E-2,5.6287783308055457E-2,4.4694762066772184E-2,4.4368484019825669E-2,4.762984155886256E-2,3.727336122733612E-2,4.6064127954388155E-2,3.727336122733612E-2,5.2534763511053947E-2,4.2487638514153853E-2,3.7974815571969023E-2,4.8436409622625243E-2,4.46474756095619E-2,4.1714310870213912E-2,null,3.727336122733612E-2,3.8498265808721177E-2,5.6164192284758968E-2,4.5421279498868108E-2,4.6823458852760999E-2]
[null,null,null,null,2.8101791254167178E-2,3.1393218664615884E-2,1.8392861581288993E-2,3.3375213970706037E-2,3.5280868507590435E-2,2.4392734158181498E-2,2.6483953807814885E-2,3.106496676617572E-2,2.6075577479424992E-2,3.3544813050505912E-2,2.7964735292812449E-2,2.8858314817979833E-2,2.8696147370813618E-2,2.1656206415620643E-2,2.7631834884776423E-2,2.1656206415620643E-2,3.1010507923411069E-2,2.6269827034604527E-2,2.253516090051242E-2,2.8966516253269337E-2,2.7678650804054246E-2,2.5800181471523156E-2,null,2.1656206415620643E-2,2.3191068069284389E-2,3.3221124453736484E-2,2.7177721958631811E-2,2.9251274472004454E-2]
[null,null,null,null,1.6119118040540052E-2,1.8782160698766405E-2,1.2643021068940091E-2,1.9225742257000952E-2,2.0766701202756879E-2,1.5287227229271281E-2,1.6608121094322619E-2,2.1474163381768403E-2,1.445863508945238E-2,1.9581455293757433E-2,1.7676730322618819E-2,1.8996752691847547E-2,1.7556890199105606E-2,1.2688284518828452E-2,1.6820844563483005E-2,1.2688284518828452E-2,1.7984808406338728E-2,1.7108270969366922E-2,1.3508580317643851E-2,1.8087776276837296E-2,1.7642591774517012E-2,1.611889574330027E-2,null,1.2688284518828452E-2,1.412071428385576E-2,1.9508872300760052E-2,1.6398424659658264E-2,1.932324465578546E-2]
[null,null,null,null,8.6272354519355242E-3,1.1923295756507168E-2,6.8103298287475458E-3,1.0995775396109317E-2,1.2126672372629398E-2,7.9081466905519919E-3,9.1103063734139754E-3,1.3672873612508452E-2,7.594952948496725E-3,1.1207712957226982E-2,8.8013845539399137E-3,1.2638865151256196E-2,1.0052470080751386E-2,6.7712691771269181E-3,9.5564115039606205E-3,6.7712691771269181E-3,1.0323488727643361E-2,9.7683406032990257E-3,7.1521272363435345E-3,1.0451067743511625E-2,1.0603314081392189E-2,9.0668059360450338E-3,null,6.7712691771269181E-3,7.4363370966021303E-3,1.1568710327493943E-2,8.9031537817471397E-3,1.1585378914449728E-2]
[null,"Broad age bands","0-15",null,0.19689332745167518,0.16041115675351228,0.2276986553326871,0.17465912253037752,0.16427767016532277,0.2144574287385021,0.19669140601671128,0.19668981214230344,0.19764197237849038,0.17945869737038855,0.20033874236350457,0.19988036233122544,0.19188809694886078,0.207639470013947,0.19426942132815617,0.207639470013947,0.17939185089911908,0.20498886289595236,0.21001923624221275,0.18899732704854424,0.18582533079068647,0.18399334861858802,null,0.207639470013947,0.21179510263342086,0.16945679329161981,0.19677799485223432,0.19901040997301117]
[null,null,null,null,0.60691480514596874,0.617866811721969,0.63667470318726749,0.58000185511548097,0.58041353214108748,0.61343828025655067,0.61391411988902578,0.58176510365984402,0.61087412520125983,0.58067915607487952,0.60656331819593801,0.59980345240129895,0.60331650158888273,0.62670850767085073,0.60685295229279546,0.62670850767085073,0.59787657436843256,0.60901959138086093,0.62269250769971196,0.60311809846808262,0.61653421400058017,0.62760184595027435,null,0.62670850767085073,0.619695625362645,0.59169490757862797,0.61091264303656156,0.59639399391680592]
[null,null,null,null,0.19619186740235603,0.22172203152451872,0.13562664148004541,0.24533902235414154,0.25530879769358983,0.17210429100494723,0.18939447409426288,0.22154508419785257,0.19148390242024979,0.23986214655473195,0.19309793944055736,0.20031618526747563,0.2047954014622565,0.16565202231520224,0.19887762637904832,0.16565202231520224,0.22273157473244837,0.18599154572318669,0.16728825605807526,0.20788457448337308,0.1976404552087333,0.18840480543113766,null,0.16565202231520224,0.16850927200393412,0.23884829912975222,0.19230936211120414,0.20459559611018294]
[null,null,null,null,0.25734905953732562,0.2823764060047893,0.18401146654073355,0.31843900464622105,0.3280598225145277,0.23003239369947187,0.2469772568096554,0.28597582094967922,0.25343665206263272,0.30692329053895284,0.25319142641598746,0.26039993163561787,0.26667022718818373,0.22359832635983265,0.26015853026618685,0.22359832635983265,0.28822772829859006,0.24406985781906118,0.22444269283550555,0.27049142068806942,0.25872071594568818,0.24890774713359573,null,0.22359832635983265,0.22507278919883744,0.30651893336151137,0.25142493875399263,0.26609422524953946]
["Population","Population","Year",null,"Mid 2023","Mid 2023","Mid 2023","Mid 2023","Mid 2023","Mid 2023","Mid 2023","Mid 2023","Mid 2023","Mid 2023","Mid 2023","Mid 2023","Mid 2023","Mid 2023","Mid 2023","Mid 2023","Mid 2023","Mid 2023","Mid 2023","Mid 2023","Mid 2023","Mid 2023",null,"Mid 2023","Mid 2023","Mid 2023","Mid 2023","Mid 2023"]
[null,"Males","All Ages",null,67300,77100,58900,57700,54100,52500,90800,58300,77200,67600,65600,57000,784100,140300,924400,140300,401000,383100,328900,2115500,4638800,29836000,null,140300,188600,256400,158100,181000]
[null,null,null,null,3900,3600,4400,2900,2600,3400,5700,3400,4500,3800,3800,3200,45200,8900,54100,8900,21300,23900,21200,120900,253500,1645900,null,8900,12300,12900,9600,10400]
[null,null,null,null,4500,4100,4500,3300,2800,3700,6000,3800,5100,4000,4400,3700,49900,9700,59600,9700,23800,26100,23000,133100,283900,1801700,null,9700,13300,14300,10400,11900]
[null,null,null,null,4600,4600,4600,3700,3300,3900,6000,4100,5200,4400,4700,4200,53300,9800,63100,9800,25800,27500,23500,139800,305000,1902900,null,9800,13600,15900,10600,13100]
[null,null,null,null,4000,6100,3600,3200,3200,3300,5000,3700,4600,4100,4200,3600,48500,8800,57300,8800,25100,23400,20300,128000,287600,1848400,null,8800,11500,16500,9000,11500]
[null,null,null,null,3200,7400,2600,2500,2500,2800,4300,2300,3800,3000,2900,2300,39600,7800,47400,7800,22400,17100,17000,106900,260600,1863400,null,7800,9200,15400,7500,7400]
[null,null,null,null,3900,4100,3300,3100,2800,3100,5500,2600,4700,3400,3400,2900,42800,8900,51800,8900,22000,20900,20100,119000,269900,1967400,null,8900,11200,13400,9300,8900]
[null,null,null,null,4400,4300,4500,3300,3000,3400,6300,3000,5200,4000,4000,3200,48600,9800,58400,9800,24200,24400,22900,132400,293800,2046700,null,9800,13200,14500,10700,10200]
[null,null,null,null,4400,4300,4700,3600,3100,3600,6400,3400,5100,4100,4100,3600,50600,10100,60600,10100,24700,25900,23600,136600,306700,2003800,null,10100,13500,15100,10800,11200]
[null,null,null,null,4200,4300,4700,3300,3200,3500,6300,3800,5100,4000,4300,3900,50500,9700,60200,9700,24100,26500,23100,135700,310400,1932400,null,9700,13400,14700,10500,12000]
[null,null,null,null,4000,4100,4200,3100,3000,3200,5700,3800,4400,3900,4400,3900,47500,8600,56100,8600,22400,25100,20400,127100,292200,1774000,null,8600,11800,14000,9700,12100]
[null,null,null,null,4600,4700,3800,3700,3600,3500,6300,4100,5100,4400,4800,4200,52900,9200,62000,9200,26100,26700,21600,143300,316400,1973900,null,9200,12400,16400,10900,13100]
[null,null,null,null,4900,5000,3600,4400,4100,3500,6200,4300,5500,4700,4700,4200,55100,9300,64300,9300,28500,26600,21800,148400,320100,2004000,null,9300,12600,18200,11100,13200]
[null,null,null,null,4200,4600,2900,4200,4000,3100,5300,3800,4800,4600,4000,3500,48900,8000,57000,8000,26300,22600,18900,133400,284500,1805500,null,8000,10800,17300,9500,11400]
[null,null,null,null,3200,4200,2200,3700,3300,2400,4300,3100,4000,4100,3200,2800,40600,6500,47100,6500,22600,18000,15200,110500,233300,1489100,null,6500,8600,15400,7500,9100]
[null,null,null,null,3100,4000,1800,3400,3200,2000,3900,2900,3500,3800,2900,2500,36900,5500,42400,5500,21000,15900,12800,100500,206900,1313900,null,5500,7300,14500,6900,8200]
[null,null,null,null,3000,3700,1600,3200,3400,1900,3900,3000,3300,3600,2700,2400,35700,4900,40700,4900,20200,15500,11800,97500,196300,1183500,null,4900,6800,13900,6900,8100]
[null,null,null,null,1800,2200,900,1800,1800,1200,2200,1700,1800,2100,1600,1500,20600,2700,23300,2700,11500,9100,6700,55600,115800,695200,null,2700,4000,7900,3900,4800]
[null,null,null,null,1000,1200,600,900,1000,600,1300,1000,900,1100,1000,900,11600,1400,13000,1400,6100,5500,3600,32000,68600,400600,null,1400,2200,4200,2200,2900]
[null,null,null,null,400,600,300,500,400,300,500,600,400,500,400,500,5300,600,5900,600,2700,2600,1600,14800,33400,183500,null,600,1000,2000,900,1500]
[null,"Broad age bands","0-15",null,13900,13200,14200,10600,9300,11700,18700,12200,15800,13100,14000,11900,158800,30300,189100,30300,76100,82700,72100,421500,903000,5731600,null,30300,41700,46300,32700,38000]
[null,null,null,null,40900,47900,37200,33500,31700,32300,56100,33900,47400,39200,39800,34500,474600,88300,562800,88300,240700,233900,205300,1283100,2881600,18838500,null,88300,117000,152300,97100,108200]
[null,null,null,null,12400,16000,7400,13500,13100,8400,16000,12200,14000,15200,11900,10600,150700,21800,172400,21800,84200,66500,51600,410900,854300,5265900,null,21800,29800,57800,28400,34700]
[null,null,null,null,16700,20500,10300,17700,17000,11500,21200,16000,18800,19800,15900,14100,199600,29800,229400,29800,110500,89100,70400,544400,1138800,7071400,null,29800,40600,75100,37900,46000]
["Population","Population","Year",null,"Mid 2023","Mid 2023","Mid 2023","Mid 2023","Mid 2023","Mid 2023","Mid 2023","Mid 2023","Mid 2023","Mid 2023","Mid 2023","Mid 2023","Mid 2023","Mid 2023","Mid 2023","Mid 2023","Mid 2023","Mid 2023","Mid 2023","Mid 2023","Mid 2023","Mid 2023",null,"Mid 2023","Mid 2023","Mid 2023","Mid 2023","Mid 2023"]
[null,"Males","All Ages",null,0.48672649566468762,0.48183995148150233,0.48776709003388596,0.48656306127783727,0.48740934276318754,0.48692649693234452,0.49309668977723725,0.48075242037901406,0.49535899623459678,0.48102734995264845,0.48537786784610149,0.48732695265766535,0.48691539393547961,0.48930962343096235,0.48727735838414465,0.48930962343096235,0.486508360230058,0.48734211835224289,0.49005481807521356,0.48641508349380624,0.48919963887187218,0.49028224216666028,null,0.48930962343096235,0.4906109088827541,0.48384795948404041,0.49036499519335131,0.48448678404660928]
[null,"Percentage of total population in age ","0-4",null,0.51442812172088148,0.51326164874551972,0.52492528392109983,0.51382488479262678,0.51067651167431649,0.50214655810510733,0.52543778801843322,0.51592649310872896,0.51004151239762141,0.52779693750862189,0.51546252532072923,0.51904296875,0.5166870562409247,0.50901469912723929,0.5154129997425605,0.50901469912723929,0.51509151494663641,0.51812200047775192,0.51132717315254894,0.51398873419066848,0.51222291361935623,0.51197371683070314,null,0.50901469912723929,0.51300295427121045,0.51710415242995533,0.52089422972826671,0.51670899945216398]
[null,"group","5-9",null,0.51389207807118253,0.52355487649605292,0.51023910307745113,0.51368486160507187,0.50283990060347883,0.51028190113032823,0.51271914747335856,0.50239234449760761,0.51461632155907433,0.51448346577800563,0.51012658227848107,0.5125523012552301,0.51207620377118335,0.50883798765819477,0.51154489682097048,0.50883798765819477,0.51441093287851636,0.50996008140262994,0.51060854898131303,0.51162629810981375,0.51183602667253303,0.51152628853452409,null,0.50883798765819477,0.51191394201110429,0.51450084663328166,0.51322127199449519,0.50838179952104001]
[null,null,"10-14",null,0.51245590828924159,0.5129782949205639,0.51826146319262711,0.51793941086137096,0.51953436453516189,0.50768826389801547,0.51634099948123813,0.51130327362569483,0.51532832278481011,0.5220439691027926,0.51752374713396654,0.50712318927331501,0.51487319155511768,0.50980493878398003,0.51407774104772919,0.50980493878398003,0.5164195233235277,0.51343077411285953,0.51229633512427375,0.5131566870188089,0.51338975318140267,0.51210925347620295,null,0.50980493878398003,0.51410788381742734,0.51794588625069027,0.51463320089155928,0.5121646424805717]
[null,null,"15-19",null,0.50458015267175571,0.50724637681159424,0.51507754164273412,0.50949720670391063,0.54365421043568107,0.51297898640296657,0.52031088082901555,0.50557467309015824,0.52549914432401601,0.53243349495478964,0.52501876407305481,0.50867786087201916,0.51699259338200032,0.51105808404143871,0.51607411477521459,0.51105808404143871,0.51874883788194948,0.51512150026413106,0.51529847903917936,0.51786841466375333,0.51557512067380162,0.51488782527161336,null,0.51105808404143871,0.51858024413314718,0.52039146579394546,0.51324957167332952,0.51351472299292933]
[null,null,"20-24",null,0.52311713772259438,0.50183423913043479,0.50229095074455898,0.51781275890637946,0.52251683501683499,0.531035795887281,0.52568493150684936,0.50521179862497223,0.51330645161290323,0.51578947368421058,0.49645144538687902,0.52154974782209995,0.51343670927139429,0.51548028578989147,0.51377181848754083,0.51548028578989147,0.51265113940252793,0.51446839166716696,0.51537251104520976,0.51581847837626549,0.51596845317181061,0.51088971117233151,null,0.51548028578989147,0.51528165086447297,0.51036767141437567,0.5245855773938588,0.50662206444565816]
[null,null,"25-29",null,0.47939748537283705,0.47528868360277138,0.44233055885850181,0.49254205014281183,0.50106082036775101,0.49270359328416757,0.4835689045936396,0.47558968732857926,0.50203950193215974,0.46978935698447893,0.49028016009148084,0.49400479616306953,0.48281651417496735,0.48642915420179494,0.48343647615580632,0.48642915420179494,0.4862890910298121,0.47921496614254561,0.48286626804024685,0.48770070135310734,0.49709650862759613,0.49578276987261499,null,0.48642915420179494,0.48004987531172072,0.48300639505640586,0.48183744122358291,0.48707862099109434]
[null,null,"30-34",null,0.47289220917822838,0.48416856492027333,0.45622725434694705,0.46665734656787361,0.46613358419567263,0.46234509056244044,0.48659682637498075,0.45429740791268758,0.49115582592419277,0.4613143789326497,0.46152057661009066,0.48957223321662352,0.47222950851524781,0.4673886998610246,0.47141357027463648,0.4673886998610246,0.47499411164324407,0.46952005386169088,0.46957181216307625,0.47287392124364175,0.47961392659250385,0.48556194948082043,null,0.4673886998610246,0.47120343839541545,0.47004175703233742,0.4808518253400143,0.46779676589489161]
[null,null,"35-39",null,0.4728167808219178,0.47480748074807483,0.45932549324521332,0.49824561403508771,0.48462503922183869,0.4672692059393157,0.4821347464042392,0.46280323450134769,0.48745383959852284,0.46891631751783491,0.46487580083174102,0.4803452855245684,0.47514471508043904,0.48145847271337094,0.47618224937569692,0.48145847271337094,0.48050657574281541,0.4701493891924271,0.47591930696068335,0.47551242738654204,0.48131413873033757,0.48289453897673773,null,0.48145847271337094,0.4718657107885994,0.48045830681094842,0.47827436374922411,0.46911561202667001]
[null,null,"40-44",null,0.48277440769142727,0.47259209942299157,0.49185293503237937,0.48258485252704908,0.47792444242148385,0.47129058223772469,0.49546994406365713,0.47222222222222221,0.49825276645311589,0.474240112662833,0.46914392195549709,0.48249170659786217,0.48195023319249586,0.48495300939812036,0.48243133925496384,0.48495300939812036,0.48200761370466838,0.48189810517118986,0.48709173110237886,0.48236845191347516,0.48573883269067053,0.48655902810562429,null,0.48495300939812036,0.48865715331137943,0.47636940818243662,0.49029398040130656,0.47442303116821316]
[null,null,"45-49",null,0.48015825440594651,0.48019801980198018,0.50961772583394205,0.48305752561071708,0.47918011620400258,0.4902867715078631,0.49548839246605342,0.48578648136449781,0.49294522830796578,0.48055832502492524,0.48768748600850681,0.48513733851749657,0.48801989150090413,0.49137292864871018,0.48853240954312421,0.49137292864871018,0.48298161281283009,0.49260851640261499,0.49517716058358779,0.48715491165048169,0.49143219409821953,0.4918512254630143,null,0.49137292864871018,0.49799586515336908,0.48070501566318979,0.48901599514071675,0.48626218676980099]
[null,null,"50-54",null,0.48227994531496476,0.47702362996480646,0.50099509088496752,0.4741168914579319,0.48112832737385774,0.48895373072113379,0.49744837873910652,0.48532731376975169,0.49077809798270894,0.4696561388379864,0.49092028316405045,0.48178921010698839,0.48535326635934545,0.50136776452565923,0.48765490344090079,0.50136776452565923,0.47946839950804926,0.49124418882416715,0.49670673851964442,0.48851409401464629,0.49096828658154301,0.49121561862461061,null,0.50136776452565923,0.49331848552338531,0.47528792175473117,0.49096466780544817,0.48619666048237475]
[null,null,"55-59",null,0.49092731829573932,0.48579517719418142,0.49856498564985652,0.4850638534147696,0.49216600885061595,0.49978339350180506,0.49879634087626384,0.48329019916732308,0.49542033191257823,0.47438617762958474,0.48678619546066948,0.49249738280795624,0.49014197338555343,0.50013485085495446,0.49155740961462058,0.50013485085495446,0.48735215696998702,0.49317383955272398,0.49863038714390068,0.48842016563310553,0.49101071719460138,0.4902623145812931,null,0.50013485085495446,0.49752661363726303,0.48402922199114806,0.49529794535811383,0.48745070578262634]
[null,null,"60-64",null,0.50100508454534709,0.47273476961138028,0.49623287671232874,0.48079363248356211,0.49275541795665634,0.4989585002403461,0.49556854610597773,0.4911045693075643,0.49616897908469665,0.4839668719473349,0.49427692307692306,0.49736879533494527,0.49117771042013769,0.48426499789397676,0.49018950048600896,0.48426499789397676,0.48760606172885251,0.49540038549150167,0.49147505083685283,0.49009677360118992,0.4911704886445647,0.49037179274774639,null,0.48426499789397676,0.49698698192189156,0.48214036750968964,0.49798038084246971,0.49414428142278721]
[null,null,"65-69",null,0.47440023405500292,0.4732635370933243,0.48968609865470852,0.48324310389275588,0.47582260371959945,0.48179271708683474,0.48099695500169165,0.48103636647416886,0.50055824339411981,0.47568513119533529,0.48359550561797754,0.48192354263968173,0.48153420887164705,0.48909704008992133,0.48256790528083904,0.48909704008992133,0.48056387066641193,0.48276325696461225,0.49099274235355106,0.48060541725761124,0.48484338440950708,0.48580843011875247,null,0.48909704008992133,0.49243678292139964,0.47686766441035833,0.47812519900655925,0.48221385781689019]
[null,null,"70-74",null,0.47400799753921868,0.47577301267622318,0.47607655502392343,0.47884916678535822,0.47022170699898563,0.46892655367231639,0.46935307682971233,0.46518782383419688,0.4802486187845304,0.46873087749357484,0.47619837452313818,0.46316570792354794,0.47238187892830169,0.47269303201506591,0.47242235609848443,0.47269303201506591,0.47456861505104347,0.4695210235499217,0.47460270310411407,0.47090921013189446,0.47117779649825825,0.47624251597932205,null,0.47269303201506591,0.4760655737704918,0.47334119342372438,0.47140628179906385,0.46834148005001708]
[null,null,"75-79",null,0.46329426280074026,0.45003655861564706,0.45474860335195533,0.47711839385887217,0.48691860465116277,0.45118733509234826,0.47813303932377804,0.47353270430193506,0.47012913296438202,0.45958254269449716,0.45027304319046829,0.46244221879815101,0.46573484927505998,0.46230121608980357,0.46531481015265602,0.46230121608980357,0.46713322246858835,0.46392215568862277,0.46158675351173195,0.46293008506759836,0.46360157781609468,0.46623279061403272,null,0.46230121608980357,0.46107055961070559,0.46726020493868636,0.47156414282788284,0.46220265324794146]
[null,null,"80-84",null,0.45367987647967062,0.44771957777335192,0.4274774774774775,0.45629105608893378,0.44688457609805926,0.44406392694063929,0.44116441164411646,0.43801433501460046,0.45387453874538747,0.44470388452557841,0.43612800846336947,0.45306485045898726,0.44589681440443213,0.43664466269521818,0.44480054941910374,0.43664466269521818,0.45024846421723991,0.44051135538230596,0.44121925416556468,0.44108145008295035,0.44101454300225174,0.44281471507831216,null,0.43664466269521818,0.44440704588802871,0.4486538679995456,0.44671382930168874,0.44201372997711669]
[null,null,"85-89",null,0.42754598474652311,0.40346205059920104,0.40498034076015726,0.40964912280701754,0.41952277657266812,0.38494231936854889,0.41745668519123896,0.40130568356374807,0.41792369121561668,0.39745454545454545,0.42510460251046023,0.391812865497076,0.40897032294577484,0.39461390491893378,0.40733312441240993,0.39461390491893378,0.41161786533531236,0.40605249460926462,0.40039708802117802,0.40675768438715582,0.40986634468247896,0.4084437833809591,null,0.39461390491893378,0.404274921687857,0.40680916916529647,0.42170953101361575,0.4062629901621172]
[null,null,"90+",null,0.33780385582564965,0.30466701625589931,0.33454987834549876,0.34969325153374231,0.31946508172362553,0.38262910798122068,0.2902264600715137,0.35946924004825093,0.29729729729729731,0.31385006353240152,0.34873949579831931,0.3292765382014875,0.32754679681225674,0.31668383110195675,0.32638314303050359,0.31668383110195675,0.31922896097790315,0.33676259929678343,0.32666666666666666,0.32587507975271157,0.33251447098840331,0.33259327458777216,null,0.31668383110195675,0.33344996501049684,0.31984994291306473,0.30999651689306862,0.34619828980818118]
[null,"Broad age bands","0-15",null,0.51221214235868806,0.51578578110383533,0.51646472364734564,0.51310771013373246,0.51173631677086762,0.50703310971651161,0.51683780501269738,0.51054463125235838,0.51345298756937452,0.52140618180375353,0.51500719902536274,0.50970500213766567,0.51387432521651322,0.50929455424761971,0.51313429514922437,0.50929455424761971,0.5147249803847298,0.51309387876681722,0.51123093295494859,0.51274433588451207,0.51243126060530397,0.5118922126863189,null,0.50929455424761971,0.51264757552304085,0.5159232122575329,0.51485304546529032,0.51190668388763316]
[null,null,"16-64",null,0.48747706312704048,0.48449216259701883,0.48452749655154465,0.48754779524010294,0.49207581143380469,0.48928733545165681,0.49654653990714126,0.48072179854279479,0.49814661192258824,0.48056407112201105,0.48500810866834937,0.49201441821368019,0.48852331107545,0.49099254478691445,0.48890882889706755,0.49099254478691445,0.48840753834726242,0.48864246371332432,0.49116430210549239,0.48916980171068947,0.49289190238595759,0.49324989888731935,null,0.49099254478691445,0.49129392401130301,0.48569888735462102,0.49268277826000884,0.48585833191168415]
[null,null,"65+",null,0.45882786583118318,0.44989002312334331,0.45479535736102628,0.46533768688778143,0.46114757569341519,0.45345701650307413,0.45725834193326453,0.45438302624232274,0.46779002378479784,0.45193849076767795,0.4557989888156887,0.45096198967620837,0.45691871960020863,0.45789218884842869,0.45704130343165972,0.45789218884842869,0.45868425926934769,0.45470214075644622,0.4593398175858629,0.45448592879674732,0.45583890526095616,0.45929259908334025,null,0.45789218884842869,0.46040177261708076,0.4565061107117182,0.45794498016576901,0.45381736331038813]
[null,null,"60+",null,0.46885098491022004,0.45479706839669642,0.46569113012156688,0.46888571125940048,0.46815697690385299,0.46491546624702418,0.46619037151022202,0.46265643924101735,0.4747272773292161,0.45893652561247217,0.4649314988461426,0.46166972958781832,0.46486774753962451,0.46472679640718562,0.46484943286582081,0.46472679640718562,0.46525637787320029,0.46438660315011521,0.46752306977361746,0.46272827037719283,0.46418018677539546,0.46684713550935081,null,0.46472679640718562,0.4695960787033826,0.46216542316121245,0.46735819036224824,0.4631375587374098]
["Population","Population","Year",null,"Mid 2023","Mid 2023","Mid 2023","Mid 2023","Mid 2023","Mid 2023","Mid 2023","Mid 2023","Mid 2023","Mid 2023","Mid 2023","Mid 2023","Mid 2023","Mid 2023","Mid 2023","Mid 2023","Mid 2023","Mid 2023","Mid 2023","Mid 2023","Mid 2023","Mid 2023",null,"Mid 2023","Mid 2023","Mid 2023","Mid 2023","Mid 2023"]
[null,"Males","All Ages",null,0.48672649566468762,0.48183995148150233,0.48776709003388596,0.48656306127783727,0.48740934276318754,0.48692649693234452,0.49309668977723725,0.48075242037901406,0.49535899623459678,0.48102734995264845,0.48537786784610149,0.48732695265766535,0.48691539393547961,0.48930962343096235,0.48727735838414465,0.48930962343096235,0.486508360230058,0.48734211835224289,0.49005481807521356,0.48641508349380624,0.48919963887187218,0.49028224216666028,null,0.48930962343096235,0.4906109088827541,0.48384795948404041,0.49036499519335131,0.48448678404660928]
[null,"% of total population All Ages","0-4",null,2.8362126942574287E-2,2.2383533722231602E-2,3.6379754596144127E-2,2.4445362632914809E-2,2.3055092571737466E-2,3.14840769652023E-2,3.0952238757349867E-2,2.7782817370651976E-2,2.9161027114751784E-2,2.7243144710514887E-2,2.8230995665872817E-2,2.7251751837292771E-2,2.806456881566911E-2,3.0910041841004186E-2,2.849475317216037E-2,3.0910041841004186E-2,2.5883951755769651E-2,3.0350675667940023E-2,3.1579621801471849E-2,2.7799384933751042E-2,2.6737233096690568E-2,2.704654315514389E-2,null,3.0910041841004186E-2,3.2079286236531723E-2,2.4273346868843922E-2,2.9841535646726827E-2,2.7778670265175855E-2]
[null,null,"5-9",null,3.2368403925283659E-2,2.5709801861959872E-2,3.6951424618265269E-2,2.8012243762174194E-2,2.5523672237488176E-2,3.4779138086265628E-2,3.2390993935511189E-2,3.1172172650954132E-2,3.2522306966958105E-2,2.8581804199688123E-2,3.2787006493794651E-2,3.1404888053324219E-2,3.0981505367796699E-2,3.3926080892608089E-2,3.1426672240229707E-2,3.3926080892608089E-2,2.8911350013347246E-2,3.3151806805909088E-2,3.4281039859699103E-2,3.0607995861236456E-2,2.9934383386165705E-2,2.9607346689764953E-2,null,3.3926080892608089E-2,3.4545922894187009E-2,2.694711338883396E-2,3.2381306788228363E-2,3.1829670565051621E-2]
[null,null,"10-14",null,3.3619461539017813E-2,2.8667179362131812E-2,3.7738506532779888E-2,3.1283992883102428E-2,2.9352673543853326E-2,3.5855834114556742E-2,3.2423569524450697E-2,3.4132704392142631E-2,3.3426773492074693E-2,3.1280484765627781E-2,3.5057615786281672E-2,3.6198940352076568E-2,3.3107260917707861E-2,3.4264295676429565E-2,3.3282183768385772E-2,3.4264295676429565E-2,3.1312641056131241E-2,3.4988697524904244E-2,3.495006176159874E-2,3.2137268990888972E-2,3.2159533338599167E-2,3.1269781228334161E-2,null,3.4264295676429565E-2,3.546180485989868E-2,3.0088836222837777E-2,3.293639718423419E-2,3.5114916677376512E-2]
[null,null,"15-19",null,2.8680315006182972E-2,3.8295850292924177E-2,2.971855607751514E-2,2.6916039159801335E-2,2.8442722645164197E-2,3.0815782878676777E-2,2.7260338677539676E-2,3.0289785753162574E-2,2.954590648714182E-2,2.8930710130376888E-2,3.104152182595447E-2,3.0806699709451376E-2,3.0126980203707372E-2,3.061715481171548E-2,3.0201085790524346E-2,3.061715481171548E-2,3.0466910961729803E-2,2.9770604914573132E-2,3.0238597944657435E-2,2.9427988388468943E-2,3.0334172176197709E-2,3.0373449871856299E-2,null,3.061715481171548E-2,2.9956105316018306E-2,3.1204006309862555E-2,2.7869259155890471E-2,3.0723878678833055E-2]
[null,null,"20-24",null,2.3155413174432142E-2,4.6186358549196879E-2,2.1798026495662766E-2,2.1080857737939641E-2,2.2370377044010993E-2,2.5887113990551065E-2,2.3334980210329721E-2,1.8785769655786645E-2,2.449757205262584E-2,2.1632167702703663E-2,2.1212076387142582E-2,1.9441121175867371E-2,2.4572566637126758E-2,2.7168758716875872E-2,2.4965064197008936E-2,2.7168758716875872E-2,2.7215036280243649E-2,2.1802264565691103E-2,2.5376641450451404E-2,2.4577587445750584E-2,2.7479863711147273E-2,3.0619905664846708E-2,null,2.7168758716875872E-2,2.4039299662528719E-2,2.9073672928727236E-2,2.3257977486277795E-2,1.9869446943409159E-2]
[null,null,"25-29",null,2.784868711266027E-2,2.5734811396845046E-2,2.7738423682052048E-2,2.6173992967425858E-2,2.553268165232668E-2,2.9145047662362977E-2,2.9719795642472051E-2,2.1449423562204153E-2,3.0001347077803366E-2,2.4138593980304615E-2,2.5368696655473869E-2,2.46453597675611E-2,2.6610137177371727E-2,3.1182008368200839E-2,2.7301321893823623E-2,3.1182008368200839E-2,2.6660518843885747E-2,2.6557318241317067E-2,2.9961453014249125E-2,2.7356767165809214E-2,2.8463675270685274E-2,3.233020830082764E-2,null,3.1182008368200839E-2,2.9050631099916999E-2,2.5367760829037442E-2,2.8917418674605389E-2,2.3869575461594482E-2]
[null,null,"30-34",null,3.2042984314774772E-2,2.6578883199219701E-2,3.7390533475836582E-2,2.8147161251697007E-2,2.6784990314879048E-2,3.1511922552140859E-2,3.4296665888472043E-2,2.4715079744685061E-2,3.3664115771715214E-2,2.8190175093812973E-2,2.9362602251379377E-2,2.7482481627072296E-2,3.0186598238411279E-2,3.4006276150627616E-2,3.0764064856453516E-2,3.4006276150627616E-2,2.936394301938991E-2,3.104905032495411E-2,3.4135017261957092E-2,3.0438766418532465E-2,3.0980836607871737E-2,3.3632522909847251E-2,null,3.4006276150627616E-2,3.4231088468473628E-2,2.7399974337879555E-2,3.3330232269668497E-2,2.7264597523882963E-2]
[null,null,"35-39",null,3.1948974205072207E-2,2.6985288141103795E-2,3.9155253978906207E-2,2.9934817987874292E-2,2.7830082436145771E-2,3.3591059710220257E-2,3.4578987659281059E-2,2.8318846794544047E-2,3.3022650151065154E-2,2.9486111407799828E-2,3.0590358416046626E-2,3.0909246282686719E-2,3.1400694674308539E-2,3.5129009762900974E-2,3.1964348876229474E-2,3.5129009762900974E-2,2.9924527386123716E-2,3.2948273208236498E-2,3.5116944730446756E-2,3.1412985370620525E-2,3.2342712744635994E-2,3.2927532482398617E-2,null,3.5129009762900974E-2,3.5107941373146448E-2,2.8484953694967959E-2,3.3451173752597138E-2,2.9952769566893717E-2]
[null,null,"40-44",null,3.0502664825032721E-2,2.6628902268990052E-2,3.9014407741572013E-2,2.745570911789259E-2,2.8379656741294654E-2,3.2607182305057686E-2,3.4144646473421032E-2,3.0982500700961556E-2,3.2926430307967644E-2,2.8774058488026829E-2,3.1655399908288091E-2,3.3558366091266452E-2,3.1381443017268737E-2,3.3824965132496512E-2,3.1750859623700153E-2,3.3824965132496512E-2,2.919042881063897E-2,3.3678449989886922E-2,3.4354051158570112E-2,3.1210415888253386E-2,3.2733010373733447E-2,3.1754805177254347E-2,null,3.3824965132496512E-2,3.4748874011589027E-2,2.7749054652768869E-2,3.2582875926442767E-2,3.2033157691813391E-2]
[null,null,"45-49",null,2.8962345335290671E-2,2.5472211280550709E-2,3.468131467534942E-2,2.5845131586714001E-2,2.6748952655525023E-2,2.9516322154877154E-2,3.0707921840303604E-2,3.1708202074846203E-2,2.8461829588243219E-2,2.7456760586446784E-2,3.2224901261778321E-2,3.3054178772859343E-2,2.9497264712147361E-2,3.0087168758716875E-2,2.9586447596822649E-2,3.0087168758716875E-2,2.7187128400514477E-2,3.1919156455004448E-2,3.0444221602702312E-2,2.9217141379013021E-2,3.081874867057836E-2,2.9151539863123535E-2,null,3.0087168758716875E-2,3.0710667162769399E-2,2.6348959551969569E-2,2.9959376065990636E-2,3.2316968684402175E-2]
[null,null,"50-54",null,3.3163874084305371E-2,2.9661308373817519E-2,3.1284434833760012E-2,3.1123778364294086E-2,3.2731204108293166E-2,3.266287347893481E-2,3.4399821920113795E-2,3.3687387639986147E-2,3.2772478559011629E-2,3.1024145714509503E-2,3.5390441252607131E-2,3.6173303708767729E-2,3.282345423166947E-2,3.1952580195258019E-2,3.2691793736699754E-2,3.1952580195258019E-2,3.16936442837382E-2,3.4007920001119435E-2,3.2136891715303616E-2,3.2946627195125457E-2,3.3364383490568472E-2,3.243613269352108E-2,null,3.1952580195258019E-2,3.2274431541725969E-2,3.0992671200307947E-2,3.3869817347350138E-2,3.5082787131045706E-2]
[null,null,"55-59",null,3.5412885170266771E-2,3.1111861397157665E-2,3.0223945517361371E-2,3.6832474639728142E-2,3.7073742060453177E-2,3.2124525464789257E-2,3.3748310141323762E-2,3.5419175009483599E-2,3.5043266856112844E-2,3.3430884583342237E-2,3.4739582562904013E-2,3.6181849256537342E-2,3.4196532093443817E-2,3.2329149232914925E-2,3.3914217382663932E-2,3.2329149232914925E-2,3.4598490547722474E-2,3.3775128448781409E-2,3.2548139031393371E-2,3.4118127209496162E-2,3.3758055754664881E-2,3.293060537433682E-2,null,3.2329149232914925E-2,3.2711557025361084E-2,3.4255156954057259E-2,3.4462120507334014E-2,3.5412114980936472E-2]
[null,null,"60-64",null,3.0640064216136475E-2,2.8673431745853108E-2,2.4010140929088063E-2,3.5146006020692969E-2,3.5848461642416327E-2,2.8903719242228759E-2,2.8536215911003492E-2,3.1642229222674872E-2,3.0739032541550936E-2,3.2455372083253227E-2,2.9702823839178733E-2,2.9883780550333278E-2,3.0391535232705956E-2,2.8061366806136679E-2,3.0039255665767553E-2,2.8061366806136679E-2,3.1936321498774477E-2,2.8772018200991973E-2,2.8089979720739233E-2,3.0683413330267584E-2,3.0000821512707557E-2,2.9668935989146744E-2,null,2.8061366806136679E-2,2.811133169758202E-2,3.2626744458114136E-2,2.9438397370298013E-2,3.0389195904553828E-2]
[null,null,"65-69",null,2.3451906597340238E-2,2.6285021164318897E-2,1.8094598961051873E-2,3.1612854263814286E-2,2.9965313752871751E-2,2.2350724449353519E-2,2.315581447116246E-2,2.541604129900546E-2,2.5883137793229972E-2,2.904463859754057E-2,2.3874680117746253E-2,2.3807896086139122E-2,2.5206629277050596E-2,2.2758019525801951E-2,2.4836443511534481E-2,2.2758019525801951E-2,2.7466207197806198E-2,2.2837741743850424E-2,2.2579861695739566E-2,2.5400741528468371E-2,2.4606045637509153E-2,2.4469750722897827E-2,null,2.2758019525801951E-2,2.244691397214366E-2,2.8979326897676069E-2,2.3282785995596491E-2,2.4354196118750802E-2]
[null,null,"70-74",null,2.2287627546408451E-2,2.5109573024715674E-2,1.483856535679666E-2,2.8349537485981229E-2,2.9235551150952745E-2,1.8489469727206068E-2,2.0994967071508847E-2,2.3692500536029424E-2,2.2303759630002629E-2,2.7271626827305804E-2,2.1234264751564279E-2,2.1329687232951634E-2,2.2916924131703691E-2,1.9253835425383541E-2,2.236313098593554E-2,1.9253835425383541E-2,2.5495668211711602E-2,2.0213430418859424E-2,1.9045518819779804E-2,2.3117523639812607E-2,2.1823975452905018E-2,2.1590681032880157E-2,null,1.9253835425383541E-2,1.8890065542803171E-2,2.727166373564997E-2,2.1549291406952584E-2,2.2062288480486657E-2]
[null,null,"75-79",null,2.1723566888193054E-2,2.3090053082737795E-2,1.348809849294526E-2,2.7253332883608369E-2,3.01815397089959E-2,1.7459183010479221E-2,2.1190420605145859E-2,2.4418201909914072E-2,2.1251756012136528E-2,2.5868882575353001E-2,2.0124846530479416E-2,2.0517860194838488E-2,2.2182877079411842E-2,1.7231520223152021E-2,2.1434320953943778E-2,1.7231520223152021E-2,2.4540733370543841E-2,1.9710956849605207E-2,1.7528671835071945E-2,2.2422671226970944E-2,2.0698640138098502E-2,1.9448579565561112E-2,null,1.7231520223152021E-2,1.7750416960468765E-2,2.6243291997192261E-2,2.1419046733029429E-2,2.1641926915991948E-2]
[null,null,"80-84",null,1.2749217185048053E-2,1.4055358605468336E-2,7.8625340723618257E-3,1.5228811629887597E-2,1.576647596738592E-2,1.0831933319101145E-2,1.1683777899634611E-2,1.3606900760337121E-2,1.1835040700993631E-2,1.4917508669244298E-2,1.2196204310459594E-2,1.3074688087506409E-2,1.2795520698325914E-2,9.4560669456066945E-3,1.2290655338206511E-2,9.4560669456066945E-3,1.3962433567112385E-2,1.1572157112672383E-2,9.9429468850250839E-3,1.2776592992843387E-2,1.2206687535268891E-2,1.1424700007281276E-2,null,9.4560669456066945E-3,1.0306274051658865E-2,1.4904785985463163E-2,1.2140664247837009E-2,1.2929464935955105E-2]
[null,null,"85-89",null,6.8916641958881421E-3,7.5778890702080165E-3,5.1201749807372058E-3,7.8758084508942505E-3,8.7121041488355325E-3,5.8847007063497223E-3,6.933171179290612E-3,8.6177038148801764E-3,6.042606146523577E-3,7.7827384131188629E-3,7.5144594174814724E-3,7.4431721073320804E-3,7.1802470546517283E-3,5.0069735006973504E-3,6.8516871712990318E-3,5.0069735006973504E-3,7.4028684446817289E-3,6.9468561055627005E-3,5.4087962224847984E-3,7.3573419940792684E-3,7.2311046013464582E-3,6.5836627613167992E-3,null,5.0069735006973504E-3,5.7086506612823908E-3,7.9363881320240626E-3,6.9153719725865972E-3,7.8503191534935526E-3]
[null,null,"90+",null,2.9143134007795606E-3,3.6326349420716646E-3,2.2783950157002127E-3,3.8451484514001907E-3,3.8740483805576828E-3,3.025887113990551E-3,2.6440519689228882E-3,4.9149774867641967E-3,2.2579589846882155E-3,3.5175414236786077E-3,3.0693904116681214E-3,4.1616817638010593E-3,3.2926543750011646E-3,2.1443514644351462E-3,3.1190516227555293E-3,2.1443514644351462E-3,3.2955565801926858E-3,3.2896117723832893E-3,2.3363615638722214E-3,3.4057425344178427E-3,3.5257553724980114E-3,3.0155586763210688E-3,null,2.1443514644351462E-3,2.47964634466824E-3,3.7002513378267205E-3,2.7599466617049648E-3,4.0108383669622584E-3]
[null,"Broad age bands","0-15",null,0.20720292395923098,0.171712191007591,0.24109523890408166,0.18418772312918097,0.17247689463955637,0.22331300038124285,0.20616150271960537,0.20887867300204127,0.20486124600183883,0.19452298127451706,0.21256818943711334,0.20905886685254355,0.20251232054853224,0.2161201134436416,0.20457815424225706,0.2161201134436416,0.18979625939329245,0.21582072799885149,0.21909453008604701,0.19922759846465105,0.19464999755326709,0.19210314843897264,null,0.2161201134436416,0.2213082585544878,0.18069042437856347,0.2066047758777699,0.21027355623100305]
[null,"% total males","16-64",null,0.60785071167503635,0.62126776098099012,0.63244611281911911,0.58117569581643613,0.58597042513863218,0.61641250476553566,0.61820924445618908,0.58172804775545917,0.61431179829843441,0.58011990230182819,0.6061012403620516,0.60557279884966775,0.60530880447314983,0.62886399589550646,0.6088847780698623,0.62886399589550646,0.60021049953734995,0.61064460134949949,0.6241022834382316,0.60653374175128105,0.62118754283129896,0.63140069215731121,null,0.62886399589550646,0.62055834871337956,0.59395839670543094,0.61380021248608718,0.59808234318872622]
[null,null,"65+",null,0.18494636436573261,0.20702004801141893,0.1264586482767992,0.23463658105438287,0.24155268022181145,0.16027449485322151,0.17562925282420558,0.20939327924249962,0.18082695569972676,0.2253571164236548,0.18133057020083504,0.18536833429778876,0.19217887497831787,0.15501589066085197,0.18653706768788067,0.15501589066085197,0.2099932410693576,0.17353467065164901,0.15680318647572136,0.19423865978406793,0.18416245961543395,0.17649615940371616,null,0.15501589066085197,0.15813339273213262,0.22535117891600565,0.17959501163614286,0.19164410058027079]
[null,null,"60+",null,0.24789766142691588,0.2665282553688445,0.17568325038642502,0.30686977921042596,0.31510166358595193,0.21963400686237133,0.23350069366453063,0.27521141739712163,0.24288100695388679,0.29282806602027978,0.24252582817785634,0.24669016430813473,0.25459533502708992,0.2123647868656206,0.24818420796417096,0.2123647868656206,0.27563717262209098,0.23257331540961354,0.21412326309708413,0.25731937905345359,0.24548879579567215,0.23701015203382544,null,0.2123647868656206,0.21543202019559177,0.29278299053903334,0.23962865526661944,0.25436861011329098]
["Population","Population","Year",null,"Mid 2023","Mid 2023","Mid 2023","Mid 2023","Mid 2023","Mid 2023","Mid 2023","Mid 2023","Mid 2023","Mid 2023","Mid 2023","Mid 2023","Mid 2023","Mid 2023","Mid 2023","Mid 2023","Mid 2023","Mid 2023","Mid 2023","Mid 2023","Mid 2023","Mid 2023",null,"Mid 2023","Mid 2023","Mid 2023","Mid 2023","Mid 2023"]
[null,"Females","All Ages",null,71000,82900,61800,60900,56900,55300,93400,63000,78700,72900,69600,60000,826200,146500,972700,146500,423200,403000,342200,2233600,4843700,31018700,null,146500,195800,273500,164300,192500]
[null,null,"0-4",null,3700,3400,4000,2700,2500,3400,5100,3200,4400,3400,3600,3000,42300,8600,50800,8600,20100,22200,20300,114300,241400,1568900,null,8600,11700,12000,8900,9700]
[null,null,"5-9",null,4200,3700,4300,3100,2800,3600,5700,3700,4800,3800,4300,3500,47500,9400,56900,9400,22500,25000,22100,127100,270700,1720500,null,9400,12700,13500,9900,11500]
[null,null,"10-14",null,4400,4400,4200,3500,3000,3700,5600,4000,4900,4000,4400,4100,50200,9400,59700,9400,24200,26100,22300,132600,289000,1812900,null,9400,12900,14800,10000,12500]
[null,null,"15-19",null,3900,6000,3400,3100,2700,3200,4600,3600,4200,3600,3800,3500,45300,8400,53700,8400,23300,22000,19100,119200,270300,1741500,null,8400,10700,15200,8500,10900]
[null,null,"20-24",null,2900,7300,2600,2300,2300,2500,3900,2200,3600,2900,2900,2100,37500,7300,44800,7300,21300,16200,16000,100300,244400,1783900,null,7300,8700,14800,6800,7200]
[null,null,"25-29",null,4200,4500,4200,3200,2800,3200,5800,2900,4600,3800,3600,3000,45900,9400,55300,9400,23200,22700,21500,125000,273100,2000900,null,9400,12100,14400,10000,9400]
[null,null,"30-34",null,4900,4500,5400,3800,3400,3900,6700,3600,5400,4600,4600,3400,54300,11100,65400,11100,26700,27600,25900,147600,318800,2168400,null,11100,14800,16400,11600,11600]
[null,null,"35-39",null,4900,4800,5600,3600,3300,4100,6800,4000,5400,4700,4800,3900,55900,10900,66700,10900,26700,29200,26000,150700,330500,2145800,null,10900,15100,16300,11800,12700]
[null,null,"40-44",null,4500,4800,4900,3500,3400,3900,6400,4200,5200,4500,4800,4200,54300,10300,64600,10300,25900,28500,24300,145700,328600,2039200,null,10300,14000,16200,10900,13300]
[null,null,"45-49",null,4300,4400,4000,3300,3200,3300,5800,4100,4600,4200,4600,4100,49800,8900,58800,8900,24000,25800,20800,133800,302400,1832800,null,8900,11900,15100,10100,12800]
[null,null,"50-54",null,4900,5200,3800,4100,3900,3700,6400,4300,5300,4900,5000,4600,56000,9100,65200,9100,28400,27700,21900,150000,328000,2044500,null,9100,12700,18100,11300,13800]
[null,null,"55-59",null,5100,5300,3700,4600,4200,3500,6200,4600,5600,5200,5000,4400,57300,9300,66500,9300,30000,27300,22000,155400,331800,2083600,null,9300,12700,19400,11300,13900]
[null,null,"60-64",null,4200,5100,2900,4500,4100,3100,5400,4000,4900,4900,4100,3500,50700,8600,59300,8600,27700,23000,19500,138800,294700,1876400,null,8600,10900,18600,9600,11600]
[null,null,"65-69",null,3600,4700,2300,4000,3700,2600,4600,3300,4000,4500,3400,3000,43700,6800,50500,6800,24500,19200,15700,119400,247900,1576100,null,6800,8900,16800,8200,9800]
[null,null,"70-74",null,3400,4400,2000,3700,3700,2300,4400,3300,3800,4300,3200,2900,41200,6200,47400,6200,23300,18000,14200,113000,232300,1445000,null,6200,8000,16100,7800,9400]
[null,null,"75-79",null,3500,4500,2000,3500,3500,2300,4300,3300,3700,4300,3300,2800,41000,5700,46700,5700,23100,17900,13700,113100,227100,1355000,null,5700,8000,15900,7700,9400]
[null,null,"80-84",null,2100,2800,1300,2200,2200,1500,2700,2100,2200,2600,2100,1800,25600,3500,29100,3500,14100,11600,8500,70400,146700,874800,null,3500,5000,9700,4800,6100]
[null,null,"85-89",null,1300,1800,900,1300,1300,1000,1800,1600,1300,1700,1400,1400,16700,2200,18900,2200,8700,8000,5400,46700,98700,580300,null,2200,3200,6100,3100,4300]
[null,null,"90+",null,800,1300,500,800,900,500,1200,1100,800,1100,800,1000,10900,1300,12200,1300,5800,5100,3200,30600,67100,368200,null,1300,1900,4200,2000,2800]
[null,"Broad age bands","0-15",null,13300,12400,13300,10100,8900,11400,17500,11700,15000,12100,13100,11500,150200,29200,179400,29200,71700,78500,68900,400500,859100,5465300,null,29200,39700,43500,30800,36300]
[null,null,"16-64",null,43000,50900,39600,35200,32700,33800,56900,36600,47800,42400,42200,35700,496900,91500,588400,91500,252100,244800,212600,1339900,2964700,19354100,null,91500,121200,161300,99900,114500]
[null,null,"65+",null,14700,19500,8900,15600,15300,10100,18900,14700,15900,18500,14200,12900,179100,25800,204800,25800,99400,79700,60700,493200,1019800,6199400,null,25800,34900,68800,33600,41700]
[null,null,"60+",null,18900,24600,11900,20100,19400,13300,24300,18600,20800,23300,18300,16400,229800,34300,264100,34300,127000,102800,80200,632000,1314500,8075800,null,34300,45900,87400,43200,53400]
["Population","Population","Year",null,"Mid 2023","Mid 2023","Mid 2023","Mid 2023","Mid 2023","Mid 2023","Mid 2023","Mid 2023","Mid 2023","Mid 2023","Mid 2023","Mid 2023","Mid 2023","Mid 2023","Mid 2023","Mid 2023","Mid 2023","Mid 2023","Mid 2023","Mid 2023","Mid 2023","Mid 2023",null,"Mid 2023","Mid 2023","Mid 2023","Mid 2023","Mid 2023"]
[null,"Females","All Ages",null,0.51327350433531238,0.51816004851849773,0.51223290996611404,0.51343693872216267,0.51259065723681252,0.51307350306765553,0.50690331022276269,0.519247579620986,0.50464100376540322,0.51897265004735149,0.51462213215389851,0.51267304734233465,0.51308460606452033,0.51069037656903771,0.51272264161585535,0.51069037656903771,0.51349163976994205,0.51265788164775716,0.50994518192478644,0.51358491650619376,0.51080036112812788,0.50971775783333972,null,0.51069037656903771,0.50938909111724595,0.51615204051595953,0.50963500480664869,0.51551321595339072]
[null,"Percentage of total population in age ","0-4",null,0.48557187827911857,0.48673835125448028,0.47507471607890017,0.48617511520737328,0.48932348832568351,0.49785344189489267,0.47456221198156684,0.48407350689127104,0.48995848760237853,0.47220306249137811,0.48453747467927077,0.48095703125,0.48331294375907524,0.49098530087276065,0.4845870002574395,0.49098530087276065,0.48490848505336359,0.48187799952224802,0.48867282684745106,0.48601126580933152,0.48777708638064377,0.4880262831692968,null,0.49098530087276065,0.4869970457287896,0.48289584757004461,0.47910577027173323,0.48329100054783602]
[null,"group","5-9",null,0.48610792192881747,0.47644512350394702,0.48976089692254893,0.48631513839492807,0.49716009939652112,0.48971809886967177,0.48728085252664144,0.49760765550239233,0.48538367844092573,0.48551653422199437,0.48987341772151899,0.4874476987447699,0.4879237962288166,0.49116201234180523,0.48845510317902957,0.49116201234180523,0.48558906712148364,0.49003991859737006,0.48939145101868703,0.48837370189018625,0.48816397332746703,0.48847371146547591,null,0.49116201234180523,0.48808605798889576,0.48549915336671828,0.48677872800550476,0.49161820047895999]
[null,null,"10-14",null,0.48754409171075835,0.4870217050794361,0.48173853680737283,0.48206058913862909,0.48046563546483817,0.49231173610198448,0.48365900051876187,0.48869672637430511,0.48467167721518989,0.47795603089720734,0.48247625286603341,0.49287681072668504,0.48512680844488226,0.49019506121601991,0.48592225895227081,0.49019506121601991,0.48358047667647236,0.48656922588714041,0.48770366487572619,0.4868433129811911,0.48661024681859733,0.48789074652379705,null,0.49019506121601991,0.48589211618257261,0.48205411374930979,0.48536679910844072,0.4878353575194283]
[null,null,"15-19",null,0.49541984732824429,0.49275362318840582,0.48492245835726594,0.49050279329608937,0.45634578956431893,0.48702101359703337,0.47968911917098445,0.4944253269098417,0.47450085567598405,0.4675665050452103,0.47498123592694519,0.49132213912798078,0.48300740661799968,0.48894191595856129,0.48392588522478541,0.48894191595856129,0.48125116211805052,0.484878499735869,0.48470152096082064,0.48213158533624667,0.48442487932619838,0.48511217472838669,null,0.48894191595856129,0.48141975586685287,0.47960853420605448,0.48675042832667048,0.48648527700707062]
[null,null,"20-24",null,0.47688286227740567,0.49816576086956521,0.49770904925544102,0.48218724109362054,0.47748316498316501,0.46896420411271894,0.47431506849315069,0.49478820137502771,0.48669354838709677,0.48421052631578948,0.50354855461312098,0.47845025217790005,0.48656329072860571,0.48451971421010848,0.48622818151245917,0.48451971421010848,0.48734886059747207,0.48553160833283304,0.4846274889547903,0.48418152162373446,0.48403154682818939,0.48911028882766849,null,0.48451971421010848,0.48471834913552703,0.48963232858562439,0.47541442260614114,0.4933779355543419]
[null,null,"25-29",null,0.520602514627163,0.52471131639722868,0.55766944114149819,0.50745794985718817,0.49893917963224893,0.50729640671583243,0.51643109540636045,0.52441031267142069,0.49796049806784026,0.53021064301552101,0.5097198399085191,0.50599520383693042,0.51718348582503271,0.51357084579820511,0.51656352384419368,0.51357084579820511,0.5137109089701879,0.52078503385745434,0.5171337319597531,0.51229929864689272,0.50290349137240387,0.50421723012738506,null,0.51357084579820511,0.51995012468827928,0.51699360494359414,0.51816255877641715,0.51292137900890566]
[null,null,"30-34",null,0.52710779082177162,0.51583143507972662,0.543772745653053,0.53334265343212639,0.53386641580432737,0.53765490943755956,0.5134031736250193,0.54570259208731242,0.50884417407580718,0.5386856210673503,0.53847942338990928,0.51042776678337642,0.52777049148475219,0.5326113001389754,0.52858642972536352,0.5326113001389754,0.52500588835675588,0.53047994613830918,0.5304281878369238,0.5271260787563582,0.52038607340749621,0.51443805051917957,null,0.5326113001389754,0.52879656160458455,0.52995824296766258,0.51914817465998564,0.53220323410510839]
[null,null,"35-39",null,0.5271832191780822,0.52519251925192523,0.54067450675478668,0.50175438596491229,0.51537496077816125,0.53273079406068435,0.51786525359576074,0.53719676549865225,0.51254616040147716,0.53108368248216509,0.53512419916825893,0.51965471447543166,0.52485528491956102,0.51854152728662906,0.52381775062430302,0.51854152728662906,0.51949342425718459,0.5298506108075729,0.5240806930393167,0.52448757261345802,0.51868586126966243,0.51710546102326227,null,0.51854152728662906,0.5281342892114006,0.51954169318905152,0.52172563625077595,0.53088438797332993]
[null,null,"40-44",null,0.51722559230857279,0.52740790057700848,0.50814706496762063,0.51741514747295092,0.5220755575785162,0.52870941776227531,0.50453005593634281,0.52777777777777779,0.50174723354688411,0.52575988733716705,0.53085607804450285,0.51750829340213789,0.51804976680750414,0.51504699060187964,0.51756866074503616,0.51504699060187964,0.51799238629533162,0.51810189482881008,0.5129082688976212,0.51763154808652478,0.51426116730932947,0.51344097189437576,null,0.51504699060187964,0.51134284668862051,0.52363059181756344,0.50970601959869344,0.52557696883178684]
[null,null,"45-49",null,0.51984174559405349,0.51980198019801982,0.49038227416605795,0.51694247438928287,0.52081988379599742,0.50971322849213696,0.50451160753394653,0.51421351863550224,0.50705477169203417,0.51944167497507476,0.51231251399149313,0.51486266148250348,0.51198010849909581,0.50862707135128982,0.51146759045687573,0.50862707135128982,0.51701838718716997,0.50739148359738495,0.50482283941641215,0.51284508834951825,0.50856780590178052,0.5081487745369857,null,0.50862707135128982,0.50200413484663098,0.51929498433681021,0.5109840048592833,0.51373781323019907]
[null,null,"50-54",null,0.51772005468503524,0.52297637003519359,0.49900490911503248,0.5258831085420681,0.5188716726261422,0.51104626927886621,0.50255162126089348,0.51467268623024831,0.50922190201729112,0.5303438611620136,0.50907971683594955,0.51821078989301161,0.51464673364065461,0.49863223547434071,0.51234509655909921,0.49863223547434071,0.52053160049195069,0.50875581117583291,0.50329326148035558,0.51148590598535371,0.50903171341845699,0.50878438137538939,null,0.49863223547434071,0.50668151447661469,0.52471207824526878,0.50903533219455188,0.51380333951762525]
[null,null,"55-59",null,0.50907268170426068,0.51420482280581858,0.50143501435014348,0.51493614658523046,0.50783399114938399,0.50021660649819499,0.50120365912373621,0.51670980083267692,0.50457966808742183,0.52561382237041532,0.51321380453933052,0.5075026171920437,0.50985802661444657,0.4998651491450456,0.50844259038537942,0.4998651491450456,0.51264784303001298,0.50682616044727602,0.50136961285609938,0.51157983436689447,0.50898928280539868,0.5097376854187069,null,0.4998651491450456,0.50247338636273697,0.51597077800885194,0.50470205464188622,0.51254929421737372]
[null,null,"60-64",null,0.49899491545465297,0.52726523038861972,0.50376712328767126,0.51920636751643789,0.50724458204334366,0.50104149975965395,0.50443145389402222,0.5088954306924357,0.50383102091530341,0.5160331280526651,0.50572307692307694,0.50263120466505473,0.50882228957986231,0.51573500210602319,0.50981049951399104,0.51573500210602319,0.51239393827114754,0.50459961450849833,0.50852494916314717,0.50990322639881003,0.5088295113554353,0.50962820725225355,null,0.51573500210602319,0.5030130180781085,0.51785963249031031,0.50201961915753024,0.50585571857721279]
[null,null,"65-69",null,0.52559976594499702,0.52673646290667564,0.51031390134529153,0.51675689610724418,0.52417739628040061,0.51820728291316531,0.51900304499830829,0.51896363352583108,0.49944175660588014,0.52431486880466471,0.51640449438202252,0.51807645736031827,0.518465791128353,0.51090295991007872,0.51743209471916096,0.51090295991007872,0.51943612933358807,0.5172367430353878,0.50900725764644894,0.51939458274238881,0.51515661559049297,0.51419156988124759,null,0.51090295991007872,0.50756321707860041,0.52313233558964167,0.52187480099344075,0.51778614218310981]
[null,null,"70-74",null,0.52599200246078126,0.52422698732377682,0.52392344497607657,0.52115083321464184,0.52977829300101431,0.53107344632768361,0.53064692317028761,0.53481217616580312,0.5197513812154696,0.53126912250642522,0.52380162547686182,0.53683429207645206,0.52761812107169825,0.52730696798493404,0.52757764390151562,0.52730696798493404,0.52543138494895658,0.53047897645007835,0.52539729689588599,0.52909078986810554,0.52882220350174181,0.52375748402067801,null,0.52730696798493404,0.52393442622950814,0.52665880657627562,0.52859371820093615,0.53165851994998292]
[null,null,"75-79",null,0.53670573719925974,0.54996344138435294,0.54525139664804467,0.52288160614112789,0.51308139534883723,0.54881266490765168,0.52186696067622196,0.52646729569806494,0.52987086703561803,0.54041745730550284,0.54972695680953165,0.53755778120184905,0.53426515072494007,0.53769878391019643,0.53468518984734392,0.53769878391019643,0.53286677753141165,0.53607784431137728,0.53841324648826805,0.53706991493240164,0.53639842218390532,0.53376720938596733,null,0.53769878391019643,0.53892944038929436,0.53273979506131364,0.52843585717211716,0.53779734675205859]
[null,null,"80-84",null,0.54632012352032944,0.55228042222664808,0.57252252252252256,0.54370894391106617,0.55311542390194079,0.55593607305936077,0.55883558835588354,0.56198566498539948,0.54612546125461259,0.55529611547442159,0.56387199153663048,0.54693514954101274,0.55410318559556782,0.56335533730478182,0.55519945058089626,0.56335533730478182,0.54975153578276015,0.5594886446176941,0.55878074583443538,0.5589185499170497,0.55898545699774826,0.55718528492168784,null,0.56335533730478182,0.55559295411197129,0.55134613200045435,0.55328617069831132,0.55798627002288326]
[null,null,"85-89",null,0.57245401525347694,0.59653794940079896,0.59501965923984268,0.5903508771929824,0.58047722342733188,0.61505768063145116,0.58254331480876098,0.59869431643625193,0.58207630878438332,0.6025454545454545,0.57489539748953977,0.60818713450292394,0.59102967705422516,0.60538609508106622,0.59266687558759013,0.60538609508106622,0.58838213466468758,0.59394750539073538,0.59960291197882198,0.59324231561284413,0.59013365531752104,0.5915562166190409,null,0.60538609508106622,0.59572507831214294,0.59319083083470359,0.57829046898638425,0.5937370098378828]
[null,null,"90+",null,0.66219614417435035,0.69533298374410069,0.66545012165450124,0.65030674846625769,0.68053491827637447,0.61737089201877937,0.70977353992848624,0.64053075995174913,0.70270270270270274,0.68614993646759848,0.65126050420168069,0.6707234617985125,0.67245320318774326,0.68331616889804325,0.67361685696949636,0.68331616889804325,0.6807710390220969,0.66323740070321657,0.67333333333333334,0.67412492024728843,0.66748552901159663,0.66740672541222779,null,0.68331616889804325,0.66655003498950316,0.68015005708693521,0.69000348310693138,0.65380171019181876]
[null,"Broad age bands","0-15",null,0.48778785764131194,0.48421421889616462,0.48353527635265436,0.48689228986626754,0.48826368322913238,0.49296689028348845,0.48316219498730262,0.48945536874764162,0.48654701243062543,0.47859381819624647,0.48499280097463726,0.49029499786233433,0.48612567478348673,0.49070544575238029,0.48686570485077563,0.49070544575238029,0.48527501961527014,0.48690612123318272,0.48876906704505146,0.48725566411548799,0.48756873939469608,0.4881077873136811,null,0.49070544575238029,0.4873524244769592,0.4840767877424671,0.48514695453470963,0.48809331611236678]
[null,null,"16-64",null,0.51252293687295947,0.51550783740298112,0.5154725034484553,0.51245220475989706,0.50792418856619526,0.51071266454834319,0.50345346009285874,0.51927820145720527,0.50185338807741176,0.51943592887798895,0.51499189133165069,0.50798558178631981,0.51147668892455,0.50900745521308555,0.51109117110293245,0.50900745521308555,0.51159246165273753,0.51135753628667568,0.50883569789450767,0.51083019828931053,0.50710809761404241,0.50675010111268071,null,0.50900745521308555,0.50870607598869699,0.51430111264537892,0.50731722173999116,0.51414166808831585]
[null,null,"65+",null,0.54117213416881682,0.55010997687665675,0.54520464263897372,0.53466231311221857,0.53885242430658475,0.54654298349692587,0.54274165806673547,0.54561697375767726,0.53220997621520216,0.548061509232322,0.5442010111843113,0.54903801032379163,0.54308128039979142,0.54210781115157125,0.54295869656834028,0.54210781115157125,0.54131574073065236,0.54529785924355378,0.54066018241413705,0.54551407120325268,0.54416109473904384,0.5407074009166597,null,0.54210781115157125,0.53959822738291929,0.5434938892882818,0.54205501983423099,0.54618263668961187]
[null,null,"60+",null,0.53114901508977996,0.54520293160330358,0.53430886987843318,0.53111428874059952,0.53184302309614695,0.53508453375297582,0.53380962848977798,0.5373435607589826,0.52527272267078384,0.54106347438752789,0.5350685011538574,0.53833027041218162,0.53513225246037555,0.53527320359281438,0.53515056713417919,0.53527320359281438,0.53474362212679971,0.53561339684988485,0.53247693022638254,0.53727172962280723,0.53581981322460448,0.53315286449064925,null,0.53527320359281438,0.5304039212966174,0.53783457683878755,0.53264180963775176,0.5368624412625902]
["Population","Population","Year",null,"Mid 2023","Mid 2023","Mid 2023","Mid 2023","Mid 2023","Mid 2023","Mid 2023","Mid 2023","Mid 2023","Mid 2023","Mid 2023","Mid 2023","Mid 2023","Mid 2023","Mid 2023","Mid 2023","Mid 2023","Mid 2023","Mid 2023","Mid 2023","Mid 2023","Mid 2023",null,"Mid 2023","Mid 2023","Mid 2023","Mid 2023","Mid 2023"]
[null,"Females","All Ages",null,0.51327350433531238,0.51816004851849773,0.51223290996611404,0.51343693872216267,0.51259065723681252,0.51307350306765553,0.50690331022276269,0.519247579620986,0.50464100376540322,0.51897265004735149,0.51462213215389851,0.51267304734233465,0.51308460606452033,0.51069037656903771,0.51272264161585535,0.51069037656903771,0.51349163976994205,0.51265788164775716,0.50994518192478644,0.51358491650619376,0.51080036112812788,0.50971775783333972,null,0.51069037656903771,0.50938909111724595,0.51615204051595953,0.50963500480664869,0.51551321595339072]
[null,"% of total population","0-4",null,2.6771186624530853E-2,2.1226842733792259E-2,3.2924879245064168E-2,2.3129917110067375E-2,2.2091085184017298E-2,3.1214902958129519E-2,2.7955284574915709E-2,2.6067523214197356E-2,2.8012803653788176E-2,2.4373571443829706E-2,2.6537283848349927E-2,2.5252093659203556E-2,2.6251807947953457E-2,2.9815202231520222E-2,2.6790529089623843E-2,2.9815202231520222E-2,2.4367219161792901E-2,2.8227565827217783E-2,3.0180486910862146E-2,2.6286206995660047E-2,2.5461199237712135E-2,2.578144833350415E-2,null,2.9815202231520222E-2,3.0453075359912991E-2,2.266757742035308E-2,2.7447514497472632E-2,2.5982093132844965E-2]
[null,null,"5-9",null,3.0618369575435882E-2,2.3396419885081187E-2,3.5468396589864039E-2,2.6519719034328069E-2,2.5235370962655976E-2,3.3377576877024605E-2,3.0783931547829109E-2,3.0875294816183139E-2,3.0674885979485929E-2,2.6972564601001146E-2,3.1485289114388415E-2,2.9866689454794051E-2,2.952024249635616E-2,3.2747559274755929E-2,3.0008154762312663E-2,3.2747559274755929E-2,2.7291479602980076E-2,3.1856824290717213E-2,3.2856574518460684E-2,2.9216911447705E-2,2.8549939377845963E-2,2.8273054285495355E-2,null,3.2747559274755929E-2,3.2937925579386414E-2,2.5428142288910192E-2,3.0712934536546034E-2,3.0780105384911965E-2]
[null,null,"10-14",null,3.1985131939573197E-2,2.7216626338791666E-2,3.5078998168998912E-2,2.9116880707642234E-2,2.7145366908419299E-2,3.4769856223952775E-2,3.0371307421262088E-2,3.2623575398723424E-2,3.14382300680595E-2,2.863876843326996E-2,3.268346079316007E-2,3.5182020167492736E-2,3.1194515637624196E-2,3.2946304044630406E-2,3.1459354545555179E-2,3.2946304044630406E-2,2.9321474506758559E-2,3.3158167230836359E-2,3.3272291914073153E-2,3.0489351306297242E-2,3.0482023372089259E-2,2.9790980740082854E-2,null,3.2946304044630406E-2,3.3515555682761385E-2,2.8003788936607016E-2,3.1063354730672621E-2,3.3446857730368845E-2]
[null,null,"15-19",null,2.8159643629368757E-2,3.7201683141697771E-2,2.7978690792798615E-2,2.5912590331475405E-2,2.3874949322041532E-2,2.925643001011723E-2,2.5132066866825564E-2,2.9621810624927841E-2,2.6678555162836046E-2,2.5406048177500553E-2,2.8083073236394834E-2,2.9755597333789095E-2,2.814654361338698E-2,2.9292189679218969E-2,2.8319744698482013E-2,2.9292189679218969E-2,2.8264615235275559E-2,2.8022760144559736E-2,2.8443116003033692E-2,2.7397235076021039E-2,2.8501428999736039E-2,2.8616971693916235E-2,null,2.9292189679218969E-2,2.7809506958881583E-2,2.875855718501634E-2,2.6430365615406085E-2,2.9106691513515828E-2]
[null,null,"20-24",null,2.1108885401676273E-2,4.5848729828247017E-2,2.159918474883802E-2,1.9630494725569395E-2,2.0442362268570657E-2,2.2861226876560514E-2,2.1054688984564598E-2,1.8398179149280072E-2,2.3227470123738717E-2,2.0307749271925888E-2,2.1515317367572444E-2,1.783455819518031E-2,2.3286431742628944E-2,2.5536959553695955E-2,2.3626671080534997E-2,2.5536959553695955E-2,2.5871817895017836E-2,2.057597463971373E-2,2.3862774518758689E-2,2.3070157790360129E-2,2.5778942214332138E-2,2.9314567461620526E-2,null,2.5536959553695955E-2,2.2613437965909415E-2,2.7892460619966638E-2,2.1077929729897353E-2,1.9350019277727799E-2]
[null,null,"25-29",null,3.0242329136625615E-2,2.8410831629558771E-2,3.4971292222802181E-2,2.696663321837239E-2,2.5424568674264608E-2,3.0008260857458439E-2,3.1739482156721156E-2,2.3651267503422342E-2,2.9757590141956343E-2,2.7243144710514887E-2,2.6374569175924144E-2,2.5243548111433943E-2,2.850425182161042E-2,3.2921896792189681E-2,2.9172120306728708E-2,3.2921896792189681E-2,2.8163904191035503E-2,2.886106414997373E-2,3.2087720840553752E-2,2.8736584945247608E-2,2.8796182275425686E-2,3.2880223092612015E-2,null,3.2921896792189681E-2,3.1465229009520486E-2,2.7152787736525501E-2,3.1097466430985828E-2,2.5136015079467076E-2]
[null,null,"30-34",null,3.5716610140075065E-2,2.8317045873739365E-2,4.4565406507096166E-2,3.216938890809589E-2,3.0677057525113745E-2,3.6644792411149374E-2,3.6186050046963139E-2,2.9687783477099175E-2,3.4876485794743832E-2,3.2918206481105675E-2,3.4258834667100571E-2,2.8653221671509143E-2,3.3736976409267871E-2,3.8751743375174334E-2,3.4495119003126434E-2,3.8751743375174334E-2,3.2455650738952117E-2,3.5080287643856914E-2,3.8558905962937082E-2,3.3930963124766476E-2,3.3614528309865735E-2,3.5632630477497665E-2,null,3.8751743375174334E-2,3.8415003811838294E-2,3.0892664407393709E-2,3.5984742766769003E-2,3.1018399520198775E-2]
[null,null,"35-39",null,3.56226000303725E-2,2.9848879885456332E-2,4.6089859899419217E-2,3.0145626565253686E-2,2.9595927744492996E-2,3.8296963902837468E-2,3.7141600655855193E-2,3.2870973594365915E-2,3.4722534045787817E-2,3.3395281937353583E-2,3.5212934337233555E-2,3.3438728422491883E-2,3.4685896794971714E-2,3.7834728033472806E-2,3.5161943458557519E-2,3.7834728033472806E-2,3.2352512922561701E-2,3.7132160725393742E-2,3.8670657951004946E-2,3.4648348805794267E-2,3.4853968470574287E-2,3.5260301143081291E-2,null,3.7834728033472806E-2,3.9294458653913705E-2,3.0802092217584592E-2,3.6490216144137437E-2,3.3896671379000126E-2]
[null,null,"40-44",null,3.2679360441992149E-2,2.9717579827309163E-2,4.0306879095932856E-2,2.9437309745258915E-2,3.100139645929997E-2,3.6579819374959389E-2,3.4769011928094819E-2,3.462750078342762E-2,3.3157357931401669E-2,3.1899970805830291E-2,3.5819416298093279E-2,3.5993847205605882E-2,3.3732008239709212E-2,3.5923988842398884E-2,3.4063396292456027E-2,3.5923988842398884E-2,3.1369670201664764E-2,3.620862702595435E-2,3.617486355082257E-2,3.3492024257752995E-2,3.4655075920323603E-2,3.3509229283043208E-2,null,3.5923988842398884E-2,3.6362075201194811E-2,3.0502071838841883E-2,3.3872918411014981E-2,3.5487083922375019E-2]
[null,null,"45-49",null,3.1355987359256016E-2,2.7573012210905409E-2,3.3372273175419846E-2,2.7658085352176811E-2,2.9073381683859634E-2,3.0685836806296815E-2,3.1267136117098381E-2,3.3563688542164898E-2,2.9276490926468796E-2,2.9678365696138537E-2,3.3852047986036124E-2,3.5079473594257393E-2,3.094548613849642E-2,3.1143654114365413E-2,3.0975445573155388E-2,3.1143654114365413E-2,2.9103065013225907E-2,3.2877036449051086E-2,3.1037252152715796E-2,3.0757911074066623E-2,3.1893359003056891E-2,3.0117479616661495E-2,null,3.1143654114365413E-2,3.0957851216015447E-2,2.8464197568136704E-2,3.130523769652991E-2,3.4142997900869637E-2]
[null,null,"50-54",null,3.5600905389671908E-2,3.2518647734448757E-2,3.1160158741994549E-2,3.4522012631649959E-2,3.5298887337267444E-2,3.4138689586678671E-2,3.4752724133625068E-2,3.5724299450776008E-2,3.4004092550659747E-2,3.5033003652831476E-2,3.6699554753487268E-2,3.8907878995043582E-2,3.4804511843184699E-2,3.1778242677824267E-2,3.4346994361248065E-2,3.1778242677824267E-2,3.4407988933918991E-2,3.5220216992256817E-2,3.2563039296469087E-2,3.4495904348575863E-2,3.4591906971436985E-2,3.3596239779368334E-2,null,3.1778242677824267E-2,3.3148682508996198E-2,3.4215531621015767E-2,3.5116444940614631E-2,3.7074819003555672E-2]
[null,null,"55-59",null,3.6721795159202507E-2,3.2931305060054143E-2,3.0397932045833024E-2,3.9100774932330447E-2,3.8253975404297494E-2,3.2152371051727816E-2,3.3911188086021275E-2,3.7868417146344278E-2,3.5691147132969406E-2,3.704099288659133E-2,3.662559353874828E-2,3.7284224918817298E-2,3.557209403999749E-2,3.2311715481171545E-2,3.5079183427330102E-2,3.2311715481171545E-2,3.6394301938990951E-2,3.4710110913089884E-2,3.2726942212301956E-2,3.5735923892737047E-2,3.4994121280374484E-2,3.4238753548265853E-2,null,3.2311715481171545E-2,3.3036799200684829E-2,3.651568785804319E-2,3.5116444940614631E-2,3.72354667352097E-2]
[null,null,"60-64",null,3.0517127918833119E-2,3.1980942734417497E-2,2.4374684131600096E-2,3.7953976271386532E-2,3.6902563178521558E-2,2.9024383452295868E-2,2.9046566804389017E-2,3.2788507529151752E-2,3.121371710083198E-2,3.4605771900967683E-2,3.0390663136251349E-2,3.019996581780892E-2,3.1483290493221246E-2,2.9884937238493725E-2,3.124164822137096E-2,2.9884937238493725E-2,3.3559832067367193E-2,2.930629389488253E-2,2.9064457056691039E-2,3.1923432874428767E-2,3.1079439224247343E-2,3.083400571331131E-2,null,2.9884937238493725E-2,2.8452185497321307E-2,3.5043889773645004E-2,2.9677179272490466E-2,3.1109433234802725E-2]
[null,null,"65-69",null,2.5982948012409336E-2,2.9254903431933425E-2,1.8856825657213399E-2,3.3805263468560005E-2,3.3010495968286861E-2,2.4040023390293028E-2,2.4985476716597805E-2,2.7419966683709652E-2,2.5825405887371467E-2,3.2013899272993966E-2,2.5494430720530155E-2,2.5593915569988038E-2,2.713986825656373E-2,2.3772663877266387E-2,2.6630807500694499E-2,2.3772663877266387E-2,2.9687917101463342E-2,2.4468554695202076E-2,2.3408316433949361E-2,2.7450809070790103E-2,2.6144457367656044E-2,2.5899384940137847E-2,null,2.3772663877266387E-2,2.313642738383E-2,3.1790838623000806E-2,2.5413216733339534E-2,2.6150773251081696E-2]
[null,null,"70-74",null,2.4731890398675179E-2,2.7666797966724815E-2,1.6329878457982252E-2,3.085394338524846E-2,3.293842064957881E-2,2.0939881377799643E-2,2.3736745807250239E-2,2.7238541340238492E-2,2.4138351305061805E-2,3.0910217247345821E-2,2.3356951614573317E-2,2.4722269697487607E-2,2.5596630587405318E-2,2.1478382147838215E-2,2.4974025474275598E-2,2.1478382147838215E-2,2.8228213653020119E-2,2.2837741743850424E-2,2.1083875082137712E-2,2.5973730348058516E-2,2.4493944481137741E-2,2.3744794714139462E-2,null,2.1478382147838215E-2,2.0789479846693847E-2,3.0343570506675924E-2,2.4163488076410208E-2,2.5044981364863127E-2]
[null,null,"75-79",null,2.5165783212687025E-2,2.8217007734198662E-2,1.617246207507933E-2,2.9867359243112884E-2,3.1803234379927027E-2,2.1236900971810985E-2,2.312866814704621E-2,2.7147828668502912E-2,2.3952326275073287E-2,3.0418900732702453E-2,2.4569915536292768E-2,2.3850623824987181E-2,2.5446964479450718E-2,2.0041841004184099E-2,2.4629807000444374E-2,2.0041841004184099E-2,2.7994030140510107E-2,2.2776681664548645E-2,2.0446143736897078E-2,2.6013738395654299E-2,2.3948835471463401E-2,2.22657313046528E-2,null,2.0041841004184099E-2,2.0747848848252409E-2,2.9920900287566703E-2,2.4002232765838682E-2,2.5181531936769051E-2]
[null,null,"80-84",null,1.5352574069119126E-2,1.7337860059147552E-2,1.0530327508927165E-2,1.8146402340818442E-2,1.9514392540204515E-2,1.3560800839080353E-2,1.4800175908180273E-2,1.7458066005838598E-2,1.4240536778431359E-2,1.8627304381261617E-2,1.5768530982352855E-2,1.5783626730473423E-2,1.5900626672487705E-2,1.2200139470013947E-2,1.5341179546569913E-2,1.2200139470013947E-2,1.7048074356298688E-2,1.4697669921932145E-2,1.2592214015487336E-2,1.6189923260425947E-2,1.5471963268785353E-2,1.4375481464241882E-2,null,1.2200139470013947E-2,1.2884794017625524E-2,1.8316338468273317E-2,1.5037057710794803E-2,1.632180953604935E-2]
[null,null,"85-89",null,9.2274538446519092E-3,1.1204271628558388E-2,7.5228460882028848E-3,1.1349933806106704E-2,1.2054597053921349E-2,9.4025265229215598E-3,9.6749499150320054E-3,1.2856459566888226E-2,8.4160289429288035E-3,1.179871688063857E-2,1.0162270905137346E-2,1.1553580584515468E-2,1.0376643144453877E-2,7.6813110181311022E-3,9.9691573921839739E-3,7.6813110181311022E-3,1.0581939961657001E-2,1.0161414863804221E-2,8.099784095159053E-3,1.0730434282758026E-2,1.0411487173170555E-2,9.5352329819834696E-3,null,7.6813110181311022E-3,8.4120636225733687E-3,1.157248416873599E-2,9.4830526870716657E-3,1.1472925502291908E-2]
[null,null,"90+",null,5.7129220511559628E-3,8.2906608144355035E-3,4.5319348130473322E-3,7.1506269447091262E-3,8.2526239920717153E-3,4.8822595765614409E-3,6.4662544044910876E-3,8.7578961257442564E-3,5.3369939638085095E-3,7.690171533548373E-3,5.7319941422717922E-3,8.4771833874551367E-3,6.7598157057502219E-3,4.6269177126917714E-3,6.4373598812050917E-3,4.6269177126917714E-3,7.0279321474506756E-3,6.478728830915736E-3,4.8157656724713135E-3,7.0453252090937829E-3,7.0775587088941772E-3,6.0512472597239655E-3,null,4.6269177126917714E-3,4.9566907519338899E-3,7.8684589896672232E-3,6.1432071200421745E-3,7.5745405474874697E-3]
[null,"Broad age bands","0-15",null,0.18711695337926371,0.14990226126408765,0.21494193381425292,0.16562925980062079,0.1564812373670797,0.2060531504965899,0.18747924811224764,0.18540458985150479,0.19055548493707894,0.16549585642939466,0.1888042540960046,0.19115563482406281,0.18180574803769087,0.199513880354485,0.18447228787830497,0.199513880354485,0.1695341797636517,0.19469189044331847,0.20129792338102906,0.17930826071287068,0.17737384147716154,0.17619277510833373,null,0.199513880354485,0.20263264086467492,0.1589262343625476,0.18732277810906525,0.18842514204988106]
[null,"% total females","16-64",null,0.60602730461980636,0.61470424982503558,0.6407013230679649,0.57888945458128727,0.57512962474734164,0.61061562675253722,0.60973598243453109,0.58179941237195265,0.60749968221685524,0.58119751934580977,0.60699913768324232,0.59431933725601316,0.60142581351860036,0.62464326191744157,0.60492196150560162,0.62464326191744157,0.59566529375763544,0.6074748266775184,0.62133772013125332,0.59988315063494868,0.61207766510834349,0.62394784958187366,null,0.62464326191744157,0.61886470555183815,0.58957308201299985,0.60813425661121323,0.59480725882682894]
[null,null,"65+",null,0.20685574200092988,0.23539348891087675,0.14435674311778215,0.25548128561809191,0.26838913788557872,0.18333122275087288,0.20278476945322124,0.23279599777654253,0.20194483284606585,0.25330662422479555,0.20419660822075308,0.21452502791992398,0.2167684384437088,0.1758428577280734,0.21060575061609338,0.1758428577280734,0.23480052647871283,0.1978332828791631,0.17736435648771764,0.22080858865218062,0.21054849341449497,0.19985937530979261,null,0.1758428577280734,0.17850265358348699,0.25150068362445255,0.20454296527972154,0.21676759912328994]
[null,null,"60+",null,0.26631162207475662,0.29711369066293408,0.19194190146540291,0.32940268357174529,0.34038140434133052,0.23990086292671456,0.26008675627911959,0.29594219010561423,0.26379814414643449,0.31998792601942816,0.26325093417648748,0.27343190038837867,0.27812925520004356,0.2343615583138749,0.27153859361072358,0.2343615583138749,0.30015666758824072,0.25499868488310345,0.23435961418774598,0.28296663077615286,0.2713930847448669,0.26035168745598425,null,0.2343615583138749,0.23435815970537305,0.31939519342550687,0.26277518832678193,0.27711412812016328]
["Population","Average age",null,null,"Mid 2023","Mid 2023","Mid 2023","Mid 2023","Mid 2023","Mid 2023","Mid 2023","Mid 2023","Mid 2023","Mid 2023","Mid 2023","Mid 2023","Mid 2023","Mid 2023","Mid 2023","Mid 2023","Mid 2023","Mid 2023","Mid 2023","Mid 2023","Mid 2023","Mid 2023",null,"Mid 2023","Mid 2023","Mid 2023","Mid 2023","Mid 2023"]
[null,null,"Total",null,41.262201427507357,41.965167970288675,37.371469523359764,44.193328330143096,45.003198342267673,39.413395583689912,40.872336266946093,42.828091240454555,40.859198296267309,43.639907717941597,41.234767687824508,41.908280635788756,41.676760331153339,39.1301359832636,41.291756521042394,39.1301359832636,42.653186351833426,40.65309860821182,39.26095579240355,41.905571350559022,41.479181929420143,40.782300987070407,null,39.1301359832636,39.358578197325727,43.543850148311961,41.03951995534468,41.963101893501261]
[null,null,"Males",null,40.423825513327195,40.806358268993705,36.659368471115791,43.274964472635261,44.001256931608133,38.594796035074346,39.923344564092403,41.901332830162787,40.045439830102431,42.382517948338389,40.309252430439152,40.863380503971804,40.718812176681254,38.366276169709408,40.361667694371427,38.366276169709408,41.647503061471355,39.746860521267017,38.491446988354767,40.908382022047007,40.525608455046616,39.914035906699532,null,38.366276169709408,38.584606164746816,42.451166436577203,40.136370535262571,40.996811273832549]
[null,null,"Females",null,42.057215717767725,43.042751647078695,38.049558438197522,45.0636239714891,45.955918797785394,40.190278054163578,41.79548010496439,43.686143095370447,41.657989068259816,44.805361945008507,42.107688991089397,42.901521844215161,42.585849587567097,39.862015757923338,42.175687109897488,39.862015757923338,43.606022368256262,41.514585390788227,40.000449977939397,42.850007051254785,42.392430695084798,41.617459158150709,null,39.862015757923338,40.104018429507647,44.568146756256809,41.908520037482809,42.871235807996342]
["Population","Density",null,null,"Mid 2023","Mid 2023","Mid 2023","Mid 2023","Mid 2023","Mid 2023","Mid 2023","Mid 2023","Mid 2023","Mid 2023","Mid 2023","Mid 2023","Mid 2023","Mid 2023","Mid 2023","Mid 2023","Mid 2023","Mid 2023","Mid 2023","Mid 2023","Mid 2023","Mid 2023",null,"Mid 2023","Mid 2023","Mid 2023","Mid 2023","Mid 2023"]
[null,"Density","Area (hectares)",null,58062,30884,7287,31454,35670,9903,39333,36843,37341,10329,24013,33176,354295,19203,373499,19203,203740,150555,73720.58,911363.48,1906971,13027872,null,19203,54531,108337,97395,94032]
[null,null,null,null,2.3816437601184939,5.1787009454733841,16.563606422396049,3.7702994849621669,3.1117185309784134,10.879228516611128,4.6827600233900286,3.291317210867736,4.1748480222811386,13.596572756317165,5.630533461041936,3.5272486134555101,4.5449441849306371,14.935166380253085,5.0791327419885999,14.935166380253085,4.0450574261313434,5.2214207432499755,9.1036858364380748,4.7721080506758948,4.9725491368248393,4.6711179692278213,null,14.935166380253085,7.0478993599970661,4.8918098156677772,3.3109502541198212,3.9719244512506382]
["Population","KCC Housing led forecast (2021)",2022,null,136300,169300,118400,120400,114400,108400,177300,123300,153900,142700,135500,121000,1619000,284000,1903000,284000,837000,783900,664800,"n/a","n/a","n/a",null,284000,380800,546800,313600,379700]
[null,"Total Pop",2027,null,146200,181200,127400,128300,120700,114700,185900,130600,161900,154400,143600,126000,1721000,302200,2023200,302200,892800,828200,706100,"n/a","n/a","n/a",null,302200,403900,584700,332100,400300]
[null,null,2032,null,157000,191500,134100,130500,126200,118100,192500,138300,168800,167000,151700,130600,1806100,320400,2126500,320400,940800,865200,741400,"n/a","n/a","n/a",null,320400,421000,615100,349500,420500]
[null,null,2037,null,164400,195900,140300,132700,130800,120500,199800,145600,174500,172500,159500,135500,1872000,337500,2209400,337500,970800,901200,772800,"n/a","n/a","n/a",null,337500,435300,631900,364100,440600]
[null,null,2042,null,172200,201100,147400,135400,135900,123400,207400,152500,180700,178800,167300,140800,1942800,352600,2295500,352600,1004100,938700,804100,"n/a","n/a","n/a",null,352600,451500,651300,379600,460500]
[null,"0-15",2022,null,27800,26800,27200,20900,18900,23200,35700,24800,31300,26600,27600,23900,314600,59800,374400,59800,152300,162500,141500,"n/a","n/a","n/a",null,59800,81700,93200,63500,76300]
[null,null,2027,null,28800,27400,28500,21200,18500,23800,36600,25200,31400,26800,28600,23300,320000,61900,381900,61900,154000,166000,145600,"n/a","n/a","n/a",null,61900,83700,93900,65400,77100]
[null,null,2032,null,29900,27600,28600,20500,18200,23600,36600,25900,31200,27600,29300,23000,322100,63600,385700,63600,155000,167100,147000,"n/a","n/a","n/a",null,63600,83400,93900,66500,78200]
[null,null,2037,null,31300,28700,28700,20400,18500,23900,37400,27400,31700,28600,30500,23700,330800,67200,398000,67200,159300,171500,151600,"n/a","n/a","n/a",null,67200,84400,96200,68700,81500]
[null,null,2042,null,33200,30000,30200,20500,19200,24600,38900,29200,33100,30100,32100,24900,346000,71700,417800,71700,166100,180000,159600,"n/a","n/a","n/a",null,71700,87900,99800,72100,86300]
[null,"16-64",2022,null,81100,106600,74900,70300,66200,66200,107000,71700,92400,81100,81700,72800,970800,177600,1148400,177600,497700,474300,411000,"n/a","n/a","n/a",null,177600,233500,324200,188100,226300]
[null,null,2027,null,86800,114000,80900,74300,69300,70000,111000,76300,97200,88400,85900,75800,1029900,188900,1218800,188900,530100,499800,437100,"n/a","n/a","n/a",null,188900,248100,346100,197800,237900]
[null,null,2032,null,91700,119300,85300,73500,70600,71400,113000,80300,100300,95000,89400,76900,1066800,199700,1266500,199700,550400,516400,456800,"n/a","n/a","n/a",null,199700,257100,358300,204800,246600]
[null,null,2037,null,94000,119000,89200,73200,71000,71700,115600,83800,102500,95900,92700,78100,1086600,208700,1295300,208700,555500,531100,472200,"n/a","n/a","n/a",null,208700,263400,359100,209600,254500]
[null,null,2042,null,97600,120900,93000,74600,73300,72900,119400,87200,105700,98500,96600,80000,1119700,217000,1336700,217000,570600,549100,488700,"n/a","n/a","n/a",null,217000,271700,367300,217000,263800]
[null,"65+",2022,null,27400,35900,16300,29200,29300,19100,34600,26800,30200,34900,26100,24200,333500,46700,380200,46700,187000,147100,112200,"n/a","n/a","n/a",null,46700,65600,129400,62000,77200]
[null,null,2027,null,30600,39900,17900,32800,32900,20900,38300,29200,33300,39200,29100,27000,371100,51300,422500,51300,208700,162400,123500,"n/a","n/a","n/a",null,51300,72100,144800,69000,85300]
[null,null,2032,null,35300,44600,20200,36400,37400,23000,42900,32100,37300,44400,33000,30600,417200,57000,474200,57000,235400,181800,137500,"n/a","n/a","n/a",null,57000,80500,162800,78200,95700]
[null,null,2037,null,39100,48200,22300,39100,41200,24900,46800,34500,40300,48000,36300,33800,454600,61600,516100,61600,256000,198600,149100,"n/a","n/a","n/a",null,61600,87500,176600,85900,104500]
[null,null,2042,null,41400,50200,24200,40300,43400,25900,49100,36100,41900,50200,38600,35800,477100,63900,541000,63900,267400,209700,155900,"n/a","n/a","n/a",null,63900,91900,184200,90500,110500]
["Health","Births and Deaths",null,null,2017,2017,2017,2017,2017,2017,2017,2017,2017,2017,2017,2017,2017,2017,2017,2017,2017,2017,2017,2017,2017,2017,null,2017,2017,2017,2017,2017]
[null,null,"Male deaths - (positive)",null,519,807,408,660,643,485,753,523,657,844,558,476,7333,1050,8383,1050,4130,3203,2600,20207,39881,262678,null,1050,1536,2954,1272,1557,"Births and deaths by sex no longer available below regional and national level"]
[null,null,"Female deaths - (positive)",null,559,861,476,687,681,456,771,562,656,860,478,554,7601,1147,8748,1147,4304,3297,2735,21489,42034,270575,null,1147,1613,3089,1330,1594,"Death summary tables released August 2018"]
[null,null,"Male live births",null,814,676,830,585,565,714,1031,606,921,841,747,643,8973,1855,10828,1855,4402,4571,4320,24344,51038,348071,null,1855,2109,2667,1845,1996,"Summary: Live births by area of usual residence of mother, 2017 released January 2019"]
[null,null,"Male deaths",null,-519,-807,-408,-660,-643,-485,-753,-523,-657,-844,-558,-476,-7333,-1050,-8383,-1050,-4130,-3203,-2600,-20207,-39881,-262678,null,-1050,-1536,-2954,-1272,-1557]
[null,null,"Female live births",null,757,671,785,543,496,661,979,622,893,765,748,574,8494,1746,10240,1746,4125,4369,4085,22923,48070,331035,null,1746,1942,2475,1736,1944,"Summary: Live births by area of usual residence of mother, 2017 released January 2019"]
[null,null,"Female deaths",null,-559,-861,-476,-687,-681,-456,-771,-562,-656,-860,-478,-554,-7601,-1147,-8748,-1147,-4304,-3297,-2735,-21489,-42034,-270575,null,-1147,-1613,-3089,-1330,-1594]
[null,"Births ",2004,null,1298,1322,1158,1079,1042,1120,1618,1192,1493,1400,1353,1198,15273,3151,18424,3151,7634,7639,6922,"n/a",93634,639509,null,3151,3320,4843,2916,3743,"Birth summary tables"]
[null,null,2005,null,1322,1415,1242,1151,1066,1203,1658,1232,1497,1416,1282,1129,15613,3134,18747,3134,7867,7746,7076,"n/a",93921,645621,null,3134,3511,5048,2980,3643,"Birth summary tables"]
[null,null,2006,null,1410,1431,1199,1139,1155,1199,1712,1304,1588,1482,1344,1317,16280,3257,19537,3257,8205,8075,7243,"n/a",98566,669376,null,3257,3553,5207,3122,3965,"Birth summary tables"]
[null,null,2007,null,1383,1348,1318,1195,1108,1329,1791,1265,1632,1544,1378,1272,16563,3345,19908,3345,8210,8353,7624,"n/a",101238,689771,null,3345,3755,5195,3174,3915,"Birth summary tables"]
[null,null,2008,null,1528,1481,1313,1204,1195,1226,1753,1331,1712,1600,1342,1410,17095,3419,20514,3419,8720,8375,7670,46362,104023,708459,null,3419,3734,5480,3281,4083,"Birth summary tables"]
[null,null,2009,null,1471,1453,1376,1206,1188,1337,1818,1268,1693,1633,1388,1313,17144,3515,20659,3515,8644,8500,7921,46828,103669,706248,null,3515,3901,5480,3289,3969,"Birth summary tables"]
[null,null,2010,null,1495,1481,1390,1241,1185,1302,1880,1363,1800,1627,1396,1398,17558,3538,21096,3538,8829,8729,8030,47587,106434,723165,null,3538,3877,5534,3375,4157,"Birth summary tables"]
[null,null,2011,null,1449,1482,1469,1170,1185,1396,1982,1345,1708,1692,1361,1373,17612,3564,21176,3564,8686,8926,8137,47559,107132,723913,null,3564,4050,5529,3431,4079,"Birth summary tables"]
[null,null,2012,null,1597,1419,1560,1257,1230,1472,2040,1383,1777,1654,1432,1326,18147,3693,21840,3693,8934,9213,8502,48972,107858,729674,null,3693,4262,5560,3637,4141,"Birth summary tables"]
[null,null,2013,null,1452,1413,1442,1150,1067,1389,1875,1212,1683,1615,1403,1254,16955,3503,20458,3503,8380,8575,8017,46234,102190,698512,null,3503,3898,5245,3327,3869,"Birth summary tables"]
[null,null,2014,null,1474,1366,1494,1170,1092,1454,1979,1298,1771,1586,1424,1197,17305,3531,20836,3531,8459,8846,8250,47005,102406,695233,null,3531,4040,5214,3453,3919,"Birth summary tables"]
[null,null,2015,null,1523,1375,1500,1130,1056,1410,2006,1300,1707,1677,1358,1255,17297,3609,20906,3609,8468,8829,8226,47025,102703,697852,null,3609,3966,5238,3529,3913,"Birth summary tables"]
[null,null,2016,null,1565,1382,1514,1173,1054,1417,2035,1246,1813,1553,1431,1191,17374,3657,21031,3657,8540,8834,8401,47544,101982,696271,null,3657,3985,5162,3600,3868,"Birth summary tables"]
[null,null,2017,null,1571,1347,1615,1128,1061,1375,2010,1228,1814,1606,1495,1217,17467,3601,21068,3601,8527,8940,8405,47267,99108,679106,null,3601,4051,5142,3581,3940,"Birth summary tables"]
[null,null,2018,null,1460,1305,1668,1052,984,1311,2078,1260,1743,1533,1493,1175,17062,3475,20537,3475,8077,8985,8197,46125,96748,657076,null,3475,3963,4874,3538,3928,"Birth summary tables"]
[null,null,2019,null,1378,1310,1612,1073,1027,1343,1891,1217,1717,1414,1425,1130,16537,3330,19867,3330,7919,8618,8002,44968,93664,640370,null,3330,3982,4824,3269,3772,"Birth summary tables"]
[null,null,2020,null,1423,1171,1680,1045,938,1283,1815,1181,1559,1383,1368,1094,15940,3265,19205,3265,7519,8421,7787,42953,90864,613936,null,3265,3901,4537,3238,3643,"Birth summary tables"]
[null,null,2021,null,1415,1279,1703,1051,978,1257,2071,1275,1669,1360,1404,1170,16632,3272,19904,3272,7752,8880,7901,44858,94291,624828,null,3272,3938,4668,3486,3849,"Birth summary tables"]
[null,null,2022,null,1441,1250,1653,1100,953,1323,1979,1211,1658,1360,1354,1082,16364,3293,19657,3293,7762,8602,7927,43676,90589,605479,null,3293,3929,4663,3420,3647,"Birth summary tables"]
[null,null,2023,null,1364,1211,1505,990,898,1275,1915,1092,1607,1251,1253,1068,15429,3243,18672,3243,7321,8108,7630,42005,88164,591072,null,3243,3678,4350,3279,3413,"Birth summary tables"]
[null,"Deaths",2004,null,922,1663,844,1168,1176,851,1330,992,1205,1778,867,1006,13802,2055,15857,2055,7912,5890,4955,"n/a",80171,535356,null,2055,2871,5785,2252,2865,"Death summary tables"]
[null,null,2005,null,961,1610,850,1242,1244,849,1379,939,1139,1867,920,964,13964,2101,16065,2101,8063,5901,4939,"n/a",76849,512993,null,2101,2943,5963,2340,2823,"Death summary tables"]
[null,null,2006,null,936,1567,732,1174,1175,834,1319,963,1225,1753,890,955,13523,2163,15686,2163,7830,5693,4954,"n/a",75497,502599,null,2163,2741,5669,2255,2808,"Death summary tables"]
[null,null,2007,null,941,1562,772,1219,1145,897,1322,1030,1237,1656,896,983,13660,2054,15714,2054,7760,5900,4960,"n/a","n/a",504052,null,2054,2814,5582,2263,2909,"Death summary tables"]
[null,null,2008,null,904,1562,789,1206,1114,856,1311,1039,1210,1703,931,945,13570,2112,15682,2112,7699,5871,4967,38079,75917,509090,null,2112,2759,5585,2215,2915,"Death summary tables"]
[null,null,2009,null,963,1540,829,1202,1134,873,1304,985,1227,1800,915,926,13698,2011,15709,2011,7866,5832,4940,37217,73976,491348,null,2011,2836,5676,2267,2826,"Death summary tables"]
[null,null,2010,null,948,1493,837,1188,1135,844,1431,977,1200,1636,967,922,13578,2092,15670,2092,7600,5978,4973,37993,75157,493242,null,2092,2816,5452,2379,2866,"Death summary tables"]
[null,null,2011,null,888,1481,858,1231,1159,832,1307,997,1160,1689,933,899,13434,2013,15447,2013,7608,5826,4863,37314,74135,484367,null,2013,2849,5560,2195,2829,"Death summary tables"]
[null,null,2012,null,947,1507,869,1215,1197,824,1364,1020,1147,1651,921,933,13595,2130,15725,2130,7664,5931,4970,38075,76579,499331,null,2130,2890,5570,2311,2874,"Death summary tables"]
[null,null,2013,null,1018,2128,855,1196,1185,907,1442,1049,1277,1644,971,966,14638,2048,16686,2048,8448,6190,5087,38672,77778,506790,null,2048,2947,6153,2460,2986,"Death summary tables"]
[null,null,2014,null,1087,1562,823,1231,1228,894,1431,1002,1268,1652,887,949,14014,2227,16241,2227,8028,5986,5212,38930,76971,501424,null,2227,2945,5673,2518,2838,"Death summary tables"]
[null,null,2015,null,1075,1628,935,1335,1330,858,1441,1102,1323,1721,1020,1043,14811,2313,17124,2313,8412,6399,5429,41213,81049,529655,null,2313,3123,6014,2516,3165,"Death summary tables"]
[null,null,2016,null,1077,1601,913,1296,1259,866,1519,1002,1322,1798,1025,1066,14744,2144,16888,2144,8353,6391,5245,40785,80429,525048,null,2144,3038,5954,2596,3093,"Death summary tables"]
[null,null,2017,null,1078,1668,884,1347,1324,941,1524,1085,1313,1704,1036,1030,14934,2197,17131,2197,8434,6500,5335,41696,81915,533253,null,2197,3149,6043,2602,3151,"Death summary tables"]
[null,null,2018,null,1179,1684,913,1318,1319,941,1601,1144,1337,1805,1162,1104,15507,2329,17836,2329,8642,6865,5520,42416,82623,541589,null,2329,3173,6126,2780,3410,"Death summary tables"]
[null,null,2019,null,1162,1706,868,1222,1384,881,1528,1130,1399,1684,1062,1074,15100,2266,17366,2266,8557,6543,5414,41627,81234,530841,null,2266,3133,5996,2690,3266,"Death summary tables"]
[null,null,2020,null,1334,1781,984,1515,1487,1114,1709,1222,1639,2044,1220,1184,17233,2626,19859,2626,9800,7433,6363,46441,91410,607922,null,2626,3585,6827,3043,3626,"Death summary tables"]
[null,null,2021,null,1252,1821,958,1468,1403,1098,1678,1297,1534,1796,1185,1114,16604,2043,18647,2043,9274,7330,5633,46608,90194,586334,null,2043,3459,6488,2930,3596,"Death summary tables"]
[null,null,2022,null,1224,1710,900,1419,1493,970,1709,1174,1515,1825,1235,1133,16307,2427,18734,2427,9186,7121,5812,44119,88237,576027,null,2427,3363,6447,2933,3542,"Death summary tables"]
[null,null,2023,null,1285,1784,868,1421,1446,946,1665,1215,1472,1823,1224,1115,16264,2514,18778,2514,9231,7033,5800,44611,89299,581363,null,2514,3260,6474,2950,3554,"Death summary tables"]
[null,"Mortality Rates",null,null,2023,2023,2023,2023,2023,2023,2023,2023,2023,2023,2023,2023,2023,2023,2023,2023,2023,2023,2023,2023,2023,2023]
[null,null,"All Deaths",null,929,962.13,952.25,981.64,1018.31,965.67,901.38,800.75,994.4,1077.46,883.22,839.58,942.67,1042.3900000000001,955.81,"-",993.59,884.19,1003.46,null,885.7,969.53]
[null,null,"Cancers",null,235.19,250.91,250.03,228.05,248.33,268.24,235.19,212.04,260.81,299.08999999999997,233.91,231.33,246.33,279.85000000000002,250.62,"-",254.99,236.18,268.7,null,239.1,253.82]
[null,null,"Circulatory Diseases",null,238.57,232.04,203.23,246.15,247.77,268.37,210.59,204.31,239.51,257.88,204.72,198.71,229.31,229.18,229.87,"-",243.41,213.24,234.63,null,213.03,233.92]
[null,null,"Respiratory Diseases",null,112.45,120.27,125.73,126.39,115.51,121.78,100.78,92.75,140.87,130.75,103.21,82.6,114.24,156.33000000000001,119.5,"-",124.26,101.84,142.04,null,105.38,118.71]
[null,"All Deaths",2015,null,910.26,955.66,1116.0999999999999,1051.6600000000001,1007.79,944.65,929.54,865.59,1038.69,1058.6199999999999,868.11,868.09,966.08,1104.1400000000001,983.68,1104.1400000000001,1003.75,921.88,1060.47,967.53,912.6,991.1,"E&W"]
[null,"All Deaths",2016,null,891.67,937.78,1073.76,999.85,929.48,934.47,959.5,774.71,1001.51,1097.07,865.38,872.86,943.95,1001.89,951.44,1001.89,978.34,904.67,1002.25,941.86,889.27,964.78]
[null,"All Deaths",2017,null,868.8,957.21,1028.19,1012.1,967.53,996.68,944.3,819.46,976.19,1037.01,844.04,834.39,937.82,1015.51,947.01,1015.51,970.79,900.99,1003.23,945.85,888.29,963.27]
[null,"All Deaths",2018,null,928.31,953.88,1068.04,971.8,943.19,967.8,970.62,848.26,972.3,1087.51,937.42,862.15,956.65,1063.55,969.6,1063.55,978.26,932.85,1022.24,"-",880.88,963.06]
[null,"All Deaths",2019,null,908.57,940.92,980.3,881.87,977.56,884.88,893.52,810.68,996.58,1000.91,828.14,820.78,911.38,1016.04,923.7,1016.04,951.64,863.52,981.44,"-",845.75,922.71]
[null,"All Deaths",2020,null,1024.56,972.37,1128.79,1082.07,1031.55,1131.0899999999999,986.13,870.13,1154.9000000000001,1218.44,933.55,878.72,1028.29,1164.18,1044.8499999999999,1164.18,1077.77,971.1,1150.4000000000001,"-",940.9,1046.82]
[null,"All Deaths",2021,null,949.96,1013.76,1094.53,1069.17,1025.9000000000001,1120.07,951.59,918.22,1062.19,1078.3900000000001,898.23,893.58,1001.38,1148.28,1020.43,1148.28,1034.32,964.18,1111.1400000000001,null,931.8,1012.79]
[null,"All Deaths",2022,null,895.88,927.59,993.45,1008.39,1065.08,992.21,947.02,799.11,1031.73,1081.02,910.92,878.08,960.08,1022.46,968.31,1022.46,999.68,912.59,1015.52,null,889.65,976.72]
[null,"All Deaths",2023,null,929,962.13,952.25,981.64,1018.31,965.67,901.38,800.75,994.4,1077.46,883.22,839.58,942.67,1042.3900000000001,955.81,"-",993.59,884.19,1003.46,null,885.7,969.53]
[null,"Cancers",2015,null,287.38,262.23,348.59,298.06,311.83,287.99,263.01,250.16,290.81,313.62,264.52,246.94,283.58999999999997,325.57,289.11,325.57,293.29000000000002,271.85000000000002,313.35000000000002,280.08,264.64,277.58]
[null,"Cancers",2016,null,270.25,263.14999999999998,288.89999999999998,293.70999999999998,290.72000000000003,283.62,254.46,234.2,291.87,331.47,266.55,240.93,276.33,312.22000000000003,281.04000000000002,312.22000000000003,290.89,258.7,298.72000000000003,278.85000000000002,261.43,276.08999999999997]
[null,"Cancers",2017,null,246.26,285.41000000000003,292.55,274,304.89,289.27,269.83999999999997,243.12,296.17,319.83,242.21,232.42,275.33999999999997,289.79000000000002,277.2,289.79000000000002,289.13,258.89,291.99,273.63,259.05,271.37]
[null,"Cancers",2018,null,284.63,272.11,307.55,286.57,272.52,276.92,280.83,274.33,272.33,303.39999999999998,255.62,236.73,276.37,296.73,279.05,296.73,281.74,270.22000000000003,288.26,"-",253.55,267.10000000000002]
[null,"Cancers",2019,null,273.33999999999997,273.06,252.65,250.83,283.58999999999997,263.32,250.71,235.55,272.39,286.20999999999998,260,230.11,262.08,295.95999999999998,266.26,295.95999999999998,273.57,248.2,278.05,"-",246.78,263.20999999999998]
[null,"Cancers",2020,null,273.24,246.44,281.07,269.98,259.72000000000003,288.51,241.11,231.63,291.07,300.05,250.34,233.54,262.47000000000003,285.5,265.27999999999997,285.5,273.24,249.86,286.85000000000002,"-",247.88,260.7]
[null,"Cancers",2021,null,247.84,249.27,247.38,255.77,260.16000000000003,274.91000000000003,214.61,250.78,268.82,279.64,221.34,230.99,249.23,280.52,253.41,280.52,260.08,236.32,271.05,null,239.17,255.34]
[null,"Cancers",2022,null,247.98,256.61,271.14,270.99,283.44,279.05,242.58,220.08,261.58,296.7,261.51,243.92,260.93,259.31,260.86,259.31,269.70999999999998,250.04,265.01,null,243.78,258.02999999999997]
[null,"Cancers",2023,null,235.19,250.91,250.03,228.05,248.33,268.24,235.19,212.04,260.81,299.08999999999997,233.91,231.33,246.33,279.85000000000002,250.62,"-",254.99,236.18,268.7,null,239.1,253.82]
[null,"Circulatory Diseases",2015,null,232.49,289.11,233.28,308.2,233.92,235.84,216.87,230.43,245.86,286.08999999999997,219.91,210.43,247.85,262.23,250.17,262.23,268.16000000000003,223.4,248.57,251.83,239.51,259.69]
[null,"Circulatory Diseases",2016,null,231.25,238.97,257.66000000000003,241.56,224.97,232.6,243.84,188.8,234.54,269.69,212.45,228.2,233.88,225.9,233.01,225.9,241.34,225.05,233.58,236.44,225.32,245.79]
[null,"Circulatory Diseases",2017,null,204.94,226.87,227.18,228.9,220.41,256.24,204.8,209.62,212.02,248.21,204.25,212.52,220.85,217.23,220.69,217.23,225.23,216.05,224.3,227.01,216.43,241.04]
[null,"Circulatory Diseases",2018,null,222.7,240.26,227.06,232.15,218.66,231.12,212.29,199.6,231.17,259.81,221.93,190.98,224.73,242.33,226.82,242.33,235.68,212.14,234.28,"-",212.02,234.98]
[null,"Circulatory Diseases",2019,null,213.84,207.53,229.22,207.35,236.61,198.8,201.61,189.13,231.53,232.26,197.06,187.58,210.71,224.63,212.43,224.63,220.96,198.75,221.98,"-",204.29,224.65]
[null,"Circulatory Diseases",2020,null,192.82,193.12,197.91,222.42,221.58,214.31,206.29,173.19,244.39,250.76,192.38,199.85,209.6,233.7,212.61,233.7,220.18,197.18,227.66,"-",210.12,228.73]
[null,"Circulatory Diseases",2021,null,212.95,206.45,212.41,240.04,217.05,238.06,188.49,192.13,239.02,234.68,195.71,204.59,213.9,238.6,217.3,238.6,224.29,201.92,234.41,null,209.34,232.23]
[null,"Circulatory Diseases",2022,null,193.68,219.62,211.38,239.78,260.10000000000002,238.51,202.74,190.14,244.07,260.62,238.53,198.42,225.06,244.81,227.9,244.81,236.26,211.82,238.62,null,214.79,237.5]
[null,"Circulatory Diseases",2023,null,238.57,232.04,203.23,246.15,247.77,268.37,210.59,204.31,239.51,257.88,204.72,198.71,229.31,229.18,229.87,"-",243.41,213.24,234.63,null,213.03,233.92]
[null,"Respiratory Diseases",2015,null,136.29,139.85,171.8,156.88,143.71,143.36000000000001,137.51,108.37,175.23,161.36000000000001,140.01,132.43,145.34,167.44,148.11000000000001,167.44,152.26,136.66,165.91,140.01,126.26,142.26]
[null,"Respiratory Diseases",2016,null,117.4,143.96,138.52000000000001,151.66999999999999,129.33000000000001,132.41999999999999,135.37,109.5,142.08000000000001,151.88999999999999,119.93,108.29,132.24,151.53,134.62,151.53,140.03,123.16,143.52000000000001,131.65,118.06,133.55000000000001]
[null,"Respiratory Diseases",2017,null,129.25,129.54,136.77000000000001,168.69,127.67,132.58000000000001,130.85,105.07,144.88999999999999,150.97,121.3,116.91,132.81,169.93,137.13999999999999,169.93,141.37,122.51,151.07,134.87,119.82,133.41]
[null,"Respiratory Diseases",2018,null,142.16,133.86000000000001,128.22999999999999,151.13999999999999,155.4,137.12,126.63,114.85,156.87,180.75,117.85,121.68,139.93,172.95,143.65,172.95,153.29,123.58,155.11000000000001,"-",120.07,136.97999999999999]
[null,"Respiratory Diseases",2019,null,153.97,129.6,129.33000000000001,124.95,142.47,120.26,89.28,117.89,160.88999999999999,162.54,101.38,131.22,130.47999999999999,152.01,132.78,152.01,145.29,112.31,144.77000000000001,"-",110.48,126.16]
[null,"Respiratory Diseases",2020,null,99.45,99.22,111.18,126.53,109.85,120.79,94.03,84.32,131.79,141.55000000000001,97.12,78.3,107.22,126.05,109.59,126.05,117.4,95.1,123.98,"-",94.55,106.82]
[null,"Respiratory Diseases",2021,null,79.3,97.69,105.01,105.75,92.39,93.09,83.62,63.56,100.04,108.99,88.97,78.47,91.16,117.75,94.24,117.75,97.66,83.38,106.6,null,83.12,94.95]
[null,"Respiratory Diseases",2022,null,107.13,101.85,82.19,117.37,125.58,101.08,114.88,82.28,115.75,117.65,73.7,82.49,103.16,122.88,105.67,122.88,113.62,90.69,111.01,null,94.88,108.21]
[null,"Respiratory Diseases",2023,null,112.45,120.27,125.73,126.39,115.51,121.78,100.78,92.75,140.87,130.75,103.21,82.6,114.24,156.33000000000001,119.5,"-",124.26,101.84,142.04,null,105.38,118.71]
[null,"Life Expectancy",null,null,"2021-23","2021-23","2021-23","2021-23","2021-23","2021-23","2021-23","2021-23","2021-23","2021-23","2021-23","2021-23","2021-23","2021-23","2021-23","2021-23","2021-23","2021-23","2021-23","2021-23","2021-23","2021-23",null,"2021-23","2021-23","2021-23","2021-23","2021-23"]
[null,"Life Expectancy","Males - Birth",null,80.12,79.27,79.41,78.28,77.819999999999993,78.040000000000006,79.97,81.67,78.260000000000005,77.349999999999994,80.66,80.709999999999994,79.31,78.040000000000006,"n.a.","n.a.","n.a.","n.a.","n.a.","n.a.",80.319999999999993,79.11,null,"n.a.","n.a.","n.a.","n.a.","n.a.","England"]
[null,"Life Expectancy","Females - Birth",null,83.55,83.52,82.89,83.19,82.62,83.3,83.69,84.77,82.67,81.92,84.37,84.04,83.34,82.08,"n.a.","n.a.","n.a.","n.a.","n.a.","n.a.",84.06,83.05,null,"n.a.","n.a.","n.a.","n.a.","n.a."]
[null,"Life Expectancy","Males - 65",null,19.010000000000002,18.670000000000002,18.14,18.329999999999998,18.600000000000001,17.77,18.989999999999998,19.68,18,17.96,19.2,19.8,18.670000000000002,17.86,"n.a.","n.a.","n.a.","n.a.","n.a.","n.a.",19.260000000000002,18.670000000000002,null,"n.a.","n.a.","n.a.","n.a.","n.a."]
[null,"Life Expectancy","Females - 65",null,21.53,21.35,20.68,20.94,20.84,21.17,21.59,22.2,20.98,20.420000000000002,21.81,22.02,21.28,20.420000000000002,"n.a.","n.a.","n.a.","n.a.","n.a.","n.a.",21.79,21.14,null,"n.a.","n.a.","n.a.","n.a.","n.a."]
["Health","Disability Benefits (AA+DLA+PIP)",null,null,"Nov 2023","Nov 2023","Nov 2023","Nov 2023","Nov 2023","Nov 2023","Nov 2023","Nov 2023","Nov 2023","Nov 2023","Nov 2023","Nov 2023","Nov 2023","Nov 2023","Nov 2023","Nov 2023","Nov 2023","Nov 2023","Nov 2023","Nov 2023","Nov 2023","Nov 2023",null,"Nov 2023","Nov 2023","Nov 2023","Nov 2023","Nov 2023","Department for Work and Pensions"]
[null,"All People","Total",null,12055,15034,8897,13201,13675,9778,14396,9344,17219,18451,10371,7933,150354,26644,176998,26644,89635,60719,62538,396652,719598,5100123,null,26644,32350,60361,26451,27648]
[null,"All People","0-15",null,2016,2162,1756,1915,1609,1739,2270,1504,3110,2805,1748,997,23631,4236,27867,4236,13617,10014,10841,58436,106355,647422,null,4236,5104,8491,4286,4249]
[null,"All People","16-64",null,5817,7077,4303,6308,6480,4815,6732,3727,8732,8888,4621,3656,71156,14052,85208,14052,43302,27854,31902,185329,338445,2580749,null,14052,15598,28753,12549,12004]
[null,"All People","65+",null,886,1139,597,1071,1089,694,937,689,1312,1480,677,514,11085,1846,12931,1846,6977,4108,4449,30943,53126,451207,null,1846,2380,4779,1823,1880]
[null,"All People","24 and under",null,2923,3353,2532,2808,2542,2610,3320,2218,4644,4119,2591,1524,35184,6644,41828,6644,20389,14795,16430,86965,159811,991131,null,6644,7684,12822,6243,6333]
[null,"Males","Total",null,5533,6915,4223,6227,6325,4648,6751,4208,8347,8670,4806,3630,70283,12612,82895,12612,42017,28266,29830,182651,331405,2353249,null,12612,15196,28137,12284,12644]
[null,"Males","0-15",null,1374,1431,1199,1294,1067,1217,1536,1021,2107,1875,1163,687,15971,2862,18833,2862,9148,6823,7385,39463,71429,438350,null,2862,3483,5667,2910,2871]
[null,"Males","16-64",null,2526,3294,1955,2946,3041,2247,3126,1664,4100,4154,2099,1736,32888,6512,39400,6512,20061,12827,14814,84854,156426,1193850,null,6512,7243,13435,5652,5499]
[null,"Males","65+",null,1645,2185,1073,1992,2218,1185,2083,1528,2135,2644,1545,1207,21440,3231,24671,3231,12819,8621,7624,58328,103543,721066,null,3231,4476,9039,3728,4280]
[null,"Males","24 and under",null,1915,2125,1665,1830,1623,1772,2157,1465,3027,2662,1671,1002,22914,4325,27239,4325,13182,9732,10789,56446,103099,641992,null,4325,5060,8240,4072,4138]
[null,"Females","Total",null,6518,8122,4680,6973,7347,5134,7651,5133,8877,9785,5561,4308,80089,14029,94118,14029,47622,32467,32720,214015,388196,2746872,null,14029,17161,32227,14169,15002]
[null,"Females","0-15",null,637,732,557,624,537,524,734,483,999,932,590,307,7656,1375,9031,1375,4461,3195,3455,18978,34922,209075,null,1375,1618,2825,1371,1380]
[null,"Females","16-64",null,3291,3791,2341,3367,3444,2564,3609,2063,4633,4737,2523,1919,38282,7540,45822,7540,23263,15019,17078,100467,182022,1386904,null,7540,8349,15339,6900,6505]
[null,"Females","65+",null,2586,3609,1775,2986,3369,2044,3315,2583,3241,4110,2453,2077,34148,5114,39262,5114,19901,14247,12174,94569,171256,1150891,null,5114,7188,14074,5901,7113]
[null,"Females","24 and under",null,1014,1231,863,981,921,839,1160,750,1618,1450,920,521,12268,2321,14589,2321,7215,5053,5641,30520,56713,349129,null,2321,2623,4583,2174,2191]
[null,"Claimants","Mental Health",null,2081,2650,1638,2187,2132,1767,2201,1402,2709,3143,1566,1165,24641,4398,29039,4398,14902,9739,10512,60339,118057,703466,null,4398,5537,10112,4282,4133]
[null,"Claimants","Learning Difficulty",null,2763,3648,2227,2893,2869,2298,3662,2354,4546,4012,2521,2033,35826,6387,42213,6387,20731,15095,15458,94291,174005,1256284,null,6387,7394,13422,6425,6908]
[null,"Claimants","Physical Disablity",null,7537,9509,5323,8950,9319,6108,8938,5755,10696,12428,6540,4933,96036,17084,113120,17084,58439,37597,39211,257604,449562,3426755,null,17084,20750,40206,16475,17228]
[null,"%","Mental Health",null,0.17262546661136458,0.17626712784355461,0.18410700236034619,0.16566926747973637,0.15590493601462524,0.18071180200449991,0.15288969158099472,0.15004280821917809,0.15732620941982695,0.17034307083626904,0.15099797512293897,0.14685490987016261,0.16388656104925708,0.16506530550968324,0.16406400072317201,0.16506530550968324,0.16625202208958553,0.16039460465422684,0.16808980140074833,0.15212075068321854,0.16405965552989307,0.13793118322832607]
[null,"%","Learning Difficulty",null,0.22919950228121111,0.24264999334841028,0.25030909295268067,0.21915006438906143,0.20979890310786106,0.23501738596850072,0.25437621561544871,0.2519263698630137,0.26401068587025961,0.21744078911712103,0.24308167004146178,0.25627127190218074,0.23827766471128137,0.239716258819997,0.23849422027367542,0.239716258819997,0.23128242316059575,0.24860422602480278,0.24717771594870319,0.2377171929046116,0.24180862092446059,0.2463242553169796]
[null,"%","Physical Disablity",null,0.62521775197013685,0.63249966742051356,0.59829155895245589,0.67797894098931899,0.68146252285191955,0.62466762119042751,0.6208669074742984,0.61590325342465757,0.6211742842209188,0.67356782830198902,0.63060457043679485,0.62183285011975298,0.63873259108503933,0.64119501576339888,0.63910326670357853,0.64119501576339888,0.65196630780387121,0.61919662708542633,0.62699478716940105,0.64944586186380004,0.62474048010138994,0.67189654053441461]
["Health","Carers Allowance Claimants",null,null,"Nov 2023","Nov 2023","Nov 2023","Nov 2023","Nov 2023","Nov 2023","Nov 2023","Nov 2023","Nov 2023","Nov 2023","Nov 2023","Nov 2023","Nov 2023","Nov 2023","Nov 2023","Nov 2023","Nov 2023","Nov 2023","Nov 2023","Nov 2023","Nov 2023","Nov 2023",null,"Nov 2023","Nov 2023","Nov 2023","Nov 2023","Nov 2023","Department for Work and Pensions"]
[null,"Carers Allowance","Total Claimants 16+",null,2768,3181,1982,3000,2926,2520,3174,1870,4513,4347,2177,1418,33876,6589,40465,6589,20735,13141,15604,86234,144195,1254393,null,6589,7428,13454,5942,5465]
[null,"Carers Allowance","Aged 18-24",null,105,92,64,94,96,87,115,50,160,155,65,45,1128,235,1363,235,702,426,546,2723,4203,46321,null,235,247,437,220,160]
[null,"Carers Allowance","25-64",null,2026,2271,1551,2209,2049,1977,2354,1404,3463,3131,1616,1073,25124,5067,30191,5067,15149,9975,12058,62858,105519,896603,null,5067,5577,9660,4380,4093]
[null,"Carers Allowance","65 and over",null,623,818,365,702,785,453,703,412,893,1059,489,296,7598,1284,8882,1284,4880,2718,2995,20643,34472,311461,null,1284,1603,3364,1326,1197]
[null,"Percentage of age group","Total Claimants 16+",null,2.5414780604702838E-2,2.4004648495276042E-2,2.1564574039821566E-2,3.094059405940594E-2,3.1808150974573048E-2,2.9905654779564469E-2,2.1857697710932981E-2,1.9254926996025455E-2,3.6330411122113007E-2,3.7659839900197528E-2,2.0388476811268451E-2,1.5258140185507994E-2,2.6296301471307411E-2,2.9375835934016943E-2,2.6752976115704555E-2,2.9375835934016943E-2,3.0946514095700622E-2,2.1256359033669518E-2,2.9739125131504719E-2,2.4699257595893864E-2,1.8887404244940665E-2,2.5540732432234269E-2,null,2.3307228105920723E-2,null,2.5580426999576005E-2,1.8801536524088877E-2,1.47386021925862E-2]
[null,"Percentage of age group","Aged 18-24",null,1.1845667870036101E-2,4.354617314337104E-3,8.6114101184068884E-3,1.3050118006386228E-2,1.4144688374834243E-2,1.1555319431531413E-2,9.8543273350471302E-3,7.1133873950775363E-3,1.4871270564178828E-2,1.7569712083427794E-2,7.7206319040266065E-3,6.7842605156037995E-3,1.0046849671339758E-2,1.09531577720811E-2,1.0192254484816308E-2,1.09531577720811E-2,1.1044334665366098E-2,8.7452783708326497E-3,1.1573926868044515E-2,9.1351008618462768E-3,5.8806163523948502E-3,9.2484369640384936E-3,null,8.2915813986310077E-3,null,7.8818267080297232E-3,7.9422382671480145E-3,5.0692266261128539E-3]
[null,"Percentage of age group","25-64",null,2.8871503284739145E-2,3.120748649874263E-2,2.3753005497955497E-2,3.770139268159476E-2,3.7336686164106486E-2,3.5606224335422522E-2,2.4747687132043734E-2,2.3198175869931593E-2,4.3113429528279575E-2,4.4829116733244564E-2,2.3377262140697557E-2,1.7797608187231501E-2,3.0923368535066342E-2,3.401127668143375E-2,3.1401855550008323E-2,3.401127668143375E-2,3.7259488269250164E-2,2.4576289978047644E-2,3.4439227245204554E-2,2.8571922079716653E-2,2.173305003756772E-2,2.8536628387312874E-2,null,3.401127668143375E-2,null,3.7721850166936757E-2,2.6498399811244275E-2,2.1549137086838862E-2]
[null,"Percentage of age group","65 and over",null,2.3290590302441214E-2,2.3314142392977254E-2,2.248644652538196E-2,2.4564350199454126E-2,2.8004709072098746E-2,2.4544863459037711E-2,2.0446150714015648E-2,1.5554213228631833E-2,3.0235314034196714E-2,3.145326561525439E-2,1.8946144905075551E-2,1.2853358808458899E-2,2.3303460247940475E-2,2.733194261143514E-2,2.3810800377455605E-2,2.733194261143514E-2,2.6865145776446754E-2,1.8822975387470742E-2,2.693321103227489E-2,2.3093729688246394E-2,1.8663829625960006E-2,2.7554124979752039E-2,null,2.733194261143514E-2,null,2.683385980026164E-2,2.1690767519466074E-2,1.5890716476163927E-2]
[null,"Percentage of claimants","Aged 18-24",null,3.7933526011560692E-2,2.8921722728701665E-2,3.2290615539858729E-2,3.1333333333333331E-2,3.2809295967190705E-2,3.4523809523809526E-2,3.6231884057971016E-2,2.6737967914438502E-2,3.5453135386660756E-2,3.5656774787209571E-2,2.9857602204869087E-2,3.1734837799717912E-2,3.3297910024796318E-2,3.5665503111246014E-2,3.3683430124799206E-2,3.5665503111246014E-2,3.385579937304075E-2,3.2417624229510694E-2,3.4991027941553447E-2,3.1576872231370456E-2,2.9148028711120356E-2,3.6927023668021107E-2,null,3.5665503111246014E-2,null,3.2481046528913336E-2,3.7024570851565131E-2,2.92772186642269E-2]
[null,"Percentage of claimants","25-64",null,0.73193641618497107,0.71392643822697266,0.78254288597376387,0.73633333333333328,0.7002734107997266,0.78452380952380951,0.74165091367359803,0.7508021390374332,0.76733879902503876,0.72026685070163332,0.74230592558566832,0.75669957686882938,0.74164600307002004,0.76900895431780236,0.74610156925738291,0.76900895431780236,0.73060043404870989,0.75907465185297918,0.77275057677518588,0.72892362641185615,0.73177988141058981,0.71477041086804538,null,0.76900895431780236,null,0.71800208116545261,0.73712554695388754,0.74894784995425434]
[null,"Percentage of claimants","65 and over",null,0.22507225433526012,0.2571518390443257,0.18415741675075681,0.23400000000000001,0.26828434723171563,0.17976190476190476,0.22148708254568367,0.22032085561497325,0.19787281187680036,0.24361628709454797,0.22462103812586129,0.20874471086036672,0.22428858188688156,0.1948702382759144,0.2194983318917583,0.1948702382759144,0.2353508560405112,0.20683357430941329,0.19193796462445528,0.23938353781571073,0.23906515482506327,0.24829618787732394,null,0.1948702382759144,null,0.25003716366879736,0.22315718613261529,0.21903019213174749]
["Health","% of 16+ population by activity levels",null,null,"May 2020-2021","May 2020-2021","May 2020-2021","May 2020-2021","May 2020-2021","May 2020-2021","May 2020-2021","May 2020-2021","May 2020-2021","May 2020-2021","May 2020-2021","May 2020-2021","May 2020-2021","May 2020-2021","May 2020-2021","May 2020-2021","May 2020-2021","May 2020-2021","May 2020-2021","May 2020-2021","May 2020-2021","May 2020-2021"]
[null,"Active","150+ mins per week",null,0.5968,0.66510000000000002,0.56189999999999996,0.63290000000000002,0.58299999999999996,0.57730000000000004,0.59770000000000001,0.6089,0.62170000000000003,0.58440000000000003,0.66559999999999997,0.7046,0.61839999999999995,0.57269999999999999,null,null,null,null,null,null,null,0.60940000000000005]
["NEW","Fairly active","30-149 mins per week",null,0.13170000000000001,0.1024,0.154,8.7400000000000005E-2,0.12180000000000001,0.11169999999999999,0.1046,0.1197,7.9100000000000004E-2,9.1999999999999998E-2,0.1056,0.11650000000000001,0.1089,0.15079999999999999,null,null,null,null,null,null,null,0.11600000000000001]
[null,"Inactive","<30 mins per week",null,0.27150000000000002,0.2324,0.28399999999999997,0.27979999999999999,0.29520000000000002,0.311,0.29770000000000002,0.27139999999999997,0.29920000000000002,0.3236,0.2288,0.1789,0.2727,0.27650000000000002,null,null,null,null,null,null,null,0.27460000000000001]
[null,"% change since last year",null,null,"May 2020-2021","May 2020-2021","May 2020-2021","May 2020-2021","May 2020-2021","May 2020-2021","May 2020-2021","May 2020-2021","May 2020-2021","May 2020-2021","May 2020-2021","May 2020-2021","May 2020-2021","May 2020-2021","May 2020-2021","May 2020-2021","May 2020-2021","May 2020-2021","May 2020-2021","May 2020-2021","May 2020-2021","May 2020-2021","May 2020-2021","May 2020-2021","May 2020-2021","May 2020-2021","May 2020-2021","May 2020-2021"]
[null,"Active","150+ mins per week",null,2.4199999999999999E-2,-6.9599999999999995E-2,-4.1300000000000003E-2,4.4000000000000003E-3,-4.2599999999999999E-2,1.03E-2,-6.6299999999999998E-2,-7.46E-2,2.5999999999999999E-2,-5.1400000000000001E-2,5.5999999999999999E-3,-1.2999999999999999E-3,-2.5399999999999999E-2,-4.9000000000000002E-2,null,null,null,null,null,null,null,-1.8700000000000001E-2]
["NEW","Fairly active","30-149 mins per week",null,5.7000000000000002E-3,1.12E-2,1.5299999999999999E-2,-7.4899999999999994E-2,2.1600000000000001E-2,1.6500000000000001E-2,1.7299999999999999E-2,2.8299999999999999E-2,-3.3099999999999997E-2,-4.1999999999999997E-3,-2.4199999999999999E-2,3.0700000000000002E-2,5.9999999999999995E-4,4.0599999999999997E-2,null,null,null,null,null,null,null,-1.4E-3]
[null,"Inactive","<30 mins per week",null,-2.98E-2,5.8400000000000001E-2,2.5999999999999999E-2,7.0499999999999993E-2,2.1000000000000001E-2,-2.69E-2,4.9000000000000002E-2,4.6300000000000001E-2,7.1000000000000004E-3,5.5599999999999997E-2,1.8599999999999998E-2,-2.93E-2,2.4799999999999999E-2,8.3999999999999995E-3,null,null,null,null,null,null,null,2.01E-2]
["Deprivation","Index of Multiple Deprivation",null,null,2019,2019,2019,2019,2019,2019,2019,2019,2019,2019,2019,2019,2019,2019,2019,2019,2019,2019,2019,2019,2019,2019,null,null,null,2019,2019,2019]
[null,"IMD","Average Score",null,18.545999999999999,16.797999999999998,18.812000000000001,22.161000000000001,24.149000000000001,21.414000000000001,16.503,12.436999999999999,27.076000000000001,31.314,13.333,11.31,"n.a.",23.936,"n.a.","n.a.","n.a.","n.a.","n.a.","n.a.","n.a.","n.a.",null,null,null,"n.a.","n.a.","n.a."]
[null,"IMD","District rank",null,7,8,6,4,3,5,9,11,2,1,10,12,"n.a.","n.a.","n.a.","n.a.","n.a.","n.a.","n.a.","n.a.","n.a.","n.a.",null,null,null,"n.a.","n.a.","n.a."]
[null,"IMD","National rank",null,152,185,145,107,84,119,188,253,69,34,236,273,100,98,"n.a.","n.a.","n.a.","n.a.","n.a.","n.a.","n.a.","n.a.",null,null,null,"n.a.","n.a.","n.a."]
[null,null,"Areas in top 10%",null,1,2,1,5,4,2,2,0,16,18,0,0,51,14,65,"n.a.","n.a.","n.a.","n.a.","n.a.","n.a.","n.a.",null,null,null,"n.a.","n.a.","n.a."]
[null,null,"Number of LSOAs ",null,78,90,58,67,67,64,95,74,85,84,72,68,902,163,1065,"n.a.","n.a.","n.a.","n.a.","n.a.","n.a.","n.a.",null,null,null,"n.a.","n.a.","n.a."]
["Deprivation","Benefits",null,null,"Nov 2023","Nov 2023","Nov 2023","Nov 2023","Nov 2023","Nov 2023","Nov 2023","Nov 2023","Nov 2023","Nov 2023","Nov 2023","Nov 2023","Nov 2023","Nov 2023","Nov 2023","Nov 2023","Nov 2023","Nov 2023","Nov 2023","Nov 2023","Nov 2023","Nov 2023",null,"Nov 2023","Nov 2023","Nov 2023","Nov 2023","Nov 2023","Department for Work and Pensions"]
[null,"IS","Number",null,286,305,179,234,273,268,315,177,404,331,206,159,3137,650,3787,650,1833,1304,1501,7613,12900,119152,null,650,720,1143,601,542,"E&W"]
[null,"JSA","Number",null,123,200,128,109,229,123,188,99,182,190,139,98,1808,269,2077,269,1033,775,702,4706,10436,79980,null,269,480,728,311,336]
[null,"IB/SDA claimants","Number",null,52,75,36,77,48,32,69,38,84,94,39,34,678,115,793,115,430,248,267,1842,3179,25504,null,115,116,294,121,111]
[null,"ESA","Number",null,2380,3193,1769,2524,2933,2070,3060,1573,3360,3585,2007,1876,30330,5767,36097,5767,17975,12355,12966,81097,155396,1375896,null,5767,6772,12235,5440,5456]
[null,"PC","Number",null,2595,3078,1445,2684,2993,1922,2785,1768,3121,4485,1730,1683,30289,4849,35138,4849,18956,11333,11337,82944,148757,1242437,null,4849,6360,13240,5380,5181]
[null,"SP","Number"]
[null,"PIP","Number",null,6055,8226,4619,7528,7391,5241,7265,3967,9641,10480,4897,3758,79068,15412,94480,15412,49321,29747,34913,204338,361856,3217061,null,15412,17251,33625,13320,12622]
["NEW","UC","Total",null,11405,13109,9886,12072,10460,11394,14113,6552,16204,18867,8292,7306,139660,29522,169182,29522,82117,57543,67006,370805,693248,5714462,null,29522,31740,54508,25518,22150]
[null,"UC","In employment",null,4650,4864,4323,4446,3845,4662,5713,2569,5958,6766,3467,3006,54269,11346,65615,11346,30529,23740,26289,143759,287297,2224149,null,11346,12830,19921,10363,9042]
[null,"UC","Not in employment",null,6755,8246,5566,7623,6615,6726,8403,3981,10250,12104,4827,4301,85397,18171,103568,18171,51593,33804,40713,227046,405951,3490314,null,18171,18907,34588,15158,13109]
[null,"IS","%",null,3.8593366259142311E-3,3.4672487097287589E-3,2.5583855015293144E-3,3.9009102123828895E-3,4.8618902601912702E-3,4.4834797156001671E-3,3.1350458313842968E-3,2.8081865778200855E-3,4.7359474825625697E-3,4.5640693297298784E-3,2.8221111035002396E-3,2.5236092373621139E-3,3.6253951010360749E-3,4.0319078988177203E-3,3.6892388594630876E-3,4.0319078988177203E-3,4.2037716982733118E-3,3.037870881168928E-3,3.98926274384734E-3,3.2638827557408411E-3,2.4692218199581267E-3,3.4816951816076074E-3,null,4.0319078988177203E-3,null,4.1319326455213903E-3,3.4424886730093996E-3,2.7232075566497511E-3]
[null,"JSA","%",null,1.4970059880239522E-3,2.0527558246946527E-3,1.6913766220037528E-3,1.5939867216518968E-3,3.5804746865130241E-3,1.8690452673646462E-3,1.6963069232782033E-3,1.4016706781820756E-3,1.9221426610058509E-3,2.3239031788549274E-3,1.7167700022231553E-3,1.4019025820756741E-3,1.879035040677783E-3,1.5170142452713142E-3,1.8227004751131619E-3,1.5170142452713142E-3,2.1151605617768169E-3,1.6356525831702957E-3,1.6977230679935671E-3,1.8117553121659022E-3,1.8032096302037959E-3,2.1153232556702724E-3,null,1.5170142452713142E-3,null,2.3368610947937431E-3,1.6114574103723968E-3,1.516923174161742E-3]
[null,"IB/SDA claimants","%",null,6.3288058030280901E-4,7.6978343426049476E-4,4.7569967493855546E-4,1.1260273171302389E-3,7.5049251071015349E-4,4.8625567931437949E-4,6.2258073247976615E-4,5.3801500778705928E-4,8.8714276661808504E-4,1.1497205200650693E-3,4.8168366968851125E-4,4.8637436520992776E-4,7.0463814025416857E-4,6.4853768849888901E-4,6.9590826998783696E-4,6.4853768849888901E-4,8.8046373820332155E-4,5.2340882661449457E-4,6.4571518398045928E-4,7.0914859434967955E-4,5.4929124323666793E-4,6.7453368732951519E-4,null,6.4853768849888901E-4,null,9.4373236520516545E-4,6.2696574487157561E-4,5.0112640574986119E-4]
[null,"ESA","%",null,2.8966457329243953E-2,3.2772246741250129E-2,2.3375353471286241E-2,3.6910298031645757E-2,4.5858219456518343E-2,3.1454664255648926E-2,2.7610102049102671E-2,2.2270989664448536E-2,3.5485710664723405E-2,4.3848383664183761E-2,2.4788182693970307E-2,2.683642085687719E-2,3.1521644238803735E-2,3.2522755213679068E-2,3.1677428526798175E-2,3.2522755213679068E-2,3.6805431846987688E-2,2.6075467954927746E-2,3.1357090170376911E-2,3.1221402581963063E-2,2.6850475631961388E-2,3.6389907554184857E-2,null,3.2522755213679068E-2,null,3.9274032273078914E-2,2.8187550843812987E-2,2.4631942970912094E-2]
[null,"PC","%",null,9.7012972447568138E-2,8.7727298637633247E-2,8.9021685559388858E-2,9.3918398768283298E-2,0.10677464236024402,0.1041395752058951,8.0999331064770377E-2,6.6747206282090008E-2,0.10567123751481293,0.13320858950369777,6.7028283611003492E-2,7.3081766468365977E-2,9.2897934647258359E-2,0.10321852782153348,9.4197692373681044E-2,0.10321852782153348,0.10435567691359113,7.8484466543857948E-2,0.10195052202767961,9.2791082461943952E-2,8.0540012290233595E-2,0.1099150917047983,null,0.10321852782153348,null,0.10561245652659455,8.8006281489236407E-2,6.8780118682544106E-2]
[null,"SP","%",null,0,0,0,0,0,0,0,0,0,0,0,0,0,0,0,0,0,0,0,0,0,0,null,0,null,0,0,0]
[null,"PIP","%",null,5.5594832572787453E-2,6.2075522955718554E-2,5.0255684909150257E-2,7.7640264026402644E-2,8.0346563176031921E-2,6.219664154749896E-2,5.0030300526127315E-2,4.0847216787825123E-2,7.7611675964611465E-2,9.079252867588454E-2,4.5862366074773356E-2,4.0437299588955603E-2,6.1376666806391963E-2,6.8711547035220685E-2,6.2464381154374554E-2,6.8711547035220685E-2,7.3610466443889577E-2,4.8117564277799792E-2,6.6539481909524759E-2,5.8526763209752072E-2,4.7397763795258153E-2,6.5502672782115343E-2,null,0.3280684575758866,null,0.26821894642800165,0.21788915788784924,0.16756275970103682]
["NEW","UC","Total",null,0.13880775035295262,0.134547880529611,0.13063241629007108,0.17653768535579539,0.16354482629225428,0.17313741281587625,0.1273403170650281,9.2765113974231914E-2,0.17113406416999344,0.23076358566029428,0.10241335869377269,0.10451326800658035,0.14514714257801944,0.1664880838249061,0.14846803648560181,0.1664880838249061,0.16814195532567944,0.12144562141079784,0.16204790868087884,0.14275561592173341,0.11978454098500585,0.15113696376899294,null,0.10442798423781934,null,0.10363742492142775,8.0743454900992925E-2,5.9736512088890088E-2]
[null,"UC","% claimants In employment",null,0.40771591407277508,0.37104279502631782,0.43728504956504149,0.36829025844930419,0.36759082217973232,0.40916271721958924,0.4048040813434422,0.39209401709401709,0.36768699086645273,0.35861557216303597,0.41811384466956103,0.41144264987681356,0.38857940713160533,0.3843235553146806,0.38783676750481727,0.3843235553146806,0.37177441942594103,0.41256104130823906,0.39233799958212695,0.3876943406911989,0.41442167882200887,0.38921406774601003,null,6.3985292293116475E-2,null,6.3945892677728239E-2,5.3696248050447426E-2,4.0821486133245447E-2]
[null,"UC","% claimants Not in employment",null,0.59228408592722492,0.6290334884430544,0.56301840987254703,0.63146123260437381,0.63240917782026773,0.59031068983675616,0.5954084886275065,0.60760073260073255,0.63255986176252776,0.64154343562834582,0.58212735166425467,0.58869422392554061,0.61146355434626953,0.61550707946616079,0.61216914328947525,0.61550707946616079,0.62828646930599019,0.58745633700015643,0.60760230427125927,0.6123056593088011,0.58557832117799113,0.61078610724859139,null,0.22924078419498903,null,0.25693443670237265,0.17620049519336953,0.13589384750945938]
[null,null,null,null,"Nov 2016","Nov 2016","Nov 2016","Nov 2016","Nov 2016","Nov 2016","Nov 2016","Nov 2016","Nov 2016","Nov 2016","Nov 2016","Nov 2016","Nov 2016","Nov 2016","Nov 2016","Nov 2016","Nov 2016","Nov 2016","Nov 2016","Nov 2016","Nov 2016","Nov 2016"]
[null,"Any Benefit","Number",null,7270,9340,5830,8650,8890,7010,8870,4890,11670,13620,6030,5120,97190,20840,118040,20840,59440,37750,45350,258480,464630,3995440,null,20840,21730,40500,16140,16040]
[null,"Any benefits","% of 16-64",null,9.6671675332101109E-2,9.1188674639980469E-2,8.7335590376606639E-2,0.12800781365613995,0.13605754514845425,0.10569326337374103,8.7082016140116639E-2,6.9496752554609673E-2,0.13370148022547088,0.16684020334415386,7.8613892365456822E-2,7.2031513787281939E-2,0.10422028343970902,0.11712339545444327,0.10629675922757448,0.11712339545444327,0.12397254416939021,8.3318067550537098E-2,0.11386061552521504,0.10286852266187824,8.350926181213103E-2,0.1091988461453841]
[null,"Out of work","Number",null,5090,6670,4130,6200,6410,4960,6380,3330,8210,10010,4050,3690,69130,14870,84010,14870,42590,26540,32170,188990,340140,3023570,null,14870,15500,29290,11470,11070]
[null,"Jobseekers","Number",null,780,890,510,1030,1020,840,830,370,1260,1980,490,380,10390,2400,12790,2400,6960,3420,5010,26320,41650,412420,null,2400,2370,4920,1610,1240]
[null,"ESA & Incapacity Benefits","Number",null,3420,4810,2770,4270,4490,3160,4360,2320,5450,6550,2850,2800,47260,9800,57060,9800,28990,18260,21180,131830,246690,2175030,null,9800,10420,20120,7780,7970]
[null,"Lone Parents","Number",null,770,790,750,770,770,850,1050,600,1300,1220,620,430,9930,2340,12260,2340,5620,4300,5240,26760,44880,369930,null,2340,2370,3550,1820,1650]
[null,"Others on income related benefits","Number",null,110,170,90,130,130,100,140,40,210,260,90,80,1560,330,1890,330,1010,540,730,4080,6920,66190,null,330,320,690,250,210]
[null,"Out of work benefits","%",null,6.7683470074332147E-2,6.5120820112277281E-2,6.1868951673307963E-2,9.1751265279545385E-2,9.8102234465870825E-2,7.4784391773716902E-2,6.2636219050050068E-2,4.7326009408353825E-2,9.4060767150909677E-2,0.12261897470447725,5.280037546933667E-2,5.1913337084974677E-2,7.4130550408345347E-2,8.3571251938942964E-2,7.5652242821997048E-2,8.3571251938942964E-2,8.8828914134830572E-2,5.857646391500012E-2,8.0769481840047799E-2,7.5213254789029585E-2,6.11343226067586E-2,8.2636794755971549E-2]
[null,"Jobseekers","%",null,1.0371926651862293E-2,8.6892848425677328E-3,7.639991610989604E-3,1.5242548909343831E-2,1.5610651974288337E-2,1.2665098606839153E-2,8.1485990300221873E-3,5.258445489817091E-3,1.4435635397094542E-2,2.4254302688797698E-2,6.3881935753024614E-3,5.3460889138998314E-3,1.1141565438199164E-2,1.3488298900703639E-2,1.1517583450700421E-2,1.3488298900703639E-2,1.4516300595877454E-2,7.5482858549095859E-3,1.2578647933436105E-2,1.0474696365137091E-2,7.4858721014038213E-3,1.1271796880263328E-2]
[null,"ESA & Incapacity Benefits","%",null,4.5476909165857747E-2,4.6961191115450329E-2,4.1495640710669024E-2,6.3189984313493361E-2,6.8717477808386898E-2,4.7644894759061578E-2,4.2804688880598483E-2,3.2971874422636896E-2,6.2439851519178774E-2,8.0235193238194405E-2,3.71558197747184E-2,3.9392234102419807E-2,5.0678573879623913E-2,5.5077220511206532E-2,5.1383370734711963E-2,5.5077220511206532E-2,6.046372906242635E-2,4.0301666582061121E-2,5.3176799047939462E-2,5.2465016026444627E-2,4.4338290244785319E-2,5.9445459406622242E-2]
[null,"Lone Parents","%",null,1.0238953233248674E-2,7.7129607029533809E-3,1.1235281780867063E-2,1.1394915204072572E-2,1.1784511784511785E-2,1.2815873590253905E-2,1.0308468652437707E-2,8.527208902406094E-3,1.4893909536684844E-2,1.4944570343602621E-2,8.0830204422194414E-3,6.0495216657287564E-3,1.0648291126209594E-2,1.3151091428186049E-2,1.1040310641562717E-2,1.3151091428186049E-2,1.172149559609645E-2,9.4905348468161468E-3,1.3156110812615807E-2,1.0649805270937255E-2,8.0664091215126889E-3,1.011050826806608E-2]
[null,"Others on income related benefits","%",null,1.4627076047498105E-3,1.6597510373443983E-3,1.3482338137040476E-3,1.9238168526356291E-3,1.9895928986838076E-3,1.5077498341475183E-3,1.3744624869916943E-3,5.6848059349373962E-4,2.4059392328490904E-3,3.184908433882526E-3,1.1733416770963706E-3,1.1254924029262803E-3,1.6728433189211447E-3,1.8546410988467504E-3,1.7019728476797336E-3,1.8546410988467504E-3,2.1065321267006074E-3,1.1918346086699347E-3,1.8328169643529655E-3,1.6237371265106128E-3,1.2437511390567693E-3,1.8090302010199061E-3]
[null,null,null,null,"Nov 2023","Nov 2023","Nov 2023","Nov 2023","Nov 2023","Nov 2023","Nov 2023","Nov 2023","Nov 2023","Nov 2023","Nov 2023","Nov 2023","Nov 2023","Nov 2023","Nov 2023","Nov 2023","Nov 2023","Nov 2023","Nov 2023","Nov 2023","Nov 2023","Nov 2023"]
[null,"Lone parents claiming income support","Total Number",null,148,120,90,87,112,135,174,89,181,138,115,72,1461,300,1761,300,786,675,706,3631,6256,50490,null,300,337,457,322,276]
[null,"Lone parents claiming income support","Males",null,"-",6,"-",6,8,"-","-","-",5,"-","-","-",25,"-",25,0,25,0,5,81,115,1064,null,0,{"$error":"#VALUE!"},20,0,0]
[null,"Lone parents claiming income support","Females",null,144,112,92,79,109,135,170,88,179,136,115,70,1429,297,1726,297,759,670,703,3549,6142,49422,null,297,336,436,314,273]
[null,"Lone parents claiming income support","% of 16-59",null,1.997139232990581E-3,1.3641634267785282E-3,1.2863390789812194E-3,1.4503384122962024E-3,1.9946216452066748E-3,2.2584692597239649E-3,1.7317396020979925E-3,1.4120260193558622E-3,2.1217982533262999E-3,1.9028446148118528E-3,1.5754503733132407E-3,1.1427664471073725E-3,1.6884610272915859E-3,1.8608805686851017E-3,1.7155399079784783E-3,1.8608805686851017E-3,1.8025993206998488E-3,1.5725175190099896E-3,1.8763620900441183E-3,1.5567001557986329E-3,1.1974768764076E-3,1.4753490475977583E-3,null,1.8608805686851017E-3,null,1.6520500603703196E-3,1.8443949296323239E-3,1.3867256192533789E-3]
[null,"Lone parents claiming income support","% of 16-59 males",null,0,1.4058106841611997E-4,0,2.0408163265306123E-4,2.8952987586406575E-4,0,0,0,1.1701654613962414E-4,0,0,0,5.9077074314233319E-5,0,4.9756986876097141E-5,0,1.1715912552428709E-4,0,2.6978611356916238E-5,7.0990421551640271E-5,4.4626693825567057E-5,6.3051306341290324E-5,null,0,null,1.4856854209689642E-4,0,0]
[null,"Lone parents claiming income support","% of 16-59 females",null,3.7827046338131764E-3,2.4731705162743451E-3,2.5604631098494336E-3,2.5828810566926046E-3,3.8218793828892006E-3,4.4301512814622782E-3,3.3671367453652354E-3,2.6873511268551884E-3,4.2042465238632089E-3,3.6154827732879625E-3,3.0525840787832136E-3,2.1775648603247683E-3,3.2322345846838674E-3,3.6242495240884462E-3,3.2935348635740004E-3,3.6242495240884462E-3,3.4089071735263999E-3,3.0529898795663844E-3,3.6820162574373585E-3,2.9786009052462487E-3,2.3200252324463576E-3,2.8489795278379346E-3,null,3.6242495240884462E-3,null,3.0702495634048785E-3,3.5457789421383078E-3,2.6617267098912887E-3]
["Deprivation","Child in Low Income Families - Absolute low income",null,null,"2022-23","2022-23","2022-23","2022-23","2022-23","2022-23","2022-23","2022-23","2022-23","2022-23","2022-23","2022-23","2022-23","2022-23","2022-23","2022-23","2022-23","2022-23","2022-23","2022-23","2022-23","2022-23",null,"2022-23","2022-23","2022-23","2022-23","2022-23","England"]
[null,"Children under 16 in families in low income families","Number",null,3405,3319,2872,3411,2841,3348,4105,2230,4272,4564,2392,1955,38706,8042,46748,8042,21812,16902,18534,94808,185212,1645067,null,8042,9061,14135,7510,6577]
[null,"Children under 16 in families in low income families","%",null,0.12754242049668502,0.13257969161939762,0.10672612411742846,0.16628479500804369,0.15568829460762823,0.14745650737722968,0.11656633348477964,9.2963148240787066E-2,0.14053556155010197,0.18067376588416928,8.8971545471452487E-2,8.4654022689876152E-2,0.12692614174829234,0.13770076367247697,0.12865796433751386,0.13770076367247697,0.14924290630922812,0.10643710877970755,0.13390167250659249,0.11667901456395513,0.1061155736859595,0.15555718408520972,null,0.13770076367247697,0.40987092610228637,0.63522654711923887,0.24410875398146464,0.26658871640211568]
[null,"Children under 16 in families in low income families","0-4",null,1039,977,866,1020,853,964,1249,572,1358,1380,691,541,11526,2452,13978,2452,6627,4883,5640,28286,52092,463168,null,2452,2683,4230,2288,1804]
[null,"Children under 16 in families in low income families","5-10",null,1181,1188,1026,1280,912,1248,1497,802,1510,1589,860,713,13808,3078,16886,3078,7660,6146,6862,34190,67243,602874,null,3078,3186,4969,2678,2375]
[null,"Children under 16 in families in low income families","11-15",null,1184,1149,976,1116,1072,1136,1359,854,1400,1595,841,701,13375,2514,15889,2514,7516,5867,6026,32331,65878,579026,null,2514,3184,4932,2543,2396]
[null,"Child in Low Income Families - Relative low income",null,null,"2022-23","2022-23","2022-23","2022-23","2022-23","2022-23","2022-23","2022-23","2022-23","2022-23","2022-23","2022-23","2022-23","2022-23","2022-23","2022-23","2022-23","2022-23","2022-23","2022-23","2022-23","2022-23",null,"2022-23","2022-23","2022-23","2022-23","2022-23"]
[null,"Children under 16 in families in low income families","Number",null,4183,4077,3493,4180,3448,4101,4919,2644,5171,5651,2970,2433,47273,9915,57188,9915,26710,20560,22680,117710,228739,2091956,null,9915,11042,17356,9102,8047]
[null,"Children under 16 in families in low income families","%",null,0.15668427164100834,0.16285851242310459,0.12980304719435154,0.20377321698435139,0.18895221394125383,0.18062100858841665,0.13968082689686506,0.11022177755544439,0.1701098756497138,0.22370452476149005,0.11047052259624326,0.10535203949077683,0.15501936389363466,0.1697715831649601,0.15739051220445244,0.1697715831649601,0.18275619051528899,0.12947266338366981,0.1638550735108189,0.1448642182550329,0.13105398251383654,0.19781491245654978,null,0.1697715831649601,0.49937626972402205,0.77928846811019981,0.29636509853787341,0.32604433964246449]
[null,"Children under 16 in families in low income families","0-4",null,1204,1141,1011,1188,985,1128,1426,648,1569,1608,813,629,13356,2845,16201,2845,7695,5655,6553,33522,61570,571046,null,2845,3124,4922,2630,2090]
[null,"Children under 16 in families in low income families","5-10",null,1511,1485,1262,1569,1141,1569,1834,987,1863,2040,1109,897,17273,3841,21114,3841,9609,7658,8535,43216,84271,779220,null,3841,3972,6235,3345,2993]
[null,"Children under 16 in families in low income families","11-15",null,1473,1451,1225,1419,1325,1404,1661,1006,1737,2001,1045,900,16647,3227,19874,3227,9406,7241,7593,40969,82897,741692,null,3227,3954,6196,3134,2951]
["Safety","Traffic Accidents","Injuries",null,2023,2023,2023,2023,2023,2023,2023,2023,2023,2023,2023,2023,2023,2023,2023,2023,2023,2023,2023,2023,2023,2023,null,2023,2023,2023,2023,2023,"KCC"]
[null,"Fatal (collisions)","All ages",null,6,4,0,5,2,0,4,4,2,2,4,4,37,"n.a.","n.a.","n.a.",21,16,2,"n.a.","n.a.","n.a.",null,"n.a.",2,13,10,12]
[null,"Serious (collisions)","All ages",null,75,59,57,47,38,32,60,51,65,56,58,67,665,"n.a.","n.a.","n.a.",340,325,154,"n.a.","n.a.","n.a.",null,"n.a.",127,200,135,176]
[null,"Slight (collisions)","All ages",null,222,225,287,169,174,173,286,217,253,223,213,181,2623,"n.a.","n.a.","n.a.",1266,1357,713,"n.a.","n.a.","n.a.",null,"n.a.",634,791,508,611]
[null,"Tot (collisions)","All ages",null,303,288,344,221,214,205,350,272,320,281,275,252,3325,"n.a.","n.a.","n.a.",1627,1698,869,"n.a.","n.a.","n.a.",null,"n.a.",763,1004,653,799]
[null,"Fatal (casualties)","All ages",null,7,4,0,6,2,0,4,5,2,2,4,4,40,"n.a.","n.a.","n.a.",23,17,2,"n.a.","n.a.","n.a.",null,"n.a.",2,14,11,13]
[null,"Serious (casualties)","All ages",null,83,63,58,56,45,37,63,59,71,61,66,72,734,"n.a.","n.a.","n.a.",379,355,166,"n.a.","n.a.","n.a.",null,"n.a.",140,225,146,197]
[null,"Slight (casualties)","All ages",null,351,335,417,241,227,220,387,324,355,291,315,261,3724,"n.a.","n.a.","n.a.",1800,1924,992,"n.a.","n.a.","n.a.",null,"n.a.",864,1094,738,900]
[null,"Tot (casualties)","All ages",null,441,402,475,303,274,257,454,388,428,354,385,337,4498,"n.a.","n.a.","n.a.",2202,2296,1160,"n.a.","n.a.","n.a.",null,"n.a.",1006,1333,895,1110]
[null,"Fatal (casualties)","Children under 16",null,1,0,0,2,1,0,1,0,0,0,1,0,6,"n.a.","n.a.","n.a.",4,2,0,"n.a.","n.a.","n.a.",null,"n.a.",1,3,2,1]
[null,"Serious (casualties)","Children under 16",null,10,10,10,3,3,4,10,4,9,7,5,8,83,"n.a.","n.a.","n.a.",42,41,23,"n.a.","n.a.","n.a.",null,"n.a.",17,23,20,17]
[null,"Slight (casualties)","Children under 16",null,23,19,25,14,19,16,34,20,27,31,19,11,258,"n.a.","n.a.","n.a.",133,125,68,"n.a.","n.a.","n.a.",null,"n.a.",60,83,57,50]
[null,"Tot (casualties)","Children under 16",null,34,29,35,19,23,20,45,24,36,38,25,19,347,"n.a.","n.a.","n.a.",179,168,91,"n.a.","n.a.","n.a.",null,"n.a.",78,109,79,68]
[null,"Fatal (casualties)","Aged 16 and over",null,6,4,0,4,1,0,3,5,2,2,3,4,34,"n.a.","n.a.","n.a.",19,15,2,"n.a.","n.a.","n.a."]
[null,"Serious (casualties)","Aged 16 and over",null,73,53,48,53,42,33,53,55,62,54,61,64,651,"n.a.","n.a.","n.a.",337,314,143,"n.a.","n.a.","n.a."]
[null,"Slight (casualties)","Aged 16 and over",null,328,316,392,227,208,204,353,304,328,260,296,250,3466,"n.a.","n.a.","n.a.",1667,1799,924,"n.a.","n.a.","n.a."]
[null,"Tot (casualties)","Aged 16 and over",null,407,373,440,284,251,237,409,364,392,316,360,318,4151,"n.a.","n.a.","n.a.",2023,2128,1069,"n.a.","n.a.","n.a."]
[null,"Total Casualties","Pedestrians",null,27,52,44,34,45,35,59,30,50,61,32,34,503,"n.a.","n.a.","n.a.",269,234,129,"n.a.","n.a.","n.a.",null,"n.a.",124,192,86,96]
[null,"Total Casualties","Cyclists",null,21,43,16,16,16,14,26,26,24,28,21,18,269,"n.a.","n.a.","n.a.",148,121,54,"n.a.","n.a.","n.a.",null,"n.a.",46,103,47,65]
[null,"Total Casualties","Powered 2 wheelers",null,32,39,49,22,37,39,49,27,44,36,36,31,441,"n.a.","n.a.","n.a.",210,231,132,"n.a.","n.a.","n.a.",null,"n.a.",125,134,81,94]
[null,"Total Casualties","Car users",null,329,228,328,205,159,161,286,278,292,208,271,221,2966,"n.a.","n.a.","n.a.",1421,1545,781,"n.a.","n.a.","n.a.",null,"n.a.",648,800,615,770]
[null,"Total Casualties","Others",null,32,40,38,26,17,8,34,27,18,21,25,33,319,"n.a.","n.a.","n.a.",154,165,64,"n.a.","n.a.","n.a.",null,"n.a.",63,104,66,85]
[null,"Total Casualties","Child casualties <16",null,37,35,41,25,26,24,48,30,40,42,31,23,402,"n.a.","n.a.","n.a.",205,197,105,"n.a.","n.a.","n.a.",null,"n.a.",91,128,85,84]
[null,"Total Casualties","17 - 24 car drivers",null,51,34,36,21,20,20,39,33,40,21,29,33,377,"n.a.","n.a.","n.a.",187,190,96,"n.a.","n.a.","n.a.",null,"n.a.",76,96,90,95]
[null,"Total Casualties",">=65 Road users",null,50,46,34,40,31,22,54,33,63,53,42,41,509,"n.a.","n.a.","n.a.",283,226,119,"n.a.","n.a.","n.a.",null,"n.a.",87,170,104,116]
["Crime","Recorded Crime Statistics",null,null,2023,2023,2023,2023,2023,2023,2023,2023,2023,2023,2023,2023,2023,2023,2023,2023,2023,2023,2023,2023,2023,2023,null,2023,2023,2023,2023,2023,"https://www.gov.uk/government/statistics/police-recorded-crime-open-data-tables"]
[null,"(Crimes per 1,000 population)","Criminal damage and arson",null,9.9771403288843015,11.831164709615994,20.526847332098974,10.691818545538124,8.30936981231347,22.800785266897261,9.7878378078790433,8.5214605387016338,11.91315426952703,12.04785022283192,8.9779367205093497,7.9291205571069057,10.2611676817155,11.48559260281144,10.445691731884494,11.48559260281144,10.936339867038807,9.4683100540145393,11.352548819126811,"n.a.",7.5393666390435738,8.4487479489288813,null,null,null,null,null,null,"Population data from ONS MYPE"]
[null,null,"Drug offences",null,1.8508959516259864,3.0022215169787367,8.1888570947651917,2.3154256722821414,3.5922603118735088,9.0960082266055906,2.5494934267408604,1.4450151107294436,1.6427476571443353,4.3002651237836647,1.9676644645782986,2.1460337159995864,2.8069453066204866,2.8262976561892024,2.8098617565074342,2.8262976561892024,2.7579768138812857,2.728397079585541,3.0552954181125029,"n.a.",2.5165693248483207,3.0154534581621002,null,null,null,null,null,null,"Note: The KCC Area figures include some 'Kent unassigned' that have not been allocated to a specific Kent district"]
[null,null,"Miscellaneous crimes",null,2.4187006857901334,2.2976832751507459,5.8407675475509171,3.3539621870557492,2.8756225223835918,6.4878003178461254,2.98734121089853,1.9982494674087166,3.3954429921290399,3.4402120990269318,2.1397415850547277,2.1891267625056021,2.9073726878949229,3.7070837843382782,3.0278912496608279,3.7070837843382782,2.9527872596418918,2.5932642053607853,3.418733816811967,"n.a.",1.7450204070797422,1.945000267106973]
[null,null,"Possession of weapons offences",null,0.75953100803775531,0.91399555696604251,1.7842114122201649,0.91084759902275414,0.84363689142483922,1.9818640740394502,0.88123794532999311,0.66057833633345997,0.93778901687373484,1.0306420544605477,0.56112104503183435,0.52573516737339265,0.84296233157229739,1.0824118683277799,0.87904800540329331,1.0824118683277799,0.90298929890293533,0.75545711590410969,0.99983260721055744,"n.a.",0.95236237148358605,0.97926496211579794]
[null,null,"Public order offences",null,4.763660497013495,5.5791812123135509,11.24389833361387,6.7334621572616689,5.6605314005279537,12.489483032625971,6.0966147161194497,3.1625187851964394,5.7496168000051737,7.0367974752823601,4.8031961454725014,3.9559416692522493,5.5498681576785209,7.0321398504432224,5.7732503932793611,7.0321398504432224,5.9043492963544715,5.0449606377242082,6.3533857830740255,"n.a.",7.12923140529261,8.5769891775027585]
[null,null,"Robbery",null,0.4203229850306025,0.76166296413836876,1.7505470459518599,0.57885641807053534,0.29028366156553609,1.9444704122651211,0.34916975192320482,0.30551748055422523,0.45919324274507012,0.64681673762696446,0.18704034834394476,0.35336298134932947,0.52347772489299782,0.91262177133518685,0.58212275433620153,0.91262177133518685,0.53787286596796291,0.48133042819103417,0.80981917054610764,"n.a.",0.57154535693759145,1.3462257851094022]
[null,null,"Sexual offences",null,2.7800309711673181,3.6750238019676296,5.8744319138192216,3.5838022354072847,3.7011166849605845,6.5251939796204548,2.9596293258252602,1.5358446319752943,3.3566379293618511,4.1296760940798496,2.0948519014521811,2.2236011997104148,3.3078268707267364,3.8556501192067971,3.390385272507547,3.8556501192067971,3.5347681510650864,2.517332399844018,3.4790555427371888,"n.a.",2.960820304583248,3.1716172429121947]
[null,null,"Theft offences",null,23.508590811887029,26.518565534750874,60.898838579363741,19.987571612200252,17.61658971125847,67.645134149761617,22.845678054403972,22.195432100804254,27.823230004074532,27.720717326869906,20.813849963714173,20.443341262453888,24.69069935745306,24.913159439975665,24.72422467592768,24.913159439975665,24.330476930277463,24.710011286812446,28.020949735413829,"n.a.",23.502444020058778,29.706512021523675]
[null,null,"Violence against the person",null,32.748322395103607,39.12408759124088,72.47938057566067,42.392720029283325,37.82758964775892,80.508553800130869,35.498924778859156,22.831238749525209,40.848796072927648,51.87328078243501,26.230538451754811,28.90681559623539,36.891998511164068,47.321914949310582,38.463814300709046,47.321914949310582,40.884463928211737,31.713755110918346,42.686669350983465,"n.a.",30.297021279589945,34.019268688664788]
[null,null,"Grand Total",null,79.227195634540223,93.703586163122807,188.58777983504461,90.54846645612183,80.717000644066886,209.47929325979248,83.955927017979462,62.655855201228668,96.126607984788421,112.22625791639716,67.775940625911815,68.673078911986764,87.782318629718588,103.13687204193815,90.096290140215885,103.13687204193815,92.742024411341646,80.012818318355031,100.17629024401646,"n.a.",77.214381108917408,91.20907955202658]
["Housing","Housing completions","2005/06",null,590,532,184,434,753,274,758,468,854,365,734,259,6205,530,6735,530,632.35837261742165,513.82620242352755,514.7412630483683,"n.a.","n.a.","n.a.",null,735,1401,1446,1291,895]
[null,null,"2006/07",null,359,638,659,327,146,305,714,141,835,651,850,515,6140,591,6731,591,529.71867692870853,1814.7634804720924,619.4113782391313,"n.a.","n.a.","n.a.",null,646,1464,1921,1778,1578]
[null,null,"2007/08",null,566,1284,603,342,402,235,992,261,767,606,839,517,7414,761,8175,761,677.50307236858407,1727.0603024095681,624.95326969585449,"n.a.","n.a.","n.a.",null,530,1312,2084,1348,1461]
[null,null,"2008/09",null,536,965,610,269,562,436,441,290,494,726,889,411,6629,914,7543,914,4124.1923291787871,3060.5325574194694,2361.7941641502989,"n.a.","n.a.","n.a.",null,591,1799,1762,1073,1506]
[null,null,"2009/10",null,501,305,152,262,180,187,581,213,709,520,373,104,4087,972,5059,972,2555.4291057006176,1449.551763367102,1997.4998914310922,"n.a.","n.a.","n.a.",null,761,1605,2634,1558,1617]
[null,null,"2010/11",null,555,361,362,201,132,185,649,281,433,889,351,315,4714,657,5371,657,2214.5654436479563,2101.8137940537022,1622.7375964640917,"n.a.","n.a.","n.a.",null,914,1540,2522,977,1590]
[null,null,"2011/12",null,633,655,323,227,207,177,873,174,484,320,444,211,4728,809,5537,809,2571.2667106568897,771.87083334716749,1855.1499703907207,"n.a.","n.a.","n.a.",null,972,1048,1267,1082,690]
[null,null,"2012/13",null,284,524,422,221,206,399,630,141,291,194,390,-5,3697,565,4262,565,1967.0980905529516,772.76803718895212,1602.3486051802677,"n.a.","n.a.","n.a.",null,657,980,1583,1204,947]
[null,null,"2013/14",null,137,475,602,228,165,156,423,224,336,311,608,-16,3649,579,4228,579,261.29697986577179,398.84398453491019,478.63019443385434,"n.a.","n.a.","n.a.",null,809,984,1409,1506,829]
[null,null,"2014/15",null,405,285,565,344,330,246,422,199,618,380,487,323,4604,483,5087,483,420.71994781684077,437.85535366167011,520.41054142698579,"n.a.","n.a.","n.a.",null,565,1112,1145,914,526]
[null,null,"2015/16",null,1022,276,971,726,302,180,521,414,597,350,912,447,6718,553,7271,553,642.24202724717372,618.59999381409511,620.32456892193215,"n.a.","n.a.","n.a.",null,579,1094,1179,560,816]
[null,null,"2016/17",null,696,404,1162,412,567,165,1145,312,615,389,830,461,7158,642,7800,642,520.45203807664143,2492.8976674191122,658.47452739506571,"n.a.","n.a.","n.a.",null,483,1429,1339,827,1009]
[null,null,"2017/18",null,577,1119,1031,447,413,276,1286,378,615,238,1033,569,7982,680,8662,680,589.30767386091122,2340.5587614356086,691.71651937457511,"n.a.","n.a.","n.a.",null,553,1748,1654,1543,1773]
[null,null,"2018/19",null,880,405,1013,446,282,292,1829,254,671,296,455,554,7377,647,8024,647,2980,4397,2623,"n/a","n/a","n/a",null,642,1942,1772,1841,1603]
[null,null,"2019/20",null,746,528,540,442,446,164,1303,426,802,426,447,474,6744,1130,7874,1130,3349.8625565849288,3085.2083655092597,2664.9537040451733,"n/a","n/a","n/a",null,680,1922,2217,1863,1980]
[null,null,"2020/21",null,1088,330,606,494,489,240,1354,213,724,540,447,688,7213,1082,8295,1082,3628.7970907002896,3460.1390582025397,2679.5649943202361,"n/a","n/a","n/a",null,647,1976,1429,2709,1263]
[null,null,"2021/22",null,627,785,540,625,454,421,1644,344,1058,548,467,518,8303,1102,9135,1102,4097,1329,3121,"n/a","n/a","n/a",null,1130,1506,1842,2049,1347]
[null,null,"2022/23",null,1018,693,738,556,454,422,1125,261,832,617,524,636,8179,950,8808,950,4170,1421,2942,"n/a","n/a","n/a"]
["Housing","Average House Prices","Year",null,2023,2023,2023,2023,2023,2023,2023,2023,2023,2023,2023,2023,2023,2023,2023,2023,2023,2023,2023,2023,2023,2023,null,2023,2023,2023,2023,2023,"Land Registry"]
[null,null,"Detached",null,594933,571916,640362,552106,536637,598426,611319,1112773,477069,521693,736223,985071,664751,520540,651099.76609796367,520540,547489.08202064096,813735.19599723944,530874.84403669729,"n.a.",736640,533906,null,520540,1775425,2182352,1206252,2834067,"E&W"]
[null,null,"Semi",null,358369,384707,440394,326404,360254,404646,382317,542462,329437,363778,448366,509713,401648,348484,392333.75158730161,348484,355274.5,447466.86417981825,365568.99424956873,"n.a.",441394,323135,null,348484,1205294,1435143,740686,1500541]
[null,null,"Terrace",null,293989,351635,366442,302203,289954,326125,301813,406191,274398,309097,343546,421087,326906,282762,316920.46821021684,282762,301854.49574181979,355132.80757575756,299666.94904458598,"n.a.",362116,299826,null,282762,982521,1252889,595802,1170824]
[null,null,"Flat/ Maisonette",null,181645,218732,230970,205444,211193,179085,201263,316359,169396,186620,253002,301256,223636,204098,221114.10230003434,204098,198136.09429477021,248875.43372549021,203792.30907054871,"n.a.",242570,312058,null,204098,621248,821989,382908,870617]
[null,null,"All",null,400312,398756,379675,349850,343497,368587,381440,635274,327901,334695,455261,558072,408640,321665,394165.44776557636,321665,360190.45972972974,461403.15408388519,339025.39972691587,"n.a.",455599,363358,null,321665,1091759,1426798,781752,1648607]
[null,null,"Detached (no. in sample)",null,424,388,114,219,258,110,366,294,304,248,270,295,3290,344,3634,344,1841,1449,872,"n.a.",30792,121734,null,344,482,1113,790,859]
[null,null,"Semi (no. in sample)",null,332,424,250,298,296,243,554,295,363,353,430,319,4157,883,5040,883,2066,2091,1739,"n.a.",32107,154336,null,883,789,1371,886,1044]
[null,null,"Terrace (no. in sample)",null,349,329,370,389,324,293,445,297,461,379,323,252,4211,1231,5442,1231,2231,1980,2355,"n.a.",30811,154223,null,1231,987,1421,794,872]
[null,null,"Flat/ Maisonette (no. in sample)",null,144,254,269,130,283,114,273,141,134,317,182,296,2537,376,2913,376,1262,1275,893,"n.a.",24961,92697,null,376,666,984,417,619]
[null,null,"All (no. in sample)",null,1249,1395,1003,1036,1161,760,1638,1027,1262,1297,1205,1162,14195,2834,17029,2834,7400,6795,5859,"n.a.",118671,522990,null,2834,2924,4889,2887,3394]
["Housing","Council Tax Bands","Year",null,2024,2024,2024,2024,2024,2024,2024,2024,2024,2024,2024,2024,2024,2024,2024,2024,2024,2024,2024,2024,2024,2024,null,2024,2024,2024,2024,2024,"Neighbourhood Statistics, ONS"]
[null,null,"Band A  <£40k",null,4350,8110,1760,7290,7190,3700,4510,1900,10290,16320,1770,3490,70650,11370,82020,11370,53550,17130,27120,null,366350,6303480,null,11370,12650,38910,8860,7160,"England"]
[null,null,"Band B  £40-52k",null,13870,14060,6820,17230,12990,7040,9530,3470,16530,20080,4070,5460,131140,38780,169920,38780,94760,36390,69170,null,683230,5290600,null,38780,26850,64360,23400,13000]
[null,null,"Band C  £52-68k",null,13600,21090,15300,14500,14590,15220,21080,11610,17840,18210,16120,14120,193280,35320,228600,35320,99830,93450,83680,null,1068070,5928000,null,35320,45110,68390,34680,41850]
[null,null,"Band D  £68-88k",null,10170,13920,14220,7660,8630,10830,20390,12120,11990,8130,14250,10920,143230,19120,162350,19120,60500,82730,56160,null,836350,4241560,null,19120,33680,38340,30560,37290]
[null,null,"Band E  £88-120k",null,7090,7810,7600,4590,5240,4770,10910,7720,6020,4170,9590,7080,82580,10060,92640,10060,34920,47670,28450,null,547470,2702100,null,10060,17610,21810,18000,24390]
[null,null,"Band F  £120-160k",null,6140,4170,2990,2550,2800,2130,6520,6150,2740,1650,5530,5150,48500,4330,52830,4330,20050,28470,12190,null,334460,1451840,null,4330,7920,11170,12660,16830]
[null,null,"Band G  £160-320k",null,3540,2310,1120,1570,1970,1080,4670,7970,1290,830,5040,5580,36950,1540,38490,1540,11510,25460,5030,null,264040,960070,null,1540,4170,6680,8210,18590]
[null,null,"Band H  >£320k",null,210,110,70,70,100,110,390,1530,120,40,470,620,3840,60,3900,60,650,3190,360,null,39990,171870,null,60,280,320,600,2620]
[null,null,"Total Dwellings",null,58970,71580,49870,55460,53510,44860,78000,52460,66810,69420,56820,52410,710170,120580,830750,120580,375750,334420,282120,null,4139950,27049530,null,120580,148240,249970,136970,161690]
[null,"Rough Sleepers",2015,null,5,47,10,9,13,38,38,6,6,17,0,15,204,14,218,14,97,107,68,"n.a.",830,3570,null,null,null,null,null,null,"DLUHC: annual Rough sleeping snapshot in England: Autumn 2021"]
[null,null,2016,null,8,50,9,9,9,35,35,"---",6,33,"---",15,209,14,223,14,115,94,64,"n.a.",960,4130,null,null,null,null,null,null,"England not E&W"]
[null,null,2017,null,11,36,9,13,16,41,41,"---",9,46,8,20,250,44,294,44,131,119,103,"n.a.",1120,4750]
[null,null,2018,null,20,33,12,20,18,9,9,7,32,23,12,7,202,19,221,19,146,56,72,"n.a.",930,4680]
[null,null,2019,null,25,39,13,9,10,"---",3,"---",10,17,6,11,143,12,155,12,110,33,35,"n.a.",900,4270]
[null,null,2020,null,0,24,"---",7,12,"---",2,6,5,24,6,0,86,"---",86,"---",72,14,5,"n.a.",470,2690]
[null,null,2021,null,0,18,6,5,8,"---",null,"---",6,14,"---","---",57,11,68,11,51,6,23,"n.a.",450,2440]
[null,null,2022,null,8,22,4,6,12,4,0,1,7,14,1,1,80,1,86,1,69,11,16,"n.a.",572,3069]
[null,null,2023,null,8,33,3,9,16,11,6,1,11,23,1,4,126,20,68,20,100,26,45,"n.a.",670,3898]
[null,null,"2023 rough sleeping rate (per 10,000 households)",null,1.4074954475860171,4.831677346964983,0.62285339537189233,1.6514083282180789,3.7346764152689915,1.4949869492334424,1.1836902046534066,0.1859191944149361,1.6953386350064648,3.4789347157673167,0.18035822078965613,0.78543276123883743,1.8365541758477419,1.7592477807764639,1.8255650571530955,"n.a.","n.a.","n.a.","n.a.","n.a.",1.7244511315835021,1.6214086239401571]
[null,null,"Gender",null,2021,2021,2021,2021,2021,2021,2021,2021,2021,2021,2021,2021,2021,2021,2021,2021,2021,2021,2021,2021,2021,2021,"England",null,null,null,null,null,"No characteritics below regional and national level."]
[null,"% of total","Total",null,"n.a","n.a","n.a","n.a","n.a","n.a","n.a","n.a","n.a","n.a","n.a","n.a","n.a","n.a","n.a","n.a.","n.a.","n.a.","n.a.","n.a.",100,100]
[null,"% of total","Males",null,"n.a","n.a","n.a","n.a","n.a","n.a","n.a","n.a","n.a","n.a","n.a","n.a","n.a","n.a","n.a","n.a.","n.a.","n.a.","n.a.","n.a.",64.400000000000006,85.2]
[null,"% of total","Females",null,"n.a","n.a","n.a","n.a","n.a","n.a","n.a","n.a","n.a","n.a","n.a","n.a","n.a","n.a","n.a","n.a.","n.a.","n.a.","n.a.","n.a.",11.1,13.1]
[null,null,"Nationality",null,2021,2021,2021,2021,2021,2021,2021,2021,2021,2021,2021,2021,2021,2021,2021,2021,2021,2021,2021,2021,2021,2021,"England"]
[null,"% of total","UK nationals",null,"n.a","n.a","n.a","n.a","n.a","n.a","n.a","n.a","n.a","n.a","n.a","n.a","n.a","n.a","n.a","n.a.","n.a.","n.a.","n.a.","n.a.",73.3,66.8]
[null,"% of total","EU, non-UK nationals",null,"n.a","n.a","n.a","n.a","n.a","n.a","n.a","n.a","n.a","n.a","n.a","n.a","n.a","n.a","n.a","n.a.","n.a.","n.a.","n.a.","n.a.",17.8,20.5]
[null,"% of total","Non-EU nationals",null,"n.a","n.a","n.a","n.a","n.a","n.a","n.a","n.a","n.a","n.a","n.a","n.a","n.a","n.a","n.a","n.a.","n.a.","n.a.","n.a.","n.a.",4.4000000000000004,4.5]
[null,null,"Age",null,2021,2021,2021,2021,2021,2021,2021,2021,2021,2021,2021,2021,2021,2021,2021,2021,2021,2021,2021,2021,2021,2021,"England"]
[null,"% of total","Under 18",null,"n.a","n.a","n.a","n.a","n.a","n.a","n.a","n.a","n.a","n.a","n.a","n.a","n.a","n.a","n.a","n.a.","n.a.","n.a.","n.a.","n.a.",0,0]
[null,"% of total","18 - 25",null,"n.a","n.a","n.a","n.a","n.a","n.a","n.a","n.a","n.a","n.a","n.a","n.a","n.a","n.a","n.a","n.a.","n.a.","n.a.","n.a.","n.a.",4.4000000000000004,4.5]
[null,"% of total","Over 25",null,"n.a","n.a","n.a","n.a","n.a","n.a","n.a","n.a","n.a","n.a","n.a","n.a","n.a","n.a","n.a","n.a.","n.a.","n.a.","n.a.","n.a.",91.1,86.5]
[null,"New Dwelling EPC",null,null,2024,2024,2024,2024,2024,2024,2024,2024,2024,2024,2024,2024,2024,2024,2024,2024,2024,2024,2024,2024,2024,2024]
[null,null,"Q1 - 2024",null,79,142,135,135,60,20,154,38,127,201,71,145,1307,259,1566,259,744,563,541,"n.a.",8056,55880,"England"]
[null,null,"Q2 - 2024",null,121,189,291,181,67,60,177,49,191,302,206,193,2027,267,2294,267,1051,976,809,"n.a.",9690,54605]
[null,null,"Q3 - 2024",null,100,160,178,186,56,95,134,63,130,151,217,97,1567,182,1749,182,783,784,585,"n.a.",8361,51239]
[null,null,"Q4 - 2024",null,148,343,166,139,138,40,118,88,155,123,204,175,1837,171,2008,171,1046,791,532,"n.a.",9822,56187]
[null,null,"Total",null,448,834,770,641,321,215,583,238,603,777,698,610,6738,879,7617,879,3624,3114,2467,"n.a.",35929,217911]
[null,"New Dwelling EPC","2019-09-01",null,779,702,946,252,357,286,1308,418,604,221,559,621,7053,1168,8221,1168,2915,4138,3004,"n.a.",45010,254520,"England",null,null,null,null,null,"NB1 quarterly performance charts.xls"]
[null,"12 month rolling total","2019-12-01",null,730,674,845,279,392,246,1414,454,598,267,525,560,6984,1201,8185,1201,2940,4044,2890,"n.a.",45723,255206]
[null,null,"2020-03-01",null,719,648,769,310,392,259,1481,484,688,327,540,592,7209,1206,8415,1206,3084,4125,2922,"n.a.",45492,254718]
[null,null,"2020-06-01",null,669,505,677,257,323,268,1250,381,601,336,457,493,6217,890,7107,890,2691,3526,2436,"n.a.",37998,217066]
[null,null,"2020-09-01",null,807,532,638,316,296,226,1404,379,704,391,373,691,6757,670,7427,670,3046,3711,2238,"n.a.",38386,218400]
[null,null,"2020-12-01",null,845,520,557,407,290,294,1251,310,762,495,426,703,6860,1115,7975,1115,3319,3541,2728,"n.a.",38543,215395]
[null,null,"2021-03-01",null,944,463,579,489,307,354,1393,291,756,587,437,687,7287,1112,8399,1112,3546,3741,2801,"n.a.",40520,220719]
[null,null,"2021-06-01",null,1129,528,547,640,390,432,1675,362,809,633,479,847,8471,1509,9980,1509,4129,4342,3297,"n.a.",46447,252044]
[null,null,"2021-09-01",null,1044,423,556,649,417,426,1602,302,750,539,467,603,7778,1636,9414,1636,3822,3956,3368,"n.a.",44543,247934]
[null,null,"2021-12-01",null,977,485,630,622,401,428,1456,356,733,429,419,677,7613,1219,8832,1219,3647,3966,3010,"n.a.",42599,243830]
[null,null,"2022-03-01",null,886,539,572,701,350,432,1279,353,743,462,469,688,7474,1220,8694,1220,3681,3793,2967,"n.a.",42182,239842]
[null,null,"2022-06-01",null,900,579,621,696,308,429,1249,274,815,516,459,691,7537,1035,8572,1035,3814,3723,2900,"n.a.",43025,244141]
[null,null,"2022-09-01",null,782,706,751,753,340,442,1161,267,882,588,527,791,7990,880,8870,880,4051,3939,2955,"n.a.",45213,247307]
[null,null,"2022-12-01",null,963,726,815,805,391,409,1217,248,938,727,633,788,8660,1090,9750,1090,4550,4110,3252,"n.a.",46784,252540]
[null,null,"2023-03-01",null,1017,726,844,688,402,388,1202,256,900,657,539,856,8475,1037,9512,1037,4390,4085,3169,"n.a.",44963,248038]
[null,null,"2023-06-01",null,902,769,936,629,470,355,1167,280,794,698,518,795,8313,1210,9523,1210,4262,4051,3295,"n.a.",43556,240533]
[null,null,"2023-09-01",null,893,798,835,535,622,335,1127,282,786,784,482,805,8284,1319,9603,1319,4418,3866,3275,"n.a.",41838,237081]
[null,null,"2023-12-01",null,777,871,772,466,566,341,1063,207,644,675,391,726,7499,1286,8785,1286,3999,3500,3043,"n.a.",40272,231078]
[null,null,"2024-03-01",null,1323,1589,1391,806,1059,574,1863,340,1130,1186,698,1210,13169,2409,15578,2409,7093,6076,5504,"n.a.",71169,407675]
[null,null,"2024-06-01",null,1230,1543,1285,812,980,505,1678,310,1122,1216,690,1162,12533,2233,14766,2233,6903,5630,5145,"n.a.",68879,406211]
[null,null,"2024-09-01",null,1199,1460,1400,907,782,495,1656,321,1080,1302,794,1176,12572,2177,14749,2177,6730,5842,5152,"n.a.",68608,401960]
[null,null,"2024-12-01",null,1077,1362,1376,968,749,516,1528,357,1092,1329,885,1161,12400,1994,14394,1994,6577,5823,4978,"n.a.",66379,392802]
["New Data","Households assessed as homeless","2022-23",null,5.4891887612378829,"..",5.5019204816775664,4.7890786986917186,2.9932883410489524,7.7027216283086695,5.8032862637437317,2.7027560220166111,7.1974600826089636,5.6873184898354312,2.6332401478943095,3.0828440709250495,4.4295965262867911,7.4504112239961291,4.8590062919505046,"n.a.","n.a.","n.a.","n.a.","n.a.",4.905677665576917,6.5571779343724819,null,"n.a.","n.a.","n.a.","n.a.","n.a.","England  ","Table A1 Statutory homelessness detailed local authority tables, MHCLG"]
[null,"per 1,000 households for financial year","2023-24",null,7.7853468650076465,"..",6.0183005465599475,5.9781525696998239,4.0648911124190699,6.7485804710043746,6.8592640413169788,3.0572649237643552,5.1358641815383201,6.4496775161241935,4.0302446679506385,3.8202159591470783,4.9625857410101855,7.4044216226636639,5.3079358784491362,"n.a.","n.a.","n.a.","n.a.","n.a.",5.432360970544333,7.3757608112147262,null,"n.a.","n.a.","n.a.","n.a.","n.a."]
[null,"Households in temporary accommodation","Q1 2022-23",null,2.3165885560525301,1.41480236979397,6.1309624136187404,3.3103961316719399,0.45111933986203301,4.19193929884546,2.37692867840018,2.02650348677806,6.3458899837844598,2.8686085722568899,2.00711613903841,1.3056638113513599,2.8619801251380199,3.0461155404868498,2.8882952748801589,"n.a.","n.a.","n.a.","n.a.","n.a.",2.8866867084886501,4.0090417743116902,null,"n.a.","n.a.","n.a.","n.a.","n.a.","2018-06-30","Table TA1 Number of households by type of temporary accommodation provided. MHCLG"]
[null,null,"Q2 2022-23",null,2.7620863552934001,1.8569281103545801,6.1730996123377704,3.71954621536173,0.46991597902295101,4.3792885412519604,2.6242391767308302,1.90729739932053,6.7200947985530703,3.1127454720234402,1.7151719733600901,1.40457773645374,3.0518954729481047,3.3109951527031001,3.0889239112741937,"n.a.","n.a.","n.a.","n.a.","n.a.",3.0695100207224399,4.1408155254471,null,"n.a.","n.a.","n.a.","n.a.","n.a.","2018-09-30",".. Incomplete data"]
[null,null,"Q3 2022-23",null,2.8690058271112102,1.915878209096,6.2995112084948603,3.5707643667472602,0.45111933986203301,4.6368937495609002,3.22877595042798,1.9470327618063701,6.3770737183485098,2.9601599096693501,1.73341848371499,1.5232744465765899,3.1093117408906883,3.09026214252289,3.1065893257994546,"n.a.","n.a.","n.a.","n.a.","n.a.",3.0926598290264899,4.2108848366898197,null,"n.a.","n.a.","n.a.","n.a.","n.a.","2018-12-31"]
[null,null,"Q4 2022-23",null,2.5686588433997799,2.09373490095023,6.6438285061766802,4.09181819849905,0.40902076709985702,4.7383408804444196,3.6015711004498598,1.61770798398075,5.9336662351273004,3.1310503388189699,1.60519433673009,1.47269621222534,3.1483805517536916,3.4481242028411798,3.1909892066540628,"n.a.","n.a.","n.a.","n.a.","n.a.",3.17007613583832,4.3486395917292002,null,"n.a.","n.a.","n.a.","n.a.","n.a.","2019-03-31"]
[null,null,"Q1 2023-24",null,2.6390330582874402,"..",7.0175438596491198,4.1652140406246003,0.44620447319984402,4.6216329769852003,3.5472077630845802,1.5782516916885301,5.2247087109302797,3.4033155856728001,1.9298403823609001,1.35488051524731,2.9414036821476621,3.3689580859392199,3.0021806760095631,"n.a.","n.a.","n.a.","n.a.","n.a.",3.0819420540451001,4.4156382737442099,null,"n.a.","n.a.","n.a.","n.a.","n.a.","2019-06-30"]
[null,null,"Q2 2023-24",null,3.25480743855451,1.4202257719732401,3.6541056783971801,4.8991724618800303,0.55775559149980503,"..",3.7510702782043799,1.4204265225196799,5.2092965908390401,3.4638189738625398,2.0741275137523698,1.5316040607143599,2.7154782258875589,3.94071337467564,2.8896457901949608,"n.a.","n.a.","n.a.","n.a.","n.a.",3.2974074944967402,4.5442188150279899,null,"n.a.","n.a.","n.a.","n.a.","n.a.","2019-09-30"]
[null,null,"Q3 2023-24",null,3.1668396699449302,1.4934332859924699,4.5676320979964702,5.0826620671938896,0.37183706099987002,5.5552962046589798,3.4928444257193001,1.3612420840813599,5.1014117502003602,3.94784607938045,2.0921634051762998,1.47269621222534,3.1279743815108438,4.1254343141135603,3.2697636267242847,"n.a.","n.a.","n.a.","n.a.","n.a.",3.4765958634878298,4.6982933419568296,null,"n.a.","n.a.","n.a.","n.a.","n.a.","2019-12-31"]
[null,null,"Q4 2023-24",null,3.3713332406506327,1.8022993851833549,7.2260547378763995,5.5071466096628683,0.53340200117716297,5.5152192125104715,3.5506778566817299,1.6854152784854779,4.9225048386850965,4.3347832608369581,2.0864540980098436,1.7151990020660353,3.4758308505970117,4.460178231876692,3.6150476202279078,"n.a.","n.a.","n.a.","n.a.","n.a.",3.6863362444823191,4.8473652060710579,null,"n.a.","n.a.","n.a.","n.a.","n.a.","2020-03-31"]
[null,"Decent Homes Standard","Decent Homes Delivery",null,"2020/2021","2020/2021","2020/2021","2020/2021","2020/2021","2020/2021","2020/2021","2020/2021","2020/2021","2020/2021","2020/2021","2020/2021","2020/2021","2020/2021","2020/2021","2020/2021","2020/2021","2020/2021","2020/2021","2020/2021","2020/2021","2020/2021",null,null,null,null,null,null,"England  "]
[null,"Local Authorities","Local Authority Owned (including those owned by other Local Authorities)",null,5105,5079,4245,4765,3388,5641,107,0,7,3091,10,56,31494,3007,34501,3007,21435,10059,12900,"n.a.",173350,1581413]
[null,null,"Non-decent dwellings at 31 March 2019",null,0,615,64,192,2,0,0,0,0,222,0,0,1095,0,1095,0,1031,64,64,"n.a.",10508,70742]
[null,null,"Dwellings with category 1 hazards (HHSRS)",null,0,103,26,15,0,0,".",0,0,40,0,0,184,0,184,0,158,26,26,"n.a.",581,5412]
[null,null,"Dwellings not in a reasonable state of repair",null,0,615,43,174,1,0,".",0,0,181,0,0,1014,0,1014,0,971,43,43,"n.a.",5986,52839]
[null,null,"Dwellings without reasonably modern amenities and services",null,0,453,2,1,1,0,".",0,0,0,0,0,457,0,457,0,455,2,2,"n.a.",8372.6219999999994,12984]
[null,null,"Dwellings without a reasonable degree of thermal comfort",null,0,36,7,4,0,0,".",0,0,1,0,0,48,0,48,0,41,7,7,"n.a.",3463,6988]
[null,null,"Dwellings made decent during year",null,0,".",6,335,9,0,".",0,0,17,0,0,367,245,612,245,361,6,251,"n.a.",3803,39916]
[null,null,"Dwellings receiving work to prevent them becoming non-decent during year"]
[null,null,"Dwellings becoming non-decent during year",null,0,".",54,250,1,1879,".",0,0,0,0,0,2184,233,2417,233,251,1933,2166,"n.a.",7608,39916]
[null,null,"Other reduction in non-decent dwellings",null,0,".",2,0,14,0,".",0,0,".",0,0,16,27,43,27,14,2,29,"n.a.",309,3303]
[null,null,"Number of non-decent dwellings, 31 March 2019",null,0,615,64,192,2,0,0,0,0,222,0,0,1095,0,1095,0,1031,64,64,"n.a.",10508,70742]
[null,"Private rental provider dwellings",null,null,"2020/2021","2020/2021","2020/2021","2020/2021","2020/2021","2020/2021","2020/2021","2020/2021","2020/2021","2020/2021","2020/2021","2020/2021","2020/2021","2020/2021","2020/2021","2020/2021","2020/2021","2020/2021","2020/2021","2020/2021","2020/2021","2020/2021"]
[null,null,"Total owned units",null,2657,2626,2050,2786,1987,1815,9598,6687,8555,4679,8481,7371,59292,5273,64565,5273,23290,36002,17693,"n.a.",359327,2598546,null,null,null,null,null,null,"England  "]
[null,null,"Total number of owned units which fail the DHS by Local Authority area",null,16,0,0,31,28,0,41,1,6,22,2,1,148,192,340,192,103,45,198,"n.a.",1284,10772]
["Yound People, Education & Skills","Education service related age bands",null,null,"Mid 2023","Mid 2023","Mid 2023","Mid 2023","Mid 2023","Mid 2023","Mid 2023","Mid 2023","Mid 2023","Mid 2023","Mid 2023","Mid 2023","Mid 2023","Mid 2023","Mid 2023","Mid 2023","Mid 2023","Mid 2023","Mid 2023","Mid 2023","Mid 2023","Mid 2023",null,"Mid 2023","Mid 2023","Mid 2023","Mid 2023","Mid 2023"]
[null,"Total population","0-3",null,6100,5500,6700,4500,3900,5400,8500,5100,6900,5700,5800,4800,68800,13700,82500,13700,32500,36300,32700,185200,389600,2542100,null,13700,19000,19600,14600,15700]
[null,"number","4-10",null,12100,11000,12200,9000,7900,10100,16400,10500,13900,11000,12200,10000,136300,26600,162900,26600,64900,71400,62800,363600,776200,4927600,null,26600,36200,38900,28500,32700]
[null,null,"11-18",null,13900,15400,13100,11100,10000,11700,17500,12800,15400,13200,14200,13200,161600,29800,191400,29800,79100,82500,70000,425300,933300,5856500,null,29800,40200,49800,31400,40200]
[null,null,"10-17",null,14200,14800,13400,11300,10200,11900,17900,12900,15800,13300,14500,13300,163400,30100,193600,30100,79500,83900,71200,430100,939400,5881500,null,30100,41100,49600,32100,40800]
[null,null,"14-19",null,9700,13900,8600,7700,7100,7900,11900,8900,10700,9400,9800,8800,114300,21000,135300,21000,58500,55900,48200,301100,675400,4326500,null,21000,27200,38100,21600,27500]
[null,null,"0-19",null,33300,35800,32900,25500,22700,28200,43700,29400,37600,31100,33200,28800,382300,73000,455300,73000,186100,196200,171700,1014900,2201500,14042800,null,73000,98700,115200,77000,91400]
[null,"Percentage","0-3",null,4.3917184324898939E-2,3.4194286571755481E-2,5.5344286199554261E-2,3.7675708949245726E-2,3.5551150952745622E-2,5.0233438837168291E-2,4.6040165701162407E-2,4.2041200046180997E-2,4.4145664013137215E-2,4.0594136956258589E-2,4.3052823099566588E-2,4.0967356007520085E-2,4.2741162713142239E-2,4.7810320781032076E-2,4.3507528263604933E-2,4.7810320781032076E-2,3.9482369500327616E-2,4.6157603697187799E-2,4.8703006426484327E-2,4.2587876871784551E-2,4.1083755593325687E-2,4.1774043288371011E-2,null,4.7810320781032076E-2,4.9369160276742062E-2,3.6953453442120594E-2,4.5129779514373428E-2,4.207096345799597E-2]
[null,"of total pop","4-10",null,8.7378781195085437E-2,6.8751211399346007E-2,0.10082105071293052,7.614405814943799E-2,7.1354565520969415E-2,9.3848909845271361E-2,8.8920499275193146E-2,8.6754300605300913E-2,8.9221453176217019E-2,7.8083723182306913E-2,8.9907252636717311E-2,8.5746026320287133E-2,8.4627800262195144E-2,9.2702231520223152E-2,8.584850908067311E-2,9.2702231520223152E-2,7.875360982357367E-2,9.0786161241860244E-2,9.3537904039312864E-2,8.3613600436869481E-2,8.18511391554997E-2,8.0973052430257389E-2,null,9.2702231520223152E-2,9.4161512662328375E-2,7.3423855205259222E-2,8.8259372964926974E-2,8.7579788373388173E-2]
[null,null,"11-18",null,0.10057635428794573,9.6311718842808827E-2,0.10836875201948649,9.3784519904545879E-2,9.0184242533447451E-2,0.10880199003127988,9.4860114991828962E-2,0.10593590737411555,9.8984559922510956E-2,9.426868604874715E-2,0.10498054820052365,0.11248504529140319,0.10035143589415563,0.10376917712691772,0.10086813691355688,0.10376917712691772,9.599582595190137E-2,0.10491775334526549,0.10429291537096445,9.7793464202569486E-2,9.8420069713631639E-2,9.6238095029166762E-2,null,0.10376917712691772,0.1046837475184022,9.3921473911435488E-2,9.7311377802586294E-2,0.10764201259478216]
[null,null,"10-17",null,0.10268073443590318,9.2422736168164113E-2,0.1111608215478173,9.5158991829059542E-2,9.1463579440515336E-2,0.11025924241439802,9.6999245332189565E-2,0.10667810196104303,0.10121044562616667,9.4966497910124681E-2,0.10700708548437199,0.1140574260810118,0.10150343021056965,0.10512203626220362,0.10205049837879951,0.10512203626220362,9.6504234717402382E-2,0.10674446738437701,0.10612415794876991,9.8891156267065211E-2,9.9067894176086552E-2,9.6647956369929983E-2,null,0.10512203626220362,0.10687197687398037,9.3508238295431381E-2,9.9435606412999658E-2,0.10910926187722229]
[null,null,"14-19",null,6.9972447806310248E-2,8.7133219539949611E-2,7.1044499125924823E-2,6.497120354832997E-2,6.3651515834046574E-2,7.3697986764064347E-2,6.451595389468312E-2,7.3056687173228219E-2,6.8707382627828065E-2,6.6747840699520791E-2,7.2518971051580547E-2,7.5115364894889763E-2,7.0994521972040384E-2,7.3078800557880061E-2,7.1309627416447946E-2,7.3078800557880061E-2,7.0943043657630989E-2,7.1048490607560508E-2,7.179692726733608E-2,6.9222199867789491E-2,7.1229159124269567E-2,7.1096268330971227E-2,null,7.3078800557880061E-2,7.0840347722914476E-2,7.1853937248567826E-2,6.685583155022172E-2,7.3507047080495228E-2]
[null,null,"0-19",null,0.24056463918196741,0.22409793733861036,0.2722392066214302,0.21533674562150584,0.20472093337537728,0.26155359811392559,0.23726973130568391,0.24256568422094307,0.24146048892509606,0.22142709646180905,0.24590624676419687,0.24571868056742438,0.23739342500020183,0.25451882845188284,0.23998247806727388,0.25451882845188284,0.22581964229378504,0.2495271024066576,0.25580179071385678,0.23336234300002875,0.23215991298503655,0.2307595759980979,null,0.25451882845188284,0.2567591828875781,0.21737136862126485,0.23868266815517722,0.24476288394807866]
[null,null,null,null,"Mid 2023","Mid 2023","Mid 2023","Mid 2023","Mid 2023","Mid 2023","Mid 2023","Mid 2023","Mid 2023","Mid 2023","Mid 2023","Mid 2023","Mid 2023","Mid 2023","Mid 2023","Mid 2023","Mid 2023","Mid 2023","Mid 2023","Mid 2023","Mid 2023","Mid 2023",null,"Mid 2023","Mid 2023","Mid 2023","Mid 2023","Mid 2023"]
[null,"Males","0-3",null,3100,2800,3500,2300,2000,2700,4500,2600,3500,3000,3000,2500,35500,7000,42500,7000,16800,18800,16700,95200,199400,1301300,null,7000,9700,10100,7600,8100]
[null,"Number","4-10",null,6200,5700,6200,4700,4000,5200,8400,5300,7200,5700,6200,5200,70000,13500,83500,13500,33500,36500,32100,186300,397900,2521600,null,13500,18600,20100,14600,16700]
[null,null,"11-18",null,7100,7900,6800,5700,5300,5900,9000,6500,8000,6900,7400,6600,83100,15200,98300,15200,40800,42300,35900,218600,479300,3006300,null,15200,20700,25800,16100,20600]
[null,null,"10-17",null,7200,7700,6900,5800,5400,6000,9200,6600,8200,6900,7500,6700,84200,15400,99500,15400,41200,43000,36500,221000,482400,3016000,null,15400,21100,25800,16400,20900]
[null,null,"14-19",null,4900,7100,4400,4000,3800,4000,6200,4500,5600,5000,5200,4500,59100,10700,69800,10700,30300,28700,24800,155800,348100,2225800,null,10700,14000,19800,11100,14100]
[null,null,"0-19",null,17000,18400,17000,13100,11800,14300,22700,15000,19400,16300,17200,14700,196900,37200,234100,37200,96100,100800,88000,521800,1130000,7198900,null,37200,50700,59600,39700,46900]
[null,"Percentage ","0-3",null,0.51457269883089085,0.51746205887730845,0.52155688622754492,0.51410026857654434,0.50734921439432334,0.5007390983000739,0.52606132075471701,0.51745782659866613,0.51060738157512353,0.52622346956674271,0.51365744717402506,0.51835627868168543,0.51633151226316398,0.50999124854142353,0.51527818164195016,0.50999124854142353,0.51532007744552688,0.51723852831748651,0.51095270146239979,0.5139455782312925,0.51186800042096936,0.51189545219239796,null,0.50999124854142353,0.51164751765573946,0.51720792483660127,0.52126709269566407,0.5163240628778718]
[null,"of age group","4-10",null,0.51493834312670694,0.51991633321207709,0.51244966718711482,0.51638981173864895,0.51022727272727275,0.51112649589555925,0.51453168885089751,0.50560836501901141,0.51499029405420949,0.51896771840233447,0.51110562685093786,0.51325493322702809,0.51375190794880832,0.50806785270997101,0.51282397656868828,0.50806785270997101,0.5161007025761124,0.51161585024100442,0.51094367274117503,0.51238017192544394,0.51267274278042763,0.51172529874119066,null,0.50806785270997101,0.51305645361850283,0.51685855263157898,0.51470433224412349,0.50999694283093855]
[null,null,"11-18",null,0.50790911705493236,0.5137626590495975,0.51834862385321101,0.50953065995324587,0.52727272727272723,0.50571574816584197,0.51642628205128205,0.507239607659972,0.51817769425183069,0.52300022660321777,0.52176976187121316,0.50444427562105898,0.51448409874312306,0.51083632942441448,0.51391676073414438,0.51083632942441448,0.51625502439517656,0.51278538259151041,0.51300111438123264,0.5139543304272588,0.51354968396035872,0.513328938249066,null,0.51083632942441448,0.51460244078244233,0.51799095931692618,0.51265137029955388,0.51145436907693453]
[null,null,"10-17",null,0.50799352067046977,0.51921255581112169,0.51434746962808375,0.51271599468320783,0.5271867612293144,0.50795521508544494,0.51421694839359677,0.51035868893011749,0.51850678159462538,0.52080677813601262,0.52073541609068286,0.50528208586199141,0.51487953207787285,0.50963547713025303,0.51406286319378081,0.50963547713025303,0.51743301522638396,0.5124593328804834,0.51220813501256612,0.51388081564323751,0.51347332160968773,0.51279396274920364,null,0.50963547713025303,0.51409650874032231,0.51979578658487369,0.51146109465148915,0.51238006429290084]
[null,null,"14-19",null,0.50682100041339395,0.50674512055109067,0.51265306122448984,0.51434133679428939,0.54026893135173393,0.50869017632241809,0.52023899688630815,0.50919968393723891,0.52310708617309309,0.52954981864732242,0.5264660887302397,0.50682593856655289,0.51660703820012421,0.51233360370246672,0.51594494300625382,0.51233360370246672,0.51846340670805757,0.51466375420754851,0.51418491231711116,0.51744525935374153,0.51533317244840704,0.51445449300873858,null,0.51233360370246672,0.51561007860133701,0.52011554621848743,0.51421680040818218,0.51460625045530706]
[null,null,"0-19",null,0.51142307461071368,0.51342001004408233,0.51714903070696006,0.5138818185378079,0.5196056858689434,0.5082508250825083,0.51851173859319943,0.50863534371387775,0.51625843472716648,0.52403768852300869,0.5169333493743985,0.51140710857619809,0.51509562787923502,0.50965806345553177,0.51422377152346244,0.50965806345553177,0.51622991075026736,0.51401945390403558,0.51230806868752765,0.51410453217094521,0.51328982883161978,0.51264230501998498,null,0.50965806345553177,0.51426834211593031,0.51760865979739412,0.51544797838062573,0.51252515970946]
[null,null,"All ages",null,0.51142307461071368,0.51342001004408233,0.51714903070696006,0.5138818185378079,0.5196056858689434,0.5082508250825083,0.51851173859319943,0.50863534371387775,0.51625843472716648,0.52403768852300869,0.5169333493743985,0.51140710857619809,0.51509562787923502,0.50965806345553177,0.51422377152346244,0.50965806345553177,0.51622991075026736,0.51401945390403558,0.51230806868752765,0.51410453217094521,0.51328982883161978,0.51264230501998498,null,0.50965806345553177,0.51426834211593031,0.51760865979739412,0.51544797838062573,0.51252515970946]
[null,null,null,null,"Mid 2023","Mid 2023","Mid 2023","Mid 2023","Mid 2023","Mid 2023","Mid 2023","Mid 2023","Mid 2023","Mid 2023","Mid 2023","Mid 2023","Mid 2023","Mid 2023","Mid 2023","Mid 2023","Mid 2023","Mid 2023","Mid 2023","Mid 2023","Mid 2023","Mid 2023",null,"Mid 2023","Mid 2023","Mid 2023","Mid 2023","Mid 2023"]
[null,"Females","0-3",null,2900,2600,3200,2200,1900,2700,4000,2500,3400,2700,2800,2300,33300,6700,40000,6700,15800,17500,16000,90000,190200,1240800,null,6700,9300,9500,7000,7600]
[null,"Number","4-10",null,5900,5300,5900,4400,3900,4900,8000,5200,6700,5300,5900,4900,66300,13100,79300,13100,31400,34900,30700,177300,378200,2406000,null,13100,17600,18800,13800,16000]
[null,null,"11-18",null,6800,7500,6300,5500,4700,5800,8400,6300,7400,6300,6800,6500,78500,14600,93000,14600,38300,40200,34100,206700,454000,2850200,null,14600,19500,24000,15300,19600]
[null,null,"10-17",null,7000,7100,6500,5500,4800,5800,8700,6300,7600,6400,6900,6600,79300,14800,94100,14800,38400,40900,34700,209100,457000,2865500,null,14800,20000,23800,15700,19900]
[null,null,"14-19",null,4800,6900,4200,3700,3200,3900,5700,4300,5100,4400,4600,4300,55300,10200,65500,10200,28200,27100,23400,145300,327400,2100700,null,10200,13200,18300,10500,13300]
[null,null,"0-19",null,16300,17400,15900,12400,10900,13900,21000,14500,18200,14800,16100,14000,185400,35800,221200,35800,90000,95300,83700,493100,1071500,6843900,null,35800,47900,55600,37300,44600]
[null,"Percentage ","0-3",null,0.48542730116910915,0.48253794112269155,0.47844311377245508,0.48589973142345566,0.49265078560567666,0.4992609016999261,0.47393867924528305,0.48254217340133387,0.48939261842487647,0.47377653043325735,0.48634255282597494,0.48164372131831457,0.48366848773683596,0.49000875145857642,0.48472181835804984,0.49000875145857642,0.48467992255447312,0.48276147168251343,0.48904729853760021,0.4860544217687075,0.48813199957903058,0.4881045478076021,null,0.49000875145857642,0.48835248234426054,0.48279207516339867,0.47873290730433588,0.4836759371221282]
[null,"of age group","4-10",null,0.48506165687329306,0.48008366678792286,0.48755033281288518,0.48361018826135105,0.48977272727272725,0.48887350410444069,0.48546831114910244,0.49439163498098859,0.48500970594579051,0.48103228159766553,0.4888943731490622,0.48674506677297191,0.48624809205119174,0.49193214729002899,0.48717602343131172,0.49193214729002899,0.4838992974238876,0.48838414975899563,0.48905632725882503,0.48761982807455601,0.48732725721957243,0.48827470125880934,null,0.49193214729002899,0.48694354638149712,0.48314144736842107,0.48529566775587646,0.49000305716906145]
[null,null,"11-18",null,0.49209088294506759,0.4862373409504025,0.48165137614678899,0.49046934004675419,0.47272727272727272,0.49428425183415797,0.48357371794871795,0.492760392340028,0.48182230574816926,0.47699977339678223,0.47823023812878679,0.49555572437894096,0.48551590125687694,0.48916367057558552,0.48608323926585562,0.48916367057558552,0.48374497560482344,0.48721461740848965,0.48699888561876731,0.4860456695727412,0.48645031603964128,0.48667106175093394,null,0.48916367057558552,0.48539755921755773,0.48200904068307382,0.48734862970044612,0.48854563092306547]
[null,null,"10-17",null,0.49200647932953023,0.48078744418887837,0.48565253037191625,0.48728400531679222,0.4728132387706856,0.49204478491455511,0.48578305160640323,0.48964131106988251,0.48149321840537457,0.47919322186398738,0.47926458390931709,0.49471791413800853,0.48512046792212721,0.49036452286974691,0.48593713680621919,0.49036452286974691,0.48256698477361598,0.48754066711951666,0.48779186498743382,0.48611918435676255,0.48652667839031222,0.48720603725079636,null,0.49036452286974691,0.48590349125967763,0.48020421341512631,0.48853890534851085,0.48761993570709922]
[null,null,"14-19",null,0.49317899958660605,0.49325487944890928,0.48734693877551022,0.48565866320571055,0.45973106864826613,0.49130982367758186,0.47976100311369185,0.49080031606276103,0.47689291382690691,0.47045018135267763,0.4735339112697603,0.49317406143344711,0.48339296179987579,0.48766639629753328,0.48405505699374624,0.48766639629753328,0.48153659329194248,0.48533624579245149,0.48581508768288889,0.48255474064625853,0.48466682755159296,0.48554550699126137,null,0.48766639629753328,0.48438992139866305,0.47988445378151262,0.48578319959181782,0.48539374954469294]
[null,null,"0-19",null,0.48857692538928638,0.48657998995591761,0.48285096929303994,0.4861181814621921,0.48039431413105665,0.49174917491749176,0.48148826140680062,0.49136465628612225,0.48374156527283352,0.47596231147699136,0.48306665062560156,0.48859289142380191,0.48490437212076504,0.49034193654446817,0.48577622847653751,0.49034193654446817,0.48377008924973269,0.48598054609596442,0.48769193131247235,0.48589546782905485,0.48671017116838022,0.48735769498001502,null,0.49034193654446817,0.48573165788406975,0.48239134020260593,0.48455202161937427,0.48747484029053995]
[null,null,"All ages",null,0.48857692538928638,0.48657998995591761,0.48285096929303994,0.4861181814621921,0.48039431413105665,0.49174917491749176,0.48148826140680062,0.49136465628612225,0.48374156527283352,0.47596231147699136,0.48306665062560156,0.48859289142380191,0.48490437212076504,0.49034193654446817,0.48577622847653751,0.49034193654446817,0.48377008924973269,0.48598054609596442,0.48769193131247235,0.48589546782905485,0.48671017116838022,0.48735769498001502,null,0.49034193654446817,0.48573165788406975,0.48239134020260593,0.48455202161937427,0.48747484029053995]
["Education & Skills","State Funded Schools","Year",null,"February 2025","February 2025","February 2025","February 2025","February 2025","February 2025","February 2025","February 2025","February 2025","February 2025","February 2025","February 2025","February 2025","February 2025","February 2025","February 2025","February 2025","February 2025","February 2025","February 2025","February 2025","February 2025",null,"February 2025","February 2025","February 2025","February 2025","February 2025","KCC MIU"]
[null,null,"Academy Infant",null,1,1,1,2,null,2,null,null,1,null,null,null,8,"n.a.","n.a.","n.a.",5,3,4,"n.a.","n.a.","n.a.",null,"n.a.",3,3,1,0,"Schools Census"]
[null,null,"Academy Junior",null,2,1,1,1,null,1,null,1,1,3,1,null,12,"n.a.","n.a.","n.a.",8,4,3,"n.a.","n.a.","n.a."]
[null,null,"Academy Primary",null,15,11,19,19,15,15,14,12,31,11,14,7,183,"n.a.","n.a.","n.a.",102,81,65,"n.a.","n.a.","n.a."]
[null,null,"Primary Free School",null,1,null,2,null,null,1,3,null,null,1,1,1,10,"n.a.","n.a.","n.a.",2,8,3,"n.a.","n.a.","n.a."]
[null,null,"Maintained Nursery School",null,null,null,null,null,null,1,null,null,null,null,null,null,1,"n.a.","n.a.","n.a.",0,1,1]
[null,null,"Infant ",null,2,4,null,null,null,null,3,1,null,5,2,null,17,"n.a.","n.a.","n.a.",11,6,0,"n.a.","n.a.","n.a."]
[null,null,"Junior",null,1,4,null,1,null,1,3,null,null,2,1,null,13,"n.a.","n.a.","n.a.",8,5,1,"n.a.","n.a.","n.a."]
[null,null,"Primary",null,21,14,6,18,21,8,26,28,16,9,26,24,217,"n.a.","n.a.","n.a.",99,118,30,"n.a.","n.a.","n.a."]
[null,null,"Total No of Primary Schools",null,43,35,29,41,36,29,49,42,49,31,45,32,461,"n.a.","n.a.","n.a.",235,226,107,"n.a.","n.a.","n.a."]
[null,null,"Academy Grammar",null,2,1,4,1,2,2,2,null,3,2,2,2,23,"n.a.","n.a.","n.a.",11,12,9,"n.a.","n.a.","n.a."]
[null,null,"Academy High",null,3,4,2,4,1,1,6,1,4,4,6,1,37,"n.a.","n.a.","n.a.",20,17,7,"n.a.","n.a.","n.a."]
[null,null,"Academy Wide Ability",null,1,1,2,2,2,1,1,1,2,1,null,3,17,"n.a.","n.a.","n.a.",9,8,5,"n.a.","n.a.","n.a."]
[null,null,"Academy University Technical College",null,null,null,1,null,null,null,null,null,null,null,null,null,1,"n.a.","n.a.","n.a.",0,1,1]
[null,null,"Secondary Free School",null,2,1,1,null,1,null,1,1,null,null,1,null,8,"n.a.","n.a.","n.a.",4,4,1,"n.a.","n.a.","n.a."]
[null,null,"Grammar",null,null,2,null,2,null,null,2,null,null,null,1,2,9,"n.a.","n.a.","n.a.",4,5,0,"n.a.","n.a.","n.a."]
[null,null,"High",null,null,null,1,null,null,3,null,null,null,1,1,null,6,"n.a.","n.a.","n.a.",1,5,4,"n.a.","n.a.","n.a."]
[null,null,"Wide Ability",null,null,1,null,null,null,1,null,null,null,null,null,null,2,"n.a.","n.a.","n.a.",1,1,1,"n.a.","n.a.","n.a."]
[null,null,"Total No of Secondary Schools",null,8,10,11,9,6,8,12,3,9,8,11,8,103,"n.a.","n.a.","n.a.",50,53,28,"n.a.","n.a.","n.a."]
[null,null,"Special School Academy",null,null,null,null,null,null,null,null,1,null,null,null,null,1,"n.a.","n.a.","n.a.",0,1,0]
[null,null,"Special School Free",null,null,null,null,null,null,null,1,null,2,null,null,null,3]
[null,null,"Special School",null,2,2,1,2,1,1,2,1,1,4,2,2,21,"n.a.","n.a.","n.a.",12,9,3,"n.a.","n.a.","n.a."]
[null,null,"Pupil Referral Unit (PRU) Academy",null,null,null,null,null,null,1,null,null,null,null,null,null,1]
[null,null,"Pupil Referral Unit (PRU) ",null,null,null,null,null,1,null,1,null,null,1,1,1,5,"n.a.","n.a.","n.a.",2,3,0,"n.a.","n.a.","n.a."]
[null,null,"Total No of PRUs & Special Schools",null,2,2,1,2,2,2,4,2,3,5,3,3,31]
["Education & Skills","School Populations","Year",null,"2024-01-01","2024-01-01","2024-01-01","2024-01-01","2024-01-01","2024-01-01","2024-01-01","2024-01-01","2024-01-01","2024-01-01","2024-01-01","2024-01-01","2024-01-01","2024-01-01","2024-01-01","2024-01-01","2024-01-01","2024-01-01","2024-01-01","2024-01-01","2024-01-01","2024-01-01","2024-01-01","2024-01-01","2024-01-01","2024-01-01","2024-01-01","2024-01-01","KCC MIU"]
[null,null,"Number on roll",null,21617,22050,24358,16243,15315,20637,30250,13083,24482,20137,23677,19774,251623,"n.a.","n.a.","n.a.",119844,131779,69477,"n.a.","n.a.","n.a.",null,"n.a.",60310,73745,51867,56534,"Schools Census"]
[null,null,"Ethnic Minority",null,5780,5268,12232,2645,2613,9533,8880,3003,4408,4104,4747,5057,68270,"n.a.","n.a.","n.a.",24818,43452,26173,"n.a.","n.a.","n.a.",null,"n.a.",24378,14630,14660,12807]
[null,"School Populations","Year",null,"January 2024","January 2024","January 2024","January 2024","January 2024","January 2024","January 2024","January 2024","January 2024","January 2024","January 2024","January 2024","January 2024","January 2024","January 2024","January 2024","January 2024","January 2024","January 2024","January 2024","January 2024","January 2024",null,"January 2024","January 2024","January 2024","January 2024","January 2024"]
[null,"All pupils regardless of age","Number on roll",null,21617,22050,24358,16243,15315,20637,30250,13083,24482,20137,23677,19774,251623,"n.a.","n.a.","n.a.",119844,131779,69477,"n.a.","n.a.","n.a.",null,"n.a.",60310,73745,51867,56534]
[null,null,"English additional language",null,3304,2816,5679,1403,1422,4956,4788,1120,1882,2262,1780,2827,34239,"n.a.","n.a.","n.a.",13089,21150,12517,"n.a.","n.a.","n.a.",null,"n.a.",12057,7903,8092,5727]
[null,null,"Free school meals",null,4760,4896,4366,4878,4100,4556,5596,2339,6420,6810,3697,2589,55007,"n.a.","n.a.","n.a.",31864,23143,15342,"n.a.","n.a.","n.a.",null,"n.a.",13022,20684,10356,8625]
[null,null,"Total SEN",null,3531,3705,3617,3048,2864,2956,4803,2505,4745,4187,3752,2831,42544,"n.a.","n.a.","n.a.",22080,20464,11318,"n.a.","n.a.","n.a."]
[null,null,"SEN - with SEN support",null,2447,2452,2842,2283,2067,2286,2979,1681,3254,2858,2649,1984,29782,"n.a.","n.a.","n.a.",15361,14421,8382,"n.a.","n.a.","n.a.",null,"n.a.",7195,9660,5426,6314]
[null,null,"SEN - with SEN Statement/EHC plan",null,1084,1253,775,765,797,670,1824,824,1491,1329,1103,847,12762,"n.a.","n.a.","n.a.",6719,6043,2936,"n.a.","n.a.","n.a.",null,"n.a.",2242,4144,2908,2774]
["Education & Skills","School Populations","Year",null,"January 2024","January 2024","January 2024","January 2024","January 2024","January 2024","January 2024","January 2024","January 2024","January 2024","January 2024","January 2024","January 2024","January 2024","January 2024","January 2024","January 2024","January 2024","January 2024","January 2024","January 2024","January 2024",null,"January 2024","January 2024","January 2024","January 2024","January 2024","KCC MIU"]
[null,"Disabled","Number with a Primary SEN Need",null,3531,3705,3617,3048,2864,2956,4803,2505,4745,4187,3752,2831,42544,"n.a.","n.a.","n.a.",22080,20464,11318,"n.a.","n.a.","n.a.",null,"n.a.",9437,13804,8334,9088]
[null,null,"Autistic Spectrum Disorder",null,794,912,755,646,652,629,1169,523,844,1270,956,689,9839,"n.a.","n.a.","n.a.",5118,4721,2228,"n.a.","n.a.","n.a.",null,"n.a.",2036,3480,1963,2168]
[null,null,"Hearing Impairment",null,23,23,34,29,28,19,39,14,40,24,47,23,343,"n.a.","n.a.","n.a.",167,176,93,"n.a.","n.a.","n.a.",null,"n.a.",81,104,62,84]
[null,null,"Moderate Learning Difficulties",null,243,390,239,239,373,257,510,143,270,365,279,235,3543,"n.a.","n.a.","n.a.",1880,1663,766,"n.a.","n.a.","n.a.",null,"n.a.",869,1367,753,657]
[null,null,"Multi Sensory Impairment",null,9,17,18,9,5,4,11,4,11,3,13,3,107,"n.a.","n.a.","n.a.",54,53,33,"n.a.","n.a.","n.a.",null,"n.a.",27,34,20,20]
[null,null,"SEN Support - No Specialist Assessment",null,130,57,261,54,70,110,132,62,171,147,113,131,1438,"n.a.","n.a.","n.a.",629,809,542,"n.a.","n.a.","n.a.",null,"n.a.",441,328,262,306]
[null,null,"Other",null,83,121,142,84,145,99,196,140,244,135,138,111,1638,"n.a.","n.a.","n.a.",812,826,485,"n.a.","n.a.","n.a.",null,"n.a.",386,485,279,389]
[null,null,"Physical Disability",null,80,99,83,92,72,51,135,169,108,77,60,67,1093,"n.a.","n.a.","n.a.",528,565,242,"n.a.","n.a.","n.a.",null,"n.a.",206,340,215,296]
[null,null,"Profound & Multiple Learning Difficulties",null,27,30,2,15,33,27,50,65,36,48,30,3,366,"n.a.","n.a.","n.a.",189,177,65,"n.a.","n.a.","n.a.",null,"n.a.",62,126,77,98]
[null,null,"Social, Emotional & Mental Health",null,778,855,747,835,614,513,938,489,1237,739,775,519,9039,"n.a.","n.a.","n.a.",5058,3981,2497,"n.a.","n.a.","n.a.",null,"n.a.",1874,3043,1716,1783]
[null,null,"Speech, Language & Communication Needs",null,851,803,922,593,576,857,997,490,1284,1068,790,512,9743,"n.a.","n.a.","n.a.",5175,4568,3063,"n.a.","n.a.","n.a.",null,"n.a.",2355,3040,1848,1792]
[null,null,"Severe Learning Difficulties",null,92,56,11,23,50,39,143,67,117,37,48,37,720,"n.a.","n.a.","n.a.",375,345,167,"n.a.","n.a.","n.a.",null,"n.a.",100,166,235,152]
[null,null,"Specific Learning Difficulties",null,409,319,383,407,220,330,453,329,359,244,480,483,4416,"n.a.","n.a.","n.a.",1958,2458,1072,"n.a.","n.a.","n.a.",null,"n.a.",933,1190,862,1292]
[null,null,"Visual Impairment",null,12,23,20,22,26,21,30,10,24,30,23,18,259,"n.a.","n.a.","n.a.",137,122,65,"n.a.","n.a.","n.a."]
["Education & Skills","GCSE Results","Year",null,"2022/23","2022/23","2022/23","2022/23","2022/23","2022/23","2022/23","2022/23","2022/23","2022/23","2022/23","2022/23","2022/23","2022/23","2022/23","2022/23","2022/23","2022/23","2022/23","2022/23","2022/23","2022/23",null,"2022/23","2022/23","2022/23","2022/23","2022/23"]
[null,"Percentage of Pupils Achieving:","% Achieving Strong Pass (Grades 9-5) in English & Maths",null,0.45478374836173002,0.45942320590207913,0.54644808743169404,0.40584415584415584,0.46408045977011492,0.43524631792788215,0.5321100917431193,0.38585496866606983,0.36800452232899944,0.37597911227154046,0.5170418006430868,0.61465892597968075,0.46124602814344079,0.40732889158086011,0.45273822039568001,0.40732889158086011,0.41959293222992622,0.50414651002073252,0.42956255879586075,null,0.47641970431057784,0.45508401729797182,null,0.40732889158086011,1.4457748651296911,1.7053269337878905,0.98689384010484926,1.5175556952888374]
[null,null,"% Achieving Standard Pass (Grades 9-4) in English & Maths",null,0.65727391874180863,0.66264252179745142,0.71721311475409832,0.5933441558441559,0.6566091954022989,0.65413915693245306,0.71809841534612173,0.59265890778871977,0.57263990955342003,0.58289817232375984,0.69839228295819933,0.78519593613933236,0.65654788924194285,0.6035735917625682,0.64818885596865139,0.6035735917625682,0.61977186311787069,0.69442524763879288,0.62841015992474125,null,0.6736811461604042,0.65387627901110823]
[null,null,"% Achieving Strong Pass (Grade 5 or above) English Baccalaureate",null,0.21821756225425951,0.15157612340710933,0.23975409836065573,0.16720779220779219,0.17528735632183909,0.2011173184357542,0.23686405337781485,0.14503133393017009,0.12266817410966648,0.11553524804177545,0.23408360128617364,0.32148040638606679,0.19308896958692692,0.17231980617807388,0.1898117174806461,0.17231980617807388,0.156900022366361,0.230361667818475,0.18026810912511759,null,0.1844108045164376,0.17080585582147112]
[null,null,"% Achieving Standard Pass (Grade 4 or above) English Baccalaureate",null,0.32044560943643513,0.22334004024144868,0.29371584699453551,0.25568181818181818,0.23563218390804597,0.29812087353986794,0.30608840700583823,0.20948970456580127,0.18654607122668174,0.16579634464751958,0.3035369774919614,0.42017416545718433,0.26770313209260099,0.25499697153240458,0.26569817451973621,0.25499697153240458,0.22914336837396557,0.3074176457037549,0.2574082784571966,null,0.25488137073464889,0.24320875386233973]
["Education & Skills","RQFs","Year",null,2023,2023,2023,2023,2023,2023,2023,2023,2023,2023,2023,2023,2023,2023,2023,2023,2023,2023,2023,2023,2023,2023,null,2023,2023,2023,2023,2023,"Annual Population Survey"]
[null,"Population aged 16-64","16-64",null,74600,101200,70400,65200,59300,69900,100600,69800,89700,81300,78700,68400,929200,177900,1107100,177900,471300,457800,407900,2529800,5513300,36176300,null,177900,199600,307000,175200,216900,"January to December"]
[null,"No qualifications","16-64",null,0.11528150134048257,2.0750988142292492E-2,"-",9.5092024539877307E-2,9.7807757166947729E-2,4.8640915593705293E-2,"-",7.8796561604584522E-2,6.9119286510590863E-2,0.16974169741697417,5.3367217280813214E-2,8.1871345029239762E-2,7.0383125269048649E-2,4.4406970207982011E-2,5.739504773851533E-2,4.4406970207982011E-2,9.4632209186194194E-2,6.5669009877085696E-2,5.4055724104092727E-2,5.8976994228792788E-2,5.1022073894038053E-2,6.3138021301238662E-2,null,null,null,null,null,null,"GB"]
[null,"Highest qualification: NVQ level 1","16-64",null,"-","-","-","-",9.4435075885328831E-2,"-","-","-",5.9085841694537344E-2,"-",4.8284625158831002E-2,"-",3.4976323719328455E-2,3.3726812816188868E-2,3.4351568267758661E-2,3.3726812816188868E-2,7.6760458789933095E-2,4.8284625158831002E-2,4.6406327255363103E-2,3.2295043086409993E-2,2.5538243882973901E-2,2.6022561732404918E-2]
[null,"Highest qualification: NVQ level 2","16-64",null,0.1970509383378016,0.13537549407114624,0.11221590909090909,0.31901840490797545,0.24283305227655985,0.21316165951359084,0.1610337972166998,0.25644699140401145,0.2552954292084727,0.17466174661746617,0.26810673443456162,0.17982456140350878,0.20555316401205337,0.2388982574480045,0.22222571073002895,0.2388982574480045,0.22070584423657033,0.19846494217721358,0.2048928138152443,0.23717289904340264,0.18542433751110951,0.1917111479062259]
[null,"Highest qualification: NVQ level 3","16-64",null,0.25603217158176944,0.2865612648221344,0.30965909090909088,0.20398773006134968,8.9376053962900506E-2,0.22460658082975679,0.30119284294234594,0.20773638968481375,0.28093645484949831,0.19803198031980321,0.16645489199491742,0.24415204678362573,0.23708566508824797,0.26587970770095559,0.25148268639460181,0.26587970770095559,0.21915427593290926,0.24230030719075843,0.2702704585723254,0.235947505731678,0.20998313169970798,0.20735675013752097]
[null,"Highest qualification: NVQ level 4+","16-64",null,0.37533512064343161,0.52272727272727271,0.52130681818181823,0.33588957055214724,0.41652613827993257,0.41201716738197425,0.43638170974155072,0.4355300859598854,0.33444816053511706,0.42681426814268142,0.43837357052096571,0.44298245614035087,0.42692638829100299,0.39741427768409221,0.41217033298754757,0.39741427768409221,0.40195675514676377,0.44776530132109088,0.41629660594575046,0.40675152185943553,0.49182885023488654,0.46561975658096599]
[null,"Trade Apprenticeships","16-64",null,"-","-","-","-","-","-","-","-","-","-","-","-","-","-","-","-","-","-","-","-","-","-"]
[null,"Other qualifications/level unknown","16-64",null,"-","-","-",4.6012269938650305E-2,"-","-",5.168986083499006E-2,"-","-","-",2.5412960609911054E-2,3.3625730994152045E-2,2.5075333620318555E-2,1.9673974142776839E-2,2.2374653881547697E-2,1.9673974142776839E-2,4.6012269938650305E-2,3.6909517479684385E-2,1.9673974142776839E-2,2.8856036050280656E-2,3.622150073458727E-2,4.615176234164356E-2]
[null,"Population aged 16-24","16-24",null,10800,10100,14100,12600,13300,11100,11600,14400,17100,8700,11700,11000,146600,29600,176200,29600,72600,73900,71900,405900,886200,5939600,null,29600,38500,44700,22400,37100]
[null,"No qualifications","16-24",null,"-","-","-","-","-","-","-","-","-","-","-","-",0.1077762619372442,5.4054054054054057E-2,8.0915157995649134E-2,5.4054054054054057E-2,"-","-",5.4054054054054057E-2,8.2039911308203997E-2,7.6957797336944259E-2,8.8339282106539158E-2,0,8.1000000000000003E-2,0.08,0,8.1000000000000003E-2]
[null,"Highest qualification: NVQ level 1","16-24",null,"-","-","-","-","-","-","-","-","-","-","-","-","-","-","-","-","-","-","-",2.0694752402069475E-2,2.4712254570074477E-2,2.4934339012728131E-2,0,9.8000000000000004E-2,9.9000000000000005E-2,0,9.6000000000000002E-2]
[null,"Highest qualification: NVQ level 2","16-24",null,0.30555555555555558,"-","-",0.50793650793650791,0.51879699248120303,"-",0.46551724137931033,0.27083333333333331,0.33918128654970758,"-",0.38461538461538464,0.32727272727272727,0.31173260572987721,0.25675675675675674,0.28424468124331698,0.25675675675675674,0.41786758563074355,0.36205967165018893,0.29796902165323214,0.35230352303523033,0.33265628526292035,0.31478550744157857,0,0.27399999999999997,0.27300000000000002,0,0.27300000000000002]
[null,"Highest qualification: NVQ level 3","16-24",null,0.60185185185185186,0.63366336633663367,0.47517730496453903,"-","-","-",0.33620689655172414,"-",0.57894736842105265,"-","-",0.4,0.34242837653478853,0.42905405405405406,0.38574121529442129,0.42905405405405406,0.60482086220317932,0.40379473383875436,0.49439290914654849,0.34318797733431877,0.32983525163619948,0.33714391541517946,0,0.28800000000000003,0.28999999999999998,0,0.28699999999999998]
[null,"Highest qualification: NVQ level 4+","16-24",null,"-","-","-","-","-",0.63063063063063063,"-",0.3263888888888889,"-","-",0.42735042735042733,"-",0.21418826739427013,0.18243243243243243,0.19831034991335128,0.18243243243243243,"-",0.46145664895664895,0.40653153153153154,0.18132544961813254,0.21078763258858046,0.21139470671425686,0,0.20300000000000001,0.20199999999999999,0,0.20800000000000002]
[null,"Trade Apprenticeships","16-24",null,"-","-","-","-","-","-","-","-","-","-","-","-","-","-","-","-","-","-","-","-","-","-",0,2.4E-2,2.4E-2,0,2.2000000000000002E-2]
[null,"Other qualifications/level unknown","16-24",null,"-","-","-","-","-","-","-","-","-","-","-","-","-","-","-","-","-","-","-",2.0694752402069475E-2,2.5050778605280974E-2,2.3385413159135296E-2,0,3.1E-2,3.2000000000000001E-2,0,3.3000000000000002E-2]
[null,"Population aged 25-49","25-49",null,33700,59300,38900,27200,25700,29100,49300,22600,46300,44300,45900,30300,452600,90900,543500,90900,236500,216100,205200,1257200,2797800,18824700,null,90900,93700,156500,83000,98800]
[null,"No qualifications","25-49",null,0.228486646884273,"-","-","-","-","-","-","-","-",0.19638826185101579,"-","-",6.5841802916482547E-2,1.5401540154015401E-2,4.0621671535248975E-2,1.5401540154015401E-2,0.21243745436764438,"-",1.5401540154015401E-2,4.9952274896595608E-2,3.6993351919365217E-2,4.6444299245140694E-2,0,4.4999999999999998E-2,4.4999999999999998E-2,0,4.7E-2]
[null,"Highest qualification: NVQ level 1","25-49",null,"-","-","-","-","-","-","-","-","-","-","-","-",3.8665488289880687E-2,1.7601760176017601E-2,2.8133624232949142E-2,1.7601760176017601E-2,"-","-",1.7601760176017601E-2,3.0544066178810055E-2,2.0337407963399813E-2,2.0600593900566809E-2,0,7.8E-2,7.8E-2,0,7.5999999999999998E-2]
[null,"Highest qualification: NVQ level 2","25-49",null,0.10089020771513353,9.7807757166947729E-2,"-",0.20955882352941177,"-","-",8.3164300202839755E-2,0.17699115044247787,0.2224622030237581,0.13544018058690746,0.22222222222222221,"-",0.1345558992487848,0.21782178217821782,0.17618884071350133,0.21782178217821782,0.15323183440443172,0.16079255762251329,0.22014199260098796,0.16711740375437481,0.11498320108656802,0.13174180730635815,0,0.11900000000000001,0.12,0,0.12]
[null,"Highest qualification: NVQ level 3","25-49",null,0.23442136498516319,0.25463743676222594,0.30077120822622105,0.25735294117647056,0.1245136186770428,0.22680412371134021,0.28397565922920892,0.19469026548672566,0.26349892008639308,0.12189616252821671,0.19172113289760348,0.24752475247524752,0.22934158197083518,0.21562156215621561,0.2224815720635254,0.21562156215621561,0.20938674070258537,0.24091452367105781,0.25167395354504246,0.22605790645879734,0.18975623704339123,0.17849421239116692,0,0.155,0.156,0,0.152]
[null,"Highest qualification: NVQ level 4+","25-49",null,0.36795252225519287,0.58853288364249579,0.65809768637532129,0.33088235294117646,0.47859922178988329,0.53264604810996563,0.49087221095334688,0.53539823008849563,0.38444924406047515,0.51241534988713322,0.48801742919389979,0.52475247524752477,0.49646486964206804,0.51485148514851486,0.50565817739529151,0.51485148514851486,0.44380526242939283,0.5382973466614257,0.52251111592356925,0.49642061724467068,0.59550360997926943,0.57139290400378229,0,0.51900000000000002,0.51700000000000002,0,0.52200000000000002]
[null,"Trade Apprenticeships","25-49",null,"-","-","-","-","-","-","-","-","-","-","-","-","-","-","-","-","-","-","-","-","-","-",0,2.1000000000000001E-2,2.1000000000000001E-2,0,2.2000000000000002E-2]
[null,"Other qualifications/level unknown","25-49",null,"-","-","-","-","-","-",0.10547667342799188,"-","-","-","-","-",3.5351303579319489E-2,1.8701870187018702E-2,2.7026586883169095E-2,1.8701870187018702E-2,"-",0.10547667342799188,1.8701870187018702E-2,2.9907731466751512E-2,4.2426192008006292E-2,5.1320870983335723E-2,0,6.3E-2,6.2E-2,0,6.0999999999999999E-2]
[null,"Population aged 50-64","50-64",null,30100,31800,17400,25400,20300,29700,39600,32800,26300,28300,21100,27100,330000,57400,387400,57400,162200,167700,130800,866800,1829300,11412100,null,57400,67400,105800,69700,81000]
[null,"No qualifications","50-64",null,"-","-","-",0.1062992125984252,"-","-","-","-",0.12547528517110265,0.14134275618374559,"-",0.1070110701107011,6.0303030303030303E-2,8.5365853658536592E-2,7.2834441980783454E-2,8.5365853658536592E-2,0.12437241798442449,0.1070110701107011,0.10542056941481961,6.1259806183664049E-2,5.9913628163778494E-2,7.7558030511474668E-2,0,8.1000000000000003E-2,8.3000000000000004E-2,0,8.900000000000001E-2]
[null,"Highest qualification: NVQ level 1","50-64",null,"-","-","-","-","-","-","-","-","-","-",9.4786729857819899E-2,"-",4.1515151515151512E-2,5.4006968641114983E-2,4.7761060078133244E-2,5.4006968641114983E-2,"-",9.4786729857819899E-2,5.4006968641114983E-2,4.0378403322565759E-2,3.3892745859071774E-2,3.5532461159646339E-2,0,0.13400000000000001,0.13400000000000001,0,0.13]
[null,"Highest qualification: NVQ level 2","50-64",null,0.26578073089700999,0.17924528301886791,0.32183908045977011,0.34251968503937008,0.30049261083743845,0.37373737373737376,0.1691919191919192,0.30792682926829268,0.26235741444866922,0.18374558303886926,0.30331753554502372,0.14760147601476015,0.25575757575757574,0.26480836236933797,0.26028296906345683,0.26480836236933797,0.25569021788003748,0.27060236903618995,0.30568555775378775,0.28484079372404247,0.22183348821953752,0.22657530165350812,0,0.154,0.154,0,0.15]
[null,"Highest qualification: NVQ level 3","50-64",null,0.15614617940199335,0.2389937106918239,0.19540229885057472,0.13385826771653545,"-",0.30639730639730639,0.31313131313131315,0.16158536585365854,0.12167300380228137,0.29328621908127206,0.17535545023696683,0.17712177121771217,0.2012121212121212,0.26132404181184671,0.23126808151198397,0.26132404181184671,0.18879147613878122,0.22149891761458865,0.22119916271550233,0.20004614674665436,0.18280216476247746,0.18741511203021355,0,0.13500000000000001,0.13500000000000001,0,0.13100000000000001]
[null,"Highest qualification: NVQ level 4+","50-64",null,0.51827242524916939,0.56603773584905659,0.39655172413793105,0.37401574803149606,0.47783251231527096,0.21212121212121213,0.4621212121212121,0.41768292682926828,0.46387832699619774,0.3462897526501767,0.33649289099526064,0.49815498154981552,0.42606060606060608,0.3240418118466899,0.37505120895364796,0.3240418118466899,0.45772108351522789,0.38718749129245,0.3491482687755077,0.3822104291647439,0.46935986442901656,0.4234452905249691,0,0.39100000000000001,0.39,0,0.39200000000000002]
[null,"Trade Apprenticeships","50-64",null,"-","-","-","-","-","-","-","-","-","-","-","-","-","-","-","-","-","-","-","-","-","-",0,3.7999999999999999E-2,3.7999999999999999E-2,0,4.0999999999999995E-2]
[null,"Other qualifications/level unknown","50-64",null,"-","-","-","-","-","-","-","-","-","-","-","-",1.5454545454545455E-2,"-",1.5454545454545455E-2,"-","-","-","-",3.1264420858329485E-2,3.2143442846990652E-2,4.9473804120188224E-2,0,6.7000000000000004E-2,6.7000000000000004E-2,0,6.6000000000000003E-2]
["Education & Skills","Apprenticeship Starts","Year",null,"2023/24","2023/24","2023/24","2023/24","2023/24","2023/24","2023/24","2023/24","2023/24","2023/24","2023/24","2023/24","2023/24","2023/24","2023/24","2023/24","2023/24","2023/24","2023/24","2023/24","2023/24","2023/24"]
[null,null,"Total",null,620,620,610,550,530,490,890,460,730,570,590,400,7060,1930,8990,1930,3620,3440,3760]
[null,null,"Advanced Apprenticeship",null,240,270,230,290,260,220,390,190,350,240,240,160,3080,920,4000,920,1650,1430,1720]
[null,null,"Higher Apprenticeship",null,240,230,280,160,160,180,320,180,230,190,230,170,2570,570,3140,570,1210,1360,1260]
[null,null,"Intermediate Apprenticeship",null,140,120,90,100,110,90,180,100,150,140,120,70,1410,440,1850,440,760,650,770]
[null,null,"Agriculture, Horticulture and Animal Care",null,10,20,10,20,10,10,20,10,30,10,20,10,180,20,200,20,100,80,70]
[null,null,"Arts, Media and Publishing",null,10,0,0,0,0,0,0,10,10,0,10,0,40,10,50,10,20,20,20]
[null,null,"Business, Administration and Law",null,150,170,200,110,110,130,290,130,200,100,180,120,1890,440,2330,440,840,1050,970]
[null,null,"Construction, Planning and the Built Environment",null,50,40,50,40,50,40,60,50,80,50,60,20,590,110,700,110,310,280,280]
[null,null,"Education and Training",null,20,40,20,20,30,20,20,10,20,20,20,20,260,60,320,60,150,110,120]
[null,null,"Engineering and Manufacturing Technologies",null,80,70,60,60,60,80,100,50,100,80,60,30,830,580,1410,580,450,380,820]
[null,null,"Health, Public Services and Care",null,160,170,140,220,200,130,220,130,190,220,150,140,2070,400,2470,400,1160,910,860]
[null,null,"Information and Communication Technology",null,40,30,60,20,20,40,60,30,40,20,40,30,430,160,590,160,170,260,300]
[null,null,"Leisure, Travel and Tourism",null,10,10,10,10,10,10,10,10,10,10,10,0,110,20,130,20,60,50,50]
[null,null,"Retail and Commercial Enterprise",null,80,70,60,50,50,40,90,50,60,70,60,30,710,140,850,140,380,330,300]
[null,"Apprenticeship Achievements","Year",null,"2023/24","2023/24","2023/24","2023/24","2023/24","2023/24","2023/24","2023/24","2023/24","2023/24","2023/24","2023/24","2023/24","2023/24","2023/24","2023/24","2023/24","2023/24","2023/24","2023/24","2023/24","2023/24"]
[null,null,"Total",null,280,250,250,220,210,190,370,220,280,280,250,180,2980,740,3720,740,1520,1460,1460]
[null,null,"Advanced Apprenticeship",null,120,120,90,110,100,90,170,80,110,140,120,80,1330,370,1700,370,700,630,660]
[null,null,"Higher Apprenticeship",null,70,80,110,50,50,60,120,90,80,70,80,70,930,180,1110,180,400,530,430]
[null,null,"Intermediate Apprenticeship",null,80,50,50,60,70,40,80,50,90,60,50,30,710,180,890,180,410,300,360]
[null,null,"Agriculture, Horticulture and Animal Care",null,10,10,10,10,0,0,10,10,10,0,10,10,90,10,100,10,40,50,30]
[null,null,"Arts, Media and Publishing",null,0,0,0,0,0,0,0,0,0,0,0,0,0,0,0,0,0,0,0]
[null,null,"Business, Administration and Law",null,60,80,80,50,40,50,120,80,60,60,90,60,830,160,990,160,350,480,350]
[null,null,"Construction, Planning and the Built Environment",null,20,20,20,30,30,20,30,20,30,20,20,10,270,40,310,40,150,120,110]
[null,null,"Education and Training",null,10,10,10,10,10,10,20,10,20,10,10,10,140,30,170,30,70,70,70]
[null,null,"Engineering and Manufacturing Technologies",null,60,40,30,40,30,30,40,20,50,40,30,20,430,230,660,230,260,170,340]
[null,null,"Health, Public Services and Care",null,60,60,60,60,60,50,80,60,80,110,50,60,790,130,920,130,430,360,320]
[null,null,"Information and Communication Technology",null,20,10,20,10,10,20,40,10,10,10,30,10,200,40,240,40,70,130,90]
[null,null,"Leisure, Travel and Tourism",null,10,0,0,0,0,0,10,0,0,10,0,0,30,10,40,10,20,10,10]
[null,null,"Retail and Commercial Enterprise",null,40,20,20,20,30,10,30,20,30,20,20,20,280,60,340,60,160,120,120]
[null,"Looked after children",null,null,"March 2021","March 2021","March 2021","March 2021","March 2021","March 2021","March 2021","March 2021","March 2021","March 2021","March 2021","March 2021","March 2021","March 2021","March 2021","March 2021","March 2021","March 2021","March 2021","March 2021","March 2021","March 2021",null,"March 2021","March 2021","March 2021","March 2021","March 2021","KCC management Information Unit"]
[null,"Children In Care (exc UASC) per 10,000 0-17",null,null,29.00966988996332,59.225359221994147,13.664640943579418,43.099732781656755,57.148210605208924,29.105211406096359,18.927942374930993,17.315698338429797,34.889565654475028,85.976180917971377,13.777719459388532,8.1575141829507949,39.931479558746972,"n.a.","n.a.","n.a.","n.a.","n.a.","n.a.","n.a.","n.a.","n.a."]
[null,"Children In Care (inc UASC) per 10,000 0-17",null,null,39.346448816272087,75.041222196049404,14.38383257218886,50.857684682354972,67.453625632377737,39.724680432645037,22.345487525960202,18.052536565597023,36.959285650926937,93.001471965743349,16.73008791497179,22.247765953502171,47.987575580431539,"n.a.","n.a.","n.a.","n.a.","n.a.","n.a.","n.a.","n.a.","n.a."]
[null,"Child Protection Plan",null,null,"March 2021","March 2021","March 2021","March 2021","March 2021","March 2021","March 2021","March 2021","March 2021","March 2021","March 2021","March 2021","March 2021","March 2021","March 2021","March 2021","March 2021","March 2021","March 2021","March 2021","March 2021","March 2021",null,"March 2021","March 2021","March 2021","March 2021","March 2021","KCC management Information Unit"]
[null,"Child Protection Plan per 10,000 0-17",null,null,33.677892630876961,30.285695056701552,34.521198173253261,24.566847685544353,71.201049278620943,51.130776794493613,21.556823260338074,17.68411745201341,45.533839921941983,43.489896962397971,21.322661068101301,22.247765953502171,34.87097158844692,"n.a.","n.a.","n.a.","n.a.","n.a.","n.a.","n.a.","n.a.","n.a.",null,"n.a.",156.8530242463678,169.54348898326481,55.234715891215032,61.254544473616875]
["Older People","State Pension Claimants",null,null,"Nov 2020","Nov 2020","Nov 2020","Nov 2020","Nov 2020","Nov 2020","Nov 2020","Nov 2020","Nov 2020","Nov 2020","Nov 2020","Nov 2020","Nov 2020","Nov 2020","Nov 2020","Nov 2020","Nov 2020","Nov 2020","Nov 2020","Nov 2020","Nov 2020","Nov 2020",null,"Nov 2020","Nov 2020","Nov 2020","Nov 2020","Nov 2020"]
[null,"Total","Total",null,23702,31653,14882,25642,25560,17287,30786,24132,26832,31206,23634,20837,296153,42889,339042,42889,164595,131558,101890,817042,1660920,10203908,null,42889,null,114061,54488,68603]
[null,null,"aged 60-64",null,"..","..","..","..","..","..","..","..","..","..","..","..","..","..",0,"..",0,0,0,"..","..","..",null,0,null,0,0,0]
[null,null,"aged 65-69",null,4815,6405,3231,5543,5299,3622,6285,4806,5748,6659,4781,4086,61280,9831,71111,9831,34469,26811,22432,168154,341737,2205841,null,9831,null,23906,11100,13673]
[null,null,"aged 70-74",null,7114,9256,4222,7544,7753,4893,9187,6850,8323,9250,6798,5851,87041,12999,100040,12999,49240,37801,30437,239456,473596,2932449,null,12999,null,33803,16301,19499]
[null,null,"aged 75-79",null,5134,6616,2971,5458,5325,3523,6377,5065,5747,6566,5032,4375,62189,8814,71003,8814,34846,27343,21055,170947,346297,2116363,null,8814,null,23965,11511,14472]
[null,null,"aged 80-84",null,3463,4685,2274,3690,3706,2694,4575,3604,3751,4449,3596,3125,43612,6080,49692,6080,23744,19868,14799,120212,247050,1501997,null,6080,null,16530,8038,10325]
[null,null,"aged 85-89",null,2043,2823,1433,2160,2140,1697,2812,2348,2113,2644,2182,2118,26513,3374,29887,3374,13923,12590,8617,74264,156618,918620,null,3374,null,9767,4855,6648]
[null,null,"aged 90 and over",null,1135,1862,757,1246,1338,860,1547,1463,1144,1642,1242,1288,15524,1784,17308,1784,8367,7157,4545,44014,95634,528632,null,1784,null,6088,2682,3993]
[null,"Males","Total",null,10874,14153,6750,11958,11761,7831,14154,10912,12442,14092,10767,9331,135025,19713,154738,19713,75280,59745,46736,370657,754202,4677082,null,19713,null,51964,25028,31010]
[null,null,"aged 60-64",null,"..","..","..","..","..","..","..","..","..","..","..","..","..","..",0,"..",0,0,0,"..","..","..",null,0,null,0,0,0]
[null,null,"aged 65-69",null,2329,3038,1567,2722,2526,1734,2997,2315,2820,3141,2330,1906,29425,4805,34230,4805,16576,12849,10926,80241,163962,1066542,null,4805,null,11427,5326,6551]
[null,null,"aged 70-74",null,3357,4343,2011,3693,3771,2313,4412,3230,3970,4395,3201,2801,41497,6236,47733,6236,23529,17968,14530,113683,225417,1411036,null,6236,null,16202,7769,9232]
[null,null,"aged 75-79",null,2411,3000,1387,2576,2502,1643,3064,2376,2731,3036,2299,2002,29027,4152,33179,4152,16256,12771,9913,79622,161075,990141,null,4152,null,11114,5475,6677]
[null,null,"aged 80-84",null,1563,2106,959,1673,1674,1169,2040,1559,1708,1968,1629,1383,19431,2668,22099,2668,10692,8739,6504,53246,109398,666862,null,2668,null,7421,3603,4571]
[null,null,"aged 85-89",null,843,1105,572,904,869,691,1149,977,863,1026,917,830,10746,1325,12071,1325,5610,5136,3451,30003,63621,372364,null,1325,null,3904,1992,2724]
[null,null,"aged 90 and over",null,370,563,254,390,423,282,494,457,350,519,386,411,4899,524,5423,524,2615,2284,1410,13864,30733,170138,null,524,null,1895,864,1254]
[null,"Females","Total",null,12827,17494,8136,13683,13798,9461,16635,13218,14391,17117,12866,11510,161136,23171,184307,23171,89310,71826,55159,446384,906723,5526817,null,23171,null,62092,29462,37594]
[null,null,"aged 60-64",null,"..","..","..","..","..","..","..","..","..","..","..","..","..","..",0,"..",0,0,0,"..","..","..",null,0,null,0,0,0]
[null,null,"aged 65-69",null,2487,3375,1664,2823,2769,1891,3288,2490,2930,3516,2446,2182,322271,5026,327297,5026,17900,13961,11511,87916,177774,1139297,null,5026,null,12483,5775,7118]
[null,null,"aged 70-74",null,3758,4911,2209,3855,3984,2581,4779,3624,4349,4852,3590,3044,290410,6759,297169,6759,25709,19827,15898,125771,248177,1521409,null,6759,null,17602,8537,10258]
[null,null,"aged 75-79",null,2723,3617,1581,2882,2819,1876,3316,2686,3019,3531,2735,2375,244874,4666,249540,4666,18591,14569,11142,91325,185224,1126230,null,4666,null,12849,6039,7796]
[null,null,"aged 80-84",null,1906,2573,1315,2018,2031,1528,2536,2046,2045,2478,1969,1745,211714,3408,215122,3408,13051,11139,8296,66959,137652,835138,null,3408,null,9100,4442,5760]
[null,null,"aged 85-89",null,1194,1719,864,1251,1277,1003,1663,1367,1258,1612,1260,1290,187524,2052,189576,2052,8311,7447,5177,44258,92996,546257,null,2052,null,5859,2857,3917]
[null,null,"aged 90 and over",null,763,1307,504,855,914,581,1052,1005,790,1124,855,880,171766,1262,173028,1262,5753,4877,3137,30148,64901,358492,null,1262,null,4200,1815,2740]
[null,"State Pension Average Amount",null,null,"Nov 2018","Nov 2018","Nov 2018","Nov 2018","Nov 2018","Nov 2018","Nov 2018","Nov 2018","Nov 2018","Nov 2018","Nov 2018","Nov 2018","Nov 2018","Nov 2018","Nov 2018","Nov 2018","Nov 2018","Nov 2018","Nov 2018","Nov 2018","Nov 2018","Nov 2018",null,"Nov 2018","Nov 2018","Nov 2018","Nov 2018","Nov 2018"]
[null,"Total","Total"]
[null,null,"aged 60-64"]
[null,null,"aged 65-69"]
[null,null,"aged 70-74"]
[null,null,"aged 75-79"]
[null,null,"aged 80-84"]
[null,null,"aged 85-89"]
[null,null,"aged 90 and over"]
[null,"Males","Total"]
[null,null,"aged 60-64"]
[null,null,"aged 65-69"]
[null,null,"aged 70-74"]
[null,null,"aged 75-79"]
[null,null,"aged 80-84"]
[null,null,"aged 85-89"]
[null,null,"aged 90 and over"]
[null,"Females","Total"]
[null,null,"aged 60-64"]
[null,null,"aged 65-69"]
[null,null,"aged 70-74"]
[null,null,"aged 75-79"]
[null,null,"aged 80-84"]
[null,null,"aged 85-89"]
[null,null,"aged 90 and over"]
[null,"Pension Credit Claimants",null,null,"Nov 2023","Nov 2023","Nov 2023","Nov 2023","Nov 2023","Nov 2023","Nov 2023","Nov 2023","Nov 2023","Nov 2023","Nov 2023","Nov 2023","Nov 2023","Nov 2023","Nov 2023","Nov 2023","Nov 2023","Nov 2023","Nov 2023","Nov 2023","Nov 2023","Nov 2023",null,"Nov 2023","Nov 2023","Nov 2023","Nov 2023","Nov 2023"]
[null,"Total","Total",null,2595,3078,1445,2684,2993,1922,2785,1768,3121,4485,1730,1683,30289,4849,35138,4849,18956,11333,11337,82944,148757,1242435,null,4849,6360,13240,5380,5181]
[null,null,"aged 60-64",null,null,null,null,null,null,null,null,null,null,null,null,null,null,null,0,0,0,0,0,null,null,null,null,0,0,0,0,0]
[null,null,"aged 65-69",null,234,310,149,291,307,192,278,203,347,460,158,172,3101,527,3628,527,1949,1152,1215,8317,14921,135190,null,527,648,1368,512,533]
[null,null,"aged 70-74",null,621,659,359,615,701,453,614,371,691,973,373,372,6802,1178,7980,1178,4260,2542,2681,18470,33072,291395,null,1178,1513,2948,1235,1116]
[null,null,"aged 75-79",null,731,814,359,716,867,513,798,444,887,1283,424,391,8227,1296,9523,1296,5298,2929,3055,22323,38936,315815,null,1296,1739,3680,1529,1259]
[null,null,"aged 80-84",null,505,571,237,496,528,341,477,341,588,853,324,303,5564,840,6404,840,3541,2023,2006,15081,27338,225506,null,840,1106,2448,982,968]
[null,null,"aged 85-89",null,280,376,184,319,347,228,342,225,376,528,248,229,3682,627,4309,627,2226,1456,1415,10559,19258,159368,null,627,759,1570,622,702]
[null,null,"aged 90 and over",null,221,349,150,250,239,191,279,190,230,389,201,206,2895,385,3280,385,1678,1217,956,8191,15232,115159,null,385,580,1227,500,597]
[null,"Males","Total",null,944,981,450,883,1074,606,916,564,1065,1590,541,557,10171,1542,11713,1542,6537,3634,3663,27307,49012,420879,null,0,2130,0,0,0]
[null,null,"aged 60-64",null,null,null,null,null,null,null,null,null,null,null,null,null,null,null,0,0,0,0,0,null,null,null,null,206,0,577,202,238]
[null,null,"aged 65-69",null,94,132,60,122,125,81,108,90,139,198,67,81,1297,206,1503,206,810,487,486,3547,6252,55788,null,422,266,1155,455,436]
[null,null,"aged 70-74",null,237,250,129,248,266,161,218,147,261,391,149,140,2597,422,3019,422,1653,944,973,6843,12385,111807,null,423,556,1342,596,391]
[null,null,"aged 75-79",null,305,256,122,249,359,175,291,131,321,478,135,125,2947,423,3370,423,1968,979,1041,7841,13911,113707,null,262,656,784,361,309]
[null,null,"aged 80-84",null,195,185,67,146,169,107,166,112,218,284,97,100,1846,262,2108,262,1197,649,654,4838,8812,73796,null,162,343,443,160,172]
[null,null,"aged 85-89",null,65,89,50,84,109,55,95,57,98,161,51,64,978,162,1140,162,606,372,365,2792,5041,43891,null,67,214,224,87,101]
[null,null,"aged 90 and over",null,47,61,25,38,42,38,40,30,37,83,32,39,512,67,579,67,308,204,167,1439,2614,21896,null,3306,105,8705,3520,3526]
[null,"Females","Total",null,1651,2092,993,1800,1919,1309,1869,1209,2053,2894,1191,1126,20106,3306,23412,3306,12409,7697,7661,55636,99744,821552,null,3306,4221,8705,3520,3526]
[null,null,"aged 60-64",null,null,null,null,null,null,null,null,null,null,null,null,null,null,null,0,0,0,0,0,null,null,null,null,0,0,0,0,0]
[null,null,"aged 65-69",null,139,179,88,167,187,115,168,106,212,267,90,96,1814,320,2134,320,1151,663,735,4768,8671,79407,null,320,390,800,307,292]
[null,null,"aged 70-74",null,383,402,234,364,434,296,392,228,431,583,222,231,4200,756,4956,756,2597,1603,1717,11626,20689,179589,null,756,964,1783,775,681]
[null,null,"aged 75-79",null,426,556,234,470,505,339,510,311,566,802,286,269,5274,872,6146,872,3325,1949,2011,14478,25026,202104,null,872,1078,2333,936,866]
[null,null,"aged 80-84",null,312,381,170,352,357,236,312,231,376,568,228,199,3722,580,4302,580,2346,1376,1362,10241,18525,151710,null,580,763,1658,624,658]
[null,null,"aged 85-89",null,212,283,139,232,241,174,245,164,277,373,201,165,2706,465,3171,465,1618,1088,1055,7767,14211,115476,null,465,554,1129,457,530]
[null,null,"aged 90 and over",null,174,290,128,216,198,154,240,161,193,305,168,166,2393,314,2707,314,1376,1017,789,6751,12619,93263,null,314,480,1009,414,495]
[null,"Pension Credit Average Amount",null,null,"Nov 2018","Nov 2018","Nov 2018","Nov 2018","Nov 2018","Nov 2018","Nov 2018","Nov 2018","Nov 2018","Nov 2018","Nov 2018","Nov 2018","Nov 2018","Nov 2018","Nov 2018","Nov 2018","Nov 2018","Nov 2018","Nov 2018","Nov 2018","Nov 2018","Nov 2018",null,"Nov 2018","Nov 2018","Nov 2018","Nov 2018","Nov 2018"]
[null,"Total","Total"]
[null,null,"aged 60-64"]
[null,null,"aged 65-69"]
[null,null,"aged 70-74"]
[null,null,"aged 75-79"]
[null,null,"aged 80-84"]
[null,null,"aged 85-89"]
[null,null,"aged 90 and over"]
[null,"Males","Total"]
[null,null,"aged 60-64"]
[null,null,"aged 65-69"]
[null,null,"aged 70-74"]
[null,null,"aged 75-79"]
[null,null,"aged 80-84"]
[null,null,"aged 85-89"]
[null,null,"aged 90 and over"]
[null,"Females","Total"]
[null,null,"aged 60-64"]
[null,null,"aged 65-69"]
[null,null,"aged 70-74"]
[null,null,"aged 75-79"]
[null,null,"aged 80-84"]
[null,null,"aged 85-89"]
[null,null,"aged 90 and over"]
[null,"DLA Claimants (60+)",null,null,"Nov 2023","Nov 2023","Nov 2023","Nov 2023","Nov 2023","Nov 2023","Nov 2023","Nov 2023","Nov 2023","Nov 2023","Nov 2023","Nov 2023","Nov 2023","Nov 2023","Nov 2023","Nov 2023","Nov 2023","Nov 2023","Nov 2023","Nov 2023","Nov 2023","Nov 2023","Nov 2023","Nov 2023","Nov 2023","Nov 2023","Nov 2023","Nov 2023"]
[null,"Total","Aged 60+",null,853,967,557,911,965,607,842,640,1196,1283,648,486,9955,1633,11588,1633,6175,3780,3993,28258,49877,436455,null,1633,2129,4126,1695,1774]
[null,null,"aged 60-64",null,105,56,52,50,81,56,82,73,136,73,85,83,932,184,1116,184,501,431,428,2765,6095,26230,null,184,189,260,187,241]
[null,null,"aged 65-69",null,104,45,76,44,71,62,97,68,103,60,82,78,890,178,1068,178,427,463,419,2858,6121,27273,null,178,209,220,201,228]
[null,null,"aged 70-74",null,120,48,36,27,53,61,75,64,85,45,55,67,736,144,880,144,378,358,326,2416,4938,23310,null,144,150,173,195,186]
[null,null,"aged 75-79",null,295,440,216,433,437,224,348,235,494,606,218,141,4087,631,4718,631,2705,1382,1565,10914,17478,175140,null,631,877,1916,643,594]
[null,null,"aged 80-84",null,158,240,116,255,219,140,160,121,265,337,117,79,2207,330,2537,330,1474,733,851,6069,10049,115881,null,330,475,1051,318,317]
[null,null,"aged 85-89",null,55,112,45,79,80,53,62,57,89,119,72,32,855,137,992,137,534,321,324,2503,4045,53291,null,137,178,390,117,161]
[null,null,"aged 90 and over",null,16,26,16,23,24,11,18,22,24,43,19,6,248,29,277,29,156,92,80,733,1151,15330,null,29,51,116,34,47]
[null,"Males","Aged 60+",null,357,414,212,416,432,234,341,260,509,540,261,202,4178,667,4845,667,2668,1510,1622,11530,20546,180571,null,667,878,1802,698,723]
[null,null,"aged 60-64",null,51,28,22,27,49,19,38,35,70,39,41,43,462,88,550,88,264,198,199,1279,2892,12354,null,88,90,143,89,119]
[null,null,"aged 65-69",null,30,22,29,20,38,24,28,30,53,26,36,31,367,75,442,75,189,178,181,1187,2658,11882,null,75,91,106,58,97]
[null,null,"aged 70-74",null,48,22,20,18,25,25,33,34,37,19,27,21,329,61,390,61,169,160,143,1000,2106,9756,null,61,70,84,81,82]
[null,null,"aged 75-79",null,126,181,90,191,188,89,149,87,188,246,79,61,1675,272,1947,272,1120,555,639,4435,7041,72522,null,272,367,806,275,227]
[null,null,"aged 80-84",null,74,108,33,109,95,53,69,46,117,142,45,37,928,117,1045,117,645,283,320,2404,3965,47153,null,117,181,454,143,128]
[null,null,"aged 85-89",null,21,41,18,41,27,18,19,20,33,49,27,9,323,46,369,46,212,111,115,954,1495,21361,null,46,63,158,40,56]
[null,null,"aged 90 and over",null,7,12,null,10,10,6,5,8,11,19,6,null,94,8,102,8,69,25,25,271,389,5543,null,8,16,51,12,14]
[null,"Females","Aged 60+",null,505,554,330,508,552,385,500,371,689,731,400,283,5808,967,6775,967,3539,2269,2371,16724,29330,255894,null,967,1267,2345,1005,1054]
[null,null,"aged 60-64",null,56,25,30,24,35,35,45,39,69,28,45,45,476,97,573,97,237,239,231,1486,3204,13879,null,97,100,112,101,129]
[null,null,"aged 65-69",null,74,26,45,27,39,42,64,32,48,30,51,44,522,108,630,108,244,278,243,1670,3464,15392,null,108,126,122,138,127]
[null,null,"aged 70-74",null,69,28,21,12,28,33,43,32,48,23,29,45,411,81,492,81,208,203,183,1415,2832,13555,null,81,82,91,112,106]
[null,null,"aged 75-79",null,174,258,122,245,252,143,202,143,304,357,142,81,2423,360,2783,360,1590,833,929,6476,10434,102620,null,360,517,1112,376,366]
[null,null,"aged 80-84",null,88,130,80,148,129,90,94,76,151,199,68,40,1293,210,1503,210,845,448,531,3671,6085,68729,null,210,299,606,182,184]
[null,null,"aged 85-89",null,31,72,21,40,54,35,40,38,53,71,48,22,525,94,619,94,321,204,203,1548,2548,31928,null,94,110,237,71,108]
[null,null,"aged 90 and over",null,13,15,11,12,15,7,12,11,16,23,17,6,158,17,175,17,94,64,51,458,763,9791,null,17,33,65,25,34]
[null,"AA Claimants (65+)",null,null,"Nov 2023","Nov 2023","Nov 2023","Nov 2023","Nov 2023","Nov 2023","Nov 2023","Nov 2023","Nov 2023","Nov 2023","Nov 2023","Nov 2023","Nov 2023","Nov 2023","Nov 2023","Nov 2023","Nov 2023","Nov 2023","Nov 2023","Nov 2023","Nov 2023","Nov 2023",null,"Nov 2023","Nov 2023","Nov 2023","Nov 2023","Nov 2023"]
[null,"Total","Aged 65+",null,3354,4658,2255,3900,4491,2536,4465,3434,4073,5269,3320,2773,44528,6510,51038,6510,25745,18783,15374,121954,221681,1531967,null,6510,9282,18318,7819,9527]
[null,null,"65 - 69",null,105,137,66,149,155,79,161,87,172,210,99,81,1501,286,1787,286,928,573,603,4016,6651,57865,null,286,300,651,266,267]
[null,null,"70 - 74",null,362,483,264,506,566,306,490,297,574,691,351,241,5131,881,6012,881,3182,1949,2025,13985,22747,193960,null,881,1136,2246,852,889]
[null,null,"75 - 79",null,720,887,451,830,1005,515,862,662,882,1219,628,470,9131,1447,10578,1447,5543,3588,3295,24952,41216,302989,null,1447,1971,3941,1582,1760]
[null,null,"80 - 84",null,781,1075,492,866,1006,545,945,707,959,1158,732,601,9867,1476,11343,1476,5845,4022,3472,26744,47539,332625,null,1476,2043,4105,1726,2040]
[null,null,"85 - 89",null,719,1047,541,836,963,619,1060,806,845,1076,787,665,9964,1345,11309,1345,5486,4478,3350,27333,52238,341541,null,1345,2123,3922,1779,2258]
[null,null,"90 and over",null,667,1029,441,713,796,472,947,875,641,915,723,715,8934,1075,10009,1075,4761,4173,2629,24924,51290,302987,null,1075,1709,3453,1614,2313]
[null,"Males","Aged 65+",null,1280,1696,835,1516,1746,908,1704,1255,1571,2011,1273,992,16787,2483,19270,2483,9820,6967,5797,45672,81790,576407,null,2483,3489,6969,2984,3520]
[null,null,"65 - 69",null,55,73,31,76,76,33,79,38,89,99,56,44,749,137,886,137,468,281,290,1959,3260,28243,null,137,140,324,134,138]
[null,null,"70 - 74",null,158,217,117,236,265,129,212,133,240,314,173,116,2310,408,2718,408,1430,880,894,6432,10409,89060,null,408,511,1032,370,422]
[null,null,"75 - 79",null,318,382,173,380,469,217,394,273,379,532,260,199,3976,610,4586,610,2460,1516,1379,10652,17742,129805,null,610,859,1763,712,732]
[null,null,"80 - 84",null,295,417,211,324,390,199,383,271,398,431,277,233,3829,568,4397,568,2255,1574,1376,10281,18369,128774,null,568,800,1562,678,781]
[null,null,"85 - 89",null,246,352,182,293,326,200,399,291,305,372,284,212,3462,471,3933,471,1894,1568,1158,9535,18043,117506,null,471,708,1343,645,787]
[null,null,"90 and over",null,208,255,121,207,220,130,237,249,160,263,223,188,2461,289,2750,289,1313,1148,700,6813,13967,83019,null,289,471,945,445,660]
[null,"Females","Aged 65+",null,2064,2959,1399,2382,2751,1622,2756,2179,2493,3249,2058,1782,27694,4029,31723,4029,15898,11796,9543,76280,139885,955568,null,4029,5772,11341,4820,6019]
[null,null,"65 - 69",null,46,67,28,71,80,41,81,51,81,110,50,34,740,152,892,152,455,285,302,2061,3388,29623,null,152,149,328,127,135]
[null,null,"70 - 74",null,202,264,148,269,307,175,280,166,331,370,180,127,2819,473,3292,473,1743,1076,1127,7551,12339,104906,null,473,630,1210,482,473]
[null,null,"75 - 79",null,403,504,273,447,532,300,469,385,504,687,362,268,5134,835,5969,835,3077,2057,1912,14298,23471,173191,null,835,1105,2170,872,1015]
[null,null,"80 - 84",null,485,658,280,544,619,344,558,437,563,732,462,372,6054,908,6962,908,3601,2453,2095,16466,29172,203851,null,908,1243,2553,1043,1271]
[null,null,"85 - 89",null,472,691,354,545,637,421,656,517,538,700,503,455,6489,877,7366,877,3583,2906,2190,17790,34197,224032,null,877,1412,2573,1128,1475]
[null,null,"90 and over",null,456,775,316,506,576,341,712,623,476,650,501,526,6458,784,7242,784,3439,3019,1917,18114,37318,219965,null,784,1233,2507,1168,1650]
[null,"Disability Benefits (AA or DLA)",null,null,"Nov 2023","Nov 2023","Nov 2023","Nov 2023","Nov 2023","Nov 2023","Nov 2023","Nov 2023","Nov 2023","Nov 2023","Nov 2023","Nov 2023","Nov 2023","Nov 2023","Nov 2023","Nov 2023","Nov 2023","Nov 2023","Nov 2023","Nov 2023","Nov 2023","Nov 2023",null,"Nov 2023","Nov 2023","Nov 2023","Nov 2023","Nov 2023"]
[null,"Total","Aged 60+",null,3482,4754,2281,4032,4630,2669,4419,3476,4260,5491,3360,2782,45636,6745,52381,6745,26649,18987,15955,125350,229481,1629132,null,6423,null,18163,7541,9088]
[null,null,"aged 60-64",null,45,25,22,30,50,18,38,41,63,40,52,42,466,76,542,76,253,213,179,1333,3029,13187,null,83,null,159,89,127]
[null,null,"aged 65-69",null,123,147,94,153,172,114,191,125,217,213,130,100,1779,351,2130,351,1025,754,776,4989,8868,64381,null,351,null,614,273,306]
[null,null,"aged 70-74",null,405,449,258,491,615,282,464,356,553,666,357,237,5133,922,6055,922,3179,1954,2015,14224,23697,191331,null,917,null,2336,926,975]
[null,null,"aged 75-79",null,770,1019,494,975,1081,565,911,646,996,1376,658,507,9998,1614,11612,1614,6217,3781,3669,27081,44730,351685,null,1405,null,4026,1501,1677]
[null,null,"aged 80-84",null,784,1084,496,905,1005,610,935,709,1006,1209,729,567,10039,1480,11519,1480,5993,4046,3592,27007,48095,360008,null,1439,null,3993,1650,1815]
[null,null,"aged 85-89",null,680,1005,492,784,927,605,1023,790,795,1059,748,670,9578,1274,10852,1274,5250,4328,3166,26393,50643,344243,null,1239,null,3632,1572,2123]
[null,null,"aged 90 and over",null,675,1025,425,694,780,475,857,809,630,928,686,659,8643,1028,9671,1028,4732,3911,2558,24323,50419,304297,null,989,null,3403,1530,2065]
[null,"Males","Aged 60+",null,1557,1979,978,1817,2027,1120,1902,1420,1965,2407,1426,1108,19706,3013,22719,3013,11752,7954,7076,54010,96976,725322,null,2876,null,7959,3319,3753]
[null,null,"aged 60-64",null,45,25,22,30,50,18,38,41,63,40,52,42,466,76,542,76,253,213,179,1333,3029,13187,null,83,null,159,89,127]
[null,null,"aged 65-69",null,74,91,70,96,99,69,101,71,141,121,82,60,1075,222,1297,222,622,453,502,3135,5804,37868,null,224,null,354,161,203]
[null,null,"aged 70-74",null,218,222,120,243,301,155,244,183,263,312,184,133,2578,475,3053,475,1559,1019,1013,7220,12106,95795,null,498,null,1254,526,525]
[null,null,"aged 75-79",null,411,538,250,556,603,273,491,332,578,764,325,248,5369,862,6231,862,3450,1919,1963,14408,23706,198095,null,743,null,2242,800,847]
[null,null,"aged 80-84",null,349,490,219,415,422,269,428,289,470,525,309,233,4418,653,5071,653,2671,1747,1611,11757,20761,165966,null,630,null,1762,728,724]
[null,null,"aged 85-89",null,256,360,173,299,340,196,400,288,289,394,285,215,3495,473,3968,473,1938,1557,1131,9664,18111,129654,null,446,null,1293,594,759]
[null,null,"aged 90 and over",null,204,253,124,178,212,140,200,216,161,251,189,177,2305,252,2557,252,1259,1046,677,6493,13459,84757,null,252,null,895,421,568]
[null,"Females","Aged 60+",null,2450,3356,1656,2741,3176,1948,3053,2464,3023,3877,2348,1969,32061,4756,36817,4756,18623,13438,11383,89162,163598,1180411,null,4624,null,12811,5324,6499]
[null,null,"aged 60-64",null,45,25,22,30,50,18,38,41,63,40,52,42,466,76,542,76,253,213,179,1333,3029,13187,null,83,null,159,89,127]
[null,null,"aged 65-69",null,118,75,59,84,116,78,154,81,127,131,97,83,1203,236,1439,236,651,552,500,3628,6742,43240,null,246,null,398,262,225]
[null,null,"aged 70-74",null,261,278,170,273,354,174,278,208,360,407,204,156,3123,565,3688,565,1933,1190,1269,8813,14959,116941,null,598,null,1496,612,636]
[null,null,"aged 75-79",null,551,756,386,677,763,446,634,484,749,1022,495,344,7307,1167,8474,1167,4518,2789,2748,19954,32784,271320,null,1048,null,2934,1050,1232]
[null,null,"aged 80-84",null,510,721,344,629,696,420,603,503,687,864,495,381,6853,1010,7863,1010,4107,2746,2461,18706,33092,260619,null,1005,null,2760,1080,1272]
[null,null,"aged 85-89",null,448,707,344,522,628,449,665,533,553,730,496,473,6548,879,7427,879,3588,2960,2225,18149,34826,244445,null,854,null,2525,1058,1451]
[null,null,"aged 90 and over",null,492,793,313,530,578,339,670,604,475,695,513,485,6487,792,7279,792,3563,2924,1919,18287,37706,228662,null,763,null,2573,1130,1526]
[null,"PIP Claimants (60+)",null,null,"Nov 2023","Nov 2023","Nov 2023","Nov 2023","Nov 2023","Nov 2023","Nov 2023","Nov 2023","Nov 2023","Nov 2023","Nov 2023","Nov 2023","Nov 2023","Nov 2023","Nov 2023","Nov 2023","Nov 2023","Nov 2023","Nov 2023","Nov 2023","Nov 2023","Nov 2023",null,"Nov 2023","Nov 2023","Nov 2023","Nov 2023","Nov 2023"]
[null,"Total","Aged 60+",null,1638,2500,1267,2575,2404,1521,1991,1199,2844,3420,1405,1093,23857,4587,28444,4587,15381,8476,10219,62635,106745,1040610,null,4587,5192,10899,3629,3697]
[null,null,"aged 60-64",null,733,994,574,1095,1058,663,872,512,1249,1437,631,471,10289,2069,12358,2069,6566,3723,4555,27397,47396,447542,null,2069,2295,4584,1605,1614]
[null,null,"Aged 65+",null,905,1506,693,1480,1346,858,1119,687,1595,1983,774,622,13568,2518,16086,2518,8815,4753,5664,35238,59349,593068,null,2518,2897,6315,2024,2083]
[null,"Males","Aged 60+",null,684,1075,560,1192,1098,638,846,508,1285,1510,634,495,10525,1972,12497,1972,6844,3681,4455,27207,46360,452749,null,1972,2296,4875,1530,1637]
[null,null,"aged 60-64",null,298,408,249,482,488,283,388,215,535,638,265,206,4455,869,5324,869,2849,1606,1936,11737,20420,193170,null,869,1020,2016,686,686]
[null,null,"Aged 65+",null,386,667,311,710,610,355,458,293,750,872,369,289,6070,1103,7173,1103,3995,2075,2519,15470,25940,259579,null,1103,1276,2859,844,951]
[null,"Females","Aged 60+",null,951,1431,711,1385,1312,892,1141,694,1564,1909,760,595,13345,2622,15967,2622,8552,4793,5789,35428,60397,587853,null,2622,2915,6037,2092,2049]
[null,null,"aged 60-64",null,434,585,322,613,574,385,481,297,715,800,365,267,5838,1206,7044,1206,3721,2117,2628,15662,26981,254375,null,1206,1281,2572,915,929]
[null,null,"Aged 65+",null,517,846,389,772,738,507,660,397,849,1109,395,328,7507,1416,8923,1416,4831,2676,3161,19766,33416,333478,null,1416,1634,3465,1177,1120]
["Economy","Population aged 16-64",null,null,"Mid 2023","Mid 2023","Mid 2023","Mid 2023","Mid 2023","Mid 2023","Mid 2023","Mid 2023","Mid 2023","Mid 2023","Mid 2023","Mid 2023","Mid 2023","Mid 2023","Mid 2023","Mid 2023","Mid 2023","Mid 2023","Mid 2023","Mid 2023","Mid 2023","Mid 2023",null,"Mid 2023","Mid 2023","Mid 2023","Mid 2023","Mid 2023"]
[null,"Total","Number",null,83900,98800,76800,68800,64400,66100,113100,70500,95200,81600,82000,70200,971500,179700,1151200,179700,492700,478800,417900,2623000,5846300,38192500,null,179700,238200,313600,197000,222700]
[null,"Males","Number",null,40900,47900,37200,33500,31700,32300,56100,33900,47400,39200,39800,34500,474600,88300,562800,88300,240700,233900,205300,1283100,2881600,18838500,null,88300,117000,152300,97100,108200]
[null,"Females","Number",null,43000,50900,39600,35200,32700,33800,56900,36600,47800,42400,42200,35700,496900,91500,588400,91500,252100,244800,212600,1339900,2964700,19354100,null,91500,121200,161300,99900,114500]
[null,"Total","% of total",null,0.60691480514596874,0.617866811721969,0.63667470318726749,0.58000185511548097,0.58041353214108748,0.61343828025655067,0.61391411988902578,0.58176510365984402,0.61087412520125983,0.58067915607487952,0.60656331819593801,0.59980345240129895,0.60331650158888273,0.62670850767085073,0.60685295229279546,0.62670850767085073,0.59787657436843256,0.60901959138086093,0.62269250769971196,0.60311809846808262,0.61653421400058017,0.62760184595027435,null,0.62670850767085073,0.619695625362645,0.59169490757862797,0.61091264303656156,0.59639399391680592]
[null,"Males","% of males",null,0.60785071167503635,0.62126776098099012,0.63244611281911911,0.58117569581643613,0.58597042513863218,0.61641250476553566,0.61820924445618908,0.58172804775545917,0.61431179829843441,0.58011990230182819,0.6061012403620516,0.60557279884966775,0.60530880447314983,0.62886399589550646,0.6088847780698623,0.62886399589550646,0.60021049953734995,0.61064460134949949,0.6241022834382316,0.60653374175128105,0.62118754283129896,0.63140069215731121,null,0.62886399589550646,0.62055834871337956,0.59395839670543094,0.61380021248608718,0.59808234318872622]
[null,"Females","% of females",null,0.60602730461980636,0.61470424982503558,0.6407013230679649,0.57888945458128727,0.57512962474734164,0.61061562675253722,0.60973598243453109,0.58179941237195265,0.60749968221685524,0.58119751934580977,0.60699913768324232,0.59431933725601316,0.60142581351860036,0.62464326191744157,0.60492196150560162,0.62464326191744157,0.59566529375763544,0.6074748266775184,0.62133772013125332,0.59988315063494868,0.61207766510834349,0.62394784958187366,null,0.62464326191744157,0.61886470555183815,0.58957308201299985,0.60813425661121323,0.59480725882682894]
["Economy","Economically Active","Year",null,2023,2023,2023,2023,2023,2023,2023,2023,2023,2023,2023,2023,2023,2023,2023,2023,2023,2023,2023,2023,2023,2023,2023,2023,2023,2023,2023,2023,"Annual Population Survey"]
[null,"Males","Aged 16-24",null,"-","-",4400,3200,5600,"-","-",5200,7100,5700,5500,4500,52000,10400,62400,10400,21600,19600,21900,133700,295800,1919300,null,10400,{"$error":"#VALUE!"},14500,0,15200]
[null,null,"Aged 25-34",null,6400,16100,9500,7200,"-","-",9500,4600,"-","-",5700,8500,83600,17100,100700,17100,29700,37800,26600,244100,512400,3718900,null,17100,{"$error":"#VALUE!"},23300,15900,18800]
[null,null,"Aged 35-49",null,9900,10700,6700,4800,8800,9700,14600,6100,17800,14700,13400,7100,124200,23300,147500,23300,66700,57600,57500,347300,825700,5214400,null,23300,25200,39000,24500,26600]
[null,null,"Aged 50-64",null,13200,9500,5900,10700,8400,14400,17800,14000,9500,12900,9800,13200,139300,25100,164400,25100,64200,75100,54900,341200,750600,4482500,null,25100,28700,41500,31000,37000]
[null,null,"Aged 65+",null,3800,2800,"-",1100,2100,4400,"-","-",4300,1900,"-",4100,28700,3400,32100,3400,16000,8500,12100,64600,150500,761900,null,3400,{"$error":"#VALUE!"},7900,3800,4100]
[null,null,"Aged 16-64",null,30800,37300,26500,25900,27600,35000,44600,29900,37000,37100,34400,33300,399100,75900,475000,75900,195700,203700,174400,1066400,2384500,15335100,null,75900,89100,127900,75400,97600]
[null,null,"Aged 16-74"]
["Economy","Economically Active","Year",null,2023,2023,2023,2023,2023,2023,2023,2023,2023,2023,2023,2023,2023,2023,2023,2023,2023,2023,2023,2023,2023,2023,2023,2023,2023,2023,2023,2023]
[null,"Females","Aged 16-24",null,4300,"-","-","-","-","-","-","-",5600,"-",5300,"-",43300,7400,50700,7400,9900,5300,13000,115800,281000,1751900,null,7400,{"$error":"#VALUE!"},0,4300,5300]
[null,null,"Aged 25-34",null,4600,10700,15300,4100,"-","-",6200,4400,"-","-",5300,6600,68500,16300,84800,16300,19400,37800,31600,214300,456000,3296400,null,16300,{"$error":"#VALUE!"},14800,10800,16300]
[null,null,"Aged 35-49",null,5600,13400,7500,8000,7600,8000,13400,4700,16800,15400,17300,6400,123900,22400,146300,22400,66800,57300,54700,335600,804300,4711500,null,22400,23100,44400,19000,28400]
[null,null,"Aged 50-64",null,11700,10200,6200,7800,7900,10000,12600,11900,11100,9800,5900,12300,117500,22300,139800,22300,58500,58900,49600,314000,674100,4137100,null,22300,24100,35700,24300,30100]
[null,null,"Aged 65+",null,1700,"-","-","-","-","-","-","-",2200,"-","-","-",9800,2200,12000,2200,3900,0,4400,39100,101800,536700,null,2200,{"$error":"#VALUE!"},0,1700,0]
[null,null,"Aged 16-64",null,26200,38100,34300,23000,22100,25800,34900,24300,37300,27000,33800,26400,353200,68300,421500,68300,173700,179500,165700,979600,2215300,13896800,null,68300,82200,110200,61100,84500]
[null,null,"Aged 16-74"]
["Economy","Economically Active","Year",null,2023,2023,2023,2023,2023,2023,2023,2023,2023,2023,2023,2023,2023,2023,2023,2023,2023,2023,2023,2023,2023,2023,2023,2023,2023,2023,2023,2023]
[null,"Total","Aged 16-24",null,5600,4700,9800,6200,9200,11100,5400,8500,12700,5700,10800,5500,95200,17800,113000,17800,44100,51100,51400,249500,576800,3671200,null,17800,30100,25800,11000,24800,"Annual Population Survey"]
[null,null,"Aged 25-34",null,11000,26800,24700,11300,7900,7600,15700,9000,6400,"-",11000,15100,152200,33300,185500,33300,63400,83100,72000,458300,968300,7015300,null,33300,40200,46000,26700,35100,"January-December"]
[null,null,"Aged 35-49",null,15500,24200,14100,12800,16400,17700,28000,10800,34500,30000,30700,13500,248200,45700,293900,45700,133400,114800,112000,682900,1630000,9925900,null,45700,48200,83400,43500,55000,"GB"]
[null,null,"Aged 50-64",null,24900,19700,12100,18500,16200,24500,30500,25900,20600,22700,15700,25500,256800,47500,304300,47500,122600,134200,104700,655200,1424700,8619600,null,47500,52800,77100,55400,67100]
[null,null,"Aged 65+",null,5500,3400,"-",1800,2600,5700,1900,3400,6500,2100,"-",4400,38400,5600,44000,5600,21900,15400,17800,103700,252300,1298600,null,5600,{"$error":"#VALUE!"},9900,7400,7800]
[null,null,"Aged 16-64",null,57000,75400,60800,48800,49600,60800,79500,54200,74300,64100,68200,59700,752300,144300,896600,144300,369200,383200,340200,2046000,4599800,29231900,null,144300,171200,237900,136500,182100]
[null,null,"Aged 16-74"]
["Economy","KCC Housing led forecast (2021)",2022,null,93500,124400,83300,85600,81100,75800,124300,84800,108400,99200,94700,84600,1139600,202600,1342100,202600,592100,547400,470000,"n/a","n/a","n/a",0,202600,267400,390200,217800,264100]
[null,"KCC Housing led forecast (2021)",2027,null,101700,132700,90300,90900,85400,80500,129400,90000,114000,107800,100200,88400,1211600,215600,1427100,215600,632600,578900,500500,"n/a","n/a","n/a",0,215600,284900,416900,231200,278600]
[null,"KCC Housing led forecast (2021)",2032,null,109800,140700,96300,92300,89400,83500,134400,95900,119800,117500,106300,91900,1277900,230100,1508000,230100,669500,608400,529700,"n/a","n/a","n/a",0,230100,299600,440000,244200,294100]
[null,"KCC Housing led forecast (2021)",2037,null,113600,141700,101200,92800,91500,84600,138600,100200,123200,119800,111100,94400,1312700,240800,1553400,240800,682600,630100,549700,"n/a","n/a","n/a",0,240800,309000,445700,252200,305700]
[null,"KCC Housing led forecast (2021)",2042,null,116500,142400,105200,92800,92800,85200,141500,103300,125400,121500,114500,95900,1337100,247700,1584700,247700,691500,645600,563500,"n/a","n/a","n/a",0,247700,315900,449600,258000,313700]
[null,"Labour Market \"Pressure\"",null,null,"Mid 2023","Mid 2023","Mid 2023","Mid 2023","Mid 2023","Mid 2023","Mid 2023","Mid 2023","Mid 2023","Mid 2023","Mid 2023","Mid 2023","Mid 2023","Mid 2023","Mid 2023","Mid 2023","Mid 2023","Mid 2023","Mid 2023","Mid 2023","Mid 2023","Mid 2023","Mid 2023","Mid 2023","Mid 2023","Mid 2023","Mid 2023","Mid 2023"]
["Economy",null,"Those aged 5-14",null,17800,16800,17500,13600,11900,15000,23200,15600,20000,16200,17800,15500,201000,38400,239400,38400,96300,104700,90800,532600,1148600,7238100,0,38400,52400,58500,41000,49000]
[null,null,"Those aged 55-64",null,18400,19900,13200,17700,16400,13200,23100,16700,20700,19300,17800,15600,212000,35200,247100,35200,112500,99500,82200,576100,1231100,7769500,0,35200,47000,73400,41500,50100]
[null,null,"Ratio",null,0.96739130434782605,0.84422110552763818,1.3257575757575757,0.76836158192090398,0.72560975609756095,1.1363636363636365,1.0043290043290043,0.93413173652694614,0.96618357487922701,0.8393782383419689,1,0.99358974358974361,0.94811320754716977,1.0909090909090908,0.96883852691218131,1.0909090909090908,0.85599999999999998,1.0522613065326634,1.1046228710462287,0.92449227564658909,0.93298675980830148,0.93160435034429501,null,1.0909090909090908,1.1148936170212767,0.79700272479564027,0.98795180722891562,0.97804391217564868]
[null,"Employment Rate",null,null,2023,2023,2023,2023,2023,2023,2023,2023,2023,2023,2023,2023,2023,2023,2023,2023,2023,2023,2023,2023,2023,2023,null,2023,2023,2023,2023,2023]
["Economy","Males","16-24",null,"-","-",0.73333333333333328,"-","-","-","-",0.68421052631578949,0.78888888888888886,0.47368421052631576,0.88709677419354838,0.63380281690140849,0.56274256144890034,0.48344370860927155,0.52309313502908594,0.48344370860927155,0.63128654970760234,0.73461086268601994,0.66855531027716453,0.53159851301115246,0.56727664155005386,0.54252387361404864,null,null,null,null,null,null,"Annual Population Survey"]
[null,"Males","25-49",null,0.850828729281768,0.76451612903225807,1,0.93023255813953487,0.80147058823529416,0.86549707602339176,0.91984732824427484,0.76978417266187049,1,0.87,0.89252336448598135,0.8606060606060606,0.875,0.89318181818181819,0.88409090909090904,0.89318181818181819,0.86950800078147583,0.88470966700359643,0.9396697235513024,0.90188383045525899,0.92500884329678101,0.90090342970609949,null,null,null,null,null,null,"January-December"]
[null,"Males","50-64",null,0.77707006369426757,0.57926829268292679,0.77631578947368418,0.85599999999999998,0.59482758620689657,0.82208588957055218,0.73777777777777775,0.83832335329341312,0.84112149532710279,0.8529411764705882,0.85217391304347823,0.91240875912408759,0.78199052132701419,0.86971830985915488,0.82585441559308448,0.86971830985915488,0.75020476906363032,0.82318091371383206,0.82731037105762351,0.77083333333333337,0.79059921841076852,0.75748555114546345,null,null,null,null,null,null,"Data updated April each year"]
[null,"Males","16-64",null,0.80110497237569056,0.64216634429400388,0.8922558922558923,0.8776223776223776,0.52941176470588236,0.86734693877551017,0.77655677655677657,0.7827225130890052,0.91,0.78883495145631066,0.87979539641943738,0.83870967741935487,0.79104162264948241,0.81599999999999995,0.80352081132474118,0.81599999999999995,0.75819006840904424,0.83956453241932938,0.87140070775785061,0.79591996248241359,0.82141326093169476,0.79581800476087428,null,null,null,null,null,null,"GB"]
[null,"Females","16-24",null,0.51807228915662651,"-","-","-","-","-","-","-",0.69135802469135799,"-",0.91379310344827591,"-",0.56058588548601862,0.44827586206896552,0.50443087377749207,0.44827586206896552,0.60471515692399225,0.91379310344827591,0.56981694338016176,0.51201201201201196,0.60059239006607423,0.5319469559975889]
[null,"Females","25-49",null,0.53968253968253965,0.82876712328767121,1,0.73780487804878048,0.8833333333333333,0.875,0.77075098814229248,0.89215686274509809,0.79230769230769227,0.66666666666666663,0.92244897959183669,0.90972222222222221,0.81101694915254241,0.80922431865828093,0.81012063390541167,0.80922431865828093,0.7414270388877805,0.89501317545024162,0.8691330027414933,0.8343341031562741,0.85995273839310538,0.8090309952419128]
[null,"Females","50-64",null,0.66874999999999996,0.62576687116564422,0.63265306122448983,0.5736434108527132,0.83157894736842108,0.7407407407407407,0.68478260869565222,0.68390804597701149,0.64534883720930236,0.66666666666666663,0.61458333333333337,0.87857142857142856,0.68576491435321918,0.71986970684039087,0.70281731059680497,0.71986970684039087,0.66862578887712465,0.70587320309044266,0.68465308650373091,0.6736749890494963,0.69641543151476926,0.67681060010372573]
[null,"Females","16-64",null,0.57967667436489612,0.70152091254752846,0.84275184275184278,0.58247422680412375,0.84351145038167941,0.8403908794788274,0.69660678642714569,0.70639534883720934,0.72709551656920079,0.64837905236907734,0.84711779448621549,0.81481481481481477,0.72751873438800996,0.72443487621097957,0.72597680529949482,0.72443487621097957,0.68044297217275096,0.79134624446600921,0.78366827875271272,0.72892258212726857,0.76472251679038528,0.72190626985922168]
[null,"Total","16-24",null,0.51851851851851849,"-",0.69503546099290781,0.43650793650793651,0.3392857142857143,1,0.34959349593495936,0.59027777777777779,0.74269005847953218,0.41379310344827586,0.9,0.5,0.56167979002624668,0.46621621621621623,0.51394800312123146,0.46621621621621623,0.49015906624799543,0.67248445578427418,0.72598543392216397,0.52216867469879513,0.58346247509408899,0.53735180454575227]
[null,"Total","25-49",null,0.69189189189189193,0.7970049916805324,1,0.8225255972696246,0.83657587548638135,0.86941580756013748,0.84854368932038837,0.81818181818181823,0.88336933045356369,0.75846501128668176,0.90849673202614378,0.88636363636363635,0.84240069084628666,0.85152838427947597,0.84696453756288137,0.85152838427947597,0.79830544967811268,0.88850028057535413,0.90107838057329426,0.86785853089778464,0.89215720646495811,0.85500114442664221]
[null,"Total","50-64",null,0.72239747634069396,0.60244648318042815,0.6954022988505747,0.71259842519685035,0.69668246445497628,0.7912457912457912,0.71638141809290956,0.7595307917888563,0.72043010752688175,0.75265017667844525,0.74407582938388628,0.8920863309352518,0.73402366863905322,0.79187817258883253,0.76295092061394287,0.79187817258883253,0.7012008555630459,0.76645374338287831,0.74973909255302007,0.72075130119936637,0.74275033377837119,0.71634660501463099]
[null,"Total","16-64",null,0.68136020151133503,0.67209971236816879,0.86363636363636365,0.70771513353115723,0.6588050314465409,0.85693848354792557,0.73829990448901628,0.74552957359009631,0.80722891566265065,0.71955719557195574,0.86329113924050638,0.82902298850574707,0.75912332214765099,0.76829268292682928,0.76370800253724014,0.76829268292682928,0.70779436501530146,0.81611974216827576,0.82402411144344234,0.76207790198429581,0.79290003908887385,0.75877815622284239]
["Economy","Average Annual ",2010,null,2.5000000000000001E-2,2.3E-2,3.1E-2,3.2000000000000001E-2,3.7999999999999999E-2,3.7999999999999999E-2,2.4E-2,1.8000000000000002E-2,3.6000000000000004E-2,5.0999999999999997E-2,1.9E-2,1.7000000000000001E-2,2.8999999999999998E-2,3.9E-2,3.1E-2,3.9E-2,3.4000000000000002E-2,2.4E-2,3.7000000000000005E-2,3.1E-2,2.6000000000000002E-2,3.7000000000000005E-2]
[null,"Unemployment Rates",2011,null,2.6000000000000002E-2,2.4E-2,3.1E-2,3.4000000000000002E-2,3.9E-2,0.04,2.4E-2,1.8000000000000002E-2,3.7000000000000005E-2,5.5999999999999994E-2,1.9E-2,1.6E-2,0.03,3.9E-2,3.2000000000000001E-2,3.9E-2,3.6000000000000004E-2,2.4E-2,3.7999999999999999E-2,3.2000000000000001E-2,2.5000000000000001E-2,3.7000000000000005E-2]
[null,null,2012,null,2.7000000000000003E-2,2.5000000000000001E-2,2.8999999999999998E-2,3.9E-2,4.2000000000000003E-2,4.2000000000000003E-2,2.5000000000000001E-2,1.8000000000000002E-2,4.0999999999999995E-2,6.0999999999999999E-2,2.1000000000000001E-2,1.4999999999999999E-2,3.2000000000000001E-2,4.0999999999999995E-2,3.3000000000000002E-2,4.0999999999999995E-2,3.9E-2,2.5000000000000001E-2,3.9E-2,3.3000000000000002E-2,2.5000000000000001E-2,3.7999999999999999E-2]
[null,null,2013,null,2.4E-2,2.2000000000000002E-2,2.5000000000000001E-2,3.4000000000000002E-2,3.7000000000000005E-2,3.5000000000000003E-2,2.2000000000000002E-2,1.4999999999999999E-2,3.6000000000000004E-2,5.7000000000000002E-2,1.8000000000000002E-2,1.2E-2,2.7999999999999997E-2,3.5000000000000003E-2,2.8999999999999998E-2,3.5000000000000003E-2,3.5000000000000003E-2,2.1000000000000001E-2,3.4000000000000002E-2,2.8999999999999998E-2,2.2000000000000002E-2,3.4000000000000002E-2]
[null,null,2014,null,1.7000000000000001E-2,1.3999999999999999E-2,1.7000000000000001E-2,2.7000000000000003E-2,2.7000000000000003E-2,2.6000000000000002E-2,1.4999999999999999E-2,1.1000000000000001E-2,2.6000000000000002E-2,4.4000000000000004E-2,1.2E-2,9.0000000000000011E-3,0.02,2.6000000000000002E-2,2.1171903955947247E-2,2.6444166477143507E-2,2.532039081334856E-2,1.4706474968321415E-2,2.4570338014369694E-2,2.1000000000000001E-2,1.4999999999999999E-2,2.5000000000000001E-2]
[null,null,2015,null,1.3000000000000001E-2,0.01,1.2E-2,1.9E-2,0.02,0.02,1.2E-2,8.0000000000000002E-3,0.02,3.1E-2,0.01,6.9999999999999993E-3,1.4999999999999999E-2,2.1000000000000001E-2,1.6E-2,2.1000000000000001E-2,1.9E-2,1.1000000000000001E-2,1.9E-2,1.4999999999999999E-2,1.1000000000000001E-2,1.9E-2]
[null,null,2016,null,1.4999999999999999E-2,1.2E-2,1.1000000000000001E-2,0.02,2.1000000000000001E-2,0.02,1.2E-2,6.9999999999999993E-3,2.2000000000000002E-2,3.3000000000000002E-2,9.0000000000000011E-3,6.9999999999999993E-3,1.6E-2,0.02,1.6E-2,0.02,0.02,1.1000000000000001E-2,1.9E-2,1.4999999999999999E-2,1.1000000000000001E-2,1.8000000000000002E-2]
[null,null,2017,null,1.6E-2,1.3000000000000001E-2,1.2E-2,2.4E-2,2.1000000000000001E-2,2.1000000000000001E-2,1.2E-2,6.9999999999999993E-3,2.3E-2,3.6000000000000004E-2,9.0000000000000011E-3,9.0000000000000011E-3,1.7000000000000001E-2,1.9E-2,1.7000000000000001E-2,1.9E-2,2.2000000000000002E-2,1.2E-2,1.9E-2,1.6E-2,1.2E-2,1.9E-2]
[null,null,2018,null,1.9E-2,1.3999999999999999E-2,1.2E-2,3.2000000000000001E-2,2.5000000000000001E-2,2.2000000000000002E-2,1.2E-2,6.9999999999999993E-3,2.7000000000000003E-2,4.8000000000000001E-2,9.0000000000000011E-3,8.0000000000000002E-3,1.9E-2,0.02,0.02,0.02,2.7000000000000003E-2,1.2E-2,2.1000000000000001E-2,1.9E-2,1.3999999999999999E-2,2.2000000000000002E-2]
[null,null,2019,null,2.5000000000000001E-2,2.1000000000000001E-2,1.8000000000000002E-2,3.6000000000000004E-2,3.3000000000000002E-2,3.1E-2,1.7000000000000001E-2,1.1000000000000001E-2,3.3000000000000002E-2,5.2999999999999999E-2,1.3000000000000001E-2,1.3000000000000001E-2,2.5000000000000001E-2,2.8999999999999998E-2,2.6000000000000002E-2,2.8999999999999998E-2,3.3000000000000002E-2,1.7000000000000001E-2,2.7999999999999997E-2,2.5000000000000001E-2,1.8000000000000002E-2,2.7000000000000003E-2]
[null,null,2020,null,5.2000000000000005E-2,4.2999999999999997E-2,4.5999999999999999E-2,5.9000000000000004E-2,6.3E-2,6.2E-2,4.2999999999999997E-2,3.4000000000000002E-2,5.7999999999999996E-2,9.0999999999999998E-2,3.5000000000000003E-2,3.6000000000000004E-2,5.2000000000000005E-2,5.7999999999999996E-2,5.2000000000000005E-2,5.7999999999999996E-2,0.06,4.2000000000000003E-2,5.7000000000000002E-2,5.2000000000000005E-2,4.2999999999999997E-2,5.4000000000000006E-2]
[null,null,2021,null,4.9000000000000002E-2,4.0999999999999995E-2,4.5999999999999999E-2,5.5E-2,6.2E-2,6.4000000000000001E-2,4.4000000000000004E-2,3.4000000000000002E-2,5.7000000000000002E-2,8.5999999999999993E-2,3.4000000000000002E-2,3.7000000000000005E-2,0.05,0.06,5.2000000000000005E-2,0.06,5.7999999999999996E-2,4.2999999999999997E-2,5.7999999999999996E-2,5.0999999999999997E-2,4.4000000000000004E-2,5.5E-2]
[null,null,2022,null,3.2000000000000001E-2,3.2000000000000001E-2,2.8999999999999998E-2,3.9E-2,4.2999999999999997E-2,4.0999999999999995E-2,2.8999999999999998E-2,2.1000000000000001E-2,3.7999999999999999E-2,0.06,2.1000000000000001E-2,2.4E-2,3.4000000000000002E-2,0.04,3.5000000000000003E-2,0.04,0.04,2.7999999999999997E-2,3.7999999999999999E-2,3.4000000000000002E-2,2.8999999999999998E-2,3.7999999999999999E-2]
[null,null,2023,null,0.03,3.2000000000000001E-2,0.03,3.7999999999999999E-2,3.9E-2,4.2000000000000003E-2,2.8999999999999998E-2,0.02,3.6000000000000004E-2,5.5E-2,2.1000000000000001E-2,2.3E-2,3.3000000000000002E-2,3.7999999999999999E-2,3.4000000000000002E-2,3.7999999999999999E-2,3.7999999999999999E-2,2.7000000000000003E-2,3.7000000000000005E-2,null,2.7999999999999997E-2,3.7000000000000005E-2]
[null,null,2024,null,3.2000000000000001E-2,3.4000000000000002E-2,3.2000000000000001E-2,3.9E-2,4.0999999999999995E-2,4.5999999999999999E-2,3.3000000000000002E-2,2.1000000000000001E-2,3.7999999999999999E-2,5.5E-2,2.3E-2,2.5000000000000001E-2,3.5000000000000003E-2,4.0999999999999995E-2,3.6000000000000004E-2,4.0999999999999995E-2,0.04,0.03,3.9E-2,null,3.1E-2,4.0999999999999995E-2]
[null,"Unemployment","Year",null,2024,2024,2024,2024,2024,2024,2024,2024,2024,2024,2024,2024,2024,2024,2024,2024,2024,2024,2024,2024,2024,2024,null,2024,2024,2024,2024,2024]
["Economy","Males 18-24","Number",null,290,450,240,340,300,320,380,130,425,555,160,140,3735,805,4540,805,2360,1375,1790,null,17435,153510,null,805,860,1645,670,430,"NOMIS"]
[null,"Males 25-49","Number",null,755,980,700,795,795,935,1100,425,1100,1435,530,515,10055,2235,12290,2235,5855,4200,4965,null,54055,461055,null,2235,2430,4005,1855,1470,"Claimant Count"]
[null,"Males 50-64","Number",null,325,460,255,360,400,365,415,185,430,650,225,245,4310,895,5205,895,2625,1690,1940,null,24345,191760,null,895,1020,1870,740,655,"GB"]
[null,"Males 16-64","Number",null,1375,1895,1200,1495,1495,1620,1895,745,1950,2645,915,900,18120,3935,22055,3935,10850,7270,8705,null,95955,807400,null,3935,4315,7530,3270,2560]
[null,"Females 18-24","Number",null,195,230,170,200,170,220,270,85,295,340,135,95,2405,535,2940,535,1430,975,1220,null,11350,94185,null,535,560,940,465,315]
[null,"Females 25-49","Number",null,760,835,790,680,685,910,1055,495,925,1105,560,540,9335,2165,11500,2165,4985,4350,4790,null,51060,414855,null,2165,2385,3305,1815,1595]
[null,"Females 50-64","Number",null,265,365,225,260,290,270,345,170,335,430,210,205,3365,620,3985,620,1945,1425,1445,null,18925,146135,null,620,785,1345,610,585]
[null,"Females 16-64","Number",null,1225,1430,1190,1145,1155,1400,1670,755,1555,1875,905,840,15140,3325,18465,3325,8380,6760,7465,null,81480,656335,null,3325,3745,5605,2895,2500]
[null,"Total 18-24","Number",null,485,680,415,540,475,540,650,220,720,895,295,235,6140,1340,7475,1340,3790,2350,3010,null,28785,247695,null,1340,1430,2590,1135,750]
[null,"Total 25-49","Number",null,1515,1815,1490,1475,1480,1845,2150,920,2020,2540,1090,1050,19390,4400,23790,4400,10845,8545,9755,null,105115,875910,null,4400,4815,7310,3665,3060]
[null,"Total 50-64","Number",null,590,825,480,620,690,630,760,355,765,1080,435,450,7680,1510,9190,1510,4565,3110,3390,null,43270,337895,null,1510,1800,3215,1350,1240]
[null,"Total 16-64","Number",null,2595,3325,2390,2635,2650,3020,3560,1500,3505,4520,1825,1740,33265,7260,40520,7260,19230,14030,16175,null,177435,1463730,null,7260,8060,13130,6155,5065]
[null,"Males 16-64","%",null,3.5000000000000003E-2,0.04,3.3000000000000002E-2,4.4999999999999998E-2,4.7E-2,0.05,3.5000000000000003E-2,2.2000000000000002E-2,4.2000000000000003E-2,6.7000000000000004E-2,2.3E-2,2.6000000000000002E-2,3.9E-2,4.4999999999999998E-2,0.04,4.4999999999999998E-2,4.5999999999999999E-2,3.1E-2,4.2999999999999997E-2,null,3.4000000000000002E-2,4.5999999999999999E-2]
[null,"Females 16-64","%",null,2.8999999999999998E-2,2.7999999999999997E-2,3.1E-2,3.3000000000000002E-2,3.5000000000000003E-2,4.2000000000000003E-2,0.03,2.1000000000000001E-2,3.3000000000000002E-2,4.4000000000000004E-2,2.2000000000000002E-2,2.3E-2,3.1E-2,3.7000000000000005E-2,3.2000000000000001E-2,3.7000000000000005E-2,3.4000000000000002E-2,2.7999999999999997E-2,3.6000000000000004E-2,null,2.7999999999999997E-2,3.6000000000000004E-2]
[null,"Total 16-64","%",null,3.2000000000000001E-2,3.4000000000000002E-2,3.2000000000000001E-2,3.9E-2,4.0999999999999995E-2,4.5999999999999999E-2,3.3000000000000002E-2,2.1000000000000001E-2,3.7999999999999999E-2,5.5E-2,2.3E-2,2.5000000000000001E-2,3.5000000000000003E-2,4.0999999999999995E-2,3.6000000000000004E-2,4.0999999999999995E-2,0.04,0.03,3.9E-2,null,3.1E-2,4.0999999999999995E-2]
[null,"Median weekly full-time earnings","Year",null,2024,2024,2024,2024,2024,2024,2024,2024,2024,2024,2024,2024,2024,2024,2024,2024,2024,2024,2024,2024,2024,2024,null,2024,2024,2024,2024,2024]
["Economy","(workplace based)","Males",null,695.8,715.8,769.5,807.8,731.7,820.3,730.2,812.9,714.6,690.5,775.6,751.4,761.7,767.2,868.44086956521744,767.2,655.35344827586209,341.90967741935486,761.60108695652173,null,816.8,783.8,null,767.2,2321.5,2945.8,1426,2339.9,"NOMIS"]
[null,null,"Females",null,635.4,654.9,576.29999999999995,645.29999999999995,571.5,574.6,652.5,633.70000000000005,551.9,614.70000000000005,629.1,639.29999999999995,628.6,613.9,721.71966292134834,613.9,521.04062499999998,289.19065420560747,587.52380952380952,null,675.2,672.3,null,613.9,1722.4,2486.3999999999996,1287.9000000000001,1902.1000000000001,"Annual Survey of Hours and Earnings"]
[null,null,"Total",null,678.3,704.1,709.1,749.6,666.9,759.8,681.4,713.2,671.1,638.70000000000005,718.7,686.4,689.9,703.5,791.63161764705887,703.5,596.46132075471701,323.40692464358455,705.03782051282053,null,754.1,732.1,null,703.5,2135.8000000000002,2759.3,1359.6999999999998,2118.3000000000002,"GB"]
[null,null,"Males (no. in sample, 000's)",null,20000,19000,25000,15000,15000,12000,30000,15000,23000,13000,27000,15000,230000,32000,230000,98000,116000,279000,92000,null,1649000,9818000,null,32000,52000,62000,50000,57000]
[null,null,"Females (no. in sample, 000's)",null,18000,18000,15000,9000,9000,9000,28000,13000,12000,15000,17000,17000,178000,27000,178000,67000,96000,214000,63000,null,1216000,7174000,null,27000,33000,51000,46000,47000]
[null,null,"Total (no. in sample, 000's)",null,38000,37000,40000,23000,23000,21000,59000,29000,36000,28000,44000,32000,408000,59000,408000,166000,212000,491000,156000,null,2864000,16991000,null,59000,84000,111000,97000,105000]
[null,"Median weekly full-time earnings","Year",null,2024,2024,2024,2024,2024,2024,2024,2024,2024,2024,2024,2024,2024,2024,2024,2024,2024,2024,2024,2024,2024,2024,null,2024,2024,2024,2024,2024]
["Economy","(resident based)","Males",null,788.8,832.8,817.4,814.3,758.9,784.1,764.8,958.5,786.5,753.2,850,1004.3,824.2,794.4,987.22985074626865,794.4,737.73897058823525,365.74693251533745,795.70333333333338,"-",850,783.8,null,794.4,2360.4,3159.2,1553.6,2812.8,"NOMIS"]
[null,null,"Females",null,634,656.8,741.6,679,626.6,619.9,639.5,839.1,665.6,648.70000000000005,724.7,686.2,670.8,650.70000000000005,789.98762376237619,650.70000000000005,560.12242990654204,327.14362139917694,669.8568181818182,"-",696.3,671.6,null,650.70000000000005,1988.1,2611.1000000000004,1273.5,2250,"Annual Survey of Hours and Earnings"]
[null,null,"Total",null,700.2,728.3,813.6,750,695.1,690.5,692,915.2,752.1,685.2,789.5,839.6,751.8,754.6,899.50893617021279,754.6,647.80864197530866,345.62864674868189,757.0350961538461,"-",779.2,732,null,754.6,2199.1999999999998,2858.6000000000004,1392.2,2544.3000000000002,"GB"]
[null,null,"Males (no. in sample, 000's)",null,25000,22000,23000,18000,18000,17000,37000,20000,25000,19000,23000,20000,268000,55000,268000,111000,136000,326000,120000,"-",1718000,9649000,null,55000,58000,77000,62000,63000]
[null,null,"Females (no. in sample, 000's)",null,16000,17000,20000,11000,13000,13000,29000,15000,18000,17000,20000,16000,202000,37000,202000,82000,107000,243000,88000,"-",1279000,7071000,null,37000,46000,58000,45000,51000]
[null,null,"Total (no. in sample, 000's)",null,41000,39000,43000,29000,31000,30000,66000,34000,43000,36000,43000,36000,470000,92000,470000,192000,243000,569000,208000,"-",2997000,16720000,null,92000,104000,135000,107000,113000]
[null,"Vat and/or paye based enterprises","Year",null,2024,2024,2024,2024,2024,2024,2024,2024,2024,2024,2024,2024,2024,2024,2024,2024,2024,2024,2024,2024,2024,2024,null,2024,2024,2024,2024,2024]
["Economy","Industry","Agriculture, forestry & fishing",null,410,145,20,165,185,40,275,200,190,65,125,255,2075,70,2145,70,1180,915,325,5460,10915,105365,null,70,245,560,685,580,"UK Business Counts"]
[null,null,"Mining, quarrying & utilities",null,50,30,30,20,10,20,40,30,45,25,40,25,365,55,420,50,190,190,155,1030,1940,13655,null,55,60,85,90,95,"Great Britain"]
[null,null,"Manufacturing",null,310,230,200,185,180,180,380,285,350,245,260,245,3050,430,3485,450,1525,1605,1205,8790,17980,118965,null,430,560,840,690,790]
[null,null,"Construction",null,1070,880,1025,675,585,925,1575,1205,1050,860,1215,765,11835,2145,13980,2100,4960,6600,5070,35170,62510,346485,null,2145,2535,3000,2645,3185]
[null,null,"Motor trades",null,180,155,155,130,120,125,275,180,200,120,175,150,1965,285,2250,265,890,1035,730,5750,11645,73640,null,285,400,525,455,505]
[null,null,"Wholesale",null,230,190,165,95,110,105,280,210,170,115,235,210,2120,280,2400,280,930,1335,720,6225,13740,93560,null,280,380,510,510,655]
[null,null,"Retail",null,390,440,295,320,320,300,495,375,340,395,310,410,4390,710,5100,685,2215,2220,1630,12090,28360,194510,null,710,915,1475,885,1095]
[null,null,"Transport & storage",null,185,190,290,160,110,380,600,140,345,120,175,130,2815,560,3375,610,1120,1770,1630,7885,14560,107580,null,560,780,580,785,445]
[null,null,"Accommodation & food services",null,280,445,210,335,370,255,360,260,335,470,280,300,3900,515,4415,520,2265,1685,1375,9950,21310,154020,null,515,835,1620,640,840]
[null,null,"Information & communication",null,365,355,405,165,195,200,435,475,235,295,435,530,4085,500,4585,480,1550,2525,1315,10455,36130,177955,null,500,800,1010,800,1440]
[null,null,"Financial & insurance",null,400,90,65,40,45,35,160,160,55,60,140,130,1385,100,1485,110,675,700,270,3370,8280,54830,null,100,145,235,560,430]
[null,null,"Property",null,310,230,165,100,150,115,270,305,165,160,215,250,2430,265,2700,265,1060,1260,685,6790,16050,108845,null,265,430,640,580,770]
[null,null,"Professional, scientific & technical",null,1005,925,625,525,540,480,1170,1230,650,580,1085,1365,10185,1065,11250,1080,4155,6010,2810,25780,71545,386435,null,1065,1645,2570,2175,3680]
[null,null,"Business administration & support services",null,575,450,385,270,300,380,700,710,425,370,635,590,5790,765,6555,750,2385,3375,1905,15945,36335,210815,null,765,1065,1390,1275,1935]
[null,null,"Public administration & defence",null,35,20,10,30,25,5,35,30,25,10,30,20,270,15,285,15,145,120,55,625,1255,7750,null,15,40,85,70,80]
[null,null,"Education",null,90,120,80,75,75,75,120,115,85,95,110,110,1150,185,1340,175,555,615,420,3360,7830,45055,null,185,230,365,210,335]
[null,null,"Health",null,260,295,225,160,150,160,310,230,205,160,245,265,2670,425,3095,400,1165,1350,930,7310,16145,104000,null,425,535,765,570,740]
[null,null,"Arts, entertainment, recreation & other services",null,360,425,240,250,260,255,445,420,300,385,355,385,4095,535,4630,510,1920,2030,1280,11280,27830,170125,null,535,755,1320,805,1160]
[null,null,"Other "]
[null,null,"Total",null,6490,5630,4600,3705,3735,4040,7930,6560,5170,4525,6060,6130,64575,8915,73485,8915,29255,35320,22725,177275,404360,2473585]
[null,"Vat and/or paye based enterprises","Year",null,2024,2024,2024,2024,2024,2024,2024,2024,2024,2024,2024,2024,2024,2024,2024,2024,2024,2024,2024,2024,2024,2024,null,2024,2024,2024,2024,2024]
["Economy","Sizeband","0 - 4",null,5270,4290,3680,2825,2905,3290,6310,5270,3965,3565,4710,4915,50990,7160,58150,7160,22820,28175,18095,140310,319610,1933165,null,7160,9875,13585,11580,14895,"UK Business Survey"]
[null,null,"5 - 9",null,630,665,450,485,450,420,840,670,650,520,640,625,7045,905,7955,905,3400,3645,2425,19315,42600,274385,null,905,1320,2120,1470,1935,"Great Britain"]
[null,null,"10 - 19",null,325,360,210,200,205,185,435,320,295,250,340,335,3460,455,3910,455,1635,1825,1145,9460,22035,139285,null,455,600,1015,760,995]
[null,null,"20 - 49",null,175,195,155,125,115,90,200,185,160,130,225,165,1920,245,2170,245,900,1020,650,5160,12205,76925,null,245,360,565,375,575]
[null,null,"50 - 99",null,50,65,50,35,30,25,75,65,55,30,80,50,600,70,675,70,265,345,200,1645,4055,26015,null,70,105,160,125,195]
[null,null,"100 - 249",null,30,25,30,25,20,20,40,35,30,25,45,25,350,45,395,45,155,195,125,860,2180,13475,null,45,70,95,70,105]
[null,null,"250 +",null,10,30,25,10,10,10,35,20,20,5,25,15,210,30,240,30,85,130,85,525,1670,10340,null,30,45,55,45,60]
[null,null,"TOTAL",null,6490,5630,4600,3705,3735,4040,7930,6560,5170,4525,6060,6130,64575,8915,73485,8915,29255,35320,22725,177275,404360,2473585,null,8915,12375,17595,14420,18750]
[null,"Output (Gross Value Added) Estimates (£m.)",2006,null,2160,2393,2490,1789,1599,1079,2837,2296,2029,1499,2971,2436,25578,3749,29327,3749,11469,14109,9347,"-",192742,1121203,null,null,null,null,null,null,"National = England"]
["Economy",null,2007,null,2247,2497,2592,1785,1641,1132,2996,2390,2112,1549,3143,2482,26566,3902,30468,3902,11831,14735,9738,"-",201273,1179044,null,null,null,null,null,null,"ONS Estimates"]
[null,null,2008,null,2367,2683,2786,2004,1739,1233,3201,2513,2249,1678,3332,2660,28445,4157,32600,4157,12720,15725,10425,"-",212418,1220667]
[null,null,2009,null,2239,2621,2654,1800,1708,1170,3058,2360,1984,1588,3257,2665,27104,4055,31159,4055,11940,15164,9863,"-",208492,1198760]
[null,null,2010,null,2294,2715,2678,1878,1694,1205,3159,2443,2092,1612,3371,2742,27883,4172,32056,4172,12285,15598,10147,"-",213954,1231484]
[null,null,2011,null,2339,2774,2773,2034,1727,1218,3243,2584,2161,1620,3398,2887,28758,4271,33028,4271,12655,16103,10423,"-",219835,1259186]
[null,null,2012,null,2468,2789,2907,2001,1778,1302,3214,2765,2149,1621,3458,2875,29327,4471,33798,4471,12806,16521,10829,"-",227574,1302700]
[null,null,2013,null,2488,2899,3027,2018,1816,1336,3346,2965,2223,1680,3602,2889,30289,4622,34910,4622,13124,17165,11208,"-",235761,1354199]
[null,null,2014,null,2688,3085,3286,2108,1810,1386,3496,3089,2344,1740,3639,2955,31626,4729,36354,4729,13775,17851,11745,"-",245450,1420932]
[null,null,2015,null,2790,3047,3583,2280,1929,1450,3675,3353,2446,1799,3685,3279,33316,4849,38163,4849,14291,19025,12328,"-",255001,1471797]
[null,null,2016,null,2842,3010,3895,2286,2071,1540,3811,3622,2594,1893,3843,3540,34947,5064,40009,5064,14696,20251,13093,"-",261141,1530716]
[null,null,2017,null,2899,3235,3755,2315,2200,1580,3954,3739,2616,2005,4092,3630,36020,5353,41374,5353,15270,20750,13304,"-",270971,1598480]
[null,null,2018,null,3002,3406,3811,2412,2175,1640,4174,4050,2799,2077,4385,3506,37437,5491,42928,5491,15871,21566,13741,"-",280535,1650168]
[null,null,2019,null,3241,3427,3885,2483,2268,1775,4504,4067,3138,2150,4894,3552,39384,5902,45287,5902,16707,22677,14700,"-",296218,1716439]
[null,null,2020,null,3117,3344,3613,2390,2244,1789,4524,3964,3187,2102,4898,3394,38566,5993,44562,5993,16384,22182,14582,"-",291964,1637936]
[null,null,2021,null,3212,3623,3816,2537,2168,1915,4754,4193,3507,2196,5081,3536,40538,6000,46538,6000,17243,23295,15238,"-",307222,1768787]
[null,null,2022,null,3536,4009,4007,2901,2473,2156,5190,4548,3360,2458,5328,4010,43976,6715,50692,6715,18737,25239,16238,"-",336218,1940267]
[null,"GVA per head Estimates (£)",2006,null,19379.32333862676,16677.12035681929,27310.41744356944,16579.552194543299,15604.719476134245,11058.273720458319,19524.179839925124,20408.888888888891,15905.242694092562,11566.268778790287,26167.911499436301,22755.296491424728,18406.28539601075,14790.238206077056,17848.448553720013,14790.238206077056,15874.246184381536,21148.389475719599,16404.174140127834,"-",23303.740686731406,21999.389936495081,null,null,null,null,null,null,"National = England"]
["Economy",null,2007,null,19834.754515121022,17197.325013602211,28099.99783179029,16369.989270091066,15793.728705895941,11492.852501624431,20278.731022532676,21125.764593572112,16281.095582056876,11857.283924156251,27219.426859157003,22785.902485150604,18870.698846632775,15252.67371317781,18314.333544720383,15252.67371317781,16167.33899620653,21797.111568371332,16897.94770971901,"-",24100.536066387023,22947.040071724437,null,null,null,null,null,null,"ONS Estimates"]
[null,null,2008,null,20662.383463109745,18367.528564484881,29655.333915227897,18243.390867380382,16596.361970567465,12405.17536269795,21379.480774496904,22180.444491517945,17074.096568478592,12736.242884250474,28486.667179631862,23909.897439124143,19985.133224853649,16098.426172625317,19387.082731699425,16098.426172625317,17218.763579066206,22970.321905872075,17872.940111506574,"-",25208.633011562826,23557.7903156395]
[null,null,2009,null,19352.775424827563,17903.494631000845,27858.837360653328,16354.567012838335,16156.494759544439,11678.045274883219,20172.302333865457,20746.523199184205,14913.929188904758,11999.667515509645,27494.745017263358,23631.333463386953,18884.264900865273,15582.369442416324,18377.480611902454,15582.369442416324,16064.927062002007,21912.186522357973,16753.46602934532,"-",24554.695002497963,22966.343202989494]
[null,null,2010,null,19611.027997435351,18264.0108171379,27798.249893602664,16907.951598962834,15837.400198201231,11921.722268392101,20547.811550745093,21334.567588573824,15498.592384056898,12074.182820505139,28079.031102670466,24044.195019291477,19204.42453190808,15878.936430969254,18695.436892694281,15878.936430969254,16333.178222429036,22290.658873462853,17050.027640973163,"-",24942.843542920415,23393.363211880784]
[null,null,2011,null,19754.233351632109,18419.654714475433,28410.720872095408,18206.555792262661,15961.330511372564,11968.633924886504,20819.958398603016,22401.192880859289,15851.940964173586,12053.392062618115,28062.467482058353,25050.760980858337,19610.410333413798,16123.978330218773,19076.432219694332,16123.978330218773,16659.031551455409,22782.385281642517,17354.919169667937,"-",25406.273865151379,23710.28288101744]
[null,null,2012,null,20533.9834097395,18383.758486586252,29344.666074456916,17941.52193599871,16434.810740860565,12640.285814143141,20411.921985049885,23784.946236559139,15607.070751085741,11942.827672585279,28333.579142290611,24912.913121089758,19838.837770300528,16673.876722954828,19352.888160026934,16673.876722954828,16739.015919449859,23163.863195662507,17813.609340917839,"-",26062.548099827756,24346.432749534768]
[null,null,2013,null,20418.5473943373,18889.069881088126,30042.875858509666,18021.236124630512,16830.554500041704,12866.319327407378,21003.339443091369,25407.897442928635,15977.288245229453,12270.297116480178,29283.12440043575,25085.964363863706,20327.901418839065,17050.065662303936,19822.781719431834,17050.065662303936,17016.443350698992,23881.174288747257,18229.962980553406,"-",26762.490263221644,25115.578669702743]
[null,null,2014,null,21733.154379780404,19883.855083112579,31975.867269984916,18730.951386605771,16735.550562628869,13145.664586376311,21638.08203407874,26317.1346782988,16625.056740807988,12545.51353689751,29204.754299655706,25644.808553476585,20997.392754020584,17260.572967803866,20421.713954444647,17260.572967803866,17678.070465879719,24555.244830275678,18847.24504467495,"-",27597.473782680998,26134.33259422296]
[null,null,2015,null,22395.248033392199,19514.163299027176,34326.828193410554,20273.154075970979,17807.194882162341,13627.307244088568,22393.243638490785,28479.211789187582,17138.092669016205,12880.545293123694,29313.032964235714,28570.432782371547,21961.535013473818,17566.485652285744,21283.810350279662,17566.485652285744,18230.525382539978,25951.04970461499,19582.459021861891,"-",28429.352444323838,26853.358034045559]
[null,null,2016,null,22497.170042825364,19137.843336724312,36778.244653226946,20164.953909936929,18959.12482263011,14416.371006243973,22964.333275083911,30619.922393460085,17866.982587612962,13485.499348165245,30238.413722558817,30729.700168405703,22825.92934654107,18248.38560885609,22122.43561884098,18248.38560885609,18561.086384326642,27393.683937136968,20605.39866795926,"-",28845.761923850529,27685.707078911888]
[null,null,2017,null,22639.770712774018,20481.94296712759,34649.171372679288,20247.518257751344,20165.91044502498,14829.693175525375,23519.614549564285,31555.671834516284,17814.581262002368,14252.203582598806,31799.813490829965,31412.525203575664,23348.56845791197,19210.341214130887,22716.004917207425,19210.341214130887,19160.573637710819,27824.039433703696,20774.094217325382,"-",29760.432532358875,28739.535963147344]
[null,null,2018,null,23145.542439919507,21658.951009818386,34389.720081575193,20946.955222843644,19821.741032370952,15366.452410846467,24556.696906585712,33986.48932152897,18861.185983827494,14746.39327501988,33692.152840206225,30502.871063163391,24108.527980433435,19693.214789098616,23436.408106219427,19693.214789098616,19811.979063290728,28686.889109996115,21311.4423570539,"-",30658.74192439656,29507.052790861282]
[null,null,2019,null,24841.721214722609,21812.881502651027,34100.484516536759,21423.271384445481,20682.296938691761,16535.007638707753,26214.089491083483,34012.126280577046,20954.505085040033,15288.997610649676,37216.164012714638,30844.578752670244,25200.276419851041,21089.718851392878,24576.543448389639,21089.718851392878,20792.445175124732,29864.603787301123,22584.773560758418,"-",32219.426851008891,30525.294159408269]
[null,null,2020,null,23715.866119865175,21274.023933276923,31261.897345377773,20579.675202782993,20476.881381915737,16696.843559255594,26109.238653677454,33019.300130777752,21164.267120012752,15020.186501840009,37164.905039039084,29443.65885608696,24596.118168001831,21375.782910787406,24109.265906883764,21375.782910787406,20356.132931114171,29068.159868327079,22308.028871013637,"-",31648.277508969109,29079.592623373082]
[null,null,2021,null,24110.312938650812,23130.797862492098,32665.919071383934,21767.668534264558,19701.926572155578,17916.787515320491,26904.81445638579,34703.65741622042,23039.325178362611,15612.336305080407,38386.860376389173,30575.010808473842,25680.497063131275,21435.997470552298,25041.230484461554,21435.997470552298,21305.619429716662,30283.333441666069,23234.927716777242,"-",33049.446154829224,31275.579684169137]
[null,null,2022,null,26074.773246810706,25445.890193589337,33723.27890927453,24695.036306215046,22433.484220361584,20155.183696363467,28764.936706054494,37553.878420557201,21730.835149625855,17471.159792165698,39862.039039061507,34560.623297824663,27858.442420648797,23752.927110526278,27022.863244332166,23752.927110526278,22957.002026518727,32482.082024367675,24487.604639343939,"-",35844.774635113441,33976.350600855614]
[null,"GVA by Industry",null,null,2022,2022,2022,2022,2022,2022,2022,2022,2022,2022,2022,2022,2022,2022,2022,2022,2022,2022,2022,2022,2022,2022,null,null,null,null,null,null,"National = England"]
[null,null,"Agriculture, forestry & fishing",null,"-","-","-","-","-","-","-","-","-","-","-","-","-","-","-","-","-","-","-","-","-","-",null,null,null,null,null,null,"ONS Estimates"]
[null,null,"Production other than manufacturing",null,107,55,164,53,264,20,159,84,148,125,282,56,1517,489,2006,489,752,765,821,null,11344,55443]
[null,null,"Manufacturing",null,394,104,298,175,166,226,276,165,674,231,350,140,3199,644,3843,644,1744,1455,1842,null,26079,176148]
[null,null,"Construction",null,235,200,697,119,143,176,469,547,242,149,608,165,3750,560,4310,560,1088,2662,1675,null,23182,120684]
[null,null,"Distribution; transport; accommodation & food",null,609,518,938,915,366,348,772,419,592,351,902,663,7393,814,8207,814,3351,4042,2692,null,61621,335005]
[null,null,"Information & communication",null,77,205,161,31,73,24,157,200,34,35,190,157,1344,140,1484,140,455,889,359,null,29131,136202]
[null,null,"Financial & insurance activities",null,27,61,38,14,56,22,147,392,19,31,655,466,1928,183,2111,183,208,1720,262,null,18538,180704]
[null,null,"Real estate activities",null,473,629,549,391,419,355,792,905,537,467,743,629,6889,902,7791,902,2916,3973,2343,null,47198,248169]
[null,null,"Professional",null,377,310,279,352,169,173,429,587,225,113,489,488,3991,408,4399,408,1546,2445,1085,null,47403,270617]
[null,null,"Public services",null,709,1089,524,452,449,414,1102,447,476,578,564,528,7332,1513,8845,1513,3753,3579,2927,null,59785,353395]
[null,null,"Other services",null,104,149,44,54,54,68,146,110,115,63,80,110,1097,250,1347,250,539,558,477,null,11939,63898]
[null,"NINos",2009,null,555,1376,627,699,544,991,1454,409,1434,1246,789,823,10954,2139,13093,2139,5854,5093,5191,23631,65774,609891,null,2139,2162,3865,2009,2021]
["Economy",null,2010,null,720,1720,710,724,768,1251,1778,438,1391,1450,746,800,12504,2166,14670,2166,6773,5723,5518,25448,73728,665040,null,2166,2729,4662,2498,1984]
[null,null,2011,null,793,1707,790,671,609,1208,1987,422,1313,1030,588,751,11872,1866,13738,1866,6123,5746,5177,24437,74045,668693,null,1866,2607,4017,2780,1761]
[null,null,2012,null,625,1531,555,457,436,825,1490,383,978,943,558,708,9499,1546,11045,1546,4970,4519,3904,19571,58672,516259,null,1546,1816,3367,2115,1649]
[null,null,2013,null,742,1550,708,544,387,885,1789,418,1203,1015,494,779,10523,1633,12156,1633,5441,5073,4429,22575,71914,613898,null,1633,1980,3496,2531,1691]
[null,null,2014,null,873,2126,911,541,491,1181,2657,597,1401,1051,665,1094,13586,2395,15981,2395,6483,7105,5888,30085,88156,764190,null,2395,2583,4209,3530,2356]
[null,null,2015,null,884,2212,945,544,522,1437,2982,623,1766,1061,683,1069,14724,2710,17434,2710,6989,7739,6858,33641,98748,825156,null,2710,2904,4339,3866,2375]
[null,null,2016,null,962,2318,1004,512,522,1419,2738,704,1712,1039,712,992,14636,2912,17548,2912,7065,7569,7047,34256,102680,821696,null,2912,2945,4391,3700,2408]
[null,null,2017,null,839,1891,744,404,410,1152,2477,549,1830,871,552,809,12528,2243,14771,2243,6245,6283,5969,28096,84303,679715,null,2243,2306,3576,3316,1910]
[null,null,2018,null,747,1704,660,377,334,931,2360,426,1728,783,495,659,11209,2053,13262,2053,5673,5531,5372,25128,79094,567268,null,2053,1925,3198,3107,1580,"England"]
[null,null,2019,null,912,2150,1015,393,357,1174,3045,410,1403,745,778,821,13161,2399,15560,2399,5960,7243,5991,"-",90336,681535]
[null,null,2020,null,407,706,436,96,149,449,614,172,258,256,179,276,4007,984,4991,984,1872,2126,2127,"-",34297,290390]
[null,null,2021,null,913,1384,1057,329,345,945,1749,329,503,522,368,635,9082,2125,11207,2125,3996,5083,4630,"-",67753,530762]
[null,null,2022,null,1390,3496,1707,786,596,1602,3612,766,1217,996,895,1111,18174,4345,22519,4345,8481,9693,8871,"-",120163,907797]
[null,null,2023,null,1446,2912,2104,729,702,2135,3291,557,1374,804,739,1038,17825,4335,22160,4335,7967,9864,9948,"-",112657,895009]
[null,"% of area NINos by world are of origin","Year",null,2023,2023,2023,2023,2023,2023,2023,2023,2023,2023,2023,2023,2023,2023,2023,2023,2023,2023,2023,2023,2023,2023,null,2023,2023,2023,2023,2023]
["Economy",null,"EU Accession states",null,1.2448132780082987E-2,3.1593406593406592E-2,2.8041825095057035E-2,3.5665294924554183E-2,2.8490028490028491E-2,6.7447306791569087E-2,8.5384381646915836E-2,2.6929982046678635E-2,0.10189228529839883,4.6019900497512436E-2,3.1123139377537211E-2,5.2023121387283239E-2,5.1388499298737726E-2,4.0138408304498267E-2,4.9187725631768951E-2,4.0138408304498267E-2,4.1797414334128279E-2,5.8394160583941604E-2,5.1970245275432245E-2,"-",3.4423071802018514E-2,3.8013025567340666E-2,null,4.0138408304498267E-2,0.12397916037665462,0.1417686305055017,9.7832514426998821E-2,0.11007624281149908,"DWP"]
[null,null,"European Union",null,6.2240663900414939E-2,0.12980769230769232,7.2718631178707221E-2,8.2304526748971193E-2,6.8376068376068383E-2,0.11147540983606558,0.1027043451838347,0.14183123877917414,0.12445414847161572,9.2039800995024873E-2,0.10690121786197564,0.10308285163776493,0.10210378681626929,7.0818915801614757E-2,9.5983754512635383E-2,7.0818915801614757E-2,0.1030500815865445,0.10077047850770479,8.7354242058705261E-2,"-",0.11518148006781646,0.12926238730560252,null,7.0818915801614757E-2,0.25257010939084118,0.37252808842775675,0.16494500908424964,0.35181530827891472,"National Insurance Number Registrations for Overseas Nationals"]
[null,null,"Other European",null,4.1493775933609957E-2,7.0054945054945056E-2,4.0399239543726234E-2,0.17832647462277093,8.2621082621082614E-2,2.8571428571428571E-2,0.22546338498936494,0.20646319569120286,0.12518195050946143,0.14054726368159204,9.0663058186738837E-2,6.6473988439306353E-2,0.10546984572230014,5.5132641291810842E-2,9.5622743682310468E-2,5.5132641291810842E-2,9.2506589682440063E-2,0.11547039740470397,5.5991154000804184E-2,"-",7.1367069955706255E-2,5.9069797063493218E-2,null,5.5132641291810842E-2,0.15159175073623743,0.47154976598039061,0.26695716092297489,0.36360024231724802]
[null,null,"Asia",null,0.56431535269709543,0.59065934065934067,0.37785171102661597,0.57338820301783266,0.63960113960113962,0.55878220140515222,0.48830142813734428,0.38240574506283664,0.38573508005822416,0.48134328358208955,0.57780784844384303,0.46917148362235067,0.50754558204768585,0.38385236447520182,0.48334837545126352,0.38385236447520182,0.54223672649679933,0.47871046228710462,0.42038600723763569,"-",0.51652360705504319,0.55188718772660383,null,0.38385236447520182,1.5762350520329078,2.2849919668604026,1.0526167808344398,1.4293850771290304]
[null,null,"Africa",null,0.28838174273858919,0.19951923076923078,0.50285171102661597,0.16460905349794239,0.18803418803418803,0.30070257611241219,0.14433302947432392,0.21723518850987433,0.31441048034934499,0.25497512437810943,0.20703653585926929,0.23025048169556839,0.25649368863955119,0.47450980392156861,0.29914259927797832,0.47450980392156861,0.23685201456006025,0.27250608272506083,0.42108966626457578,"-",0.25575863017832889,0.23420881801188592,null,0.47450980392156861,0.99158847517321624,0.8071375966794706,0.4327147722129131,0.65452220606471201]
[null,null,"The Americas",null,3.1120331950207469E-2,3.1593406593406592E-2,1.5684410646387831E-2,2.3319615912208505E-2,2.7065527065527065E-2,1.5456674473067917E-2,2.0358553631115162E-2,4.1292639138240578E-2,4.9490538573508006E-2,4.3532338308457715E-2,3.3829499323410013E-2,2.9865125240847785E-2,2.7152875175315568E-2,2.2606689734717418E-2,2.6263537906137183E-2,2.2606689734717418E-2,3.4642901970628845E-2,2.1492295214922953E-2,2.3321270607157218E-2,"-",4.0956176713386652E-2,3.4968363446624559E-2,null,2.2606689734717418E-2,5.8206612184982812E-2,0.12551088787959988,5.1478885581322631E-2,0.10498726370249836]
[null,null,"Oceania",null,1.8672199170124481E-2,5.4945054945054949E-3,2.3764258555133079E-3,9.6021947873799734E-3,7.1225071225071226E-3,3.2786885245901639E-3,3.6463081130355514E-3,2.5134649910233394E-2,6.5502183406113534E-3,8.7064676616915426E-3,1.0825439783491205E-2,3.4682080924855488E-2,8.190743338008415E-3,3.2295271049596311E-3,7.2202166064981952E-3,3.2295271049596311E-3,8.9117610141835075E-3,8.3130575831305755E-3,3.5182951347004425E-3,"-",1.500128709267955E-2,1.7520494207320821E-2,null,3.2295271049596311E-3,1.2777621502610595E-2,3.0925675066084131E-2,2.2318507283160031E-2,7.064217061858008E-2]
["Economy","Survival Rates","Year",null,2023,2023,2023,2023,2023,2023,2023,2023,2023,2023,2023,2023,2023,2023,2023,2023,2023,2023,2023,2023,2023,2023,null,2023,2023,2023,2023,2023,"BUSINESS DEMOGRAPHY "]
[null,null,"1 year survival","Number",615,610,585,355,410,535,825,550,535,535,615,525,6695,1195,7890,1195,3060,3635,2850,null,41235,306220,null,null,null,null,null,null,"Great Britain"]
[null,null,null,"Rate",94.615384615384613,93.84615384615384,89.312977099236647,91.025641025641022,94.252873563218387,93.043478260869563,92.696629213483149,94.01709401709401,94.690265486725664,93.859649122807014,95.348837209302332,94.594594594594597,93.440334961618973,92.996108949416339,93.372781065088759,92.996108949416339,93.865030674846622,93.085787451984629,92.532467532467535,null,93.376358695652172,92.362912469083668]
[null,null,"3 year survival","Number",385,370,340,230,255,320,570,390,300,330,390,395,4275,670,4945,670,1870,2405,1630,null,25615,173120]
[null,null,null,"Rate",55.000000000000007,62.184873949579831,45.63758389261745,48.421052631578945,59.302325581395351,54.700854700854705,50.892857142857139,59.090909090909093,54.54545454545454,58.928571428571431,52,61.71875,54.737516005121634,45.423728813559322,53.257942918686055,45.423728813559322,56.495468277945612,53.44444444444445,48.584202682563337,null,53.717101813987625,52.885290972964718]
[null,null,"5 year survival","Number",305,265,290,185,255,415,345,185,260,215,300,295,3315,525,3840,525,1485,1830,1490,null,20495,134790]
[null,null,null,"Rate",40.939597315436245,44.166666666666664,43.283582089552233,47.435897435897431,57.303370786516851,72.173913043478265,39.884393063583815,24.503311258278146,45.217391304347828,41.747572815533978,44.117647058823529,42.446043165467628,44.141145139813581,41.832669322709165,43.810610382201943,41.832669322709165,45.412844036697244,43.160377358490564,48.455284552845526,null,41.37060960839726,39.287640089190724]
[null,null,"Births",2018,745,600,670,390,445,575,865,755,575,515,680,695,7510,1255,8765,1255,3270,4240,3075,null,49540,343085]
[null,null,"Births",2019,785,645,880,425,400,640,985,705,585,605,705,615,7975,1455,9430,1455,3445,4530,3560,null,51560,357780]
[null,null,"Births",2020,700,595,745,475,430,585,1120,660,550,560,750,640,7810,1475,9285,1475,3310,4500,3355,null,47685,327350]
[null,null,"Births",2021,715,670,650,430,450,590,1265,705,620,660,750,665,8170,1425,9595,1425,3545,4625,3285,null,48375,357340]
[null,null,"Births",2022,650,650,655,390,435,575,890,585,565,570,645,555,7165,1285,8450,1285,3260,3905,3080,null,44160,331540]
[null,null,"Births",2023,675,615,630,440,425,535,875,640,560,605,650,590,7240,1240,8480,1240,3320,3920,2965,null,42955,310655]
[null,null,"Deaths",2018,510,510,505,335,385,510,730,595,475,440,555,630,6180,1120,7300,1120,2655,3525,2610,null,40585,292470]
[null,null,"Deaths",2019,675,535,535,350,385,520,770,695,505,515,595,630,6710,1060,7770,1060,2965,3745,2620,null,44030,298705]
[null,null,"Deaths",2020,660,555,760,320,370,515,725,710,505,445,620,605,6790,1060,7850,1060,2855,3935,2840,null,44150,295015]
[null,null,"Deaths",2021,825,540,710,385,410,535,910,685,540,445,775,615,7375,1640,9015,1640,3145,4230,3425,null,48715,323480]
[null,null,"Deaths",2022,695,620,745,450,495,595,960,645,580,540,630,650,7605,1310,8915,1310,3380,4225,3230,null,49495,343525]
[null,null,"Deaths",2023,605,610,580,385,425,505,1115,610,490,550,685,595,7155,1150,8305,1150,3065,4090,2725,null,42345,304180]
[null,null,"Active",2018,6255,5665,4920,3560,3900,4375,7810,7075,5160,4275,6245,6840,66080,9535,75615,9535,28815,37265,23990,null,438190,2780945]
[null,null,"Active",2019,6505,5780,5325,3660,3900,4535,8045,7195,5265,4490,6420,6620,67740,9810,77550,9810,29600,38140,24935,null,447655,2827385]
[null,null,"Active",2020,6550,5820,5545,3785,3930,4590,8360,7095,5320,4535,6580,6610,68720,10265,78985,10265,29940,38780,25720,null,450380,2834790]
[null,null,"Active",2021,6605,5955,5355,3875,4040,4635,8885,7110,5460,4760,6725,6635,70040,10560,80600,10560,30695,39345,26010,null,449130,2875005]
[null,null,"Active",2022,6365,6045,5275,3880,4070,4635,8830,6980,5470,4900,6545,6505,69500,10130,79630,10130,30730,38770,25510,null,442295,2859940]
[null,null,"Active",2023,6320,6040,5150,3865,3960,4525,8730,6910,5430,4970,6565,6445,68910,10000,78910,10000,30585,38325,25105,null,432615,2805590]
[null,"NEETs - Yr 12 & 13",null,null,"2024-12-01","2024-12-01","2024-12-01","2024-12-01","2024-12-01","2024-12-01","2024-12-01","2024-12-01","2024-12-01","2024-12-01","2024-12-01","2024-12-01","2024-12-01","2024-12-01","2024-12-01","2024-12-01","2024-12-01","2024-12-01","2024-12-01","2024-12-01","2024-12-01","2024-12-01",null,"2024-12-01","2024-12-01","2024-12-01","2024-12-01","2024-12-01"]
[null,null,"Total","No",96,151,84,134,68,110,177,81,182,162,96,66,1407,"n.a.","n.a.","n.a.","n.a.","n.a.","n.a.","n.a.","n.a.","n.a.",null,"n.a.",262,515,273,243]
[null,null,null,"%",2.7397260273972601E-2,4.3882592269689047E-2,2.5601950624809508E-2,5.001866368047779E-2,2.7519222986645085E-2,3.7112010796221326E-2,4.1029207232267037E-2,3.1262060980316482E-2,4.7806671920147099E-2,4.6298942555015717E-2,2.9357798165137616E-2,2.2426095820591234E-2,3.629656382210298E-2,"n.a.","n.a.","n.a.","n.a.","n.a.","n.a.","n.a.","n.a.","n.a.",null,"n.a.",9.0233184407675915E-2,0.16771942149182764,6.8426467506239638E-2,8.3045954966045332E-2]
[null,null,null,null,2023,2023,2023,2023,2023,2023,2023,2023,2023,2023,2023,2023,2023,2023,2023,2023,2023,2023,2023,2023,2023,2023]
[null,"BRES - Employee jobs","Full time","No",41500,42500,46000,26000,24000,21000,54000,32500,37500,27000,46500,35000,434000,62000,496000,62000,198500,235500,166500,1108000,2935000,19016000,"England"]
[null,null,"Part time","No",20500,27500,23000,11500,12000,12500,23500,17000,16000,15500,19000,17500,216500,34000,250500,34000,103500,113000,86000,573000,1390500,8480000]
[null,null,"Total","No",62000,70000,69000,37500,36500,33500,77500,50000,53500,42500,65500,53000,650000,96500,746500,96500,301500,348500,252500,1681500,4325500,27496500]
[null,null,"Full time","%",0.66935483870967738,0.6071428571428571,0.66666666666666663,0.69333333333333336,0.65753424657534243,0.62686567164179108,0.6967741935483871,0.65,0.7009345794392523,0.63529411764705879,0.70992366412213737,0.660377358490566,0.6676923076923077,0.6424870466321243,0.66443402545210983,0.6424870466321243,0.65837479270315091,0.67575322812051652,0.65940594059405944,0.65893547427891763,0.67853427349439366,0.69157892822722888]
[null,null,"Part time","%",0.33064516129032256,0.39285714285714285,0.33333333333333331,0.30666666666666664,0.32876712328767121,0.37313432835820898,0.3032258064516129,0.34,0.29906542056074764,0.36470588235294116,0.29007633587786258,0.330188679245283,0.3330769230769231,0.35233160621761656,0.33556597454789017,0.35233160621761656,0.34328358208955223,0.32424677187948348,0.34059405940594062,0.34076717216770741,0.32146572650560629,0.30840288764024515]
[null,null,"Total","%",1,1,1,1,1,1,1,1,1,1,1,1,1,1,1,1,1,1,1,1,1,1]
[null,"Employee jobs - Industry","A : Agriculture, forestry and fishing","No",1100,700,100,500,200,100,1900,400,3000,200,1500,600,10000,300,10500,300,5500,4500,3500,16500,29500,142500]
[null,null,"B : Mining and quarrying","No",0,0,0,0,0,0,0,0,100,0,100,0,200,100,300,100,100,100,200,900,2000,19500]
[null,null,"C : Manufacturing","No",4800,2000,3000,2800,2000,2500,4300,3000,6000,2500,3500,2000,38500,7500,46000,7500,20500,18500,19000,104500,261500,2035500]
[null,null,"D : Electricity, gas, steam and air conditioning supply","No",400,100,0,0,500,0,400,100,100,200,0,100,2000,600,2500,600,1400,700,800,3800,14500,92500]
[null,null,"E : Water supply; sewerage, waste management and remediation activities","No",600,300,800,400,400,100,500,100,900,300,1500,300,6000,1000,7000,1000,2800,3300,2800,14500,34000,192000]
[null,null,"F : Construction","No",3800,2500,7000,2100,1900,2400,5500,6500,3300,2500,5000,1900,44000,6500,51000,6500,16000,28000,19000,118000,208500,1298500]
[null,null,"G : Wholesale and retail trade; repair of motor vehicles and motorcycles","No",12000,11000,12000,4300,5000,4800,12000,7500,8500,7000,11500,9500,105000,13000,118000,13000,48000,57000,38500,269500,647500,3773500]
[null,null,"H : Transportation and storage","No",2400,1300,9000,4000,2300,2400,3000,1100,4000,1600,5500,1000,37500,6000,43000,6000,15500,22000,21000,107500,199000,1400500]
[null,null,"I : Accommodation and food service activities","No",4000,7500,4800,3800,4300,4000,6000,3800,4300,5000,4300,5000,56500,7000,63500,7000,29000,28000,20000,144500,371500,2156000]
[null,null,"J : Information and communication","No",1400,2000,1900,700,500,400,2400,1500,800,900,2100,1800,16500,2300,18500,2300,6000,10000,5500,42500,239000,1309500]
[null,null,"K : Financial and insurance activities","No",700,1100,600,300,1600,300,1800,1400,200,600,2400,3800,14500,3000,17500,3000,4500,10000,4000,39000,114500,947500]
[null,null,"L : Real estate activities","No",700,900,1000,400,500,600,1300,1500,1000,600,1100,1000,10500,1500,12000,1500,4000,6500,4000,32500,72500,535500]
[null,null,"M : Professional, scientific and technical activities","No",3000,3500,2800,3000,1500,1300,4800,4500,3500,1500,4300,4800,38500,4000,42500,4000,16000,22000,11500,106000,387000,2644000]
[null,null,"N : Administrative and support service activities","No",6000,4800,8500,2300,2300,4800,6000,4800,4000,2300,7000,3800,55500,8500,64500,8500,21000,34500,26000,138500,344500,2442500]
[null,null,"O : Public administration and defence; compulsory social security","No",1800,2400,600,2500,3500,2000,6500,700,2100,2000,3000,500,27500,4000,31500,4000,14500,13500,8500,69500,150500,1199000]
[null,null,"P : Education","No",5000,13500,4000,3300,2800,3800,5500,4300,4300,4500,5000,4500,60500,10500,71500,10500,33500,27000,23000,150500,422000,2350500]
[null,null,"Q : Human health and social work activities","No",12500,12500,11500,5500,4800,2800,13000,6000,5000,8500,5000,9000,96000,16000,112000,16000,49000,47000,35500,245000,603000,3713000]
[null,null,"R : Arts, entertainment and recreation","No",1100,2000,1000,1300,1500,900,2100,2000,1100,1400,1800,900,17000,2800,20000,2800,8500,8500,6000,44000,131000,702000]
[null,null,"S : Other service activities","No",1000,2100,600,500,800,800,1300,1300,900,800,1000,2300,13000,1800,15000,1800,6000,7000,4000,35000,94000,542500]
[null,null,"T : Activities of households as employers;undifferentiated goods-and services-producing activities of households for own use","No",0,0,0,0,0,0,0,0,0,0,0,0,0,0,0,0,0,0,0,0,0,0]
[null,null,"U : Activities of extraterritorial organisations and bodies","No",0,0,0,0,0,0,0,0,0,0,0,0,0,0,0,0,0,0,0,0,0,0]
[null,null,"* A : Agriculture, forestry and fishing","%",1.8145161290322582E-2,9.285714285714286E-3,1.1594202898550724E-3,1.3333333333333334E-2,5.7534246575342467E-3,2.9850746268656717E-3,2.4193548387096774E-2,8.0000000000000002E-3,5.6074766355140186E-2,4.0000000000000001E-3,2.2900763358778626E-2,1.1320754716981131E-2,1.5384615384615385E-2,2.849740932642487E-3,1.406563965170797E-2,2.849740932642487E-3,1.824212271973466E-2,1.2912482065997131E-2,1.3861386138613862E-2,9.8126672613737739E-3,6.8200208068431396E-3,5.1824777698979869E-3]
[null,null,"B : Mining and quarrying","%",2.4193548387096774E-4,7.1428571428571434E-5,1.4492753623188405E-4,1.3333333333333334E-4,1.36986301369863E-4,4.4776119402985075E-4,0,4.0000000000000002E-4,9.3457943925233649E-4,0,7.6335877862595419E-4,9.4339622641509429E-5,3.076923076923077E-4,7.7720207253886007E-4,3.6838580040187541E-4,7.7720207253886007E-4,2.9850746268656717E-4,3.1563845050215211E-4,6.3366336633663368E-4,5.0550104073743686E-4,4.623742919893654E-4,7.0918116851235611E-4]
[null,null,"C : Manufacturing","%",7.6612903225806453E-2,2.8571428571428571E-2,4.3478260869565216E-2,7.3333333333333334E-2,5.4794520547945202E-2,7.4626865671641784E-2,5.4838709677419356E-2,0.06,0.11214953271028037,5.8823529411764705E-2,5.3435114503816793E-2,3.7735849056603772E-2,5.9230769230769233E-2,7.7720207253886009E-2,6.1620897521768254E-2,7.7720207253886009E-2,6.7993366500829183E-2,5.308464849354376E-2,7.5247524752475245E-2,6.2146892655367235E-2,6.0455438677609524E-2,7.4027603513174403E-2]
[null,null,"D : Electricity, gas, steam and air conditioning supply","%",6.8548387096774195E-3,1.4285714285714286E-3,5.7971014492753622E-4,1.0666666666666667E-3,1.3698630136986301E-2,1.044776119402985E-3,5.1612903225806452E-3,1.4E-3,2.2429906542056075E-3,3.7647058823529413E-3,2.2900763358778625E-4,1.5094339622641509E-3,3.0769230769230769E-3,6.2176165803108805E-3,3.3489618218352311E-3,6.2176165803108805E-3,4.5605306799336651E-3,1.8651362984218078E-3,3.1683168316831685E-3,2.2301516503122213E-3,3.3522136169228992E-3,3.3640645173022019E-3]
[null,null,"E : Water supply; sewerage, waste management and remediation activities","%",8.870967741935484E-3,4.2857142857142859E-3,1.1594202898550725E-2,0.01,9.5890410958904115E-3,2.3880597014925373E-3,6.1290322580645163E-3,2E-3,1.5887850467289719E-2,6.4705882352941177E-3,2.2900763358778626E-2,4.7169811320754715E-3,9.2307692307692316E-3,1.0362694300518135E-2,9.3770931011386473E-3,1.0362694300518135E-2,9.1210613598673301E-3,9.3256814921090381E-3,1.089108910891089E-2,8.6232530478739227E-3,7.8603629638192112E-3,6.9827068899678138E-3]
[null,null,"F : Construction","%",6.0483870967741937E-2,3.5714285714285712E-2,0.10144927536231885,5.6666666666666664E-2,5.1369863013698627E-2,7.0895522388059698E-2,7.0967741935483872E-2,0.13,6.0747663551401869E-2,5.8823529411764705E-2,7.6335877862595422E-2,3.5377358490566037E-2,6.7692307692307691E-2,6.7357512953367879E-2,6.831882116543872E-2,6.7357512953367879E-2,5.306799336650083E-2,8.0344332855093251E-2,7.5247524752475245E-2,7.0175438596491224E-2,4.8202519939891345E-2,4.7224192169912534E-2]
[null,null,"G : Wholesale and retail trade; repair of motor vehicles and motorcycles","%",0.19354838709677419,0.15714285714285714,0.17391304347826086,0.11333333333333333,0.13698630136986301,0.1417910447761194,0.15483870967741936,0.15,0.15887850467289719,0.16470588235294117,0.17557251908396945,0.17924528301886791,0.16153846153846155,0.13471502590673576,0.15807099799062291,0.13471502590673576,0.15920398009950248,0.16355810616929697,0.15247524752475247,0.16027356526910497,0.14969367703155703,0.13723564817340389]
[null,null,"H : Transportation and storage","%",3.8306451612903226E-2,1.7857142857142856E-2,0.13043478260869565,0.10666666666666667,6.1643835616438353E-2,7.0895522388059698E-2,3.870967741935484E-2,2.2499999999999999E-2,7.476635514018691E-2,3.8235294117647062E-2,8.3969465648854963E-2,1.7924528301886792E-2,5.7692307692307696E-2,6.2176165803108807E-2,5.7602143335565972E-2,6.2176165803108807E-2,5.140961857379768E-2,6.3127690100430414E-2,8.3168316831683173E-2,6.3931013975617013E-2,4.6006242052941855E-2,5.0933755205207938E-2]
[null,null,"I : Accommodation and food service activities","%",6.4516129032258063E-2,0.10714285714285714,6.8840579710144928E-2,0.1,0.11643835616438356,0.11940298507462686,7.7419354838709681E-2,7.4999999999999997E-2,7.9439252336448593E-2,0.11764705882352941,6.4885496183206104E-2,9.4339622641509441E-2,8.6923076923076922E-2,7.2538860103626937E-2,8.5063630274614874E-2,7.2538860103626937E-2,9.6185737976782759E-2,8.0344332855093251E-2,7.9207920792079209E-2,8.5935176925364259E-2,8.5886024737024627E-2,7.8409979451930248E-2]
[null,null,"J : Information and communication","%",2.2177419354838711E-2,2.8571428571428571E-2,2.717391304347826E-2,1.7333333333333333E-2,1.2328767123287671E-2,1.2686567164179104E-2,3.0645161290322579E-2,0.03,1.4018691588785047E-2,2.1176470588235293E-2,3.2442748091603052E-2,3.3018867924528301E-2,2.5384615384615384E-2,2.3316062176165803E-2,2.4782317481580711E-2,2.3316062176165803E-2,1.9900497512437811E-2,2.8694404591104734E-2,2.1782178217821781E-2,2.5275052036871842E-2,5.5253727892729164E-2,4.762424308548361E-2]
[null,null,"K : Financial and insurance activities","%",1.0483870967741936E-2,1.607142857142857E-2,7.9710144927536229E-3,8.0000000000000002E-3,4.4520547945205477E-2,8.2089552238805968E-3,2.2580645161290321E-2,2.75E-2,4.299065420560748E-3,1.411764705882353E-2,3.6259541984732822E-2,7.0754716981132074E-2,2.2307692307692306E-2,3.1088082901554404E-2,2.3442732752846619E-2,3.1088082901554404E-2,1.4925373134328358E-2,2.8694404591104734E-2,1.5841584158415842E-2,2.31935771632471E-2,2.647092821639117E-2,3.4458931136690123E-2]
[null,null,"L : Real estate activities","%",1.0483870967741936E-2,1.2857142857142857E-2,1.4492753623188406E-2,0.01,1.2328767123287671E-2,1.6417910447761194E-2,1.6129032258064516E-2,0.03,1.8691588785046728E-2,1.2941176470588235E-2,1.717557251908397E-2,1.8867924528301886E-2,1.6153846153846154E-2,1.5544041450777202E-2,1.6075016744809108E-2,1.5544041450777202E-2,1.3266998341625208E-2,1.8651362984218076E-2,1.5841584158415842E-2,1.9327980969372584E-2,1.6761068084614496E-2,1.9475205935300857E-2]
[null,null,"M : Professional, scientific and technical activities","%",4.8387096774193547E-2,0.05,3.9855072463768113E-2,0.08,4.1095890410958902E-2,3.7313432835820892E-2,6.1290322580645158E-2,0.09,6.5420560747663545E-2,3.5294117647058823E-2,6.4885496183206104E-2,8.9622641509433956E-2,5.9230769230769233E-2,4.145077720207254E-2,5.6932350971198926E-2,4.145077720207254E-2,5.306799336650083E-2,6.3127690100430414E-2,4.5544554455445543E-2,6.3038953315492113E-2,8.9469425499942204E-2,9.6157692797265104E-2]
[null,null,"N : Administrative and support service activities","%",9.6774193548387094E-2,6.7857142857142852E-2,0.12318840579710146,0.06,6.1643835616438353E-2,0.1417910447761194,7.7419354838709681E-2,9.5000000000000001E-2,7.476635514018691E-2,5.2941176470588235E-2,0.10687022900763359,7.0754716981132074E-2,8.5384615384615378E-2,8.8082901554404139E-2,8.6403215003348965E-2,8.8082901554404139E-2,6.965174129353234E-2,9.8995695839311337E-2,0.10297029702970296,8.2366934284864704E-2,7.9643971795168189E-2,8.8829487389304088E-2]
[null,null,"O : Public administration and defence; compulsory social security","%",2.8225806451612902E-2,3.3928571428571426E-2,7.9710144927536229E-3,6.6666666666666666E-2,9.5890410958904104E-2,5.9701492537313432E-2,8.387096774193549E-2,1.2999999999999999E-2,3.9719626168224297E-2,4.7058823529411764E-2,4.5801526717557252E-2,8.962264150943396E-3,4.230769230769231E-2,4.145077720207254E-2,4.219691895512391E-2,4.145077720207254E-2,4.809286898839138E-2,3.8737446197991389E-2,3.3663366336633666E-2,4.1332143919119831E-2,3.4793665472199746E-2,4.3605549797246922E-2]
[null,null,"P : Education","%",8.0645161290322578E-2,0.19285714285714287,5.7971014492753624E-2,8.666666666666667E-2,7.5342465753424653E-2,0.11194029850746269,7.0967741935483872E-2,8.5000000000000006E-2,7.9439252336448593E-2,0.10588235294117647,7.6335877862595422E-2,8.4905660377358486E-2,9.3076923076923071E-2,0.10880829015544041,9.5780308104487608E-2,0.10880829015544041,0.1111111111111111,7.7474892395982778E-2,9.1089108910891087E-2,8.9503419565863815E-2,9.7560975609756101E-2,8.5483607004527853E-2]
[null,null,"Q : Human health and social work activities","%",0.20161290322580644,0.17857142857142858,0.16666666666666666,0.14666666666666667,0.13013698630136986,8.2089552238805971E-2,0.16774193548387098,0.12,9.3457943925233641E-2,0.2,7.6335877862595422E-2,0.16981132075471697,0.14769230769230771,0.16580310880829016,0.15003348961821836,0.16580310880829016,0.1625207296849088,0.13486370157819225,0.14059405940594061,0.14570324115373179,0.13940584903479367,0.13503536813776298]
[null,null,"R : Arts, entertainment and recreation","%",1.8145161290322582E-2,2.8571428571428571E-2,1.4492753623188406E-2,3.3333333333333333E-2,4.1095890410958902E-2,2.6865671641791045E-2,2.7419354838709678E-2,0.04,2.1028037383177569E-2,3.2352941176470591E-2,2.6717557251908396E-2,1.6981132075471698E-2,2.6153846153846153E-2,2.8497409326424871E-2,2.6791694574681849E-2,2.8497409326424871E-2,2.8192371475953566E-2,2.4390243902439025E-2,2.3762376237623763E-2,2.616711269699673E-2,3.0285516125303433E-2,2.5530522066444822E-2]
[null,null,"S : Other service activities","%",1.6129032258064516E-2,3.0357142857142857E-2,8.6956521739130436E-3,1.3333333333333334E-2,2.0547945205479451E-2,2.3880597014925373E-2,1.6129032258064516E-2,2.5000000000000001E-2,1.5887850467289719E-2,1.8823529411764704E-2,1.4503816793893129E-2,4.2452830188679243E-2,0.02,1.8134715025906734E-2,2.0093770931011386E-2,1.8134715025906734E-2,1.9900497512437811E-2,2.0086083213773313E-2,1.5841584158415842E-2,2.0814748736247397E-2,2.1731591723500174E-2,1.9729783790664267E-2]
[null,null,"T : Activities of households as employers;undifferentiated goods-and services-producing activities of households for own use","%",0,0,0,0,0,0,0,0,0,0,0,0,0,0,0,0,0,0,0,0,0,0]
[null,null,"U : Activities of extraterritorial organisations and bodies","%",0,0,0,0,0,0,0,0,0,0,0,0,0,0,0,0,0,0,0,0,0,0]
[null,"Additional Industries","Knowledge Economy","No",6500,15000,5500,4800,4500,2300,10500,8500,6000,3500,11000,11500,89500,12000,101500,12000,40500,49000,26000,229500,899500,5917000]
[null,null,"Creative Industries","No",900,1100,500,400,400,200,1200,1000,500,500,1000,1100,8900,1000,9900,1000,3800,5100,2300,24200,104900,676800]
[null,null,"Tourism","No",5500,9000,6000,5500,7000,4800,7500,5500,5500,7000,6000,6000,76000,9500,85000,9500,39500,36000,25500,194000,511500,2980500]
[null,null,"Life Sciences","No",10000,8000,9500,3500,1600,1400,10000,2000,3000,5000,2500,6500,63000,10500,73500,10500,31000,32000,24500,156000,444000,2680000]
[null,null,"Food & Drink Production","No",2000,800,400,1400,300,700,2500,600,4000,400,1900,1100,16000,800,17000,800,9000,7000,6000,28000,55000,499500]
[null,null,"Knowledge Economy","%",0.10483870967741936,0.21428571428571427,7.9710144927536225E-2,0.12666666666666668,0.12328767123287671,6.7164179104477612E-2,0.13548387096774195,0.17,0.11214953271028037,8.2352941176470587E-2,0.16793893129770993,0.21698113207547171,0.1376923076923077,0.12435233160621761,0.13596784996651037,0.12435233160621761,0.13432835820895522,0.14060258249641319,0.10297029702970296,0.13648528099910795,0.20795283782221707,0.21519102431218518]
[null,null,"Creative Industries","%",1.4086451612903228E-2,1.6279071428571431E-2,7.5512318840579703E-3,9.6105333333333307E-3,1.0953835616438354E-2,7.4385074626865683E-3,1.5256193548387099E-2,2.0099499999999999E-2,9.228598130841122E-3,1.2445764705882351E-2,1.5199083969465652E-2,2.1043679245283019E-2,1.3683392307692308E-2,1.0488756476683937E-2,1.3240703281982588E-2,1.0488756476683937E-2,1.2589651741293532E-2,1.4543500717360115E-2,9.0143366336633661E-3,1.4407219744275945E-2,2.4242168535429431E-2,2.4612477951739313E-2]
[null,null,"Tourism","%",8.8709677419354843E-2,0.12857142857142856,8.6956521739130432E-2,0.14666666666666667,0.19178082191780821,0.1417910447761194,9.6774193548387094E-2,0.11,0.10280373831775701,0.16470588235294117,9.1603053435114504E-2,0.11320754716981132,0.11692307692307692,9.8445595854922283E-2,0.11386470194239785,9.8445595854922283E-2,0.13101160862354891,0.10329985652797705,0.100990099009901,0.11537317870948557,0.1182522251762802,0.10839561398723474]
[null,null,"Life Sciences","%",0.16129032258064516,0.11428571428571428,0.13768115942028986,9.3333333333333338E-2,4.4520547945205477E-2,4.1044776119402986E-2,0.12903225806451613,0.04,5.6074766355140186E-2,0.11764705882352941,3.8167938931297711E-2,0.12264150943396226,9.6923076923076917E-2,0.10880829015544041,9.8459477561955791E-2,0.10880829015544041,0.10281923714759536,9.1822094691535155E-2,9.7029702970297033E-2,9.2774308652988399E-2,0.10264709282163911,9.7466950339134065E-2]
[null,null,"Food & Drink Production","%",3.2258064516129031E-2,1.1428571428571429E-2,5.0724637681159417E-3,3.6666666666666667E-2,8.21917808219178E-3,1.9402985074626865E-2,3.2258064516129031E-2,1.2E-2,7.476635514018691E-2,9.4117647058823521E-3,2.8625954198473282E-2,2.1226415094339621E-2,2.4615384615384615E-2,7.7720207253886009E-3,2.277294038847957E-2,7.7720207253886009E-3,2.9850746268656716E-2,2.0086083213773313E-2,2.3762376237623763E-2,1.6651798988997917E-2,1.2715293029707548E-2,1.8165948393431892E-2]
[null,"Job Density",2022,null,0.9,0.89,0.96,0.66,0.82,0.56999999999999995,0.82,0.93,0.7,0.69,0.96,0.93,0.82,0.65,0.79,"-","-","-","-",0.78,0.87,0.87,null,null,null,null,null,null,"England & Wales"]
["Mosaic",null,"Year",null,2022,2022,2022,2022,2022,2022,2022,2022,2022,2022,2022,2022,2022,2022,2022,2022,2022,2022,2022,2022,2022,2022,null,2022,2022,2022,2022,2022,"Experian/KCC Research & Evaluation"]
[null,null,"A - City Prosperity",null,1.390893127249335E-4,1.1999423797176606E-2,3.1747995134722823E-3,1.1274582285967765E-3,2.1065772021533901E-3,1.2889220541347263E-3,1.4965579167913799E-3,1.3238289205702648E-2,7.8003120124804992E-5,1.1571155186992834E-3,1.2465053332621045E-3,3.8973162193698951E-2,6.0345101253365735E-3,"-","-","-","-","-","-","-","-","-"]
[null,null,"B - Prestige Positions",null,6.4641758088912843E-2,8.3491789109766637E-2,7.1556682540664232E-2,4.153112524027798E-2,6.5654989467113983E-2,6.6594306130294184E-2,0.10209127701937717,0.24022979671828767,4.0608424336973481E-2,4.9622453974988504E-2,0.17443951778050823,0.14286269933877868,9.3765782509444257E-2,"-","-","-","-","-","-","-","-","-"]
[null,null,"C- Country Living",null,0.19698523914668706,5.8009219245174298E-2,2.9686437009091471E-3,0.11653482182463404,9.5439650464227199E-2,3.2833593379010921E-2,0.10978228335697461,0.13163355493217538,7.2995319812792517E-2,1.400406473912979E-2,6.8967359367487574E-2,0.13942045896538313,8.6726963668843637E-2,"-","-","-","-","-","-","-","-","-",null,"-",0.13124188754414728,0.28398775627316536,0.30676752250366168,0.34002137326504611]
[null,null,"D - Rural Reality",null,8.9869082184397653E-2,3.9541918755401903E-2,2.6387944008081309E-3,0.14290995120508651,0.13624483108371693,1.9085091468240507E-2,6.9752612469580838E-2,4.7688583176420857E-2,9.99219968798752E-2,2.2919788158851193E-2,3.4991185426571932E-2,7.7012835472578769E-2,6.53955042755269E-2,"-","-","-","-","-","-","-","-","-"]
[null,null,"E -Senior Security",null,7.6620825147347735E-2,0.16757418611351196,9.9078483517842791E-2,0.12207969835871654,0.13193414995708824,0.1117518033602424,0.1106672045599469,0.1037543711332283,0.12110764430577223,0.17224702932842795,0.12229998041205904,6.7911318553092181E-2,0.11947089091995255,"-","-","-","-","-","-","-","-","-"]
[null,null,"F- Suburban Stability",null,6.2642349218491919E-2,8.3995966580236239E-2,7.9493681324344936E-2,7.5114594115037708E-2,5.8242958570648359E-2,9.1129050494086788E-2,6.6447171505537264E-2,6.7440341236598395E-2,9.6599063962558504E-2,8.5181503953478024E-2,9.1048310985273426E-2,3.7397899649941654E-2,7.4971068405544475E-2,"-","-","-","-","-","-","-","-","-"]
[null,null,"G - Domestic Success",null,6.5319818488446896E-2,9.1414577931431859E-2,8.8523305914610259E-2,4.8794913499926068E-2,5.5785285168136071E-2,6.1076815231892907E-2,9.9072134091589339E-2,0.11551319986166084,6.7847113884555388E-2,4.9755967304069192E-2,0.13394590166853643,0.11462465966549981,8.2742917170504499E-2,"-","-","-","-","-","-","-","-","-"]
[null,null,"H - Aspiring Homemakers",null,0.1687848809917068,9.752232785940651E-2,0.22633846661306614,9.6055744492089312E-2,9.384021221814777E-2,0.14659792415711281,0.15677420194422395,8.7768512469738311E-2,0.16174726989079563,0.10670681956415315,0.14496857025838275,7.8024115130299498E-2,0.13026720960904109,"-","-","-","-","-","-","-","-","-"]
[null,null,"I - Family Basics",null,8.6322304709911854E-2,4.1875540190146929E-2,7.747335436122621E-2,7.3395682389472125E-2,5.4224857610985409E-2,0.11588992153404337,5.8092474265710604E-2,5.5258809514660105E-2,9.2839313572542909E-2,8.2199706270676021E-2,7.7069644033691265E-2,5.3131077401789184E-2,7.1279945282490681E-2,"-","-","-","-","-","-","-","-","-"]
[null,null,"J -Transient Renters",null,3.6580489246657508E-2,1.6176894266781906E-2,3.5293875110808746E-2,5.38037853023806E-2,4.7163922914878677E-2,5.9177351152115414E-2,2.8577749437164089E-2,7.4357299312146951E-3,6.146645865834633E-2,0.10187067008856385,1.4601919618213223E-2,9.2570984052897706E-3,3.9784189064001593E-2,"-","-","-","-","-","-","-","-","-"]
[null,null,"K -Municipal Tenants",null,1.4187109897943216E-2,1.8755401901469317E-2,2.2656523800688562E-2,2.5081324855833208E-2,1.8217991729733946E-2,3.8825950297356582E-2,2.1290163059745196E-2,4.4960227491065595E-3,2.5819032761310451E-2,3.845183877523773E-2,6.4818277329629428E-3,9.9766627771295212E-3,2.0517623020602758E-2,"-","-","-","-","-","-","-","-","-"]
[null,null,"L - Vintage Value",null,5.3097345132743362E-2,5.1008354940939207E-2,4.3725647844640982E-2,8.5465030311991722E-2,9.0758367792775227E-2,6.847115754245528E-2,4.0016657340291244E-2,5.4298120893056141E-2,6.8892355694227775E-2,0.10961444317524366,5.3154548854105456E-2,4.776351614157915E-2,6.3733200195089851E-2,"-","-","-","-","-","-","-","-","-"]
[null,null,"M - Modest Traditions",null,3.9692612618877895E-2,1.480841256122155E-2,4.3086564825695263E-2,6.2546207304450693E-2,3.7274713271436374E-2,5.6395993035298374E-2,2.2292206186640292E-2,1.4122122737578296E-2,6.5756630265210614E-2,6.0244181044074231E-2,1.8590736684651957E-2,8.4402956048230254E-3,3.6639952439633257E-2,"-","-","-","-","-","-","-","-","-"]
[null,null,"N - Urban Cohesion",null,1.4917328789749117E-2,4.1155286660904636E-2,6.9453893252520257E-2,1.408398639656957E-2,3.1501131309978933E-2,6.1913483933699658E-2,3.0412659578621343E-2,1.2738731122468585E-2,5.3822152886115445E-3,3.3956890029521278E-2,1.7468881884716063E-2,5.4025670945157526E-2,3.1156657729858272E-2,"-","-","-","-","-","-","-","-","-"]
[null,null,"O -Rental Hubs",null,3.0199767025401187E-2,0.18267070008643041,0.13453728327870204,4.1475676474937155E-2,8.1610361238979481E-2,6.8968636230016062E-2,8.3234647267805786E-2,4.4383814318103218E-2,1.8939157566302652E-2,7.2067528074886145E-2,4.0725109959577614E-2,0.12117852975495916,7.7513585584129616E-2,"-","-","-","-","-","-","-","-","-"]

{"sheet":"Index","index":12,"n_rows":36,"n_cols":14,"rows_kept":36,"cut":false,"hidden":true,"merged":[]}
["Index 1 - District Select",1,{"$f":"INDEX(A4:A38,B1)","v":"Ashford "},{"$f":"INDEX(B4:B25,B1)","v":"ashford"},null,"Index 2","Topic Select",null,null,null,"Presented by: (for charts)","Presented by: Kent Analytics, Kent County Council"]
[null,null,null,null,null,null,1]
[null,null,null,null,null,null,null,null,null,null,"National Data Headings",{"$f":"B1","v":1}]
["Ashford ","ashford",null,null,null,null,"Front page"]
["Canterbury","canterbury",null,null,null,null,"Figures at a glance",null,null,null,"Population Estimates, Benefits data","Census Data, Life Expectancy, Council Tax Bands, GVA, NINos","Life Expectancy","Qualifications, Unemployment, Earnings, VAT based industries"]
["Dartford ","dartford",null,null,null,null,"Population",null,null,null,{"$f":"INDEX(K8:K29,L3)","v":"Ashford "},{"$f":"INDEX(L8:L29,$L$3)","v":"Ashford "},{"$f":"INDEX(M8:M29,$L$3)","v":"Ashford "},{"$f":"INDEX(N8:N29,$L$3)","v":"Ashford "}]
["Dover ","dover",null,null,null,null,"Diversity"]
["Folkestone & Hythe","folkestone & hythe",null,null,null,null,"Health",null,null,null,"Ashford ","Ashford ","Ashford ","Ashford "]
["Gravesham ","gravesham",null,null,null,null,"Deprivation",null,null,null,"Canterbury","Canterbury","Canterbury","Canterbury"]
["Maidstone ","maidstone",null,null,null,null,"Housing & households",null,null,null,"Dartford ","Dartford ","Dartford ","Dartford "]
["Sevenoaks ","sevenoaks",null,null,null,null,"Young people, education & skills",null,null,null,"Dover ","Dover ","Dover ","Dover "]
["Swale ","swale",null,null,null,null,"Older people",null,null,null,"Folkestone & Hythe","Folkestone & Hythe","Folkestone & Hythe","Folkestone & Hythe"]
["Thanet ","thanet",null,null,null,null,"Economy",null,null,null,"Gravesham ","Gravesham ","Gravesham ","Gravesham "]
["Tonbridge & Malling ","tonbridgeandmalling",null,null,null,null,null,null,null,null,"Maidstone ","Maidstone ","Maidstone ","Maidstone "]
["Tunbridge Wells ","tunbridgewells",null,null,null,null,null,null,null,null,"Sevenoaks ","Sevenoaks ","Sevenoaks ","Sevenoaks "]
["Kent","kent",null,null,null,null,null,null,null,null,"Swale ","Swale ","Swale ","Swale "]
["Medway","medway",null,null,null,null,null,null,null,null,"Thanet ","Thanet ","Thanet ","Thanet "]
["Kent + Medway","kent+medway",null,null,null,null,null,null,null,null,"Tonbridge & Malling ","Tonbridge & Malling ","Tonbridge & Malling ","Tonbridge & Malling "]
["Medway PCT","medwaypct",null,null,null,null,null,null,null,null,"Tunbridge Wells ","Tunbridge Wells ","Tunbridge Wells ","Tunbridge Wells "]
["Eastern & Coastal PCT","easternandcoastalpct",null,null,null,null,null,null,null,null,"Kent","Kent","Kent","Kent"]
["West Kent PCT","westkentpct",null,null,null,null,null,null,null,null,"Medway","Medway","Medway","Medway"]
["Thames Gateway","thamesgateway",null,null,null,null,null,null,null,null,"Kent + Medway","Kent + Medway","Kent + Medway","Kent + Medway"]
["South East Local Enterprise Partnership","southeastlocalenterprisepartnership",null,null,null,null,null,null,null,null,"Medway PCT","Medway PCT","Medway PCT","Medway PCT"]
["South East","southeast",null,null,null,null,null,null,null,null,"Eastern & Coastal PCT","Eastern & Coastal PCT","Eastern & Coastal PCT","Eastern & Coastal PCT"]
["England/GB","england/gb",null,null,null,{"$f":"IF(B1=\"3\",\"Dartford & Gravesham figures are combined\",IF(B1=\"5\",\"Gravesham & Dartford figures are combined\",\"\"))","v":""},null,null,null,null,"West Kent PCT","West Kent PCT","West Kent PCT","West Kent PCT"]
[null,null,null,null,null,null,null,null,null,null,"Thames Gateway","Thames Gateway","Thames Gateway","Thames Gateway"]
[null,null,null,null,null,null,null,null,null,null,"South East Local Enterprise Partnership","South East Local Enterprise Partnership","South East Local Enterprise Partnership","South East Local Enterprise Partnership"]
[null,null,null,null,null,null,null,null,null,null,"South East","South East","South East","South East"]
["Kent Thames-side",null,null,null,null,null,null,null,null,null,"England & Wales","England","United Kingdom","Great Britain"]
["Kent Thames Gateway"]
["North Kent"]
["East Kent Triangle"]
["West Kent"]
["Channel Corridor"]
["East Kent (Social Services)"]
["East Kent Partnership"]